Workbook

Sheet Results
A1: PLAYER | B1: Results
A2: =IF(J2="","",CONCATENATE(J2," ",I2)) -> FirstName Surname | B2: Date | C2: Event | D2: Course | E2: Location | F2: Tour | G2: Tour2 | H2: Tour3 | I2: Surname | J2: FirstName | K2: Posn | L2: Rd1 | M2: Rd2 | N2: Rd3 | O2: Rd4 | P2: Rd5 | Q2: Total | R2: Field | S2: Field1 | T2: AdjRd1 | U2: AdjRd2 | V2: AdjRd3 | W2: AdjRd4 | X2: AdjRd5 | Y2: AdjAve | Z2: Rd1Pos | AA2: Rd2Pos | AB2: Rd3Pos | AC2: Rd4Pos | AD2: Rd5Pos | AE2: Rd1Lead | AF2: Rd2Lead | AG2: Rd3Lead | AH2: Rd4Lead | AI2: Rd5Lead | AJ2: Posn2
A3: =IF(J3="","",CONCATENATE(J3," ",I3)) -> Ekpharit Wu | B3: 45977 | C3: Taifong Open | D3: Taifong | E3: Taiwan | F3: Asian PGA | I3: Wu | J3: Ekpharit | K3: 1 | L3: 70 | M3: 66 | N3: 65 | O3: 67 | Q3: 268 | R3: 73.88 | S3: 73.47 | T3: 69.79 | U3: 67.94 | V3: 65.92 | W3: 68.96 | Y3: 68.15 | Z3: 12 | AA3: 3 | AB3: 2 | AC3: 1 | AE3: 5 | AF3: 6 | AG3: 1 | AH3: -2 | AJ3: 1
A4: =IF(J4="","",CONCATENATE(J4," ",I4)) -> Chien-Yao Hung | B4: 45977 | C4: Taifong Open | D4: Taifong | E4: Taiwan | F4: Asian PGA | I4: Hung | J4: Chien-Yao | K4: 2 | L4: 65 | M4: 65 | N4: 70 | O4: 70 | Q4: 270 | R4: 73.88 | S4: 73.47 | T4: 64.79 | U4: 66.94 | V4: 70.92 | W4: 71.96 | Y4: 68.65 | Z4: 1 | AA4: 1 | AB4: 1 | AC4: 2 | AE4: -2 | AF4: -5 | AG4: -1 | AH4: 2 | AJ4: 2
A5: =IF(J5="","",CONCATENATE(J5," ",I5)) -> Charlie Lindh | B5: 45977 | C5: Taifong Open | D5: Taifong | E5: Taiwan | F5: Asian PGA | I5: Lindh | J5: Charlie | K5: 3 | L5: 69 | M5: 69 | N5: 67 | O5: 71 | Q5: 276 | R5: 73.88 | S5: 73.47 | T5: 68.79 | U5: 70.94 | V5: 67.92 | W5: 72.96 | Y5: 70.15 | Z5: 7 | AA5: 4 | AB5: 3 | AC5: 3 | AE5: 4 | AF5: 8 | AG5: 5 | AH5: 8 | AJ5: 3
A6: =IF(J6="","",CONCATENATE(J6," ",I6)) -> Jose Toledo | B6: 45977 | C6: Taifong Open | D6: Taifong | E6: Taiwan | F6: Asian PGA | I6: Toledo | J6: Jose | K6: 3 | L6: 73 | M6: 68 | N6: 70 | O6: 65 | Q6: 276 | R6: 73.88 | S6: 73.47 | T6: 72.79 | U6: 69.94 | V6: 70.92 | W6: 66.96 | Y6: 70.15 | Z6: 41 | AA6: 18 | AB6: 15 | AC6: 3 | AE6: 8 | AF6: 11 | AG6: 11 | AH6: 8 | AJ6: 3
A7: =IF(J7="","",CONCATENATE(J7," ",I7)) -> Ahmad Baig | B7: 45977 | C7: Taifong Open | D7: Taifong | E7: Taiwan | F7: Asian PGA | I7: Baig | J7: Ahmad | K7: 5 | L7: 68 | M7: 70 | N7: 70 | O7: 70 | Q7: 278 | R7: 73.88 | S7: 73.47 | T7: 67.79 | U7: 71.94 | V7: 70.92 | W7: 71.96 | Y7: 70.65 | Z7: 3 | AA7: 4 | AB7: 5 | AC7: 5 | AE7: 3 | AF7: 8 | AG7: 8 | AH7: 10 | AJ7: 5
A8: =IF(J8="","",CONCATENATE(J8," ",I8)) -> Heemin Chang | B8: 45977 | C8: Taifong Open | D8: Taifong | E8: Taiwan | F8: Asian PGA | I8: Chang | J8: Heemin | K8: 6 | L8: 73 | M8: 72 | N8: 67 | O8: 67 | Q8: 279 | R8: 73.88 | S8: 73.47 | T8: 72.79 | U8: 73.94 | V8: 67.92 | W8: 68.96 | Y8: 70.9 | Z8: 41 | AA8: 48 | AB8: 17 | AC8: 6 | AE8: 8 | AF8: 15 | AG8: 12 | AH8: 11 | AJ8: 6
A9: =IF(J9="","",CONCATENATE(J9," ",I9)) -> Wooyoung Cho | B9: 45977 | C9: Taifong Open | D9: Taifong | E9: Taiwan | F9: Asian PGA | I9: Cho | J9: Wooyoung | K9: 6 | L9: 68 | M9: 72 | N9: 69 | O9: 70 | Q9: 279 | R9: 73.88 | S9: 73.47 | T9: 67.79 | U9: 73.94 | V9: 69.92 | W9: 71.96 | Y9: 70.9 | Z9: 3 | AA9: 12 | AB9: 8 | AC9: 6 | AE9: 3 | AF9: 10 | AG9: 9 | AH9: 11 | AJ9: 6
A10: =IF(J10="","",CONCATENATE(J10," ",I10)) -> Poosit Supupramai | B10: 45977 | C10: Taifong Open | D10: Taifong | E10: Taiwan | F10: Asian PGA | I10: Supupramai | J10: Poosit | K10: 6 | L10: 67 | M10: 68 | N10: 74 | O10: 70 | Q10: 279 | R10: 73.88 | S10: 73.47 | T10: 66.79 | U10: 69.94 | V10: 74.92 | W10: 71.96 | Y10: 70.9 | Z10: 2 | AA10: 2 | AB10: 8 | AC10: 6 | AE10: 2 | AF10: 5 | AG10: 9 | AH10: 11 | AJ10: 6
A11: =IF(J11="","",CONCATENATE(J11," ",I11)) -> Santiago De La Fuente | B11: 45977 | C11: Taifong Open | D11: Taifong | E11: Taiwan | F11: Asian PGA | I11: De La Fuente | J11: Santiago | K11: 9 | L11: 72 | M11: 68 | N11: 70 | O11: 70 | Q11: 280 | R11: 73.88 | S11: 73.47 | T11: 71.79 | U11: 69.94 | V11: 70.92 | W11: 71.96 | Y11: 71.15 | Z11: 23 | AA11: 12 | AB11: 13 | AC11: 9 | AE11: 7 | AF11: 10 | AG11: 10 | AH11: 12 | AJ11: 9
A12: =IF(J12="","",CONCATENATE(J12," ",I12)) -> Jonathan Wijono | B12: 45977 | C12: Taifong Open | D12: Taifong | E12: Taiwan | F12: Asian PGA | I12: Wijono | J12: Jonathan | K12: 9 | L12: 70 | M12: 68 | N12: 71 | O12: 71 | Q12: 280 | R12: 73.88 | S12: 73.47 | T12: 69.79 | U12: 69.94 | V12: 71.92 | W12: 72.96 | Y12: 71.15 | Z12: 12 | AA12: 4 | AB12: 8 | AC12: 9 | AE12: 5 | AF12: 8 | AG12: 9 | AH12: 12 | AJ12: 9
A13: =IF(J13="","",CONCATENATE(J13," ",I13)) -> Yu-Chen Yeh | B13: 45977 | C13: Taifong Open | D13: Taifong | E13: Taiwan | F13: Asian PGA | I13: Yeh | J13: Yu-Chen | K13: 9 | L13: 73 | M13: 69 | N13: 69 | O13: 69 | Q13: 280 | R13: 73.88 | S13: 73.47 | T13: 72.79 | U13: 70.94 | V13: 69.92 | W13: 70.96 | Y13: 71.15 | Z13: 41 | AA13: 24 | AB13: 15 | AC13: 9 | AE13: 8 | AF13: 12 | AG13: 11 | AH13: 12 | AJ13: 9
A14: =IF(J14="","",CONCATENATE(J14," ",I14)) -> Runchanapong Youprayong | B14: 45977 | C14: Taifong Open | D14: Taifong | E14: Taiwan | F14: Asian PGA | I14: Youprayong | J14: Runchanapong | K14: 9 | L14: 73 | M14: 68 | N14: 72 | O14: 67 | Q14: 280 | R14: 73.88 | S14: 73.47 | T14: 72.79 | U14: 69.94 | V14: 72.92 | W14: 68.96 | Y14: 71.15 | Z14: 41 | AA14: 18 | AB14: 22 | AC14: 9 | AE14: 8 | AF14: 11 | AG14: 13 | AH14: 12 | AJ14: 9
... A69: =IF(J69="","",CONCATENATE(J69," ",I69)) -> Tzu-Hao Tseng | B69: 45977 | C69: Taifong Open | D69: Taifong | E69: Taiwan | F69: Asian PGA | I69: Tseng | J69: Tzu-Hao | K69: 67 | L69: 78 | M69: 68 | N69: 78 | O69: 76 | Q69: 300 | R69: 73.88 | S69: 73.47 | T69: 77.79 | U69: 69.94 | V69: 78.92 | W69: 77.96 | Y69: 76.15 | Z69: 102 | AA69: 57 | AB69: 66 | AC69: 67 | AE69: 13 | AF69: 16 | AG69: 24 | AH69: 32 | AJ69: 67
A70: =IF(J70="","",CONCATENATE(J70," ",I70)) -> Wei-Sheng Chen | B70: 45977 | C70: Taifong Open | D70: Taifong | E70: Taiwan | F70: Asian PGA | I70: Chen | J70: Wei-Sheng | K70: mc | L70: 76 | M70: 71 | Q70: 147 | R70: 73.88 | S70: 73.47 | T70: 75.79 | U70: 72.94 | Y70: 74.36 | Z70: 83 | AA70: 68 | AE70: 11 | AF70: 17 | AJ70: 68
A71: =IF(J71="","",CONCATENATE(J71," ",I71)) -> Galven Green | B71: 45977 | C71: Taifong Open | D71: Taifong | E71: Taiwan | F71: Asian PGA | I71: Green | J71: Galven | K71: mc | L71: 75 | M71: 72 | Q71: 147 | R71: 73.88 | S71: 73.47 | T71: 74.79 | U71: 73.94 | Y71: 74.36 | Z71: 68 | AA71: 68 | AE71: 10 | AF71: 17 | AJ71: 68
A72: =IF(J72="","",CONCATENATE(J72," ",I72)) -> Chao-Hsin Hung | B72: 45977 | C72: Taifong Open | D72: Taifong | E72: Taiwan | F72: Asian PGA | I72: Hung | J72: Chao-Hsin | K72: mc | L72: 71 | M72: 76 | Q72: 147 | R72: 73.88 | S72: 73.47 | T72: 70.79 | U72: 77.94 | Y72: 74.36 | Z72: 18 | AA72: 68 | AE72: 6 | AF72: 17 | AJ72: 68
A73: =IF(J73="","",CONCATENATE(J73," ",I73)) -> Newport Laparojkit | B73: 45977 | C73: Taifong Open | D73: Taifong | E73: Taiwan | F73: Asian PGA | I73: Laparojkit | J73: Newport | K73: mc | L73: 74 | M73: 73 | Q73: 147 | R73: 73.88 | S73: 73.47 | T73: 73.79 | U73: 74.94 | Y73: 74.36 | Z73: 58 | AA73: 68 | AE73: 9 | AF73: 17 | AJ73: 68
A74: =IF(J74="","",CONCATENATE(J74," ",I74)) -> Jui-Shen Lee | B74: 45977 | C74: Taifong Open | D74: Taifong | E74: Taiwan | F74: Asian PGA | I74: Lee | J74: Jui-Shen | K74: mc | L74: 74 | M74: 73 | Q74: 147 | R74: 73.88 | S74: 73.47 | T74: 73.79 | U74: 74.94 | Y74: 74.36 | Z74: 58 | AA74: 68 | AE74: 9 | AF74: 17 | AJ74: 68
A75: =IF(J75="","",CONCATENATE(J75," ",I75)) -> Nathaniel Lee | B75: 45977 | C75: Taifong Open | D75: Taifong | E75: Taiwan | F75: Asian PGA | I75: Lee | J75: Nathaniel | K75: mc | L75: 74 | M75: 73 | Q75: 147 | R75: 73.88 | S75: 73.47 | T75: 73.79 | U75: 74.94 | Y75: 74.36 | Z75: 58 | AA75: 68 | AE75: 9 | AF75: 17 | AJ75: 68
A76: =IF(J76="","",CONCATENATE(J76," ",I76)) -> Steve Lewton | B76: 45977 | C76: Taifong Open | D76: Taifong | E76: Taiwan | F76: Asian PGA | I76: Lewton | J76: Steve | K76: mc | L76: 73 | M76: 74 | Q76: 147 | R76: 73.88 | S76: 73.47 | T76: 72.79 | U76: 75.94 | Y76: 74.36 | Z76: 41 | AA76: 68 | AE76: 8 | AF76: 17 | AJ76: 68
A77: =IF(J77="","",CONCATENATE(J77," ",I77)) -> Tanapat Pichaikool | B77: 45977 | C77: Taifong Open | D77: Taifong | E77: Taiwan | F77: Asian PGA | I77: Pichaikool | J77: Tanapat | K77: mc | L77: 76 | M77: 71 | Q77: 147 | R77: 73.88 | S77: 73.47 | T77: 75.79 | U77: 72.94 | Y77: 74.36 | Z77: 83 | AA77: 68 | AE77: 11 | AF77: 17 | AJ77: 68
A78: =IF(J78="","",CONCATENATE(J78," ",I78)) -> Lawrence Ting | B78: 45977 | C78: Taifong Open | D78: Taifong | E78: Taiwan | F78: Asian PGA | I78: Ting | J78: Lawrence | K78: mc | L78: 73 | M78: 74 | Q78: 147 | R78: 73.88 | S78: 73.47 | T78: 72.79 | U78: 75.94 | Y78: 74.36 | Z78: 41 | AA78: 68 | AE78: 8 | AF78: 17 | AJ78: 68
A79: =IF(J79="","",CONCATENATE(J79," ",I79)) -> Kai-Jen Tsai | B79: 45977 | C79: Taifong Open | D79: Taifong | E79: Taiwan | F79: Asian PGA | I79: Tsai | J79: Kai-Jen | K79: mc | L79: 72 | M79: 75 | Q79: 147 | R79: 73.88 | S79: 73.47 | T79: 71.79 | U79: 76.94 | Y79: 74.36 | Z79: 23 | AA79: 68 | AE79: 7 | AF79: 17 | AJ79: 68
A80: =IF(J80="","",CONCATENATE(J80," ",I80)) -> Shang-Kai Tsai | B80: 45977 | C80: Taifong Open | D80: Taifong | E80: Taiwan | F80: Asian PGA | I80: Tsai | J80: Shang-Kai | K80: mc | L80: 75 | M80: 72 | Q80: 147 | R80: 73.88 | S80: 73.47 | T80: 74.79 | U80: 73.94 | Y80: 74.36 | Z80: 68 | AA80: 68 | AE80: 10 | AF80: 17 | AJ80: 68
A81: =IF(J81="","",CONCATENATE(J81," ",I81)) -> Yu-Cheng Hsu | B81: 45977 | C81: Taifong Open | D81: Taifong | E81: Taiwan | F81: Asian PGA | I81: Hsu | J81: Yu-Cheng | K81: mc | L81: 76 | M81: 72 | Q81: 148 | R81: 73.88 | S81: 73.47 | T81: 75.79 | U81: 73.94 | Y81: 74.86 | Z81: 83 | AA81: 79 | AE81: 11 | AF81: 18 | AJ81: 79
... A122: =IF(J122="","",CONCATENATE(J122," ",I122)) -> Oliver Roberts | B122: 45977 | C122: Taifong Open | D122: Taifong | E122: Taiwan | F122: Asian PGA | I122: Roberts | J122: Oliver | K122: mc | L122: 81 | M122: 76 | Q122: 157 | R122: 73.88 | S122: 73.47 | T122: 80.79 | U122: 77.94 | Y122: 79.36 | Z122: 122 | AA122: 116 | AE122: 16 | AF122: 27 | AJ122: 116
A123: =IF(J123="","",CONCATENATE(J123," ",I123)) -> Yung-Lung Lin | B123: 45977 | C123: Taifong Open | D123: Taifong | E123: Taiwan | F123: Asian PGA | I123: Lin | J123: Yung-Lung | K123: w | L123: 78 | Q123: 78 | R123: 73.88 | S123: 73.47 | T123: 77.79 | Y123: 77.79 | Z123: 102 | AE123: 13 | AJ123: 121
A124: =IF(J124="","",CONCATENATE(J124," ",I124)) -> Michael Tran | B124: 45977 | C124: Taifong Open | D124: Taifong | E124: Taiwan | F124: Asian PGA | I124: Tran | J124: Michael | K124: w | L124: 79 | Q124: 79 | R124: 73.88 | S124: 73.47 | T124: 78.79 | Y124: 78.79 | Z124: 113 | AE124: 14 | AJ124: 121
A125: =IF(J125="","",CONCATENATE(J125," ",I125)) -> Suradit Yongcharoenchai | B125: 45977 | C125: Taifong Open | D125: Taifong | E125: Taiwan | F125: Asian PGA | I125: Yongcharoenchai | J125: Suradit | K125: w | L125: 80 | Q125: 80 | R125: 73.88 | S125: 73.47 | T125: 79.79 | Y125: 79.79 | Z125: 117 | AE125: 15 | AJ125: 121
A126: =IF(J126="","",CONCATENATE(J126," ",I126)) -> Christopher Wood | B126: 45977 | C126: New South Wales Open | D126: The Vintage | E126: Australia | F126: Australasian | I126: Wood | J126: Christopher | K126: 1 | L126: 73 | M126: 70 | N126: 67 | O126: 68 | Q126: 278 | R126: 74.38 | S126: 74.03 | T126: 73.32 | U126: 71.84 | V126: 69.28 | W126: 68.69 | Y126: 70.78 | Z126: 52 | AA126: 42 | AB126: 6 | AC126: 1 | AE126: 7 | AF126: 8 | AG126: 4 | AH126: 0 | AJ126: 1
A127: =IF(J127="","",CONCATENATE(J127," ",I127)) -> Will Florimo | B127: 45977 | C127: New South Wales Open | D127: The Vintage | E127: Australia | F127: Australasian | I127: Florimo | J127: Will | K127: 2 | L127: 71 | M127: 70 | N127: 71 | O127: 66 | Q127: 278 | R127: 74.38 | S127: 74.03 | T127: 71.32 | U127: 71.84 | V127: 73.28 | W127: 66.69 | Y127: 70.78 | Z127: 25 | AA127: 17 | AB127: 19 | AC127: 1 | AE127: 5 | AF127: 6 | AG127: 6 | AH127: 0 | AJ127: 2
A128: =IF(J128="","",CONCATENATE(J128," ",I128)) -> James Marchesani | B128: 45977 | C128: New South Wales Open | D128: The Vintage | E128: Australia | F128: Australasian | I128: Marchesani | J128: James | K128: 2 | L128: 73 | M128: 68 | N128: 70 | O128: 67 | Q128: 278 | R128: 74.38 | S128: 74.03 | T128: 73.32 | U128: 69.84 | V128: 72.28 | W128: 67.69 | Y128: 70.78 | Z128: 52 | AA128: 17 | AB128: 14 | AC128: 1 | AE128: 7 | AF128: 6 | AG128: 5 | AH128: 0 | AJ128: 2
A129: =IF(J129="","",CONCATENATE(J129," ",I129)) -> Ben Henkel | B129: 45977 | C129: New South Wales Open | D129: The Vintage | E129: Australia | F129: Australasian | I129: Henkel | J129: Ben | K129: 4 | L129: 67 | M129: 70 | N129: 69 | O129: 73 | Q129: 279 | R129: 74.38 | S129: 74.03 | T129: 67.32 | U129: 71.84 | V129: 71.28 | W129: 73.69 | Y129: 71.03 | Z129: 3 | AA129: 3 | AB129: 1 | AC129: 4 | AE129: 1 | AF129: 2 | AG129: -3 | AH129: 1 | AJ129: 4
A130: =IF(J130="","",CONCATENATE(J130," ",I130)) -> Cory Crawford | B130: 45977 | C130: New South Wales Open | D130: The Vintage | E130: Australia | F130: Australasian | I130: Crawford | J130: Cory | K130: 5 | L130: 74 | M130: 68 | N130: 70 | O130: 68 | Q130: 280 | R130: 74.38 | S130: 74.03 | T130: 74.32 | U130: 69.84 | V130: 72.28 | W130: 68.69 | Y130: 71.28 | Z130: 67 | AA130: 27 | AB130: 19 | AC130: 5 | AE130: 8 | AF130: 7 | AG130: 6 | AH130: 2 | AJ130: 5
A131: =IF(J131="","",CONCATENATE(J131," ",I131)) -> Adam Coull | B131: 45977 | C131: New South Wales Open | D131: The Vintage | E131: Australia | F131: Australasian | I131: Coull | J131: Adam | K131: 6 | L131: 73 | M131: 68 | N131: 68 | O131: 72 | Q131: 281 | R131: 74.38 | S131: 74.03 | T131: 73.32 | U131: 69.84 | V131: 70.28 | W131: 72.69 | Y131: 71.53 | Z131: 52 | AA131: 17 | AB131: 2 | AC131: 6 | AE131: 7 | AF131: 6 | AG131: 3 | AH131: 3 | AJ131: 6
A132: =IF(J132="","",CONCATENATE(J132," ",I132)) -> Jye Halls | B132: 45977 | C132: New South Wales Open | D132: The Vintage | E132: Australia | F132: Australasian | I132: Halls | J132: Jye | K132: 6 | L132: 69 | M132: 71 | N132: 70 | O132: 71 | Q132: 281 | R132: 74.38 | S132: 74.03 | T132: 69.32 | U132: 72.84 | V132: 72.28 | W132: 71.69 | Y132: 71.53 | Z132: 9 | AA132: 8 | AB132: 6 | AC132: 6 | AE132: 3 | AF132: 5 | AG132: 4 | AH132: 3 | AJ132: 6
A133: =IF(J133="","",CONCATENATE(J133," ",I133)) -> Jay Mackenzie | B133: 45977 | C133: New South Wales Open | D133: The Vintage | E133: Australia | F133: Australasian | I133: Mackenzie | J133: Jay | K133: 6 | L133: 72 | M133: 69 | N133: 69 | O133: 71 | Q133: 281 | R133: 74.38 | S133: 74.03 | T133: 72.32 | U133: 70.84 | V133: 71.28 | W133: 71.69 | Y133: 71.53 | Z133: 39 | AA133: 17 | AB133: 6 | AC133: 6 | AE133: 6 | AF133: 6 | AG133: 4 | AH133: 3 | AJ133: 6
A134: =IF(J134="","",CONCATENATE(J134," ",I134)) -> Brady Watt | B134: 45977 | C134: New South Wales Open | D134: The Vintage | E134: Australia | F134: Australasian | I134: Watt | J134: Brady | K134: 6 | L134: 71 | M134: 72 | N134: 70 | O134: 68 | Q134: 281 | R134: 74.38 | S134: 74.03 | T134: 71.32 | U134: 73.84 | V134: 72.28 | W134: 68.69 | Y134: 71.53 | Z134: 25 | AA134: 42 | AB134: 31 | AC134: 6 | AE134: 5 | AF134: 8 | AG134: 7 | AH134: 3 | AJ134: 6
...

Sheet Record
A1: Win | D1: FRL | G1: Top3: Win | J1: Top3: FRL | N1: WIN | O1: Rank | P1: Player | Q1: P/L | R1: E/W Play | U1: FRL | V1: Rank | W1: Player | X1: P/L | Y1: E/W Play
A2: Stakes | B2: Profit | D2: Stakes | E2: Profit | G2: Stakes | H2: Profit | J2: Stakes | K2: Profit | O2: 1 | P2: =IFERROR(OFFSET(Picks!A$1,MATCH($O2,Picks!$F:$F,0)-1,0),"") -> Hennie Du Plessis | Q2: =IFERROR(OFFSET(Picks!I$1,MATCH($O2,Picks!$F:$F,0)-1,0),"") -> 1.25 | R2: =IFERROR(OFFSET(Picks!J$1,MATCH($O2,Picks!$F:$F,0)-1,0),"") -> Ladbrokes: 9/1, 5pl, 1/4 | V2: 1 | W2: =IFERROR(OFFSET(Picks!M$1,MATCH($O2,Picks!$R:$R,0)-1,0),"") | X2: =IFERROR(OFFSET(Picks!U$1,MATCH($O2,Picks!$R:$R,0)-1,0),"") | Y2: =IFERROR(OFFSET(Picks!V$1,MATCH($O2,Picks!$R:$R,0)-1,0),"")
A3: {=IF(100*SUMPRODUCT((Win!F:F<>"") * IFERROR(--Win!E:E, 0))=0,"",100*SUMPRODUCT((Win!F:F<>"") * IFERROR(--Win!E:E, 0)))} -> 24.3 | B3: =IF(AND(A3="",SUM(Win!G:G)=0),"",SUM(Win!G:G)) -> 17.7125 | D3: {=IF(100*SUMPRODUCT((FRL!F:F<>"") * IFERROR(--FRL!E:E, 0))=0,"",100*SUMPRODUCT((FRL!F:F<>"") * IFERROR(--FRL!E:E, 0)))} | E3: =IF(AND(D3="",SUM(FRL!G:G)=0),"",SUM(FRL!G:G)) | G3: =IF(T3Picks!B2="","",2*(3-COUNTBLANK(T3Picks!A2:A4))) -> 6 | H3: =IF(T3Picks!B2="","",SUM(T3Picks!G2:G4)) -> 11.75 | J3: {=IF(100*SUMPRODUCT((FRL!L:L<>"") * IFERROR(--FRL!K:K, 0))=0,"",100*SUMPRODUCT((FRL!L:L<>"") * IFERROR(--FRL!K:K, 0)))} | K3: =IF(T3Picks!B5="","",SUM(T3Picks!G5:G7)) | O3: 2 | P3: =IFERROR(OFFSET(Picks!A$1,MATCH($O3,Picks!$F:$F,0)-1,0),"") -> J.C. Ritchie | Q3: =IFERROR(OFFSET(Picks!I$1,MATCH($O3,Picks!$F:$F,0)-1,0),"") -> 12.5 | R3: =IFERROR(OFFSET(Picks!J$1,MATCH($O3,Picks!$F:$F,0)-1,0),"") -> PaddyPower: 10/1, 5pl, 1/4 | V3: 2 | W3: =IFERROR(OFFSET(Picks!M$1,MATCH($O3,Picks!$R:$R,0)-1,0),"") | X3: =IFERROR(OFFSET(Picks!U$1,MATCH($O3,Picks!$R:$R,0)-1,0),"") | Y3: =IFERROR(OFFSET(Picks!V$1,MATCH($O3,Picks!$R:$R,0)-1,0),"")
O4: 3 | P4: =IFERROR(OFFSET(Picks!A$1,MATCH($O4,Picks!$F:$F,0)-1,0),"") -> Jaco Prinsloo | Q4: =IFERROR(OFFSET(Picks!I$1,MATCH($O4,Picks!$F:$F,0)-1,0),"") -> -2 | R4: =IFERROR(OFFSET(Picks!J$1,MATCH($O4,Picks!$F:$F,0)-1,0),"") -> Skybet: 33/1, 5pl, 1/4 | V4: 3 | W4: =IFERROR(OFFSET(Picks!M$1,MATCH($O4,Picks!$R:$R,0)-1,0),"") | X4: =IFERROR(OFFSET(Picks!U$1,MATCH($O4,Picks!$R:$R,0)-1,0),"") | Y4: =IFERROR(OFFSET(Picks!V$1,MATCH($O4,Picks!$R:$R,0)-1,0),"")
O5: 4 | P5: =IFERROR(OFFSET(Picks!A$1,MATCH($O5,Picks!$F:$F,0)-1,0),"") -> Deon Germishuys | Q5: =IFERROR(OFFSET(Picks!I$1,MATCH($O5,Picks!$F:$F,0)-1,0),"") -> -2 | R5: =IFERROR(OFFSET(Picks!J$1,MATCH($O5,Picks!$F:$F,0)-1,0),"") -> Unibet: 25/1, 5pl, 1/4 | V5: 4 | W5: =IFERROR(OFFSET(Picks!M$1,MATCH($O5,Picks!$R:$R,0)-1,0),"") | X5: =IFERROR(OFFSET(Picks!U$1,MATCH($O5,Picks!$R:$R,0)-1,0),"") | Y5: =IFERROR(OFFSET(Picks!V$1,MATCH($O5,Picks!$R:$R,0)-1,0),"")
O6: 5 | P6: =IFERROR(OFFSET(Picks!A$1,MATCH($O6,Picks!$F:$F,0)-1,0),"") -> Jean Hugo | Q6: =IFERROR(OFFSET(Picks!I$1,MATCH($O6,Picks!$F:$F,0)-1,0),"") -> -2 | R6: =IFERROR(OFFSET(Picks!J$1,MATCH($O6,Picks!$F:$F,0)-1,0),"") -> PaddyPower: 80/1, 5pl, 1/4 | V6: 5 | W6: =IFERROR(OFFSET(Picks!M$1,MATCH($O6,Picks!$R:$R,0)-1,0),"") | X6: =IFERROR(OFFSET(Picks!U$1,MATCH($O6,Picks!$R:$R,0)-1,0),"") | Y6: =IFERROR(OFFSET(Picks!V$1,MATCH($O6,Picks!$R:$R,0)-1,0),"")
O7: 6 | P7: =IFERROR(OFFSET(Picks!A$1,MATCH($O7,Picks!$F:$F,0)-1,0),"") -> Keenan Davidse | Q7: =IFERROR(OFFSET(Picks!I$1,MATCH($O7,Picks!$F:$F,0)-1,0),"") -> -2 | R7: =IFERROR(OFFSET(Picks!J$1,MATCH($O7,Picks!$F:$F,0)-1,0),"") -> BetMGM: 66/1, 6pl, 1/5 | V7: 6 | W7: =IFERROR(OFFSET(Picks!M$1,MATCH($O7,Picks!$R:$R,0)-1,0),"") | X7: =IFERROR(OFFSET(Picks!U$1,MATCH($O7,Picks!$R:$R,0)-1,0),"") | Y7: =IFERROR(OFFSET(Picks!V$1,MATCH($O7,Picks!$R:$R,0)-1,0),"")
O8: 7 | P8: =IFERROR(OFFSET(Picks!A$1,MATCH($O8,Picks!$F:$F,0)-1,0),"") | Q8: =IFERROR(OFFSET(Picks!I$1,MATCH($O8,Picks!$F:$F,0)-1,0),"") | R8: =IFERROR(OFFSET(Picks!J$1,MATCH($O8,Picks!$F:$F,0)-1,0),"") | V8: 7 | W8: =IFERROR(OFFSET(Picks!M$1,MATCH($O8,Picks!$R:$R,0)-1,0),"") | X8: =IFERROR(OFFSET(Picks!U$1,MATCH($O8,Picks!$R:$R,0)-1,0),"") | Y8: =IFERROR(OFFSET(Picks!V$1,MATCH($O8,Picks!$R:$R,0)-1,0),"")
O9: 8 | P9: =IFERROR(OFFSET(Picks!A$1,MATCH($O9,Picks!$F:$F,0)-1,0),"") | Q9: =IFERROR(OFFSET(Picks!I$1,MATCH($O9,Picks!$F:$F,0)-1,0),"") | R9: =IFERROR(OFFSET(Picks!J$1,MATCH($O9,Picks!$F:$F,0)-1,0),"") | V9: 8 | W9: =IFERROR(OFFSET(Picks!M$1,MATCH($O9,Picks!$R:$R,0)-1,0),"") | X9: =IFERROR(OFFSET(Picks!U$1,MATCH($O9,Picks!$R:$R,0)-1,0),"") | Y9: =IFERROR(OFFSET(Picks!V$1,MATCH($O9,Picks!$R:$R,0)-1,0),"")
O10: 9 | P10: =IFERROR(OFFSET(Picks!A$1,MATCH($O10,Picks!$F:$F,0)-1,0),"") | Q10: =IFERROR(OFFSET(Picks!I$1,MATCH($O10,Picks!$F:$F,0)-1,0),"") | R10: =IFERROR(OFFSET(Picks!J$1,MATCH($O10,Picks!$F:$F,0)-1,0),"") | V10: 9 | W10: =IFERROR(OFFSET(Picks!M$1,MATCH($O10,Picks!$R:$R,0)-1,0),"") | X10: =IFERROR(OFFSET(Picks!U$1,MATCH($O10,Picks!$R:$R,0)-1,0),"") | Y10: =IFERROR(OFFSET(Picks!V$1,MATCH($O10,Picks!$R:$R,0)-1,0),"")
O11: 10 | P11: =IFERROR(OFFSET(Picks!A$1,MATCH($O11,Picks!$F:$F,0)-1,0),"") | Q11: =IFERROR(OFFSET(Picks!I$1,MATCH($O11,Picks!$F:$F,0)-1,0),"") | R11: =IFERROR(OFFSET(Picks!J$1,MATCH($O11,Picks!$F:$F,0)-1,0),"") | V11: 10 | W11: =IFERROR(OFFSET(Picks!M$1,MATCH($O11,Picks!$R:$R,0)-1,0),"") | X11: =IFERROR(OFFSET(Picks!U$1,MATCH($O11,Picks!$R:$R,0)-1,0),"") | Y11: =IFERROR(OFFSET(Picks!V$1,MATCH($O11,Picks!$R:$R,0)-1,0),"")
O12: 11 | P12: =IFERROR(OFFSET(Picks!A$1,MATCH($O12,Picks!$F:$F,0)-1,0),"") | Q12: =IFERROR(OFFSET(Picks!I$1,MATCH($O12,Picks!$F:$F,0)-1,0),"") | R12: =IFERROR(OFFSET(Picks!J$1,MATCH($O12,Picks!$F:$F,0)-1,0),"") | V12: 11 | W12: =IFERROR(OFFSET(Picks!M$1,MATCH($O12,Picks!$R:$R,0)-1,0),"") | X12: =IFERROR(OFFSET(Picks!U$1,MATCH($O12,Picks!$R:$R,0)-1,0),"") | Y12: =IFERROR(OFFSET(Picks!V$1,MATCH($O12,Picks!$R:$R,0)-1,0),"")
O13: 12 | P13: =IFERROR(OFFSET(Picks!A$1,MATCH($O13,Picks!$F:$F,0)-1,0),"") | Q13: =IFERROR(OFFSET(Picks!I$1,MATCH($O13,Picks!$F:$F,0)-1,0),"") | R13: =IFERROR(OFFSET(Picks!J$1,MATCH($O13,Picks!$F:$F,0)-1,0),"") | V13: 12 | W13: =IFERROR(OFFSET(Picks!M$1,MATCH($O13,Picks!$R:$R,0)-1,0),"") | X13: =IFERROR(OFFSET(Picks!U$1,MATCH($O13,Picks!$R:$R,0)-1,0),"") | Y13: =IFERROR(OFFSET(Picks!V$1,MATCH($O13,Picks!$R:$R,0)-1,0),"")
A27: WIN | B27: 1 | C27: 2 | D27: 3 | E27: 4 | F27: 5 | G27: 6 | H27: 7 | I27: 8 | J27: 9 | K27: 10 | L27: 11 | M27: 12 | N27: FRL | O27: 1 | P27: 2 | Q27: 3 | R27: 4 | S27: 5 | T27: 6 | U27: 7 | V27: 8 | W27: 9 | X27: 10 | Y27: 11 | Z27: 12
B28: =Q2*3 -> 3.75 | C28: =SUM(Q2:Q3)*1.5 -> 20.625 | D28: =SUM(Q2:Q4) -> 11.75 | E28: =SUM(Q2:Q5)*3/4 -> 7.3125 | F28: =SUM(Q2:Q6)*3/5 -> 4.65 | G28: =SUM(Q2:Q7)*3/6 -> 2.875 | H28: =SUM(Q2:Q8)*3/7 -> 2.4642857 | I28: =SUM(Q2:Q9)*3/8 -> 2.15625 | J28: =SUM(Q2:Q10)*3/9 -> 1.9166667 | K28: =SUM(Q2:Q11)*3/10 -> 1.725 | L28: =SUM(Q2:Q12)*3/11 -> 1.5681818 | M28: =SUM(Q2:Q13)*3/12 -> 1.4375 | O28: =X2*3 -> #VALUE! | P28: =SUM(X2:X3)*1.5 -> 0 | Q28: =SUM(X2:X4) -> 0 | R28: =SUM(X2:X5)*3/4 -> 0 | S28: =SUM(X2:X6)*3/5 -> 0 | T28: =SUM(X2:X7)*3/6 -> 0 | U28: =SUM(X2:X8)*3/7 -> 0 | V28: =SUM(X2:X9)*3/9 -> 0 | W28: =SUM(X2:X10)*3/9 -> 0 | X28: =SUM(X2:X11)*3/10 -> 0 | Y28: =SUM(X2:X12)*3/11 -> 0 | Z28: =SUM(X2:X13)*3/12 -> 0

Sheet Win
A1: Player | B1: Win % | C1: TT Odds | D1: Best Odds | E1: Kelly | F1: Result | G1: P/L | H1: E/W Play
A2: Albert Venter | B2: 0.00% | C2: 10000 | D2: 751 | F2: =IFERROR(IF(A2="","",OFFSET(Results!$AJ$1,MATCH(A2,Results!$A:$A,0)-1,0)),"") -> 61 | G2: =IF(OR(E2="",F2=""),"",IF(F2=1,(IF(COUNTIFS(F:F,"<="&F2)<=1,1,(1-COUNTIFS(F:F,"<"&F2))/COUNTIFS(F:F,F2)))*50*E2*(1+VALUE(MID(H2,FIND(": ",H2)+2,FIND("/",H2)-FIND(":",H2)-2))-1)+50*E2*(1+VALUE(MID(H2,FIND(": ",H2)+2,FIND("/",H2)-FIND(":",H2)-2))-1)/VALUE(RIGHT(H2,1)),IF(F2<=VALUE(MID(H2,FIND(", ",H2)+2,IF(MID(H2,FIND(", ",H2)+2,1)="1",2,1))),(IF(COUNTIFS(F:F,"<="&F2)<=VALUE(MID(H2,FIND(", ",H2)+2,IF(MID(H2,FIND(", ",H2)+2,1)="1",2,1))),1,(VALUE(MID(H2,FIND(", ",H2)+2,IF(MID(H2,FIND(", ",H2)+2,1)="1",2,1)))-COUNTIFS(F:F,"<"&F2))/COUNTIFS(F:F,F2)))*(50*E2*(1+VALUE(MID(H2,FIND(": ",H2)+2,FIND("/",H2)-FIND(":",H2)-2))-1)/VALUE(RIGHT(H2,1))+50*E2)-(100*E2),-E2*100))) | H2: =IF(E2="","",OFFSET([1]SA!$AL$1,MATCH(A2,[1]SA!$E$1:$E$500,0)-1,0))
A3: Altin Van Der Merwe | B3: 2.11% | C3: 47 | D3: 41 | F3: =IFERROR(IF(A3="","",OFFSET(Results!$AJ$1,MATCH(A3,Results!$A:$A,0)-1,0)),"") -> 88 | G3: =IF(OR(E3="",F3=""),"",IF(F3=1,(IF(COUNTIFS(F:F,"<="&F3)<=1,1,(1-COUNTIFS(F:F,"<"&F3))/COUNTIFS(F:F,F3)))*50*E3*(1+VALUE(MID(H3,FIND(": ",H3)+2,FIND("/",H3)-FIND(":",H3)-2))-1)+50*E3*(1+VALUE(MID(H3,FIND(": ",H3)+2,FIND("/",H3)-FIND(":",H3)-2))-1)/VALUE(RIGHT(H3,1)),IF(F3<=VALUE(MID(H3,FIND(", ",H3)+2,IF(MID(H3,FIND(", ",H3)+2,1)="1",2,1))),(IF(COUNTIFS(F:F,"<="&F3)<=VALUE(MID(H3,FIND(", ",H3)+2,IF(MID(H3,FIND(", ",H3)+2,1)="1",2,1))),1,(VALUE(MID(H3,FIND(", ",H3)+2,IF(MID(H3,FIND(", ",H3)+2,1)="1",2,1)))-COUNTIFS(F:F,"<"&F3))/COUNTIFS(F:F,F3)))*(50*E3*(1+VALUE(MID(H3,FIND(": ",H3)+2,FIND("/",H3)-FIND(":",H3)-2))-1)/VALUE(RIGHT(H3,1))+50*E3)-(100*E3),-E3*100))) | H3: =IF(E3="","",OFFSET([1]SA!$AL$1,MATCH(A3,[1]SA!$E$1:$E$500,0)-1,0))
A4: Anthony Michael | B4: 0.13% | C4: 769 | D4: 71 | F4: =IFERROR(IF(A4="","",OFFSET(Results!$AJ$1,MATCH(A4,Results!$A:$A,0)-1,0)),"") -> 74 | G4: =IF(OR(E4="",F4=""),"",IF(F4=1,(IF(COUNTIFS(F:F,"<="&F4)<=1,1,(1-COUNTIFS(F:F,"<"&F4))/COUNTIFS(F:F,F4)))*50*E4*(1+VALUE(MID(H4,FIND(": ",H4)+2,FIND("/",H4)-FIND(":",H4)-2))-1)+50*E4*(1+VALUE(MID(H4,FIND(": ",H4)+2,FIND("/",H4)-FIND(":",H4)-2))-1)/VALUE(RIGHT(H4,1)),IF(F4<=VALUE(MID(H4,FIND(", ",H4)+2,IF(MID(H4,FIND(", ",H4)+2,1)="1",2,1))),(IF(COUNTIFS(F:F,"<="&F4)<=VALUE(MID(H4,FIND(", ",H4)+2,IF(MID(H4,FIND(", ",H4)+2,1)="1",2,1))),1,(VALUE(MID(H4,FIND(", ",H4)+2,IF(MID(H4,FIND(", ",H4)+2,1)="1",2,1)))-COUNTIFS(F:F,"<"&F4))/COUNTIFS(F:F,F4)))*(50*E4*(1+VALUE(MID(H4,FIND(": ",H4)+2,FIND("/",H4)-FIND(":",H4)-2))-1)/VALUE(RIGHT(H4,1))+50*E4)-(100*E4),-E4*100))) | H4: =IF(E4="","",OFFSET([1]SA!$AL$1,MATCH(A4,[1]SA!$E$1:$E$500,0)-1,0))
A5: Ben Van Wyk | B5: 0.80% | C5: 125 | D5: 91 | F5: =IFERROR(IF(A5="","",OFFSET(Results!$AJ$1,MATCH(A5,Results!$A:$A,0)-1,0)),"") -> 44 | G5: =IF(OR(E5="",F5=""),"",IF(F5=1,(IF(COUNTIFS(F:F,"<="&F5)<=1,1,(1-COUNTIFS(F:F,"<"&F5))/COUNTIFS(F:F,F5)))*50*E5*(1+VALUE(MID(H5,FIND(": ",H5)+2,FIND("/",H5)-FIND(":",H5)-2))-1)+50*E5*(1+VALUE(MID(H5,FIND(": ",H5)+2,FIND("/",H5)-FIND(":",H5)-2))-1)/VALUE(RIGHT(H5,1)),IF(F5<=VALUE(MID(H5,FIND(", ",H5)+2,IF(MID(H5,FIND(", ",H5)+2,1)="1",2,1))),(IF(COUNTIFS(F:F,"<="&F5)<=VALUE(MID(H5,FIND(", ",H5)+2,IF(MID(H5,FIND(", ",H5)+2,1)="1",2,1))),1,(VALUE(MID(H5,FIND(", ",H5)+2,IF(MID(H5,FIND(", ",H5)+2,1)="1",2,1)))-COUNTIFS(F:F,"<"&F5))/COUNTIFS(F:F,F5)))*(50*E5*(1+VALUE(MID(H5,FIND(": ",H5)+2,FIND("/",H5)-FIND(":",H5)-2))-1)/VALUE(RIGHT(H5,1))+50*E5)-(100*E5),-E5*100))) | H5: =IF(E5="","",OFFSET([1]SA!$AL$1,MATCH(A5,[1]SA!$E$1:$E$500,0)-1,0))
A6: Bradley De Beer | B6: 0.00% | C6: 10000 | D6: 1001 | F6: =IFERROR(IF(A6="","",OFFSET(Results!$AJ$1,MATCH(A6,Results!$A:$A,0)-1,0)),"") -> 61 | G6: =IF(OR(E6="",F6=""),"",IF(F6=1,(IF(COUNTIFS(F:F,"<="&F6)<=1,1,(1-COUNTIFS(F:F,"<"&F6))/COUNTIFS(F:F,F6)))*50*E6*(1+VALUE(MID(H6,FIND(": ",H6)+2,FIND("/",H6)-FIND(":",H6)-2))-1)+50*E6*(1+VALUE(MID(H6,FIND(": ",H6)+2,FIND("/",H6)-FIND(":",H6)-2))-1)/VALUE(RIGHT(H6,1)),IF(F6<=VALUE(MID(H6,FIND(", ",H6)+2,IF(MID(H6,FIND(", ",H6)+2,1)="1",2,1))),(IF(COUNTIFS(F:F,"<="&F6)<=VALUE(MID(H6,FIND(", ",H6)+2,IF(MID(H6,FIND(", ",H6)+2,1)="1",2,1))),1,(VALUE(MID(H6,FIND(", ",H6)+2,IF(MID(H6,FIND(", ",H6)+2,1)="1",2,1)))-COUNTIFS(F:F,"<"&F6))/COUNTIFS(F:F,F6)))*(50*E6*(1+VALUE(MID(H6,FIND(": ",H6)+2,FIND("/",H6)-FIND(":",H6)-2))-1)/VALUE(RIGHT(H6,1))+50*E6)-(100*E6),-E6*100))) | H6: =IF(E6="","",OFFSET([1]SA!$AL$1,MATCH(A6,[1]SA!$E$1:$E$500,0)-1,0))
A7: Brandon Meads | B7: 0.00% | C7: 10000 | D7: 2501 | F7: =IFERROR(IF(A7="","",OFFSET(Results!$AJ$1,MATCH(A7,Results!$A:$A,0)-1,0)),"") -> 127 | G7: =IF(OR(E7="",F7=""),"",IF(F7=1,(IF(COUNTIFS(F:F,"<="&F7)<=1,1,(1-COUNTIFS(F:F,"<"&F7))/COUNTIFS(F:F,F7)))*50*E7*(1+VALUE(MID(H7,FIND(": ",H7)+2,FIND("/",H7)-FIND(":",H7)-2))-1)+50*E7*(1+VALUE(MID(H7,FIND(": ",H7)+2,FIND("/",H7)-FIND(":",H7)-2))-1)/VALUE(RIGHT(H7,1)),IF(F7<=VALUE(MID(H7,FIND(", ",H7)+2,IF(MID(H7,FIND(", ",H7)+2,1)="1",2,1))),(IF(COUNTIFS(F:F,"<="&F7)<=VALUE(MID(H7,FIND(", ",H7)+2,IF(MID(H7,FIND(", ",H7)+2,1)="1",2,1))),1,(VALUE(MID(H7,FIND(", ",H7)+2,IF(MID(H7,FIND(", ",H7)+2,1)="1",2,1)))-COUNTIFS(F:F,"<"&F7))/COUNTIFS(F:F,F7)))*(50*E7*(1+VALUE(MID(H7,FIND(": ",H7)+2,FIND("/",H7)-FIND(":",H7)-2))-1)/VALUE(RIGHT(H7,1))+50*E7)-(100*E7),-E7*100))) | H7: =IF(E7="","",OFFSET([1]SA!$AL$1,MATCH(A7,[1]SA!$E$1:$E$500,0)-1,0))
A8: Bryce Easton | B8: 3.25% | C8: 31 | D8: 29 | F8: =IFERROR(IF(A8="","",OFFSET(Results!$AJ$1,MATCH(A8,Results!$A:$A,0)-1,0)),"") -> 4 | G8: =IF(OR(E8="",F8=""),"",IF(F8=1,(IF(COUNTIFS(F:F,"<="&F8)<=1,1,(1-COUNTIFS(F:F,"<"&F8))/COUNTIFS(F:F,F8)))*50*E8*(1+VALUE(MID(H8,FIND(": ",H8)+2,FIND("/",H8)-FIND(":",H8)-2))-1)+50*E8*(1+VALUE(MID(H8,FIND(": ",H8)+2,FIND("/",H8)-FIND(":",H8)-2))-1)/VALUE(RIGHT(H8,1)),IF(F8<=VALUE(MID(H8,FIND(", ",H8)+2,IF(MID(H8,FIND(", ",H8)+2,1)="1",2,1))),(IF(COUNTIFS(F:F,"<="&F8)<=VALUE(MID(H8,FIND(", ",H8)+2,IF(MID(H8,FIND(", ",H8)+2,1)="1",2,1))),1,(VALUE(MID(H8,FIND(", ",H8)+2,IF(MID(H8,FIND(", ",H8)+2,1)="1",2,1)))-COUNTIFS(F:F,"<"&F8))/COUNTIFS(F:F,F8)))*(50*E8*(1+VALUE(MID(H8,FIND(": ",H8)+2,FIND("/",H8)-FIND(":",H8)-2))-1)/VALUE(RIGHT(H8,1))+50*E8)-(100*E8),-E8*100))) | H8: =IF(E8="","",OFFSET([1]SA!$AL$1,MATCH(A8,[1]SA!$E$1:$E$500,0)-1,0))
A9: C.J. Du Plessis | B9: 0.21% | C9: 476 | D9: 111 | F9: =IFERROR(IF(A9="","",OFFSET(Results!$AJ$1,MATCH(A9,Results!$A:$A,0)-1,0)),"") -> 44 | G9: =IF(OR(E9="",F9=""),"",IF(F9=1,(IF(COUNTIFS(F:F,"<="&F9)<=1,1,(1-COUNTIFS(F:F,"<"&F9))/COUNTIFS(F:F,F9)))*50*E9*(1+VALUE(MID(H9,FIND(": ",H9)+2,FIND("/",H9)-FIND(":",H9)-2))-1)+50*E9*(1+VALUE(MID(H9,FIND(": ",H9)+2,FIND("/",H9)-FIND(":",H9)-2))-1)/VALUE(RIGHT(H9,1)),IF(F9<=VALUE(MID(H9,FIND(", ",H9)+2,IF(MID(H9,FIND(", ",H9)+2,1)="1",2,1))),(IF(COUNTIFS(F:F,"<="&F9)<=VALUE(MID(H9,FIND(", ",H9)+2,IF(MID(H9,FIND(", ",H9)+2,1)="1",2,1))),1,(VALUE(MID(H9,FIND(", ",H9)+2,IF(MID(H9,FIND(", ",H9)+2,1)="1",2,1)))-COUNTIFS(F:F,"<"&F9))/COUNTIFS(F:F,F9)))*(50*E9*(1+VALUE(MID(H9,FIND(": ",H9)+2,FIND("/",H9)-FIND(":",H9)-2))-1)/VALUE(RIGHT(H9,1))+50*E9)-(100*E9),-E9*100))) | H9: =IF(E9="","",OFFSET([1]SA!$AL$1,MATCH(A9,[1]SA!$E$1:$E$500,0)-1,0))
A10: Carl Mwale | B10: 0.00% | C10: 10000 | D10: 2001 | F10: =IFERROR(IF(A10="","",OFFSET(Results!$AJ$1,MATCH(A10,Results!$A:$A,0)-1,0)),"") -> 113 | G10: =IF(OR(E10="",F10=""),"",IF(F10=1,(IF(COUNTIFS(F:F,"<="&F10)<=1,1,(1-COUNTIFS(F:F,"<"&F10))/COUNTIFS(F:F,F10)))*50*E10*(1+VALUE(MID(H10,FIND(": ",H10)+2,FIND("/",H10)-FIND(":",H10)-2))-1)+50*E10*(1+VALUE(MID(H10,FIND(": ",H10)+2,FIND("/",H10)-FIND(":",H10)-2))-1)/VALUE(RIGHT(H10,1)),IF(F10<=VALUE(MID(H10,FIND(", ",H10)+2,IF(MID(H10,FIND(", ",H10)+2,1)="1",2,1))),(IF(COUNTIFS(F:F,"<="&F10)<=VALUE(MID(H10,FIND(", ",H10)+2,IF(MID(H10,FIND(", ",H10)+2,1)="1",2,1))),1,(VALUE(MID(H10,FIND(", ",H10)+2,IF(MID(H10,FIND(", ",H10)+2,1)="1",2,1)))-COUNTIFS(F:F,"<"&F10))/COUNTIFS(F:F,F10)))*(50*E10*(1+VALUE(MID(H10,FIND(": ",H10)+2,FIND("/",H10)-FIND(":",H10)-2))-1)/VALUE(RIGHT(H10,1))+50*E10)-(100*E10),-E10*100))) | H10: =IF(E10="","",OFFSET([1]SA!$AL$1,MATCH(A10,[1]SA!$E$1:$E$500,0)-1,0))
A11: Carter Rowe | B11: 0.00% | C11: 10000 | D11: 1001 | F11: =IFERROR(IF(A11="","",OFFSET(Results!$AJ$1,MATCH(A11,Results!$A:$A,0)-1,0)),"") -> 44 | G11: =IF(OR(E11="",F11=""),"",IF(F11=1,(IF(COUNTIFS(F:F,"<="&F11)<=1,1,(1-COUNTIFS(F:F,"<"&F11))/COUNTIFS(F:F,F11)))*50*E11*(1+VALUE(MID(H11,FIND(": ",H11)+2,FIND("/",H11)-FIND(":",H11)-2))-1)+50*E11*(1+VALUE(MID(H11,FIND(": ",H11)+2,FIND("/",H11)-FIND(":",H11)-2))-1)/VALUE(RIGHT(H11,1)),IF(F11<=VALUE(MID(H11,FIND(", ",H11)+2,IF(MID(H11,FIND(", ",H11)+2,1)="1",2,1))),(IF(COUNTIFS(F:F,"<="&F11)<=VALUE(MID(H11,FIND(", ",H11)+2,IF(MID(H11,FIND(", ",H11)+2,1)="1",2,1))),1,(VALUE(MID(H11,FIND(", ",H11)+2,IF(MID(H11,FIND(", ",H11)+2,1)="1",2,1)))-COUNTIFS(F:F,"<"&F11))/COUNTIFS(F:F,F11)))*(50*E11*(1+VALUE(MID(H11,FIND(": ",H11)+2,FIND("/",H11)-FIND(":",H11)-2))-1)/VALUE(RIGHT(H11,1))+50*E11)-(100*E11),-E11*100))) | H11: =IF(E11="","",OFFSET([1]SA!$AL$1,MATCH(A11,[1]SA!$E$1:$E$500,0)-1,0))
A12: Christiaan Burke | B12: 0.71% | C12: 141 | D12: 41 | F12: =IFERROR(IF(A12="","",OFFSET(Results!$AJ$1,MATCH(A12,Results!$A:$A,0)-1,0)),"") -> 2 | G12: =IF(OR(E12="",F12=""),"",IF(F12=1,(IF(COUNTIFS(F:F,"<="&F12)<=1,1,(1-COUNTIFS(F:F,"<"&F12))/COUNTIFS(F:F,F12)))*50*E12*(1+VALUE(MID(H12,FIND(": ",H12)+2,FIND("/",H12)-FIND(":",H12)-2))-1)+50*E12*(1+VALUE(MID(H12,FIND(": ",H12)+2,FIND("/",H12)-FIND(":",H12)-2))-1)/VALUE(RIGHT(H12,1)),IF(F12<=VALUE(MID(H12,FIND(", ",H12)+2,IF(MID(H12,FIND(", ",H12)+2,1)="1",2,1))),(IF(COUNTIFS(F:F,"<="&F12)<=VALUE(MID(H12,FIND(", ",H12)+2,IF(MID(H12,FIND(", ",H12)+2,1)="1",2,1))),1,(VALUE(MID(H12,FIND(", ",H12)+2,IF(MID(H12,FIND(", ",H12)+2,1)="1",2,1)))-COUNTIFS(F:F,"<"&F12))/COUNTIFS(F:F,F12)))*(50*E12*(1+VALUE(MID(H12,FIND(": ",H12)+2,FIND("/",H12)-FIND(":",H12)-2))-1)/VALUE(RIGHT(H12,1))+50*E12)-(100*E12),-E12*100))) | H12: =IF(E12="","",OFFSET([1]SA!$AL$1,MATCH(A12,[1]SA!$E$1:$E$500,0)-1,0))
A13: Christian Kriek | B13: 0.00% | C13: 10000 | D13: 2501 | F13: =IFERROR(IF(A13="","",OFFSET(Results!$AJ$1,MATCH(A13,Results!$A:$A,0)-1,0)),"") -> 44 | G13: =IF(OR(E13="",F13=""),"",IF(F13=1,(IF(COUNTIFS(F:F,"<="&F13)<=1,1,(1-COUNTIFS(F:F,"<"&F13))/COUNTIFS(F:F,F13)))*50*E13*(1+VALUE(MID(H13,FIND(": ",H13)+2,FIND("/",H13)-FIND(":",H13)-2))-1)+50*E13*(1+VALUE(MID(H13,FIND(": ",H13)+2,FIND("/",H13)-FIND(":",H13)-2))-1)/VALUE(RIGHT(H13,1)),IF(F13<=VALUE(MID(H13,FIND(", ",H13)+2,IF(MID(H13,FIND(", ",H13)+2,1)="1",2,1))),(IF(COUNTIFS(F:F,"<="&F13)<=VALUE(MID(H13,FIND(", ",H13)+2,IF(MID(H13,FIND(", ",H13)+2,1)="1",2,1))),1,(VALUE(MID(H13,FIND(", ",H13)+2,IF(MID(H13,FIND(", ",H13)+2,1)="1",2,1)))-COUNTIFS(F:F,"<"&F13))/COUNTIFS(F:F,F13)))*(50*E13*(1+VALUE(MID(H13,FIND(": ",H13)+2,FIND("/",H13)-FIND(":",H13)-2))-1)/VALUE(RIGHT(H13,1))+50*E13)-(100*E13),-E13*100))) | H13: =IF(E13="","",OFFSET([1]SA!$AL$1,MATCH(A13,[1]SA!$E$1:$E$500,0)-1,0))
... A18: David Amm | B18: 0.00% | C18: 10000 | D18: 1501 | F18: =IFERROR(IF(A18="","",OFFSET(Results!$AJ$1,MATCH(A18,Results!$A:$A,0)-1,0)),"") -> 57 | G18: =IF(OR(E18="",F18=""),"",IF(F18=1,(IF(COUNTIFS(F:F,"<="&F18)<=1,1,(1-COUNTIFS(F:F,"<"&F18))/COUNTIFS(F:F,F18)))*50*E18*(1+VALUE(MID(H18,FIND(": ",H18)+2,FIND("/",H18)-FIND(":",H18)-2))-1)+50*E18*(1+VALUE(MID(H18,FIND(": ",H18)+2,FIND("/",H18)-FIND(":",H18)-2))-1)/VALUE(RIGHT(H18,1)),IF(F18<=VALUE(MID(H18,FIND(", ",H18)+2,IF(MID(H18,FIND(", ",H18)+2,1)="1",2,1))),(IF(COUNTIFS(F:F,"<="&F18)<=VALUE(MID(H18,FIND(", ",H18)+2,IF(MID(H18,FIND(", ",H18)+2,1)="1",2,1))),1,(VALUE(MID(H18,FIND(", ",H18)+2,IF(MID(H18,FIND(", ",H18)+2,1)="1",2,1)))-COUNTIFS(F:F,"<"&F18))/COUNTIFS(F:F,F18)))*(50*E18*(1+VALUE(MID(H18,FIND(": ",H18)+2,FIND("/",H18)-FIND(":",H18)-2))-1)/VALUE(RIGHT(H18,1))+50*E18)-(100*E18),-E18*100))) | H18: =IF(E18="","",OFFSET([1]SA!$AL$1,MATCH(A18,[1]SA!$E$1:$E$500,0)-1,0))
A19: Deon Germishuys | B19: 4.95% | C19: 20 | D19: 26 | E19: 1.10% | F19: =IFERROR(IF(A19="","",OFFSET(Results!$AJ$1,MATCH(A19,Results!$A:$A,0)-1,0)),"") -> 6 | G19: =IF(OR(E19="",F19=""),"",IF(F19=1,(IF(COUNTIFS(F:F,"<="&F19)<=1,1,(1-COUNTIFS(F:F,"<"&F19))/COUNTIFS(F:F,F19)))*50*E19*(1+VALUE(MID(H19,FIND(": ",H19)+2,FIND("/",H19)-FIND(":",H19)-2))-1)+50*E19*(1+VALUE(MID(H19,FIND(": ",H19)+2,FIND("/",H19)-FIND(":",H19)-2))-1)/VALUE(RIGHT(H19,1)),IF(F19<=VALUE(MID(H19,FIND(", ",H19)+2,IF(MID(H19,FIND(", ",H19)+2,1)="1",2,1))),(IF(COUNTIFS(F:F,"<="&F19)<=VALUE(MID(H19,FIND(", ",H19)+2,IF(MID(H19,FIND(", ",H19)+2,1)="1",2,1))),1,(VALUE(MID(H19,FIND(", ",H19)+2,IF(MID(H19,FIND(", ",H19)+2,1)="1",2,1)))-COUNTIFS(F:F,"<"&F19))/COUNTIFS(F:F,F19)))*(50*E19*(1+VALUE(MID(H19,FIND(": ",H19)+2,FIND("/",H19)-FIND(":",H19)-2))-1)/VALUE(RIGHT(H19,1))+50*E19)-(100*E19),-E19*100))) -> -1.1 | H19: =IF(E19="","",OFFSET([1]SA!$AL$1,MATCH(A19,[1]SA!$E$1:$E$500,0)-1,0)) -> Unibet: 25/1, 5pl, 1/4
A20: Dylan Mostert | B20: 0.01% | C20: 10000 | D20: 501 | F20: =IFERROR(IF(A20="","",OFFSET(Results!$AJ$1,MATCH(A20,Results!$A:$A,0)-1,0)),"") -> 122 | G20: =IF(OR(E20="",F20=""),"",IF(F20=1,(IF(COUNTIFS(F:F,"<="&F20)<=1,1,(1-COUNTIFS(F:F,"<"&F20))/COUNTIFS(F:F,F20)))*50*E20*(1+VALUE(MID(H20,FIND(": ",H20)+2,FIND("/",H20)-FIND(":",H20)-2))-1)+50*E20*(1+VALUE(MID(H20,FIND(": ",H20)+2,FIND("/",H20)-FIND(":",H20)-2))-1)/VALUE(RIGHT(H20,1)),IF(F20<=VALUE(MID(H20,FIND(", ",H20)+2,IF(MID(H20,FIND(", ",H20)+2,1)="1",2,1))),(IF(COUNTIFS(F:F,"<="&F20)<=VALUE(MID(H20,FIND(", ",H20)+2,IF(MID(H20,FIND(", ",H20)+2,1)="1",2,1))),1,(VALUE(MID(H20,FIND(", ",H20)+2,IF(MID(H20,FIND(", ",H20)+2,1)="1",2,1)))-COUNTIFS(F:F,"<"&F20))/COUNTIFS(F:F,F20)))*(50*E20*(1+VALUE(MID(H20,FIND(": ",H20)+2,FIND("/",H20)-FIND(":",H20)-2))-1)/VALUE(RIGHT(H20,1))+50*E20)-(100*E20),-E20*100))) | H20: =IF(E20="","",OFFSET([1]SA!$AL$1,MATCH(A20,[1]SA!$E$1:$E$500,0)-1,0))
A21: Eric Wowor | B21: 0.00% | C21: 10000 | D21: 2501 | F21: =IFERROR(IF(A21="","",OFFSET(Results!$AJ$1,MATCH(A21,Results!$A:$A,0)-1,0)),"") -> 96 | G21: =IF(OR(E21="",F21=""),"",IF(F21=1,(IF(COUNTIFS(F:F,"<="&F21)<=1,1,(1-COUNTIFS(F:F,"<"&F21))/COUNTIFS(F:F,F21)))*50*E21*(1+VALUE(MID(H21,FIND(": ",H21)+2,FIND("/",H21)-FIND(":",H21)-2))-1)+50*E21*(1+VALUE(MID(H21,FIND(": ",H21)+2,FIND("/",H21)-FIND(":",H21)-2))-1)/VALUE(RIGHT(H21,1)),IF(F21<=VALUE(MID(H21,FIND(", ",H21)+2,IF(MID(H21,FIND(", ",H21)+2,1)="1",2,1))),(IF(COUNTIFS(F:F,"<="&F21)<=VALUE(MID(H21,FIND(", ",H21)+2,IF(MID(H21,FIND(", ",H21)+2,1)="1",2,1))),1,(VALUE(MID(H21,FIND(", ",H21)+2,IF(MID(H21,FIND(", ",H21)+2,1)="1",2,1)))-COUNTIFS(F:F,"<"&F21))/COUNTIFS(F:F,F21)))*(50*E21*(1+VALUE(MID(H21,FIND(": ",H21)+2,FIND("/",H21)-FIND(":",H21)-2))-1)/VALUE(RIGHT(H21,1))+50*E21)-(100*E21),-E21*100))) | H21: =IF(E21="","",OFFSET([1]SA!$AL$1,MATCH(A21,[1]SA!$E$1:$E$500,0)-1,0))
A22: Estiaan Conradie | B22: 0.12% | C22: 833 | D22: 201 | F22: =IFERROR(IF(A22="","",OFFSET(Results!$AJ$1,MATCH(A22,Results!$A:$A,0)-1,0)),"") -> 8 | G22: =IF(OR(E22="",F22=""),"",IF(F22=1,(IF(COUNTIFS(F:F,"<="&F22)<=1,1,(1-COUNTIFS(F:F,"<"&F22))/COUNTIFS(F:F,F22)))*50*E22*(1+VALUE(MID(H22,FIND(": ",H22)+2,FIND("/",H22)-FIND(":",H22)-2))-1)+50*E22*(1+VALUE(MID(H22,FIND(": ",H22)+2,FIND("/",H22)-FIND(":",H22)-2))-1)/VALUE(RIGHT(H22,1)),IF(F22<=VALUE(MID(H22,FIND(", ",H22)+2,IF(MID(H22,FIND(", ",H22)+2,1)="1",2,1))),(IF(COUNTIFS(F:F,"<="&F22)<=VALUE(MID(H22,FIND(", ",H22)+2,IF(MID(H22,FIND(", ",H22)+2,1)="1",2,1))),1,(VALUE(MID(H22,FIND(", ",H22)+2,IF(MID(H22,FIND(", ",H22)+2,1)="1",2,1)))-COUNTIFS(F:F,"<"&F22))/COUNTIFS(F:F,F22)))*(50*E22*(1+VALUE(MID(H22,FIND(": ",H22)+2,FIND("/",H22)-FIND(":",H22)-2))-1)/VALUE(RIGHT(H22,1))+50*E22)-(100*E22),-E22*100))) | H22: =IF(E22="","",OFFSET([1]SA!$AL$1,MATCH(A22,[1]SA!$E$1:$E$500,0)-1,0))
A23: Ethan Smith | B23: 0.09% | C23: 1111 | D23: 201 | F23: =IFERROR(IF(A23="","",OFFSET(Results!$AJ$1,MATCH(A23,Results!$A:$A,0)-1,0)),"") -> 15 | G23: =IF(OR(E23="",F23=""),"",IF(F23=1,(IF(COUNTIFS(F:F,"<="&F23)<=1,1,(1-COUNTIFS(F:F,"<"&F23))/COUNTIFS(F:F,F23)))*50*E23*(1+VALUE(MID(H23,FIND(": ",H23)+2,FIND("/",H23)-FIND(":",H23)-2))-1)+50*E23*(1+VALUE(MID(H23,FIND(": ",H23)+2,FIND("/",H23)-FIND(":",H23)-2))-1)/VALUE(RIGHT(H23,1)),IF(F23<=VALUE(MID(H23,FIND(", ",H23)+2,IF(MID(H23,FIND(", ",H23)+2,1)="1",2,1))),(IF(COUNTIFS(F:F,"<="&F23)<=VALUE(MID(H23,FIND(", ",H23)+2,IF(MID(H23,FIND(", ",H23)+2,1)="1",2,1))),1,(VALUE(MID(H23,FIND(", ",H23)+2,IF(MID(H23,FIND(", ",H23)+2,1)="1",2,1)))-COUNTIFS(F:F,"<"&F23))/COUNTIFS(F:F,F23)))*(50*E23*(1+VALUE(MID(H23,FIND(": ",H23)+2,FIND("/",H23)-FIND(":",H23)-2))-1)/VALUE(RIGHT(H23,1))+50*E23)-(100*E23),-E23*100))) | H23: =IF(E23="","",OFFSET([1]SA!$AL$1,MATCH(A23,[1]SA!$E$1:$E$500,0)-1,0))
A24: Franklin Manchest | B24: 0.00% | C24: 10000 | D24: 1001 | F24: =IFERROR(IF(A24="","",OFFSET(Results!$AJ$1,MATCH(A24,Results!$A:$A,0)-1,0)),"") -> 122 | G24: =IF(OR(E24="",F24=""),"",IF(F24=1,(IF(COUNTIFS(F:F,"<="&F24)<=1,1,(1-COUNTIFS(F:F,"<"&F24))/COUNTIFS(F:F,F24)))*50*E24*(1+VALUE(MID(H24,FIND(": ",H24)+2,FIND("/",H24)-FIND(":",H24)-2))-1)+50*E24*(1+VALUE(MID(H24,FIND(": ",H24)+2,FIND("/",H24)-FIND(":",H24)-2))-1)/VALUE(RIGHT(H24,1)),IF(F24<=VALUE(MID(H24,FIND(", ",H24)+2,IF(MID(H24,FIND(", ",H24)+2,1)="1",2,1))),(IF(COUNTIFS(F:F,"<="&F24)<=VALUE(MID(H24,FIND(", ",H24)+2,IF(MID(H24,FIND(", ",H24)+2,1)="1",2,1))),1,(VALUE(MID(H24,FIND(", ",H24)+2,IF(MID(H24,FIND(", ",H24)+2,1)="1",2,1)))-COUNTIFS(F:F,"<"&F24))/COUNTIFS(F:F,F24)))*(50*E24*(1+VALUE(MID(H24,FIND(": ",H24)+2,FIND("/",H24)-FIND(":",H24)-2))-1)/VALUE(RIGHT(H24,1))+50*E24)-(100*E24),-E24*100))) | H24: =IF(E24="","",OFFSET([1]SA!$AL$1,MATCH(A24,[1]SA!$E$1:$E$500,0)-1,0))
A25: Gerhard Pepler | B25: 0.57% | C25: 175 | D25: 71 | F25: =IFERROR(IF(A25="","",OFFSET(Results!$AJ$1,MATCH(A25,Results!$A:$A,0)-1,0)),"") -> 44 | G25: =IF(OR(E25="",F25=""),"",IF(F25=1,(IF(COUNTIFS(F:F,"<="&F25)<=1,1,(1-COUNTIFS(F:F,"<"&F25))/COUNTIFS(F:F,F25)))*50*E25*(1+VALUE(MID(H25,FIND(": ",H25)+2,FIND("/",H25)-FIND(":",H25)-2))-1)+50*E25*(1+VALUE(MID(H25,FIND(": ",H25)+2,FIND("/",H25)-FIND(":",H25)-2))-1)/VALUE(RIGHT(H25,1)),IF(F25<=VALUE(MID(H25,FIND(", ",H25)+2,IF(MID(H25,FIND(", ",H25)+2,1)="1",2,1))),(IF(COUNTIFS(F:F,"<="&F25)<=VALUE(MID(H25,FIND(", ",H25)+2,IF(MID(H25,FIND(", ",H25)+2,1)="1",2,1))),1,(VALUE(MID(H25,FIND(", ",H25)+2,IF(MID(H25,FIND(", ",H25)+2,1)="1",2,1)))-COUNTIFS(F:F,"<"&F25))/COUNTIFS(F:F,F25)))*(50*E25*(1+VALUE(MID(H25,FIND(": ",H25)+2,FIND("/",H25)-FIND(":",H25)-2))-1)/VALUE(RIGHT(H25,1))+50*E25)-(100*E25),-E25*100))) | H25: =IF(E25="","",OFFSET([1]SA!$AL$1,MATCH(A25,[1]SA!$E$1:$E$500,0)-1,0))
A26: Graham Van Der Merwe | B26: 0.32% | C26: 313 | D26: 151 | F26: =IFERROR(IF(A26="","",OFFSET(Results!$AJ$1,MATCH(A26,Results!$A:$A,0)-1,0)),"") -> 30 | G26: =IF(OR(E26="",F26=""),"",IF(F26=1,(IF(COUNTIFS(F:F,"<="&F26)<=1,1,(1-COUNTIFS(F:F,"<"&F26))/COUNTIFS(F:F,F26)))*50*E26*(1+VALUE(MID(H26,FIND(": ",H26)+2,FIND("/",H26)-FIND(":",H26)-2))-1)+50*E26*(1+VALUE(MID(H26,FIND(": ",H26)+2,FIND("/",H26)-FIND(":",H26)-2))-1)/VALUE(RIGHT(H26,1)),IF(F26<=VALUE(MID(H26,FIND(", ",H26)+2,IF(MID(H26,FIND(", ",H26)+2,1)="1",2,1))),(IF(COUNTIFS(F:F,"<="&F26)<=VALUE(MID(H26,FIND(", ",H26)+2,IF(MID(H26,FIND(", ",H26)+2,1)="1",2,1))),1,(VALUE(MID(H26,FIND(", ",H26)+2,IF(MID(H26,FIND(", ",H26)+2,1)="1",2,1)))-COUNTIFS(F:F,"<"&F26))/COUNTIFS(F:F,F26)))*(50*E26*(1+VALUE(MID(H26,FIND(": ",H26)+2,FIND("/",H26)-FIND(":",H26)-2))-1)/VALUE(RIGHT(H26,1))+50*E26)-(100*E26),-E26*100))) | H26: =IF(E26="","",OFFSET([1]SA!$AL$1,MATCH(A26,[1]SA!$E$1:$E$500,0)-1,0))
A27: Gregory Mckay | B27: 0.01% | C27: 10000 | D27: 401 | F27: =IFERROR(IF(A27="","",OFFSET(Results!$AJ$1,MATCH(A27,Results!$A:$A,0)-1,0)),"") -> 122 | G27: =IF(OR(E27="",F27=""),"",IF(F27=1,(IF(COUNTIFS(F:F,"<="&F27)<=1,1,(1-COUNTIFS(F:F,"<"&F27))/COUNTIFS(F:F,F27)))*50*E27*(1+VALUE(MID(H27,FIND(": ",H27)+2,FIND("/",H27)-FIND(":",H27)-2))-1)+50*E27*(1+VALUE(MID(H27,FIND(": ",H27)+2,FIND("/",H27)-FIND(":",H27)-2))-1)/VALUE(RIGHT(H27,1)),IF(F27<=VALUE(MID(H27,FIND(", ",H27)+2,IF(MID(H27,FIND(", ",H27)+2,1)="1",2,1))),(IF(COUNTIFS(F:F,"<="&F27)<=VALUE(MID(H27,FIND(", ",H27)+2,IF(MID(H27,FIND(", ",H27)+2,1)="1",2,1))),1,(VALUE(MID(H27,FIND(", ",H27)+2,IF(MID(H27,FIND(", ",H27)+2,1)="1",2,1)))-COUNTIFS(F:F,"<"&F27))/COUNTIFS(F:F,F27)))*(50*E27*(1+VALUE(MID(H27,FIND(": ",H27)+2,FIND("/",H27)-FIND(":",H27)-2))-1)/VALUE(RIGHT(H27,1))+50*E27)-(100*E27),-E27*100))) | H27: =IF(E27="","",OFFSET([1]SA!$AL$1,MATCH(A27,[1]SA!$E$1:$E$500,0)-1,0))
A28: Hayden Griffiths | B28: 0.01% | C28: 10000 | D28: 501 | F28: =IFERROR(IF(A28="","",OFFSET(Results!$AJ$1,MATCH(A28,Results!$A:$A,0)-1,0)),"") -> 36 | G28: =IF(OR(E28="",F28=""),"",IF(F28=1,(IF(COUNTIFS(F:F,"<="&F28)<=1,1,(1-COUNTIFS(F:F,"<"&F28))/COUNTIFS(F:F,F28)))*50*E28*(1+VALUE(MID(H28,FIND(": ",H28)+2,FIND("/",H28)-FIND(":",H28)-2))-1)+50*E28*(1+VALUE(MID(H28,FIND(": ",H28)+2,FIND("/",H28)-FIND(":",H28)-2))-1)/VALUE(RIGHT(H28,1)),IF(F28<=VALUE(MID(H28,FIND(", ",H28)+2,IF(MID(H28,FIND(", ",H28)+2,1)="1",2,1))),(IF(COUNTIFS(F:F,"<="&F28)<=VALUE(MID(H28,FIND(", ",H28)+2,IF(MID(H28,FIND(", ",H28)+2,1)="1",2,1))),1,(VALUE(MID(H28,FIND(", ",H28)+2,IF(MID(H28,FIND(", ",H28)+2,1)="1",2,1)))-COUNTIFS(F:F,"<"&F28))/COUNTIFS(F:F,F28)))*(50*E28*(1+VALUE(MID(H28,FIND(": ",H28)+2,FIND("/",H28)-FIND(":",H28)-2))-1)/VALUE(RIGHT(H28,1))+50*E28)-(100*E28),-E28*100))) | H28: =IF(E28="","",OFFSET([1]SA!$AL$1,MATCH(A28,[1]SA!$E$1:$E$500,0)-1,0))
A29: Haydn Porteous | B29: 1.11% | C29: 90 | D29: 51 | F29: =IFERROR(IF(A29="","",OFFSET(Results!$AJ$1,MATCH(A29,Results!$A:$A,0)-1,0)),"") -> 106 | G29: =IF(OR(E29="",F29=""),"",IF(F29=1,(IF(COUNTIFS(F:F,"<="&F29)<=1,1,(1-COUNTIFS(F:F,"<"&F29))/COUNTIFS(F:F,F29)))*50*E29*(1+VALUE(MID(H29,FIND(": ",H29)+2,FIND("/",H29)-FIND(":",H29)-2))-1)+50*E29*(1+VALUE(MID(H29,FIND(": ",H29)+2,FIND("/",H29)-FIND(":",H29)-2))-1)/VALUE(RIGHT(H29,1)),IF(F29<=VALUE(MID(H29,FIND(", ",H29)+2,IF(MID(H29,FIND(", ",H29)+2,1)="1",2,1))),(IF(COUNTIFS(F:F,"<="&F29)<=VALUE(MID(H29,FIND(", ",H29)+2,IF(MID(H29,FIND(", ",H29)+2,1)="1",2,1))),1,(VALUE(MID(H29,FIND(", ",H29)+2,IF(MID(H29,FIND(", ",H29)+2,1)="1",2,1)))-COUNTIFS(F:F,"<"&F29))/COUNTIFS(F:F,F29)))*(50*E29*(1+VALUE(MID(H29,FIND(": ",H29)+2,FIND("/",H29)-FIND(":",H29)-2))-1)/VALUE(RIGHT(H29,1))+50*E29)-(100*E29),-E29*100))) | H29: =IF(E29="","",OFFSET([1]SA!$AL$1,MATCH(A29,[1]SA!$E$1:$E$500,0)-1,0))
A30: Heinrich Bruiners | B30: 0.27% | C30: 370 | D30: 111 | F30: =IFERROR(IF(A30="","",OFFSET(Results!$AJ$1,MATCH(A30,Results!$A:$A,0)-1,0)),"") -> 81 | G30: =IF(OR(E30="",F30=""),"",IF(F30=1,(IF(COUNTIFS(F:F,"<="&F30)<=1,1,(1-COUNTIFS(F:F,"<"&F30))/COUNTIFS(F:F,F30)))*50*E30*(1+VALUE(MID(H30,FIND(": ",H30)+2,FIND("/",H30)-FIND(":",H30)-2))-1)+50*E30*(1+VALUE(MID(H30,FIND(": ",H30)+2,FIND("/",H30)-FIND(":",H30)-2))-1)/VALUE(RIGHT(H30,1)),IF(F30<=VALUE(MID(H30,FIND(", ",H30)+2,IF(MID(H30,FIND(", ",H30)+2,1)="1",2,1))),(IF(COUNTIFS(F:F,"<="&F30)<=VALUE(MID(H30,FIND(", ",H30)+2,IF(MID(H30,FIND(", ",H30)+2,1)="1",2,1))),1,(VALUE(MID(H30,FIND(", ",H30)+2,IF(MID(H30,FIND(", ",H30)+2,1)="1",2,1)))-COUNTIFS(F:F,"<"&F30))/COUNTIFS(F:F,F30)))*(50*E30*(1+VALUE(MID(H30,FIND(": ",H30)+2,FIND("/",H30)-FIND(":",H30)-2))-1)/VALUE(RIGHT(H30,1))+50*E30)-(100*E30),-E30*100))) | H30: =IF(E30="","",OFFSET([1]SA!$AL$1,MATCH(A30,[1]SA!$E$1:$E$500,0)-1,0))
A31: Hennie Du Plessis | B31: 28.48% | C31: 3.5 | D31: 10 | E31: 20.50% | F31: =IFERROR(IF(A31="","",OFFSET(Results!$AJ$1,MATCH(A31,Results!$A:$A,0)-1,0)),"") -> 4 | G31: =IF(OR(E31="",F31=""),"",IF(F31=1,(IF(COUNTIFS(F:F,"<="&F31)<=1,1,(1-COUNTIFS(F:F,"<"&F31))/COUNTIFS(F:F,F31)))*50*E31*(1+VALUE(MID(H31,FIND(": ",H31)+2,FIND("/",H31)-FIND(":",H31)-2))-1)+50*E31*(1+VALUE(MID(H31,FIND(": ",H31)+2,FIND("/",H31)-FIND(":",H31)-2))-1)/VALUE(RIGHT(H31,1)),IF(F31<=VALUE(MID(H31,FIND(", ",H31)+2,IF(MID(H31,FIND(", ",H31)+2,1)="1",2,1))),(IF(COUNTIFS(F:F,"<="&F31)<=VALUE(MID(H31,FIND(", ",H31)+2,IF(MID(H31,FIND(", ",H31)+2,1)="1",2,1))),1,(VALUE(MID(H31,FIND(", ",H31)+2,IF(MID(H31,FIND(", ",H31)+2,1)="1",2,1)))-COUNTIFS(F:F,"<"&F31))/COUNTIFS(F:F,F31)))*(50*E31*(1+VALUE(MID(H31,FIND(": ",H31)+2,FIND("/",H31)-FIND(":",H31)-2))-1)/VALUE(RIGHT(H31,1))+50*E31)-(100*E31),-E31*100))) -> 12.8125 | H31: =IF(E31="","",OFFSET([1]SA!$AL$1,MATCH(A31,[1]SA!$E$1:$E$500,0)-1,0)) -> Ladbrokes: 9/1, 5pl, 1/4
A32: Hennie Otto | B32: 0.12% | C32: 833 | D32: 151 | F32: =IFERROR(IF(A32="","",OFFSET(Results!$AJ$1,MATCH(A32,Results!$A:$A,0)-1,0)),"") -> 74 | G32: =IF(OR(E32="",F32=""),"",IF(F32=1,(IF(COUNTIFS(F:F,"<="&F32)<=1,1,(1-COUNTIFS(F:F,"<"&F32))/COUNTIFS(F:F,F32)))*50*E32*(1+VALUE(MID(H32,FIND(": ",H32)+2,FIND("/",H32)-FIND(":",H32)-2))-1)+50*E32*(1+VALUE(MID(H32,FIND(": ",H32)+2,FIND("/",H32)-FIND(":",H32)-2))-1)/VALUE(RIGHT(H32,1)),IF(F32<=VALUE(MID(H32,FIND(", ",H32)+2,IF(MID(H32,FIND(", ",H32)+2,1)="1",2,1))),(IF(COUNTIFS(F:F,"<="&F32)<=VALUE(MID(H32,FIND(", ",H32)+2,IF(MID(H32,FIND(", ",H32)+2,1)="1",2,1))),1,(VALUE(MID(H32,FIND(", ",H32)+2,IF(MID(H32,FIND(", ",H32)+2,1)="1",2,1)))-COUNTIFS(F:F,"<"&F32))/COUNTIFS(F:F,F32)))*(50*E32*(1+VALUE(MID(H32,FIND(": ",H32)+2,FIND("/",H32)-FIND(":",H32)-2))-1)/VALUE(RIGHT(H32,1))+50*E32)-(100*E32),-E32*100))) | H32: =IF(E32="","",OFFSET([1]SA!$AL$1,MATCH(A32,[1]SA!$E$1:$E$500,0)-1,0))
A33: Herman Loubser | B33: 0.95% | C33: 105 | D33: 41 | F33: =IFERROR(IF(A33="","",OFFSET(Results!$AJ$1,MATCH(A33,Results!$A:$A,0)-1,0)),"") -> 11 | G33: =IF(OR(E33="",F33=""),"",IF(F33=1,(IF(COUNTIFS(F:F,"<="&F33)<=1,1,(1-COUNTIFS(F:F,"<"&F33))/COUNTIFS(F:F,F33)))*50*E33*(1+VALUE(MID(H33,FIND(": ",H33)+2,FIND("/",H33)-FIND(":",H33)-2))-1)+50*E33*(1+VALUE(MID(H33,FIND(": ",H33)+2,FIND("/",H33)-FIND(":",H33)-2))-1)/VALUE(RIGHT(H33,1)),IF(F33<=VALUE(MID(H33,FIND(", ",H33)+2,IF(MID(H33,FIND(", ",H33)+2,1)="1",2,1))),(IF(COUNTIFS(F:F,"<="&F33)<=VALUE(MID(H33,FIND(", ",H33)+2,IF(MID(H33,FIND(", ",H33)+2,1)="1",2,1))),1,(VALUE(MID(H33,FIND(", ",H33)+2,IF(MID(H33,FIND(", ",H33)+2,1)="1",2,1)))-COUNTIFS(F:F,"<"&F33))/COUNTIFS(F:F,F33)))*(50*E33*(1+VALUE(MID(H33,FIND(": ",H33)+2,FIND("/",H33)-FIND(":",H33)-2))-1)/VALUE(RIGHT(H33,1))+50*E33)-(100*E33),-E33*100))) | H33: =IF(E33="","",OFFSET([1]SA!$AL$1,MATCH(A33,[1]SA!$E$1:$E$500,0)-1,0))
A34: Hunter Epson | B34: 0.01% | C34: 10000 | D34: 1001 | F34: =IFERROR(IF(A34="","",OFFSET(Results!$AJ$1,MATCH(A34,Results!$A:$A,0)-1,0)),"") -> 81 | G34: =IF(OR(E34="",F34=""),"",IF(F34=1,(IF(COUNTIFS(F:F,"<="&F34)<=1,1,(1-COUNTIFS(F:F,"<"&F34))/COUNTIFS(F:F,F34)))*50*E34*(1+VALUE(MID(H34,FIND(": ",H34)+2,FIND("/",H34)-FIND(":",H34)-2))-1)+50*E34*(1+VALUE(MID(H34,FIND(": ",H34)+2,FIND("/",H34)-FIND(":",H34)-2))-1)/VALUE(RIGHT(H34,1)),IF(F34<=VALUE(MID(H34,FIND(", ",H34)+2,IF(MID(H34,FIND(", ",H34)+2,1)="1",2,1))),(IF(COUNTIFS(F:F,"<="&F34)<=VALUE(MID(H34,FIND(", ",H34)+2,IF(MID(H34,FIND(", ",H34)+2,1)="1",2,1))),1,(VALUE(MID(H34,FIND(", ",H34)+2,IF(MID(H34,FIND(", ",H34)+2,1)="1",2,1)))-COUNTIFS(F:F,"<"&F34))/COUNTIFS(F:F,F34)))*(50*E34*(1+VALUE(MID(H34,FIND(": ",H34)+2,FIND("/",H34)-FIND(":",H34)-2))-1)/VALUE(RIGHT(H34,1))+50*E34)-(100*E34),-E34*100))) | H34: =IF(E34="","",OFFSET([1]SA!$AL$1,MATCH(A34,[1]SA!$E$1:$E$500,0)-1,0))
A35: J.C. Ritchie | B35: 10.17% | C35: 9.8 | D35: 11 | E35: 1.20% | F35: =IFERROR(IF(A35="","",OFFSET(Results!$AJ$1,MATCH(A35,Results!$A:$A,0)-1,0)),"") -> 1 | G35: =IF(OR(E35="",F35=""),"",IF(F35=1,(IF(COUNTIFS(F:F,"<="&F35)<=1,1,(1-COUNTIFS(F:F,"<"&F35))/COUNTIFS(F:F,F35)))*50*E35*(1+VALUE(MID(H35,FIND(": ",H35)+2,FIND("/",H35)-FIND(":",H35)-2))-1)+50*E35*(1+VALUE(MID(H35,FIND(": ",H35)+2,FIND("/",H35)-FIND(":",H35)-2))-1)/VALUE(RIGHT(H35,1)),IF(F35<=VALUE(MID(H35,FIND(", ",H35)+2,IF(MID(H35,FIND(", ",H35)+2,1)="1",2,1))),(IF(COUNTIFS(F:F,"<="&F35)<=VALUE(MID(H35,FIND(", ",H35)+2,IF(MID(H35,FIND(", ",H35)+2,1)="1",2,1))),1,(VALUE(MID(H35,FIND(", ",H35)+2,IF(MID(H35,FIND(", ",H35)+2,1)="1",2,1)))-COUNTIFS(F:F,"<"&F35))/COUNTIFS(F:F,F35)))*(50*E35*(1+VALUE(MID(H35,FIND(": ",H35)+2,FIND("/",H35)-FIND(":",H35)-2))-1)/VALUE(RIGHT(H35,1))+50*E35)-(100*E35),-E35*100))) -> 7.5 | H35: =IF(E35="","",OFFSET([1]SA!$AL$1,MATCH(A35,[1]SA!$E$1:$E$500,0)-1,0)) -> PaddyPower: 10/1, 5pl, 1/4
A36: J.J. Senekal | B36: 0.46% | C36: 217 | D36: 151 | F36: =IFERROR(IF(A36="","",OFFSET(Results!$AJ$1,MATCH(A36,Results!$A:$A,0)-1,0)),"") -> 43 | G36: =IF(OR(E36="",F36=""),"",IF(F36=1,(IF(COUNTIFS(F:F,"<="&F36)<=1,1,(1-COUNTIFS(F:F,"<"&F36))/COUNTIFS(F:F,F36)))*50*E36*(1+VALUE(MID(H36,FIND(": ",H36)+2,FIND("/",H36)-FIND(":",H36)-2))-1)+50*E36*(1+VALUE(MID(H36,FIND(": ",H36)+2,FIND("/",H36)-FIND(":",H36)-2))-1)/VALUE(RIGHT(H36,1)),IF(F36<=VALUE(MID(H36,FIND(", ",H36)+2,IF(MID(H36,FIND(", ",H36)+2,1)="1",2,1))),(IF(COUNTIFS(F:F,"<="&F36)<=VALUE(MID(H36,FIND(", ",H36)+2,IF(MID(H36,FIND(", ",H36)+2,1)="1",2,1))),1,(VALUE(MID(H36,FIND(", ",H36)+2,IF(MID(H36,FIND(", ",H36)+2,1)="1",2,1)))-COUNTIFS(F:F,"<"&F36))/COUNTIFS(F:F,F36)))*(50*E36*(1+VALUE(MID(H36,FIND(": ",H36)+2,FIND("/",H36)-FIND(":",H36)-2))-1)/VALUE(RIGHT(H36,1))+50*E36)-(100*E36),-E36*100))) | H36: =IF(E36="","",OFFSET([1]SA!$AL$1,MATCH(A36,[1]SA!$E$1:$E$500,0)-1,0))
A37: Jaco Prinsloo | B37: 4.06% | C37: 25 | D37: 34 | E37: 1.20% | F37: =IFERROR(IF(A37="","",OFFSET(Results!$AJ$1,MATCH(A37,Results!$A:$A,0)-1,0)),"") -> 11 | G37: =IF(OR(E37="",F37=""),"",IF(F37=1,(IF(COUNTIFS(F:F,"<="&F37)<=1,1,(1-COUNTIFS(F:F,"<"&F37))/COUNTIFS(F:F,F37)))*50*E37*(1+VALUE(MID(H37,FIND(": ",H37)+2,FIND("/",H37)-FIND(":",H37)-2))-1)+50*E37*(1+VALUE(MID(H37,FIND(": ",H37)+2,FIND("/",H37)-FIND(":",H37)-2))-1)/VALUE(RIGHT(H37,1)),IF(F37<=VALUE(MID(H37,FIND(", ",H37)+2,IF(MID(H37,FIND(", ",H37)+2,1)="1",2,1))),(IF(COUNTIFS(F:F,"<="&F37)<=VALUE(MID(H37,FIND(", ",H37)+2,IF(MID(H37,FIND(", ",H37)+2,1)="1",2,1))),1,(VALUE(MID(H37,FIND(", ",H37)+2,IF(MID(H37,FIND(", ",H37)+2,1)="1",2,1)))-COUNTIFS(F:F,"<"&F37))/COUNTIFS(F:F,F37)))*(50*E37*(1+VALUE(MID(H37,FIND(": ",H37)+2,FIND("/",H37)-FIND(":",H37)-2))-1)/VALUE(RIGHT(H37,1))+50*E37)-(100*E37),-E37*100))) -> -1.2 | H37: =IF(E37="","",OFFSET([1]SA!$AL$1,MATCH(A37,[1]SA!$E$1:$E$500,0)-1,0)) -> Skybet: 33/1, 5pl, 1/4
A38: Jacques Blaauw | B38: 0.53% | C38: 189 | D38: 81 | F38: =IFERROR(IF(A38="","",OFFSET(Results!$AJ$1,MATCH(A38,Results!$A:$A,0)-1,0)),"") -> 19 | G38: =IF(OR(E38="",F38=""),"",IF(F38=1,(IF(COUNTIFS(F:F,"<="&F38)<=1,1,(1-COUNTIFS(F:F,"<"&F38))/COUNTIFS(F:F,F38)))*50*E38*(1+VALUE(MID(H38,FIND(": ",H38)+2,FIND("/",H38)-FIND(":",H38)-2))-1)+50*E38*(1+VALUE(MID(H38,FIND(": ",H38)+2,FIND("/",H38)-FIND(":",H38)-2))-1)/VALUE(RIGHT(H38,1)),IF(F38<=VALUE(MID(H38,FIND(", ",H38)+2,IF(MID(H38,FIND(", ",H38)+2,1)="1",2,1))),(IF(COUNTIFS(F:F,"<="&F38)<=VALUE(MID(H38,FIND(", ",H38)+2,IF(MID(H38,FIND(", ",H38)+2,1)="1",2,1))),1,(VALUE(MID(H38,FIND(", ",H38)+2,IF(MID(H38,FIND(", ",H38)+2,1)="1",2,1)))-COUNTIFS(F:F,"<"&F38))/COUNTIFS(F:F,F38)))*(50*E38*(1+VALUE(MID(H38,FIND(": ",H38)+2,FIND("/",H38)-FIND(":",H38)-2))-1)/VALUE(RIGHT(H38,1))+50*E38)-(100*E38),-E38*100))) | H38: =IF(E38="","",OFFSET([1]SA!$AL$1,MATCH(A38,[1]SA!$E$1:$E$500,0)-1,0))
A39: Jacques De Villiers | B39: 0.27% | C39: 370 | D39: 111 | F39: =IFERROR(IF(A39="","",OFFSET(Results!$AJ$1,MATCH(A39,Results!$A:$A,0)-1,0)),"") -> 106 | G39: =IF(OR(E39="",F39=""),"",IF(F39=1,(IF(COUNTIFS(F:F,"<="&F39)<=1,1,(1-COUNTIFS(F:F,"<"&F39))/COUNTIFS(F:F,F39)))*50*E39*(1+VALUE(MID(H39,FIND(": ",H39)+2,FIND("/",H39)-FIND(":",H39)-2))-1)+50*E39*(1+VALUE(MID(H39,FIND(": ",H39)+2,FIND("/",H39)-FIND(":",H39)-2))-1)/VALUE(RIGHT(H39,1)),IF(F39<=VALUE(MID(H39,FIND(", ",H39)+2,IF(MID(H39,FIND(", ",H39)+2,1)="1",2,1))),(IF(COUNTIFS(F:F,"<="&F39)<=VALUE(MID(H39,FIND(", ",H39)+2,IF(MID(H39,FIND(", ",H39)+2,1)="1",2,1))),1,(VALUE(MID(H39,FIND(", ",H39)+2,IF(MID(H39,FIND(", ",H39)+2,1)="1",2,1)))-COUNTIFS(F:F,"<"&F39))/COUNTIFS(F:F,F39)))*(50*E39*(1+VALUE(MID(H39,FIND(": ",H39)+2,FIND("/",H39)-FIND(":",H39)-2))-1)/VALUE(RIGHT(H39,1))+50*E39)-(100*E39),-E39*100))) | H39: =IF(E39="","",OFFSET([1]SA!$AL$1,MATCH(A39,[1]SA!$E$1:$E$500,0)-1,0))
A40: Jacquin Hess | B40: 0.00% | C40: 10000 | D40: 1001 | F40: =IFERROR(IF(A40="","",OFFSET(Results!$AJ$1,MATCH(A40,Results!$A:$A,0)-1,0)),"") -> 81 | G40: =IF(OR(E40="",F40=""),"",IF(F40=1,(IF(COUNTIFS(F:F,"<="&F40)<=1,1,(1-COUNTIFS(F:F,"<"&F40))/COUNTIFS(F:F,F40)))*50*E40*(1+VALUE(MID(H40,FIND(": ",H40)+2,FIND("/",H40)-FIND(":",H40)-2))-1)+50*E40*(1+VALUE(MID(H40,FIND(": ",H40)+2,FIND("/",H40)-FIND(":",H40)-2))-1)/VALUE(RIGHT(H40,1)),IF(F40<=VALUE(MID(H40,FIND(", ",H40)+2,IF(MID(H40,FIND(", ",H40)+2,1)="1",2,1))),(IF(COUNTIFS(F:F,"<="&F40)<=VALUE(MID(H40,FIND(", ",H40)+2,IF(MID(H40,FIND(", ",H40)+2,1)="1",2,1))),1,(VALUE(MID(H40,FIND(", ",H40)+2,IF(MID(H40,FIND(", ",H40)+2,1)="1",2,1)))-COUNTIFS(F:F,"<"&F40))/COUNTIFS(F:F,F40)))*(50*E40*(1+VALUE(MID(H40,FIND(": ",H40)+2,FIND("/",H40)-FIND(":",H40)-2))-1)/VALUE(RIGHT(H40,1))+50*E40)-(100*E40),-E40*100))) | H40: =IF(E40="","",OFFSET([1]SA!$AL$1,MATCH(A40,[1]SA!$E$1:$E$500,0)-1,0))
A41: Jake Redman | B41: 0.00% | C41: 10000 | D41: 501 | F41: =IFERROR(IF(A41="","",OFFSET(Results!$AJ$1,MATCH(A41,Results!$A:$A,0)-1,0)),"") -> 96 | G41: =IF(OR(E41="",F41=""),"",IF(F41=1,(IF(COUNTIFS(F:F,"<="&F41)<=1,1,(1-COUNTIFS(F:F,"<"&F41))/COUNTIFS(F:F,F41)))*50*E41*(1+VALUE(MID(H41,FIND(": ",H41)+2,FIND("/",H41)-FIND(":",H41)-2))-1)+50*E41*(1+VALUE(MID(H41,FIND(": ",H41)+2,FIND("/",H41)-FIND(":",H41)-2))-1)/VALUE(RIGHT(H41,1)),IF(F41<=VALUE(MID(H41,FIND(", ",H41)+2,IF(MID(H41,FIND(", ",H41)+2,1)="1",2,1))),(IF(COUNTIFS(F:F,"<="&F41)<=VALUE(MID(H41,FIND(", ",H41)+2,IF(MID(H41,FIND(", ",H41)+2,1)="1",2,1))),1,(VALUE(MID(H41,FIND(", ",H41)+2,IF(MID(H41,FIND(", ",H41)+2,1)="1",2,1)))-COUNTIFS(F:F,"<"&F41))/COUNTIFS(F:F,F41)))*(50*E41*(1+VALUE(MID(H41,FIND(": ",H41)+2,FIND("/",H41)-FIND(":",H41)-2))-1)/VALUE(RIGHT(H41,1))+50*E41)-(100*E41),-E41*100))) | H41: =IF(E41="","",OFFSET([1]SA!$AL$1,MATCH(A41,[1]SA!$E$1:$E$500,0)-1,0))
A42: James Mack | B42: 0.34% | C42: 294 | D42: 126 | F42: =IFERROR(IF(A42="","",OFFSET(Results!$AJ$1,MATCH(A42,Results!$A:$A,0)-1,0)),"") -> 106 | G42: =IF(OR(E42="",F42=""),"",IF(F42=1,(IF(COUNTIFS(F:F,"<="&F42)<=1,1,(1-COUNTIFS(F:F,"<"&F42))/COUNTIFS(F:F,F42)))*50*E42*(1+VALUE(MID(H42,FIND(": ",H42)+2,FIND("/",H42)-FIND(":",H42)-2))-1)+50*E42*(1+VALUE(MID(H42,FIND(": ",H42)+2,FIND("/",H42)-FIND(":",H42)-2))-1)/VALUE(RIGHT(H42,1)),IF(F42<=VALUE(MID(H42,FIND(", ",H42)+2,IF(MID(H42,FIND(", ",H42)+2,1)="1",2,1))),(IF(COUNTIFS(F:F,"<="&F42)<=VALUE(MID(H42,FIND(", ",H42)+2,IF(MID(H42,FIND(", ",H42)+2,1)="1",2,1))),1,(VALUE(MID(H42,FIND(", ",H42)+2,IF(MID(H42,FIND(", ",H42)+2,1)="1",2,1)))-COUNTIFS(F:F,"<"&F42))/COUNTIFS(F:F,F42)))*(50*E42*(1+VALUE(MID(H42,FIND(": ",H42)+2,FIND("/",H42)-FIND(":",H42)-2))-1)/VALUE(RIGHT(H42,1))+50*E42)-(100*E42),-E42*100))) | H42: =IF(E42="","",OFFSET([1]SA!$AL$1,MATCH(A42,[1]SA!$E$1:$E$500,0)-1,0))
A43: James Pennington | B43: 0.00% | C43: 10000 | D43: 2001 | F43: =IFERROR(IF(A43="","",OFFSET(Results!$AJ$1,MATCH(A43,Results!$A:$A,0)-1,0)),"") -> 74 | G43: =IF(OR(E43="",F43=""),"",IF(F43=1,(IF(COUNTIFS(F:F,"<="&F43)<=1,1,(1-COUNTIFS(F:F,"<"&F43))/COUNTIFS(F:F,F43)))*50*E43*(1+VALUE(MID(H43,FIND(": ",H43)+2,FIND("/",H43)-FIND(":",H43)-2))-1)+50*E43*(1+VALUE(MID(H43,FIND(": ",H43)+2,FIND("/",H43)-FIND(":",H43)-2))-1)/VALUE(RIGHT(H43,1)),IF(F43<=VALUE(MID(H43,FIND(", ",H43)+2,IF(MID(H43,FIND(", ",H43)+2,1)="1",2,1))),(IF(COUNTIFS(F:F,"<="&F43)<=VALUE(MID(H43,FIND(", ",H43)+2,IF(MID(H43,FIND(", ",H43)+2,1)="1",2,1))),1,(VALUE(MID(H43,FIND(", ",H43)+2,IF(MID(H43,FIND(", ",H43)+2,1)="1",2,1)))-COUNTIFS(F:F,"<"&F43))/COUNTIFS(F:F,F43)))*(50*E43*(1+VALUE(MID(H43,FIND(": ",H43)+2,FIND("/",H43)-FIND(":",H43)-2))-1)/VALUE(RIGHT(H43,1))+50*E43)-(100*E43),-E43*100))) | H43: =IF(E43="","",OFFSET([1]SA!$AL$1,MATCH(A43,[1]SA!$E$1:$E$500,0)-1,0))
A44: Jarryd Govender | B44: 0.00% | C44: 10000 | D44: 2501 | F44: =IFERROR(IF(A44="","",OFFSET(Results!$AJ$1,MATCH(A44,Results!$A:$A,0)-1,0)),"") -> 135 | G44: =IF(OR(E44="",F44=""),"",IF(F44=1,(IF(COUNTIFS(F:F,"<="&F44)<=1,1,(1-COUNTIFS(F:F,"<"&F44))/COUNTIFS(F:F,F44)))*50*E44*(1+VALUE(MID(H44,FIND(": ",H44)+2,FIND("/",H44)-FIND(":",H44)-2))-1)+50*E44*(1+VALUE(MID(H44,FIND(": ",H44)+2,FIND("/",H44)-FIND(":",H44)-2))-1)/VALUE(RIGHT(H44,1)),IF(F44<=VALUE(MID(H44,FIND(", ",H44)+2,IF(MID(H44,FIND(", ",H44)+2,1)="1",2,1))),(IF(COUNTIFS(F:F,"<="&F44)<=VALUE(MID(H44,FIND(", ",H44)+2,IF(MID(H44,FIND(", ",H44)+2,1)="1",2,1))),1,(VALUE(MID(H44,FIND(", ",H44)+2,IF(MID(H44,FIND(", ",H44)+2,1)="1",2,1)))-COUNTIFS(F:F,"<"&F44))/COUNTIFS(F:F,F44)))*(50*E44*(1+VALUE(MID(H44,FIND(": ",H44)+2,FIND("/",H44)-FIND(":",H44)-2))-1)/VALUE(RIGHT(H44,1))+50*E44)-(100*E44),-E44*100))) | H44: =IF(E44="","",OFFSET([1]SA!$AL$1,MATCH(A44,[1]SA!$E$1:$E$500,0)-1,0))
...

Sheet Top3
A1: Player | B1: Win % | C1: TT Odds | D1: Best Odds | E1: Kelly | F1: Result | G1: P/L | H1: E/W Play
A2: Albert Venter | B2: 0.01% | C2: 10000
A3: Altin Van Der Merwe | B3: 7.37% | C3: 14
A4: Anthony Michael | B4: 0.70% | C4: 143
A5: Ben Van Wyk | B5: 3.21% | C5: 31
A6: Bradley De Beer | B6: 0.00% | C6: 10000
A7: Brandon Meads | B7: 0.02% | C7: 5000
A8: Bryce Easton | B8: 10.94% | C8: 9.1
A9: C.J. Du Plessis | B9: 1.06% | C9: 94
A10: Carl Mwale | B10: 0.00% | C10: 10000
A11: Carter Rowe | B11: 0.00% | C11: 10000
A12: Christiaan Burke | B12: 2.88% | C12: 35
A13: Christian Kriek | B13: 0.01% | C13: 10000
... A138: Zack Chegwidden | B138: 0.00% | C138: 10000

Sheet Top5
A1: Player | B1: Win % | C1: TT Odds | D1: Best Odds | E1: Kelly | F1: Result | G1: P/L | H1: E/W Play
A2: Albert Venter | B2: 0.02% | C2: 5000
A3: Altin Van Der Merwe | B3: 12.80% | C3: 7.8
