Workbook

Sheet Results
A1: PLAYER | B1: Results
A2: =IF(J2="","",CONCATENATE(J2," ",I2)) -> FirstName Surname | B2: Date | C2: Event | D2: Course | E2: Location | F2: Tour | G2: Tour2 | H2: Tour3 | I2: Surname | J2: FirstName | K2: Posn | L2: Rd1 | M2: Rd2 | N2: Rd3 | O2: Rd4 | P2: Rd5 | Q2: Total | R2: Field | S2: Field1 | T2: AdjRd1 | U2: AdjRd2 | V2: AdjRd3 | W2: AdjRd4 | X2: AdjRd5 | Y2: AdjAve | Z2: Rd1Pos | AA2: Rd2Pos | AB2: Rd3Pos | AC2: Rd4Pos | AD2: Rd5Pos | AE2: Rd1Lead | AF2: Rd2Lead | AG2: Rd3Lead | AH2: Rd4Lead | AI2: Rd5Lead | AJ2: Posn2
A3: =IF(J3="","",CONCATENATE(J3," ",I3)) -> Ekpharit Wu | B3: 45977 | C3: Taifong Open | D3: Taifong | E3: Taiwan | F3: Asian PGA | I3: Wu | J3: Ekpharit | K3: 1 | L3: 70 | M3: 66 | N3: 65 | O3: 67 | Q3: 268 | R3: 73.88 | S3: 73.47 | T3: 69.79 | U3: 67.94 | V3: 65.92 | W3: 68.96 | Y3: 68.15 | Z3: 12 | AA3: 3 | AB3: 2 | AC3: 1 | AE3: 5 | AF3: 6 | AG3: 1 | AH3: -2 | AJ3: 1
A4: =IF(J4="","",CONCATENATE(J4," ",I4)) -> Chien-Yao Hung | B4: 45977 | C4: Taifong Open | D4: Taifong | E4: Taiwan | F4: Asian PGA | I4: Hung | J4: Chien-Yao | K4: 2 | L4: 65 | M4: 65 | N4: 70 | O4: 70 | Q4: 270 | R4: 73.88 | S4: 73.47 | T4: 64.79 | U4: 66.94 | V4: 70.92 | W4: 71.96 | Y4: 68.65 | Z4: 1 | AA4: 1 | AB4: 1 | AC4: 2 | AE4: -2 | AF4: -5 | AG4: -1 | AH4: 2 | AJ4: 2
A5: =IF(J5="","",CONCATENATE(J5," ",I5)) -> Charlie Lindh | B5: 45977 | C5: Taifong Open | D5: Taifong | E5: Taiwan | F5: Asian PGA | I5: Lindh | J5: Charlie | K5: 3 | L5: 69 | M5: 69 | N5: 67 | O5: 71 | Q5: 276 | R5: 73.88 | S5: 73.47 | T5: 68.79 | U5: 70.94 | V5: 67.92 | W5: 72.96 | Y5: 70.15 | Z5: 7 | AA5: 4 | AB5: 3 | AC5: 3 | AE5: 4 | AF5: 8 | AG5: 5 | AH5: 8 | AJ5: 3
A6: =IF(J6="","",CONCATENATE(J6," ",I6)) -> Jose Toledo | B6: 45977 | C6: Taifong Open | D6: Taifong | E6: Taiwan | F6: Asian PGA | I6: Toledo | J6: Jose | K6: 3 | L6: 73 | M6: 68 | N6: 70 | O6: 65 | Q6: 276 | R6: 73.88 | S6: 73.47 | T6: 72.79 | U6: 69.94 | V6: 70.92 | W6: 66.96 | Y6: 70.15 | Z6: 41 | AA6: 18 | AB6: 15 | AC6: 3 | AE6: 8 | AF6: 11 | AG6: 11 | AH6: 8 | AJ6: 3
A7: =IF(J7="","",CONCATENATE(J7," ",I7)) -> Ahmad Baig | B7: 45977 | C7: Taifong Open | D7: Taifong | E7: Taiwan | F7: Asian PGA | I7: Baig | J7: Ahmad | K7: 5 | L7: 68 | M7: 70 | N7: 70 | O7: 70 | Q7: 278 | R7: 73.88 | S7: 73.47 | T7: 67.79 | U7: 71.94 | V7: 70.92 | W7: 71.96 | Y7: 70.65 | Z7: 3 | AA7: 4 | AB7: 5 | AC7: 5 | AE7: 3 | AF7: 8 | AG7: 8 | AH7: 10 | AJ7: 5
A8: =IF(J8="","",CONCATENATE(J8," ",I8)) -> Heemin Chang | B8: 45977 | C8: Taifong Open | D8: Taifong | E8: Taiwan | F8: Asian PGA | I8: Chang | J8: Heemin | K8: 6 | L8: 73 | M8: 72 | N8: 67 | O8: 67 | Q8: 279 | R8: 73.88 | S8: 73.47 | T8: 72.79 | U8: 73.94 | V8: 67.92 | W8: 68.96 | Y8: 70.9 | Z8: 41 | AA8: 48 | AB8: 17 | AC8: 6 | AE8: 8 | AF8: 15 | AG8: 12 | AH8: 11 | AJ8: 6
A9: =IF(J9="","",CONCATENATE(J9," ",I9)) -> Wooyoung Cho | B9: 45977 | C9: Taifong Open | D9: Taifong | E9: Taiwan | F9: Asian PGA | I9: Cho | J9: Wooyoung | K9: 6 | L9: 68 | M9: 72 | N9: 69 | O9: 70 | Q9: 279 | R9: 73.88 | S9: 73.47 | T9: 67.79 | U9: 73.94 | V9: 69.92 | W9: 71.96 | Y9: 70.9 | Z9: 3 | AA9: 12 | AB9: 8 | AC9: 6 | AE9: 3 | AF9: 10 | AG9: 9 | AH9: 11 | AJ9: 6
A10: =IF(J10="","",CONCATENATE(J10," ",I10)) -> Poosit Supupramai | B10: 45977 | C10: Taifong Open | D10: Taifong | E10: Taiwan | F10: Asian PGA | I10: Supupramai | J10: Poosit | K10: 6 | L10: 67 | M10: 68 | N10: 74 | O10: 70 | Q10: 279 | R10: 73.88 | S10: 73.47 | T10: 66.79 | U10: 69.94 | V10: 74.92 | W10: 71.96 | Y10: 70.9 | Z10: 2 | AA10: 2 | AB10: 8 | AC10: 6 | AE10: 2 | AF10: 5 | AG10: 9 | AH10: 11 | AJ10: 6
A11: =IF(J11="","",CONCATENATE(J11," ",I11)) -> Santiago De La Fuente | B11: 45977 | C11: Taifong Open | D11: Taifong | E11: Taiwan | F11: Asian PGA | I11: De La Fuente | J11: Santiago | K11: 9 | L11: 72 | M11: 68 | N11: 70 | O11: 70 | Q11: 280 | R11: 73.88 | S11: 73.47 | T11: 71.79 | U11: 69.94 | V11: 70.92 | W11: 71.96 | Y11: 71.15 | Z11: 23 | AA11: 12 | AB11: 13 | AC11: 9 | AE11: 7 | AF11: 10 | AG11: 10 | AH11: 12 | AJ11: 9
A12: =IF(J12="","",CONCATENATE(J12," ",I12)) -> Jonathan Wijono | B12: 45977 | C12: Taifong Open | D12: Taifong | E12: Taiwan | F12: Asian PGA | I12: Wijono | J12: Jonathan | K12: 9 | L12: 70 | M12: 68 | N12: 71 | O12: 71 | Q12: 280 | R12: 73.88 | S12: 73.47 | T12: 69.79 | U12: 69.94 | V12: 71.92 | W12: 72.96 | Y12: 71.15 | Z12: 12 | AA12: 4 | AB12: 8 | AC12: 9 | AE12: 5 | AF12: 8 | AG12: 9 | AH12: 12 | AJ12: 9
A13: =IF(J13="","",CONCATENATE(J13," ",I13)) -> Yu-Chen Yeh | B13: 45977 | C13: Taifong Open | D13: Taifong | E13: Taiwan | F13: Asian PGA | I13: Yeh | J13: Yu-Chen | K13: 9 | L13: 73 | M13: 69 | N13: 69 | O13: 69 | Q13: 280 | R13: 73.88 | S13: 73.47 | T13: 72.79 | U13: 70.94 | V13: 69.92 | W13: 70.96 | Y13: 71.15 | Z13: 41 | AA13: 24 | AB13: 15 | AC13: 9 | AE13: 8 | AF13: 12 | AG13: 11 | AH13: 12 | AJ13: 9
A14: =IF(J14="","",CONCATENATE(J14," ",I14)) -> Runchanapong Youprayong | B14: 45977 | C14: Taifong Open | D14: Taifong | E14: Taiwan | F14: Asian PGA | I14: Youprayong | J14: Runchanapong | K14: 9 | L14: 73 | M14: 68 | N14: 72 | O14: 67 | Q14: 280 | R14: 73.88 | S14: 73.47 | T14: 72.79 | U14: 69.94 | V14: 72.92 | W14: 68.96 | Y14: 71.15 | Z14: 41 | AA14: 18 | AB14: 22 | AC14: 9 | AE14: 8 | AF14: 11 | AG14: 13 | AH14: 12 | AJ14: 9
... A69: =IF(J69="","",CONCATENATE(J69," ",I69)) -> Tzu-Hao Tseng | B69: 45977 | C69: Taifong Open | D69: Taifong | E69: Taiwan | F69: Asian PGA | I69: Tseng | J69: Tzu-Hao | K69: 67 | L69: 78 | M69: 68 | N69: 78 | O69: 76 | Q69: 300 | R69: 73.88 | S69: 73.47 | T69: 77.79 | U69: 69.94 | V69: 78.92 | W69: 77.96 | Y69: 76.15 | Z69: 102 | AA69: 57 | AB69: 66 | AC69: 67 | AE69: 13 | AF69: 16 | AG69: 24 | AH69: 32 | AJ69: 67
A70: =IF(J70="","",CONCATENATE(J70," ",I70)) -> Wei-Sheng Chen | B70: 45977 | C70: Taifong Open | D70: Taifong | E70: Taiwan | F70: Asian PGA | I70: Chen | J70: Wei-Sheng | K70: mc | L70: 76 | M70: 71 | Q70: 147 | R70: 73.88 | S70: 73.47 | T70: 75.79 | U70: 72.94 | Y70: 74.36 | Z70: 83 | AA70: 68 | AE70: 11 | AF70: 17 | AJ70: 68
A71: =IF(J71="","",CONCATENATE(J71," ",I71)) -> Galven Green | B71: 45977 | C71: Taifong Open | D71: Taifong | E71: Taiwan | F71: Asian PGA | I71: Green | J71: Galven | K71: mc | L71: 75 | M71: 72 | Q71: 147 | R71: 73.88 | S71: 73.47 | T71: 74.79 | U71: 73.94 | Y71: 74.36 | Z71: 68 | AA71: 68 | AE71: 10 | AF71: 17 | AJ71: 68
A72: =IF(J72="","",CONCATENATE(J72," ",I72)) -> Chao-Hsin Hung | B72: 45977 | C72: Taifong Open | D72: Taifong | E72: Taiwan | F72: Asian PGA | I72: Hung | J72: Chao-Hsin | K72: mc | L72: 71 | M72: 76 | Q72: 147 | R72: 73.88 | S72: 73.47 | T72: 70.79 | U72: 77.94 | Y72: 74.36 | Z72: 18 | AA72: 68 | AE72: 6 | AF72: 17 | AJ72: 68
A73: =IF(J73="","",CONCATENATE(J73," ",I73)) -> Newport Laparojkit | B73: 45977 | C73: Taifong Open | D73: Taifong | E73: Taiwan | F73: Asian PGA | I73: Laparojkit | J73: Newport | K73: mc | L73: 74 | M73: 73 | Q73: 147 | R73: 73.88 | S73: 73.47 | T73: 73.79 | U73: 74.94 | Y73: 74.36 | Z73: 58 | AA73: 68 | AE73: 9 | AF73: 17 | AJ73: 68
A74: =IF(J74="","",CONCATENATE(J74," ",I74)) -> Jui-Shen Lee | B74: 45977 | C74: Taifong Open | D74: Taifong | E74: Taiwan | F74: Asian PGA | I74: Lee | J74: Jui-Shen | K74: mc | L74: 74 | M74: 73 | Q74: 147 | R74: 73.88 | S74: 73.47 | T74: 73.79 | U74: 74.94 | Y74: 74.36 | Z74: 58 | AA74: 68 | AE74: 9 | AF74: 17 | AJ74: 68
A75: =IF(J75="","",CONCATENATE(J75," ",I75)) -> Nathaniel Lee | B75: 45977 | C75: Taifong Open | D75: Taifong | E75: Taiwan | F75: Asian PGA | I75: Lee | J75: Nathaniel | K75: mc | L75: 74 | M75: 73 | Q75: 147 | R75: 73.88 | S75: 73.47 | T75: 73.79 | U75: 74.94 | Y75: 74.36 | Z75: 58 | AA75: 68 | AE75: 9 | AF75: 17 | AJ75: 68
A76: =IF(J76="","",CONCATENATE(J76," ",I76)) -> Steve Lewton | B76: 45977 | C76: Taifong Open | D76: Taifong | E76: Taiwan | F76: Asian PGA | I76: Lewton | J76: Steve | K76: mc | L76: 73 | M76: 74 | Q76: 147 | R76: 73.88 | S76: 73.47 | T76: 72.79 | U76: 75.94 | Y76: 74.36 | Z76: 41 | AA76: 68 | AE76: 8 | AF76: 17 | AJ76: 68
A77: =IF(J77="","",CONCATENATE(J77," ",I77)) -> Tanapat Pichaikool | B77: 45977 | C77: Taifong Open | D77: Taifong | E77: Taiwan | F77: Asian PGA | I77: Pichaikool | J77: Tanapat | K77: mc | L77: 76 | M77: 71 | Q77: 147 | R77: 73.88 | S77: 73.47 | T77: 75.79 | U77: 72.94 | Y77: 74.36 | Z77: 83 | AA77: 68 | AE77: 11 | AF77: 17 | AJ77: 68
A78: =IF(J78="","",CONCATENATE(J78," ",I78)) -> Lawrence Ting | B78: 45977 | C78: Taifong Open | D78: Taifong | E78: Taiwan | F78: Asian PGA | I78: Ting | J78: Lawrence | K78: mc | L78: 73 | M78: 74 | Q78: 147 | R78: 73.88 | S78: 73.47 | T78: 72.79 | U78: 75.94 | Y78: 74.36 | Z78: 41 | AA78: 68 | AE78: 8 | AF78: 17 | AJ78: 68
A79: =IF(J79="","",CONCATENATE(J79," ",I79)) -> Kai-Jen Tsai | B79: 45977 | C79: Taifong Open | D79: Taifong | E79: Taiwan | F79: Asian PGA | I79: Tsai | J79: Kai-Jen | K79: mc | L79: 72 | M79: 75 | Q79: 147 | R79: 73.88 | S79: 73.47 | T79: 71.79 | U79: 76.94 | Y79: 74.36 | Z79: 23 | AA79: 68 | AE79: 7 | AF79: 17 | AJ79: 68
A80: =IF(J80="","",CONCATENATE(J80," ",I80)) -> Shang-Kai Tsai | B80: 45977 | C80: Taifong Open | D80: Taifong | E80: Taiwan | F80: Asian PGA | I80: Tsai | J80: Shang-Kai | K80: mc | L80: 75 | M80: 72 | Q80: 147 | R80: 73.88 | S80: 73.47 | T80: 74.79 | U80: 73.94 | Y80: 74.36 | Z80: 68 | AA80: 68 | AE80: 10 | AF80: 17 | AJ80: 68
A81: =IF(J81="","",CONCATENATE(J81," ",I81)) -> Yu-Cheng Hsu | B81: 45977 | C81: Taifong Open | D81: Taifong | E81: Taiwan | F81: Asian PGA | I81: Hsu | J81: Yu-Cheng | K81: mc | L81: 76 | M81: 72 | Q81: 148 | R81: 73.88 | S81: 73.47 | T81: 75.79 | U81: 73.94 | Y81: 74.86 | Z81: 83 | AA81: 79 | AE81: 11 | AF81: 18 | AJ81: 79
... A122: =IF(J122="","",CONCATENATE(J122," ",I122)) -> Oliver Roberts | B122: 45977 | C122: Taifong Open | D122: Taifong | E122: Taiwan | F122: Asian PGA | I122: Roberts | J122: Oliver | K122: mc | L122: 81 | M122: 76 | Q122: 157 | R122: 73.88 | S122: 73.47 | T122: 80.79 | U122: 77.94 | Y122: 79.36 | Z122: 122 | AA122: 116 | AE122: 16 | AF122: 27 | AJ122: 116
A123: =IF(J123="","",CONCATENATE(J123," ",I123)) -> Yung-Lung Lin | B123: 45977 | C123: Taifong Open | D123: Taifong | E123: Taiwan | F123: Asian PGA | I123: Lin | J123: Yung-Lung | K123: w | L123: 78 | Q123: 78 | R123: 73.88 | S123: 73.47 | T123: 77.79 | Y123: 77.79 | Z123: 102 | AE123: 13 | AJ123: 121
A124: =IF(J124="","",CONCATENATE(J124," ",I124)) -> Michael Tran | B124: 45977 | C124: Taifong Open | D124: Taifong | E124: Taiwan | F124: Asian PGA | I124: Tran | J124: Michael | K124: w | L124: 79 | Q124: 79 | R124: 73.88 | S124: 73.47 | T124: 78.79 | Y124: 78.79 | Z124: 113 | AE124: 14 | AJ124: 121
A125: =IF(J125="","",CONCATENATE(J125," ",I125)) -> Suradit Yongcharoenchai | B125: 45977 | C125: Taifong Open | D125: Taifong | E125: Taiwan | F125: Asian PGA | I125: Yongcharoenchai | J125: Suradit | K125: w | L125: 80 | Q125: 80 | R125: 73.88 | S125: 73.47 | T125: 79.79 | Y125: 79.79 | Z125: 117 | AE125: 15 | AJ125: 121
A126: =IF(J126="","",CONCATENATE(J126," ",I126)) -> Christopher Wood | B126: 45977 | C126: New South Wales Open | D126: The Vintage | E126: Australia | F126: Australasian | I126: Wood | J126: Christopher | K126: 1 | L126: 73 | M126: 70 | N126: 67 | O126: 68 | Q126: 278 | R126: 74.38 | S126: 74.03 | T126: 73.32 | U126: 71.84 | V126: 69.28 | W126: 68.69 | Y126: 70.78 | Z126: 52 | AA126: 42 | AB126: 6 | AC126: 1 | AE126: 7 | AF126: 8 | AG126: 4 | AH126: 0 | AJ126: 1
A127: =IF(J127="","",CONCATENATE(J127," ",I127)) -> Will Florimo | B127: 45977 | C127: New South Wales Open | D127: The Vintage | E127: Australia | F127: Australasian | I127: Florimo | J127: Will | K127: 2 | L127: 71 | M127: 70 | N127: 71 | O127: 66 | Q127: 278 | R127: 74.38 | S127: 74.03 | T127: 71.32 | U127: 71.84 | V127: 73.28 | W127: 66.69 | Y127: 70.78 | Z127: 25 | AA127: 17 | AB127: 19 | AC127: 1 | AE127: 5 | AF127: 6 | AG127: 6 | AH127: 0 | AJ127: 2
A128: =IF(J128="","",CONCATENATE(J128," ",I128)) -> James Marchesani | B128: 45977 | C128: New South Wales Open | D128: The Vintage | E128: Australia | F128: Australasian | I128: Marchesani | J128: James | K128: 2 | L128: 73 | M128: 68 | N128: 70 | O128: 67 | Q128: 278 | R128: 74.38 | S128: 74.03 | T128: 73.32 | U128: 69.84 | V128: 72.28 | W128: 67.69 | Y128: 70.78 | Z128: 52 | AA128: 17 | AB128: 14 | AC128: 1 | AE128: 7 | AF128: 6 | AG128: 5 | AH128: 0 | AJ128: 2
A129: =IF(J129="","",CONCATENATE(J129," ",I129)) -> Ben Henkel | B129: 45977 | C129: New South Wales Open | D129: The Vintage | E129: Australia | F129: Australasian | I129: Henkel | J129: Ben | K129: 4 | L129: 67 | M129: 70 | N129: 69 | O129: 73 | Q129: 279 | R129: 74.38 | S129: 74.03 | T129: 67.32 | U129: 71.84 | V129: 71.28 | W129: 73.69 | Y129: 71.03 | Z129: 3 | AA129: 3 | AB129: 1 | AC129: 4 | AE129: 1 | AF129: 2 | AG129: -3 | AH129: 1 | AJ129: 4
A130: =IF(J130="","",CONCATENATE(J130," ",I130)) -> Cory Crawford | B130: 45977 | C130: New South Wales Open | D130: The Vintage | E130: Australia | F130: Australasian | I130: Crawford | J130: Cory | K130: 5 | L130: 74 | M130: 68 | N130: 70 | O130: 68 | Q130: 280 | R130: 74.38 | S130: 74.03 | T130: 74.32 | U130: 69.84 | V130: 72.28 | W130: 68.69 | Y130: 71.28 | Z130: 67 | AA130: 27 | AB130: 19 | AC130: 5 | AE130: 8 | AF130: 7 | AG130: 6 | AH130: 2 | AJ130: 5
A131: =IF(J131="","",CONCATENATE(J131," ",I131)) -> Adam Coull | B131: 45977 | C131: New South Wales Open | D131: The Vintage | E131: Australia | F131: Australasian | I131: Coull | J131: Adam | K131: 6 | L131: 73 | M131: 68 | N131: 68 | O131: 72 | Q131: 281 | R131: 74.38 | S131: 74.03 | T131: 73.32 | U131: 69.84 | V131: 70.28 | W131: 72.69 | Y131: 71.53 | Z131: 52 | AA131: 17 | AB131: 2 | AC131: 6 | AE131: 7 | AF131: 6 | AG131: 3 | AH131: 3 | AJ131: 6
A132: =IF(J132="","",CONCATENATE(J132," ",I132)) -> Jye Halls | B132: 45977 | C132: New South Wales Open | D132: The Vintage | E132: Australia | F132: Australasian | I132: Halls | J132: Jye | K132: 6 | L132: 69 | M132: 71 | N132: 70 | O132: 71 | Q132: 281 | R132: 74.38 | S132: 74.03 | T132: 69.32 | U132: 72.84 | V132: 72.28 | W132: 71.69 | Y132: 71.53 | Z132: 9 | AA132: 8 | AB132: 6 | AC132: 6 | AE132: 3 | AF132: 5 | AG132: 4 | AH132: 3 | AJ132: 6
A133: =IF(J133="","",CONCATENATE(J133," ",I133)) -> Jay Mackenzie | B133: 45977 | C133: New South Wales Open | D133: The Vintage | E133: Australia | F133: Australasian | I133: Mackenzie | J133: Jay | K133: 6 | L133: 72 | M133: 69 | N133: 69 | O133: 71 | Q133: 281 | R133: 74.38 | S133: 74.03 | T133: 72.32 | U133: 70.84 | V133: 71.28 | W133: 71.69 | Y133: 71.53 | Z133: 39 | AA133: 17 | AB133: 6 | AC133: 6 | AE133: 6 | AF133: 6 | AG133: 4 | AH133: 3 | AJ133: 6
A134: =IF(J134="","",CONCATENATE(J134," ",I134)) -> Brady Watt | B134: 45977 | C134: New South Wales Open | D134: The Vintage | E134: Australia | F134: Australasian | I134: Watt | J134: Brady | K134: 6 | L134: 71 | M134: 72 | N134: 70 | O134: 68 | Q134: 281 | R134: 74.38 | S134: 74.03 | T134: 71.32 | U134: 73.84 | V134: 72.28 | W134: 68.69 | Y134: 71.53 | Z134: 25 | AA134: 42 | AB134: 31 | AC134: 6 | AE134: 5 | AF134: 8 | AG134: 7 | AH134: 3 | AJ134: 6
A135: =IF(J135="","",CONCATENATE(J135," ",I135)) -> Nathan Barbieri | B135: 45977 | C135: New South Wales Open | D135: The Vintage | E135: Australia | F135: Australasian | I135: Barbieri | J135: Nathan | K135: 10 | L135: 71 | M135: 71 | N135: 71 | O135: 69 | Q135: 282 | R135: 74.38 | S135: 74.03 | T135: 71.32 | U135: 72.84 | V135: 73.28 | W135: 69.69 | Y135: 71.78 | Z135: 25 | AA135: 27 | AB135: 31 | AC135: 10 | AE135: 5 | AF135: 7 | AG135: 7 | AH135: 4 | AJ135: 10
A136: =IF(J136="","",CONCATENATE(J136," ",I136)) -> Adam Bland | B136: 45977 | C136: New South Wales Open | D136: The Vintage | E136: Australia | F136: Australasian | I136: Bland | J136: Adam | K136: 10 | L136: 72 | M136: 72 | N136: 70 | O136: 68 | Q136: 282 | R136: 74.38 | S136: 74.03 | T136: 72.32 | U136: 73.84 | V136: 72.28 | W136: 68.69 | Y136: 71.78 | Z136: 39 | AA136: 53 | AB136: 41 | AC136: 10 | AE136: 6 | AF136: 9 | AG136: 8 | AH136: 4 | AJ136: 10
A137: =IF(J137="","",CONCATENATE(J137," ",I137)) -> Jayden Ford | B137: 45977 | C137: New South Wales Open | D137: The Vintage | E137: Australia | F137: Australasian | I137: Ford | J137: Jayden | K137: 10 | L137: 69 | M137: 71 | N137: 72 | O137: 70 | Q137: 282 | R137: 74.38 | S137: 74.03 | T137: 69.32 | U137: 72.84 | V137: 74.28 | W137: 70.69 | Y137: 71.78 | Z137: 9 | AA137: 8 | AB137: 19 | AC137: 10 | AE137: 3 | AF137: 5 | AG137: 6 | AH137: 4 | AJ137: 10
... A201: =IF(J201="","",CONCATENATE(J201," ",I201)) -> Deyen Lawson | B201: 45977 | C201: New South Wales Open | D201: The Vintage | E201: Australia | F201: Australasian | I201: Lawson | J201: Deyen | K201: 76 | L201: 73 | M201: 73 | N201: 79 | O201: 79 | Q201: 304 | R201: 74.38 | S201: 74.03 | T201: 73.32 | U201: 74.84 | V201: 81.28 | W201: 79.69 | Y201: 77.28 | Z201: 52 | AA201: 65 | AB201: 76 | AC201: 76 | AE201: 7 | AF201: 11 | AG201: 19 | AH201: 26 | AJ201: 76
A202: =IF(J202="","",CONCATENATE(J202," ",I202)) -> James Conran | B202: 45977 | C202: New South Wales Open | D202: The Vintage | E202: Australia | F202: Australasian | I202: Conran | J202: James | K202: mc | L202: 73 | M202: 74 | Q202: 147 | R202: 74.38 | S202: 74.03 | T202: 73.32 | U202: 75.84 | Y202: 74.58 | Z202: 52 | AA202: 77 | AE202: 7 | AF202: 12 | AJ202: 77
A203: =IF(J203="","",CONCATENATE(J203," ",I203)) -> Gavin Fairfax | B203: 45977 | C203: New South Wales Open | D203: The Vintage | E203: Australia | F203: Australasian | I203: Fairfax | J203: Gavin | K203: mc | L203: 78 | M203: 69 | Q203: 147 | R203: 74.38 | S203: 74.03 | T203: 78.32 | U203: 70.84 | Y203: 74.58 | Z203: 120 | AA203: 77 | AE203: 12 | AF203: 12 | AJ203: 77
A204: =IF(J204="","",CONCATENATE(J204," ",I204)) -> Dylan Gardner | B204: 45977 | C204: New South Wales Open | D204: The Vintage | E204: Australia | F204: Australasian | I204: Gardner | J204: Dylan | K204: mc | L204: 74 | M204: 73 | Q204: 147 | R204: 74.38 | S204: 74.03 | T204: 74.32 | U204: 74.84 | Y204: 74.58 | Z204: 67 | AA204: 77 | AE204: 8 | AF204: 12 | AJ204: 77
A205: =IF(J205="","",CONCATENATE(J205," ",I205)) -> George Giblett | B205: 45977 | C205: New South Wales Open | D205: The Vintage | E205: Australia | F205: Australasian | I205: Giblett | J205: George | K205: mc | L205: 75 | M205: 72 | Q205: 147 | R205: 74.38 | S205: 74.03 | T205: 75.32 | U205: 73.84 | Y205: 74.58 | Z205: 84 | AA205: 77 | AE205: 9 | AF205: 12 | AJ205: 77
A206: =IF(J206="","",CONCATENATE(J206," ",I206)) -> Tim Hart | B206: 45977 | C206: New South Wales Open | D206: The Vintage | E206: Australia | F206: Australasian | I206: Hart | J206: Tim | K206: mc | L206: 75 | M206: 72 | Q206: 147 | R206: 74.38 | S206: 74.03 | T206: 75.32 | U206: 73.84 | Y206: 74.58 | Z206: 84 | AA206: 77 | AE206: 9 | AF206: 12 | AJ206: 77
A207: =IF(J207="","",CONCATENATE(J207," ",I207)) -> Hayden Hopewell | B207: 45977 | C207: New South Wales Open | D207: The Vintage | E207: Australia | F207: Australasian | I207: Hopewell | J207: Hayden | K207: mc | L207: 75 | M207: 72 | Q207: 147 | R207: 74.38 | S207: 74.03 | T207: 75.32 | U207: 73.84 | Y207: 74.58 | Z207: 84 | AA207: 77 | AE207: 9 | AF207: 12 | AJ207: 77
A208: =IF(J208="","",CONCATENATE(J208," ",I208)) -> Andre Lautee | B208: 45977 | C208: New South Wales Open | D208: The Vintage | E208: Australia | F208: Australasian | I208: Lautee | J208: Andre | K208: mc | L208: 72 | M208: 75 | Q208: 147 | R208: 74.38 | S208: 74.03 | T208: 72.32 | U208: 76.84 | Y208: 74.58 | Z208: 39 | AA208: 77 | AE208: 6 | AF208: 12 | AJ208: 77
A209: =IF(J209="","",CONCATENATE(J209," ",I209)) -> Jason Norris | B209: 45977 | C209: New South Wales Open | D209: The Vintage | E209: Australia | F209: Australasian | I209: Norris | J209: Jason | K209: mc | L209: 74 | M209: 73 | Q209: 147 | R209: 74.38 | S209: 74.03 | T209: 74.32 | U209: 74.84 | Y209: 74.58 | Z209: 67 | AA209: 77 | AE209: 8 | AF209: 12 | AJ209: 77
A210: =IF(J210="","",CONCATENATE(J210," ",I210)) -> Christopher Fan | B210: 45977 | C210: New South Wales Open | D210: The Vintage | E210: Australia | F210: Australasian | I210: Fan | J210: Christopher | K210: mc | L210: 78 | M210: 70 | Q210: 148 | R210: 74.38 | S210: 74.03 | T210: 78.32 | U210: 71.84 | Y210: 75.08 | Z210: 120 | AA210: 85 | AE210: 12 | AF210: 13 | AJ210: 85
A211: =IF(J211="","",CONCATENATE(J211," ",I211)) -> Jeffrey Guan | B211: 45977 | C211: New South Wales Open | D211: The Vintage | E211: Australia | F211: Australasian | I211: Guan | J211: Jeffrey | K211: mc | L211: 75 | M211: 73 | Q211: 148 | R211: 74.38 | S211: 74.03 | T211: 75.32 | U211: 74.84 | Y211: 75.08 | Z211: 84 | AA211: 85 | AE211: 9 | AF211: 13 | AJ211: 85
A212: =IF(J212="","",CONCATENATE(J212," ",I212)) -> Cameron Harlock | B212: 45977 | C212: New South Wales Open | D212: The Vintage | E212: Australia | F212: Australasian | I212: Harlock | J212: Cameron | K212: mc | L212: 74 | M212: 74 | Q212: 148 | R212: 74.38 | S212: 74.03 | T212: 74.32 | U212: 75.84 | Y212: 75.08 | Z212: 67 | AA212: 85 | AE212: 8 | AF212: 13 | AJ212: 85
A213: =IF(J213="","",CONCATENATE(J213," ",I213)) -> Andrew Kelly | B213: 45977 | C213: New South Wales Open | D213: The Vintage | E213: Australia | F213: Australasian | I213: Kelly | J213: Andrew | K213: mc | L213: 78 | M213: 70 | Q213: 148 | R213: 74.38 | S213: 74.03 | T213: 78.32 | U213: 71.84 | Y213: 75.08 | Z213: 120 | AA213: 85 | AE213: 12 | AF213: 13 | AJ213: 85
... A269: =IF(J269="","",CONCATENATE(J269," ",I269)) -> James Tauariki | B269: 45977 | C269: New South Wales Open | D269: The Vintage | E269: Australia | F269: Australasian | I269: Tauariki | J269: James | K269: mc | L269: 82 | M269: 80 | Q269: 162 | R269: 74.38 | S269: 74.03 | T269: 82.32 | U269: 81.84 | Y269: 82.08 | Z269: 138 | AA269: 144 | AE269: 16 | AF269: 27 | AJ269: 144
A270: =IF(J270="","",CONCATENATE(J270," ",I270)) -> Jacques Van Der Merwe | B270: 45977 | C270: Big Easy Tour - Krugersdorp | D270: Krugersdorp | E270: South Africa | F270: Big Easy | I270: Van Der Merwe | J270: Jacques | K270: 1 | L270: 67 | M270: 68 | N270: 69 | Q270: 204 | R270: 77.09 | S270: 76.39 | T270: 70.7 | U270: 71.94 | V270: 72.96 | Y270: 71.87 | Z270: 1 | AA270: 2 | AB270: 1 | AE270: 0 | AF270: 1 | AG270: -1 | AJ270: 1
A271: =IF(J271="","",CONCATENATE(J271," ",I271)) -> Oli Goldhill | B271: 45977 | C271: Big Easy Tour - Krugersdorp | D271: Krugersdorp | E271: South Africa | F271: Big Easy | I271: Goldhill | J271: Oli | K271: 2 | L271: 70 | M271: 73 | N271: 62 | Q271: 205 | R271: 77.09 | S271: 76.39 | T271: 73.7 | U271: 76.94 | V271: 65.96 | Y271: 72.2 | Z271: 10 | AA271: 17 | AB271: 2 | AE271: 3 | AF271: 9 | AG271: 1 | AJ271: 2
A272: =IF(J272="","",CONCATENATE(J272," ",I272)) -> Vaughn Van Deventer | B272: 45977 | C272: Big Easy Tour - Krugersdorp | D272: Krugersdorp | E272: South Africa | F272: Big Easy | I272: Van Deventer | J272: Vaughn | K272: 2 | L272: 67 | M272: 72 | N272: 66 | Q272: 205 | R272: 77.09 | S272: 76.39 | T272: 70.7 | U272: 75.94 | V272: 69.96 | Y272: 72.2 | Z272: 1 | AA272: 5 | AB272: 2 | AE272: 0 | AF272: 5 | AG272: 1 | AJ272: 2
A273: =IF(J273="","",CONCATENATE(J273," ",I273)) -> Andre Van Zyl | B273: 45977 | C273: Big Easy Tour - Krugersdorp | D273: Krugersdorp | E273: South Africa | F273: Big Easy | I273: Van Zyl | J273: Andre | K273: 4 | L273: 68 | M273: 66 | N273: 72 | Q273: 206 | R273: 77.09 | S273: 76.39 | T273: 71.7 | U273: 69.94 | V273: 75.96 | Y273: 72.53 | Z273: 5 | AA273: 1 | AB273: 4 | AE273: 1 | AF273: -1 | AG273: 2 | AJ273: 4
A274: =IF(J274="","",CONCATENATE(J274," ",I274)) -> Therion Nel | B274: 45977 | C274: Big Easy Tour - Krugersdorp | D274: Krugersdorp | E274: South Africa | F274: Big Easy | I274: Nel | J274: Therion | K274: 5 | L274: 70 | M274: 66 | N274: 71 | Q274: 207 | R274: 77.09 | S274: 76.39 | T274: 73.7 | U274: 69.94 | V274: 74.96 | Y274: 72.87 | Z274: 10 | AA274: 3 | AB274: 5 | AE274: 3 | AF274: 2 | AG274: 3 | AJ274: 5
A275: =IF(J275="","",CONCATENATE(J275," ",I275)) -> Wandre Snyman | B275: 45977 | C275: Big Easy Tour - Krugersdorp | D275: Krugersdorp | E275: South Africa | F275: Big Easy | I275: Snyman | J275: Wandre | K275: 6 | L275: 71 | M275: 67 | N275: 71 | Q275: 209 | R275: 77.09 | S275: 76.39 | T275: 74.7 | U275: 70.94 | V275: 74.96 | Y275: 73.53 | Z275: 16 | AA275: 4 | AB275: 6 | AE275: 4 | AF275: 4 | AG275: 5 | AJ275: 6
A276: =IF(J276="","",CONCATENATE(J276," ",I276)) -> Dillon Germshuys | B276: 45977 | C276: Big Easy Tour - Krugersdorp | D276: Krugersdorp | E276: South Africa | F276: Big Easy | I276: Germshuys | J276: Dillon | K276: 7 | L276: 67 | M276: 72 | N276: 72 | Q276: 211 | R276: 77.09 | S276: 76.39 | T276: 70.7 | U276: 75.94 | V276: 75.96 | Y276: 74.2 | Z276: 1 | AA276: 5 | AB276: 7 | AE276: 0 | AF276: 5 | AG276: 7 | AJ276: 7
A277: =IF(J277="","",CONCATENATE(J277," ",I277)) -> Joe Sullivan | B277: 45977 | C277: Big Easy Tour - Krugersdorp | D277: Krugersdorp | E277: South Africa | F277: Big Easy | I277: Sullivan | J277: Joe | K277: 7 | L277: 67 | M277: 73 | N277: 71 | Q277: 211 | R277: 77.09 | S277: 76.39 | T277: 70.7 | U277: 76.94 | V277: 74.96 | Y277: 74.2 | Z277: 1 | AA277: 8 | AB277: 7 | AE277: 0 | AF277: 6 | AG277: 7 | AJ277: 7
A278: =IF(J278="","",CONCATENATE(J278," ",I278)) -> Keagan Crosbie | B278: 45977 | C278: Big Easy Tour - Krugersdorp | D278: Krugersdorp | E278: South Africa | F278: Big Easy | I278: Crosbie | J278: Keagan | K278: 9 | L278: 69 | M278: 70 | N278: 74 | Q278: 213 | R278: 77.09 | S278: 76.39 | T278: 72.7 | U278: 73.94 | V278: 77.96 | Y278: 74.87 | Z278: 7 | AA278: 5 | AB278: 9 | AE278: 2 | AF278: 5 | AG278: 9 | AJ278: 9
A279: =IF(J279="","",CONCATENATE(J279," ",I279)) -> Liam Ross | B279: 45977 | C279: Big Easy Tour - Krugersdorp | D279: Krugersdorp | E279: South Africa | F279: Big Easy | I279: Ross | J279: Liam | K279: 9 | L279: 73 | M279: 69 | N279: 71 | Q279: 213 | R279: 77.09 | S279: 76.39 | T279: 76.7 | U279: 72.94 | V279: 74.96 | Y279: 74.87 | Z279: 30 | AA279: 13 | AB279: 9 | AE279: 6 | AF279: 8 | AG279: 9 | AJ279: 9
A280: =IF(J280="","",CONCATENATE(J280," ",I280)) -> Rigardt Albertse | B280: 45977 | C280: Big Easy Tour - Krugersdorp | D280: Krugersdorp | E280: South Africa | F280: Big Easy | I280: Albertse | J280: Rigardt | K280: 11 | L280: 73 | M280: 67 | N280: 74 | Q280: 214 | R280: 77.09 | S280: 76.39 | T280: 76.7 | U280: 70.94 | V280: 77.96 | Y280: 75.2 | Z280: 30 | AA280: 8 | AB280: 11 | AE280: 6 | AF280: 6 | AG280: 10 | AJ280: 11
A281: =IF(J281="","",CONCATENATE(J281," ",I281)) -> Jake Bolton | B281: 45977 | C281: Big Easy Tour - Krugersdorp | D281: Krugersdorp | E281: South Africa | F281: Big Easy | I281: Bolton | J281: Jake | K281: 11 | L281: 74 | M281: 70 | N281: 70 | Q281: 214 | R281: 77.09 | S281: 76.39 | T281: 77.7 | U281: 73.94 | V281: 73.96 | Y281: 75.2 | Z281: 37 | AA281: 20 | AB281: 11 | AE281: 7 | AF281: 10 | AG281: 10 | AJ281: 11
... A299: =IF(J299="","",CONCATENATE(J299," ",I299)) -> Ricco Motsa | B299: 45977 | C299: Big Easy Tour - Krugersdorp | D299: Krugersdorp | E299: South Africa | F299: Big Easy | I299: Motsa | J299: Ricco | K299: 30 | L299: 71 | M299: 73 | N299: 78 | Q299: 222 | R299: 77.09 | S299: 76.39 | T299: 74.7 | U299: 76.94 | V299: 81.96 | Y299: 77.87 | Z299: 16 | AA299: 20 | AB299: 30 | AE299: 4 | AF299: 10 | AG299: 18 | AJ299: 30
A300: =IF(J300="","",CONCATENATE(J300," ",I300)) -> Lwazi Gqira | B300: 45977 | C300: Big Easy Tour - Krugersdorp | D300: Krugersdorp | E300: South Africa | F300: Big Easy | I300: Gqira | J300: Lwazi | K300: d | L300: 69 | M300: 75 | Q300: 144 | R300: 77.09 | S300: 76.39 | T300: 72.7 | U300: 78.94 | Y300: 75.82 | Z300: 7 | AA300: 20 | AE300: 2 | AF300: 10 | AJ300: 31
A301: =IF(J301="","",CONCATENATE(J301," ",I301)) -> John Bele | B301: 45977 | C301: Big Easy Tour - Krugersdorp | D301: Krugersdorp | E301: South Africa | F301: Big Easy | I301: Bele | J301: John | K301: mc | L301: 71 | M301: 75 | Q301: 146 | R301: 77.09 | S301: 76.39 | T301: 74.7 | U301: 78.94 | Y301: 76.82 | Z301: 16 | AA301: 32 | AE301: 4 | AF301: 12 | AJ301: 32
A302: =IF(J302="","",CONCATENATE(J302," ",I302)) -> Austin Cherichella | B302: 45977 | C302: Big Easy Tour - Krugersdorp | D302: Krugersdorp | E302: South Africa | F302: Big Easy | I302: Cherichella | J302: Austin | K302: mc | L302: 76 | M302: 70 | Q302: 146 | R302: 77.09 | S302: 76.39 | T302: 79.7 | U302: 73.94 | Y302: 76.82 | Z302: 45 | AA302: 32 | AE302: 9 | AF302: 12 | AJ302: 32
A303: =IF(J303="","",CONCATENATE(J303," ",I303)) -> Kian Coetzer | B303: 45977 | C303: Big Easy Tour - Krugersdorp | D303: Krugersdorp | E303: South Africa | F303: Big Easy | I303: Coetzer | J303: Kian | K303: mc | L303: 68 | M303: 78 | Q303: 146 | R303: 77.09 | S303: 76.39 | T303: 71.7 | U303: 81.94 | Y303: 76.82 | Z303: 5 | AA303: 32 | AE303: 1 | AF303: 12 | AJ303: 32
A304: =IF(J304="","",CONCATENATE(J304," ",I304)) -> Hayden Garcia | B304: 45977 | C304: Big Easy Tour - Krugersdorp | D304: Krugersdorp | E304: South Africa | F304: Big Easy | I304: Garcia | J304: Hayden | K304: mc | L304: 77 | M304: 69 | Q304: 146 | R304: 77.09 | S304: 76.39 | T304: 80.7 | U304: 72.94 | Y304: 76.82 | Z304: 50 | AA304: 32 | AE304: 10 | AF304: 12 | AJ304: 32
A305: =IF(J305="","",CONCATENATE(J305," ",I305)) -> Steven Le Roux | B305: 45977 | C305: Big Easy Tour - Krugersdorp | D305: Krugersdorp | E305: South Africa | F305: Big Easy | I305: Le Roux | J305: Steven | K305: mc | L305: 73 | M305: 73 | Q305: 146 | R305: 77.09 | S305: 76.39 | T305: 76.7 | U305: 76.94 | Y305: 76.82 | Z305: 30 | AA305: 32 | AE305: 6 | AF305: 12 | AJ305: 32
A306: =IF(J306="","",CONCATENATE(J306," ",I306)) -> Tristan Leonard | B306: 45977 | C306: Big Easy Tour - Krugersdorp | D306: Krugersdorp | E306: South Africa | F306: Big Easy | I306: Leonard | J306: Tristan | K306: mc | L306: 75 | M306: 71 | Q306: 146 | R306: 77.09 | S306: 76.39 | T306: 78.7 | U306: 74.94 | Y306: 76.82 | Z306: 42 | AA306: 32 | AE306: 8 | AF306: 12 | AJ306: 32
A307: =IF(J307="","",CONCATENATE(J307," ",I307)) -> Shaunak Rama | B307: 45977 | C307: Big Easy Tour - Krugersdorp | D307: Krugersdorp | E307: South Africa | F307: Big Easy | I307: Rama | J307: Shaunak | K307: mc | L307: 76 | M307: 70 | Q307: 146 | R307: 77.09 | S307: 76.39 | T307: 79.7 | U307: 73.94 | Y307: 76.82 | Z307: 45 | AA307: 32 | AE307: 9 | AF307: 12 | AJ307: 32
A308: =IF(J308="","",CONCATENATE(J308," ",I308)) -> Tiago Swart | B308: 45977 | C308: Big Easy Tour - Krugersdorp | D308: Krugersdorp | E308: South Africa | F308: Big Easy | I308: Swart | J308: Tiago | K308: mc | L308: 72 | M308: 74 | Q308: 146 | R308: 77.09 | S308: 76.39 | T308: 75.7 | U308: 77.94 | Y308: 76.82 | Z308: 22 | AA308: 32 | AE308: 5 | AF308: 12 | AJ308: 32
A309: =IF(J309="","",CONCATENATE(J309," ",I309)) -> Matthew Rushton | B309: 45977 | C309: Big Easy Tour - Krugersdorp | D309: Krugersdorp | E309: South Africa | F309: Big Easy | I309: Rushton | J309: Matthew | K309: mc | L309: 75 | M309: 72 | Q309: 147 | R309: 77.09 | S309: 76.39 | T309: 78.7 | U309: 75.94 | Y309: 77.32 | Z309: 42 | AA309: 40 | AE309: 8 | AF309: 13 | AJ309: 40
A310: =IF(J310="","",CONCATENATE(J310," ",I310)) -> Matthew Dennis | B310: 45977 | C310: Big Easy Tour - Krugersdorp | D310: Krugersdorp | E310: South Africa | F310: Big Easy | I310: Dennis | J310: Matthew | K310: mc | L310: 74 | M310: 74 | Q310: 148 | R310: 77.09 | S310: 76.39 | T310: 77.7 | U310: 77.94 | Y310: 77.82 | Z310: 37 | AA310: 41 | AE310: 7 | AF310: 14 | AJ310: 41
A311: =IF(J311="","",CONCATENATE(J311," ",I311)) -> Regan Steyn | B311: 45977 | C311: Big Easy Tour - Krugersdorp | D311: Krugersdorp | E311: South Africa | F311: Big Easy | I311: Steyn | J311: Regan | K311: mc | L311: 73 | M311: 75 | Q311: 148 | R311: 77.09 | S311: 76.39 | T311: 76.7 | U311: 78.94 | Y311: 77.82 | Z311: 30 | AA311: 41 | AE311: 6 | AF311: 14 | AJ311: 41
... A331: =IF(J331="","",CONCATENATE(J331," ",I331)) -> Phumlani Maluka | B331: 45977 | C331: Big Easy Tour - Krugersdorp | D331: Krugersdorp | E331: South Africa | F331: Big Easy | I331: Maluka | J331: Phumlani | K331: mc | L331: 89 | M331: 84 | Q331: 173 | R331: 77.09 | S331: 76.39 | T331: 92.7 | U331: 87.94 | Y331: 90.32 | Z331: 62 | AA331: 62 | AE331: 22 | AF331: 39 | AJ331: 62
A332: =IF(J332="","",CONCATENATE(J332," ",I332)) -> Greg Snow | B332: 45977 | C332: SunDev Betika Masters @ Limuru | D332: Limuru | E332: Kenya | F332: Big Easy | I332: Snow | J332: Greg | K332: 1 | L332: 66 | M332: 67 | N332: 73 | Q332: 206 | R332: 80.66 | S332: 79.57 | T332: 69.41 | U332: 70.8 | V332: 77.23 | Y332: 72.48 | Z332: 1 | AA332: 1 | AB332: 1 | AE332: -1 | AF332: -6 | AG332: -3 | AJ332: 1
A333: =IF(J333="","",CONCATENATE(J333," ",I333)) -> Njoroge Kibugu | B333: 45977 | C333: SunDev Betika Masters @ Limuru | D333: Limuru | E333: Kenya | F333: Big Easy | I333: Kibugu | J333: Njoroge | K333: 2 | L333: 71 | M333: 69 | N333: 69 | Q333: 209 | R333: 80.66 | S333: 79.57 | T333: 74.41 | U333: 72.8 | V333: 73.23 | Y333: 73.48 | Z333: 11 | AA333: 3 | AB333: 2 | AE333: 5 | AF333: 7 | AG333: 3 | AJ333: 2
A334: =IF(J334="","",CONCATENATE(J334," ",I334)) -> Celestin Nsanzuwera | B334: 45977 | C334: SunDev Betika Masters @ Limuru | D334: Limuru | E334: Kenya | F334: Big Easy | I334: Nsanzuwera | J334: Celestin | K334: 3 | L334: 69 | M334: 70 | N334: 71 | Q334: 210 | R334: 80.66 | S334: 79.57 | T334: 72.41 | U334: 73.8 | V334: 75.23 | Y334: 73.81 | Z334: 4 | AA334: 2 | AB334: 3 | AE334: 3 | AF334: 6 | AG334: 4 | AJ334: 3
A335: =IF(J335="","",CONCATENATE(J335," ",I335)) -> Justus Madoya | B335: 45977 | C335: SunDev Betika Masters @ Limuru | D335: Limuru | E335: Kenya | F335: Big Easy | I335: Madoya | J335: Justus | K335: 4 | L335: 70 | M335: 71 | N335: 73 | Q335: 214 | R335: 80.66 | S335: 79.57 | T335: 73.41 | U335: 74.8 | V335: 77.23 | Y335: 75.15 | Z335: 7 | AA335: 4 | AB335: 4 | AE335: 4 | AF335: 8 | AG335: 8 | AJ335: 4
A336: =IF(J336="","",CONCATENATE(J336," ",I336)) -> Ainamana Abraham | B336: 45977 | C336: SunDev Betika Masters @ Limuru | D336: Limuru | E336: Kenya | F336: Big Easy | I336: Abraham | J336: Ainamana | K336: 5 | L336: 73 | M336: 73 | N336: 69 | Q336: 215 | R336: 80.66 | S336: 79.57 | T336: 76.41 | U336: 76.8 | V336: 73.23 | Y336: 75.48 | Z336: 18 | AA336: 12 | AB336: 5 | AE336: 7 | AF336: 13 | AG336: 9 | AJ336: 5
A337: =IF(J337="","",CONCATENATE(J337," ",I337)) -> C.J. Wangai | B337: 45977 | C337: SunDev Betika Masters @ Limuru | D337: Limuru | E337: Kenya | F337: Big Easy | I337: Wangai | J337: C.J. | K337: 5 | L337: 69 | M337: 77 | N337: 69 | Q337: 215 | R337: 80.66 | S337: 79.57 | T337: 72.41 | U337: 80.8 | V337: 73.23 | Y337: 75.48 | Z337: 4 | AA337: 12 | AB337: 5 | AE337: 3 | AF337: 13 | AG337: 9 | AJ337: 5
A338: =IF(J338="","",CONCATENATE(J338," ",I338)) -> Samuel Chege | B338: 45977 | C338: SunDev Betika Masters @ Limuru | D338: Limuru | E338: Kenya | F338: Big Easy | I338: Chege | J338: Samuel | K338: 7 | L338: 70 | M338: 75 | N338: 71 | Q338: 216 | R338: 80.66 | S338: 79.57 | T338: 73.41 | U338: 78.8 | V338: 75.23 | Y338: 75.81 | Z338: 7 | AA338: 9 | AB338: 7 | AE338: 4 | AF338: 12 | AG338: 10 | AJ338: 7
A339: =IF(J339="","",CONCATENATE(J339," ",I339)) -> John Karichu | B339: 45977 | C339: SunDev Betika Masters @ Limuru | D339: Limuru | E339: Kenya | F339: Big Easy | I339: Karichu | J339: John | K339: 7 | L339: 69 | M339: 74 | N339: 73 | Q339: 216 | R339: 80.66 | S339: 79.57 | T339: 72.41 | U339: 77.8 | V339: 77.23 | Y339: 75.81 | Z339: 4 | AA339: 7 | AB339: 7 | AE339: 3 | AF339: 10 | AG339: 10 | AJ339: 7
A340: =IF(J340="","",CONCATENATE(J340," ",I340)) -> Paul Chidale | B340: 45977 | C340: SunDev Betika Masters @ Limuru | D340: Limuru | E340: Kenya | F340: Big Easy | I340: Chidale | J340: Paul | K340: 9 | L340: 71 | M340: 73 | N340: 74 | Q340: 218 | R340: 80.66 | S340: 79.57 | T340: 74.41 | U340: 76.8 | V340: 78.23 | Y340: 76.48 | Z340: 11 | AA340: 8 | AB340: 9 | AE340: 5 | AF340: 11 | AG340: 12 | AJ340: 9
A341: =IF(J341="","",CONCATENATE(J341," ",I341)) -> Mike Kisia | B341: 45977 | C341: SunDev Betika Masters @ Limuru | D341: Limuru | E341: Kenya | F341: Big Easy | I341: Kisia | J341: Mike | K341: 9 | L341: 75 | M341: 71 | N341: 72 | Q341: 218 | R341: 80.66 | S341: 79.57 | T341: 78.41 | U341: 74.8 | V341: 76.23 | Y341: 76.48 | Z341: 31 | AA341: 12 | AB341: 9 | AE341: 9 | AF341: 13 | AG341: 12 | AJ341: 9
A342: =IF(J342="","",CONCATENATE(J342," ",I342)) -> Wasim Ali | B342: 45977 | C342: SunDev Betika Masters @ Limuru | D342: Limuru | E342: Kenya | F342: Big Easy | I342: Ali | J342: Wasim | K342: 11 | L342: 74 | M342: 73 | N342: 73 | Q342: 220 | R342: 80.66 | S342: 79.57 | T342: 77.41 | U342: 76.8 | V342: 77.23 | Y342: 77.15 | Z342: 22 | AA342: 18 | AB342: 11 | AE342: 8 | AF342: 14 | AG342: 14 | AJ342: 11
A343: =IF(J343="","",CONCATENATE(J343," ",I343)) -> Dennis Saikwa | B343: 45977 | C343: SunDev Betika Masters @ Limuru | D343: Limuru | E343: Kenya | F343: Big Easy | I343: Saikwa | J343: Dennis | K343: 11 | L343: 76 | M343: 70 | N343: 74 | Q343: 220 | R343: 80.66 | S343: 79.57 | T343: 79.41 | U343: 73.8 | V343: 78.23 | Y343: 77.15 | Z343: 34 | AA343: 12 | AB343: 11 | AE343: 10 | AF343: 13 | AG343: 14 | AJ343: 11
... A360: =IF(J360="","",CONCATENATE(J360," ",I360)) -> Isaiah Otuke | B360: 45977 | C360: SunDev Betika Masters @ Limuru | D360: Limuru | E360: Kenya | F360: Big Easy | I360: Otuke | J360: Isaiah | K360: 29 | L360: 71 | M360: 76 | N360: 86 | Q360: 233 | R360: 80.66 | S360: 79.57 | T360: 74.41 | U360: 79.8 | V360: 90.23 | Y360: 81.48 | Z360: 11 | AA360: 18 | AB360: 28 | AE360: 5 | AF360: 14 | AG360: 27 | AJ360: 28
A361: =IF(J361="","",CONCATENATE(J361," ",I361)) -> Kenneth Bollo | B361: 45977 | C361: SunDev Betika Masters @ Limuru | D361: Limuru | E361: Kenya | F361: Big Easy | I361: Bollo | J361: Kenneth | K361: mc | L361: 79 | M361: 73 | Q361: 152 | R361: 80.66 | S361: 79.57 | T361: 82.41 | U361: 76.8 | Y361: 79.61 | Z361: 55 | AA361: 30 | AE361: 13 | AF361: 19 | AJ361: 30
A362: =IF(J362="","",CONCATENATE(J362," ",I362)) -> Andrew Chelogoi | B362: 45977 | C362: SunDev Betika Masters @ Limuru | D362: Limuru | E362: Kenya | F362: Big Easy | I362: Chelogoi | J362: Andrew | K362: mc | L362: 74 | M362: 78 | Q362: 152 | R362: 80.66 | S362: 79.57 | T362: 77.41 | U362: 81.8 | Y362: 79.61 | Z362: 22 | AA362: 30 | AE362: 8 | AF362: 19 | AJ362: 30
A363: =IF(J363="","",CONCATENATE(J363," ",I363)) -> Kasango Grace | B363: 45977 | C363: SunDev Betika Masters @ Limuru | D363: Limuru | E363: Kenya | F363: Big Easy | I363: Grace | J363: Kasango | K363: mc | L363: 73 | M363: 79 | Q363: 152 | R363: 80.66 | S363: 79.57 | T363: 76.41 | U363: 82.8 | Y363: 79.61 | Z363: 18 | AA363: 30 | AE363: 7 | AF363: 19 | AJ363: 30
A364: =IF(J364="","",CONCATENATE(J364," ",I364)) -> Geofrey Kubwa | B364: 45977 | C364: SunDev Betika Masters @ Limuru | D364: Limuru | E364: Kenya | F364: Big Easy | I364: Kubwa | J364: Geofrey | K364: mc | L364: 76 | M364: 76 | Q364: 152 | R364: 80.66 | S364: 79.57 | T364: 79.41 | U364: 79.8 | Y364: 79.61 | Z364: 34 | AA364: 30 | AE364: 10 | AF364: 19 | AJ364: 30
...

Sheet Record
A1: Win | D1: FRL | G1: Top3: Win | J1: Top3: FRL | N1: WIN | O1: Rank | P1: Player | Q1: P/L | R1: E/W Play | U1: FRL | V1: Rank | W1: Player | X1: P/L | Y1: E/W Play
A2: Stakes | B2: Profit | D2: Stakes | E2: Profit | G2: Stakes | H2: Profit | J2: Stakes | K2: Profit | O2: 1 | P2: =IFERROR(OFFSET(Picks!A$1,MATCH($O2,Picks!$F:$F,0)-1,0),"") -> Hennie Du Plessis | Q2: =IFERROR(OFFSET(Picks!I$1,MATCH($O2,Picks!$F:$F,0)-1,0),"") -> 1.25 | R2: =IFERROR(OFFSET(Picks!J$1,MATCH($O2,Picks!$F:$F,0)-1,0),"") -> Ladbrokes: 9/1, 5pl, 1/4 | V2: 1 | W2: =IFERROR(OFFSET(Picks!M$1,MATCH($O2,Picks!$R:$R,0)-1,0),"") | X2: =IFERROR(OFFSET(Picks!U$1,MATCH($O2,Picks!$R:$R,0)-1,0),"") | Y2: =IFERROR(OFFSET(Picks!V$1,MATCH($O2,Picks!$R:$R,0)-1,0),"")
A3: {=IF(100*SUMPRODUCT((Win!F:F<>"") * IFERROR(--Win!E:E, 0))=0,"",100*SUMPRODUCT((Win!F:F<>"") * IFERROR(--Win!E:E, 0)))} -> 24.3 | B3: =IF(AND(A3="",SUM(Win!G:G)=0),"",SUM(Win!G:G)) -> 17.7125 | D3: {=IF(100*SUMPRODUCT((FRL!F:F<>"") * IFERROR(--FRL!E:E, 0))=0,"",100*SUMPRODUCT((FRL!F:F<>"") * IFERROR(--FRL!E:E, 0)))} | E3: =IF(AND(D3="",SUM(FRL!G:G)=0),"",SUM(FRL!G:G)) | G3: =IF(T3Picks!B2="","",2*(3-COUNTBLANK(T3Picks!A2:A4))) -> 6 | H3: =IF(T3Picks!B2="","",SUM(T3Picks!G2:G4)) -> 11.75 | J3: {=IF(100*SUMPRODUCT((FRL!L:L<>"") * IFERROR(--FRL!K:K, 0))=0,"",100*SUMPRODUCT((FRL!L:L<>"") * IFERROR(--FRL!K:K, 0)))} | K3: =IF(T3Picks!B5="","",SUM(T3Picks!G5:G7)) | O3: 2 | P3: =IFERROR(OFFSET(Picks!A$1,MATCH($O3,Picks!$F:$F,0)-1,0),"") -> J.C. Ritchie | Q3: =IFERROR(OFFSET(Picks!I$1,MATCH($O3,Picks!$F:$F,0)-1,0),"") -> 12.5 | R3: =IFERROR(OFFSET(Picks!J$1,MATCH($O3,Picks!$F:$F,0)-1,0),"") -> PaddyPower: 10/1, 5pl, 1/4 | V3: 2 | W3: =IFERROR(OFFSET(Picks!M$1,MATCH($O3,Picks!$R:$R,0)-1,0),"") | X3: =IFERROR(OFFSET(Picks!U$1,MATCH($O3,Picks!$R:$R,0)-1,0),"") | Y3: =IFERROR(OFFSET(Picks!V$1,MATCH($O3,Picks!$R:$R,0)-1,0),"")
O4: 3 | P4: =IFERROR(OFFSET(Picks!A$1,MATCH($O4,Picks!$F:$F,0)-1,0),"") -> Jaco Prinsloo | Q4: =IFERROR(OFFSET(Picks!I$1,MATCH($O4,Picks!$F:$F,0)-1,0),"") -> -2 | R4: =IFERROR(OFFSET(Picks!J$1,MATCH($O4,Picks!$F:$F,0)-1,0),"") -> Skybet: 33/1, 5pl, 1/4 | V4: 3 | W4: =IFERROR(OFFSET(Picks!M$1,MATCH($O4,Picks!$R:$R,0)-1,0),"") | X4: =IFERROR(OFFSET(Picks!U$1,MATCH($O4,Picks!$R:$R,0)-1,0),"") | Y4: =IFERROR(OFFSET(Picks!V$1,MATCH($O4,Picks!$R:$R,0)-1,0),"")
O5: 4 | P5: =IFERROR(OFFSET(Picks!A$1,MATCH($O5,Picks!$F:$F,0)-1,0),"") -> Deon Germishuys | Q5: =IFERROR(OFFSET(Picks!I$1,MATCH($O5,Picks!$F:$F,0)-1,0),"") -> -2 | R5: =IFERROR(OFFSET(Picks!J$1,MATCH($O5,Picks!$F:$F,0)-1,0),"") -> Unibet: 25/1, 5pl, 1/4 | V5: 4 | W5: =IFERROR(OFFSET(Picks!M$1,MATCH($O5,Picks!$R:$R,0)-1,0),"") | X5: =IFERROR(OFFSET(Picks!U$1,MATCH($O5,Picks!$R:$R,0)-1,0),"") | Y5: =IFERROR(OFFSET(Picks!V$1,MATCH($O5,Picks!$R:$R,0)-1,0),"")
O6: 5 | P6: =IFERROR(OFFSET(Picks!A$1,MATCH($O6,Picks!$F:$F,0)-1,0),"") -> Jean Hugo | Q6: =IFERROR(OFFSET(Picks!I$1,MATCH($O6,Picks!$F:$F,0)-1,0),"") -> -2 | R6: =IFERROR(OFFSET(Picks!J$1,MATCH($O6,Picks!$F:$F,0)-1,0),"") -> PaddyPower: 80/1, 5pl, 1/4 | V6: 5 | W6: =IFERROR(OFFSET(Picks!M$1,MATCH($O6,Picks!$R:$R,0)-1,0),"") | X6: =IFERROR(OFFSET(Picks!U$1,MATCH($O6,Picks!$R:$R,0)-1,0),"") | Y6: =IFERROR(OFFSET(Picks!V$1,MATCH($O6,Picks!$R:$R,0)-1,0),"")
O7: 6 | P7: =IFERROR(OFFSET(Picks!A$1,MATCH($O7,Picks!$F:$F,0)-1,0),"") -> Keenan Davidse | Q7: =IFERROR(OFFSET(Picks!I$1,MATCH($O7,Picks!$F:$F,0)-1,0),"") -> -2 | R7: =IFERROR(OFFSET(Picks!J$1,MATCH($O7,Picks!$F:$F,0)-1,0),"") -> BetMGM: 66/1, 6pl, 1/5 | V7: 6 | W7: =IFERROR(OFFSET(Picks!M$1,MATCH($O7,Picks!$R:$R,0)-1,0),"") | X7: =IFERROR(OFFSET(Picks!U$1,MATCH($O7,Picks!$R:$R,0)-1,0),"") | Y7: =IFERROR(OFFSET(Picks!V$1,MATCH($O7,Picks!$R:$R,0)-1,0),"")
O8: 7 | P8: =IFERROR(OFFSET(Picks!A$1,MATCH($O8,Picks!$F:$F,0)-1,0),"") | Q8: =IFERROR(OFFSET(Picks!I$1,MATCH($O8,Picks!$F:$F,0)-1,0),"") | R8: =IFERROR(OFFSET(Picks!J$1,MATCH($O8,Picks!$F:$F,0)-1,0),"") | V8: 7 | W8: =IFERROR(OFFSET(Picks!M$1,MATCH($O8,Picks!$R:$R,0)-1,0),"") | X8: =IFERROR(OFFSET(Picks!U$1,MATCH($O8,Picks!$R:$R,0)-1,0),"") | Y8: =IFERROR(OFFSET(Picks!V$1,MATCH($O8,Picks!$R:$R,0)-1,0),"")
O9: 8 | P9: =IFERROR(OFFSET(Picks!A$1,MATCH($O9,Picks!$F:$F,0)-1,0),"") | Q9: =IFERROR(OFFSET(Picks!I$1,MATCH($O9,Picks!$F:$F,0)-1,0),"") | R9: =IFERROR(OFFSET(Picks!J$1,MATCH($O9,Picks!$F:$F,0)-1,0),"") | V9: 8 | W9: =IFERROR(OFFSET(Picks!M$1,MATCH($O9,Picks!$R:$R,0)-1,0),"") | X9: =IFERROR(OFFSET(Picks!U$1,MATCH($O9,Picks!$R:$R,0)-1,0),"") | Y9: =IFERROR(OFFSET(Picks!V$1,MATCH($O9,Picks!$R:$R,0)-1,0),"")
O10: 9 | P10: =IFERROR(OFFSET(Picks!A$1,MATCH($O10,Picks!$F:$F,0)-1,0),"") | Q10: =IFERROR(OFFSET(Picks!I$1,MATCH($O10,Picks!$F:$F,0)-1,0),"") | R10: =IFERROR(OFFSET(Picks!J$1,MATCH($O10,Picks!$F:$F,0)-1,0),"") | V10: 9 | W10: =IFERROR(OFFSET(Picks!M$1,MATCH($O10,Picks!$R:$R,0)-1,0),"") | X10: =IFERROR(OFFSET(Picks!U$1,MATCH($O10,Picks!$R:$R,0)-1,0),"") | Y10: =IFERROR(OFFSET(Picks!V$1,MATCH($O10,Picks!$R:$R,0)-1,0),"")
O11: 10 | P11: =IFERROR(OFFSET(Picks!A$1,MATCH($O11,Picks!$F:$F,0)-1,0),"") | Q11: =IFERROR(OFFSET(Picks!I$1,MATCH($O11,Picks!$F:$F,0)-1,0),"") | R11: =IFERROR(OFFSET(Picks!J$1,MATCH($O11,Picks!$F:$F,0)-1,0),"") | V11: 10 | W11: =IFERROR(OFFSET(Picks!M$1,MATCH($O11,Picks!$R:$R,0)-1,0),"") | X11: =IFERROR(OFFSET(Picks!U$1,MATCH($O11,Picks!$R:$R,0)-1,0),"") | Y11: =IFERROR(OFFSET(Picks!V$1,MATCH($O11,Picks!$R:$R,0)-1,0),"")
O12: 11 | P12: =IFERROR(OFFSET(Picks!A$1,MATCH($O12,Picks!$F:$F,0)-1,0),"") | Q12: =IFERROR(OFFSET(Picks!I$1,MATCH($O12,Picks!$F:$F,0)-1,0),"") | R12: =IFERROR(OFFSET(Picks!J$1,MATCH($O12,Picks!$F:$F,0)-1,0),"") | V12: 11 | W12: =IFERROR(OFFSET(Picks!M$1,MATCH($O12,Picks!$R:$R,0)-1,0),"") | X12: =IFERROR(OFFSET(Picks!U$1,MATCH($O12,Picks!$R:$R,0)-1,0),"") | Y12: =IFERROR(OFFSET(Picks!V$1,MATCH($O12,Picks!$R:$R,0)-1,0),"")
O13: 12 | P13: =IFERROR(OFFSET(Picks!A$1,MATCH($O13,Picks!$F:$F,0)-1,0),"") | Q13: =IFERROR(OFFSET(Picks!I$1,MATCH($O13,Picks!$F:$F,0)-1,0),"") | R13: =IFERROR(OFFSET(Picks!J$1,MATCH($O13,Picks!$F:$F,0)-1,0),"") | V13: 12 | W13: =IFERROR(OFFSET(Picks!M$1,MATCH($O13,Picks!$R:$R,0)-1,0),"") | X13: =IFERROR(OFFSET(Picks!U$1,MATCH($O13,Picks!$R:$R,0)-1,0),"") | Y13: =IFERROR(OFFSET(Picks!V$1,MATCH($O13,Picks!$R:$R,0)-1,0),"")
A27: WIN | B27: 1 | C27: 2 | D27: 3 | E27: 4 | F27: 5 | G27: 6 | H27: 7 | I27: 8 | J27: 9 | K27: 10 | L27: 11 | M27: 12 | N27: FRL | O27: 1 | P27: 2 | Q27: 3 | R27: 4 | S27: 5 | T27: 6 | U27: 7 | V27: 8 | W27: 9 | X27: 10 | Y27: 11 | Z27: 12
B28: =Q2*3 -> 3.75 | C28: =SUM(Q2:Q3)*1.5 -> 20.625 | D28: =SUM(Q2:Q4) -> 11.75 | E28: =SUM(Q2:Q5)*3/4 -> 7.3125 | F28: =SUM(Q2:Q6)*3/5 -> 4.65 | G28: =SUM(Q2:Q7)*3/6 -> 2.875 | H28: =SUM(Q2:Q8)*3/7 -> 2.4642857 | I28: =SUM(Q2:Q9)*3/8 -> 2.15625 | J28: =SUM(Q2:Q10)*3/9 -> 1.9166667 | K28: =SUM(Q2:Q11)*3/10 -> 1.725 | L28: =SUM(Q2:Q12)*3/11 -> 1.5681818 | M28: =SUM(Q2:Q13)*3/12 -> 1.4375 | O28: =X2*3 -> #VALUE! | P28: =SUM(X2:X3)*1.5 -> 0 | Q28: =SUM(X2:X4) -> 0 | R28: =SUM(X2:X5)*3/4 -> 0 | S28: =SUM(X2:X6)*3/5 -> 0 | T28: =SUM(X2:X7)*3/6 -> 0 | U28: =SUM(X2:X8)*3/7 -> 0 | V28: =SUM(X2:X9)*3/9 -> 0 | W28: =SUM(X2:X10)*3/9 -> 0 | X28: =SUM(X2:X11)*3/10 -> 0 | Y28: =SUM(X2:X12)*3/11 -> 0 | Z28: =SUM(X2:X13)*3/12 -> 0

Sheet Win
A1: Player | B1: Win % | C1: TT Odds | D1: Best Odds | E1: Kelly | F1: Result | G1: P/L | H1: E/W Play
A2: Albert Venter | B2: 0.00% | C2: 10000 | D2: 751 | F2: =IFERROR(IF(A2="","",OFFSET(Results!$AJ$1,MATCH(A2,Results!$A:$A,0)-1,0)),"") -> 61 | G2: =IF(OR(E2="",F2=""),"",IF(F2=1,(IF(COUNTIFS(F:F,"<="&F2)<=1,1,(1-COUNTIFS(F:F,"<"&F2))/COUNTIFS(F:F,F2)))*50*E2*(1+VALUE(MID(H2,FIND(": ",H2)+2,FIND("/",H2)-FIND(":",H2)-2))-1)+50*E2*(1+VALUE(MID(H2,FIND(": ",H2)+2,FIND("/",H2)-FIND(":",H2)-2))-1)/VALUE(RIGHT(H2,1)),IF(F2<=VALUE(MID(H2,FIND(", ",H2)+2,IF(MID(H2,FIND(", ",H2)+2,1)="1",2,1))),(IF(COUNTIFS(F:F,"<="&F2)<=VALUE(MID(H2,FIND(", ",H2)+2,IF(MID(H2,FIND(", ",H2)+2,1)="1",2,1))),1,(VALUE(MID(H2,FIND(", ",H2)+2,IF(MID(H2,FIND(", ",H2)+2,1)="1",2,1)))-COUNTIFS(F:F,"<"&F2))/COUNTIFS(F:F,F2)))*(50*E2*(1+VALUE(MID(H2,FIND(": ",H2)+2,FIND("/",H2)-FIND(":",H2)-2))-1)/VALUE(RIGHT(H2,1))+50*E2)-(100*E2),-E2*100))) | H2: =IF(E2="","",OFFSET([1]SA!$AL$1,MATCH(A2,[1]SA!$E$1:$E$500,0)-1,0))
A3: Altin Van Der Merwe | B3: 2.11% | C3: 47 | D3: 41 | F3: =IFERROR(IF(A3="","",OFFSET(Results!$AJ$1,MATCH(A3,Results!$A:$A,0)-1,0)),"") -> 88 | G3: =IF(OR(E3="",F3=""),"",IF(F3=1,(IF(COUNTIFS(F:F,"<="&F3)<=1,1,(1-COUNTIFS(F:F,"<"&F3))/COUNTIFS(F:F,F3)))*50*E3*(1+VALUE(MID(H3,FIND(": ",H3)+2,FIND("/",H3)-FIND(":",H3)-2))-1)+50*E3*(1+VALUE(MID(H3,FIND(": ",H3)+2,FIND("/",H3)-FIND(":",H3)-2))-1)/VALUE(RIGHT(H3,1)),IF(F3<=VALUE(MID(H3,FIND(", ",H3)+2,IF(MID(H3,FIND(", ",H3)+2,1)="1",2,1))),(IF(COUNTIFS(F:F,"<="&F3)<=VALUE(MID(H3,FIND(", ",H3)+2,IF(MID(H3,FIND(", ",H3)+2,1)="1",2,1))),1,(VALUE(MID(H3,FIND(", ",H3)+2,IF(MID(H3,FIND(", ",H3)+2,1)="1",2,1)))-COUNTIFS(F:F,"<"&F3))/COUNTIFS(F:F,F3)))*(50*E3*(1+VALUE(MID(H3,FIND(": ",H3)+2,FIND("/",H3)-FIND(":",H3)-2))-1)/VALUE(RIGHT(H3,1))+50*E3)-(100*E3),-E3*100))) | H3: =IF(E3="","",OFFSET([1]SA!$AL$1,MATCH(A3,[1]SA!$E$1:$E$500,0)-1,0))
A4: Anthony Michael | B4: 0.13% | C4: 769 | D4: 71 | F4: =IFERROR(IF(A4="","",OFFSET(Results!$AJ$1,MATCH(A4,Results!$A:$A,0)-1,0)),"") -> 74 | G4: =IF(OR(E4="",F4=""),"",IF(F4=1,(IF(COUNTIFS(F:F,"<="&F4)<=1,1,(1-COUNTIFS(F:F,"<"&F4))/COUNTIFS(F:F,F4)))*50*E4*(1+VALUE(MID(H4,FIND(": ",H4)+2,FIND("/",H4)-FIND(":",H4)-2))-1)+50*E4*(1+VALUE(MID(H4,FIND(": ",H4)+2,FIND("/",H4)-FIND(":",H4)-2))-1)/VALUE(RIGHT(H4,1)),IF(F4<=VALUE(MID(H4,FIND(", ",H4)+2,IF(MID(H4,FIND(", ",H4)+2,1)="1",2,1))),(IF(COUNTIFS(F:F,"<="&F4)<=VALUE(MID(H4,FIND(", ",H4)+2,IF(MID(H4,FIND(", ",H4)+2,1)="1",2,1))),1,(VALUE(MID(H4,FIND(", ",H4)+2,IF(MID(H4,FIND(", ",H4)+2,1)="1",2,1)))-COUNTIFS(F:F,"<"&F4))/COUNTIFS(F:F,F4)))*(50*E4*(1+VALUE(MID(H4,FIND(": ",H4)+2,FIND("/",H4)-FIND(":",H4)-2))-1)/VALUE(RIGHT(H4,1))+50*E4)-(100*E4),-E4*100))) | H4: =IF(E4="","",OFFSET([1]SA!$AL$1,MATCH(A4,[1]SA!$E$1:$E$500,0)-1,0))
A5: Ben Van Wyk | B5: 0.80% | C5: 125 | D5: 91 | F5: =IFERROR(IF(A5="","",OFFSET(Results!$AJ$1,MATCH(A5,Results!$A:$A,0)-1,0)),"") -> 44 | G5: =IF(OR(E5="",F5=""),"",IF(F5=1,(IF(COUNTIFS(F:F,"<="&F5)<=1,1,(1-COUNTIFS(F:F,"<"&F5))/COUNTIFS(F:F,F5)))*50*E5*(1+VALUE(MID(H5,FIND(": ",H5)+2,FIND("/",H5)-FIND(":",H5)-2))-1)+50*E5*(1+VALUE(MID(H5,FIND(": ",H5)+2,FIND("/",H5)-FIND(":",H5)-2))-1)/VALUE(RIGHT(H5,1)),IF(F5<=VALUE(MID(H5,FIND(", ",H5)+2,IF(MID(H5,FIND(", ",H5)+2,1)="1",2,1))),(IF(COUNTIFS(F:F,"<="&F5)<=VALUE(MID(H5,FIND(", ",H5)+2,IF(MID(H5,FIND(", ",H5)+2,1)="1",2,1))),1,(VALUE(MID(H5,FIND(", ",H5)+2,IF(MID(H5,FIND(", ",H5)+2,1)="1",2,1)))-COUNTIFS(F:F,"<"&F5))/COUNTIFS(F:F,F5)))*(50*E5*(1+VALUE(MID(H5,FIND(": ",H5)+2,FIND("/",H5)-FIND(":",H5)-2))-1)/VALUE(RIGHT(H5,1))+50*E5)-(100*E5),-E5*100))) | H5: =IF(E5="","",OFFSET([1]SA!$AL$1,MATCH(A5,[1]SA!$E$1:$E$500,0)-1,0))
A6: Bradley De Beer | B6: 0.00% | C6: 10000 | D6: 1001 | F6: =IFERROR(IF(A6="","",OFFSET(Results!$AJ$1,MATCH(A6,Results!$A:$A,0)-1,0)),"") -> 61 | G6: =IF(OR(E6="",F6=""),"",IF(F6=1,(IF(COUNTIFS(F:F,"<="&F6)<=1,1,(1-COUNTIFS(F:F,"<"&F6))/COUNTIFS(F:F,F6)))*50*E6*(1+VALUE(MID(H6,FIND(": ",H6)+2,FIND("/",H6)-FIND(":",H6)-2))-1)+50*E6*(1+VALUE(MID(H6,FIND(": ",H6)+2,FIND("/",H6)-FIND(":",H6)-2))-1)/VALUE(RIGHT(H6,1)),IF(F6<=VALUE(MID(H6,FIND(", ",H6)+2,IF(MID(H6,FIND(", ",H6)+2,1)="1",2,1))),(IF(COUNTIFS(F:F,"<="&F6)<=VALUE(MID(H6,FIND(", ",H6)+2,IF(MID(H6,FIND(", ",H6)+2,1)="1",2,1))),1,(VALUE(MID(H6,FIND(", ",H6)+2,IF(MID(H6,FIND(", ",H6)+2,1)="1",2,1)))-COUNTIFS(F:F,"<"&F6))/COUNTIFS(F:F,F6)))*(50*E6*(1+VALUE(MID(H6,FIND(": ",H6)+2,FIND("/",H6)-FIND(":",H6)-2))-1)/VALUE(RIGHT(H6,1))+50*E6)-(100*E6),-E6*100))) | H6: =IF(E6="","",OFFSET([1]SA!$AL$1,MATCH(A6,[1]SA!$E$1:$E$500,0)-1,0))
A7: Brandon Meads | B7: 0.00% | C7: 10000 | D7: 2501 | F7: =IFERROR(IF(A7="","",OFFSET(Results!$AJ$1,MATCH(A7,Results!$A:$A,0)-1,0)),"") -> 127 | G7: =IF(OR(E7="",F7=""),"",IF(F7=1,(IF(COUNTIFS(F:F,"<="&F7)<=1,1,(1-COUNTIFS(F:F,"<"&F7))/COUNTIFS(F:F,F7)))*50*E7*(1+VALUE(MID(H7,FIND(": ",H7)+2,FIND("/",H7)-FIND(":",H7)-2))-1)+50*E7*(1+VALUE(MID(H7,FIND(": ",H7)+2,FIND("/",H7)-FIND(":",H7)-2))-1)/VALUE(RIGHT(H7,1)),IF(F7<=VALUE(MID(H7,FIND(", ",H7)+2,IF(MID(H7,FIND(", ",H7)+2,1)="1",2,1))),(IF(COUNTIFS(F:F,"<="&F7)<=VALUE(MID(H7,FIND(", ",H7)+2,IF(MID(H7,FIND(", ",H7)+2,1)="1",2,1))),1,(VALUE(MID(H7,FIND(", ",H7)+2,IF(MID(H7,FIND(", ",H7)+2,1)="1",2,1)))-COUNTIFS(F:F,"<"&F7))/COUNTIFS(F:F,F7)))*(50*E7*(1+VALUE(MID(H7,FIND(": ",H7)+2,FIND("/",H7)-FIND(":",H7)-2))-1)/VALUE(RIGHT(H7,1))+50*E7)-(100*E7),-E7*100))) | H7: =IF(E7="","",OFFSET([1]SA!$AL$1,MATCH(A7,[1]SA!$E$1:$E$500,0)-1,0))
A8: Bryce Easton | B8: 3.25% | C8: 31 | D8: 29 | F8: =IFERROR(IF(A8="","",OFFSET(Results!$AJ$1,MATCH(A8,Results!$A:$A,0)-1,0)),"") -> 4 | G8: =IF(OR(E8="",F8=""),"",IF(F8=1,(IF(COUNTIFS(F:F,"<="&F8)<=1,1,(1-COUNTIFS(F:F,"<"&F8))/COUNTIFS(F:F,F8)))*50*E8*(1+VALUE(MID(H8,FIND(": ",H8)+2,FIND("/",H8)-FIND(":",H8)-2))-1)+50*E8*(1+VALUE(MID(H8,FIND(": ",H8)+2,FIND("/",H8)-FIND(":",H8)-2))-1)/VALUE(RIGHT(H8,1)),IF(F8<=VALUE(MID(H8,FIND(", ",H8)+2,IF(MID(H8,FIND(", ",H8)+2,1)="1",2,1))),(IF(COUNTIFS(F:F,"<="&F8)<=VALUE(MID(H8,FIND(", ",H8)+2,IF(MID(H8,FIND(", ",H8)+2,1)="1",2,1))),1,(VALUE(MID(H8,FIND(", ",H8)+2,IF(MID(H8,FIND(", ",H8)+2,1)="1",2,1)))-COUNTIFS(F:F,"<"&F8))/COUNTIFS(F:F,F8)))*(50*E8*(1+VALUE(MID(H8,FIND(": ",H8)+2,FIND("/",H8)-FIND(":",H8)-2))-1)/VALUE(RIGHT(H8,1))+50*E8)-(100*E8),-E8*100))) | H8: =IF(E8="","",OFFSET([1]SA!$AL$1,MATCH(A8,[1]SA!$E$1:$E$500,0)-1,0))
A9: C.J. Du Plessis | B9: 0.21% | C9: 476 | D9: 111 | F9: =IFERROR(IF(A9="","",OFFSET(Results!$AJ$1,MATCH(A9,Results!$A:$A,0)-1,0)),"") -> 44 | G9: =IF(OR(E9="",F9=""),"",IF(F9=1,(IF(COUNTIFS(F:F,"<="&F9)<=1,1,(1-COUNTIFS(F:F,"<"&F9))/COUNTIFS(F:F,F9)))*50*E9*(1+VALUE(MID(H9,FIND(": ",H9)+2,FIND("/",H9)-FIND(":",H9)-2))-1)+50*E9*(1+VALUE(MID(H9,FIND(": ",H9)+2,FIND("/",H9)-FIND(":",H9)-2))-1)/VALUE(RIGHT(H9,1)),IF(F9<=VALUE(MID(H9,FIND(", ",H9)+2,IF(MID(H9,FIND(", ",H9)+2,1)="1",2,1))),(IF(COUNTIFS(F:F,"<="&F9)<=VALUE(MID(H9,FIND(", ",H9)+2,IF(MID(H9,FIND(", ",H9)+2,1)="1",2,1))),1,(VALUE(MID(H9,FIND(", ",H9)+2,IF(MID(H9,FIND(", ",H9)+2,1)="1",2,1)))-COUNTIFS(F:F,"<"&F9))/COUNTIFS(F:F,F9)))*(50*E9*(1+VALUE(MID(H9,FIND(": ",H9)+2,FIND("/",H9)-FIND(":",H9)-2))-1)/VALUE(RIGHT(H9,1))+50*E9)-(100*E9),-E9*100))) | H9: =IF(E9="","",OFFSET([1]SA!$AL$1,MATCH(A9,[1]SA!$E$1:$E$500,0)-1,0))
A10: Carl Mwale | B10: 0.00% | C10: 10000 | D10: 2001 | F10: =IFERROR(IF(A10="","",OFFSET(Results!$AJ$1,MATCH(A10,Results!$A:$A,0)-1,0)),"") -> 113 | G10: =IF(OR(E10="",F10=""),"",IF(F10=1,(IF(COUNTIFS(F:F,"<="&F10)<=1,1,(1-COUNTIFS(F:F,"<"&F10))/COUNTIFS(F:F,F10)))*50*E10*(1+VALUE(MID(H10,FIND(": ",H10)+2,FIND("/",H10)-FIND(":",H10)-2))-1)+50*E10*(1+VALUE(MID(H10,FIND(": ",H10)+2,FIND("/",H10)-FIND(":",H10)-2))-1)/VALUE(RIGHT(H10,1)),IF(F10<=VALUE(MID(H10,FIND(", ",H10)+2,IF(MID(H10,FIND(", ",H10)+2,1)="1",2,1))),(IF(COUNTIFS(F:F,"<="&F10)<=VALUE(MID(H10,FIND(", ",H10)+2,IF(MID(H10,FIND(", ",H10)+2,1)="1",2,1))),1,(VALUE(MID(H10,FIND(", ",H10)+2,IF(MID(H10,FIND(", ",H10)+2,1)="1",2,1)))-COUNTIFS(F:F,"<"&F10))/COUNTIFS(F:F,F10)))*(50*E10*(1+VALUE(MID(H10,FIND(": ",H10)+2,FIND("/",H10)-FIND(":",H10)-2))-1)/VALUE(RIGHT(H10,1))+50*E10)-(100*E10),-E10*100))) | H10: =IF(E10="","",OFFSET([1]SA!$AL$1,MATCH(A10,[1]SA!$E$1:$E$500,0)-1,0))
A11: Carter Rowe | B11: 0.00% | C11: 10000 | D11: 1001 | F11: =IFERROR(IF(A11="","",OFFSET(Results!$AJ$1,MATCH(A11,Results!$A:$A,0)-1,0)),"") -> 44 | G11: =IF(OR(E11="",F11=""),"",IF(F11=1,(IF(COUNTIFS(F:F,"<="&F11)<=1,1,(1-COUNTIFS(F:F,"<"&F11))/COUNTIFS(F:F,F11)))*50*E11*(1+VALUE(MID(H11,FIND(": ",H11)+2,FIND("/",H11)-FIND(":",H11)-2))-1)+50*E11*(1+VALUE(MID(H11,FIND(": ",H11)+2,FIND("/",H11)-FIND(":",H11)-2))-1)/VALUE(RIGHT(H11,1)),IF(F11<=VALUE(MID(H11,FIND(", ",H11)+2,IF(MID(H11,FIND(", ",H11)+2,1)="1",2,1))),(IF(COUNTIFS(F:F,"<="&F11)<=VALUE(MID(H11,FIND(", ",H11)+2,IF(MID(H11,FIND(", ",H11)+2,1)="1",2,1))),1,(VALUE(MID(H11,FIND(", ",H11)+2,IF(MID(H11,FIND(", ",H11)+2,1)="1",2,1)))-COUNTIFS(F:F,"<"&F11))/COUNTIFS(F:F,F11)))*(50*E11*(1+VALUE(MID(H11,FIND(": ",H11)+2,FIND("/",H11)-FIND(":",H11)-2))-1)/VALUE(RIGHT(H11,1))+50*E11)-(100*E11),-E11*100))) | H11: =IF(E11="","",OFFSET([1]SA!$AL$1,MATCH(A11,[1]SA!$E$1:$E$500,0)-1,0))
A12: Christiaan Burke | B12: 0.71% | C12: 141 | D12: 41 | F12: =IFERROR(IF(A12="","",OFFSET(Results!$AJ$1,MATCH(A12,Results!$A:$A,0)-1,0)),"") -> 2 | G12: =IF(OR(E12="",F12=""),"",IF(F12=1,(IF(COUNTIFS(F:F,"<="&F12)<=1,1,(1-COUNTIFS(F:F,"<"&F12))/COUNTIFS(F:F,F12)))*50*E12*(1+VALUE(MID(H12,FIND(": ",H12)+2,FIND("/",H12)-FIND(":",H12)-2))-1)+50*E12*(1+VALUE(MID(H12,FIND(": ",H12)+2,FIND("/",H12)-FIND(":",H12)-2))-1)/VALUE(RIGHT(H12,1)),IF(F12<=VALUE(MID(H12,FIND(", ",H12)+2,IF(MID(H12,FIND(", ",H12)+2,1)="1",2,1))),(IF(COUNTIFS(F:F,"<="&F12)<=VALUE(MID(H12,FIND(", ",H12)+2,IF(MID(H12,FIND(", ",H12)+2,1)="1",2,1))),1,(VALUE(MID(H12,FIND(", ",H12)+2,IF(MID(H12,FIND(", ",H12)+2,1)="1",2,1)))-COUNTIFS(F:F,"<"&F12))/COUNTIFS(F:F,F12)))*(50*E12*(1+VALUE(MID(H12,FIND(": ",H12)+2,FIND("/",H12)-FIND(":",H12)-2))-1)/VALUE(RIGHT(H12,1))+50*E12)-(100*E12),-E12*100))) | H12: =IF(E12="","",OFFSET([1]SA!$AL$1,MATCH(A12,[1]SA!$E$1:$E$500,0)-1,0))
A13: Christian Kriek | B13: 0.00% | C13: 10000 | D13: 2501 | F13: =IFERROR(IF(A13="","",OFFSET(Results!$AJ$1,MATCH(A13,Results!$A:$A,0)-1,0)),"") -> 44 | G13: =IF(OR(E13="",F13=""),"",IF(F13=1,(IF(COUNTIFS(F:F,"<="&F13)<=1,1,(1-COUNTIFS(F:F,"<"&F13))/COUNTIFS(F:F,F13)))*50*E13*(1+VALUE(MID(H13,FIND(": ",H13)+2,FIND("/",H13)-FIND(":",H13)-2))-1)+50*E13*(1+VALUE(MID(H13,FIND(": ",H13)+2,FIND("/",H13)-FIND(":",H13)-2))-1)/VALUE(RIGHT(H13,1)),IF(F13<=VALUE(MID(H13,FIND(", ",H13)+2,IF(MID(H13,FIND(", ",H13)+2,1)="1",2,1))),(IF(COUNTIFS(F:F,"<="&F13)<=VALUE(MID(H13,FIND(", ",H13)+2,IF(MID(H13,FIND(", ",H13)+2,1)="1",2,1))),1,(VALUE(MID(H13,FIND(", ",H13)+2,IF(MID(H13,FIND(", ",H13)+2,1)="1",2,1)))-COUNTIFS(F:F,"<"&F13))/COUNTIFS(F:F,F13)))*(50*E13*(1+VALUE(MID(H13,FIND(": ",H13)+2,FIND("/",H13)-FIND(":",H13)-2))-1)/VALUE(RIGHT(H13,1))+50*E13)-(100*E13),-E13*100))) | H13: =IF(E13="","",OFFSET([1]SA!$AL$1,MATCH(A13,[1]SA!$E$1:$E$500,0)-1,0))
... A18: David Amm | B18: 0.00% | C18: 10000 | D18: 1501 | F18: =IFERROR(IF(A18="","",OFFSET(Results!$AJ$1,MATCH(A18,Results!$A:$A,0)-1,0)),"") -> 57 | G18: =IF(OR(E18="",F18=""),"",IF(F18=1,(IF(COUNTIFS(F:F,"<="&F18)<=1,1,(1-COUNTIFS(F:F,"<"&F18))/COUNTIFS(F:F,F18)))*50*E18*(1+VALUE(MID(H18,FIND(": ",H18)+2,FIND("/",H18)-FIND(":",H18)-2))-1)+50*E18*(1+VALUE(MID(H18,FIND(": ",H18)+2,FIND("/",H18)-FIND(":",H18)-2))-1)/VALUE(RIGHT(H18,1)),IF(F18<=VALUE(MID(H18,FIND(", ",H18)+2,IF(MID(H18,FIND(", ",H18)+2,1)="1",2,1))),(IF(COUNTIFS(F:F,"<="&F18)<=VALUE(MID(H18,FIND(", ",H18)+2,IF(MID(H18,FIND(", ",H18)+2,1)="1",2,1))),1,(VALUE(MID(H18,FIND(", ",H18)+2,IF(MID(H18,FIND(", ",H18)+2,1)="1",2,1)))-COUNTIFS(F:F,"<"&F18))/COUNTIFS(F:F,F18)))*(50*E18*(1+VALUE(MID(H18,FIND(": ",H18)+2,FIND("/",H18)-FIND(":",H18)-2))-1)/VALUE(RIGHT(H18,1))+50*E18)-(100*E18),-E18*100))) | H18: =IF(E18="","",OFFSET([1]SA!$AL$1,MATCH(A18,[1]SA!$E$1:$E$500,0)-1,0))
A19: Deon Germishuys | B19: 4.95% | C19: 20 | D19: 26 | E19: 1.10% | F19: =IFERROR(IF(A19="","",OFFSET(Results!$AJ$1,MATCH(A19,Results!$A:$A,0)-1,0)),"") -> 6 | G19: =IF(OR(E19="",F19=""),"",IF(F19=1,(IF(COUNTIFS(F:F,"<="&F19)<=1,1,(1-COUNTIFS(F:F,"<"&F19))/COUNTIFS(F:F,F19)))*50*E19*(1+VALUE(MID(H19,FIND(": ",H19)+2,FIND("/",H19)-FIND(":",H19)-2))-1)+50*E19*(1+VALUE(MID(H19,FIND(": ",H19)+2,FIND("/",H19)-FIND(":",H19)-2))-1)/VALUE(RIGHT(H19,1)),IF(F19<=VALUE(MID(H19,FIND(", ",H19)+2,IF(MID(H19,FIND(", ",H19)+2,1)="1",2,1))),(IF(COUNTIFS(F:F,"<="&F19)<=VALUE(MID(H19,FIND(", ",H19)+2,IF(MID(H19,FIND(", ",H19)+2,1)="1",2,1))),1,(VALUE(MID(H19,FIND(", ",H19)+2,IF(MID(H19,FIND(", ",H19)+2,1)="1",2,1)))-COUNTIFS(F:F,"<"&F19))/COUNTIFS(F:F,F19)))*(50*E19*(1+VALUE(MID(H19,FIND(": ",H19)+2,FIND("/",H19)-FIND(":",H19)-2))-1)/VALUE(RIGHT(H19,1))+50*E19)-(100*E19),-E19*100))) -> -1.1 | H19: =IF(E19="","",OFFSET([1]SA!$AL$1,MATCH(A19,[1]SA!$E$1:$E$500,0)-1,0)) -> Unibet: 25/1, 5pl, 1/4
A20: Dylan Mostert | B20: 0.01% | C20: 10000 | D20: 501 | F20: =IFERROR(IF(A20="","",OFFSET(Results!$AJ$1,MATCH(A20,Results!$A:$A,0)-1,0)),"") -> 122 | G20: =IF(OR(E20="",F20=""),"",IF(F20=1,(IF(COUNTIFS(F:F,"<="&F20)<=1,1,(1-COUNTIFS(F:F,"<"&F20))/COUNTIFS(F:F,F20)))*50*E20*(1+VALUE(MID(H20,FIND(": ",H20)+2,FIND("/",H20)-FIND(":",H20)-2))-1)+50*E20*(1+VALUE(MID(H20,FIND(": ",H20)+2,FIND("/",H20)-FIND(":",H20)-2))-1)/VALUE(RIGHT(H20,1)),IF(F20<=VALUE(MID(H20,FIND(", ",H20)+2,IF(MID(H20,FIND(", ",H20)+2,1)="1",2,1))),(IF(COUNTIFS(F:F,"<="&F20)<=VALUE(MID(H20,FIND(", ",H20)+2,IF(MID(H20,FIND(", ",H20)+2,1)="1",2,1))),1,(VALUE(MID(H20,FIND(", ",H20)+2,IF(MID(H20,FIND(", ",H20)+2,1)="1",2,1)))-COUNTIFS(F:F,"<"&F20))/COUNTIFS(F:F,F20)))*(50*E20*(1+VALUE(MID(H20,FIND(": ",H20)+2,FIND("/",H20)-FIND(":",H20)-2))-1)/VALUE(RIGHT(H20,1))+50*E20)-(100*E20),-E20*100))) | H20: =IF(E20="","",OFFSET([1]SA!$AL$1,MATCH(A20,[1]SA!$E$1:$E$500,0)-1,0))
A21: Eric Wowor | B21: 0.00% | C21: 10000 | D21: 2501 | F21: =IFERROR(IF(A21="","",OFFSET(Results!$AJ$1,MATCH(A21,Results!$A:$A,0)-1,0)),"") -> 96 | G21: =IF(OR(E21="",F21=""),"",IF(F21=1,(IF(COUNTIFS(F:F,"<="&F21)<=1,1,(1-COUNTIFS(F:F,"<"&F21))/COUNTIFS(F:F,F21)))*50*E21*(1+VALUE(MID(H21,FIND(": ",H21)+2,FIND("/",H21)-FIND(":",H21)-2))-1)+50*E21*(1+VALUE(MID(H21,FIND(": ",H21)+2,FIND("/",H21)-FIND(":",H21)-2))-1)/VALUE(RIGHT(H21,1)),IF(F21<=VALUE(MID(H21,FIND(", ",H21)+2,IF(MID(H21,FIND(", ",H21)+2,1)="1",2,1))),(IF(COUNTIFS(F:F,"<="&F21)<=VALUE(MID(H21,FIND(", ",H21)+2,IF(MID(H21,FIND(", ",H21)+2,1)="1",2,1))),1,(VALUE(MID(H21,FIND(", ",H21)+2,IF(MID(H21,FIND(", ",H21)+2,1)="1",2,1)))-COUNTIFS(F:F,"<"&F21))/COUNTIFS(F:F,F21)))*(50*E21*(1+VALUE(MID(H21,FIND(": ",H21)+2,FIND("/",H21)-FIND(":",H21)-2))-1)/VALUE(RIGHT(H21,1))+50*E21)-(100*E21),-E21*100))) | H21: =IF(E21="","",OFFSET([1]SA!$AL$1,MATCH(A21,[1]SA!$E$1:$E$500,0)-1,0))
A22: Estiaan Conradie | B22: 0.12% | C22: 833 | D22: 201 | F22: =IFERROR(IF(A22="","",OFFSET(Results!$AJ$1,MATCH(A22,Results!$A:$A,0)-1,0)),"") -> 8 | G22: =IF(OR(E22="",F22=""),"",IF(F22=1,(IF(COUNTIFS(F:F,"<="&F22)<=1,1,(1-COUNTIFS(F:F,"<"&F22))/COUNTIFS(F:F,F22)))*50*E22*(1+VALUE(MID(H22,FIND(": ",H22)+2,FIND("/",H22)-FIND(":",H22)-2))-1)+50*E22*(1+VALUE(MID(H22,FIND(": ",H22)+2,FIND("/",H22)-FIND(":",H22)-2))-1)/VALUE(RIGHT(H22,1)),IF(F22<=VALUE(MID(H22,FIND(", ",H22)+2,IF(MID(H22,FIND(", ",H22)+2,1)="1",2,1))),(IF(COUNTIFS(F:F,"<="&F22)<=VALUE(MID(H22,FIND(", ",H22)+2,IF(MID(H22,FIND(", ",H22)+2,1)="1",2,1))),1,(VALUE(MID(H22,FIND(", ",H22)+2,IF(MID(H22,FIND(", ",H22)+2,1)="1",2,1)))-COUNTIFS(F:F,"<"&F22))/COUNTIFS(F:F,F22)))*(50*E22*(1+VALUE(MID(H22,FIND(": ",H22)+2,FIND("/",H22)-FIND(":",H22)-2))-1)/VALUE(RIGHT(H22,1))+50*E22)-(100*E22),-E22*100))) | H22: =IF(E22="","",OFFSET([1]SA!$AL$1,MATCH(A22,[1]SA!$E$1:$E$500,0)-1,0))
A23: Ethan Smith | B23: 0.09% | C23: 1111 | D23: 201 | F23: =IFERROR(IF(A23="","",OFFSET(Results!$AJ$1,MATCH(A23,Results!$A:$A,0)-1,0)),"") -> 15 | G23: =IF(OR(E23="",F23=""),"",IF(F23=1,(IF(COUNTIFS(F:F,"<="&F23)<=1,1,(1-COUNTIFS(F:F,"<"&F23))/COUNTIFS(F:F,F23)))*50*E23*(1+VALUE(MID(H23,FIND(": ",H23)+2,FIND("/",H23)-FIND(":",H23)-2))-1)+50*E23*(1+VALUE(MID(H23,FIND(": ",H23)+2,FIND("/",H23)-FIND(":",H23)-2))-1)/VALUE(RIGHT(H23,1)),IF(F23<=VALUE(MID(H23,FIND(", ",H23)+2,IF(MID(H23,FIND(", ",H23)+2,1)="1",2,1))),(IF(COUNTIFS(F:F,"<="&F23)<=VALUE(MID(H23,FIND(", ",H23)+2,IF(MID(H23,FIND(", ",H23)+2,1)="1",2,1))),1,(VALUE(MID(H23,FIND(", ",H23)+2,IF(MID(H23,FIND(", ",H23)+2,1)="1",2,1)))-COUNTIFS(F:F,"<"&F23))/COUNTIFS(F:F,F23)))*(50*E23*(1+VALUE(MID(H23,FIND(": ",H23)+2,FIND("/",H23)-FIND(":",H23)-2))-1)/VALUE(RIGHT(H23,1))+50*E23)-(100*E23),-E23*100))) | H23: =IF(E23="","",OFFSET([1]SA!$AL$1,MATCH(A23,[1]SA!$E$1:$E$500,0)-1,0))
A24: Franklin Manchest | B24: 0.00% | C24: 10000 | D24: 1001 | F24: =IFERROR(IF(A24="","",OFFSET(Results!$AJ$1,MATCH(A24,Results!$A:$A,0)-1,0)),"") -> 122 | G24: =IF(OR(E24="",F24=""),"",IF(F24=1,(IF(COUNTIFS(F:F,"<="&F24)<=1,1,(1-COUNTIFS(F:F,"<"&F24))/COUNTIFS(F:F,F24)))*50*E24*(1+VALUE(MID(H24,FIND(": ",H24)+2,FIND("/",H24)-FIND(":",H24)-2))-1)+50*E24*(1+VALUE(MID(H24,FIND(": ",H24)+2,FIND("/",H24)-FIND(":",H24)-2))-1)/VALUE(RIGHT(H24,1)),IF(F24<=VALUE(MID(H24,FIND(", ",H24)+2,IF(MID(H24,FIND(", ",H24)+2,1)="1",2,1))),(IF(COUNTIFS(F:F,"<="&F24)<=VALUE(MID(H24,FIND(", ",H24)+2,IF(MID(H24,FIND(", ",H24)+2,1)="1",2,1))),1,(VALUE(MID(H24,FIND(", ",H24)+2,IF(MID(H24,FIND(", ",H24)+2,1)="1",2,1)))-COUNTIFS(F:F,"<"&F24))/COUNTIFS(F:F,F24)))*(50*E24*(1+VALUE(MID(H24,FIND(": ",H24)+2,FIND("/",H24)-FIND(":",H24)-2))-1)/VALUE(RIGHT(H24,1))+50*E24)-(100*E24),-E24*100))) | H24: =IF(E24="","",OFFSET([1]SA!$AL$1,MATCH(A24,[1]SA!$E$1:$E$500,0)-1,0))
A25: Gerhard Pepler | B25: 0.57% | C25: 175 | D25: 71 | F25: =IFERROR(IF(A25="","",OFFSET(Results!$AJ$1,MATCH(A25,Results!$A:$A,0)-1,0)),"") -> 44 | G25: =IF(OR(E25="",F25=""),"",IF(F25=1,(IF(COUNTIFS(F:F,"<="&F25)<=1,1,(1-COUNTIFS(F:F,"<"&F25))/COUNTIFS(F:F,F25)))*50*E25*(1+VALUE(MID(H25,FIND(": ",H25)+2,FIND("/",H25)-FIND(":",H25)-2))-1)+50*E25*(1+VALUE(MID(H25,FIND(": ",H25)+2,FIND("/",H25)-FIND(":",H25)-2))-1)/VALUE(RIGHT(H25,1)),IF(F25<=VALUE(MID(H25,FIND(", ",H25)+2,IF(MID(H25,FIND(", ",H25)+2,1)="1",2,1))),(IF(COUNTIFS(F:F,"<="&F25)<=VALUE(MID(H25,FIND(", ",H25)+2,IF(MID(H25,FIND(", ",H25)+2,1)="1",2,1))),1,(VALUE(MID(H25,FIND(", ",H25)+2,IF(MID(H25,FIND(", ",H25)+2,1)="1",2,1)))-COUNTIFS(F:F,"<"&F25))/COUNTIFS(F:F,F25)))*(50*E25*(1+VALUE(MID(H25,FIND(": ",H25)+2,FIND("/",H25)-FIND(":",H25)-2))-1)/VALUE(RIGHT(H25,1))+50*E25)-(100*E25),-E25*100))) | H25: =IF(E25="","",OFFSET([1]SA!$AL$1,MATCH(A25,[1]SA!$E$1:$E$500,0)-1,0))
A26: Graham Van Der Merwe | B26: 0.32% | C26: 313 | D26: 151 | F26: =IFERROR(IF(A26="","",OFFSET(Results!$AJ$1,MATCH(A26,Results!$A:$A,0)-1,0)),"") -> 30 | G26: =IF(OR(E26="",F26=""),"",IF(F26=1,(IF(COUNTIFS(F:F,"<="&F26)<=1,1,(1-COUNTIFS(F:F,"<"&F26))/COUNTIFS(F:F,F26)))*50*E26*(1+VALUE(MID(H26,FIND(": ",H26)+2,FIND("/",H26)-FIND(":",H26)-2))-1)+50*E26*(1+VALUE(MID(H26,FIND(": ",H26)+2,FIND("/",H26)-FIND(":",H26)-2))-1)/VALUE(RIGHT(H26,1)),IF(F26<=VALUE(MID(H26,FIND(", ",H26)+2,IF(MID(H26,FIND(", ",H26)+2,1)="1",2,1))),(IF(COUNTIFS(F:F,"<="&F26)<=VALUE(MID(H26,FIND(", ",H26)+2,IF(MID(H26,FIND(", ",H26)+2,1)="1",2,1))),1,(VALUE(MID(H26,FIND(", ",H26)+2,IF(MID(H26,FIND(", ",H26)+2,1)="1",2,1)))-COUNTIFS(F:F,"<"&F26))/COUNTIFS(F:F,F26)))*(50*E26*(1+VALUE(MID(H26,FIND(": ",H26)+2,FIND("/",H26)-FIND(":",H26)-2))-1)/VALUE(RIGHT(H26,1))+50*E26)-(100*E26),-E26*100))) | H26: =IF(E26="","",OFFSET([1]SA!$AL$1,MATCH(A26,[1]SA!$E$1:$E$500,0)-1,0))
A27: Gregory Mckay | B27: 0.01% | C27: 10000 | D27: 401 | F27: =IFERROR(IF(A27="","",OFFSET(Results!$AJ$1,MATCH(A27,Results!$A:$A,0)-1,0)),"") -> 122 | G27: =IF(OR(E27="",F27=""),"",IF(F27=1,(IF(COUNTIFS(F:F,"<="&F27)<=1,1,(1-COUNTIFS(F:F,"<"&F27))/COUNTIFS(F:F,F27)))*50*E27*(1+VALUE(MID(H27,FIND(": ",H27)+2,FIND("/",H27)-FIND(":",H27)-2))-1)+50*E27*(1+VALUE(MID(H27,FIND(": ",H27)+2,FIND("/",H27)-FIND(":",H27)-2))-1)/VALUE(RIGHT(H27,1)),IF(F27<=VALUE(MID(H27,FIND(", ",H27)+2,IF(MID(H27,FIND(", ",H27)+2,1)="1",2,1))),(IF(COUNTIFS(F:F,"<="&F27)<=VALUE(MID(H27,FIND(", ",H27)+2,IF(MID(H27,FIND(", ",H27)+2,1)="1",2,1))),1,(VALUE(MID(H27,FIND(", ",H27)+2,IF(MID(H27,FIND(", ",H27)+2,1)="1",2,1)))-COUNTIFS(F:F,"<"&F27))/COUNTIFS(F:F,F27)))*(50*E27*(1+VALUE(MID(H27,FIND(": ",H27)+2,FIND("/",H27)-FIND(":",H27)-2))-1)/VALUE(RIGHT(H27,1))+50*E27)-(100*E27),-E27*100))) | H27: =IF(E27="","",OFFSET([1]SA!$AL$1,MATCH(A27,[1]SA!$E$1:$E$500,0)-1,0))
A28: Hayden Griffiths | B28: 0.01% | C28: 10000 | D28: 501 | F28: =IFERROR(IF(A28="","",OFFSET(Results!$AJ$1,MATCH(A28,Results!$A:$A,0)-1,0)),"") -> 36 | G28: =IF(OR(E28="",F28=""),"",IF(F28=1,(IF(COUNTIFS(F:F,"<="&F28)<=1,1,(1-COUNTIFS(F:F,"<"&F28))/COUNTIFS(F:F,F28)))*50*E28*(1+VALUE(MID(H28,FIND(": ",H28)+2,FIND("/",H28)-FIND(":",H28)-2))-1)+50*E28*(1+VALUE(MID(H28,FIND(": ",H28)+2,FIND("/",H28)-FIND(":",H28)-2))-1)/VALUE(RIGHT(H28,1)),IF(F28<=VALUE(MID(H28,FIND(", ",H28)+2,IF(MID(H28,FIND(", ",H28)+2,1)="1",2,1))),(IF(COUNTIFS(F:F,"<="&F28)<=VALUE(MID(H28,FIND(", ",H28)+2,IF(MID(H28,FIND(", ",H28)+2,1)="1",2,1))),1,(VALUE(MID(H28,FIND(", ",H28)+2,IF(MID(H28,FIND(", ",H28)+2,1)="1",2,1)))-COUNTIFS(F:F,"<"&F28))/COUNTIFS(F:F,F28)))*(50*E28*(1+VALUE(MID(H28,FIND(": ",H28)+2,FIND("/",H28)-FIND(":",H28)-2))-1)/VALUE(RIGHT(H28,1))+50*E28)-(100*E28),-E28*100))) | H28: =IF(E28="","",OFFSET([1]SA!$AL$1,MATCH(A28,[1]SA!$E$1:$E$500,0)-1,0))
A29: Haydn Porteous | B29: 1.11% | C29: 90 | D29: 51 | F29: =IFERROR(IF(A29="","",OFFSET(Results!$AJ$1,MATCH(A29,Results!$A:$A,0)-1,0)),"") -> 106 | G29: =IF(OR(E29="",F29=""),"",IF(F29=1,(IF(COUNTIFS(F:F,"<="&F29)<=1,1,(1-COUNTIFS(F:F,"<"&F29))/COUNTIFS(F:F,F29)))*50*E29*(1+VALUE(MID(H29,FIND(": ",H29)+2,FIND("/",H29)-FIND(":",H29)-2))-1)+50*E29*(1+VALUE(MID(H29,FIND(": ",H29)+2,FIND("/",H29)-FIND(":",H29)-2))-1)/VALUE(RIGHT(H29,1)),IF(F29<=VALUE(MID(H29,FIND(", ",H29)+2,IF(MID(H29,FIND(", ",H29)+2,1)="1",2,1))),(IF(COUNTIFS(F:F,"<="&F29)<=VALUE(MID(H29,FIND(", ",H29)+2,IF(MID(H29,FIND(", ",H29)+2,1)="1",2,1))),1,(VALUE(MID(H29,FIND(", ",H29)+2,IF(MID(H29,FIND(", ",H29)+2,1)="1",2,1)))-COUNTIFS(F:F,"<"&F29))/COUNTIFS(F:F,F29)))*(50*E29*(1+VALUE(MID(H29,FIND(": ",H29)+2,FIND("/",H29)-FIND(":",H29)-2))-1)/VALUE(RIGHT(H29,1))+50*E29)-(100*E29),-E29*100))) | H29: =IF(E29="","",OFFSET([1]SA!$AL$1,MATCH(A29,[1]SA!$E$1:$E$500,0)-1,0))
A30: Heinrich Bruiners | B30: 0.27% | C30: 370 | D30: 111 | F30: =IFERROR(IF(A30="","",OFFSET(Results!$AJ$1,MATCH(A30,Results!$A:$A,0)-1,0)),"") -> 81 | G30: =IF(OR(E30="",F30=""),"",IF(F30=1,(IF(COUNTIFS(F:F,"<="&F30)<=1,1,(1-COUNTIFS(F:F,"<"&F30))/COUNTIFS(F:F,F30)))*50*E30*(1+VALUE(MID(H30,FIND(": ",H30)+2,FIND("/",H30)-FIND(":",H30)-2))-1)+50*E30*(1+VALUE(MID(H30,FIND(": ",H30)+2,FIND("/",H30)-FIND(":",H30)-2))-1)/VALUE(RIGHT(H30,1)),IF(F30<=VALUE(MID(H30,FIND(", ",H30)+2,IF(MID(H30,FIND(", ",H30)+2,1)="1",2,1))),(IF(COUNTIFS(F:F,"<="&F30)<=VALUE(MID(H30,FIND(", ",H30)+2,IF(MID(H30,FIND(", ",H30)+2,1)="1",2,1))),1,(VALUE(MID(H30,FIND(", ",H30)+2,IF(MID(H30,FIND(", ",H30)+2,1)="1",2,1)))-COUNTIFS(F:F,"<"&F30))/COUNTIFS(F:F,F30)))*(50*E30*(1+VALUE(MID(H30,FIND(": ",H30)+2,FIND("/",H30)-FIND(":",H30)-2))-1)/VALUE(RIGHT(H30,1))+50*E30)-(100*E30),-E30*100))) | H30: =IF(E30="","",OFFSET([1]SA!$AL$1,MATCH(A30,[1]SA!$E$1:$E$500,0)-1,0))
A31: Hennie Du Plessis | B31: 28.48% | C31: 3.5 | D31: 10 | E31: 20.50% | F31: =IFERROR(IF(A31="","",OFFSET(Results!$AJ$1,MATCH(A31,Results!$A:$A,0)-1,0)),"") -> 4 | G31: =IF(OR(E31="",F31=""),"",IF(F31=1,(IF(COUNTIFS(F:F,"<="&F31)<=1,1,(1-COUNTIFS(F:F,"<"&F31))/COUNTIFS(F:F,F31)))*50*E31*(1+VALUE(MID(H31,FIND(": ",H31)+2,FIND("/",H31)-FIND(":",H31)-2))-1)+50*E31*(1+VALUE(MID(H31,FIND(": ",H31)+2,FIND("/",H31)-FIND(":",H31)-2))-1)/VALUE(RIGHT(H31,1)),IF(F31<=VALUE(MID(H31,FIND(", ",H31)+2,IF(MID(H31,FIND(", ",H31)+2,1)="1",2,1))),(IF(COUNTIFS(F:F,"<="&F31)<=VALUE(MID(H31,FIND(", ",H31)+2,IF(MID(H31,FIND(", ",H31)+2,1)="1",2,1))),1,(VALUE(MID(H31,FIND(", ",H31)+2,IF(MID(H31,FIND(", ",H31)+2,1)="1",2,1)))-COUNTIFS(F:F,"<"&F31))/COUNTIFS(F:F,F31)))*(50*E31*(1+VALUE(MID(H31,FIND(": ",H31)+2,FIND("/",H31)-FIND(":",H31)-2))-1)/VALUE(RIGHT(H31,1))+50*E31)-(100*E31),-E31*100))) -> 12.8125 | H31: =IF(E31="","",OFFSET([1]SA!$AL$1,MATCH(A31,[1]SA!$E$1:$E$500,0)-1,0)) -> Ladbrokes: 9/1, 5pl, 1/4
A32: Hennie Otto | B32: 0.12% | C32: 833 | D32: 151 | F32: =IFERROR(IF(A32="","",OFFSET(Results!$AJ$1,MATCH(A32,Results!$A:$A,0)-1,0)),"") -> 74 | G32: =IF(OR(E32="",F32=""),"",IF(F32=1,(IF(COUNTIFS(F:F,"<="&F32)<=1,1,(1-COUNTIFS(F:F,"<"&F32))/COUNTIFS(F:F,F32)))*50*E32*(1+VALUE(MID(H32,FIND(": ",H32)+2,FIND("/",H32)-FIND(":",H32)-2))-1)+50*E32*(1+VALUE(MID(H32,FIND(": ",H32)+2,FIND("/",H32)-FIND(":",H32)-2))-1)/VALUE(RIGHT(H32,1)),IF(F32<=VALUE(MID(H32,FIND(", ",H32)+2,IF(MID(H32,FIND(", ",H32)+2,1)="1",2,1))),(IF(COUNTIFS(F:F,"<="&F32)<=VALUE(MID(H32,FIND(", ",H32)+2,IF(MID(H32,FIND(", ",H32)+2,1)="1",2,1))),1,(VALUE(MID(H32,FIND(", ",H32)+2,IF(MID(H32,FIND(", ",H32)+2,1)="1",2,1)))-COUNTIFS(F:F,"<"&F32))/COUNTIFS(F:F,F32)))*(50*E32*(1+VALUE(MID(H32,FIND(": ",H32)+2,FIND("/",H32)-FIND(":",H32)-2))-1)/VALUE(RIGHT(H32,1))+50*E32)-(100*E32),-E32*100))) | H32: =IF(E32="","",OFFSET([1]SA!$AL$1,MATCH(A32,[1]SA!$E$1:$E$500,0)-1,0))
A33: Herman Loubser | B33: 0.95% | C33: 105 | D33: 41 | F33: =IFERROR(IF(A33="","",OFFSET(Results!$AJ$1,MATCH(A33,Results!$A:$A,0)-1,0)),"") -> 11 | G33: =IF(OR(E33="",F33=""),"",IF(F33=1,(IF(COUNTIFS(F:F,"<="&F33)<=1,1,(1-COUNTIFS(F:F,"<"&F33))/COUNTIFS(F:F,F33)))*50*E33*(1+VALUE(MID(H33,FIND(": ",H33)+2,FIND("/",H33)-FIND(":",H33)-2))-1)+50*E33*(1+VALUE(MID(H33,FIND(": ",H33)+2,FIND("/",H33)-FIND(":",H33)-2))-1)/VALUE(RIGHT(H33,1)),IF(F33<=VALUE(MID(H33,FIND(", ",H33)+2,IF(MID(H33,FIND(", ",H33)+2,1)="1",2,1))),(IF(COUNTIFS(F:F,"<="&F33)<=VALUE(MID(H33,FIND(", ",H33)+2,IF(MID(H33,FIND(", ",H33)+2,1)="1",2,1))),1,(VALUE(MID(H33,FIND(", ",H33)+2,IF(MID(H33,FIND(", ",H33)+2,1)="1",2,1)))-COUNTIFS(F:F,"<"&F33))/COUNTIFS(F:F,F33)))*(50*E33*(1+VALUE(MID(H33,FIND(": ",H33)+2,FIND("/",H33)-FIND(":",H33)-2))-1)/VALUE(RIGHT(H33,1))+50*E33)-(100*E33),-E33*100))) | H33: =IF(E33="","",OFFSET([1]SA!$AL$1,MATCH(A33,[1]SA!$E$1:$E$500,0)-1,0))
A34: Hunter Epson | B34: 0.01% | C34: 10000 | D34: 1001 | F34: =IFERROR(IF(A34="","",OFFSET(Results!$AJ$1,MATCH(A34,Results!$A:$A,0)-1,0)),"") -> 81 | G34: =IF(OR(E34="",F34=""),"",IF(F34=1,(IF(COUNTIFS(F:F,"<="&F34)<=1,1,(1-COUNTIFS(F:F,"<"&F34))/COUNTIFS(F:F,F34)))*50*E34*(1+VALUE(MID(H34,FIND(": ",H34)+2,FIND("/",H34)-FIND(":",H34)-2))-1)+50*E34*(1+VALUE(MID(H34,FIND(": ",H34)+2,FIND("/",H34)-FIND(":",H34)-2))-1)/VALUE(RIGHT(H34,1)),IF(F34<=VALUE(MID(H34,FIND(", ",H34)+2,IF(MID(H34,FIND(", ",H34)+2,1)="1",2,1))),(IF(COUNTIFS(F:F,"<="&F34)<=VALUE(MID(H34,FIND(", ",H34)+2,IF(MID(H34,FIND(", ",H34)+2,1)="1",2,1))),1,(VALUE(MID(H34,FIND(", ",H34)+2,IF(MID(H34,FIND(", ",H34)+2,1)="1",2,1)))-COUNTIFS(F:F,"<"&F34))/COUNTIFS(F:F,F34)))*(50*E34*(1+VALUE(MID(H34,FIND(": ",H34)+2,FIND("/",H34)-FIND(":",H34)-2))-1)/VALUE(RIGHT(H34,1))+50*E34)-(100*E34),-E34*100))) | H34: =IF(E34="","",OFFSET([1]SA!$AL$1,MATCH(A34,[1]SA!$E$1:$E$500,0)-1,0))
A35: J.C. Ritchie | B35: 10.17% | C35: 9.8 | D35: 11 | E35: 1.20% | F35: =IFERROR(IF(A35="","",OFFSET(Results!$AJ$1,MATCH(A35,Results!$A:$A,0)-1,0)),"") -> 1 | G35: =IF(OR(E35="",F35=""),"",IF(F35=1,(IF(COUNTIFS(F:F,"<="&F35)<=1,1,(1-COUNTIFS(F:F,"<"&F35))/COUNTIFS(F:F,F35)))*50*E35*(1+VALUE(MID(H35,FIND(": ",H35)+2,FIND("/",H35)-FIND(":",H35)-2))-1)+50*E35*(1+VALUE(MID(H35,FIND(": ",H35)+2,FIND("/",H35)-FIND(":",H35)-2))-1)/VALUE(RIGHT(H35,1)),IF(F35<=VALUE(MID(H35,FIND(", ",H35)+2,IF(MID(H35,FIND(", ",H35)+2,1)="1",2,1))),(IF(COUNTIFS(F:F,"<="&F35)<=VALUE(MID(H35,FIND(", ",H35)+2,IF(MID(H35,FIND(", ",H35)+2,1)="1",2,1))),1,(VALUE(MID(H35,FIND(", ",H35)+2,IF(MID(H35,FIND(", ",H35)+2,1)="1",2,1)))-COUNTIFS(F:F,"<"&F35))/COUNTIFS(F:F,F35)))*(50*E35*(1+VALUE(MID(H35,FIND(": ",H35)+2,FIND("/",H35)-FIND(":",H35)-2))-1)/VALUE(RIGHT(H35,1))+50*E35)-(100*E35),-E35*100))) -> 7.5 | H35: =IF(E35="","",OFFSET([1]SA!$AL$1,MATCH(A35,[1]SA!$E$1:$E$500,0)-1,0)) -> PaddyPower: 10/1, 5pl, 1/4
A36: J.J. Senekal | B36: 0.46% | C36: 217 | D36: 151 | F36: =IFERROR(IF(A36="","",OFFSET(Results!$AJ$1,MATCH(A36,Results!$A:$A,0)-1,0)),"") -> 43 | G36: =IF(OR(E36="",F36=""),"",IF(F36=1,(IF(COUNTIFS(F:F,"<="&F36)<=1,1,(1-COUNTIFS(F:F,"<"&F36))/COUNTIFS(F:F,F36)))*50*E36*(1+VALUE(MID(H36,FIND(": ",H36)+2,FIND("/",H36)-FIND(":",H36)-2))-1)+50*E36*(1+VALUE(MID(H36,FIND(": ",H36)+2,FIND("/",H36)-FIND(":",H36)-2))-1)/VALUE(RIGHT(H36,1)),IF(F36<=VALUE(MID(H36,FIND(", ",H36)+2,IF(MID(H36,FIND(", ",H36)+2,1)="1",2,1))),(IF(COUNTIFS(F:F,"<="&F36)<=VALUE(MID(H36,FIND(", ",H36)+2,IF(MID(H36,FIND(", ",H36)+2,1)="1",2,1))),1,(VALUE(MID(H36,FIND(", ",H36)+2,IF(MID(H36,FIND(", ",H36)+2,1)="1",2,1)))-COUNTIFS(F:F,"<"&F36))/COUNTIFS(F:F,F36)))*(50*E36*(1+VALUE(MID(H36,FIND(": ",H36)+2,FIND("/",H36)-FIND(":",H36)-2))-1)/VALUE(RIGHT(H36,1))+50*E36)-(100*E36),-E36*100))) | H36: =IF(E36="","",OFFSET([1]SA!$AL$1,MATCH(A36,[1]SA!$E$1:$E$500,0)-1,0))
A37: Jaco Prinsloo | B37: 4.06% | C37: 25 | D37: 34 | E37: 1.20% | F37: =IFERROR(IF(A37="","",OFFSET(Results!$AJ$1,MATCH(A37,Results!$A:$A,0)-1,0)),"") -> 11 | G37: =IF(OR(E37="",F37=""),"",IF(F37=1,(IF(COUNTIFS(F:F,"<="&F37)<=1,1,(1-COUNTIFS(F:F,"<"&F37))/COUNTIFS(F:F,F37)))*50*E37*(1+VALUE(MID(H37,FIND(": ",H37)+2,FIND("/",H37)-FIND(":",H37)-2))-1)+50*E37*(1+VALUE(MID(H37,FIND(": ",H37)+2,FIND("/",H37)-FIND(":",H37)-2))-1)/VALUE(RIGHT(H37,1)),IF(F37<=VALUE(MID(H37,FIND(", ",H37)+2,IF(MID(H37,FIND(", ",H37)+2,1)="1",2,1))),(IF(COUNTIFS(F:F,"<="&F37)<=VALUE(MID(H37,FIND(", ",H37)+2,IF(MID(H37,FIND(", ",H37)+2,1)="1",2,1))),1,(VALUE(MID(H37,FIND(", ",H37)+2,IF(MID(H37,FIND(", ",H37)+2,1)="1",2,1)))-COUNTIFS(F:F,"<"&F37))/COUNTIFS(F:F,F37)))*(50*E37*(1+VALUE(MID(H37,FIND(": ",H37)+2,FIND("/",H37)-FIND(":",H37)-2))-1)/VALUE(RIGHT(H37,1))+50*E37)-(100*E37),-E37*100))) -> -1.2 | H37: =IF(E37="","",OFFSET([1]SA!$AL$1,MATCH(A37,[1]SA!$E$1:$E$500,0)-1,0)) -> Skybet: 33/1, 5pl, 1/4
A38: Jacques Blaauw | B38: 0.53% | C38: 189 | D38: 81 | F38: =IFERROR(IF(A38="","",OFFSET(Results!$AJ$1,MATCH(A38,Results!$A:$A,0)-1,0)),"") -> 19 | G38: =IF(OR(E38="",F38=""),"",IF(F38=1,(IF(COUNTIFS(F:F,"<="&F38)<=1,1,(1-COUNTIFS(F:F,"<"&F38))/COUNTIFS(F:F,F38)))*50*E38*(1+VALUE(MID(H38,FIND(": ",H38)+2,FIND("/",H38)-FIND(":",H38)-2))-1)+50*E38*(1+VALUE(MID(H38,FIND(": ",H38)+2,FIND("/",H38)-FIND(":",H38)-2))-1)/VALUE(RIGHT(H38,1)),IF(F38<=VALUE(MID(H38,FIND(", ",H38)+2,IF(MID(H38,FIND(", ",H38)+2,1)="1",2,1))),(IF(COUNTIFS(F:F,"<="&F38)<=VALUE(MID(H38,FIND(", ",H38)+2,IF(MID(H38,FIND(", ",H38)+2,1)="1",2,1))),1,(VALUE(MID(H38,FIND(", ",H38)+2,IF(MID(H38,FIND(", ",H38)+2,1)="1",2,1)))-COUNTIFS(F:F,"<"&F38))/COUNTIFS(F:F,F38)))*(50*E38*(1+VALUE(MID(H38,FIND(": ",H38)+2,FIND("/",H38)-FIND(":",H38)-2))-1)/VALUE(RIGHT(H38,1))+50*E38)-(100*E38),-E38*100))) | H38: =IF(E38="","",OFFSET([1]SA!$AL$1,MATCH(A38,[1]SA!$E$1:$E$500,0)-1,0))
A39: Jacques De Villiers | B39: 0.27% | C39: 370 | D39: 111 | F39: =IFERROR(IF(A39="","",OFFSET(Results!$AJ$1,MATCH(A39,Results!$A:$A,0)-1,0)),"") -> 106 | G39: =IF(OR(E39="",F39=""),"",IF(F39=1,(IF(COUNTIFS(F:F,"<="&F39)<=1,1,(1-COUNTIFS(F:F,"<"&F39))/COUNTIFS(F:F,F39)))*50*E39*(1+VALUE(MID(H39,FIND(": ",H39)+2,FIND("/",H39)-FIND(":",H39)-2))-1)+50*E39*(1+VALUE(MID(H39,FIND(": ",H39)+2,FIND("/",H39)-FIND(":",H39)-2))-1)/VALUE(RIGHT(H39,1)),IF(F39<=VALUE(MID(H39,FIND(", ",H39)+2,IF(MID(H39,FIND(", ",H39)+2,1)="1",2,1))),(IF(COUNTIFS(F:F,"<="&F39)<=VALUE(MID(H39,FIND(", ",H39)+2,IF(MID(H39,FIND(", ",H39)+2,1)="1",2,1))),1,(VALUE(MID(H39,FIND(", ",H39)+2,IF(MID(H39,FIND(", ",H39)+2,1)="1",2,1)))-COUNTIFS(F:F,"<"&F39))/COUNTIFS(F:F,F39)))*(50*E39*(1+VALUE(MID(H39,FIND(": ",H39)+2,FIND("/",H39)-FIND(":",H39)-2))-1)/VALUE(RIGHT(H39,1))+50*E39)-(100*E39),-E39*100))) | H39: =IF(E39="","",OFFSET([1]SA!$AL$1,MATCH(A39,[1]SA!$E$1:$E$500,0)-1,0))
A40: Jacquin Hess | B40: 0.00% | C40: 10000 | D40: 1001 | F40: =IFERROR(IF(A40="","",OFFSET(Results!$AJ$1,MATCH(A40,Results!$A:$A,0)-1,0)),"") -> 81 | G40: =IF(OR(E40="",F40=""),"",IF(F40=1,(IF(COUNTIFS(F:F,"<="&F40)<=1,1,(1-COUNTIFS(F:F,"<"&F40))/COUNTIFS(F:F,F40)))*50*E40*(1+VALUE(MID(H40,FIND(": ",H40)+2,FIND("/",H40)-FIND(":",H40)-2))-1)+50*E40*(1+VALUE(MID(H40,FIND(": ",H40)+2,FIND("/",H40)-FIND(":",H40)-2))-1)/VALUE(RIGHT(H40,1)),IF(F40<=VALUE(MID(H40,FIND(", ",H40)+2,IF(MID(H40,FIND(", ",H40)+2,1)="1",2,1))),(IF(COUNTIFS(F:F,"<="&F40)<=VALUE(MID(H40,FIND(", ",H40)+2,IF(MID(H40,FIND(", ",H40)+2,1)="1",2,1))),1,(VALUE(MID(H40,FIND(", ",H40)+2,IF(MID(H40,FIND(", ",H40)+2,1)="1",2,1)))-COUNTIFS(F:F,"<"&F40))/COUNTIFS(F:F,F40)))*(50*E40*(1+VALUE(MID(H40,FIND(": ",H40)+2,FIND("/",H40)-FIND(":",H40)-2))-1)/VALUE(RIGHT(H40,1))+50*E40)-(100*E40),-E40*100))) | H40: =IF(E40="","",OFFSET([1]SA!$AL$1,MATCH(A40,[1]SA!$E$1:$E$500,0)-1,0))
A41: Jake Redman | B41: 0.00% | C41: 10000 | D41: 501 | F41: =IFERROR(IF(A41="","",OFFSET(Results!$AJ$1,MATCH(A41,Results!$A:$A,0)-1,0)),"") -> 96 | G41: =IF(OR(E41="",F41=""),"",IF(F41=1,(IF(COUNTIFS(F:F,"<="&F41)<=1,1,(1-COUNTIFS(F:F,"<"&F41))/COUNTIFS(F:F,F41)))*50*E41*(1+VALUE(MID(H41,FIND(": ",H41)+2,FIND("/",H41)-FIND(":",H41)-2))-1)+50*E41*(1+VALUE(MID(H41,FIND(": ",H41)+2,FIND("/",H41)-FIND(":",H41)-2))-1)/VALUE(RIGHT(H41,1)),IF(F41<=VALUE(MID(H41,FIND(", ",H41)+2,IF(MID(H41,FIND(", ",H41)+2,1)="1",2,1))),(IF(COUNTIFS(F:F,"<="&F41)<=VALUE(MID(H41,FIND(", ",H41)+2,IF(MID(H41,FIND(", ",H41)+2,1)="1",2,1))),1,(VALUE(MID(H41,FIND(", ",H41)+2,IF(MID(H41,FIND(", ",H41)+2,1)="1",2,1)))-COUNTIFS(F:F,"<"&F41))/COUNTIFS(F:F,F41)))*(50*E41*(1+VALUE(MID(H41,FIND(": ",H41)+2,FIND("/",H41)-FIND(":",H41)-2))-1)/VALUE(RIGHT(H41,1))+50*E41)-(100*E41),-E41*100))) | H41: =IF(E41="","",OFFSET([1]SA!$AL$1,MATCH(A41,[1]SA!$E$1:$E$500,0)-1,0))
A42: James Mack | B42: 0.34% | C42: 294 | D42: 126 | F42: =IFERROR(IF(A42="","",OFFSET(Results!$AJ$1,MATCH(A42,Results!$A:$A,0)-1,0)),"") -> 106 | G42: =IF(OR(E42="",F42=""),"",IF(F42=1,(IF(COUNTIFS(F:F,"<="&F42)<=1,1,(1-COUNTIFS(F:F,"<"&F42))/COUNTIFS(F:F,F42)))*50*E42*(1+VALUE(MID(H42,FIND(": ",H42)+2,FIND("/",H42)-FIND(":",H42)-2))-1)+50*E42*(1+VALUE(MID(H42,FIND(": ",H42)+2,FIND("/",H42)-FIND(":",H42)-2))-1)/VALUE(RIGHT(H42,1)),IF(F42<=VALUE(MID(H42,FIND(", ",H42)+2,IF(MID(H42,FIND(", ",H42)+2,1)="1",2,1))),(IF(COUNTIFS(F:F,"<="&F42)<=VALUE(MID(H42,FIND(", ",H42)+2,IF(MID(H42,FIND(", ",H42)+2,1)="1",2,1))),1,(VALUE(MID(H42,FIND(", ",H42)+2,IF(MID(H42,FIND(", ",H42)+2,1)="1",2,1)))-COUNTIFS(F:F,"<"&F42))/COUNTIFS(F:F,F42)))*(50*E42*(1+VALUE(MID(H42,FIND(": ",H42)+2,FIND("/",H42)-FIND(":",H42)-2))-1)/VALUE(RIGHT(H42,1))+50*E42)-(100*E42),-E42*100))) | H42: =IF(E42="","",OFFSET([1]SA!$AL$1,MATCH(A42,[1]SA!$E$1:$E$500,0)-1,0))
A43: James Pennington | B43: 0.00% | C43: 10000 | D43: 2001 | F43: =IFERROR(IF(A43="","",OFFSET(Results!$AJ$1,MATCH(A43,Results!$A:$A,0)-1,0)),"") -> 74 | G43: =IF(OR(E43="",F43=""),"",IF(F43=1,(IF(COUNTIFS(F:F,"<="&F43)<=1,1,(1-COUNTIFS(F:F,"<"&F43))/COUNTIFS(F:F,F43)))*50*E43*(1+VALUE(MID(H43,FIND(": ",H43)+2,FIND("/",H43)-FIND(":",H43)-2))-1)+50*E43*(1+VALUE(MID(H43,FIND(": ",H43)+2,FIND("/",H43)-FIND(":",H43)-2))-1)/VALUE(RIGHT(H43,1)),IF(F43<=VALUE(MID(H43,FIND(", ",H43)+2,IF(MID(H43,FIND(", ",H43)+2,1)="1",2,1))),(IF(COUNTIFS(F:F,"<="&F43)<=VALUE(MID(H43,FIND(", ",H43)+2,IF(MID(H43,FIND(", ",H43)+2,1)="1",2,1))),1,(VALUE(MID(H43,FIND(", ",H43)+2,IF(MID(H43,FIND(", ",H43)+2,1)="1",2,1)))-COUNTIFS(F:F,"<"&F43))/COUNTIFS(F:F,F43)))*(50*E43*(1+VALUE(MID(H43,FIND(": ",H43)+2,FIND("/",H43)-FIND(":",H43)-2))-1)/VALUE(RIGHT(H43,1))+50*E43)-(100*E43),-E43*100))) | H43: =IF(E43="","",OFFSET([1]SA!$AL$1,MATCH(A43,[1]SA!$E$1:$E$500,0)-1,0))
A44: Jarryd Govender | B44: 0.00% | C44: 10000 | D44: 2501 | F44: =IFERROR(IF(A44="","",OFFSET(Results!$AJ$1,MATCH(A44,Results!$A:$A,0)-1,0)),"") -> 135 | G44: =IF(OR(E44="",F44=""),"",IF(F44=1,(IF(COUNTIFS(F:F,"<="&F44)<=1,1,(1-COUNTIFS(F:F,"<"&F44))/COUNTIFS(F:F,F44)))*50*E44*(1+VALUE(MID(H44,FIND(": ",H44)+2,FIND("/",H44)-FIND(":",H44)-2))-1)+50*E44*(1+VALUE(MID(H44,FIND(": ",H44)+2,FIND("/",H44)-FIND(":",H44)-2))-1)/VALUE(RIGHT(H44,1)),IF(F44<=VALUE(MID(H44,FIND(", ",H44)+2,IF(MID(H44,FIND(", ",H44)+2,1)="1",2,1))),(IF(COUNTIFS(F:F,"<="&F44)<=VALUE(MID(H44,FIND(", ",H44)+2,IF(MID(H44,FIND(", ",H44)+2,1)="1",2,1))),1,(VALUE(MID(H44,FIND(", ",H44)+2,IF(MID(H44,FIND(", ",H44)+2,1)="1",2,1)))-COUNTIFS(F:F,"<"&F44))/COUNTIFS(F:F,F44)))*(50*E44*(1+VALUE(MID(H44,FIND(": ",H44)+2,FIND("/",H44)-FIND(":",H44)-2))-1)/VALUE(RIGHT(H44,1))+50*E44)-(100*E44),-E44*100))) | H44: =IF(E44="","",OFFSET([1]SA!$AL$1,MATCH(A44,[1]SA!$E$1:$E$500,0)-1,0))
A45: Jason Broomhead | B45: 0.00% | C45: 10000 | D45: 2001 | F45: =IFERROR(IF(A45="","",OFFSET(Results!$AJ$1,MATCH(A45,Results!$A:$A,0)-1,0)),"") -> 61 | G45: =IF(OR(E45="",F45=""),"",IF(F45=1,(IF(COUNTIFS(F:F,"<="&F45)<=1,1,(1-COUNTIFS(F:F,"<"&F45))/COUNTIFS(F:F,F45)))*50*E45*(1+VALUE(MID(H45,FIND(": ",H45)+2,FIND("/",H45)-FIND(":",H45)-2))-1)+50*E45*(1+VALUE(MID(H45,FIND(": ",H45)+2,FIND("/",H45)-FIND(":",H45)-2))-1)/VALUE(RIGHT(H45,1)),IF(F45<=VALUE(MID(H45,FIND(", ",H45)+2,IF(MID(H45,FIND(", ",H45)+2,1)="1",2,1))),(IF(COUNTIFS(F:F,"<="&F45)<=VALUE(MID(H45,FIND(", ",H45)+2,IF(MID(H45,FIND(", ",H45)+2,1)="1",2,1))),1,(VALUE(MID(H45,FIND(", ",H45)+2,IF(MID(H45,FIND(", ",H45)+2,1)="1",2,1)))-COUNTIFS(F:F,"<"&F45))/COUNTIFS(F:F,F45)))*(50*E45*(1+VALUE(MID(H45,FIND(": ",H45)+2,FIND("/",H45)-FIND(":",H45)-2))-1)/VALUE(RIGHT(H45,1))+50*E45)-(100*E45),-E45*100))) | H45: =IF(E45="","",OFFSET([1]SA!$AL$1,MATCH(A45,[1]SA!$E$1:$E$500,0)-1,0))
A46: Jason Roets | B46: 0.38% | C46: 263 | D46: 141 | F46: =IFERROR(IF(A46="","",OFFSET(Results!$AJ$1,MATCH(A46,Results!$A:$A,0)-1,0)),"") -> 61 | G46: =IF(OR(E46="",F46=""),"",IF(F46=1,(IF(COUNTIFS(F:F,"<="&F46)<=1,1,(1-COUNTIFS(F:F,"<"&F46))/COUNTIFS(F:F,F46)))*50*E46*(1+VALUE(MID(H46,FIND(": ",H46)+2,FIND("/",H46)-FIND(":",H46)-2))-1)+50*E46*(1+VALUE(MID(H46,FIND(": ",H46)+2,FIND("/",H46)-FIND(":",H46)-2))-1)/VALUE(RIGHT(H46,1)),IF(F46<=VALUE(MID(H46,FIND(", ",H46)+2,IF(MID(H46,FIND(", ",H46)+2,1)="1",2,1))),(IF(COUNTIFS(F:F,"<="&F46)<=VALUE(MID(H46,FIND(", ",H46)+2,IF(MID(H46,FIND(", ",H46)+2,1)="1",2,1))),1,(VALUE(MID(H46,FIND(", ",H46)+2,IF(MID(H46,FIND(", ",H46)+2,1)="1",2,1)))-COUNTIFS(F:F,"<"&F46))/COUNTIFS(F:F,F46)))*(50*E46*(1+VALUE(MID(H46,FIND(": ",H46)+2,FIND("/",H46)-FIND(":",H46)-2))-1)/VALUE(RIGHT(H46,1))+50*E46)-(100*E46),-E46*100))) | H46: =IF(E46="","",OFFSET([1]SA!$AL$1,MATCH(A46,[1]SA!$E$1:$E$500,0)-1,0))
A47: Jastice Mashego | B47: 0.00% | C47: 10000 | D47: 1251 | F47: =IFERROR(IF(A47="","",OFFSET(Results!$AJ$1,MATCH(A47,Results!$A:$A,0)-1,0)),"") -> 133 | G47: =IF(OR(E47="",F47=""),"",IF(F47=1,(IF(COUNTIFS(F:F,"<="&F47)<=1,1,(1-COUNTIFS(F:F,"<"&F47))/COUNTIFS(F:F,F47)))*50*E47*(1+VALUE(MID(H47,FIND(": ",H47)+2,FIND("/",H47)-FIND(":",H47)-2))-1)+50*E47*(1+VALUE(MID(H47,FIND(": ",H47)+2,FIND("/",H47)-FIND(":",H47)-2))-1)/VALUE(RIGHT(H47,1)),IF(F47<=VALUE(MID(H47,FIND(", ",H47)+2,IF(MID(H47,FIND(", ",H47)+2,1)="1",2,1))),(IF(COUNTIFS(F:F,"<="&F47)<=VALUE(MID(H47,FIND(", ",H47)+2,IF(MID(H47,FIND(", ",H47)+2,1)="1",2,1))),1,(VALUE(MID(H47,FIND(", ",H47)+2,IF(MID(H47,FIND(", ",H47)+2,1)="1",2,1)))-COUNTIFS(F:F,"<"&F47))/COUNTIFS(F:F,F47)))*(50*E47*(1+VALUE(MID(H47,FIND(": ",H47)+2,FIND("/",H47)-FIND(":",H47)-2))-1)/VALUE(RIGHT(H47,1))+50*E47)-(100*E47),-E47*100))) | H47: =IF(E47="","",OFFSET([1]SA!$AL$1,MATCH(A47,[1]SA!$E$1:$E$500,0)-1,0))
A48: Jean Hugo | B48: 1.46% | C48: 68 | D48: 81 | E48: 0.20% | F48: =IFERROR(IF(A48="","",OFFSET(Results!$AJ$1,MATCH(A48,Results!$A:$A,0)-1,0)),"") -> 61 | G48: =IF(OR(E48="",F48=""),"",IF(F48=1,(IF(COUNTIFS(F:F,"<="&F48)<=1,1,(1-COUNTIFS(F:F,"<"&F48))/COUNTIFS(F:F,F48)))*50*E48*(1+VALUE(MID(H48,FIND(": ",H48)+2,FIND("/",H48)-FIND(":",H48)-2))-1)+50*E48*(1+VALUE(MID(H48,FIND(": ",H48)+2,FIND("/",H48)-FIND(":",H48)-2))-1)/VALUE(RIGHT(H48,1)),IF(F48<=VALUE(MID(H48,FIND(", ",H48)+2,IF(MID(H48,FIND(", ",H48)+2,1)="1",2,1))),(IF(COUNTIFS(F:F,"<="&F48)<=VALUE(MID(H48,FIND(", ",H48)+2,IF(MID(H48,FIND(", ",H48)+2,1)="1",2,1))),1,(VALUE(MID(H48,FIND(", ",H48)+2,IF(MID(H48,FIND(", ",H48)+2,1)="1",2,1)))-COUNTIFS(F:F,"<"&F48))/COUNTIFS(F:F,F48)))*(50*E48*(1+VALUE(MID(H48,FIND(": ",H48)+2,FIND("/",H48)-FIND(":",H48)-2))-1)/VALUE(RIGHT(H48,1))+50*E48)-(100*E48),-E48*100))) -> -0.2 | H48: =IF(E48="","",OFFSET([1]SA!$AL$1,MATCH(A48,[1]SA!$E$1:$E$500,0)-1,0)) -> PaddyPower: 80/1, 5pl, 1/4
A49: Jean-Paul Strydom | B49: 0.05% | C49: 2000 | D49: 351 | F49: =IFERROR(IF(A49="","",OFFSET(Results!$AJ$1,MATCH(A49,Results!$A:$A,0)-1,0)),"") -> 57 | G49: =IF(OR(E49="",F49=""),"",IF(F49=1,(IF(COUNTIFS(F:F,"<="&F49)<=1,1,(1-COUNTIFS(F:F,"<"&F49))/COUNTIFS(F:F,F49)))*50*E49*(1+VALUE(MID(H49,FIND(": ",H49)+2,FIND("/",H49)-FIND(":",H49)-2))-1)+50*E49*(1+VALUE(MID(H49,FIND(": ",H49)+2,FIND("/",H49)-FIND(":",H49)-2))-1)/VALUE(RIGHT(H49,1)),IF(F49<=VALUE(MID(H49,FIND(", ",H49)+2,IF(MID(H49,FIND(", ",H49)+2,1)="1",2,1))),(IF(COUNTIFS(F:F,"<="&F49)<=VALUE(MID(H49,FIND(", ",H49)+2,IF(MID(H49,FIND(", ",H49)+2,1)="1",2,1))),1,(VALUE(MID(H49,FIND(", ",H49)+2,IF(MID(H49,FIND(", ",H49)+2,1)="1",2,1)))-COUNTIFS(F:F,"<"&F49))/COUNTIFS(F:F,F49)))*(50*E49*(1+VALUE(MID(H49,FIND(": ",H49)+2,FIND("/",H49)-FIND(":",H49)-2))-1)/VALUE(RIGHT(H49,1))+50*E49)-(100*E49),-E49*100))) | H49: =IF(E49="","",OFFSET([1]SA!$AL$1,MATCH(A49,[1]SA!$E$1:$E$500,0)-1,0))
A50: Joe Knox | B50: 0.00% | C50: 10000 | D50: 1001 | F50: =IFERROR(IF(A50="","",OFFSET(Results!$AJ$1,MATCH(A50,Results!$A:$A,0)-1,0)),"") -> 88 | G50: =IF(OR(E50="",F50=""),"",IF(F50=1,(IF(COUNTIFS(F:F,"<="&F50)<=1,1,(1-COUNTIFS(F:F,"<"&F50))/COUNTIFS(F:F,F50)))*50*E50*(1+VALUE(MID(H50,FIND(": ",H50)+2,FIND("/",H50)-FIND(":",H50)-2))-1)+50*E50*(1+VALUE(MID(H50,FIND(": ",H50)+2,FIND("/",H50)-FIND(":",H50)-2))-1)/VALUE(RIGHT(H50,1)),IF(F50<=VALUE(MID(H50,FIND(", ",H50)+2,IF(MID(H50,FIND(", ",H50)+2,1)="1",2,1))),(IF(COUNTIFS(F:F,"<="&F50)<=VALUE(MID(H50,FIND(", ",H50)+2,IF(MID(H50,FIND(", ",H50)+2,1)="1",2,1))),1,(VALUE(MID(H50,FIND(", ",H50)+2,IF(MID(H50,FIND(", ",H50)+2,1)="1",2,1)))-COUNTIFS(F:F,"<"&F50))/COUNTIFS(F:F,F50)))*(50*E50*(1+VALUE(MID(H50,FIND(": ",H50)+2,FIND("/",H50)-FIND(":",H50)-2))-1)/VALUE(RIGHT(H50,1))+50*E50)-(100*E50),-E50*100))) | H50: =IF(E50="","",OFFSET([1]SA!$AL$1,MATCH(A50,[1]SA!$E$1:$E$500,0)-1,0))
A51: Joe Long | B51: 0.16% | C51: 625 | D51: 151 | F51: =IFERROR(IF(A51="","",OFFSET(Results!$AJ$1,MATCH(A51,Results!$A:$A,0)-1,0)),"") -> 60 | G51: =IF(OR(E51="",F51=""),"",IF(F51=1,(IF(COUNTIFS(F:F,"<="&F51)<=1,1,(1-COUNTIFS(F:F,"<"&F51))/COUNTIFS(F:F,F51)))*50*E51*(1+VALUE(MID(H51,FIND(": ",H51)+2,FIND("/",H51)-FIND(":",H51)-2))-1)+50*E51*(1+VALUE(MID(H51,FIND(": ",H51)+2,FIND("/",H51)-FIND(":",H51)-2))-1)/VALUE(RIGHT(H51,1)),IF(F51<=VALUE(MID(H51,FIND(", ",H51)+2,IF(MID(H51,FIND(", ",H51)+2,1)="1",2,1))),(IF(COUNTIFS(F:F,"<="&F51)<=VALUE(MID(H51,FIND(", ",H51)+2,IF(MID(H51,FIND(", ",H51)+2,1)="1",2,1))),1,(VALUE(MID(H51,FIND(", ",H51)+2,IF(MID(H51,FIND(", ",H51)+2,1)="1",2,1)))-COUNTIFS(F:F,"<"&F51))/COUNTIFS(F:F,F51)))*(50*E51*(1+VALUE(MID(H51,FIND(": ",H51)+2,FIND("/",H51)-FIND(":",H51)-2))-1)/VALUE(RIGHT(H51,1))+50*E51)-(100*E51),-E51*100))) | H51: =IF(E51="","",OFFSET([1]SA!$AL$1,MATCH(A51,[1]SA!$E$1:$E$500,0)-1,0))
A52: Jordan Burnand | B52: 0.02% | C52: 5000 | D52: 301 | F52: =IFERROR(IF(A52="","",OFFSET(Results!$AJ$1,MATCH(A52,Results!$A:$A,0)-1,0)),"") -> 19 | G52: =IF(OR(E52="",F52=""),"",IF(F52=1,(IF(COUNTIFS(F:F,"<="&F52)<=1,1,(1-COUNTIFS(F:F,"<"&F52))/COUNTIFS(F:F,F52)))*50*E52*(1+VALUE(MID(H52,FIND(": ",H52)+2,FIND("/",H52)-FIND(":",H52)-2))-1)+50*E52*(1+VALUE(MID(H52,FIND(": ",H52)+2,FIND("/",H52)-FIND(":",H52)-2))-1)/VALUE(RIGHT(H52,1)),IF(F52<=VALUE(MID(H52,FIND(", ",H52)+2,IF(MID(H52,FIND(", ",H52)+2,1)="1",2,1))),(IF(COUNTIFS(F:F,"<="&F52)<=VALUE(MID(H52,FIND(", ",H52)+2,IF(MID(H52,FIND(", ",H52)+2,1)="1",2,1))),1,(VALUE(MID(H52,FIND(", ",H52)+2,IF(MID(H52,FIND(", ",H52)+2,1)="1",2,1)))-COUNTIFS(F:F,"<"&F52))/COUNTIFS(F:F,F52)))*(50*E52*(1+VALUE(MID(H52,FIND(": ",H52)+2,FIND("/",H52)-FIND(":",H52)-2))-1)/VALUE(RIGHT(H52,1))+50*E52)-(100*E52),-E52*100))) | H52: =IF(E52="","",OFFSET([1]SA!$AL$1,MATCH(A52,[1]SA!$E$1:$E$500,0)-1,0))
A53: Jovan Rebula | B53: 1.59% | C53: 63 | D53: 21 | F53: =IFERROR(IF(A53="","",OFFSET(Results!$AJ$1,MATCH(A53,Results!$A:$A,0)-1,0)),"") -> 96 | G53: =IF(OR(E53="",F53=""),"",IF(F53=1,(IF(COUNTIFS(F:F,"<="&F53)<=1,1,(1-COUNTIFS(F:F,"<"&F53))/COUNTIFS(F:F,F53)))*50*E53*(1+VALUE(MID(H53,FIND(": ",H53)+2,FIND("/",H53)-FIND(":",H53)-2))-1)+50*E53*(1+VALUE(MID(H53,FIND(": ",H53)+2,FIND("/",H53)-FIND(":",H53)-2))-1)/VALUE(RIGHT(H53,1)),IF(F53<=VALUE(MID(H53,FIND(", ",H53)+2,IF(MID(H53,FIND(", ",H53)+2,1)="1",2,1))),(IF(COUNTIFS(F:F,"<="&F53)<=VALUE(MID(H53,FIND(", ",H53)+2,IF(MID(H53,FIND(", ",H53)+2,1)="1",2,1))),1,(VALUE(MID(H53,FIND(", ",H53)+2,IF(MID(H53,FIND(", ",H53)+2,1)="1",2,1)))-COUNTIFS(F:F,"<"&F53))/COUNTIFS(F:F,F53)))*(50*E53*(1+VALUE(MID(H53,FIND(": ",H53)+2,FIND("/",H53)-FIND(":",H53)-2))-1)/VALUE(RIGHT(H53,1))+50*E53)-(100*E53),-E53*100))) | H53: =IF(E53="","",OFFSET([1]SA!$AL$1,MATCH(A53,[1]SA!$E$1:$E$500,0)-1,0))
A54: Kael Strydom | B54: 0.00% | C54: 10000 | D54: 2501 | F54: =IFERROR(IF(A54="","",OFFSET(Results!$AJ$1,MATCH(A54,Results!$A:$A,0)-1,0)),"") -> 118 | G54: =IF(OR(E54="",F54=""),"",IF(F54=1,(IF(COUNTIFS(F:F,"<="&F54)<=1,1,(1-COUNTIFS(F:F,"<"&F54))/COUNTIFS(F:F,F54)))*50*E54*(1+VALUE(MID(H54,FIND(": ",H54)+2,FIND("/",H54)-FIND(":",H54)-2))-1)+50*E54*(1+VALUE(MID(H54,FIND(": ",H54)+2,FIND("/",H54)-FIND(":",H54)-2))-1)/VALUE(RIGHT(H54,1)),IF(F54<=VALUE(MID(H54,FIND(", ",H54)+2,IF(MID(H54,FIND(", ",H54)+2,1)="1",2,1))),(IF(COUNTIFS(F:F,"<="&F54)<=VALUE(MID(H54,FIND(", ",H54)+2,IF(MID(H54,FIND(", ",H54)+2,1)="1",2,1))),1,(VALUE(MID(H54,FIND(", ",H54)+2,IF(MID(H54,FIND(", ",H54)+2,1)="1",2,1)))-COUNTIFS(F:F,"<"&F54))/COUNTIFS(F:F,F54)))*(50*E54*(1+VALUE(MID(H54,FIND(": ",H54)+2,FIND("/",H54)-FIND(":",H54)-2))-1)/VALUE(RIGHT(H54,1))+50*E54)-(100*E54),-E54*100))) | H54: =IF(E54="","",OFFSET([1]SA!$AL$1,MATCH(A54,[1]SA!$E$1:$E$500,0)-1,0))
A55: Karabo Mokoena | B55: 0.00% | C55: 10000 | D55: 501 | F55: =IFERROR(IF(A55="","",OFFSET(Results!$AJ$1,MATCH(A55,Results!$A:$A,0)-1,0)),"") -> 15 | G55: =IF(OR(E55="",F55=""),"",IF(F55=1,(IF(COUNTIFS(F:F,"<="&F55)<=1,1,(1-COUNTIFS(F:F,"<"&F55))/COUNTIFS(F:F,F55)))*50*E55*(1+VALUE(MID(H55,FIND(": ",H55)+2,FIND("/",H55)-FIND(":",H55)-2))-1)+50*E55*(1+VALUE(MID(H55,FIND(": ",H55)+2,FIND("/",H55)-FIND(":",H55)-2))-1)/VALUE(RIGHT(H55,1)),IF(F55<=VALUE(MID(H55,FIND(", ",H55)+2,IF(MID(H55,FIND(", ",H55)+2,1)="1",2,1))),(IF(COUNTIFS(F:F,"<="&F55)<=VALUE(MID(H55,FIND(", ",H55)+2,IF(MID(H55,FIND(", ",H55)+2,1)="1",2,1))),1,(VALUE(MID(H55,FIND(", ",H55)+2,IF(MID(H55,FIND(", ",H55)+2,1)="1",2,1)))-COUNTIFS(F:F,"<"&F55))/COUNTIFS(F:F,F55)))*(50*E55*(1+VALUE(MID(H55,FIND(": ",H55)+2,FIND("/",H55)-FIND(":",H55)-2))-1)/VALUE(RIGHT(H55,1))+50*E55)-(100*E55),-E55*100))) | H55: =IF(E55="","",OFFSET([1]SA!$AL$1,MATCH(A55,[1]SA!$E$1:$E$500,0)-1,0))
A56: Keagan Thomas | B56: 0.10% | C56: 1000 | D56: 251 | F56: =IFERROR(IF(A56="","",OFFSET(Results!$AJ$1,MATCH(A56,Results!$A:$A,0)-1,0)),"") -> 44 | G56: =IF(OR(E56="",F56=""),"",IF(F56=1,(IF(COUNTIFS(F:F,"<="&F56)<=1,1,(1-COUNTIFS(F:F,"<"&F56))/COUNTIFS(F:F,F56)))*50*E56*(1+VALUE(MID(H56,FIND(": ",H56)+2,FIND("/",H56)-FIND(":",H56)-2))-1)+50*E56*(1+VALUE(MID(H56,FIND(": ",H56)+2,FIND("/",H56)-FIND(":",H56)-2))-1)/VALUE(RIGHT(H56,1)),IF(F56<=VALUE(MID(H56,FIND(", ",H56)+2,IF(MID(H56,FIND(", ",H56)+2,1)="1",2,1))),(IF(COUNTIFS(F:F,"<="&F56)<=VALUE(MID(H56,FIND(", ",H56)+2,IF(MID(H56,FIND(", ",H56)+2,1)="1",2,1))),1,(VALUE(MID(H56,FIND(", ",H56)+2,IF(MID(H56,FIND(", ",H56)+2,1)="1",2,1)))-COUNTIFS(F:F,"<"&F56))/COUNTIFS(F:F,F56)))*(50*E56*(1+VALUE(MID(H56,FIND(": ",H56)+2,FIND("/",H56)-FIND(":",H56)-2))-1)/VALUE(RIGHT(H56,1))+50*E56)-(100*E56),-E56*100))) | H56: =IF(E56="","",OFFSET([1]SA!$AL$1,MATCH(A56,[1]SA!$E$1:$E$500,0)-1,0))
A57: Keanu Pestana | B57: 0.00% | C57: 10000 | D57: 1251 | F57: =IFERROR(IF(A57="","",OFFSET(Results!$AJ$1,MATCH(A57,Results!$A:$A,0)-1,0)),"") -> 25 | G57: =IF(OR(E57="",F57=""),"",IF(F57=1,(IF(COUNTIFS(F:F,"<="&F57)<=1,1,(1-COUNTIFS(F:F,"<"&F57))/COUNTIFS(F:F,F57)))*50*E57*(1+VALUE(MID(H57,FIND(": ",H57)+2,FIND("/",H57)-FIND(":",H57)-2))-1)+50*E57*(1+VALUE(MID(H57,FIND(": ",H57)+2,FIND("/",H57)-FIND(":",H57)-2))-1)/VALUE(RIGHT(H57,1)),IF(F57<=VALUE(MID(H57,FIND(", ",H57)+2,IF(MID(H57,FIND(", ",H57)+2,1)="1",2,1))),(IF(COUNTIFS(F:F,"<="&F57)<=VALUE(MID(H57,FIND(", ",H57)+2,IF(MID(H57,FIND(", ",H57)+2,1)="1",2,1))),1,(VALUE(MID(H57,FIND(", ",H57)+2,IF(MID(H57,FIND(", ",H57)+2,1)="1",2,1)))-COUNTIFS(F:F,"<"&F57))/COUNTIFS(F:F,F57)))*(50*E57*(1+VALUE(MID(H57,FIND(": ",H57)+2,FIND("/",H57)-FIND(":",H57)-2))-1)/VALUE(RIGHT(H57,1))+50*E57)-(100*E57),-E57*100))) | H57: =IF(E57="","",OFFSET([1]SA!$AL$1,MATCH(A57,[1]SA!$E$1:$E$500,0)-1,0))
A58: Keegan Mclachlan | B58: 0.00% | C58: 10000 | D58: 501 | F58: =IFERROR(IF(A58="","",OFFSET(Results!$AJ$1,MATCH(A58,Results!$A:$A,0)-1,0)),"") -> 54 | G58: =IF(OR(E58="",F58=""),"",IF(F58=1,(IF(COUNTIFS(F:F,"<="&F58)<=1,1,(1-COUNTIFS(F:F,"<"&F58))/COUNTIFS(F:F,F58)))*50*E58*(1+VALUE(MID(H58,FIND(": ",H58)+2,FIND("/",H58)-FIND(":",H58)-2))-1)+50*E58*(1+VALUE(MID(H58,FIND(": ",H58)+2,FIND("/",H58)-FIND(":",H58)-2))-1)/VALUE(RIGHT(H58,1)),IF(F58<=VALUE(MID(H58,FIND(", ",H58)+2,IF(MID(H58,FIND(", ",H58)+2,1)="1",2,1))),(IF(COUNTIFS(F:F,"<="&F58)<=VALUE(MID(H58,FIND(", ",H58)+2,IF(MID(H58,FIND(", ",H58)+2,1)="1",2,1))),1,(VALUE(MID(H58,FIND(", ",H58)+2,IF(MID(H58,FIND(", ",H58)+2,1)="1",2,1)))-COUNTIFS(F:F,"<"&F58))/COUNTIFS(F:F,F58)))*(50*E58*(1+VALUE(MID(H58,FIND(": ",H58)+2,FIND("/",H58)-FIND(":",H58)-2))-1)/VALUE(RIGHT(H58,1))+50*E58)-(100*E58),-E58*100))) | H58: =IF(E58="","",OFFSET([1]SA!$AL$1,MATCH(A58,[1]SA!$E$1:$E$500,0)-1,0))
A59: Keelan Africa | B59: 0.00% | C59: 10000 | D59: 2501 | F59: =IFERROR(IF(A59="","",OFFSET(Results!$AJ$1,MATCH(A59,Results!$A:$A,0)-1,0)),"") -> 113 | G59: =IF(OR(E59="",F59=""),"",IF(F59=1,(IF(COUNTIFS(F:F,"<="&F59)<=1,1,(1-COUNTIFS(F:F,"<"&F59))/COUNTIFS(F:F,F59)))*50*E59*(1+VALUE(MID(H59,FIND(": ",H59)+2,FIND("/",H59)-FIND(":",H59)-2))-1)+50*E59*(1+VALUE(MID(H59,FIND(": ",H59)+2,FIND("/",H59)-FIND(":",H59)-2))-1)/VALUE(RIGHT(H59,1)),IF(F59<=VALUE(MID(H59,FIND(", ",H59)+2,IF(MID(H59,FIND(", ",H59)+2,1)="1",2,1))),(IF(COUNTIFS(F:F,"<="&F59)<=VALUE(MID(H59,FIND(", ",H59)+2,IF(MID(H59,FIND(", ",H59)+2,1)="1",2,1))),1,(VALUE(MID(H59,FIND(", ",H59)+2,IF(MID(H59,FIND(", ",H59)+2,1)="1",2,1)))-COUNTIFS(F:F,"<"&F59))/COUNTIFS(F:F,F59)))*(50*E59*(1+VALUE(MID(H59,FIND(": ",H59)+2,FIND("/",H59)-FIND(":",H59)-2))-1)/VALUE(RIGHT(H59,1))+50*E59)-(100*E59),-E59*100))) | H59: =IF(E59="","",OFFSET([1]SA!$AL$1,MATCH(A59,[1]SA!$E$1:$E$500,0)-1,0))
A60: Keelan Van Wyk | B60: 0.01% | C60: 10000 | D60: 351 | F60: =IFERROR(IF(A60="","",OFFSET(Results!$AJ$1,MATCH(A60,Results!$A:$A,0)-1,0)),"") -> 106 | G60: =IF(OR(E60="",F60=""),"",IF(F60=1,(IF(COUNTIFS(F:F,"<="&F60)<=1,1,(1-COUNTIFS(F:F,"<"&F60))/COUNTIFS(F:F,F60)))*50*E60*(1+VALUE(MID(H60,FIND(": ",H60)+2,FIND("/",H60)-FIND(":",H60)-2))-1)+50*E60*(1+VALUE(MID(H60,FIND(": ",H60)+2,FIND("/",H60)-FIND(":",H60)-2))-1)/VALUE(RIGHT(H60,1)),IF(F60<=VALUE(MID(H60,FIND(", ",H60)+2,IF(MID(H60,FIND(", ",H60)+2,1)="1",2,1))),(IF(COUNTIFS(F:F,"<="&F60)<=VALUE(MID(H60,FIND(", ",H60)+2,IF(MID(H60,FIND(", ",H60)+2,1)="1",2,1))),1,(VALUE(MID(H60,FIND(", ",H60)+2,IF(MID(H60,FIND(", ",H60)+2,1)="1",2,1)))-COUNTIFS(F:F,"<"&F60))/COUNTIFS(F:F,F60)))*(50*E60*(1+VALUE(MID(H60,FIND(": ",H60)+2,FIND("/",H60)-FIND(":",H60)-2))-1)/VALUE(RIGHT(H60,1))+50*E60)-(100*E60),-E60*100))) | H60: =IF(E60="","",OFFSET([1]SA!$AL$1,MATCH(A60,[1]SA!$E$1:$E$500,0)-1,0))
A61: Keenan Davidse | B61: 1.60% | C61: 63 | D61: 67 | E61: 0.10% | F61: =IFERROR(IF(A61="","",OFFSET(Results!$AJ$1,MATCH(A61,Results!$A:$A,0)-1,0)),"") -> 54 | G61: =IF(OR(E61="",F61=""),"",IF(F61=1,(IF(COUNTIFS(F:F,"<="&F61)<=1,1,(1-COUNTIFS(F:F,"<"&F61))/COUNTIFS(F:F,F61)))*50*E61*(1+VALUE(MID(H61,FIND(": ",H61)+2,FIND("/",H61)-FIND(":",H61)-2))-1)+50*E61*(1+VALUE(MID(H61,FIND(": ",H61)+2,FIND("/",H61)-FIND(":",H61)-2))-1)/VALUE(RIGHT(H61,1)),IF(F61<=VALUE(MID(H61,FIND(", ",H61)+2,IF(MID(H61,FIND(", ",H61)+2,1)="1",2,1))),(IF(COUNTIFS(F:F,"<="&F61)<=VALUE(MID(H61,FIND(", ",H61)+2,IF(MID(H61,FIND(", ",H61)+2,1)="1",2,1))),1,(VALUE(MID(H61,FIND(", ",H61)+2,IF(MID(H61,FIND(", ",H61)+2,1)="1",2,1)))-COUNTIFS(F:F,"<"&F61))/COUNTIFS(F:F,F61)))*(50*E61*(1+VALUE(MID(H61,FIND(": ",H61)+2,FIND("/",H61)-FIND(":",H61)-2))-1)/VALUE(RIGHT(H61,1))+50*E61)-(100*E61),-E61*100))) -> -0.1 | H61: =IF(E61="","",OFFSET([1]SA!$AL$1,MATCH(A61,[1]SA!$E$1:$E$500,0)-1,0)) -> BetMGM: 66/1, 6pl, 1/5
A62: Kieron Van Wyk | B62: 1.20% | C62: 83 | D62: 34 | F62: =IFERROR(IF(A62="","",OFFSET(Results!$AJ$1,MATCH(A62,Results!$A:$A,0)-1,0)),"") -> 8 | G62: =IF(OR(E62="",F62=""),"",IF(F62=1,(IF(COUNTIFS(F:F,"<="&F62)<=1,1,(1-COUNTIFS(F:F,"<"&F62))/COUNTIFS(F:F,F62)))*50*E62*(1+VALUE(MID(H62,FIND(": ",H62)+2,FIND("/",H62)-FIND(":",H62)-2))-1)+50*E62*(1+VALUE(MID(H62,FIND(": ",H62)+2,FIND("/",H62)-FIND(":",H62)-2))-1)/VALUE(RIGHT(H62,1)),IF(F62<=VALUE(MID(H62,FIND(", ",H62)+2,IF(MID(H62,FIND(", ",H62)+2,1)="1",2,1))),(IF(COUNTIFS(F:F,"<="&F62)<=VALUE(MID(H62,FIND(", ",H62)+2,IF(MID(H62,FIND(", ",H62)+2,1)="1",2,1))),1,(VALUE(MID(H62,FIND(", ",H62)+2,IF(MID(H62,FIND(", ",H62)+2,1)="1",2,1)))-COUNTIFS(F:F,"<"&F62))/COUNTIFS(F:F,F62)))*(50*E62*(1+VALUE(MID(H62,FIND(": ",H62)+2,FIND("/",H62)-FIND(":",H62)-2))-1)/VALUE(RIGHT(H62,1))+50*E62)-(100*E62),-E62*100))) | H62: =IF(E62="","",OFFSET([1]SA!$AL$1,MATCH(A62,[1]SA!$E$1:$E$500,0)-1,0))
A63: Kyle Barker | B63: 0.61% | C63: 164 | D63: 51 | F63: =IFERROR(IF(A63="","",OFFSET(Results!$AJ$1,MATCH(A63,Results!$A:$A,0)-1,0)),"") -> 6 | G63: =IF(OR(E63="",F63=""),"",IF(F63=1,(IF(COUNTIFS(F:F,"<="&F63)<=1,1,(1-COUNTIFS(F:F,"<"&F63))/COUNTIFS(F:F,F63)))*50*E63*(1+VALUE(MID(H63,FIND(": ",H63)+2,FIND("/",H63)-FIND(":",H63)-2))-1)+50*E63*(1+VALUE(MID(H63,FIND(": ",H63)+2,FIND("/",H63)-FIND(":",H63)-2))-1)/VALUE(RIGHT(H63,1)),IF(F63<=VALUE(MID(H63,FIND(", ",H63)+2,IF(MID(H63,FIND(", ",H63)+2,1)="1",2,1))),(IF(COUNTIFS(F:F,"<="&F63)<=VALUE(MID(H63,FIND(", ",H63)+2,IF(MID(H63,FIND(", ",H63)+2,1)="1",2,1))),1,(VALUE(MID(H63,FIND(", ",H63)+2,IF(MID(H63,FIND(", ",H63)+2,1)="1",2,1)))-COUNTIFS(F:F,"<"&F63))/COUNTIFS(F:F,F63)))*(50*E63*(1+VALUE(MID(H63,FIND(": ",H63)+2,FIND("/",H63)-FIND(":",H63)-2))-1)/VALUE(RIGHT(H63,1))+50*E63)-(100*E63),-E63*100))) | H63: =IF(E63="","",OFFSET([1]SA!$AL$1,MATCH(A63,[1]SA!$E$1:$E$500,0)-1,0))
A64: Kyle De Beer | B64: 0.45% | C64: 222 | D64: 56 | F64: =IFERROR(IF(A64="","",OFFSET(Results!$AJ$1,MATCH(A64,Results!$A:$A,0)-1,0)),"") -> 61 | G64: =IF(OR(E64="",F64=""),"",IF(F64=1,(IF(COUNTIFS(F:F,"<="&F64)<=1,1,(1-COUNTIFS(F:F,"<"&F64))/COUNTIFS(F:F,F64)))*50*E64*(1+VALUE(MID(H64,FIND(": ",H64)+2,FIND("/",H64)-FIND(":",H64)-2))-1)+50*E64*(1+VALUE(MID(H64,FIND(": ",H64)+2,FIND("/",H64)-FIND(":",H64)-2))-1)/VALUE(RIGHT(H64,1)),IF(F64<=VALUE(MID(H64,FIND(", ",H64)+2,IF(MID(H64,FIND(", ",H64)+2,1)="1",2,1))),(IF(COUNTIFS(F:F,"<="&F64)<=VALUE(MID(H64,FIND(", ",H64)+2,IF(MID(H64,FIND(", ",H64)+2,1)="1",2,1))),1,(VALUE(MID(H64,FIND(", ",H64)+2,IF(MID(H64,FIND(", ",H64)+2,1)="1",2,1)))-COUNTIFS(F:F,"<"&F64))/COUNTIFS(F:F,F64)))*(50*E64*(1+VALUE(MID(H64,FIND(": ",H64)+2,FIND("/",H64)-FIND(":",H64)-2))-1)/VALUE(RIGHT(H64,1))+50*E64)-(100*E64),-E64*100))) | H64: =IF(E64="","",OFFSET([1]SA!$AL$1,MATCH(A64,[1]SA!$E$1:$E$500,0)-1,0))
A65: Kyle McClatchie | B65: 0.02% | C65: 5000 | D65: 501 | F65: =IFERROR(IF(A65="","",OFFSET(Results!$AJ$1,MATCH(A65,Results!$A:$A,0)-1,0)),"") -> 61 | G65: =IF(OR(E65="",F65=""),"",IF(F65=1,(IF(COUNTIFS(F:F,"<="&F65)<=1,1,(1-COUNTIFS(F:F,"<"&F65))/COUNTIFS(F:F,F65)))*50*E65*(1+VALUE(MID(H65,FIND(": ",H65)+2,FIND("/",H65)-FIND(":",H65)-2))-1)+50*E65*(1+VALUE(MID(H65,FIND(": ",H65)+2,FIND("/",H65)-FIND(":",H65)-2))-1)/VALUE(RIGHT(H65,1)),IF(F65<=VALUE(MID(H65,FIND(", ",H65)+2,IF(MID(H65,FIND(", ",H65)+2,1)="1",2,1))),(IF(COUNTIFS(F:F,"<="&F65)<=VALUE(MID(H65,FIND(", ",H65)+2,IF(MID(H65,FIND(", ",H65)+2,1)="1",2,1))),1,(VALUE(MID(H65,FIND(", ",H65)+2,IF(MID(H65,FIND(", ",H65)+2,1)="1",2,1)))-COUNTIFS(F:F,"<"&F65))/COUNTIFS(F:F,F65)))*(50*E65*(1+VALUE(MID(H65,FIND(": ",H65)+2,FIND("/",H65)-FIND(":",H65)-2))-1)/VALUE(RIGHT(H65,1))+50*E65)-(100*E65),-E65*100))) | H65: =IF(E65="","",OFFSET([1]SA!$AL$1,MATCH(A65,[1]SA!$E$1:$E$500,0)-1,0))
A66: Leon Vorster | B66: 0.00% | C66: 10000 | D66: 1501 | F66: =IFERROR(IF(A66="","",OFFSET(Results!$AJ$1,MATCH(A66,Results!$A:$A,0)-1,0)),"") -> 96 | G66: =IF(OR(E66="",F66=""),"",IF(F66=1,(IF(COUNTIFS(F:F,"<="&F66)<=1,1,(1-COUNTIFS(F:F,"<"&F66))/COUNTIFS(F:F,F66)))*50*E66*(1+VALUE(MID(H66,FIND(": ",H66)+2,FIND("/",H66)-FIND(":",H66)-2))-1)+50*E66*(1+VALUE(MID(H66,FIND(": ",H66)+2,FIND("/",H66)-FIND(":",H66)-2))-1)/VALUE(RIGHT(H66,1)),IF(F66<=VALUE(MID(H66,FIND(", ",H66)+2,IF(MID(H66,FIND(", ",H66)+2,1)="1",2,1))),(IF(COUNTIFS(F:F,"<="&F66)<=VALUE(MID(H66,FIND(", ",H66)+2,IF(MID(H66,FIND(", ",H66)+2,1)="1",2,1))),1,(VALUE(MID(H66,FIND(", ",H66)+2,IF(MID(H66,FIND(", ",H66)+2,1)="1",2,1)))-COUNTIFS(F:F,"<"&F66))/COUNTIFS(F:F,F66)))*(50*E66*(1+VALUE(MID(H66,FIND(": ",H66)+2,FIND("/",H66)-FIND(":",H66)-2))-1)/VALUE(RIGHT(H66,1))+50*E66)-(100*E66),-E66*100))) | H66: =IF(E66="","",OFFSET([1]SA!$AL$1,MATCH(A66,[1]SA!$E$1:$E$500,0)-1,0))
A67: Liam Grehan | B67: 0.01% | C67: 10000 | D67: 2001 | F67: =IFERROR(IF(A67="","",OFFSET(Results!$AJ$1,MATCH(A67,Results!$A:$A,0)-1,0)),"") -> 40 | G67: =IF(OR(E67="",F67=""),"",IF(F67=1,(IF(COUNTIFS(F:F,"<="&F67)<=1,1,(1-COUNTIFS(F:F,"<"&F67))/COUNTIFS(F:F,F67)))*50*E67*(1+VALUE(MID(H67,FIND(": ",H67)+2,FIND("/",H67)-FIND(":",H67)-2))-1)+50*E67*(1+VALUE(MID(H67,FIND(": ",H67)+2,FIND("/",H67)-FIND(":",H67)-2))-1)/VALUE(RIGHT(H67,1)),IF(F67<=VALUE(MID(H67,FIND(", ",H67)+2,IF(MID(H67,FIND(", ",H67)+2,1)="1",2,1))),(IF(COUNTIFS(F:F,"<="&F67)<=VALUE(MID(H67,FIND(", ",H67)+2,IF(MID(H67,FIND(", ",H67)+2,1)="1",2,1))),1,(VALUE(MID(H67,FIND(", ",H67)+2,IF(MID(H67,FIND(", ",H67)+2,1)="1",2,1)))-COUNTIFS(F:F,"<"&F67))/COUNTIFS(F:F,F67)))*(50*E67*(1+VALUE(MID(H67,FIND(": ",H67)+2,FIND("/",H67)-FIND(":",H67)-2))-1)/VALUE(RIGHT(H67,1))+50*E67)-(100*E67),-E67*100))) | H67: =IF(E67="","",OFFSET([1]SA!$AL$1,MATCH(A67,[1]SA!$E$1:$E$500,0)-1,0))
A68: Louis Albertse | B68: 1.40% | C68: 71 | D68: 36 | F68: =IFERROR(IF(A68="","",OFFSET(Results!$AJ$1,MATCH(A68,Results!$A:$A,0)-1,0)),"") -> 81 | G68: =IF(OR(E68="",F68=""),"",IF(F68=1,(IF(COUNTIFS(F:F,"<="&F68)<=1,1,(1-COUNTIFS(F:F,"<"&F68))/COUNTIFS(F:F,F68)))*50*E68*(1+VALUE(MID(H68,FIND(": ",H68)+2,FIND("/",H68)-FIND(":",H68)-2))-1)+50*E68*(1+VALUE(MID(H68,FIND(": ",H68)+2,FIND("/",H68)-FIND(":",H68)-2))-1)/VALUE(RIGHT(H68,1)),IF(F68<=VALUE(MID(H68,FIND(", ",H68)+2,IF(MID(H68,FIND(", ",H68)+2,1)="1",2,1))),(IF(COUNTIFS(F:F,"<="&F68)<=VALUE(MID(H68,FIND(", ",H68)+2,IF(MID(H68,FIND(", ",H68)+2,1)="1",2,1))),1,(VALUE(MID(H68,FIND(", ",H68)+2,IF(MID(H68,FIND(", ",H68)+2,1)="1",2,1)))-COUNTIFS(F:F,"<"&F68))/COUNTIFS(F:F,F68)))*(50*E68*(1+VALUE(MID(H68,FIND(": ",H68)+2,FIND("/",H68)-FIND(":",H68)-2))-1)/VALUE(RIGHT(H68,1))+50*E68)-(100*E68),-E68*100))) | H68: =IF(E68="","",OFFSET([1]SA!$AL$1,MATCH(A68,[1]SA!$E$1:$E$500,0)-1,0))
A69: Louis De Jager | B69: 0.22% | C69: 455 | D69: 81 | F69: =IFERROR(IF(A69="","",OFFSET(Results!$AJ$1,MATCH(A69,Results!$A:$A,0)-1,0)),"") -> 44 | G69: =IF(OR(E69="",F69=""),"",IF(F69=1,(IF(COUNTIFS(F:F,"<="&F69)<=1,1,(1-COUNTIFS(F:F,"<"&F69))/COUNTIFS(F:F,F69)))*50*E69*(1+VALUE(MID(H69,FIND(": ",H69)+2,FIND("/",H69)-FIND(":",H69)-2))-1)+50*E69*(1+VALUE(MID(H69,FIND(": ",H69)+2,FIND("/",H69)-FIND(":",H69)-2))-1)/VALUE(RIGHT(H69,1)),IF(F69<=VALUE(MID(H69,FIND(", ",H69)+2,IF(MID(H69,FIND(", ",H69)+2,1)="1",2,1))),(IF(COUNTIFS(F:F,"<="&F69)<=VALUE(MID(H69,FIND(", ",H69)+2,IF(MID(H69,FIND(", ",H69)+2,1)="1",2,1))),1,(VALUE(MID(H69,FIND(", ",H69)+2,IF(MID(H69,FIND(", ",H69)+2,1)="1",2,1)))-COUNTIFS(F:F,"<"&F69))/COUNTIFS(F:F,F69)))*(50*E69*(1+VALUE(MID(H69,FIND(": ",H69)+2,FIND("/",H69)-FIND(":",H69)-2))-1)/VALUE(RIGHT(H69,1))+50*E69)-(100*E69),-E69*100))) | H69: =IF(E69="","",OFFSET([1]SA!$AL$1,MATCH(A69,[1]SA!$E$1:$E$500,0)-1,0))
A70: Luis Carrera | B70: 4.54% | C70: 22 | D70: 17 | F70: =IFERROR(IF(A70="","",OFFSET(Results!$AJ$1,MATCH(A70,Results!$A:$A,0)-1,0)),"") -> 19 | G70: =IF(OR(E70="",F70=""),"",IF(F70=1,(IF(COUNTIFS(F:F,"<="&F70)<=1,1,(1-COUNTIFS(F:F,"<"&F70))/COUNTIFS(F:F,F70)))*50*E70*(1+VALUE(MID(H70,FIND(": ",H70)+2,FIND("/",H70)-FIND(":",H70)-2))-1)+50*E70*(1+VALUE(MID(H70,FIND(": ",H70)+2,FIND("/",H70)-FIND(":",H70)-2))-1)/VALUE(RIGHT(H70,1)),IF(F70<=VALUE(MID(H70,FIND(", ",H70)+2,IF(MID(H70,FIND(", ",H70)+2,1)="1",2,1))),(IF(COUNTIFS(F:F,"<="&F70)<=VALUE(MID(H70,FIND(", ",H70)+2,IF(MID(H70,FIND(", ",H70)+2,1)="1",2,1))),1,(VALUE(MID(H70,FIND(", ",H70)+2,IF(MID(H70,FIND(", ",H70)+2,1)="1",2,1)))-COUNTIFS(F:F,"<"&F70))/COUNTIFS(F:F,F70)))*(50*E70*(1+VALUE(MID(H70,FIND(": ",H70)+2,FIND("/",H70)-FIND(":",H70)-2))-1)/VALUE(RIGHT(H70,1))+50*E70)-(100*E70),-E70*100))) | H70: =IF(E70="","",OFFSET([1]SA!$AL$1,MATCH(A70,[1]SA!$E$1:$E$500,0)-1,0))
A71: Luke Brown | B71: 0.40% | C71: 250 | D71: 101 | F71: =IFERROR(IF(A71="","",OFFSET(Results!$AJ$1,MATCH(A71,Results!$A:$A,0)-1,0)),"") -> 15 | G71: =IF(OR(E71="",F71=""),"",IF(F71=1,(IF(COUNTIFS(F:F,"<="&F71)<=1,1,(1-COUNTIFS(F:F,"<"&F71))/COUNTIFS(F:F,F71)))*50*E71*(1+VALUE(MID(H71,FIND(": ",H71)+2,FIND("/",H71)-FIND(":",H71)-2))-1)+50*E71*(1+VALUE(MID(H71,FIND(": ",H71)+2,FIND("/",H71)-FIND(":",H71)-2))-1)/VALUE(RIGHT(H71,1)),IF(F71<=VALUE(MID(H71,FIND(", ",H71)+2,IF(MID(H71,FIND(", ",H71)+2,1)="1",2,1))),(IF(COUNTIFS(F:F,"<="&F71)<=VALUE(MID(H71,FIND(", ",H71)+2,IF(MID(H71,FIND(", ",H71)+2,1)="1",2,1))),1,(VALUE(MID(H71,FIND(", ",H71)+2,IF(MID(H71,FIND(", ",H71)+2,1)="1",2,1)))-COUNTIFS(F:F,"<"&F71))/COUNTIFS(F:F,F71)))*(50*E71*(1+VALUE(MID(H71,FIND(": ",H71)+2,FIND("/",H71)-FIND(":",H71)-2))-1)/VALUE(RIGHT(H71,1))+50*E71)-(100*E71),-E71*100))) | H71: =IF(E71="","",OFFSET([1]SA!$AL$1,MATCH(A71,[1]SA!$E$1:$E$500,0)-1,0))
A72: Luke Jerling | B72: 0.56% | C72: 179 | D72: 91 | F72: =IFERROR(IF(A72="","",OFFSET(Results!$AJ$1,MATCH(A72,Results!$A:$A,0)-1,0)),"") -> 44 | G72: =IF(OR(E72="",F72=""),"",IF(F72=1,(IF(COUNTIFS(F:F,"<="&F72)<=1,1,(1-COUNTIFS(F:F,"<"&F72))/COUNTIFS(F:F,F72)))*50*E72*(1+VALUE(MID(H72,FIND(": ",H72)+2,FIND("/",H72)-FIND(":",H72)-2))-1)+50*E72*(1+VALUE(MID(H72,FIND(": ",H72)+2,FIND("/",H72)-FIND(":",H72)-2))-1)/VALUE(RIGHT(H72,1)),IF(F72<=VALUE(MID(H72,FIND(", ",H72)+2,IF(MID(H72,FIND(", ",H72)+2,1)="1",2,1))),(IF(COUNTIFS(F:F,"<="&F72)<=VALUE(MID(H72,FIND(", ",H72)+2,IF(MID(H72,FIND(", ",H72)+2,1)="1",2,1))),1,(VALUE(MID(H72,FIND(", ",H72)+2,IF(MID(H72,FIND(", ",H72)+2,1)="1",2,1)))-COUNTIFS(F:F,"<"&F72))/COUNTIFS(F:F,F72)))*(50*E72*(1+VALUE(MID(H72,FIND(": ",H72)+2,FIND("/",H72)-FIND(":",H72)-2))-1)/VALUE(RIGHT(H72,1))+50*E72)-(100*E72),-E72*100))) | H72: =IF(E72="","",OFFSET([1]SA!$AL$1,MATCH(A72,[1]SA!$E$1:$E$500,0)-1,0))
A73: Lwazi Gqira | B73: 0.00% | C73: 10000 | D73: 2501 | F73: =IFERROR(IF(A73="","",OFFSET(Results!$AJ$1,MATCH(A73,Results!$A:$A,0)-1,0)),"") -> 31 | G73: =IF(OR(E73="",F73=""),"",IF(F73=1,(IF(COUNTIFS(F:F,"<="&F73)<=1,1,(1-COUNTIFS(F:F,"<"&F73))/COUNTIFS(F:F,F73)))*50*E73*(1+VALUE(MID(H73,FIND(": ",H73)+2,FIND("/",H73)-FIND(":",H73)-2))-1)+50*E73*(1+VALUE(MID(H73,FIND(": ",H73)+2,FIND("/",H73)-FIND(":",H73)-2))-1)/VALUE(RIGHT(H73,1)),IF(F73<=VALUE(MID(H73,FIND(", ",H73)+2,IF(MID(H73,FIND(", ",H73)+2,1)="1",2,1))),(IF(COUNTIFS(F:F,"<="&F73)<=VALUE(MID(H73,FIND(", ",H73)+2,IF(MID(H73,FIND(", ",H73)+2,1)="1",2,1))),1,(VALUE(MID(H73,FIND(", ",H73)+2,IF(MID(H73,FIND(", ",H73)+2,1)="1",2,1)))-COUNTIFS(F:F,"<"&F73))/COUNTIFS(F:F,F73)))*(50*E73*(1+VALUE(MID(H73,FIND(": ",H73)+2,FIND("/",H73)-FIND(":",H73)-2))-1)/VALUE(RIGHT(H73,1))+50*E73)-(100*E73),-E73*100))) | H73: =IF(E73="","",OFFSET([1]SA!$AL$1,MATCH(A73,[1]SA!$E$1:$E$500,0)-1,0))
... A138: Zack Chegwidden | B138: 0.00% | C138: 10000 | D138: 1001 | F138: =IFERROR(IF(A138="","",OFFSET(Results!$AJ$1,MATCH(A138,Results!$A:$A,0)-1,0)),"") -> 118 | G138: =IF(OR(E138="",F138=""),"",IF(F138=1,(IF(COUNTIFS(F:F,"<="&F138)<=1,1,(1-COUNTIFS(F:F,"<"&F138))/COUNTIFS(F:F,F138)))*50*E138*(1+VALUE(MID(H138,FIND(": ",H138)+2,FIND("/",H138)-FIND(":",H138)-2))-1)+50*E138*(1+VALUE(MID(H138,FIND(": ",H138)+2,FIND("/",H138)-FIND(":",H138)-2))-1)/VALUE(RIGHT(H138,1)),IF(F138<=VALUE(MID(H138,FIND(", ",H138)+2,IF(MID(H138,FIND(", ",H138)+2,1)="1",2,1))),(IF(COUNTIFS(F:F,"<="&F138)<=VALUE(MID(H138,FIND(", ",H138)+2,IF(MID(H138,FIND(", ",H138)+2,1)="1",2,1))),1,(VALUE(MID(H138,FIND(", ",H138)+2,IF(MID(H138,FIND(", ",H138)+2,1)="1",2,1)))-COUNTIFS(F:F,"<"&F138))/COUNTIFS(F:F,F138)))*(50*E138*(1+VALUE(MID(H138,FIND(": ",H138)+2,FIND("/",H138)-FIND(":",H138)-2))-1)/VALUE(RIGHT(H138,1))+50*E138)-(100*E138),-E138*100))) | H138: =IF(E138="","",OFFSET([1]SA!$AL$1,MATCH(A138,[1]SA!$E$1:$E$500,0)-1,0))
F139: =IFERROR(IF(A139="","",OFFSET(Results!$AJ$1,MATCH(A139,Results!$A:$A,0)-1,0)),"") | G139: =IF(OR(E139="",F139=""),"",IF(F139=1,(IF(COUNTIFS(F:F,"<="&F139)<=1,1,(1-COUNTIFS(F:F,"<"&F139))/COUNTIFS(F:F,F139)))*50*E139*(1+VALUE(MID(H139,FIND(": ",H139)+2,FIND("/",H139)-FIND(":",H139)-2))-1)+50*E139*(1+VALUE(MID(H139,FIND(": ",H139)+2,FIND("/",H139)-FIND(":",H139)-2))-1)/VALUE(RIGHT(H139,1)),IF(F139<=VALUE(MID(H139,FIND(", ",H139)+2,IF(MID(H139,FIND(", ",H139)+2,1)="1",2,1))),(IF(COUNTIFS(F:F,"<="&F139)<=VALUE(MID(H139,FIND(", ",H139)+2,IF(MID(H139,FIND(", ",H139)+2,1)="1",2,1))),1,(VALUE(MID(H139,FIND(", ",H139)+2,IF(MID(H139,FIND(", ",H139)+2,1)="1",2,1)))-COUNTIFS(F:F,"<"&F139))/COUNTIFS(F:F,F139)))*(50*E139*(1+VALUE(MID(H139,FIND(": ",H139)+2,FIND("/",H139)-FIND(":",H139)-2))-1)/VALUE(RIGHT(H139,1))+50*E139)-(100*E139),-E139*100))) | H139: =IF(E139="","",OFFSET([1]SA!$AL$1,MATCH(A139,[1]SA!$E$1:$E$500,0)-1,0))
F140: =IFERROR(IF(A140="","",OFFSET(Results!$AJ$1,MATCH(A140,Results!$A:$A,0)-1,0)),"") | G140: =IF(OR(E140="",F140=""),"",IF(F140=1,(IF(COUNTIFS(F:F,"<="&F140)<=1,1,(1-COUNTIFS(F:F,"<"&F140))/COUNTIFS(F:F,F140)))*50*E140*(1+VALUE(MID(H140,FIND(": ",H140)+2,FIND("/",H140)-FIND(":",H140)-2))-1)+50*E140*(1+VALUE(MID(H140,FIND(": ",H140)+2,FIND("/",H140)-FIND(":",H140)-2))-1)/VALUE(RIGHT(H140,1)),IF(F140<=VALUE(MID(H140,FIND(", ",H140)+2,IF(MID(H140,FIND(", ",H140)+2,1)="1",2,1))),(IF(COUNTIFS(F:F,"<="&F140)<=VALUE(MID(H140,FIND(", ",H140)+2,IF(MID(H140,FIND(", ",H140)+2,1)="1",2,1))),1,(VALUE(MID(H140,FIND(", ",H140)+2,IF(MID(H140,FIND(", ",H140)+2,1)="1",2,1)))-COUNTIFS(F:F,"<"&F140))/COUNTIFS(F:F,F140)))*(50*E140*(1+VALUE(MID(H140,FIND(": ",H140)+2,FIND("/",H140)-FIND(":",H140)-2))-1)/VALUE(RIGHT(H140,1))+50*E140)-(100*E140),-E140*100))) | H140: =IF(E140="","",OFFSET([1]SA!$AL$1,MATCH(A140,[1]SA!$E$1:$E$500,0)-1,0))
F141: =IFERROR(IF(A141="","",OFFSET(Results!$AJ$1,MATCH(A141,Results!$A:$A,0)-1,0)),"") | G141: =IF(OR(E141="",F141=""),"",IF(F141=1,(IF(COUNTIFS(F:F,"<="&F141)<=1,1,(1-COUNTIFS(F:F,"<"&F141))/COUNTIFS(F:F,F141)))*50*E141*(1+VALUE(MID(H141,FIND(": ",H141)+2,FIND("/",H141)-FIND(":",H141)-2))-1)+50*E141*(1+VALUE(MID(H141,FIND(": ",H141)+2,FIND("/",H141)-FIND(":",H141)-2))-1)/VALUE(RIGHT(H141,1)),IF(F141<=VALUE(MID(H141,FIND(", ",H141)+2,IF(MID(H141,FIND(", ",H141)+2,1)="1",2,1))),(IF(COUNTIFS(F:F,"<="&F141)<=VALUE(MID(H141,FIND(", ",H141)+2,IF(MID(H141,FIND(", ",H141)+2,1)="1",2,1))),1,(VALUE(MID(H141,FIND(", ",H141)+2,IF(MID(H141,FIND(", ",H141)+2,1)="1",2,1)))-COUNTIFS(F:F,"<"&F141))/COUNTIFS(F:F,F141)))*(50*E141*(1+VALUE(MID(H141,FIND(": ",H141)+2,FIND("/",H141)-FIND(":",H141)-2))-1)/VALUE(RIGHT(H141,1))+50*E141)-(100*E141),-E141*100))) | H141: =IF(E141="","",OFFSET([1]SA!$AL$1,MATCH(A141,[1]SA!$E$1:$E$500,0)-1,0))
F142: =IFERROR(IF(A142="","",OFFSET(Results!$AJ$1,MATCH(A142,Results!$A:$A,0)-1,0)),"") | G142: =IF(OR(E142="",F142=""),"",IF(F142=1,(IF(COUNTIFS(F:F,"<="&F142)<=1,1,(1-COUNTIFS(F:F,"<"&F142))/COUNTIFS(F:F,F142)))*50*E142*(1+VALUE(MID(H142,FIND(": ",H142)+2,FIND("/",H142)-FIND(":",H142)-2))-1)+50*E142*(1+VALUE(MID(H142,FIND(": ",H142)+2,FIND("/",H142)-FIND(":",H142)-2))-1)/VALUE(RIGHT(H142,1)),IF(F142<=VALUE(MID(H142,FIND(", ",H142)+2,IF(MID(H142,FIND(", ",H142)+2,1)="1",2,1))),(IF(COUNTIFS(F:F,"<="&F142)<=VALUE(MID(H142,FIND(", ",H142)+2,IF(MID(H142,FIND(", ",H142)+2,1)="1",2,1))),1,(VALUE(MID(H142,FIND(", ",H142)+2,IF(MID(H142,FIND(", ",H142)+2,1)="1",2,1)))-COUNTIFS(F:F,"<"&F142))/COUNTIFS(F:F,F142)))*(50*E142*(1+VALUE(MID(H142,FIND(": ",H142)+2,FIND("/",H142)-FIND(":",H142)-2))-1)/VALUE(RIGHT(H142,1))+50*E142)-(100*E142),-E142*100))) | H142: =IF(E142="","",OFFSET([1]SA!$AL$1,MATCH(A142,[1]SA!$E$1:$E$500,0)-1,0))
F143: =IFERROR(IF(A143="","",OFFSET(Results!$AJ$1,MATCH(A143,Results!$A:$A,0)-1,0)),"") | G143: =IF(OR(E143="",F143=""),"",IF(F143=1,(IF(COUNTIFS(F:F,"<="&F143)<=1,1,(1-COUNTIFS(F:F,"<"&F143))/COUNTIFS(F:F,F143)))*50*E143*(1+VALUE(MID(H143,FIND(": ",H143)+2,FIND("/",H143)-FIND(":",H143)-2))-1)+50*E143*(1+VALUE(MID(H143,FIND(": ",H143)+2,FIND("/",H143)-FIND(":",H143)-2))-1)/VALUE(RIGHT(H143,1)),IF(F143<=VALUE(MID(H143,FIND(", ",H143)+2,IF(MID(H143,FIND(", ",H143)+2,1)="1",2,1))),(IF(COUNTIFS(F:F,"<="&F143)<=VALUE(MID(H143,FIND(", ",H143)+2,IF(MID(H143,FIND(", ",H143)+2,1)="1",2,1))),1,(VALUE(MID(H143,FIND(", ",H143)+2,IF(MID(H143,FIND(", ",H143)+2,1)="1",2,1)))-COUNTIFS(F:F,"<"&F143))/COUNTIFS(F:F,F143)))*(50*E143*(1+VALUE(MID(H143,FIND(": ",H143)+2,FIND("/",H143)-FIND(":",H143)-2))-1)/VALUE(RIGHT(H143,1))+50*E143)-(100*E143),-E143*100))) | H143: =IF(E143="","",OFFSET([1]SA!$AL$1,MATCH(A143,[1]SA!$E$1:$E$500,0)-1,0))
F144: =IFERROR(IF(A144="","",OFFSET(Results!$AJ$1,MATCH(A144,Results!$A:$A,0)-1,0)),"") | G144: =IF(OR(E144="",F144=""),"",IF(F144=1,(IF(COUNTIFS(F:F,"<="&F144)<=1,1,(1-COUNTIFS(F:F,"<"&F144))/COUNTIFS(F:F,F144)))*50*E144*(1+VALUE(MID(H144,FIND(": ",H144)+2,FIND("/",H144)-FIND(":",H144)-2))-1)+50*E144*(1+VALUE(MID(H144,FIND(": ",H144)+2,FIND("/",H144)-FIND(":",H144)-2))-1)/VALUE(RIGHT(H144,1)),IF(F144<=VALUE(MID(H144,FIND(", ",H144)+2,IF(MID(H144,FIND(", ",H144)+2,1)="1",2,1))),(IF(COUNTIFS(F:F,"<="&F144)<=VALUE(MID(H144,FIND(", ",H144)+2,IF(MID(H144,FIND(", ",H144)+2,1)="1",2,1))),1,(VALUE(MID(H144,FIND(", ",H144)+2,IF(MID(H144,FIND(", ",H144)+2,1)="1",2,1)))-COUNTIFS(F:F,"<"&F144))/COUNTIFS(F:F,F144)))*(50*E144*(1+VALUE(MID(H144,FIND(": ",H144)+2,FIND("/",H144)-FIND(":",H144)-2))-1)/VALUE(RIGHT(H144,1))+50*E144)-(100*E144),-E144*100))) | H144: =IF(E144="","",OFFSET([1]SA!$AL$1,MATCH(A144,[1]SA!$E$1:$E$500,0)-1,0))
F145: =IFERROR(IF(A145="","",OFFSET(Results!$AJ$1,MATCH(A145,Results!$A:$A,0)-1,0)),"") | G145: =IF(OR(E145="",F145=""),"",IF(F145=1,(IF(COUNTIFS(F:F,"<="&F145)<=1,1,(1-COUNTIFS(F:F,"<"&F145))/COUNTIFS(F:F,F145)))*50*E145*(1+VALUE(MID(H145,FIND(": ",H145)+2,FIND("/",H145)-FIND(":",H145)-2))-1)+50*E145*(1+VALUE(MID(H145,FIND(": ",H145)+2,FIND("/",H145)-FIND(":",H145)-2))-1)/VALUE(RIGHT(H145,1)),IF(F145<=VALUE(MID(H145,FIND(", ",H145)+2,IF(MID(H145,FIND(", ",H145)+2,1)="1",2,1))),(IF(COUNTIFS(F:F,"<="&F145)<=VALUE(MID(H145,FIND(", ",H145)+2,IF(MID(H145,FIND(", ",H145)+2,1)="1",2,1))),1,(VALUE(MID(H145,FIND(", ",H145)+2,IF(MID(H145,FIND(", ",H145)+2,1)="1",2,1)))-COUNTIFS(F:F,"<"&F145))/COUNTIFS(F:F,F145)))*(50*E145*(1+VALUE(MID(H145,FIND(": ",H145)+2,FIND("/",H145)-FIND(":",H145)-2))-1)/VALUE(RIGHT(H145,1))+50*E145)-(100*E145),-E145*100))) | H145: =IF(E145="","",OFFSET([1]SA!$AL$1,MATCH(A145,[1]SA!$E$1:$E$500,0)-1,0))
F146: =IFERROR(IF(A146="","",OFFSET(Results!$AJ$1,MATCH(A146,Results!$A:$A,0)-1,0)),"") | G146: =IF(OR(E146="",F146=""),"",IF(F146=1,(IF(COUNTIFS(F:F,"<="&F146)<=1,1,(1-COUNTIFS(F:F,"<"&F146))/COUNTIFS(F:F,F146)))*50*E146*(1+VALUE(MID(H146,FIND(": ",H146)+2,FIND("/",H146)-FIND(":",H146)-2))-1)+50*E146*(1+VALUE(MID(H146,FIND(": ",H146)+2,FIND("/",H146)-FIND(":",H146)-2))-1)/VALUE(RIGHT(H146,1)),IF(F146<=VALUE(MID(H146,FIND(", ",H146)+2,IF(MID(H146,FIND(", ",H146)+2,1)="1",2,1))),(IF(COUNTIFS(F:F,"<="&F146)<=VALUE(MID(H146,FIND(", ",H146)+2,IF(MID(H146,FIND(", ",H146)+2,1)="1",2,1))),1,(VALUE(MID(H146,FIND(", ",H146)+2,IF(MID(H146,FIND(", ",H146)+2,1)="1",2,1)))-COUNTIFS(F:F,"<"&F146))/COUNTIFS(F:F,F146)))*(50*E146*(1+VALUE(MID(H146,FIND(": ",H146)+2,FIND("/",H146)-FIND(":",H146)-2))-1)/VALUE(RIGHT(H146,1))+50*E146)-(100*E146),-E146*100))) | H146: =IF(E146="","",OFFSET([1]SA!$AL$1,MATCH(A146,[1]SA!$E$1:$E$500,0)-1,0))
F147: =IFERROR(IF(A147="","",OFFSET(Results!$AJ$1,MATCH(A147,Results!$A:$A,0)-1,0)),"") | G147: =IF(OR(E147="",F147=""),"",IF(F147=1,(IF(COUNTIFS(F:F,"<="&F147)<=1,1,(1-COUNTIFS(F:F,"<"&F147))/COUNTIFS(F:F,F147)))*50*E147*(1+VALUE(MID(H147,FIND(": ",H147)+2,FIND("/",H147)-FIND(":",H147)-2))-1)+50*E147*(1+VALUE(MID(H147,FIND(": ",H147)+2,FIND("/",H147)-FIND(":",H147)-2))-1)/VALUE(RIGHT(H147,1)),IF(F147<=VALUE(MID(H147,FIND(", ",H147)+2,IF(MID(H147,FIND(", ",H147)+2,1)="1",2,1))),(IF(COUNTIFS(F:F,"<="&F147)<=VALUE(MID(H147,FIND(", ",H147)+2,IF(MID(H147,FIND(", ",H147)+2,1)="1",2,1))),1,(VALUE(MID(H147,FIND(", ",H147)+2,IF(MID(H147,FIND(", ",H147)+2,1)="1",2,1)))-COUNTIFS(F:F,"<"&F147))/COUNTIFS(F:F,F147)))*(50*E147*(1+VALUE(MID(H147,FIND(": ",H147)+2,FIND("/",H147)-FIND(":",H147)-2))-1)/VALUE(RIGHT(H147,1))+50*E147)-(100*E147),-E147*100))) | H147: =IF(E147="","",OFFSET([1]SA!$AL$1,MATCH(A147,[1]SA!$E$1:$E$500,0)-1,0))
F148: =IFERROR(IF(A148="","",OFFSET(Results!$AJ$1,MATCH(A148,Results!$A:$A,0)-1,0)),"") | G148: =IF(OR(E148="",F148=""),"",IF(F148=1,(IF(COUNTIFS(F:F,"<="&F148)<=1,1,(1-COUNTIFS(F:F,"<"&F148))/COUNTIFS(F:F,F148)))*50*E148*(1+VALUE(MID(H148,FIND(": ",H148)+2,FIND("/",H148)-FIND(":",H148)-2))-1)+50*E148*(1+VALUE(MID(H148,FIND(": ",H148)+2,FIND("/",H148)-FIND(":",H148)-2))-1)/VALUE(RIGHT(H148,1)),IF(F148<=VALUE(MID(H148,FIND(", ",H148)+2,IF(MID(H148,FIND(", ",H148)+2,1)="1",2,1))),(IF(COUNTIFS(F:F,"<="&F148)<=VALUE(MID(H148,FIND(", ",H148)+2,IF(MID(H148,FIND(", ",H148)+2,1)="1",2,1))),1,(VALUE(MID(H148,FIND(", ",H148)+2,IF(MID(H148,FIND(", ",H148)+2,1)="1",2,1)))-COUNTIFS(F:F,"<"&F148))/COUNTIFS(F:F,F148)))*(50*E148*(1+VALUE(MID(H148,FIND(": ",H148)+2,FIND("/",H148)-FIND(":",H148)-2))-1)/VALUE(RIGHT(H148,1))+50*E148)-(100*E148),-E148*100))) | H148: =IF(E148="","",OFFSET([1]SA!$AL$1,MATCH(A148,[1]SA!$E$1:$E$500,0)-1,0))
F149: =IFERROR(IF(A149="","",OFFSET(Results!$AJ$1,MATCH(A149,Results!$A:$A,0)-1,0)),"") | G149: =IF(OR(E149="",F149=""),"",IF(F149=1,(IF(COUNTIFS(F:F,"<="&F149)<=1,1,(1-COUNTIFS(F:F,"<"&F149))/COUNTIFS(F:F,F149)))*50*E149*(1+VALUE(MID(H149,FIND(": ",H149)+2,FIND("/",H149)-FIND(":",H149)-2))-1)+50*E149*(1+VALUE(MID(H149,FIND(": ",H149)+2,FIND("/",H149)-FIND(":",H149)-2))-1)/VALUE(RIGHT(H149,1)),IF(F149<=VALUE(MID(H149,FIND(", ",H149)+2,IF(MID(H149,FIND(", ",H149)+2,1)="1",2,1))),(IF(COUNTIFS(F:F,"<="&F149)<=VALUE(MID(H149,FIND(", ",H149)+2,IF(MID(H149,FIND(", ",H149)+2,1)="1",2,1))),1,(VALUE(MID(H149,FIND(", ",H149)+2,IF(MID(H149,FIND(", ",H149)+2,1)="1",2,1)))-COUNTIFS(F:F,"<"&F149))/COUNTIFS(F:F,F149)))*(50*E149*(1+VALUE(MID(H149,FIND(": ",H149)+2,FIND("/",H149)-FIND(":",H149)-2))-1)/VALUE(RIGHT(H149,1))+50*E149)-(100*E149),-E149*100))) | H149: =IF(E149="","",OFFSET([1]SA!$AL$1,MATCH(A149,[1]SA!$E$1:$E$500,0)-1,0))
F150: =IFERROR(IF(A150="","",OFFSET(Results!$AJ$1,MATCH(A150,Results!$A:$A,0)-1,0)),"") | G150: =IF(OR(E150="",F150=""),"",IF(F150=1,(IF(COUNTIFS(F:F,"<="&F150)<=1,1,(1-COUNTIFS(F:F,"<"&F150))/COUNTIFS(F:F,F150)))*50*E150*(1+VALUE(MID(H150,FIND(": ",H150)+2,FIND("/",H150)-FIND(":",H150)-2))-1)+50*E150*(1+VALUE(MID(H150,FIND(": ",H150)+2,FIND("/",H150)-FIND(":",H150)-2))-1)/VALUE(RIGHT(H150,1)),IF(F150<=VALUE(MID(H150,FIND(", ",H150)+2,IF(MID(H150,FIND(", ",H150)+2,1)="1",2,1))),(IF(COUNTIFS(F:F,"<="&F150)<=VALUE(MID(H150,FIND(", ",H150)+2,IF(MID(H150,FIND(", ",H150)+2,1)="1",2,1))),1,(VALUE(MID(H150,FIND(", ",H150)+2,IF(MID(H150,FIND(", ",H150)+2,1)="1",2,1)))-COUNTIFS(F:F,"<"&F150))/COUNTIFS(F:F,F150)))*(50*E150*(1+VALUE(MID(H150,FIND(": ",H150)+2,FIND("/",H150)-FIND(":",H150)-2))-1)/VALUE(RIGHT(H150,1))+50*E150)-(100*E150),-E150*100))) | H150: =IF(E150="","",OFFSET([1]SA!$AL$1,MATCH(A150,[1]SA!$E$1:$E$500,0)-1,0))
... F169: =IFERROR(IF(A169="","",OFFSET(Results!$AJ$1,MATCH(A169,Results!$A:$A,0)-1,0)),"") | G169: =IF(OR(E169="",F169=""),"",IF(F169=1,(IF(COUNTIFS(F:F,"<="&F169)<=1,1,(1-COUNTIFS(F:F,"<"&F169))/COUNTIFS(F:F,F169)))*50*E169*(1+VALUE(MID(H169,FIND(": ",H169)+2,FIND("/",H169)-FIND(":",H169)-2))-1)+50*E169*(1+VALUE(MID(H169,FIND(": ",H169)+2,FIND("/",H169)-FIND(":",H169)-2))-1)/VALUE(RIGHT(H169,1)),IF(F169<=VALUE(MID(H169,FIND(", ",H169)+2,IF(MID(H169,FIND(", ",H169)+2,1)="1",2,1))),(IF(COUNTIFS(F:F,"<="&F169)<=VALUE(MID(H169,FIND(", ",H169)+2,IF(MID(H169,FIND(", ",H169)+2,1)="1",2,1))),1,(VALUE(MID(H169,FIND(", ",H169)+2,IF(MID(H169,FIND(", ",H169)+2,1)="1",2,1)))-COUNTIFS(F:F,"<"&F169))/COUNTIFS(F:F,F169)))*(50*E169*(1+VALUE(MID(H169,FIND(": ",H169)+2,FIND("/",H169)-FIND(":",H169)-2))-1)/VALUE(RIGHT(H169,1))+50*E169)-(100*E169),-E169*100))) | H169: =IF(E169="","",OFFSET([1]SA!$AL$1,MATCH(A169,[1]SA!$E$1:$E$500,0)-1,0))

Sheet Top3
A1: Player | B1: Win % | C1: TT Odds | D1: Best Odds | E1: Kelly | F1: Result | G1: P/L | H1: E/W Play
A2: Albert Venter | B2: 0.01% | C2: 10000
A3: Altin Van Der Merwe | B3: 7.37% | C3: 14
A4: Anthony Michael | B4: 0.70% | C4: 143
A5: Ben Van Wyk | B5: 3.21% | C5: 31
A6: Bradley De Beer | B6: 0.00% | C6: 10000
A7: Brandon Meads | B7: 0.02% | C7: 5000
A8: Bryce Easton | B8: 10.94% | C8: 9.1
A9: C.J. Du Plessis | B9: 1.06% | C9: 94
A10: Carl Mwale | B10: 0.00% | C10: 10000
A11: Carter Rowe | B11: 0.00% | C11: 10000
A12: Christiaan Burke | B12: 2.88% | C12: 35
A13: Christian Kriek | B13: 0.01% | C13: 10000
... A138: Zack Chegwidden | B138: 0.00% | C138: 10000

Sheet Top5
A1: Player | B1: Win % | C1: TT Odds | D1: Best Odds | E1: Kelly | F1: Result | G1: P/L | H1: E/W Play
A2: Albert Venter | B2: 0.02% | C2: 5000
A3: Altin Van Der Merwe | B3: 12.80% | C3: 7.8
A4: Anthony Michael | B4: 1.51% | C4: 66
A5: Ben Van Wyk | B5: 6.08% | C5: 16
A6: Bradley De Beer | B6: 0.00% | C6: 10000
A7: Brandon Meads | B7: 0.05% | C7: 2000
A8: Bryce Easton | B8: 18.12% | C8: 5.5
A9: C.J. Du Plessis | B9: 2.31% | C9: 43
A10: Carl Mwale | B10: 0.00% | C10: 10000
A11: Carter Rowe | B11: 0.00% | C11: 10000
A12: Christiaan Burke | B12: 5.56% | C12: 18
A13: Christian Kriek | B13: 0.03% | C13: 3333
... A138: Zack Chegwidden | B138: 0.00% | C138: 10000

Sheet Top10
A1: Player | B1: Win % | C1: TT Odds | D1: Best Odds | E1: Kelly | F1: Result | G1: P/L | H1: E/W Play
A2: Albert Venter | B2: 0.10% | C2: 1000
A3: Altin Van Der Merwe | B3: 25.61% | C3: 3.9
A4: Anthony Michael | B4: 4.51% | C4: 22
A5: Ben Van Wyk | B5: 14.33% | C5: 7
A6: Bradley De Beer | B6: 0.00% | C6: 10000
A7: Brandon Meads | B7: 0.23% | C7: 435
A8: Bryce Easton | B8: 33.19% | C8: 3
A9: C.J. Du Plessis | B9: 6.28% | C9: 16
A10: Carl Mwale | B10: 0.00% | C10: 10000
A11: Carter Rowe | B11: 0.00% | C11: 10000
A12: Christiaan Burke | B12: 13.05% | C12: 7.7
A13: Christian Kriek | B13: 0.13% | C13: 769
... A138: Zack Chegwidden | B138: 0.01% | C138: 10000

Sheet Top20
A1: Player | B1: Win % | C1: TT Odds | D1: Best Odds | E1: Kelly | F1: Result | G1: P/L | H1: E/W Play
A2: Albert Venter | B2: 0.51% | C2: 196
A3: Altin Van Der Merwe | B3: 46.29% | C3: 2.2
A4: Anthony Michael | B4: 13.23% | C4: 7.6
A5: Ben Van Wyk | B5: 30.97% | C5: 3.2
A6: Bradley De Beer | B6: 0.02% | C6: 5000
A7: Brandon Meads | B7: 1.24% | C7: 81
A8: Bryce Easton | B8: 55.08% | C8: 1.82
A9: C.J. Du Plessis | B9: 16.84% | C9: 5.9
A10: Carl Mwale | B10: 0.00% | C10: 10000
A11: Carter Rowe | B11: 0.02% | C11: 5000
A12: Christiaan Burke | B12: 29.00% | C12: 3.4
A13: Christian Kriek | B13: 0.77% | C13: 130
... A138: Zack Chegwidden | B138: 0.11% | C138: 909

Sheet Top30
A1: Player | B1: Win % | C1: TT Odds | D1: Best Odds | E1: Kelly | F1: Result | G1: P/L | H1: E/W Play
A2: Albert Venter | B2: 1.55% | C2: 65
A3: Altin Van Der Merwe | B3: 61.96% | C3: 1.61
A4: Anthony Michael | B4: 23.99% | C4: 4.2
A5: Ben Van Wyk | B5: 46.36% | C5: 2.2
A6: Bradley De Beer | B6: 0.11% | C6: 909
A7: Brandon Meads | B7: 3.35% | C7: 30
A8: Bryce Easton | B8: 70.00% | C8: 1.43
A9: C.J. Du Plessis | B9: 29.07% | C9: 3.4
A10: Carl Mwale | B10: 0.00% | C10: 10000
A11: Carter Rowe | B11: 0.13% | C11: 769
A12: Christiaan Burke | B12: 44.04% | C12: 2.3
A13: Christian Kriek | B13: 2.24% | C13: 45
... A138: Zack Chegwidden | B138: 0.36% | C138: 278

Sheet Top40
A1: Player | B1: Win % | C1: TT Odds | D1: Best Odds | E1: Kelly | F1: Result | G1: P/L | H1: E/W Play
A2: Albert Venter | B2: 3.45% | C2: 29
A3: Altin Van Der Merwe | B3: 73.84% | C3: 1.35
A4: Anthony Michael | B4: 35.84% | C4: 2.8
A5: Ben Van Wyk | B5: 59.63% | C5: 1.68
A6: Bradley De Beer | B6: 0.33% | C6: 303
A7: Brandon Meads | B7: 6.78% | C7: 15
A8: Bryce Easton | B8: 80.40% | C8: 1.24
A9: C.J. Du Plessis | B9: 41.67% | C9: 2.4
A10: Carl Mwale | B10: 0.01% | C10: 10000
A11: Carter Rowe | B11: 0.37% | C11: 270
A12: Christiaan Burke | B12: 57.76% | C12: 1.73
A13: Christian Kriek | B13: 4.82% | C13: 21
... A138: Zack Chegwidden | B138: 1.01% | C138: 99

Sheet MC
A1: Player | B1: Win % | C1: TT Odds | D1: Best Odds | E1: Kelly | F1: Result | G1: P/L | H1: E/W Play
A2: Albert Venter | B2: 95.13% | C2: 1.05
A3: Altin Van Der Merwe | B3: 21.28% | C3: 4.7
A4: Anthony Michael | B4: 58.13% | C4: 1.72
A5: Ben Van Wyk | B5: 34.47% | C5: 2.9
A6: Bradley De Beer | B6: 99.48% | C6: 1.01
A7: Brandon Meads | B7: 90.83% | C7: 1.1
A8: Bryce Easton | B8: 15.59% | C8: 6.4
A9: C.J. Du Plessis | B9: 52.04% | C9: 1.92
A10: Carl Mwale | B10: 99.99% | C10: 1
A11: Carter Rowe | B11: 99.43% | C11: 1.01
A12: Christiaan Burke | B12: 36.31% | C12: 2.8
A13: Christian Kriek | B13: 93.35% | C13: 1.07
... A138: Zack Chegwidden | B138: 98.50% | C138: 1.02

Sheet Picks
A1: Player | B1: TTWin | C1: TTOdds | D1: BestOdds | E1: Kelly | F1: Rank | G1: Result | H1: P/L | I1: Full P/L | J1: E/W Play | L1: FRL: | M1: Player | N1: TTWin | O1: TTOdds | P1: BestOdds | Q1: Kelly | R1: Rank | S1: Result | T1: P/L | U1: Full P/L | V1: E/W Play
A2: =IF(Win!A2="","",Win!A2) -> Albert Venter | B2: =IF(Win!B2="","",VALUE(Win!B2)) -> 0 | C2: =IF(Win!C2="","",Win!C2) -> 10000 | D2: =IF(Win!D2="","",Win!D2) -> 751 | E2: =IF(D2="","",IF(ROUND((B2*(D2-1)-(1-B2))/(D2-1),3)<=0,"",ROUND((B2*(D2-1)-(1-B2))/(D2-1),3))) | F2: {=IF(E2="","",RANK(E2, $E$2:$E$241) + COUNTIFS($E$2:$E$241, E2, $D$2:$D$241, "<"&D2) + COUNTIFS($E$2:$E$241, E2, $D$2:$D$241, D2, $A$2:$A$241, "<"&A2))} | G2: =IF(Win!F2="","",Win!F2) -> 61 | H2: =IF(OR(F2="",G2="",F2>3),"",IF(G2=1,(IF(COUNTIFS(G:G,"<="&G2)<=1,1,(1-COUNTIFS(G:G,"<"&G2))/COUNTIFS(G:G,G2)))*(1+VALUE(MID(J2,FIND(": ",J2)+2,FIND("/",J2)-FIND(":",J2)-2))-1)+(1+VALUE(MID(J2,FIND(": ",J2)+2,FIND("/",J2)-FIND(":",J2)-2))-1)/VALUE(RIGHT(J2,1)),IF(G2<=VALUE(MID(J2,FIND(", ",J2)+2,IF(MID(J2,FIND(", ",J2)+2,1)="1",2,1))),(IF(COUNTIFS(G:G,"<="&G2)<=VALUE(MID(J2,FIND(", ",J2)+2,IF(MID(J2,FIND(", ",J2)+2,1)="1",2,1))),1,(VALUE(MID(J2,FIND(", ",J2)+2,IF(MID(J2,FIND(", ",J2)+2,1)="1",2,1)))-COUNTIFS(G:G,"<"&G2))/COUNTIFS(G:G,G2)))*(1*(1+VALUE(MID(J2,FIND(": ",J2)+2,FIND("/",J2)-FIND(":",J2)-2))-1)/VALUE(RIGHT(J2,1))+1)-2,-2))) | I2: =IF(OR(E2="",G2=""),"",IF(G2=1,(IF(COUNTIFS(G:G,"<="&G2)<=1,1,(1-COUNTIFS(G:G,"<"&G2))/COUNTIFS(G:G,G2)))*(1+VALUE(MID(J2,FIND(": ",J2)+2,FIND("/",J2)-FIND(":",J2)-2))-1)+(1+VALUE(MID(J2,FIND(": ",J2)+2,FIND("/",J2)-FIND(":",J2)-2))-1)/VALUE(RIGHT(J2,1)),IF(G2<=VALUE(MID(J2,FIND(", ",J2)+2,IF(MID(J2,FIND(", ",J2)+2,1)="1",2,1))),(IF(COUNTIFS(G:G,"<="&G2)<=VALUE(MID(J2,FIND(", ",J2)+2,IF(MID(J2,FIND(", ",J2)+2,1)="1",2,1))),1,(VALUE(MID(J2,FIND(", ",J2)+2,IF(MID(J2,FIND(", ",J2)+2,1)="1",2,1)))-COUNTIFS(G:G,"<"&G2))/COUNTIFS(G:G,G2)))*(1*(1+VALUE(MID(J2,FIND(": ",J2)+2,FIND("/",J2)-FIND(":",J2)-2))-1)/VALUE(RIGHT(J2,1))+1)-2,-2))) | J2: =IF(F2="","",Win!H2) | M2: =IF(FRL!A2="","",FRL!A2) | N2: =IF(FRL!B2="","",FRL!B2) | O2: =IF(FRL!C2="","",FRL!C2) | P2: =IF(FRL!D2="","",FRL!D2) | Q2: =IF(P2="","",IF(ROUND((N2*(P2-1)-(1-N2))/(P2-1),3)<=0,"",ROUND((N2*(P2-1)-(1-N2))/(P2-1),3))) | R2: {=IF(Q2="","",RANK(Q2, $Q$2:$Q$241) + COUNTIFS($Q$2:$Q$241, Q2, $P$2:$P$241, "<"&P2) + COUNTIFS($Q$2:$Q$241, Q2, $P$2:$P$241, P2, $M$2:$M$241, "<"&M2))} | S2: =IF(FRL!F2="","",FRL!F2) | T2: =IF(OR(R2="",S2="",R2>3),"",IF(S2=1,(IF(COUNTIFS(S:S,"<="&S2)<=1,1,(1-COUNTIFS(S:S,"<"&S2))/COUNTIFS(S:S,S2)))*(1+VALUE(MID(V2,FIND(": ",V2)+2,FIND("/",V2)-FIND(":",V2)-2))-1)+(1+VALUE(MID(V2,FIND(": ",V2)+2,FIND("/",V2)-FIND(":",V2)-2))-1)/VALUE(RIGHT(V2,1)),IF(S2<=VALUE(MID(V2,FIND(", ",V2)+2,IF(MID(V2,FIND(", ",V2)+2,1)="1",2,1))),(IF(COUNTIFS(S:S,"<="&S2)<=VALUE(MID(V2,FIND(", ",V2)+2,IF(MID(V2,FIND(", ",V2)+2,1)="1",2,1))),1,(VALUE(MID(V2,FIND(", ",V2)+2,IF(MID(V2,FIND(", ",V2)+2,1)="1",2,1)))-COUNTIFS(S:S,"<"&S2))/COUNTIFS(S:S,S2)))*(1*(1+VALUE(MID(V2,FIND(": ",V2)+2,FIND("/",V2)-FIND(":",V2)-2))-1)/VALUE(RIGHT(V2,1))+1)-2,-2))) | U2: =IF(OR(Q2="",S2=""),"",IF(S2=1,(IF(COUNTIFS(S:S,"<="&S2)<=1,1,(1-COUNTIFS(S:S,"<"&S2))/COUNTIFS(S:S,S2)))*(1+VALUE(MID(V2,FIND(": ",V2)+2,FIND("/",V2)-FIND(":",V2)-2))-1)+(1+VALUE(MID(V2,FIND(": ",V2)+2,FIND("/",V2)-FIND(":",V2)-2))-1)/VALUE(RIGHT(V2,1)),IF(S2<=VALUE(MID(V2,FIND(", ",V2)+2,IF(MID(V2,FIND(", ",V2)+2,1)="1",2,1))),(IF(COUNTIFS(S:S,"<="&S2)<=VALUE(MID(V2,FIND(", ",V2)+2,IF(MID(V2,FIND(", ",V2)+2,1)="1",2,1))),1,(VALUE(MID(V2,FIND(", ",V2)+2,IF(MID(V2,FIND(", ",V2)+2,1)="1",2,1)))-COUNTIFS(S:S,"<"&S2))/COUNTIFS(S:S,S2)))*(1*(1+VALUE(MID(V2,FIND(": ",V2)+2,FIND("/",V2)-FIND(":",V2)-2))-1)/VALUE(RIGHT(V2,1))+1)-2,-2))) | V2: =IF(R2="","",FRL!H2)
A3: =IF(Win!A3="","",Win!A3) -> Altin Van Der Merwe | B3: =IF(Win!B3="","",VALUE(Win!B3)) -> 0.0211 | C3: =IF(Win!C3="","",Win!C3) -> 47 | D3: =IF(Win!D3="","",Win!D3) -> 41 | E3: =IF(D3="","",IF(ROUND((B3*(D3-1)-(1-B3))/(D3-1),3)<=0,"",ROUND((B3*(D3-1)-(1-B3))/(D3-1),3))) | F3: {=IF(E3="","",RANK(E3, $E$2:$E$241) + COUNTIFS($E$2:$E$241, E3, $D$2:$D$241, "<"&D3) + COUNTIFS($E$2:$E$241, E3, $D$2:$D$241, D3, $A$2:$A$241, "<"&A3))} | G3: =IF(Win!F3="","",Win!F3) -> 88 | H3: =IF(OR(F3="",G3="",F3>3),"",IF(G3=1,(IF(COUNTIFS(G:G,"<="&G3)<=1,1,(1-COUNTIFS(G:G,"<"&G3))/COUNTIFS(G:G,G3)))*(1+VALUE(MID(J3,FIND(": ",J3)+2,FIND("/",J3)-FIND(":",J3)-2))-1)+(1+VALUE(MID(J3,FIND(": ",J3)+2,FIND("/",J3)-FIND(":",J3)-2))-1)/VALUE(RIGHT(J3,1)),IF(G3<=VALUE(MID(J3,FIND(", ",J3)+2,IF(MID(J3,FIND(", ",J3)+2,1)="1",2,1))),(IF(COUNTIFS(G:G,"<="&G3)<=VALUE(MID(J3,FIND(", ",J3)+2,IF(MID(J3,FIND(", ",J3)+2,1)="1",2,1))),1,(VALUE(MID(J3,FIND(", ",J3)+2,IF(MID(J3,FIND(", ",J3)+2,1)="1",2,1)))-COUNTIFS(G:G,"<"&G3))/COUNTIFS(G:G,G3)))*(1*(1+VALUE(MID(J3,FIND(": ",J3)+2,FIND("/",J3)-FIND(":",J3)-2))-1)/VALUE(RIGHT(J3,1))+1)-2,-2))) | I3: =IF(OR(E3="",G3=""),"",IF(G3=1,(IF(COUNTIFS(G:G,"<="&G3)<=1,1,(1-COUNTIFS(G:G,"<"&G3))/COUNTIFS(G:G,G3)))*(1+VALUE(MID(J3,FIND(": ",J3)+2,FIND("/",J3)-FIND(":",J3)-2))-1)+(1+VALUE(MID(J3,FIND(": ",J3)+2,FIND("/",J3)-FIND(":",J3)-2))-1)/VALUE(RIGHT(J3,1)),IF(G3<=VALUE(MID(J3,FIND(", ",J3)+2,IF(MID(J3,FIND(", ",J3)+2,1)="1",2,1))),(IF(COUNTIFS(G:G,"<="&G3)<=VALUE(MID(J3,FIND(", ",J3)+2,IF(MID(J3,FIND(", ",J3)+2,1)="1",2,1))),1,(VALUE(MID(J3,FIND(", ",J3)+2,IF(MID(J3,FIND(", ",J3)+2,1)="1",2,1)))-COUNTIFS(G:G,"<"&G3))/COUNTIFS(G:G,G3)))*(1*(1+VALUE(MID(J3,FIND(": ",J3)+2,FIND("/",J3)-FIND(":",J3)-2))-1)/VALUE(RIGHT(J3,1))+1)-2,-2))) | J3: =IF(F3="","",Win!H3) | M3: =IF(FRL!A3="","",FRL!A3) | N3: =IF(FRL!B3="","",FRL!B3) | O3: =IF(FRL!C3="","",FRL!C3) | P3: =IF(FRL!D3="","",FRL!D3) | Q3: =IF(P3="","",IF(ROUND((N3*(P3-1)-(1-N3))/(P3-1),3)<=0,"",ROUND((N3*(P3-1)-(1-N3))/(P3-1),3))) | R3: {=IF(Q3="","",RANK(Q3, $Q$2:$Q$241) + COUNTIFS($Q$2:$Q$241, Q3, $P$2:$P$241, "<"&P3) + COUNTIFS($Q$2:$Q$241, Q3, $P$2:$P$241, P3, $M$2:$M$241, "<"&M3))} | S3: =IF(FRL!F3="","",FRL!F3) | T3: =IF(OR(R3="",S3="",R3>3),"",IF(S3=1,(IF(COUNTIFS(S:S,"<="&S3)<=1,1,(1-COUNTIFS(S:S,"<"&S3))/COUNTIFS(S:S,S3)))*(1+VALUE(MID(V3,FIND(": ",V3)+2,FIND("/",V3)-FIND(":",V3)-2))-1)+(1+VALUE(MID(V3,FIND(": ",V3)+2,FIND("/",V3)-FIND(":",V3)-2))-1)/VALUE(RIGHT(V3,1)),IF(S3<=VALUE(MID(V3,FIND(", ",V3)+2,IF(MID(V3,FIND(", ",V3)+2,1)="1",2,1))),(IF(COUNTIFS(S:S,"<="&S3)<=VALUE(MID(V3,FIND(", ",V3)+2,IF(MID(V3,FIND(", ",V3)+2,1)="1",2,1))),1,(VALUE(MID(V3,FIND(", ",V3)+2,IF(MID(V3,FIND(", ",V3)+2,1)="1",2,1)))-COUNTIFS(S:S,"<"&S3))/COUNTIFS(S:S,S3)))*(1*(1+VALUE(MID(V3,FIND(": ",V3)+2,FIND("/",V3)-FIND(":",V3)-2))-1)/VALUE(RIGHT(V3,1))+1)-2,-2))) | U3: =IF(OR(Q3="",S3=""),"",IF(S3=1,(IF(COUNTIFS(S:S,"<="&S3)<=1,1,(1-COUNTIFS(S:S,"<"&S3))/COUNTIFS(S:S,S3)))*(1+VALUE(MID(V3,FIND(": ",V3)+2,FIND("/",V3)-FIND(":",V3)-2))-1)+(1+VALUE(MID(V3,FIND(": ",V3)+2,FIND("/",V3)-FIND(":",V3)-2))-1)/VALUE(RIGHT(V3,1)),IF(S3<=VALUE(MID(V3,FIND(", ",V3)+2,IF(MID(V3,FIND(", ",V3)+2,1)="1",2,1))),(IF(COUNTIFS(S:S,"<="&S3)<=VALUE(MID(V3,FIND(", ",V3)+2,IF(MID(V3,FIND(", ",V3)+2,1)="1",2,1))),1,(VALUE(MID(V3,FIND(", ",V3)+2,IF(MID(V3,FIND(", ",V3)+2,1)="1",2,1)))-COUNTIFS(S:S,"<"&S3))/COUNTIFS(S:S,S3)))*(1*(1+VALUE(MID(V3,FIND(": ",V3)+2,FIND("/",V3)-FIND(":",V3)-2))-1)/VALUE(RIGHT(V3,1))+1)-2,-2))) | V3: =IF(R3="","",FRL!H3)
A4: =IF(Win!A4="","",Win!A4) -> Anthony Michael | B4: =IF(Win!B4="","",VALUE(Win!B4)) -> 0.0013 | C4: =IF(Win!C4="","",Win!C4) -> 769 | D4: =IF(Win!D4="","",Win!D4) -> 71 | E4: =IF(D4="","",IF(ROUND((B4*(D4-1)-(1-B4))/(D4-1),3)<=0,"",ROUND((B4*(D4-1)-(1-B4))/(D4-1),3))) | F4: {=IF(E4="","",RANK(E4, $E$2:$E$241) + COUNTIFS($E$2:$E$241, E4, $D$2:$D$241, "<"&D4) + COUNTIFS($E$2:$E$241, E4, $D$2:$D$241, D4, $A$2:$A$241, "<"&A4))} | G4: =IF(Win!F4="","",Win!F4) -> 74 | H4: =IF(OR(F4="",G4="",F4>3),"",IF(G4=1,(IF(COUNTIFS(G:G,"<="&G4)<=1,1,(1-COUNTIFS(G:G,"<"&G4))/COUNTIFS(G:G,G4)))*(1+VALUE(MID(J4,FIND(": ",J4)+2,FIND("/",J4)-FIND(":",J4)-2))-1)+(1+VALUE(MID(J4,FIND(": ",J4)+2,FIND("/",J4)-FIND(":",J4)-2))-1)/VALUE(RIGHT(J4,1)),IF(G4<=VALUE(MID(J4,FIND(", ",J4)+2,IF(MID(J4,FIND(", ",J4)+2,1)="1",2,1))),(IF(COUNTIFS(G:G,"<="&G4)<=VALUE(MID(J4,FIND(", ",J4)+2,IF(MID(J4,FIND(", ",J4)+2,1)="1",2,1))),1,(VALUE(MID(J4,FIND(", ",J4)+2,IF(MID(J4,FIND(", ",J4)+2,1)="1",2,1)))-COUNTIFS(G:G,"<"&G4))/COUNTIFS(G:G,G4)))*(1*(1+VALUE(MID(J4,FIND(": ",J4)+2,FIND("/",J4)-FIND(":",J4)-2))-1)/VALUE(RIGHT(J4,1))+1)-2,-2))) | I4: =IF(OR(E4="",G4=""),"",IF(G4=1,(IF(COUNTIFS(G:G,"<="&G4)<=1,1,(1-COUNTIFS(G:G,"<"&G4))/COUNTIFS(G:G,G4)))*(1+VALUE(MID(J4,FIND(": ",J4)+2,FIND("/",J4)-FIND(":",J4)-2))-1)+(1+VALUE(MID(J4,FIND(": ",J4)+2,FIND("/",J4)-FIND(":",J4)-2))-1)/VALUE(RIGHT(J4,1)),IF(G4<=VALUE(MID(J4,FIND(", ",J4)+2,IF(MID(J4,FIND(", ",J4)+2,1)="1",2,1))),(IF(COUNTIFS(G:G,"<="&G4)<=VALUE(MID(J4,FIND(", ",J4)+2,IF(MID(J4,FIND(", ",J4)+2,1)="1",2,1))),1,(VALUE(MID(J4,FIND(", ",J4)+2,IF(MID(J4,FIND(", ",J4)+2,1)="1",2,1)))-COUNTIFS(G:G,"<"&G4))/COUNTIFS(G:G,G4)))*(1*(1+VALUE(MID(J4,FIND(": ",J4)+2,FIND("/",J4)-FIND(":",J4)-2))-1)/VALUE(RIGHT(J4,1))+1)-2,-2))) | J4: =IF(F4="","",Win!H4) | M4: =IF(FRL!A4="","",FRL!A4) | N4: =IF(FRL!B4="","",FRL!B4) | O4: =IF(FRL!C4="","",FRL!C4) | P4: =IF(FRL!D4="","",FRL!D4) | Q4: =IF(P4="","",IF(ROUND((N4*(P4-1)-(1-N4))/(P4-1),3)<=0,"",ROUND((N4*(P4-1)-(1-N4))/(P4-1),3))) | R4: {=IF(Q4="","",RANK(Q4, $Q$2:$Q$241) + COUNTIFS($Q$2:$Q$241, Q4, $P$2:$P$241, "<"&P4) + COUNTIFS($Q$2:$Q$241, Q4, $P$2:$P$241, P4, $M$2:$M$241, "<"&M4))} | S4: =IF(FRL!F4="","",FRL!F4) | T4: =IF(OR(R4="",S4="",R4>3),"",IF(S4=1,(IF(COUNTIFS(S:S,"<="&S4)<=1,1,(1-COUNTIFS(S:S,"<"&S4))/COUNTIFS(S:S,S4)))*(1+VALUE(MID(V4,FIND(": ",V4)+2,FIND("/",V4)-FIND(":",V4)-2))-1)+(1+VALUE(MID(V4,FIND(": ",V4)+2,FIND("/",V4)-FIND(":",V4)-2))-1)/VALUE(RIGHT(V4,1)),IF(S4<=VALUE(MID(V4,FIND(", ",V4)+2,IF(MID(V4,FIND(", ",V4)+2,1)="1",2,1))),(IF(COUNTIFS(S:S,"<="&S4)<=VALUE(MID(V4,FIND(", ",V4)+2,IF(MID(V4,FIND(", ",V4)+2,1)="1",2,1))),1,(VALUE(MID(V4,FIND(", ",V4)+2,IF(MID(V4,FIND(", ",V4)+2,1)="1",2,1)))-COUNTIFS(S:S,"<"&S4))/COUNTIFS(S:S,S4)))*(1*(1+VALUE(MID(V4,FIND(": ",V4)+2,FIND("/",V4)-FIND(":",V4)-2))-1)/VALUE(RIGHT(V4,1))+1)-2,-2))) | U4: =IF(OR(Q4="",S4=""),"",IF(S4=1,(IF(COUNTIFS(S:S,"<="&S4)<=1,1,(1-COUNTIFS(S:S,"<"&S4))/COUNTIFS(S:S,S4)))*(1+VALUE(MID(V4,FIND(": ",V4)+2,FIND("/",V4)-FIND(":",V4)-2))-1)+(1+VALUE(MID(V4,FIND(": ",V4)+2,FIND("/",V4)-FIND(":",V4)-2))-1)/VALUE(RIGHT(V4,1)),IF(S4<=VALUE(MID(V4,FIND(", ",V4)+2,IF(MID(V4,FIND(", ",V4)+2,1)="1",2,1))),(IF(COUNTIFS(S:S,"<="&S4)<=VALUE(MID(V4,FIND(", ",V4)+2,IF(MID(V4,FIND(", ",V4)+2,1)="1",2,1))),1,(VALUE(MID(V4,FIND(", ",V4)+2,IF(MID(V4,FIND(", ",V4)+2,1)="1",2,1)))-COUNTIFS(S:S,"<"&S4))/COUNTIFS(S:S,S4)))*(1*(1+VALUE(MID(V4,FIND(": ",V4)+2,FIND("/",V4)-FIND(":",V4)-2))-1)/VALUE(RIGHT(V4,1))+1)-2,-2))) | V4: =IF(R4="","",FRL!H4)
A5: =IF(Win!A5="","",Win!A5) -> Ben Van Wyk | B5: =IF(Win!B5="","",VALUE(Win!B5)) -> 0.008 | C5: =IF(Win!C5="","",Win!C5) -> 125 | D5: =IF(Win!D5="","",Win!D5) -> 91 | E5: =IF(D5="","",IF(ROUND((B5*(D5-1)-(1-B5))/(D5-1),3)<=0,"",ROUND((B5*(D5-1)-(1-B5))/(D5-1),3))) | F5: {=IF(E5="","",RANK(E5, $E$2:$E$241) + COUNTIFS($E$2:$E$241, E5, $D$2:$D$241, "<"&D5) + COUNTIFS($E$2:$E$241, E5, $D$2:$D$241, D5, $A$2:$A$241, "<"&A5))} | G5: =IF(Win!F5="","",Win!F5) -> 44 | H5: =IF(OR(F5="",G5="",F5>3),"",IF(G5=1,(IF(COUNTIFS(G:G,"<="&G5)<=1,1,(1-COUNTIFS(G:G,"<"&G5))/COUNTIFS(G:G,G5)))*(1+VALUE(MID(J5,FIND(": ",J5)+2,FIND("/",J5)-FIND(":",J5)-2))-1)+(1+VALUE(MID(J5,FIND(": ",J5)+2,FIND("/",J5)-FIND(":",J5)-2))-1)/VALUE(RIGHT(J5,1)),IF(G5<=VALUE(MID(J5,FIND(", ",J5)+2,IF(MID(J5,FIND(", ",J5)+2,1)="1",2,1))),(IF(COUNTIFS(G:G,"<="&G5)<=VALUE(MID(J5,FIND(", ",J5)+2,IF(MID(J5,FIND(", ",J5)+2,1)="1",2,1))),1,(VALUE(MID(J5,FIND(", ",J5)+2,IF(MID(J5,FIND(", ",J5)+2,1)="1",2,1)))-COUNTIFS(G:G,"<"&G5))/COUNTIFS(G:G,G5)))*(1*(1+VALUE(MID(J5,FIND(": ",J5)+2,FIND("/",J5)-FIND(":",J5)-2))-1)/VALUE(RIGHT(J5,1))+1)-2,-2))) | I5: =IF(OR(E5="",G5=""),"",IF(G5=1,(IF(COUNTIFS(G:G,"<="&G5)<=1,1,(1-COUNTIFS(G:G,"<"&G5))/COUNTIFS(G:G,G5)))*(1+VALUE(MID(J5,FIND(": ",J5)+2,FIND("/",J5)-FIND(":",J5)-2))-1)+(1+VALUE(MID(J5,FIND(": ",J5)+2,FIND("/",J5)-FIND(":",J5)-2))-1)/VALUE(RIGHT(J5,1)),IF(G5<=VALUE(MID(J5,FIND(", ",J5)+2,IF(MID(J5,FIND(", ",J5)+2,1)="1",2,1))),(IF(COUNTIFS(G:G,"<="&G5)<=VALUE(MID(J5,FIND(", ",J5)+2,IF(MID(J5,FIND(", ",J5)+2,1)="1",2,1))),1,(VALUE(MID(J5,FIND(", ",J5)+2,IF(MID(J5,FIND(", ",J5)+2,1)="1",2,1)))-COUNTIFS(G:G,"<"&G5))/COUNTIFS(G:G,G5)))*(1*(1+VALUE(MID(J5,FIND(": ",J5)+2,FIND("/",J5)-FIND(":",J5)-2))-1)/VALUE(RIGHT(J5,1))+1)-2,-2))) | J5: =IF(F5="","",Win!H5) | M5: =IF(FRL!A5="","",FRL!A5) | N5: =IF(FRL!B5="","",FRL!B5) | O5: =IF(FRL!C5="","",FRL!C5) | P5: =IF(FRL!D5="","",FRL!D5) | Q5: =IF(P5="","",IF(ROUND((N5*(P5-1)-(1-N5))/(P5-1),3)<=0,"",ROUND((N5*(P5-1)-(1-N5))/(P5-1),3))) | R5: {=IF(Q5="","",RANK(Q5, $Q$2:$Q$241) + COUNTIFS($Q$2:$Q$241, Q5, $P$2:$P$241, "<"&P5) + COUNTIFS($Q$2:$Q$241, Q5, $P$2:$P$241, P5, $M$2:$M$241, "<"&M5))} | S5: =IF(FRL!F5="","",FRL!F5) | T5: =IF(OR(R5="",S5="",R5>3),"",IF(S5=1,(IF(COUNTIFS(S:S,"<="&S5)<=1,1,(1-COUNTIFS(S:S,"<"&S5))/COUNTIFS(S:S,S5)))*(1+VALUE(MID(V5,FIND(": ",V5)+2,FIND("/",V5)-FIND(":",V5)-2))-1)+(1+VALUE(MID(V5,FIND(": ",V5)+2,FIND("/",V5)-FIND(":",V5)-2))-1)/VALUE(RIGHT(V5,1)),IF(S5<=VALUE(MID(V5,FIND(", ",V5)+2,IF(MID(V5,FIND(", ",V5)+2,1)="1",2,1))),(IF(COUNTIFS(S:S,"<="&S5)<=VALUE(MID(V5,FIND(", ",V5)+2,IF(MID(V5,FIND(", ",V5)+2,1)="1",2,1))),1,(VALUE(MID(V5,FIND(", ",V5)+2,IF(MID(V5,FIND(", ",V5)+2,1)="1",2,1)))-COUNTIFS(S:S,"<"&S5))/COUNTIFS(S:S,S5)))*(1*(1+VALUE(MID(V5,FIND(": ",V5)+2,FIND("/",V5)-FIND(":",V5)-2))-1)/VALUE(RIGHT(V5,1))+1)-2,-2))) | U5: =IF(OR(Q5="",S5=""),"",IF(S5=1,(IF(COUNTIFS(S:S,"<="&S5)<=1,1,(1-COUNTIFS(S:S,"<"&S5))/COUNTIFS(S:S,S5)))*(1+VALUE(MID(V5,FIND(": ",V5)+2,FIND("/",V5)-FIND(":",V5)-2))-1)+(1+VALUE(MID(V5,FIND(": ",V5)+2,FIND("/",V5)-FIND(":",V5)-2))-1)/VALUE(RIGHT(V5,1)),IF(S5<=VALUE(MID(V5,FIND(", ",V5)+2,IF(MID(V5,FIND(", ",V5)+2,1)="1",2,1))),(IF(COUNTIFS(S:S,"<="&S5)<=VALUE(MID(V5,FIND(", ",V5)+2,IF(MID(V5,FIND(", ",V5)+2,1)="1",2,1))),1,(VALUE(MID(V5,FIND(", ",V5)+2,IF(MID(V5,FIND(", ",V5)+2,1)="1",2,1)))-COUNTIFS(S:S,"<"&S5))/COUNTIFS(S:S,S5)))*(1*(1+VALUE(MID(V5,FIND(": ",V5)+2,FIND("/",V5)-FIND(":",V5)-2))-1)/VALUE(RIGHT(V5,1))+1)-2,-2))) | V5: =IF(R5="","",FRL!H5)
A6: =IF(Win!A6="","",Win!A6) -> Bradley De Beer | B6: =IF(Win!B6="","",VALUE(Win!B6)) -> 0 | C6: =IF(Win!C6="","",Win!C6) -> 10000 | D6: =IF(Win!D6="","",Win!D6) -> 1001 | E6: =IF(D6="","",IF(ROUND((B6*(D6-1)-(1-B6))/(D6-1),3)<=0,"",ROUND((B6*(D6-1)-(1-B6))/(D6-1),3))) | F6: {=IF(E6="","",RANK(E6, $E$2:$E$241) + COUNTIFS($E$2:$E$241, E6, $D$2:$D$241, "<"&D6) + COUNTIFS($E$2:$E$241, E6, $D$2:$D$241, D6, $A$2:$A$241, "<"&A6))} | G6: =IF(Win!F6="","",Win!F6) -> 61 | H6: =IF(OR(F6="",G6="",F6>3),"",IF(G6=1,(IF(COUNTIFS(G:G,"<="&G6)<=1,1,(1-COUNTIFS(G:G,"<"&G6))/COUNTIFS(G:G,G6)))*(1+VALUE(MID(J6,FIND(": ",J6)+2,FIND("/",J6)-FIND(":",J6)-2))-1)+(1+VALUE(MID(J6,FIND(": ",J6)+2,FIND("/",J6)-FIND(":",J6)-2))-1)/VALUE(RIGHT(J6,1)),IF(G6<=VALUE(MID(J6,FIND(", ",J6)+2,IF(MID(J6,FIND(", ",J6)+2,1)="1",2,1))),(IF(COUNTIFS(G:G,"<="&G6)<=VALUE(MID(J6,FIND(", ",J6)+2,IF(MID(J6,FIND(", ",J6)+2,1)="1",2,1))),1,(VALUE(MID(J6,FIND(", ",J6)+2,IF(MID(J6,FIND(", ",J6)+2,1)="1",2,1)))-COUNTIFS(G:G,"<"&G6))/COUNTIFS(G:G,G6)))*(1*(1+VALUE(MID(J6,FIND(": ",J6)+2,FIND("/",J6)-FIND(":",J6)-2))-1)/VALUE(RIGHT(J6,1))+1)-2,-2))) | I6: =IF(OR(E6="",G6=""),"",IF(G6=1,(IF(COUNTIFS(G:G,"<="&G6)<=1,1,(1-COUNTIFS(G:G,"<"&G6))/COUNTIFS(G:G,G6)))*(1+VALUE(MID(J6,FIND(": ",J6)+2,FIND("/",J6)-FIND(":",J6)-2))-1)+(1+VALUE(MID(J6,FIND(": ",J6)+2,FIND("/",J6)-FIND(":",J6)-2))-1)/VALUE(RIGHT(J6,1)),IF(G6<=VALUE(MID(J6,FIND(", ",J6)+2,IF(MID(J6,FIND(", ",J6)+2,1)="1",2,1))),(IF(COUNTIFS(G:G,"<="&G6)<=VALUE(MID(J6,FIND(", ",J6)+2,IF(MID(J6,FIND(", ",J6)+2,1)="1",2,1))),1,(VALUE(MID(J6,FIND(", ",J6)+2,IF(MID(J6,FIND(", ",J6)+2,1)="1",2,1)))-COUNTIFS(G:G,"<"&G6))/COUNTIFS(G:G,G6)))*(1*(1+VALUE(MID(J6,FIND(": ",J6)+2,FIND("/",J6)-FIND(":",J6)-2))-1)/VALUE(RIGHT(J6,1))+1)-2,-2))) | J6: =IF(F6="","",Win!H6) | M6: =IF(FRL!A6="","",FRL!A6) | N6: =IF(FRL!B6="","",FRL!B6) | O6: =IF(FRL!C6="","",FRL!C6) | P6: =IF(FRL!D6="","",FRL!D6) | Q6: =IF(P6="","",IF(ROUND((N6*(P6-1)-(1-N6))/(P6-1),3)<=0,"",ROUND((N6*(P6-1)-(1-N6))/(P6-1),3))) | R6: {=IF(Q6="","",RANK(Q6, $Q$2:$Q$241) + COUNTIFS($Q$2:$Q$241, Q6, $P$2:$P$241, "<"&P6) + COUNTIFS($Q$2:$Q$241, Q6, $P$2:$P$241, P6, $M$2:$M$241, "<"&M6))} | S6: =IF(FRL!F6="","",FRL!F6) | T6: =IF(OR(R6="",S6="",R6>3),"",IF(S6=1,(IF(COUNTIFS(S:S,"<="&S6)<=1,1,(1-COUNTIFS(S:S,"<"&S6))/COUNTIFS(S:S,S6)))*(1+VALUE(MID(V6,FIND(": ",V6)+2,FIND("/",V6)-FIND(":",V6)-2))-1)+(1+VALUE(MID(V6,FIND(": ",V6)+2,FIND("/",V6)-FIND(":",V6)-2))-1)/VALUE(RIGHT(V6,1)),IF(S6<=VALUE(MID(V6,FIND(", ",V6)+2,IF(MID(V6,FIND(", ",V6)+2,1)="1",2,1))),(IF(COUNTIFS(S:S,"<="&S6)<=VALUE(MID(V6,FIND(", ",V6)+2,IF(MID(V6,FIND(", ",V6)+2,1)="1",2,1))),1,(VALUE(MID(V6,FIND(", ",V6)+2,IF(MID(V6,FIND(", ",V6)+2,1)="1",2,1)))-COUNTIFS(S:S,"<"&S6))/COUNTIFS(S:S,S6)))*(1*(1+VALUE(MID(V6,FIND(": ",V6)+2,FIND("/",V6)-FIND(":",V6)-2))-1)/VALUE(RIGHT(V6,1))+1)-2,-2))) | U6: =IF(OR(Q6="",S6=""),"",IF(S6=1,(IF(COUNTIFS(S:S,"<="&S6)<=1,1,(1-COUNTIFS(S:S,"<"&S6))/COUNTIFS(S:S,S6)))*(1+VALUE(MID(V6,FIND(": ",V6)+2,FIND("/",V6)-FIND(":",V6)-2))-1)+(1+VALUE(MID(V6,FIND(": ",V6)+2,FIND("/",V6)-FIND(":",V6)-2))-1)/VALUE(RIGHT(V6,1)),IF(S6<=VALUE(MID(V6,FIND(", ",V6)+2,IF(MID(V6,FIND(", ",V6)+2,1)="1",2,1))),(IF(COUNTIFS(S:S,"<="&S6)<=VALUE(MID(V6,FIND(", ",V6)+2,IF(MID(V6,FIND(", ",V6)+2,1)="1",2,1))),1,(VALUE(MID(V6,FIND(", ",V6)+2,IF(MID(V6,FIND(", ",V6)+2,1)="1",2,1)))-COUNTIFS(S:S,"<"&S6))/COUNTIFS(S:S,S6)))*(1*(1+VALUE(MID(V6,FIND(": ",V6)+2,FIND("/",V6)-FIND(":",V6)-2))-1)/VALUE(RIGHT(V6,1))+1)-2,-2))) | V6: =IF(R6="","",FRL!H6)
A7: =IF(Win!A7="","",Win!A7) -> Brandon Meads | B7: =IF(Win!B7="","",VALUE(Win!B7)) -> 0 | C7: =IF(Win!C7="","",Win!C7) -> 10000 | D7: =IF(Win!D7="","",Win!D7) -> 2501 | E7: =IF(D7="","",IF(ROUND((B7*(D7-1)-(1-B7))/(D7-1),3)<=0,"",ROUND((B7*(D7-1)-(1-B7))/(D7-1),3))) | F7: {=IF(E7="","",RANK(E7, $E$2:$E$241) + COUNTIFS($E$2:$E$241, E7, $D$2:$D$241, "<"&D7) + COUNTIFS($E$2:$E$241, E7, $D$2:$D$241, D7, $A$2:$A$241, "<"&A7))} | G7: =IF(Win!F7="","",Win!F7) -> 127 | H7: =IF(OR(F7="",G7="",F7>3),"",IF(G7=1,(IF(COUNTIFS(G:G,"<="&G7)<=1,1,(1-COUNTIFS(G:G,"<"&G7))/COUNTIFS(G:G,G7)))*(1+VALUE(MID(J7,FIND(": ",J7)+2,FIND("/",J7)-FIND(":",J7)-2))-1)+(1+VALUE(MID(J7,FIND(": ",J7)+2,FIND("/",J7)-FIND(":",J7)-2))-1)/VALUE(RIGHT(J7,1)),IF(G7<=VALUE(MID(J7,FIND(", ",J7)+2,IF(MID(J7,FIND(", ",J7)+2,1)="1",2,1))),(IF(COUNTIFS(G:G,"<="&G7)<=VALUE(MID(J7,FIND(", ",J7)+2,IF(MID(J7,FIND(", ",J7)+2,1)="1",2,1))),1,(VALUE(MID(J7,FIND(", ",J7)+2,IF(MID(J7,FIND(", ",J7)+2,1)="1",2,1)))-COUNTIFS(G:G,"<"&G7))/COUNTIFS(G:G,G7)))*(1*(1+VALUE(MID(J7,FIND(": ",J7)+2,FIND("/",J7)-FIND(":",J7)-2))-1)/VALUE(RIGHT(J7,1))+1)-2,-2))) | I7: =IF(OR(E7="",G7=""),"",IF(G7=1,(IF(COUNTIFS(G:G,"<="&G7)<=1,1,(1-COUNTIFS(G:G,"<"&G7))/COUNTIFS(G:G,G7)))*(1+VALUE(MID(J7,FIND(": ",J7)+2,FIND("/",J7)-FIND(":",J7)-2))-1)+(1+VALUE(MID(J7,FIND(": ",J7)+2,FIND("/",J7)-FIND(":",J7)-2))-1)/VALUE(RIGHT(J7,1)),IF(G7<=VALUE(MID(J7,FIND(", ",J7)+2,IF(MID(J7,FIND(", ",J7)+2,1)="1",2,1))),(IF(COUNTIFS(G:G,"<="&G7)<=VALUE(MID(J7,FIND(", ",J7)+2,IF(MID(J7,FIND(", ",J7)+2,1)="1",2,1))),1,(VALUE(MID(J7,FIND(", ",J7)+2,IF(MID(J7,FIND(", ",J7)+2,1)="1",2,1)))-COUNTIFS(G:G,"<"&G7))/COUNTIFS(G:G,G7)))*(1*(1+VALUE(MID(J7,FIND(": ",J7)+2,FIND("/",J7)-FIND(":",J7)-2))-1)/VALUE(RIGHT(J7,1))+1)-2,-2))) | J7: =IF(F7="","",Win!H7) | M7: =IF(FRL!A7="","",FRL!A7) | N7: =IF(FRL!B7="","",FRL!B7) | O7: =IF(FRL!C7="","",FRL!C7) | P7: =IF(FRL!D7="","",FRL!D7) | Q7: =IF(P7="","",IF(ROUND((N7*(P7-1)-(1-N7))/(P7-1),3)<=0,"",ROUND((N7*(P7-1)-(1-N7))/(P7-1),3))) | R7: {=IF(Q7="","",RANK(Q7, $Q$2:$Q$241) + COUNTIFS($Q$2:$Q$241, Q7, $P$2:$P$241, "<"&P7) + COUNTIFS($Q$2:$Q$241, Q7, $P$2:$P$241, P7, $M$2:$M$241, "<"&M7))} | S7: =IF(FRL!F7="","",FRL!F7) | T7: =IF(OR(R7="",S7="",R7>3),"",IF(S7=1,(IF(COUNTIFS(S:S,"<="&S7)<=1,1,(1-COUNTIFS(S:S,"<"&S7))/COUNTIFS(S:S,S7)))*(1+VALUE(MID(V7,FIND(": ",V7)+2,FIND("/",V7)-FIND(":",V7)-2))-1)+(1+VALUE(MID(V7,FIND(": ",V7)+2,FIND("/",V7)-FIND(":",V7)-2))-1)/VALUE(RIGHT(V7,1)),IF(S7<=VALUE(MID(V7,FIND(", ",V7)+2,IF(MID(V7,FIND(", ",V7)+2,1)="1",2,1))),(IF(COUNTIFS(S:S,"<="&S7)<=VALUE(MID(V7,FIND(", ",V7)+2,IF(MID(V7,FIND(", ",V7)+2,1)="1",2,1))),1,(VALUE(MID(V7,FIND(", ",V7)+2,IF(MID(V7,FIND(", ",V7)+2,1)="1",2,1)))-COUNTIFS(S:S,"<"&S7))/COUNTIFS(S:S,S7)))*(1*(1+VALUE(MID(V7,FIND(": ",V7)+2,FIND("/",V7)-FIND(":",V7)-2))-1)/VALUE(RIGHT(V7,1))+1)-2,-2))) | U7: =IF(OR(Q7="",S7=""),"",IF(S7=1,(IF(COUNTIFS(S:S,"<="&S7)<=1,1,(1-COUNTIFS(S:S,"<"&S7))/COUNTIFS(S:S,S7)))*(1+VALUE(MID(V7,FIND(": ",V7)+2,FIND("/",V7)-FIND(":",V7)-2))-1)+(1+VALUE(MID(V7,FIND(": ",V7)+2,FIND("/",V7)-FIND(":",V7)-2))-1)/VALUE(RIGHT(V7,1)),IF(S7<=VALUE(MID(V7,FIND(", ",V7)+2,IF(MID(V7,FIND(", ",V7)+2,1)="1",2,1))),(IF(COUNTIFS(S:S,"<="&S7)<=VALUE(MID(V7,FIND(", ",V7)+2,IF(MID(V7,FIND(", ",V7)+2,1)="1",2,1))),1,(VALUE(MID(V7,FIND(", ",V7)+2,IF(MID(V7,FIND(", ",V7)+2,1)="1",2,1)))-COUNTIFS(S:S,"<"&S7))/COUNTIFS(S:S,S7)))*(1*(1+VALUE(MID(V7,FIND(": ",V7)+2,FIND("/",V7)-FIND(":",V7)-2))-1)/VALUE(RIGHT(V7,1))+1)-2,-2))) | V7: =IF(R7="","",FRL!H7)
A8: =IF(Win!A8="","",Win!A8) -> Bryce Easton | B8: =IF(Win!B8="","",VALUE(Win!B8)) -> 0.0325 | C8: =IF(Win!C8="","",Win!C8) -> 31 | D8: =IF(Win!D8="","",Win!D8) -> 29 | E8: =IF(D8="","",IF(ROUND((B8*(D8-1)-(1-B8))/(D8-1),3)<=0,"",ROUND((B8*(D8-1)-(1-B8))/(D8-1),3))) | F8: {=IF(E8="","",RANK(E8, $E$2:$E$241) + COUNTIFS($E$2:$E$241, E8, $D$2:$D$241, "<"&D8) + COUNTIFS($E$2:$E$241, E8, $D$2:$D$241, D8, $A$2:$A$241, "<"&A8))} | G8: =IF(Win!F8="","",Win!F8) -> 4 | H8: =IF(OR(F8="",G8="",F8>3),"",IF(G8=1,(IF(COUNTIFS(G:G,"<="&G8)<=1,1,(1-COUNTIFS(G:G,"<"&G8))/COUNTIFS(G:G,G8)))*(1+VALUE(MID(J8,FIND(": ",J8)+2,FIND("/",J8)-FIND(":",J8)-2))-1)+(1+VALUE(MID(J8,FIND(": ",J8)+2,FIND("/",J8)-FIND(":",J8)-2))-1)/VALUE(RIGHT(J8,1)),IF(G8<=VALUE(MID(J8,FIND(", ",J8)+2,IF(MID(J8,FIND(", ",J8)+2,1)="1",2,1))),(IF(COUNTIFS(G:G,"<="&G8)<=VALUE(MID(J8,FIND(", ",J8)+2,IF(MID(J8,FIND(", ",J8)+2,1)="1",2,1))),1,(VALUE(MID(J8,FIND(", ",J8)+2,IF(MID(J8,FIND(", ",J8)+2,1)="1",2,1)))-COUNTIFS(G:G,"<"&G8))/COUNTIFS(G:G,G8)))*(1*(1+VALUE(MID(J8,FIND(": ",J8)+2,FIND("/",J8)-FIND(":",J8)-2))-1)/VALUE(RIGHT(J8,1))+1)-2,-2))) | I8: =IF(OR(E8="",G8=""),"",IF(G8=1,(IF(COUNTIFS(G:G,"<="&G8)<=1,1,(1-COUNTIFS(G:G,"<"&G8))/COUNTIFS(G:G,G8)))*(1+VALUE(MID(J8,FIND(": ",J8)+2,FIND("/",J8)-FIND(":",J8)-2))-1)+(1+VALUE(MID(J8,FIND(": ",J8)+2,FIND("/",J8)-FIND(":",J8)-2))-1)/VALUE(RIGHT(J8,1)),IF(G8<=VALUE(MID(J8,FIND(", ",J8)+2,IF(MID(J8,FIND(", ",J8)+2,1)="1",2,1))),(IF(COUNTIFS(G:G,"<="&G8)<=VALUE(MID(J8,FIND(", ",J8)+2,IF(MID(J8,FIND(", ",J8)+2,1)="1",2,1))),1,(VALUE(MID(J8,FIND(", ",J8)+2,IF(MID(J8,FIND(", ",J8)+2,1)="1",2,1)))-COUNTIFS(G:G,"<"&G8))/COUNTIFS(G:G,G8)))*(1*(1+VALUE(MID(J8,FIND(": ",J8)+2,FIND("/",J8)-FIND(":",J8)-2))-1)/VALUE(RIGHT(J8,1))+1)-2,-2))) | J8: =IF(F8="","",Win!H8) | M8: =IF(FRL!A8="","",FRL!A8) | N8: =IF(FRL!B8="","",FRL!B8) | O8: =IF(FRL!C8="","",FRL!C8) | P8: =IF(FRL!D8="","",FRL!D8) | Q8: =IF(P8="","",IF(ROUND((N8*(P8-1)-(1-N8))/(P8-1),3)<=0,"",ROUND((N8*(P8-1)-(1-N8))/(P8-1),3))) | R8: {=IF(Q8="","",RANK(Q8, $Q$2:$Q$241) + COUNTIFS($Q$2:$Q$241, Q8, $P$2:$P$241, "<"&P8) + COUNTIFS($Q$2:$Q$241, Q8, $P$2:$P$241, P8, $M$2:$M$241, "<"&M8))} | S8: =IF(FRL!F8="","",FRL!F8) | T8: =IF(OR(R8="",S8="",R8>3),"",IF(S8=1,(IF(COUNTIFS(S:S,"<="&S8)<=1,1,(1-COUNTIFS(S:S,"<"&S8))/COUNTIFS(S:S,S8)))*(1+VALUE(MID(V8,FIND(": ",V8)+2,FIND("/",V8)-FIND(":",V8)-2))-1)+(1+VALUE(MID(V8,FIND(": ",V8)+2,FIND("/",V8)-FIND(":",V8)-2))-1)/VALUE(RIGHT(V8,1)),IF(S8<=VALUE(MID(V8,FIND(", ",V8)+2,IF(MID(V8,FIND(", ",V8)+2,1)="1",2,1))),(IF(COUNTIFS(S:S,"<="&S8)<=VALUE(MID(V8,FIND(", ",V8)+2,IF(MID(V8,FIND(", ",V8)+2,1)="1",2,1))),1,(VALUE(MID(V8,FIND(", ",V8)+2,IF(MID(V8,FIND(", ",V8)+2,1)="1",2,1)))-COUNTIFS(S:S,"<"&S8))/COUNTIFS(S:S,S8)))*(1*(1+VALUE(MID(V8,FIND(": ",V8)+2,FIND("/",V8)-FIND(":",V8)-2))-1)/VALUE(RIGHT(V8,1))+1)-2,-2))) | U8: =IF(OR(Q8="",S8=""),"",IF(S8=1,(IF(COUNTIFS(S:S,"<="&S8)<=1,1,(1-COUNTIFS(S:S,"<"&S8))/COUNTIFS(S:S,S8)))*(1+VALUE(MID(V8,FIND(": ",V8)+2,FIND("/",V8)-FIND(":",V8)-2))-1)+(1+VALUE(MID(V8,FIND(": ",V8)+2,FIND("/",V8)-FIND(":",V8)-2))-1)/VALUE(RIGHT(V8,1)),IF(S8<=VALUE(MID(V8,FIND(", ",V8)+2,IF(MID(V8,FIND(", ",V8)+2,1)="1",2,1))),(IF(COUNTIFS(S:S,"<="&S8)<=VALUE(MID(V8,FIND(", ",V8)+2,IF(MID(V8,FIND(", ",V8)+2,1)="1",2,1))),1,(VALUE(MID(V8,FIND(", ",V8)+2,IF(MID(V8,FIND(", ",V8)+2,1)="1",2,1)))-COUNTIFS(S:S,"<"&S8))/COUNTIFS(S:S,S8)))*(1*(1+VALUE(MID(V8,FIND(": ",V8)+2,FIND("/",V8)-FIND(":",V8)-2))-1)/VALUE(RIGHT(V8,1))+1)-2,-2))) | V8: =IF(R8="","",FRL!H8)
A9: =IF(Win!A9="","",Win!A9) -> C.J. Du Plessis | B9: =IF(Win!B9="","",VALUE(Win!B9)) -> 0.0021 | C9: =IF(Win!C9="","",Win!C9) -> 476 | D9: =IF(Win!D9="","",Win!D9) -> 111 | E9: =IF(D9="","",IF(ROUND((B9*(D9-1)-(1-B9))/(D9-1),3)<=0,"",ROUND((B9*(D9-1)-(1-B9))/(D9-1),3))) | F9: {=IF(E9="","",RANK(E9, $E$2:$E$241) + COUNTIFS($E$2:$E$241, E9, $D$2:$D$241, "<"&D9) + COUNTIFS($E$2:$E$241, E9, $D$2:$D$241, D9, $A$2:$A$241, "<"&A9))} | G9: =IF(Win!F9="","",Win!F9) -> 44 | H9: =IF(OR(F9="",G9="",F9>3),"",IF(G9=1,(IF(COUNTIFS(G:G,"<="&G9)<=1,1,(1-COUNTIFS(G:G,"<"&G9))/COUNTIFS(G:G,G9)))*(1+VALUE(MID(J9,FIND(": ",J9)+2,FIND("/",J9)-FIND(":",J9)-2))-1)+(1+VALUE(MID(J9,FIND(": ",J9)+2,FIND("/",J9)-FIND(":",J9)-2))-1)/VALUE(RIGHT(J9,1)),IF(G9<=VALUE(MID(J9,FIND(", ",J9)+2,IF(MID(J9,FIND(", ",J9)+2,1)="1",2,1))),(IF(COUNTIFS(G:G,"<="&G9)<=VALUE(MID(J9,FIND(", ",J9)+2,IF(MID(J9,FIND(", ",J9)+2,1)="1",2,1))),1,(VALUE(MID(J9,FIND(", ",J9)+2,IF(MID(J9,FIND(", ",J9)+2,1)="1",2,1)))-COUNTIFS(G:G,"<"&G9))/COUNTIFS(G:G,G9)))*(1*(1+VALUE(MID(J9,FIND(": ",J9)+2,FIND("/",J9)-FIND(":",J9)-2))-1)/VALUE(RIGHT(J9,1))+1)-2,-2))) | I9: =IF(OR(E9="",G9=""),"",IF(G9=1,(IF(COUNTIFS(G:G,"<="&G9)<=1,1,(1-COUNTIFS(G:G,"<"&G9))/COUNTIFS(G:G,G9)))*(1+VALUE(MID(J9,FIND(": ",J9)+2,FIND("/",J9)-FIND(":",J9)-2))-1)+(1+VALUE(MID(J9,FIND(": ",J9)+2,FIND("/",J9)-FIND(":",J9)-2))-1)/VALUE(RIGHT(J9,1)),IF(G9<=VALUE(MID(J9,FIND(", ",J9)+2,IF(MID(J9,FIND(", ",J9)+2,1)="1",2,1))),(IF(COUNTIFS(G:G,"<="&G9)<=VALUE(MID(J9,FIND(", ",J9)+2,IF(MID(J9,FIND(", ",J9)+2,1)="1",2,1))),1,(VALUE(MID(J9,FIND(", ",J9)+2,IF(MID(J9,FIND(", ",J9)+2,1)="1",2,1)))-COUNTIFS(G:G,"<"&G9))/COUNTIFS(G:G,G9)))*(1*(1+VALUE(MID(J9,FIND(": ",J9)+2,FIND("/",J9)-FIND(":",J9)-2))-1)/VALUE(RIGHT(J9,1))+1)-2,-2))) | J9: =IF(F9="","",Win!H9) | M9: =IF(FRL!A9="","",FRL!A9) | N9: =IF(FRL!B9="","",FRL!B9) | O9: =IF(FRL!C9="","",FRL!C9) | P9: =IF(FRL!D9="","",FRL!D9) | Q9: =IF(P9="","",IF(ROUND((N9*(P9-1)-(1-N9))/(P9-1),3)<=0,"",ROUND((N9*(P9-1)-(1-N9))/(P9-1),3))) | R9: {=IF(Q9="","",RANK(Q9, $Q$2:$Q$241) + COUNTIFS($Q$2:$Q$241, Q9, $P$2:$P$241, "<"&P9) + COUNTIFS($Q$2:$Q$241, Q9, $P$2:$P$241, P9, $M$2:$M$241, "<"&M9))} | S9: =IF(FRL!F9="","",FRL!F9) | T9: =IF(OR(R9="",S9="",R9>3),"",IF(S9=1,(IF(COUNTIFS(S:S,"<="&S9)<=1,1,(1-COUNTIFS(S:S,"<"&S9))/COUNTIFS(S:S,S9)))*(1+VALUE(MID(V9,FIND(": ",V9)+2,FIND("/",V9)-FIND(":",V9)-2))-1)+(1+VALUE(MID(V9,FIND(": ",V9)+2,FIND("/",V9)-FIND(":",V9)-2))-1)/VALUE(RIGHT(V9,1)),IF(S9<=VALUE(MID(V9,FIND(", ",V9)+2,IF(MID(V9,FIND(", ",V9)+2,1)="1",2,1))),(IF(COUNTIFS(S:S,"<="&S9)<=VALUE(MID(V9,FIND(", ",V9)+2,IF(MID(V9,FIND(", ",V9)+2,1)="1",2,1))),1,(VALUE(MID(V9,FIND(", ",V9)+2,IF(MID(V9,FIND(", ",V9)+2,1)="1",2,1)))-COUNTIFS(S:S,"<"&S9))/COUNTIFS(S:S,S9)))*(1*(1+VALUE(MID(V9,FIND(": ",V9)+2,FIND("/",V9)-FIND(":",V9)-2))-1)/VALUE(RIGHT(V9,1))+1)-2,-2))) | U9: =IF(OR(Q9="",S9=""),"",IF(S9=1,(IF(COUNTIFS(S:S,"<="&S9)<=1,1,(1-COUNTIFS(S:S,"<"&S9))/COUNTIFS(S:S,S9)))*(1+VALUE(MID(V9,FIND(": ",V9)+2,FIND("/",V9)-FIND(":",V9)-2))-1)+(1+VALUE(MID(V9,FIND(": ",V9)+2,FIND("/",V9)-FIND(":",V9)-2))-1)/VALUE(RIGHT(V9,1)),IF(S9<=VALUE(MID(V9,FIND(", ",V9)+2,IF(MID(V9,FIND(", ",V9)+2,1)="1",2,1))),(IF(COUNTIFS(S:S,"<="&S9)<=VALUE(MID(V9,FIND(", ",V9)+2,IF(MID(V9,FIND(", ",V9)+2,1)="1",2,1))),1,(VALUE(MID(V9,FIND(", ",V9)+2,IF(MID(V9,FIND(", ",V9)+2,1)="1",2,1)))-COUNTIFS(S:S,"<"&S9))/COUNTIFS(S:S,S9)))*(1*(1+VALUE(MID(V9,FIND(": ",V9)+2,FIND("/",V9)-FIND(":",V9)-2))-1)/VALUE(RIGHT(V9,1))+1)-2,-2))) | V9: =IF(R9="","",FRL!H9)
A10: =IF(Win!A10="","",Win!A10) -> Carl Mwale | B10: =IF(Win!B10="","",VALUE(Win!B10)) -> 0 | C10: =IF(Win!C10="","",Win!C10) -> 10000 | D10: =IF(Win!D10="","",Win!D10) -> 2001 | E10: =IF(D10="","",IF(ROUND((B10*(D10-1)-(1-B10))/(D10-1),3)<=0,"",ROUND((B10*(D10-1)-(1-B10))/(D10-1),3))) | F10: {=IF(E10="","",RANK(E10, $E$2:$E$241) + COUNTIFS($E$2:$E$241, E10, $D$2:$D$241, "<"&D10) + COUNTIFS($E$2:$E$241, E10, $D$2:$D$241, D10, $A$2:$A$241, "<"&A10))} | G10: =IF(Win!F10="","",Win!F10) -> 113 | H10: =IF(OR(F10="",G10="",F10>3),"",IF(G10=1,(IF(COUNTIFS(G:G,"<="&G10)<=1,1,(1-COUNTIFS(G:G,"<"&G10))/COUNTIFS(G:G,G10)))*(1+VALUE(MID(J10,FIND(": ",J10)+2,FIND("/",J10)-FIND(":",J10)-2))-1)+(1+VALUE(MID(J10,FIND(": ",J10)+2,FIND("/",J10)-FIND(":",J10)-2))-1)/VALUE(RIGHT(J10,1)),IF(G10<=VALUE(MID(J10,FIND(", ",J10)+2,IF(MID(J10,FIND(", ",J10)+2,1)="1",2,1))),(IF(COUNTIFS(G:G,"<="&G10)<=VALUE(MID(J10,FIND(", ",J10)+2,IF(MID(J10,FIND(", ",J10)+2,1)="1",2,1))),1,(VALUE(MID(J10,FIND(", ",J10)+2,IF(MID(J10,FIND(", ",J10)+2,1)="1",2,1)))-COUNTIFS(G:G,"<"&G10))/COUNTIFS(G:G,G10)))*(1*(1+VALUE(MID(J10,FIND(": ",J10)+2,FIND("/",J10)-FIND(":",J10)-2))-1)/VALUE(RIGHT(J10,1))+1)-2,-2))) | I10: =IF(OR(E10="",G10=""),"",IF(G10=1,(IF(COUNTIFS(G:G,"<="&G10)<=1,1,(1-COUNTIFS(G:G,"<"&G10))/COUNTIFS(G:G,G10)))*(1+VALUE(MID(J10,FIND(": ",J10)+2,FIND("/",J10)-FIND(":",J10)-2))-1)+(1+VALUE(MID(J10,FIND(": ",J10)+2,FIND("/",J10)-FIND(":",J10)-2))-1)/VALUE(RIGHT(J10,1)),IF(G10<=VALUE(MID(J10,FIND(", ",J10)+2,IF(MID(J10,FIND(", ",J10)+2,1)="1",2,1))),(IF(COUNTIFS(G:G,"<="&G10)<=VALUE(MID(J10,FIND(", ",J10)+2,IF(MID(J10,FIND(", ",J10)+2,1)="1",2,1))),1,(VALUE(MID(J10,FIND(", ",J10)+2,IF(MID(J10,FIND(", ",J10)+2,1)="1",2,1)))-COUNTIFS(G:G,"<"&G10))/COUNTIFS(G:G,G10)))*(1*(1+VALUE(MID(J10,FIND(": ",J10)+2,FIND("/",J10)-FIND(":",J10)-2))-1)/VALUE(RIGHT(J10,1))+1)-2,-2))) | J10: =IF(F10="","",Win!H10) | M10: =IF(FRL!A10="","",FRL!A10) | N10: =IF(FRL!B10="","",FRL!B10) | O10: =IF(FRL!C10="","",FRL!C10) | P10: =IF(FRL!D10="","",FRL!D10) | Q10: =IF(P10="","",IF(ROUND((N10*(P10-1)-(1-N10))/(P10-1),3)<=0,"",ROUND((N10*(P10-1)-(1-N10))/(P10-1),3))) | R10: {=IF(Q10="","",RANK(Q10, $Q$2:$Q$241) + COUNTIFS($Q$2:$Q$241, Q10, $P$2:$P$241, "<"&P10) + COUNTIFS($Q$2:$Q$241, Q10, $P$2:$P$241, P10, $M$2:$M$241, "<"&M10))} | S10: =IF(FRL!F10="","",FRL!F10) | T10: =IF(OR(R10="",S10="",R10>3),"",IF(S10=1,(IF(COUNTIFS(S:S,"<="&S10)<=1,1,(1-COUNTIFS(S:S,"<"&S10))/COUNTIFS(S:S,S10)))*(1+VALUE(MID(V10,FIND(": ",V10)+2,FIND("/",V10)-FIND(":",V10)-2))-1)+(1+VALUE(MID(V10,FIND(": ",V10)+2,FIND("/",V10)-FIND(":",V10)-2))-1)/VALUE(RIGHT(V10,1)),IF(S10<=VALUE(MID(V10,FIND(", ",V10)+2,IF(MID(V10,FIND(", ",V10)+2,1)="1",2,1))),(IF(COUNTIFS(S:S,"<="&S10)<=VALUE(MID(V10,FIND(", ",V10)+2,IF(MID(V10,FIND(", ",V10)+2,1)="1",2,1))),1,(VALUE(MID(V10,FIND(", ",V10)+2,IF(MID(V10,FIND(", ",V10)+2,1)="1",2,1)))-COUNTIFS(S:S,"<"&S10))/COUNTIFS(S:S,S10)))*(1*(1+VALUE(MID(V10,FIND(": ",V10)+2,FIND("/",V10)-FIND(":",V10)-2))-1)/VALUE(RIGHT(V10,1))+1)-2,-2))) | U10: =IF(OR(Q10="",S10=""),"",IF(S10=1,(IF(COUNTIFS(S:S,"<="&S10)<=1,1,(1-COUNTIFS(S:S,"<"&S10))/COUNTIFS(S:S,S10)))*(1+VALUE(MID(V10,FIND(": ",V10)+2,FIND("/",V10)-FIND(":",V10)-2))-1)+(1+VALUE(MID(V10,FIND(": ",V10)+2,FIND("/",V10)-FIND(":",V10)-2))-1)/VALUE(RIGHT(V10,1)),IF(S10<=VALUE(MID(V10,FIND(", ",V10)+2,IF(MID(V10,FIND(", ",V10)+2,1)="1",2,1))),(IF(COUNTIFS(S:S,"<="&S10)<=VALUE(MID(V10,FIND(", ",V10)+2,IF(MID(V10,FIND(", ",V10)+2,1)="1",2,1))),1,(VALUE(MID(V10,FIND(", ",V10)+2,IF(MID(V10,FIND(", ",V10)+2,1)="1",2,1)))-COUNTIFS(S:S,"<"&S10))/COUNTIFS(S:S,S10)))*(1*(1+VALUE(MID(V10,FIND(": ",V10)+2,FIND("/",V10)-FIND(":",V10)-2))-1)/VALUE(RIGHT(V10,1))+1)-2,-2))) | V10: =IF(R10="","",FRL!H10)
A11: =IF(Win!A11="","",Win!A11) -> Carter Rowe | B11: =IF(Win!B11="","",VALUE(Win!B11)) -> 0 | C11: =IF(Win!C11="","",Win!C11) -> 10000 | D11: =IF(Win!D11="","",Win!D11) -> 1001 | E11: =IF(D11="","",IF(ROUND((B11*(D11-1)-(1-B11))/(D11-1),3)<=0,"",ROUND((B11*(D11-1)-(1-B11))/(D11-1),3))) | F11: {=IF(E11="","",RANK(E11, $E$2:$E$241) + COUNTIFS($E$2:$E$241, E11, $D$2:$D$241, "<"&D11) + COUNTIFS($E$2:$E$241, E11, $D$2:$D$241, D11, $A$2:$A$241, "<"&A11))} | G11: =IF(Win!F11="","",Win!F11) -> 44 | H11: =IF(OR(F11="",G11="",F11>3),"",IF(G11=1,(IF(COUNTIFS(G:G,"<="&G11)<=1,1,(1-COUNTIFS(G:G,"<"&G11))/COUNTIFS(G:G,G11)))*(1+VALUE(MID(J11,FIND(": ",J11)+2,FIND("/",J11)-FIND(":",J11)-2))-1)+(1+VALUE(MID(J11,FIND(": ",J11)+2,FIND("/",J11)-FIND(":",J11)-2))-1)/VALUE(RIGHT(J11,1)),IF(G11<=VALUE(MID(J11,FIND(", ",J11)+2,IF(MID(J11,FIND(", ",J11)+2,1)="1",2,1))),(IF(COUNTIFS(G:G,"<="&G11)<=VALUE(MID(J11,FIND(", ",J11)+2,IF(MID(J11,FIND(", ",J11)+2,1)="1",2,1))),1,(VALUE(MID(J11,FIND(", ",J11)+2,IF(MID(J11,FIND(", ",J11)+2,1)="1",2,1)))-COUNTIFS(G:G,"<"&G11))/COUNTIFS(G:G,G11)))*(1*(1+VALUE(MID(J11,FIND(": ",J11)+2,FIND("/",J11)-FIND(":",J11)-2))-1)/VALUE(RIGHT(J11,1))+1)-2,-2))) | I11: =IF(OR(E11="",G11=""),"",IF(G11=1,(IF(COUNTIFS(G:G,"<="&G11)<=1,1,(1-COUNTIFS(G:G,"<"&G11))/COUNTIFS(G:G,G11)))*(1+VALUE(MID(J11,FIND(": ",J11)+2,FIND("/",J11)-FIND(":",J11)-2))-1)+(1+VALUE(MID(J11,FIND(": ",J11)+2,FIND("/",J11)-FIND(":",J11)-2))-1)/VALUE(RIGHT(J11,1)),IF(G11<=VALUE(MID(J11,FIND(", ",J11)+2,IF(MID(J11,FIND(", ",J11)+2,1)="1",2,1))),(IF(COUNTIFS(G:G,"<="&G11)<=VALUE(MID(J11,FIND(", ",J11)+2,IF(MID(J11,FIND(", ",J11)+2,1)="1",2,1))),1,(VALUE(MID(J11,FIND(", ",J11)+2,IF(MID(J11,FIND(", ",J11)+2,1)="1",2,1)))-COUNTIFS(G:G,"<"&G11))/COUNTIFS(G:G,G11)))*(1*(1+VALUE(MID(J11,FIND(": ",J11)+2,FIND("/",J11)-FIND(":",J11)-2))-1)/VALUE(RIGHT(J11,1))+1)-2,-2))) | J11: =IF(F11="","",Win!H11) | M11: =IF(FRL!A11="","",FRL!A11) | N11: =IF(FRL!B11="","",FRL!B11) | O11: =IF(FRL!C11="","",FRL!C11) | P11: =IF(FRL!D11="","",FRL!D11) | Q11: =IF(P11="","",IF(ROUND((N11*(P11-1)-(1-N11))/(P11-1),3)<=0,"",ROUND((N11*(P11-1)-(1-N11))/(P11-1),3))) | R11: {=IF(Q11="","",RANK(Q11, $Q$2:$Q$241) + COUNTIFS($Q$2:$Q$241, Q11, $P$2:$P$241, "<"&P11) + COUNTIFS($Q$2:$Q$241, Q11, $P$2:$P$241, P11, $M$2:$M$241, "<"&M11))} | S11: =IF(FRL!F11="","",FRL!F11) | T11: =IF(OR(R11="",S11="",R11>3),"",IF(S11=1,(IF(COUNTIFS(S:S,"<="&S11)<=1,1,(1-COUNTIFS(S:S,"<"&S11))/COUNTIFS(S:S,S11)))*(1+VALUE(MID(V11,FIND(": ",V11)+2,FIND("/",V11)-FIND(":",V11)-2))-1)+(1+VALUE(MID(V11,FIND(": ",V11)+2,FIND("/",V11)-FIND(":",V11)-2))-1)/VALUE(RIGHT(V11,1)),IF(S11<=VALUE(MID(V11,FIND(", ",V11)+2,IF(MID(V11,FIND(", ",V11)+2,1)="1",2,1))),(IF(COUNTIFS(S:S,"<="&S11)<=VALUE(MID(V11,FIND(", ",V11)+2,IF(MID(V11,FIND(", ",V11)+2,1)="1",2,1))),1,(VALUE(MID(V11,FIND(", ",V11)+2,IF(MID(V11,FIND(", ",V11)+2,1)="1",2,1)))-COUNTIFS(S:S,"<"&S11))/COUNTIFS(S:S,S11)))*(1*(1+VALUE(MID(V11,FIND(": ",V11)+2,FIND("/",V11)-FIND(":",V11)-2))-1)/VALUE(RIGHT(V11,1))+1)-2,-2))) | U11: =IF(OR(Q11="",S11=""),"",IF(S11=1,(IF(COUNTIFS(S:S,"<="&S11)<=1,1,(1-COUNTIFS(S:S,"<"&S11))/COUNTIFS(S:S,S11)))*(1+VALUE(MID(V11,FIND(": ",V11)+2,FIND("/",V11)-FIND(":",V11)-2))-1)+(1+VALUE(MID(V11,FIND(": ",V11)+2,FIND("/",V11)-FIND(":",V11)-2))-1)/VALUE(RIGHT(V11,1)),IF(S11<=VALUE(MID(V11,FIND(", ",V11)+2,IF(MID(V11,FIND(", ",V11)+2,1)="1",2,1))),(IF(COUNTIFS(S:S,"<="&S11)<=VALUE(MID(V11,FIND(", ",V11)+2,IF(MID(V11,FIND(", ",V11)+2,1)="1",2,1))),1,(VALUE(MID(V11,FIND(", ",V11)+2,IF(MID(V11,FIND(", ",V11)+2,1)="1",2,1)))-COUNTIFS(S:S,"<"&S11))/COUNTIFS(S:S,S11)))*(1*(1+VALUE(MID(V11,FIND(": ",V11)+2,FIND("/",V11)-FIND(":",V11)-2))-1)/VALUE(RIGHT(V11,1))+1)-2,-2))) | V11: =IF(R11="","",FRL!H11)
A12: =IF(Win!A12="","",Win!A12) -> Christiaan Burke | B12: =IF(Win!B12="","",VALUE(Win!B12)) -> 0.0071 | C12: =IF(Win!C12="","",Win!C12) -> 141 | D12: =IF(Win!D12="","",Win!D12) -> 41 | E12: =IF(D12="","",IF(ROUND((B12*(D12-1)-(1-B12))/(D12-1),3)<=0,"",ROUND((B12*(D12-1)-(1-B12))/(D12-1),3))) | F12: {=IF(E12="","",RANK(E12, $E$2:$E$241) + COUNTIFS($E$2:$E$241, E12, $D$2:$D$241, "<"&D12) + COUNTIFS($E$2:$E$241, E12, $D$2:$D$241, D12, $A$2:$A$241, "<"&A12))} | G12: =IF(Win!F12="","",Win!F12) -> 2 | H12: =IF(OR(F12="",G12="",F12>3),"",IF(G12=1,(IF(COUNTIFS(G:G,"<="&G12)<=1,1,(1-COUNTIFS(G:G,"<"&G12))/COUNTIFS(G:G,G12)))*(1+VALUE(MID(J12,FIND(": ",J12)+2,FIND("/",J12)-FIND(":",J12)-2))-1)+(1+VALUE(MID(J12,FIND(": ",J12)+2,FIND("/",J12)-FIND(":",J12)-2))-1)/VALUE(RIGHT(J12,1)),IF(G12<=VALUE(MID(J12,FIND(", ",J12)+2,IF(MID(J12,FIND(", ",J12)+2,1)="1",2,1))),(IF(COUNTIFS(G:G,"<="&G12)<=VALUE(MID(J12,FIND(", ",J12)+2,IF(MID(J12,FIND(", ",J12)+2,1)="1",2,1))),1,(VALUE(MID(J12,FIND(", ",J12)+2,IF(MID(J12,FIND(", ",J12)+2,1)="1",2,1)))-COUNTIFS(G:G,"<"&G12))/COUNTIFS(G:G,G12)))*(1*(1+VALUE(MID(J12,FIND(": ",J12)+2,FIND("/",J12)-FIND(":",J12)-2))-1)/VALUE(RIGHT(J12,1))+1)-2,-2))) | I12: =IF(OR(E12="",G12=""),"",IF(G12=1,(IF(COUNTIFS(G:G,"<="&G12)<=1,1,(1-COUNTIFS(G:G,"<"&G12))/COUNTIFS(G:G,G12)))*(1+VALUE(MID(J12,FIND(": ",J12)+2,FIND("/",J12)-FIND(":",J12)-2))-1)+(1+VALUE(MID(J12,FIND(": ",J12)+2,FIND("/",J12)-FIND(":",J12)-2))-1)/VALUE(RIGHT(J12,1)),IF(G12<=VALUE(MID(J12,FIND(", ",J12)+2,IF(MID(J12,FIND(", ",J12)+2,1)="1",2,1))),(IF(COUNTIFS(G:G,"<="&G12)<=VALUE(MID(J12,FIND(", ",J12)+2,IF(MID(J12,FIND(", ",J12)+2,1)="1",2,1))),1,(VALUE(MID(J12,FIND(", ",J12)+2,IF(MID(J12,FIND(", ",J12)+2,1)="1",2,1)))-COUNTIFS(G:G,"<"&G12))/COUNTIFS(G:G,G12)))*(1*(1+VALUE(MID(J12,FIND(": ",J12)+2,FIND("/",J12)-FIND(":",J12)-2))-1)/VALUE(RIGHT(J12,1))+1)-2,-2))) | J12: =IF(F12="","",Win!H12) | M12: =IF(FRL!A12="","",FRL!A12) | N12: =IF(FRL!B12="","",FRL!B12) | O12: =IF(FRL!C12="","",FRL!C12) | P12: =IF(FRL!D12="","",FRL!D12) | Q12: =IF(P12="","",IF(ROUND((N12*(P12-1)-(1-N12))/(P12-1),3)<=0,"",ROUND((N12*(P12-1)-(1-N12))/(P12-1),3))) | R12: {=IF(Q12="","",RANK(Q12, $Q$2:$Q$241) + COUNTIFS($Q$2:$Q$241, Q12, $P$2:$P$241, "<"&P12) + COUNTIFS($Q$2:$Q$241, Q12, $P$2:$P$241, P12, $M$2:$M$241, "<"&M12))} | S12: =IF(FRL!F12="","",FRL!F12) | T12: =IF(OR(R12="",S12="",R12>3),"",IF(S12=1,(IF(COUNTIFS(S:S,"<="&S12)<=1,1,(1-COUNTIFS(S:S,"<"&S12))/COUNTIFS(S:S,S12)))*(1+VALUE(MID(V12,FIND(": ",V12)+2,FIND("/",V12)-FIND(":",V12)-2))-1)+(1+VALUE(MID(V12,FIND(": ",V12)+2,FIND("/",V12)-FIND(":",V12)-2))-1)/VALUE(RIGHT(V12,1)),IF(S12<=VALUE(MID(V12,FIND(", ",V12)+2,IF(MID(V12,FIND(", ",V12)+2,1)="1",2,1))),(IF(COUNTIFS(S:S,"<="&S12)<=VALUE(MID(V12,FIND(", ",V12)+2,IF(MID(V12,FIND(", ",V12)+2,1)="1",2,1))),1,(VALUE(MID(V12,FIND(", ",V12)+2,IF(MID(V12,FIND(", ",V12)+2,1)="1",2,1)))-COUNTIFS(S:S,"<"&S12))/COUNTIFS(S:S,S12)))*(1*(1+VALUE(MID(V12,FIND(": ",V12)+2,FIND("/",V12)-FIND(":",V12)-2))-1)/VALUE(RIGHT(V12,1))+1)-2,-2))) | U12: =IF(OR(Q12="",S12=""),"",IF(S12=1,(IF(COUNTIFS(S:S,"<="&S12)<=1,1,(1-COUNTIFS(S:S,"<"&S12))/COUNTIFS(S:S,S12)))*(1+VALUE(MID(V12,FIND(": ",V12)+2,FIND("/",V12)-FIND(":",V12)-2))-1)+(1+VALUE(MID(V12,FIND(": ",V12)+2,FIND("/",V12)-FIND(":",V12)-2))-1)/VALUE(RIGHT(V12,1)),IF(S12<=VALUE(MID(V12,FIND(", ",V12)+2,IF(MID(V12,FIND(", ",V12)+2,1)="1",2,1))),(IF(COUNTIFS(S:S,"<="&S12)<=VALUE(MID(V12,FIND(", ",V12)+2,IF(MID(V12,FIND(", ",V12)+2,1)="1",2,1))),1,(VALUE(MID(V12,FIND(", ",V12)+2,IF(MID(V12,FIND(", ",V12)+2,1)="1",2,1)))-COUNTIFS(S:S,"<"&S12))/COUNTIFS(S:S,S12)))*(1*(1+VALUE(MID(V12,FIND(": ",V12)+2,FIND("/",V12)-FIND(":",V12)-2))-1)/VALUE(RIGHT(V12,1))+1)-2,-2))) | V12: =IF(R12="","",FRL!H12)
A13: =IF(Win!A13="","",Win!A13) -> Christian Kriek | B13: =IF(Win!B13="","",VALUE(Win!B13)) -> 0 | C13: =IF(Win!C13="","",Win!C13) -> 10000 | D13: =IF(Win!D13="","",Win!D13) -> 2501 | E13: =IF(D13="","",IF(ROUND((B13*(D13-1)-(1-B13))/(D13-1),3)<=0,"",ROUND((B13*(D13-1)-(1-B13))/(D13-1),3))) | F13: {=IF(E13="","",RANK(E13, $E$2:$E$241) + COUNTIFS($E$2:$E$241, E13, $D$2:$D$241, "<"&D13) + COUNTIFS($E$2:$E$241, E13, $D$2:$D$241, D13, $A$2:$A$241, "<"&A13))} | G13: =IF(Win!F13="","",Win!F13) -> 44 | H13: =IF(OR(F13="",G13="",F13>3),"",IF(G13=1,(IF(COUNTIFS(G:G,"<="&G13)<=1,1,(1-COUNTIFS(G:G,"<"&G13))/COUNTIFS(G:G,G13)))*(1+VALUE(MID(J13,FIND(": ",J13)+2,FIND("/",J13)-FIND(":",J13)-2))-1)+(1+VALUE(MID(J13,FIND(": ",J13)+2,FIND("/",J13)-FIND(":",J13)-2))-1)/VALUE(RIGHT(J13,1)),IF(G13<=VALUE(MID(J13,FIND(", ",J13)+2,IF(MID(J13,FIND(", ",J13)+2,1)="1",2,1))),(IF(COUNTIFS(G:G,"<="&G13)<=VALUE(MID(J13,FIND(", ",J13)+2,IF(MID(J13,FIND(", ",J13)+2,1)="1",2,1))),1,(VALUE(MID(J13,FIND(", ",J13)+2,IF(MID(J13,FIND(", ",J13)+2,1)="1",2,1)))-COUNTIFS(G:G,"<"&G13))/COUNTIFS(G:G,G13)))*(1*(1+VALUE(MID(J13,FIND(": ",J13)+2,FIND("/",J13)-FIND(":",J13)-2))-1)/VALUE(RIGHT(J13,1))+1)-2,-2))) | I13: =IF(OR(E13="",G13=""),"",IF(G13=1,(IF(COUNTIFS(G:G,"<="&G13)<=1,1,(1-COUNTIFS(G:G,"<"&G13))/COUNTIFS(G:G,G13)))*(1+VALUE(MID(J13,FIND(": ",J13)+2,FIND("/",J13)-FIND(":",J13)-2))-1)+(1+VALUE(MID(J13,FIND(": ",J13)+2,FIND("/",J13)-FIND(":",J13)-2))-1)/VALUE(RIGHT(J13,1)),IF(G13<=VALUE(MID(J13,FIND(", ",J13)+2,IF(MID(J13,FIND(", ",J13)+2,1)="1",2,1))),(IF(COUNTIFS(G:G,"<="&G13)<=VALUE(MID(J13,FIND(", ",J13)+2,IF(MID(J13,FIND(", ",J13)+2,1)="1",2,1))),1,(VALUE(MID(J13,FIND(", ",J13)+2,IF(MID(J13,FIND(", ",J13)+2,1)="1",2,1)))-COUNTIFS(G:G,"<"&G13))/COUNTIFS(G:G,G13)))*(1*(1+VALUE(MID(J13,FIND(": ",J13)+2,FIND("/",J13)-FIND(":",J13)-2))-1)/VALUE(RIGHT(J13,1))+1)-2,-2))) | J13: =IF(F13="","",Win!H13) | M13: =IF(FRL!A13="","",FRL!A13) | N13: =IF(FRL!B13="","",FRL!B13) | O13: =IF(FRL!C13="","",FRL!C13) | P13: =IF(FRL!D13="","",FRL!D13) | Q13: =IF(P13="","",IF(ROUND((N13*(P13-1)-(1-N13))/(P13-1),3)<=0,"",ROUND((N13*(P13-1)-(1-N13))/(P13-1),3))) | R13: {=IF(Q13="","",RANK(Q13, $Q$2:$Q$241) + COUNTIFS($Q$2:$Q$241, Q13, $P$2:$P$241, "<"&P13) + COUNTIFS($Q$2:$Q$241, Q13, $P$2:$P$241, P13, $M$2:$M$241, "<"&M13))} | S13: =IF(FRL!F13="","",FRL!F13) | T13: =IF(OR(R13="",S13="",R13>3),"",IF(S13=1,(IF(COUNTIFS(S:S,"<="&S13)<=1,1,(1-COUNTIFS(S:S,"<"&S13))/COUNTIFS(S:S,S13)))*(1+VALUE(MID(V13,FIND(": ",V13)+2,FIND("/",V13)-FIND(":",V13)-2))-1)+(1+VALUE(MID(V13,FIND(": ",V13)+2,FIND("/",V13)-FIND(":",V13)-2))-1)/VALUE(RIGHT(V13,1)),IF(S13<=VALUE(MID(V13,FIND(", ",V13)+2,IF(MID(V13,FIND(", ",V13)+2,1)="1",2,1))),(IF(COUNTIFS(S:S,"<="&S13)<=VALUE(MID(V13,FIND(", ",V13)+2,IF(MID(V13,FIND(", ",V13)+2,1)="1",2,1))),1,(VALUE(MID(V13,FIND(", ",V13)+2,IF(MID(V13,FIND(", ",V13)+2,1)="1",2,1)))-COUNTIFS(S:S,"<"&S13))/COUNTIFS(S:S,S13)))*(1*(1+VALUE(MID(V13,FIND(": ",V13)+2,FIND("/",V13)-FIND(":",V13)-2))-1)/VALUE(RIGHT(V13,1))+1)-2,-2))) | U13: =IF(OR(Q13="",S13=""),"",IF(S13=1,(IF(COUNTIFS(S:S,"<="&S13)<=1,1,(1-COUNTIFS(S:S,"<"&S13))/COUNTIFS(S:S,S13)))*(1+VALUE(MID(V13,FIND(": ",V13)+2,FIND("/",V13)-FIND(":",V13)-2))-1)+(1+VALUE(MID(V13,FIND(": ",V13)+2,FIND("/",V13)-FIND(":",V13)-2))-1)/VALUE(RIGHT(V13,1)),IF(S13<=VALUE(MID(V13,FIND(", ",V13)+2,IF(MID(V13,FIND(", ",V13)+2,1)="1",2,1))),(IF(COUNTIFS(S:S,"<="&S13)<=VALUE(MID(V13,FIND(", ",V13)+2,IF(MID(V13,FIND(", ",V13)+2,1)="1",2,1))),1,(VALUE(MID(V13,FIND(", ",V13)+2,IF(MID(V13,FIND(", ",V13)+2,1)="1",2,1)))-COUNTIFS(S:S,"<"&S13))/COUNTIFS(S:S,S13)))*(1*(1+VALUE(MID(V13,FIND(": ",V13)+2,FIND("/",V13)-FIND(":",V13)-2))-1)/VALUE(RIGHT(V13,1))+1)-2,-2))) | V13: =IF(R13="","",FRL!H13)
... A241: =IF(Win!A241="","",Win!A241) | B241: =IF(Win!B241="","",VALUE(Win!B241)) | C241: =IF(Win!C241="","",Win!C241) | D241: =IF(Win!D241="","",Win!D241) | E241: =IF(D241="","",IF(ROUND((B241*(D241-1)-(1-B241))/(D241-1),3)<=0,"",ROUND((B241*(D241-1)-(1-B241))/(D241-1),3))) | F241: {=IF(E241="","",RANK(E241, $E$2:$E$241) + COUNTIFS($E$2:$E$241, E241, $D$2:$D$241, "<"&D241) + COUNTIFS($E$2:$E$241, E241, $D$2:$D$241, D241, $A$2:$A$241, "<"&A241))} | G241: =IF(Win!F241="","",Win!F241) | H241: =IF(OR(F241="",G241="",F241>3),"",IF(G241=1,(IF(COUNTIFS(G:G,"<="&G241)<=1,1,(1-COUNTIFS(G:G,"<"&G241))/COUNTIFS(G:G,G241)))*(1+VALUE(MID(J241,FIND(": ",J241)+2,FIND("/",J241)-FIND(":",J241)-2))-1)+(1+VALUE(MID(J241,FIND(": ",J241)+2,FIND("/",J241)-FIND(":",J241)-2))-1)/VALUE(RIGHT(J241,1)),IF(G241<=VALUE(MID(J241,FIND(", ",J241)+2,IF(MID(J241,FIND(", ",J241)+2,1)="1",2,1))),(IF(COUNTIFS(G:G,"<="&G241)<=VALUE(MID(J241,FIND(", ",J241)+2,IF(MID(J241,FIND(", ",J241)+2,1)="1",2,1))),1,(VALUE(MID(J241,FIND(", ",J241)+2,IF(MID(J241,FIND(", ",J241)+2,1)="1",2,1)))-COUNTIFS(G:G,"<"&G241))/COUNTIFS(G:G,G241)))*(1*(1+VALUE(MID(J241,FIND(": ",J241)+2,FIND("/",J241)-FIND(":",J241)-2))-1)/VALUE(RIGHT(J241,1))+1)-2,-2))) | I241: =IF(OR(E241="",G241=""),"",IF(G241=1,(IF(COUNTIFS(G:G,"<="&G241)<=1,1,(1-COUNTIFS(G:G,"<"&G241))/COUNTIFS(G:G,G241)))*(1+VALUE(MID(J241,FIND(": ",J241)+2,FIND("/",J241)-FIND(":",J241)-2))-1)+(1+VALUE(MID(J241,FIND(": ",J241)+2,FIND("/",J241)-FIND(":",J241)-2))-1)/VALUE(RIGHT(J241,1)),IF(G241<=VALUE(MID(J241,FIND(", ",J241)+2,IF(MID(J241,FIND(", ",J241)+2,1)="1",2,1))),(IF(COUNTIFS(G:G,"<="&G241)<=VALUE(MID(J241,FIND(", ",J241)+2,IF(MID(J241,FIND(", ",J241)+2,1)="1",2,1))),1,(VALUE(MID(J241,FIND(", ",J241)+2,IF(MID(J241,FIND(", ",J241)+2,1)="1",2,1)))-COUNTIFS(G:G,"<"&G241))/COUNTIFS(G:G,G241)))*(1*(1+VALUE(MID(J241,FIND(": ",J241)+2,FIND("/",J241)-FIND(":",J241)-2))-1)/VALUE(RIGHT(J241,1))+1)-2,-2))) | J241: =IF(F241="","",Win!H241) | M241: =IF(FRL!A241="","",FRL!A241) | N241: =IF(FRL!B241="","",FRL!B241) | O241: =IF(FRL!C241="","",FRL!C241) | P241: =IF(FRL!D241="","",FRL!D241) | Q241: =IF(P241="","",IF(ROUND((N241*(P241-1)-(1-N241))/(P241-1),3)<=0,"",ROUND((N241*(P241-1)-(1-N241))/(P241-1),3))) | R241: {=IF(Q241="","",RANK(Q241, $Q$2:$Q$241) + COUNTIFS($Q$2:$Q$241, Q241, $P$2:$P$241, "<"&P241) + COUNTIFS($Q$2:$Q$241, Q241, $P$2:$P$241, P241, $M$2:$M$241, "<"&M241))} | S241: =IF(FRL!F241="","",FRL!F241) | T241: =IF(OR(R241="",S241="",R241>3),"",IF(S241=1,(IF(COUNTIFS(S:S,"<="&S241)<=1,1,(1-COUNTIFS(S:S,"<"&S241))/COUNTIFS(S:S,S241)))*(1+VALUE(MID(V241,FIND(": ",V241)+2,FIND("/",V241)-FIND(":",V241)-2))-1)+(1+VALUE(MID(V241,FIND(": ",V241)+2,FIND("/",V241)-FIND(":",V241)-2))-1)/VALUE(RIGHT(V241,1)),IF(S241<=VALUE(MID(V241,FIND(", ",V241)+2,IF(MID(V241,FIND(", ",V241)+2,1)="1",2,1))),(IF(COUNTIFS(S:S,"<="&S241)<=VALUE(MID(V241,FIND(", ",V241)+2,IF(MID(V241,FIND(", ",V241)+2,1)="1",2,1))),1,(VALUE(MID(V241,FIND(", ",V241)+2,IF(MID(V241,FIND(", ",V241)+2,1)="1",2,1)))-COUNTIFS(S:S,"<"&S241))/COUNTIFS(S:S,S241)))*(1*(1+VALUE(MID(V241,FIND(": ",V241)+2,FIND("/",V241)-FIND(":",V241)-2))-1)/VALUE(RIGHT(V241,1))+1)-2,-2))) | U241: =IF(OR(Q241="",S241=""),"",IF(S241=1,(IF(COUNTIFS(S:S,"<="&S241)<=1,1,(1-COUNTIFS(S:S,"<"&S241))/COUNTIFS(S:S,S241)))*(1+VALUE(MID(V241,FIND(": ",V241)+2,FIND("/",V241)-FIND(":",V241)-2))-1)+(1+VALUE(MID(V241,FIND(": ",V241)+2,FIND("/",V241)-FIND(":",V241)-2))-1)/VALUE(RIGHT(V241,1)),IF(S241<=VALUE(MID(V241,FIND(", ",V241)+2,IF(MID(V241,FIND(", ",V241)+2,1)="1",2,1))),(IF(COUNTIFS(S:S,"<="&S241)<=VALUE(MID(V241,FIND(", ",V241)+2,IF(MID(V241,FIND(", ",V241)+2,1)="1",2,1))),1,(VALUE(MID(V241,FIND(", ",V241)+2,IF(MID(V241,FIND(", ",V241)+2,1)="1",2,1)))-COUNTIFS(S:S,"<"&S241))/COUNTIFS(S:S,S241)))*(1*(1+VALUE(MID(V241,FIND(": ",V241)+2,FIND("/",V241)-FIND(":",V241)-2))-1)/VALUE(RIGHT(V241,1))+1)-2,-2))) | V241: =IF(R241="","",FRL!H241)

Sheet FRL
F1: Result | G1: P/L | H1: E/W Play
F2: =IFERROR(IF(A2="","",OFFSET(Results!$Z$1,MATCH(A2,Results!$A:$A,0)-1,0)),"") | G2: =IF(OR(E2="",F2=""),"",IF(F2=1,(IF(COUNTIFS(F:F,"<="&F2)<=1,1,(1-COUNTIFS(F:F,"<"&F2))/COUNTIFS(F:F,F2)))*50*E2*(1+VALUE(MID(H2,FIND(": ",H2)+2,FIND("/",H2)-FIND(":",H2)-2))-1)+50*E2*(1+VALUE(MID(H2,FIND(": ",H2)+2,FIND("/",H2)-FIND(":",H2)-2))-1)/VALUE(RIGHT(H2,1)),IF(F2<=VALUE(MID(H2,FIND(", ",H2)+2,1)),(IF(COUNTIFS(F:F,"<="&F2)<=VALUE(MID(H2,FIND(", ",H2)+2,1)),1,(VALUE(MID(H2,FIND(", ",H2)+2,1))-COUNTIFS(F:F,"<"&F2))/COUNTIFS(F:F,F2)))*(50*E2*(1+VALUE(MID(H2,FIND(": ",H2)+2,FIND("/",H2)-FIND(":",H2)-2))-1)/VALUE(RIGHT(H2,1))+50*E2)-(100*E2),-E2*100))) | H2: =IF(E2="","",OFFSET([2]SA!$AL$1,MATCH(A2,[2]SA!$E$1:$E$500,0)-1,0))
F3: =IFERROR(IF(A3="","",OFFSET(Results!$Z$1,MATCH(A3,Results!$A:$A,0)-1,0)),"") | G3: =IF(OR(E3="",F3=""),"",IF(F3=1,(IF(COUNTIFS(F:F,"<="&F3)<=1,1,(1-COUNTIFS(F:F,"<"&F3))/COUNTIFS(F:F,F3)))*50*E3*(1+VALUE(MID(H3,FIND(": ",H3)+2,FIND("/",H3)-FIND(":",H3)-2))-1)+50*E3*(1+VALUE(MID(H3,FIND(": ",H3)+2,FIND("/",H3)-FIND(":",H3)-2))-1)/VALUE(RIGHT(H3,1)),IF(F3<=VALUE(MID(H3,FIND(", ",H3)+2,1)),(IF(COUNTIFS(F:F,"<="&F3)<=VALUE(MID(H3,FIND(", ",H3)+2,1)),1,(VALUE(MID(H3,FIND(", ",H3)+2,1))-COUNTIFS(F:F,"<"&F3))/COUNTIFS(F:F,F3)))*(50*E3*(1+VALUE(MID(H3,FIND(": ",H3)+2,FIND("/",H3)-FIND(":",H3)-2))-1)/VALUE(RIGHT(H3,1))+50*E3)-(100*E3),-E3*100))) | H3: =IF(E3="","",OFFSET([2]SA!$AL$1,MATCH(A3,[2]SA!$E$1:$E$500,0)-1,0))
F4: =IFERROR(IF(A4="","",OFFSET(Results!$Z$1,MATCH(A4,Results!$A:$A,0)-1,0)),"") | G4: =IF(OR(E4="",F4=""),"",IF(F4=1,(IF(COUNTIFS(F:F,"<="&F4)<=1,1,(1-COUNTIFS(F:F,"<"&F4))/COUNTIFS(F:F,F4)))*50*E4*(1+VALUE(MID(H4,FIND(": ",H4)+2,FIND("/",H4)-FIND(":",H4)-2))-1)+50*E4*(1+VALUE(MID(H4,FIND(": ",H4)+2,FIND("/",H4)-FIND(":",H4)-2))-1)/VALUE(RIGHT(H4,1)),IF(F4<=VALUE(MID(H4,FIND(", ",H4)+2,1)),(IF(COUNTIFS(F:F,"<="&F4)<=VALUE(MID(H4,FIND(", ",H4)+2,1)),1,(VALUE(MID(H4,FIND(", ",H4)+2,1))-COUNTIFS(F:F,"<"&F4))/COUNTIFS(F:F,F4)))*(50*E4*(1+VALUE(MID(H4,FIND(": ",H4)+2,FIND("/",H4)-FIND(":",H4)-2))-1)/VALUE(RIGHT(H4,1))+50*E4)-(100*E4),-E4*100))) | H4: =IF(E4="","",OFFSET([2]SA!$AL$1,MATCH(A4,[2]SA!$E$1:$E$500,0)-1,0))
F5: =IFERROR(IF(A5="","",OFFSET(Results!$Z$1,MATCH(A5,Results!$A:$A,0)-1,0)),"") | G5: =IF(OR(E5="",F5=""),"",IF(F5=1,(IF(COUNTIFS(F:F,"<="&F5)<=1,1,(1-COUNTIFS(F:F,"<"&F5))/COUNTIFS(F:F,F5)))*50*E5*(1+VALUE(MID(H5,FIND(": ",H5)+2,FIND("/",H5)-FIND(":",H5)-2))-1)+50*E5*(1+VALUE(MID(H5,FIND(": ",H5)+2,FIND("/",H5)-FIND(":",H5)-2))-1)/VALUE(RIGHT(H5,1)),IF(F5<=VALUE(MID(H5,FIND(", ",H5)+2,1)),(IF(COUNTIFS(F:F,"<="&F5)<=VALUE(MID(H5,FIND(", ",H5)+2,1)),1,(VALUE(MID(H5,FIND(", ",H5)+2,1))-COUNTIFS(F:F,"<"&F5))/COUNTIFS(F:F,F5)))*(50*E5*(1+VALUE(MID(H5,FIND(": ",H5)+2,FIND("/",H5)-FIND(":",H5)-2))-1)/VALUE(RIGHT(H5,1))+50*E5)-(100*E5),-E5*100))) | H5: =IF(E5="","",OFFSET([2]SA!$AL$1,MATCH(A5,[2]SA!$E$1:$E$500,0)-1,0))
F6: =IFERROR(IF(A6="","",OFFSET(Results!$Z$1,MATCH(A6,Results!$A:$A,0)-1,0)),"") | G6: =IF(OR(E6="",F6=""),"",IF(F6=1,(IF(COUNTIFS(F:F,"<="&F6)<=1,1,(1-COUNTIFS(F:F,"<"&F6))/COUNTIFS(F:F,F6)))*50*E6*(1+VALUE(MID(H6,FIND(": ",H6)+2,FIND("/",H6)-FIND(":",H6)-2))-1)+50*E6*(1+VALUE(MID(H6,FIND(": ",H6)+2,FIND("/",H6)-FIND(":",H6)-2))-1)/VALUE(RIGHT(H6,1)),IF(F6<=VALUE(MID(H6,FIND(", ",H6)+2,1)),(IF(COUNTIFS(F:F,"<="&F6)<=VALUE(MID(H6,FIND(", ",H6)+2,1)),1,(VALUE(MID(H6,FIND(", ",H6)+2,1))-COUNTIFS(F:F,"<"&F6))/COUNTIFS(F:F,F6)))*(50*E6*(1+VALUE(MID(H6,FIND(": ",H6)+2,FIND("/",H6)-FIND(":",H6)-2))-1)/VALUE(RIGHT(H6,1))+50*E6)-(100*E6),-E6*100))) | H6: =IF(E6="","",OFFSET([2]SA!$AL$1,MATCH(A6,[2]SA!$E$1:$E$500,0)-1,0))
F7: =IFERROR(IF(A7="","",OFFSET(Results!$Z$1,MATCH(A7,Results!$A:$A,0)-1,0)),"") | G7: =IF(OR(E7="",F7=""),"",IF(F7=1,(IF(COUNTIFS(F:F,"<="&F7)<=1,1,(1-COUNTIFS(F:F,"<"&F7))/COUNTIFS(F:F,F7)))*50*E7*(1+VALUE(MID(H7,FIND(": ",H7)+2,FIND("/",H7)-FIND(":",H7)-2))-1)+50*E7*(1+VALUE(MID(H7,FIND(": ",H7)+2,FIND("/",H7)-FIND(":",H7)-2))-1)/VALUE(RIGHT(H7,1)),IF(F7<=VALUE(MID(H7,FIND(", ",H7)+2,1)),(IF(COUNTIFS(F:F,"<="&F7)<=VALUE(MID(H7,FIND(", ",H7)+2,1)),1,(VALUE(MID(H7,FIND(", ",H7)+2,1))-COUNTIFS(F:F,"<"&F7))/COUNTIFS(F:F,F7)))*(50*E7*(1+VALUE(MID(H7,FIND(": ",H7)+2,FIND("/",H7)-FIND(":",H7)-2))-1)/VALUE(RIGHT(H7,1))+50*E7)-(100*E7),-E7*100))) | H7: =IF(E7="","",OFFSET([2]SA!$AL$1,MATCH(A7,[2]SA!$E$1:$E$500,0)-1,0))
F8: =IFERROR(IF(A8="","",OFFSET(Results!$Z$1,MATCH(A8,Results!$A:$A,0)-1,0)),"") | G8: =IF(OR(E8="",F8=""),"",IF(F8=1,(IF(COUNTIFS(F:F,"<="&F8)<=1,1,(1-COUNTIFS(F:F,"<"&F8))/COUNTIFS(F:F,F8)))*50*E8*(1+VALUE(MID(H8,FIND(": ",H8)+2,FIND("/",H8)-FIND(":",H8)-2))-1)+50*E8*(1+VALUE(MID(H8,FIND(": ",H8)+2,FIND("/",H8)-FIND(":",H8)-2))-1)/VALUE(RIGHT(H8,1)),IF(F8<=VALUE(MID(H8,FIND(", ",H8)+2,1)),(IF(COUNTIFS(F:F,"<="&F8)<=VALUE(MID(H8,FIND(", ",H8)+2,1)),1,(VALUE(MID(H8,FIND(", ",H8)+2,1))-COUNTIFS(F:F,"<"&F8))/COUNTIFS(F:F,F8)))*(50*E8*(1+VALUE(MID(H8,FIND(": ",H8)+2,FIND("/",H8)-FIND(":",H8)-2))-1)/VALUE(RIGHT(H8,1))+50*E8)-(100*E8),-E8*100))) | H8: =IF(E8="","",OFFSET([2]SA!$AL$1,MATCH(A8,[2]SA!$E$1:$E$500,0)-1,0))
F9: =IFERROR(IF(A9="","",OFFSET(Results!$Z$1,MATCH(A9,Results!$A:$A,0)-1,0)),"") | G9: =IF(OR(E9="",F9=""),"",IF(F9=1,(IF(COUNTIFS(F:F,"<="&F9)<=1,1,(1-COUNTIFS(F:F,"<"&F9))/COUNTIFS(F:F,F9)))*50*E9*(1+VALUE(MID(H9,FIND(": ",H9)+2,FIND("/",H9)-FIND(":",H9)-2))-1)+50*E9*(1+VALUE(MID(H9,FIND(": ",H9)+2,FIND("/",H9)-FIND(":",H9)-2))-1)/VALUE(RIGHT(H9,1)),IF(F9<=VALUE(MID(H9,FIND(", ",H9)+2,1)),(IF(COUNTIFS(F:F,"<="&F9)<=VALUE(MID(H9,FIND(", ",H9)+2,1)),1,(VALUE(MID(H9,FIND(", ",H9)+2,1))-COUNTIFS(F:F,"<"&F9))/COUNTIFS(F:F,F9)))*(50*E9*(1+VALUE(MID(H9,FIND(": ",H9)+2,FIND("/",H9)-FIND(":",H9)-2))-1)/VALUE(RIGHT(H9,1))+50*E9)-(100*E9),-E9*100))) | H9: =IF(E9="","",OFFSET([2]SA!$AL$1,MATCH(A9,[2]SA!$E$1:$E$500,0)-1,0))
F10: =IFERROR(IF(A10="","",OFFSET(Results!$Z$1,MATCH(A10,Results!$A:$A,0)-1,0)),"") | G10: =IF(OR(E10="",F10=""),"",IF(F10=1,(IF(COUNTIFS(F:F,"<="&F10)<=1,1,(1-COUNTIFS(F:F,"<"&F10))/COUNTIFS(F:F,F10)))*50*E10*(1+VALUE(MID(H10,FIND(": ",H10)+2,FIND("/",H10)-FIND(":",H10)-2))-1)+50*E10*(1+VALUE(MID(H10,FIND(": ",H10)+2,FIND("/",H10)-FIND(":",H10)-2))-1)/VALUE(RIGHT(H10,1)),IF(F10<=VALUE(MID(H10,FIND(", ",H10)+2,1)),(IF(COUNTIFS(F:F,"<="&F10)<=VALUE(MID(H10,FIND(", ",H10)+2,1)),1,(VALUE(MID(H10,FIND(", ",H10)+2,1))-COUNTIFS(F:F,"<"&F10))/COUNTIFS(F:F,F10)))*(50*E10*(1+VALUE(MID(H10,FIND(": ",H10)+2,FIND("/",H10)-FIND(":",H10)-2))-1)/VALUE(RIGHT(H10,1))+50*E10)-(100*E10),-E10*100))) | H10: =IF(E10="","",OFFSET([2]SA!$AL$1,MATCH(A10,[2]SA!$E$1:$E$500,0)-1,0))
F11: =IFERROR(IF(A11="","",OFFSET(Results!$Z$1,MATCH(A11,Results!$A:$A,0)-1,0)),"") | G11: =IF(OR(E11="",F11=""),"",IF(F11=1,(IF(COUNTIFS(F:F,"<="&F11)<=1,1,(1-COUNTIFS(F:F,"<"&F11))/COUNTIFS(F:F,F11)))*50*E11*(1+VALUE(MID(H11,FIND(": ",H11)+2,FIND("/",H11)-FIND(":",H11)-2))-1)+50*E11*(1+VALUE(MID(H11,FIND(": ",H11)+2,FIND("/",H11)-FIND(":",H11)-2))-1)/VALUE(RIGHT(H11,1)),IF(F11<=VALUE(MID(H11,FIND(", ",H11)+2,1)),(IF(COUNTIFS(F:F,"<="&F11)<=VALUE(MID(H11,FIND(", ",H11)+2,1)),1,(VALUE(MID(H11,FIND(", ",H11)+2,1))-COUNTIFS(F:F,"<"&F11))/COUNTIFS(F:F,F11)))*(50*E11*(1+VALUE(MID(H11,FIND(": ",H11)+2,FIND("/",H11)-FIND(":",H11)-2))-1)/VALUE(RIGHT(H11,1))+50*E11)-(100*E11),-E11*100))) | H11: =IF(E11="","",OFFSET([2]SA!$AL$1,MATCH(A11,[2]SA!$E$1:$E$500,0)-1,0))
F12: =IFERROR(IF(A12="","",OFFSET(Results!$Z$1,MATCH(A12,Results!$A:$A,0)-1,0)),"") | G12: =IF(OR(E12="",F12=""),"",IF(F12=1,(IF(COUNTIFS(F:F,"<="&F12)<=1,1,(1-COUNTIFS(F:F,"<"&F12))/COUNTIFS(F:F,F12)))*50*E12*(1+VALUE(MID(H12,FIND(": ",H12)+2,FIND("/",H12)-FIND(":",H12)-2))-1)+50*E12*(1+VALUE(MID(H12,FIND(": ",H12)+2,FIND("/",H12)-FIND(":",H12)-2))-1)/VALUE(RIGHT(H12,1)),IF(F12<=VALUE(MID(H12,FIND(", ",H12)+2,1)),(IF(COUNTIFS(F:F,"<="&F12)<=VALUE(MID(H12,FIND(", ",H12)+2,1)),1,(VALUE(MID(H12,FIND(", ",H12)+2,1))-COUNTIFS(F:F,"<"&F12))/COUNTIFS(F:F,F12)))*(50*E12*(1+VALUE(MID(H12,FIND(": ",H12)+2,FIND("/",H12)-FIND(":",H12)-2))-1)/VALUE(RIGHT(H12,1))+50*E12)-(100*E12),-E12*100))) | H12: =IF(E12="","",OFFSET([2]SA!$AL$1,MATCH(A12,[2]SA!$E$1:$E$500,0)-1,0))
F13: =IFERROR(IF(A13="","",OFFSET(Results!$Z$1,MATCH(A13,Results!$A:$A,0)-1,0)),"") | G13: =IF(OR(E13="",F13=""),"",IF(F13=1,(IF(COUNTIFS(F:F,"<="&F13)<=1,1,(1-COUNTIFS(F:F,"<"&F13))/COUNTIFS(F:F,F13)))*50*E13*(1+VALUE(MID(H13,FIND(": ",H13)+2,FIND("/",H13)-FIND(":",H13)-2))-1)+50*E13*(1+VALUE(MID(H13,FIND(": ",H13)+2,FIND("/",H13)-FIND(":",H13)-2))-1)/VALUE(RIGHT(H13,1)),IF(F13<=VALUE(MID(H13,FIND(", ",H13)+2,1)),(IF(COUNTIFS(F:F,"<="&F13)<=VALUE(MID(H13,FIND(", ",H13)+2,1)),1,(VALUE(MID(H13,FIND(", ",H13)+2,1))-COUNTIFS(F:F,"<"&F13))/COUNTIFS(F:F,F13)))*(50*E13*(1+VALUE(MID(H13,FIND(": ",H13)+2,FIND("/",H13)-FIND(":",H13)-2))-1)/VALUE(RIGHT(H13,1))+50*E13)-(100*E13),-E13*100))) | H13: =IF(E13="","",OFFSET([2]SA!$AL$1,MATCH(A13,[2]SA!$E$1:$E$500,0)-1,0))
... F168: =IFERROR(IF(A168="","",OFFSET(Results!$Z$1,MATCH(A168,Results!$A:$A,0)-1,0)),"") | G168: =IF(OR(E168="",F168=""),"",IF(F168=1,(IF(COUNTIFS(F:F,"<="&F168)<=1,1,(1-COUNTIFS(F:F,"<"&F168))/COUNTIFS(F:F,F168)))*50*E168*(1+VALUE(MID(H168,FIND(": ",H168)+2,FIND("/",H168)-FIND(":",H168)-2))-1)+50*E168*(1+VALUE(MID(H168,FIND(": ",H168)+2,FIND("/",H168)-FIND(":",H168)-2))-1)/VALUE(RIGHT(H168,1)),IF(F168<=VALUE(MID(H168,FIND(", ",H168)+2,1)),(IF(COUNTIFS(F:F,"<="&F168)<=VALUE(MID(H168,FIND(", ",H168)+2,1)),1,(VALUE(MID(H168,FIND(", ",H168)+2,1))-COUNTIFS(F:F,"<"&F168))/COUNTIFS(F:F,F168)))*(50*E168*(1+VALUE(MID(H168,FIND(": ",H168)+2,FIND("/",H168)-FIND(":",H168)-2))-1)/VALUE(RIGHT(H168,1))+50*E168)-(100*E168),-E168*100))) | H168: =IF(E168="","",OFFSET([2]SA!$AL$1,MATCH(A168,[2]SA!$E$1:$E$500,0)-1,0))
G169: =IF(OR(E169="",F169=""),"",IF(F169=1,(IF(COUNTIFS(F:F,"<="&F169)<=1,1,(1-COUNTIFS(F:F,"<"&F169))/COUNTIFS(F:F,F169)))*50*E169*(1+VALUE(MID(H169,FIND(": ",H169)+2,FIND("/",H169)-FIND(":",H169)-2))-1)+50*E169*(1+VALUE(MID(H169,FIND(": ",H169)+2,FIND("/",H169)-FIND(":",H169)-2))-1)/VALUE(RIGHT(H169,1)),IF(F169<=VALUE(MID(H169,FIND(", ",H169)+2,1)),(IF(COUNTIFS(F:F,"<="&F169)<=VALUE(MID(H169,FIND(", ",H169)+2,1)),1,(VALUE(MID(H169,FIND(", ",H169)+2,1))-COUNTIFS(F:F,"<"&F169))/COUNTIFS(F:F,F169)))*(50*E169*(1+VALUE(MID(H169,FIND(": ",H169)+2,FIND("/",H169)-FIND(":",H169)-2))-1)/VALUE(RIGHT(H169,1))+50*E169)-(100*E169),-E169*100))) | H169: =IF(E169="","",OFFSET([2]SA!$AL$1,MATCH(A169,[2]SA!$E$1:$E$500,0)-1,0))

Sheet T3Picks
A1: Player | B1: Win % | C1: TT Odds | D1: Best Odds | E1: Kelly | F1: Result | G1: P/L | H1: E/W Play
A2: =CONCATENATE("WIN: ",IFERROR(OFFSET(Picks!A$1,MATCH(1,Picks!F:F,0)-1,0),"")) -> WIN: Hennie Du Plessis | B2: =IFERROR(OFFSET(Win!B$1,MATCH(1,Picks!F:F,0)-1,0),"") -> 28.48% | C2: =IFERROR(OFFSET(Win!C$1,MATCH(1,Picks!F:F,0)-1,0),"") -> 3.5 | D2: =IFERROR(OFFSET(Win!D$1,MATCH(1,Picks!F:F,0)-1,0),"") -> 10 | E2: =IFERROR(OFFSET(Win!E$1,MATCH(1,Picks!F:F,0)-1,0),"") -> 20.50% | F2: =IFERROR(OFFSET(Picks!G$1,MATCH(1,Picks!F:F,0)-1,0),"") -> 4 | G2: =IFERROR(IF(AND(B3="",B4=""),3*IFERROR(OFFSET(Picks!H$1,MATCH(1,Picks!F:F,0)-1,0),""),IF(B4="",1.5*IFERROR(OFFSET(Picks!H$1,MATCH(1,Picks!F:F,0)-1,0),""),IFERROR(OFFSET(Picks!H$1,MATCH(1,Picks!F:F,0)-1,0),""))),"") -> 1.25 | H2: =IFERROR(OFFSET(Win!H$1,MATCH(1,Picks!F:F,0)-1,0),"") -> Ladbrokes: 9/1, 5pl, 1/4
A3: =CONCATENATE("WIN: ",IFERROR(OFFSET(Picks!A$1,MATCH(2,Picks!F:F,0)-1,0),"")) -> WIN: J.C. Ritchie | B3: =IFERROR(OFFSET(Win!B$1,MATCH(2,Picks!F:F,0)-1,0),"") -> 10.17% | C3: =IFERROR(OFFSET(Win!C$1,MATCH(2,Picks!F:F,0)-1,0),"") -> 9.8 | D3: =IFERROR(OFFSET(Win!D$1,MATCH(2,Picks!F:F,0)-1,0),"") -> 11 | E3: =IFERROR(OFFSET(Win!E$1,MATCH(2,Picks!F:F,0)-1,0),"") -> 1.20% | F3: =IFERROR(OFFSET(Picks!G$1,MATCH(2,Picks!F:F,0)-1,0),"") -> 1 | G3: =IFERROR(IF(B4="",1.5*IFERROR(OFFSET(Picks!H$1,MATCH(2,Picks!F:F,0)-1,0),""),IFERROR(OFFSET(Picks!H$1,MATCH(2,Picks!F:F,0)-1,0),"")),"") -> 12.5 | H3: =IFERROR(OFFSET(Win!H$1,MATCH(2,Picks!F:F,0)-1,0),"") -> PaddyPower: 10/1, 5pl, 1/4
A4: =CONCATENATE("WIN: ",IFERROR(OFFSET(Picks!A$1,MATCH(3,Picks!F:F,0)-1,0),"")) -> WIN: Jaco Prinsloo | B4: =IFERROR(OFFSET(Win!B$1,MATCH(3,Picks!F:F,0)-1,0),"") -> 4.06% | C4: =IFERROR(OFFSET(Win!C$1,MATCH(3,Picks!F:F,0)-1,0),"") -> 25 | D4: =IFERROR(OFFSET(Win!D$1,MATCH(3,Picks!F:F,0)-1,0),"") -> 34 | E4: =IFERROR(OFFSET(Win!E$1,MATCH(3,Picks!F:F,0)-1,0),"") -> 1.20% | F4: =IFERROR(OFFSET(Picks!G$1,MATCH(3,Picks!F:F,0)-1,0),"") -> 11 | G4: =IFERROR(OFFSET(Picks!H$1,MATCH(3,Picks!F:F,0)-1,0),"") -> -2 | H4: =IFERROR(OFFSET(Win!H$1,MATCH(3,Picks!F:F,0)-1,0),"") -> Skybet: 33/1, 5pl, 1/4
A5: =CONCATENATE("FRL: ",IFERROR(OFFSET(Picks!M$1,MATCH(1,Picks!R:R,0)-1,0),"")) -> FRL: | B5: =IFERROR(IF(OFFSET(FRL!B$1,MATCH(1,Picks!R:R,0)-1,0)=0,"",OFFSET(FRL!B$1,MATCH(1,Picks!R:R,0)-1,0)),"") | C5: =IFERROR(IF(OFFSET(FRL!C$1,MATCH(1,Picks!R:R,0)-1,0)=0,"",OFFSET(FRL!C$1,MATCH(1,Picks!R:R,0)-1,0)),"") | D5: =IFERROR(IF(OFFSET(FRL!D$1,MATCH(1,Picks!R:R,0)-1,0)=0,"",OFFSET(FRL!D$1,MATCH(1,Picks!R:R,0)-1,0)),"") | E5: =IFERROR(IF(OFFSET(FRL!E$1,MATCH(1,Picks!R:R,0)-1,0)=0,"",OFFSET(FRL!E$1,MATCH(1,Picks!R:R,0)-1,0)),"") | F5: =IFERROR(OFFSET(Picks!S$1,MATCH(1,Picks!R:R,0)-1,0),"") | G5: =IF(F5="","",IF(AND(B6="",B7=""),3*IFERROR(OFFSET(Picks!T$1,MATCH(1,Picks!R:R,0)-1,0),""),IF(B7="",1.5*IFERROR(OFFSET(Picks!T$1,MATCH(1,Picks!R:R,0)-1,0),""),IFERROR(OFFSET(Picks!T$1,MATCH(1,Picks!R:R,0)-1,0),"")))) | H5: =IFERROR(OFFSET(FRL!H$1,MATCH(1,Picks!R:R,0)-1,0),"")
A6: =CONCATENATE("FRL: ",IFERROR(OFFSET(Picks!M$1,MATCH(2,Picks!R:R,0)-1,0),"")) -> FRL: | B6: =IFERROR(IF(OFFSET(FRL!B$1,MATCH(2,Picks!R:R,0)-1,0)=0,"",OFFSET(FRL!B$1,MATCH(2,Picks!R:R,0)-1,0)),"") | C6: =IFERROR(IF(OFFSET(FRL!C$1,MATCH(2,Picks!R:R,0)-1,0)=0,"",OFFSET(FRL!C$1,MATCH(2,Picks!R:R,0)-1,0)),"") | D6: =IFERROR(IF(OFFSET(FRL!D$1,MATCH(2,Picks!R:R,0)-1,0)=0,"",OFFSET(FRL!D$1,MATCH(2,Picks!R:R,0)-1,0)),"") | E6: =IFERROR(IF(OFFSET(FRL!E$1,MATCH(2,Picks!R:R,0)-1,0)=0,"",OFFSET(FRL!E$1,MATCH(2,Picks!R:R,0)-1,0)),"") | F6: =IFERROR(OFFSET(Picks!S$1,MATCH(2,Picks!R:R,0)-1,0),"") | G6: =IF(F6="","",IF(B7="",1.5*IFERROR(OFFSET(Picks!T$1,MATCH(2,Picks!R:R,0)-1,0),""),IFERROR(OFFSET(Picks!T$1,MATCH(2,Picks!R:R,0)-1,0),""))) | H6: =IFERROR(OFFSET(FRL!H$1,MATCH(2,Picks!R:R,0)-1,0),"")
A7: =CONCATENATE("FRL: ",IFERROR(OFFSET(Picks!M$1,MATCH(3,Picks!R:R,0)-1,0),"")) -> FRL: | B7: =IFERROR(IF(OFFSET(FRL!B$1,MATCH(3,Picks!R:R,0)-1,0)=0,"",OFFSET(FRL!B$1,MATCH(3,Picks!R:R,0)-1,0)),"") | C7: =IFERROR(IF(OFFSET(FRL!C$1,MATCH(3,Picks!R:R,0)-1,0)=0,"",OFFSET(FRL!C$1,MATCH(3,Picks!R:R,0)-1,0)),"") | D7: =IFERROR(IF(OFFSET(FRL!D$1,MATCH(3,Picks!R:R,0)-1,0)=0,"",OFFSET(FRL!D$1,MATCH(3,Picks!R:R,0)-1,0)),"") | E7: =IFERROR(IF(OFFSET(FRL!E$1,MATCH(3,Picks!R:R,0)-1,0)=0,"",OFFSET(FRL!E$1,MATCH(3,Picks!R:R,0)-1,0)),"") | F7: =IFERROR(OFFSET(Picks!S1,MATCH(3,Picks!R:R,0)-1,0),"") | G7: =IF(F7="","",IFERROR(OFFSET(Picks!T$1,MATCH(3,Picks!R:R,0)-1,0),"")) | H7: =IFERROR(OFFSET(FRL!H$1,MATCH(3,Picks!R:R,0)-1,0),"")
