Workbook

Sheet Results
A1: PLAYER | B1: Results
A2: =IF(J2="","",CONCATENATE(J2," ",I2)) -> FirstName Surname | B2: Date | C2: Event | D2: Course | E2: Location | F2: Tour | G2: Tour2 | H2: Tour3 | I2: Surname | J2: FirstName | K2: Posn | L2: Rd1 | M2: Rd2 | N2: Rd3 | O2: Rd4 | P2: Rd5 | Q2: Total | R2: Field | S2: Field1 | T2: AdjRd1 | U2: AdjRd2 | V2: AdjRd3 | W2: AdjRd4 | X2: AdjRd5 | Y2: AdjAve | Z2: Rd1Pos | AA2: Rd2Pos | AB2: Rd3Pos | AC2: Rd4Pos | AD2: Rd5Pos | AE2: Rd1Lead | AF2: Rd2Lead | AG2: Rd3Lead | AH2: Rd4Lead | AI2: Rd5Lead | AJ2: Posn2
A3: =IF(J3="","",CONCATENATE(J3," ",I3)) -> Cameron John | B3: 46110 | C3: The National Tournament | D3: The National | E3: Australia | F3: Australasian | I3: John | J3: Cameron | K3: 1 | L3: 73 | M3: 70 | N3: 66 | O3: 68 | Q3: 277 | R3: 73.84 | S3: 73.67 | T3: 72.46 | U3: 69.73 | V3: 70.03 | W3: 72.6 | Y3: 71.21 | Z3: 21 | AA3: 7 | AB3: 1 | AC3: 1 | AE3: 5 | AF3: 5 | AG3: 0 | AH3: 0 | AJ3: 1
A4: =IF(J4="","",CONCATENATE(J4," ",I4)) -> Daniel Gale | B4: 46110 | C4: The National Tournament | D4: The National | E4: Australia | F4: Australasian | I4: Gale | J4: Daniel | K4: 2 | L4: 74 | M4: 68 | N4: 71 | O4: 64 | Q4: 277 | R4: 73.84 | S4: 73.67 | T4: 73.46 | U4: 67.73 | V4: 75.03 | W4: 68.6 | Y4: 71.21 | Z4: 32 | AA4: 4 | AB4: 13 | AC4: 1 | AE4: 6 | AF4: 4 | AG4: 4 | AH4: 0 | AJ4: 2
A5: =IF(J5="","",CONCATENATE(J5," ",I5)) -> Matias Sanchez | B5: 46110 | C5: The National Tournament | D5: The National | E5: Australia | F5: Australasian | I5: Sanchez | J5: Matias | K5: 3 | L5: 71 | M5: 70 | N5: 68 | O5: 69 | Q5: 278 | R5: 73.84 | S5: 73.67 | T5: 70.46 | U5: 69.73 | V5: 72.03 | W5: 73.6 | Y5: 71.46 | Z5: 5 | AA5: 3 | AB5: 1 | AC5: 3 | AE5: 3 | AF5: 3 | AG5: 0 | AH5: 1 | AJ5: 3
A6: =IF(J6="","",CONCATENATE(J6," ",I6)) -> Louis Dobbelaar | B6: 46110 | C6: The National Tournament | D6: The National | E6: Australia | F6: Australasian | I6: Dobbelaar | J6: Louis | K6: 4 | L6: 74 | M6: 75 | N6: 64 | O6: 66 | Q6: 279 | R6: 73.84 | S6: 73.67 | T6: 73.46 | U6: 74.73 | V6: 68.03 | W6: 70.6 | Y6: 71.71 | Z6: 32 | AA6: 43 | AB6: 13 | AC6: 4 | AE6: 6 | AF6: 11 | AG6: 4 | AH6: 2 | AJ6: 4
A7: =IF(J7="","",CONCATENATE(J7," ",I7)) -> Declan O'Donovan | B7: 46110 | C7: The National Tournament | D7: The National | E7: Australia | F7: Australasian | I7: O'Donovan | J7: Declan | K7: 4 | L7: 78 | M7: 72 | N7: 66 | O7: 63 | Q7: 279 | R7: 73.84 | S7: 73.67 | T7: 77.46 | U7: 71.73 | V7: 70.03 | W7: 67.6 | Y7: 71.71 | Z7: 66 | AA7: 48 | AB7: 28 | AC7: 4 | AE7: 10 | AF7: 12 | AG7: 7 | AH7: 2 | AJ7: 4
A8: =IF(J8="","",CONCATENATE(J8," ",I8)) -> Todd Sinnott | B8: 46110 | C8: The National Tournament | D8: The National | E8: Australia | F8: Australasian | I8: Sinnott | J8: Todd | K8: 4 | L8: 71 | M8: 73 | N8: 67 | O8: 68 | Q8: 279 | R8: 73.84 | S8: 73.67 | T8: 70.46 | U8: 72.73 | V8: 71.03 | W8: 72.6 | Y8: 71.71 | Z8: 5 | AA8: 14 | AB8: 6 | AC8: 4 | AE8: 3 | AF8: 6 | AG8: 2 | AH8: 2 | AJ8: 4
A9: =IF(J9="","",CONCATENATE(J9," ",I9)) -> Corey Lamb | B9: 46110 | C9: The National Tournament | D9: The National | E9: Australia | F9: Australasian | I9: Lamb | J9: Corey | K9: 7 | L9: 71 | M9: 73 | N9: 67 | O9: 69 | Q9: 280 | R9: 73.84 | S9: 73.67 | T9: 70.46 | U9: 72.73 | V9: 71.03 | W9: 73.6 | Y9: 71.96 | Z9: 5 | AA9: 14 | AB9: 6 | AC9: 7 | AE9: 3 | AF9: 6 | AG9: 2 | AH9: 3 | AJ9: 7
A10: =IF(J10="","",CONCATENATE(J10," ",I10)) -> Josh Armstrong | B10: 46110 | C10: The National Tournament | D10: The National | E10: Australia | F10: Australasian | I10: Armstrong | J10: Josh | K10: 8 | L10: 68 | M10: 70 | N10: 72 | O10: 71 | Q10: 281 | R10: 73.84 | S10: 73.67 | T10: 67.46 | U10: 69.73 | V10: 76.03 | W10: 75.6 | Y10: 72.21 | Z10: 1 | AA10: 1 | AB10: 3 | AC10: 8 | AE10: -1 | AF10: -2 | AG10: 1 | AH10: 4 | AJ10: 8
A11: =IF(J11="","",CONCATENATE(J11," ",I11)) -> Nathan Barbieri | B11: 46110 | C11: The National Tournament | D11: The National | E11: Australia | F11: Australasian | I11: Barbieri | J11: Nathan | K11: 8 | L11: 73 | M11: 69 | N11: 68 | O11: 71 | Q11: 281 | R11: 73.84 | S11: 73.67 | T11: 72.46 | U11: 68.73 | V11: 72.03 | W11: 75.6 | Y11: 72.21 | Z11: 21 | AA11: 4 | AB11: 3 | AC11: 8 | AE11: 5 | AF11: 4 | AG11: 1 | AH11: 4 | AJ11: 8
A12: =IF(J12="","",CONCATENATE(J12," ",I12)) -> Kerry Mountcastle | B12: 46110 | C12: The National Tournament | D12: The National | E12: Australia | F12: Australasian | I12: Mountcastle | J12: Kerry | K12: 8 | L12: 73 | M12: 74 | N12: 68 | O12: 66 | Q12: 281 | R12: 73.84 | S12: 73.67 | T12: 72.46 | U12: 73.73 | V12: 72.03 | W12: 70.6 | Y12: 72.21 | Z12: 21 | AA12: 28 | AB12: 21 | AC12: 8 | AE12: 5 | AF12: 9 | AG12: 6 | AH12: 4 | AJ12: 8
A13: =IF(J13="","",CONCATENATE(J13," ",I13)) -> Jack Thompson | B13: 46110 | C13: The National Tournament | D13: The National | E13: Australia | F13: Australasian | I13: Thompson | J13: Jack | K13: 8 | L13: 76 | M13: 72 | N13: 65 | O13: 68 | Q13: 281 | R13: 73.84 | S13: 73.67 | T13: 75.46 | U13: 71.73 | V13: 69.03 | W13: 72.6 | Y13: 72.21 | Z13: 53 | AA13: 35 | AB13: 13 | AC13: 8 | AE13: 8 | AF13: 10 | AG13: 4 | AH13: 4 | AJ13: 8
A14: =IF(J14="","",CONCATENATE(J14," ",I14)) -> Lachlan Barker | B14: 46110 | C14: The National Tournament | D14: The National | E14: Australia | F14: Australasian | I14: Barker | J14: Lachlan | K14: 12 | L14: 73 | M14: 70 | N14: 70 | O14: 69 | Q14: 282 | R14: 73.84 | S14: 73.67 | T14: 72.46 | U14: 69.73 | V14: 74.03 | W14: 73.6 | Y14: 72.46 | Z14: 21 | AA14: 7 | AB14: 13 | AC14: 12 | AE14: 5 | AF14: 5 | AG14: 4 | AH14: 5 | AJ14: 12
... A57: =IF(J57="","",CONCATENATE(J57," ",I57)) -> Blake Proverbs | B57: 46110 | C57: The National Tournament | D57: The National | E57: Australia | F57: Australasian | I57: Proverbs | J57: Blake | K57: 54 | L57: 74 | M57: 72 | N57: 75 | O57: 74 | Q57: 295 | R57: 73.84 | S57: 73.67 | T57: 73.46 | U57: 71.73 | V57: 79.03 | W57: 78.6 | Y57: 75.71 | Z57: 32 | AA57: 22 | AB57: 49 | AC57: 54 | AE57: 6 | AF57: 8 | AG57: 12 | AH57: 18 | AJ57: 54
A58: =IF(J58="","",CONCATENATE(J58," ",I58)) -> Adam Coull | B58: 46110 | C58: The National Tournament | D58: The National | E58: Australia | F58: Australasian | I58: Coull | J58: Adam | K58: mc | L58: 77 | M58: 74 | Q58: 151 | R58: 73.84 | S58: 73.67 | T58: 76.46 | U58: 73.73 | Y58: 75.1 | Z58: 62 | AA58: 56 | AE58: 9 | AF58: 13 | AJ58: 56
A59: =IF(J59="","",CONCATENATE(J59," ",I59)) -> Adam Hatch | B59: 46110 | C59: The National Tournament | D59: The National | E59: Australia | F59: Australasian | I59: Hatch | J59: Adam | K59: mc | L59: 78 | M59: 73 | Q59: 151 | R59: 73.84 | S59: 73.67 | T59: 77.46 | U59: 72.73 | Y59: 75.1 | Z59: 66 | AA59: 56 | AE59: 10 | AF59: 13 | AJ59: 56
A60: =IF(J60="","",CONCATENATE(J60," ",I60)) -> Lucas Higgins | B60: 46110 | C60: The National Tournament | D60: The National | E60: Australia | F60: Australasian | I60: Higgins | J60: Lucas | K60: mc | L60: 76 | M60: 75 | Q60: 151 | R60: 73.84 | S60: 73.67 | T60: 75.46 | U60: 74.73 | Y60: 75.1 | Z60: 53 | AA60: 56 | AE60: 8 | AF60: 13 | AJ60: 56
A61: =IF(J61="","",CONCATENATE(J61," ",I61)) -> Jye Pickin | B61: 46110 | C61: The National Tournament | D61: The National | E61: Australia | F61: Australasian | I61: Pickin | J61: Jye | K61: mc | L61: 76 | M61: 75 | Q61: 151 | R61: 73.84 | S61: 73.67 | T61: 75.46 | U61: 74.73 | Y61: 75.1 | Z61: 53 | AA61: 56 | AE61: 8 | AF61: 13 | AJ61: 56
A62: =IF(J62="","",CONCATENATE(J62," ",I62)) -> Tyler Wood | B62: 46110 | C62: The National Tournament | D62: The National | E62: Australia | F62: Australasian | I62: Wood | J62: Tyler | K62: mc | L62: 76 | M62: 75 | Q62: 151 | R62: 73.84 | S62: 73.67 | T62: 75.46 | U62: 74.73 | Y62: 75.1 | Z62: 53 | AA62: 56 | AE62: 8 | AF62: 13 | AJ62: 56
A63: =IF(J63="","",CONCATENATE(J63," ",I63)) -> Patrick Healy | B63: 46110 | C63: The National Tournament | D63: The National | E63: Australia | F63: Australasian | I63: Healy | J63: Patrick | K63: mc | L63: 80 | M63: 72 | Q63: 152 | R63: 73.84 | S63: 73.67 | T63: 79.46 | U63: 71.73 | Y63: 75.6 | Z63: 73 | AA63: 61 | AE63: 12 | AF63: 14 | AJ63: 61
A64: =IF(J64="","",CONCATENATE(J64," ",I64)) -> Brett Rankin | B64: 46110 | C64: The National Tournament | D64: The National | E64: Australia | F64: Australasian | I64: Rankin | J64: Brett | K64: mc | L64: 77 | M64: 75 | Q64: 152 | R64: 73.84 | S64: 73.67 | T64: 76.46 | U64: 74.73 | Y64: 75.6 | Z64: 62 | AA64: 61 | AE64: 9 | AF64: 14 | AJ64: 61
A65: =IF(J65="","",CONCATENATE(J65," ",I65)) -> Adam Brady | B65: 46110 | C65: The National Tournament | D65: The National | E65: Australia | F65: Australasian | I65: Brady | J65: Adam | K65: mc | L65: 79 | M65: 74 | Q65: 153 | R65: 73.84 | S65: 73.67 | T65: 78.46 | U65: 73.73 | Y65: 76.1 | Z65: 72 | AA65: 63 | AE65: 11 | AF65: 15 | AJ65: 63
A66: =IF(J66="","",CONCATENATE(J66," ",I66)) -> Andrew Campbell | B66: 46110 | C66: The National Tournament | D66: The National | E66: Australia | F66: Australasian | I66: Campbell | J66: Andrew | K66: mc | L66: 75 | M66: 78 | Q66: 153 | R66: 73.84 | S66: 73.67 | T66: 74.46 | U66: 77.73 | Y66: 76.1 | Z66: 46 | AA66: 63 | AE66: 7 | AF66: 15 | AJ66: 63
A67: =IF(J67="","",CONCATENATE(J67," ",I67)) -> Zach Ion | B67: 46110 | C67: The National Tournament | D67: The National | E67: Australia | F67: Australasian | I67: Ion | J67: Zach | K67: mc | L67: 75 | M67: 78 | Q67: 153 | R67: 73.84 | S67: 73.67 | T67: 74.46 | U67: 77.73 | Y67: 76.1 | Z67: 46 | AA67: 63 | AE67: 7 | AF67: 15 | AJ67: 63
A68: =IF(J68="","",CONCATENATE(J68," ",I68)) -> Chris Malec | B68: 46110 | C68: The National Tournament | D68: The National | E68: Australia | F68: Australasian | I68: Malec | J68: Chris | K68: mc | L68: 75 | M68: 78 | Q68: 153 | R68: 73.84 | S68: 73.67 | T68: 74.46 | U68: 77.73 | Y68: 76.1 | Z68: 46 | AA68: 63 | AE68: 7 | AF68: 15 | AJ68: 63
A69: =IF(J69="","",CONCATENATE(J69," ",I69)) -> Aaron Townsend | B69: 46110 | C69: The National Tournament | D69: The National | E69: Australia | F69: Australasian | I69: Townsend | J69: Aaron | K69: mc | L69: 76 | M69: 77 | Q69: 153 | R69: 73.84 | S69: 73.67 | T69: 75.46 | U69: 76.73 | Y69: 76.1 | Z69: 53 | AA69: 63 | AE69: 8 | AF69: 15 | AJ69: 63
... A78: =IF(J78="","",CONCATENATE(J78," ",I78)) -> Samuel Slater | B78: 46110 | C78: The National Tournament | D78: The National | E78: Australia | F78: Australasian | I78: Slater | J78: Samuel | K78: mc | L78: 87 | M78: 92 | Q78: 179 | R78: 73.84 | S78: 73.67 | T78: 86.46 | U78: 91.73 | Y78: 89.1 | Z78: 76 | AA78: 76 | AE78: 19 | AF78: 41 | AJ78: 76
A79: =IF(J79="","",CONCATENATE(J79," ",I79)) -> Stewart Cink | B79: 46110 | C79: Hoag Classic | D79: Newport Beach | E79: California | F79: Champions | I79: Cink | J79: Stewart | K79: 1 | L79: 66 | M79: 62 | N79: 66 | Q79: 194 | R79: 73.73 | S79: 73.73 | T79: 71.46 | U79: 66.06 | V79: 70.28 | Y79: 69.27 | Z79: 9 | AA79: 1 | AB79: 1 | AE79: 4 | AF79: -2 | AG79: -4 | AJ79: 1
A80: =IF(J80="","",CONCATENATE(J80," ",I80)) -> Ernie Els | B80: 46110 | C80: Hoag Classic | D80: Newport Beach | E80: California | F80: Champions | I80: Els | J80: Ernie | K80: 2 | L80: 66 | M80: 65 | N80: 67 | Q80: 198 | R80: 73.73 | S80: 73.73 | T80: 71.46 | U80: 69.06 | V80: 71.28 | Y80: 70.6 | Z80: 9 | AA80: 4 | AB80: 2 | AE80: 4 | AF80: 3 | AG80: 4 | AJ80: 2
A81: =IF(J81="","",CONCATENATE(J81," ",I81)) -> Zach Johnson | B81: 46110 | C81: Hoag Classic | D81: Newport Beach | E81: California | F81: Champions | I81: Johnson | J81: Zach | K81: 2 | L81: 63 | M81: 70 | N81: 65 | Q81: 198 | R81: 73.73 | S81: 73.73 | T81: 68.46 | U81: 74.06 | V81: 69.28 | Y81: 70.6 | Z81: 2 | AA81: 10 | AB81: 2 | AE81: 1 | AF81: 5 | AG81: 4 | AJ81: 2
A82: =IF(J82="","",CONCATENATE(J82," ",I82)) -> Brian Gay | B82: 46110 | C82: Hoag Classic | D82: Newport Beach | E82: California | F82: Champions | I82: Gay | J82: Brian | K82: 4 | L82: 63 | M82: 69 | N82: 67 | Q82: 199 | R82: 73.73 | S82: 73.73 | T82: 68.46 | U82: 73.06 | V82: 71.28 | Y82: 70.94 | Z82: 2 | AA82: 6 | AB82: 4 | AE82: 1 | AF82: 4 | AG82: 5 | AJ82: 4
A83: =IF(J83="","",CONCATENATE(J83," ",I83)) -> Freddie Jacobson | B83: 46110 | C83: Hoag Classic | D83: Newport Beach | E83: California | F83: Champions | I83: Jacobson | J83: Freddie | K83: 4 | L83: 64 | M83: 66 | N83: 69 | Q83: 199 | R83: 73.73 | S83: 73.73 | T83: 69.46 | U83: 70.06 | V83: 73.28 | Y83: 70.94 | Z83: 4 | AA83: 2 | AB83: 4 | AE83: 2 | AF83: 2 | AG83: 5 | AJ83: 4
A84: =IF(J84="","",CONCATENATE(J84," ",I84)) -> Charlie Wi | B84: 46110 | C84: Hoag Classic | D84: Newport Beach | E84: California | F84: Champions | I84: Wi | J84: Charlie | K84: 4 | L84: 66 | M84: 67 | N84: 66 | Q84: 199 | R84: 73.73 | S84: 73.73 | T84: 71.46 | U84: 71.06 | V84: 70.28 | Y84: 70.94 | Z84: 9 | AA84: 10 | AB84: 4 | AE84: 4 | AF84: 5 | AG84: 5 | AJ84: 4
A85: =IF(J85="","",CONCATENATE(J85," ",I85)) -> Steven Alker | B85: 46110 | C85: Hoag Classic | D85: Newport Beach | E85: California | F85: Champions | I85: Alker | J85: Steven | K85: 7 | L85: 64 | M85: 66 | N85: 70 | Q85: 200 | R85: 73.73 | S85: 73.73 | T85: 69.46 | U85: 70.06 | V85: 74.28 | Y85: 71.27 | Z85: 4 | AA85: 2 | AB85: 7 | AE85: 2 | AF85: 2 | AG85: 6 | AJ85: 7
A86: =IF(J86="","",CONCATENATE(J86," ",I86)) -> Retief Goosen | B86: 46110 | C86: Hoag Classic | D86: Newport Beach | E86: California | F86: Champions | I86: Goosen | J86: Retief | K86: 7 | L86: 66 | M86: 69 | N86: 65 | Q86: 200 | R86: 73.73 | S86: 73.73 | T86: 71.46 | U86: 73.06 | V86: 69.28 | Y86: 71.27 | Z86: 9 | AA86: 17 | AB86: 7 | AE86: 4 | AF86: 7 | AG86: 6 | AJ86: 7
A87: =IF(J87="","",CONCATENATE(J87," ",I87)) -> Bernhard Langer | B87: 46110 | C87: Hoag Classic | D87: Newport Beach | E87: California | F87: Champions | I87: Langer | J87: Bernhard | K87: 7 | L87: 67 | M87: 67 | N87: 66 | Q87: 200 | R87: 73.73 | S87: 73.73 | T87: 72.46 | U87: 71.06 | V87: 70.28 | Y87: 71.27 | Z87: 21 | AA87: 12 | AB87: 7 | AE87: 5 | AF87: 6 | AG87: 6 | AJ87: 7
A88: =IF(J88="","",CONCATENATE(J88," ",I88)) -> Miguel Angel Jimenez | B88: 46110 | C88: Hoag Classic | D88: Newport Beach | E88: California | F88: Champions | I88: Jimenez | J88: Miguel Angel | K88: 10 | L88: 70 | M88: 64 | N88: 67 | Q88: 201 | R88: 73.73 | S88: 73.73 | T88: 75.46 | U88: 68.06 | V88: 71.28 | Y88: 71.6 | Z88: 55 | AA88: 12 | AB88: 10 | AE88: 8 | AF88: 6 | AG88: 7 | AJ88: 10
A89: =IF(J89="","",CONCATENATE(J89," ",I89)) -> Cameron Percy | B89: 46110 | C89: Hoag Classic | D89: Newport Beach | E89: California | F89: Champions | I89: Percy | J89: Cameron | K89: 10 | L89: 66 | M89: 66 | N89: 69 | Q89: 201 | R89: 73.73 | S89: 73.73 | T89: 71.46 | U89: 70.06 | V89: 73.28 | Y89: 71.6 | Z89: 9 | AA89: 6 | AB89: 10 | AE89: 4 | AF89: 4 | AG89: 7 | AJ89: 10
A90: =IF(J90="","",CONCATENATE(J90," ",I90)) -> David Toms | B90: 46110 | C90: Hoag Classic | D90: Newport Beach | E90: California | F90: Champions | I90: Toms | J90: David | K90: 10 | L90: 66 | M90: 66 | N90: 69 | Q90: 201 | R90: 73.73 | S90: 73.73 | T90: 71.46 | U90: 70.06 | V90: 73.28 | Y90: 71.6 | Z90: 9 | AA90: 6 | AB90: 10 | AE90: 4 | AF90: 4 | AG90: 7 | AJ90: 10
... A156: =IF(J156="","",CONCATENATE(J156," ",I156)) -> Jay Haas | B156: 46110 | C156: Hoag Classic | D156: Newport Beach | E156: California | F156: Champions | I156: Haas | J156: Jay | K156: 78 | L156: 76 | M156: 72 | N156: 73 | Q156: 221 | R156: 73.73 | S156: 73.73 | T156: 81.46 | U156: 76.06 | V156: 77.28 | Y156: 78.27 | Z156: 78 | AA156: 78 | AB156: 78 | AE156: 14 | AF156: 20 | AG156: 27 | AJ156: 78
A157: =IF(J157="","",CONCATENATE(J157," ",I157)) -> Davis Lamb | B157: 46110 | C157: Club Car Championship | D157: Landings Club | E157: Georgia | F157: Korn Ferry | I157: Lamb | J157: Davis | K157: 1 | L157: 69 | M157: 63 | N157: 69 | O157: 68 | Q157: 269 | R157: 71.72 | S157: 71.66 | T157: 71 | U157: 64.27 | V157: 68.44 | W157: 66.85 | Y157: 67.64 | Z157: 48 | AA157: 2 | AB157: 3 | AC157: 1 | AE157: 8 | AF157: 3 | AG157: 1 | AH157: -2 | AJ157: 1
A158: =IF(J158="","",CONCATENATE(J158," ",I158)) -> John Pak | B158: 46110 | C158: Club Car Championship | D158: Landings Club | E158: Georgia | F158: Korn Ferry | I158: Pak | J158: John | K158: 2 | L158: 61 | M158: 68 | N158: 71 | O158: 71 | Q158: 271 | R158: 71.72 | S158: 71.66 | T158: 63 | U158: 69.27 | V158: 70.44 | W158: 69.85 | Y158: 68.14 | Z158: 1 | AA158: 1 | AB158: 1 | AC158: 2 | AE158: -1 | AF158: -3 | AG158: 0 | AH158: 2 | AJ158: 2
A159: =IF(J159="","",CONCATENATE(J159," ",I159)) -> Blades Brown | B159: 46110 | C159: Club Car Championship | D159: Landings Club | E159: Georgia | F159: Korn Ferry | I159: Brown | J159: Blades | K159: 3 | L159: 66 | M159: 67 | N159: 67 | O159: 72 | Q159: 272 | R159: 71.72 | S159: 71.66 | T159: 68 | U159: 68.27 | V159: 66.44 | W159: 70.85 | Y159: 68.39 | Z159: 10 | AA159: 3 | AB159: 1 | AC159: 3 | AE159: 5 | AF159: 4 | AG159: 0 | AH159: 3 | AJ159: 3
A160: =IF(J160="","",CONCATENATE(J160," ",I160)) -> Ian Gilligan | B160: 46110 | C160: Club Car Championship | D160: Landings Club | E160: Georgia | F160: Korn Ferry | I160: Gilligan | J160: Ian | K160: 4 | L160: 62 | M160: 73 | N160: 71 | O160: 67 | Q160: 273 | R160: 71.72 | S160: 71.66 | T160: 64 | U160: 74.27 | V160: 70.44 | W160: 65.85 | Y160: 68.64 | Z160: 2 | AA160: 14 | AB160: 12 | AC160: 4 | AE160: 1 | AF160: 6 | AG160: 6 | AH160: 4 | AJ160: 4
A161: =IF(J161="","",CONCATENATE(J161," ",I161)) -> Carson Young | B161: 46110 | C161: Club Car Championship | D161: Landings Club | E161: Georgia | F161: Korn Ferry | I161: Young | J161: Carson | K161: 5 | L161: 70 | M161: 67 | N161: 69 | O161: 68 | Q161: 274 | R161: 71.72 | S161: 71.66 | T161: 72 | U161: 68.27 | V161: 68.44 | W161: 66.85 | Y161: 68.89 | Z161: 77 | AA161: 27 | AB161: 12 | AC161: 5 | AE161: 9 | AF161: 8 | AG161: 6 | AH161: 5 | AJ161: 5
A162: =IF(J162="","",CONCATENATE(J162," ",I162)) -> Joseph Bramlett | B162: 46110 | C162: Club Car Championship | D162: Landings Club | E162: Georgia | F162: Korn Ferry | I162: Bramlett | J162: Joseph | K162: 6 | L162: 67 | M162: 66 | N162: 69 | O162: 73 | Q162: 275 | R162: 71.72 | S162: 71.66 | T162: 69 | U162: 67.27 | V162: 68.44 | W162: 71.85 | Y162: 69.14 | Z162: 17 | AA162: 3 | AB162: 4 | AC162: 6 | AE162: 6 | AF162: 4 | AG162: 2 | AH162: 6 | AJ162: 6
A163: =IF(J163="","",CONCATENATE(J163," ",I163)) -> Ben Carr | B163: 46110 | C163: Club Car Championship | D163: Landings Club | E163: Georgia | F163: Korn Ferry | I163: Carr | J163: Ben | K163: 7 | L163: 67 | M163: 68 | N163: 72 | O163: 69 | Q163: 276 | R163: 71.72 | S163: 71.66 | T163: 69 | U163: 69.27 | V163: 71.44 | W163: 67.85 | Y163: 69.39 | Z163: 17 | AA163: 14 | AB163: 19 | AC163: 7 | AE163: 6 | AF163: 6 | AG163: 7 | AH163: 7 | AJ163: 7
A164: =IF(J164="","",CONCATENATE(J164," ",I164)) -> Lanto Griffin | B164: 46110 | C164: Club Car Championship | D164: Landings Club | E164: Georgia | F164: Korn Ferry | I164: Griffin | J164: Lanto | K164: 7 | L164: 70 | M164: 66 | N164: 70 | O164: 70 | Q164: 276 | R164: 71.72 | S164: 71.66 | T164: 72 | U164: 67.27 | V164: 69.44 | W164: 68.85 | Y164: 69.39 | Z164: 77 | AA164: 18 | AB164: 12 | AC164: 7 | AE164: 9 | AF164: 7 | AG164: 6 | AH164: 7 | AJ164: 7
A165: =IF(J165="","",CONCATENATE(J165," ",I165)) -> Ian Holt | B165: 46110 | C165: Club Car Championship | D165: Landings Club | E165: Georgia | F165: Korn Ferry | I165: Holt | J165: Ian | K165: 7 | L165: 69 | M165: 68 | N165: 72 | O165: 67 | Q165: 276 | R165: 71.72 | S165: 71.66 | T165: 71 | U165: 69.27 | V165: 71.44 | W165: 65.85 | Y165: 69.39 | Z165: 48 | AA165: 27 | AB165: 40 | AC165: 7 | AE165: 8 | AF165: 8 | AG165: 9 | AH165: 7 | AJ165: 7
A166: =IF(J166="","",CONCATENATE(J166," ",I166)) -> Alistair Docherty | B166: 46110 | C166: Club Car Championship | D166: Landings Club | E166: Georgia | F166: Korn Ferry | I166: Docherty | J166: Alistair | K166: 10 | L166: 69 | M166: 70 | N166: 67 | O166: 71 | Q166: 277 | R166: 71.72 | S166: 71.66 | T166: 71 | U166: 71.27 | V166: 66.44 | W166: 69.85 | Y166: 69.64 | Z166: 48 | AA166: 64 | AB166: 12 | AC166: 10 | AE166: 8 | AF166: 10 | AG166: 6 | AH166: 8 | AJ166: 10
A167: =IF(J167="","",CONCATENATE(J167," ",I167)) -> Hunter Eichhorn | B167: 46110 | C167: Club Car Championship | D167: Landings Club | E167: Georgia | F167: Korn Ferry | I167: Eichhorn | J167: Hunter | K167: 10 | L167: 66 | M167: 68 | N167: 71 | O167: 72 | Q167: 277 | R167: 71.72 | S167: 71.66 | T167: 68 | U167: 69.27 | V167: 70.44 | W167: 70.85 | Y167: 69.64 | Z167: 10 | AA167: 6 | AB167: 9 | AC167: 10 | AE167: 5 | AF167: 5 | AG167: 5 | AH167: 8 | AJ167: 10
A168: =IF(J168="","",CONCATENATE(J168," ",I168)) -> Ryo Ishikawa | B168: 46110 | C168: Club Car Championship | D168: Landings Club | E168: Georgia | F168: Korn Ferry | I168: Ishikawa | J168: Ryo | K168: 10 | L168: 66 | M168: 68 | N168: 72 | O168: 71 | Q168: 277 | R168: 71.72 | S168: 71.66 | T168: 68 | U168: 69.27 | V168: 71.44 | W168: 69.85 | Y168: 69.64 | Z168: 10 | AA168: 6 | AB168: 12 | AC168: 10 | AE168: 5 | AF168: 5 | AG168: 6 | AH168: 8 | AJ168: 10
... A235: =IF(J235="","",CONCATENATE(J235," ",I235)) -> Will Gordon | B235: 46110 | C235: Club Car Championship | D235: Landings Club | E235: Georgia | F235: Korn Ferry | I235: Gordon | J235: Will | K235: 79 | L235: 69 | M235: 70 | N235: 75 | O235: 81 | Q235: 295 | R235: 71.72 | S235: 71.66 | T235: 71 | U235: 71.27 | V235: 74.44 | W235: 79.85 | Y235: 74.14 | Z235: 48 | AA235: 64 | AB235: 69 | AC235: 79 | AE235: 8 | AF235: 10 | AG235: 14 | AH235: 26 | AJ235: 79
A236: =IF(J236="","",CONCATENATE(J236," ",I236)) -> Carson Bacha | B236: 46110 | C236: Club Car Championship | D236: Landings Club | E236: Georgia | F236: Korn Ferry | I236: Bacha | J236: Carson | K236: mc | L236: 69 | M236: 71 | Q236: 140 | R236: 71.72 | S236: 71.66 | T236: 71 | U236: 72.27 | Y236: 71.63 | Z236: 48 | AA236: 80 | AE236: 8 | AF236: 11 | AJ236: 80
A237: =IF(J237="","",CONCATENATE(J237," ",I237)) -> Sebastian Cappelen | B237: 46110 | C237: Club Car Championship | D237: Landings Club | E237: Georgia | F237: Korn Ferry | I237: Cappelen | J237: Sebastian | K237: mc | L237: 70 | M237: 70 | Q237: 140 | R237: 71.72 | S237: 71.66 | T237: 72 | U237: 71.27 | Y237: 71.63 | Z237: 77 | AA237: 80 | AE237: 9 | AF237: 11 | AJ237: 80
A238: =IF(J238="","",CONCATENATE(J238," ",I238)) -> Zack Fischer | B238: 46110 | C238: Club Car Championship | D238: Landings Club | E238: Georgia | F238: Korn Ferry | I238: Fischer | J238: Zack | K238: mc | L238: 69 | M238: 71 | Q238: 140 | R238: 71.72 | S238: 71.66 | T238: 71 | U238: 72.27 | Y238: 71.63 | Z238: 48 | AA238: 80 | AE238: 8 | AF238: 11 | AJ238: 80
A239: =IF(J239="","",CONCATENATE(J239," ",I239)) -> Petr Hruby | B239: 46110 | C239: Club Car Championship | D239: Landings Club | E239: Georgia | F239: Korn Ferry | I239: Hruby | J239: Petr | K239: mc | L239: 71 | M239: 69 | Q239: 140 | R239: 71.72 | S239: 71.66 | T239: 73 | U239: 70.27 | Y239: 71.63 | Z239: 103 | AA239: 80 | AE239: 10 | AF239: 11 | AJ239: 80
A240: =IF(J240="","",CONCATENATE(J240," ",I240)) -> Ben Kohles | B240: 46110 | C240: Club Car Championship | D240: Landings Club | E240: Georgia | F240: Korn Ferry | I240: Kohles | J240: Ben | K240: mc | L240: 69 | M240: 71 | Q240: 140 | R240: 71.72 | S240: 71.66 | T240: 71 | U240: 72.27 | Y240: 71.63 | Z240: 48 | AA240: 80 | AE240: 8 | AF240: 11 | AJ240: 80
A241: =IF(J241="","",CONCATENATE(J241," ",I241)) -> Stuart Macdonald | B241: 46110 | C241: Club Car Championship | D241: Landings Club | E241: Georgia | F241: Korn Ferry | I241: Macdonald | J241: Stuart | K241: mc | L241: 69 | M241: 71 | Q241: 140 | R241: 71.72 | S241: 71.66 | T241: 71 | U241: 72.27 | Y241: 71.63 | Z241: 48 | AA241: 80 | AE241: 8 | AF241: 11 | AJ241: 80
A242: =IF(J242="","",CONCATENATE(J242," ",I242)) -> Brandon Matthews | B242: 46110 | C242: Club Car Championship | D242: Landings Club | E242: Georgia | F242: Korn Ferry | I242: Matthews | J242: Brandon | K242: mc | L242: 70 | M242: 70 | Q242: 140 | R242: 71.72 | S242: 71.66 | T242: 72 | U242: 71.27 | Y242: 71.63 | Z242: 77 | AA242: 80 | AE242: 9 | AF242: 11 | AJ242: 80
A243: =IF(J243="","",CONCATENATE(J243," ",I243)) -> Matt NeSmith | B243: 46110 | C243: Club Car Championship | D243: Landings Club | E243: Georgia | F243: Korn Ferry | I243: NeSmith | J243: Matt | K243: mc | L243: 69 | M243: 71 | Q243: 140 | R243: 71.72 | S243: 71.66 | T243: 71 | U243: 72.27 | Y243: 71.63 | Z243: 48 | AA243: 80 | AE243: 8 | AF243: 11 | AJ243: 80
A244: =IF(J244="","",CONCATENATE(J244," ",I244)) -> James Nicholas | B244: 46110 | C244: Club Car Championship | D244: Landings Club | E244: Georgia | F244: Korn Ferry | I244: Nicholas | J244: James | K244: mc | L244: 72 | M244: 68 | Q244: 140 | R244: 71.72 | S244: 71.66 | T244: 74 | U244: 69.27 | Y244: 71.63 | Z244: 119 | AA244: 80 | AE244: 11 | AF244: 11 | AJ244: 80
A245: =IF(J245="","",CONCATENATE(J245," ",I245)) -> Alvaro Ortiz | B245: 46110 | C245: Club Car Championship | D245: Landings Club | E245: Georgia | F245: Korn Ferry | I245: Ortiz | J245: Alvaro | K245: mc | L245: 71 | M245: 69 | Q245: 140 | R245: 71.72 | S245: 71.66 | T245: 73 | U245: 70.27 | Y245: 71.63 | Z245: 103 | AA245: 80 | AE245: 10 | AF245: 11 | AJ245: 80
A246: =IF(J246="","",CONCATENATE(J246," ",I246)) -> Ryan Sullivan | B246: 46110 | C246: Club Car Championship | D246: Landings Club | E246: Georgia | F246: Korn Ferry | I246: Sullivan | J246: Ryan | K246: mc | L246: 70 | M246: 70 | Q246: 140 | R246: 71.72 | S246: 71.66 | T246: 72 | U246: 71.27 | Y246: 71.63 | Z246: 77 | AA246: 80 | AE246: 9 | AF246: 11 | AJ246: 80
A247: =IF(J247="","",CONCATENATE(J247," ",I247)) -> Julian Suri | B247: 46110 | C247: Club Car Championship | D247: Landings Club | E247: Georgia | F247: Korn Ferry | I247: Suri | J247: Julian | K247: mc | L247: 69 | M247: 71 | Q247: 140 | R247: 71.72 | S247: 71.66 | T247: 71 | U247: 72.27 | Y247: 71.63 | Z247: 48 | AA247: 80 | AE247: 8 | AF247: 11 | AJ247: 80
... A310: =IF(J310="","",CONCATENATE(J310," ",I310)) -> Jonathan Kaye | B310: 46110 | C310: Club Car Championship | D310: Landings Club | E310: Georgia | F310: Korn Ferry | I310: Kaye | J310: Jonathan | K310: mc | L310: 72 | M310: 86 | Q310: 158 | R310: 71.72 | S310: 71.66 | T310: 74 | U310: 87.27 | Y310: 80.63 | Z310: 119 | AA310: 154 | AE310: 11 | AF310: 29 | AJ310: 154
A311: =IF(J311="","",CONCATENATE(J311," ",I311)) -> Chris Korte | B311: 46110 | C311: Club Car Championship | D311: Landings Club | E311: Georgia | F311: Korn Ferry | I311: Korte | J311: Chris | K311: w | L311: 76 | Q311: 76 | R311: 71.72 | S311: 71.66 | T311: 78 | Y311: 78 | Z311: 152 | AE311: 15 | AJ311: 155
A312: =IF(J312="","",CONCATENATE(J312," ",I312)) -> Kevin Velo | B312: 46110 | C312: Club Car Championship | D312: Landings Club | E312: Georgia | F312: Korn Ferry | I312: Velo | J312: Kevin | K312: w | L312: 64 | Q312: 64 | R312: 71.72 | S312: 71.66 | T312: 66 | Y312: 66 | Z312: 3 | AE312: 3 | AJ312: 155
A313: =IF(J313="","",CONCATENATE(J313," ",I313)) -> Gary Woodland | B313: 46110 | C313: Houston Open | D313: Memorial Park | E313: Texas | F313: PGA | I313: Woodland | J313: Gary | K313: 1 | L313: 64 | M313: 63 | N313: 65 | O313: 67 | Q313: 259 | R313: 70.18 | S313: 70.04 | T313: 64.56 | U313: 64.34 | V313: 65.69 | W313: 67.8 | Y313: 65.6 | Z313: 2 | AA313: 1 | AB313: 1 | AC313: 1 | AE313: 1 | AF313: -3 | AG313: -1 | AH313: -5 | AJ313: 1
A314: =IF(J314="","",CONCATENATE(J314," ",I314)) -> Nicolai Hojgaard | B314: 46110 | C314: Houston Open | D314: Memorial Park | E314: Texas | F314: PGA | I314: Hojgaard | J314: Nicolai | K314: 2 | L314: 68 | M314: 62 | N314: 63 | O314: 71 | Q314: 264 | R314: 70.18 | S314: 70.04 | T314: 68.56 | U314: 63.34 | V314: 63.69 | W314: 71.8 | Y314: 66.85 | Z314: 31 | AA314: 2 | AB314: 2 | AC314: 2 | AE314: 5 | AF314: 3 | AG314: 1 | AH314: 5 | AJ314: 2
A315: =IF(J315="","",CONCATENATE(J315," ",I315)) -> Johnny Keefer | B315: 46110 | C315: Houston Open | D315: Memorial Park | E315: Texas | F315: PGA | I315: Keefer | J315: Johnny | K315: 3 | L315: 67 | M315: 68 | N315: 66 | O315: 64 | Q315: 265 | R315: 70.18 | S315: 70.04 | T315: 67.56 | U315: 69.34 | V315: 66.69 | W315: 64.8 | Y315: 67.1 | Z315: 11 | AA315: 20 | AB315: 10 | AC315: 3 | AE315: 4 | AF315: 8 | AG315: 9 | AH315: 6 | AJ315: 3
A316: =IF(J316="","",CONCATENATE(J316," ",I316)) -> Min Woo Lee | B316: 46110 | C316: Houston Open | D316: Memorial Park | E316: Texas | F316: PGA | I316: Lee | J316: Min Woo | K316: 3 | L316: 68 | M316: 63 | N316: 67 | O316: 67 | Q316: 265 | R316: 70.18 | S316: 70.04 | T316: 68.56 | U316: 64.34 | V316: 67.69 | W316: 67.8 | Y316: 67.1 | Z316: 31 | AA316: 4 | AB316: 3 | AC316: 3 | AE316: 5 | AF316: 4 | AG316: 6 | AH316: 6 | AJ316: 3
A317: =IF(J317="","",CONCATENATE(J317," ",I317)) -> Sam Stevens | B317: 46110 | C317: Houston Open | D317: Memorial Park | E317: Texas | F317: PGA | I317: Stevens | J317: Sam | K317: 5 | L317: 67 | M317: 65 | N317: 67 | O317: 67 | Q317: 266 | R317: 70.18 | S317: 70.04 | T317: 67.56 | U317: 66.34 | V317: 67.69 | W317: 67.8 | Y317: 67.35 | Z317: 11 | AA317: 6 | AB317: 5 | AC317: 5 | AE317: 4 | AF317: 5 | AG317: 7 | AH317: 7 | AJ317: 5
A318: =IF(J318="","",CONCATENATE(J318," ",I318)) -> Jason Day | B318: 46110 | C318: Houston Open | D318: Memorial Park | E318: Texas | F318: PGA | I318: Day | J318: Jason | K318: 6 | L318: 68 | M318: 63 | N318: 68 | O318: 68 | Q318: 267 | R318: 70.18 | S318: 70.04 | T318: 68.56 | U318: 64.34 | V318: 68.69 | W318: 68.8 | Y318: 67.6 | Z318: 31 | AA318: 4 | AB318: 5 | AC318: 6 | AE318: 5 | AF318: 4 | AG318: 7 | AH318: 8 | AJ318: 6
A319: =IF(J319="","",CONCATENATE(J319," ",I319)) -> Chris Gotterup | B319: 46110 | C319: Houston Open | D319: Memorial Park | E319: Texas | F319: PGA | I319: Gotterup | J319: Chris | K319: 6 | L319: 68 | M319: 69 | N319: 65 | O319: 65 | Q319: 267 | R319: 70.18 | S319: 70.04 | T319: 68.56 | U319: 70.34 | V319: 65.69 | W319: 65.8 | Y319: 67.6 | Z319: 31 | AA319: 46 | AB319: 12 | AC319: 6 | AE319: 5 | AF319: 10 | AG319: 10 | AH319: 8 | AJ319: 6
A320: =IF(J320="","",CONCATENATE(J320," ",I320)) -> Jake Knapp | B320: 46110 | C320: Houston Open | D320: Memorial Park | E320: Texas | F320: PGA | I320: Knapp | J320: Jake | K320: 6 | L320: 69 | M320: 65 | N320: 71 | O320: 62 | Q320: 267 | R320: 70.18 | S320: 70.04 | T320: 69.56 | U320: 66.34 | V320: 71.69 | W320: 62.8 | Y320: 67.6 | Z320: 59 | AA320: 11 | AB320: 34 | AC320: 6 | AE320: 6 | AF320: 7 | AG320: 13 | AH320: 8 | AJ320: 6
A321: =IF(J321="","",CONCATENATE(J321," ",I321)) -> Sudarshan Yellamaraju | B321: 46110 | C321: Houston Open | D321: Memorial Park | E321: Texas | F321: PGA | I321: Yellamaraju | J321: Sudarshan | K321: 6 | L321: 69 | M321: 66 | N321: 65 | O321: 67 | Q321: 267 | R321: 70.18 | S321: 70.04 | T321: 69.56 | U321: 67.34 | V321: 65.69 | W321: 67.8 | Y321: 67.6 | Z321: 59 | AA321: 20 | AB321: 7 | AC321: 6 | AE321: 6 | AF321: 8 | AG321: 8 | AH321: 8 | AJ321: 6
A322: =IF(J322="","",CONCATENATE(J322," ",I322)) -> Bronson Burgoon | B322: 46110 | C322: Houston Open | D322: Memorial Park | E322: Texas | F322: PGA | I322: Burgoon | J322: Bronson | K322: 10 | L322: 68 | M322: 68 | N322: 66 | O322: 66 | Q322: 268 | R322: 70.18 | S322: 70.04 | T322: 68.56 | U322: 69.34 | V322: 66.69 | W322: 66.8 | Y322: 67.85 | Z322: 31 | AA322: 33 | AB322: 12 | AC322: 10 | AE322: 5 | AF322: 9 | AG322: 10 | AH322: 9 | AJ322: 10
A323: =IF(J323="","",CONCATENATE(J323," ",I323)) -> Sahith Theegala | B323: 46110 | C323: Houston Open | D323: Memorial Park | E323: Texas | F323: PGA | I323: Theegala | J323: Sahith | K323: 10 | L323: 67 | M323: 67 | N323: 66 | O323: 68 | Q323: 268 | R323: 70.18 | S323: 70.04 | T323: 67.56 | U323: 68.34 | V323: 66.69 | W323: 68.8 | Y323: 67.85 | Z323: 11 | AA323: 11 | AB323: 7 | AC323: 10 | AE323: 4 | AF323: 7 | AG323: 8 | AH323: 9 | AJ323: 10
A324: =IF(J324="","",CONCATENATE(J324," ",I324)) -> Adrien Dumont de Chassart | B324: 46110 | C324: Houston Open | D324: Memorial Park | E324: Texas | F324: PGA | I324: Dumont de Chassart | J324: Adrien | K324: 12 | L324: 67 | M324: 68 | N324: 69 | O324: 65 | Q324: 269 | R324: 70.18 | S324: 70.04 | T324: 67.56 | U324: 69.34 | V324: 69.69 | W324: 65.8 | Y324: 68.1 | Z324: 11 | AA324: 20 | AB324: 27 | AC324: 12 | AE324: 4 | AF324: 8 | AG324: 12 | AH324: 10 | AJ324: 12
... A387: =IF(J387="","",CONCATENATE(J387," ",I387)) -> Luke Clanton | B387: 46110 | C387: Houston Open | D387: Memorial Park | E387: Texas | F387: PGA | I387: Clanton | J387: Luke | K387: 75 | L387: 69 | M387: 69 | N387: 77 | O387: 72 | Q387: 287 | R387: 70.18 | S387: 70.04 | T387: 69.56 | U387: 70.34 | V387: 77.69 | W387: 72.8 | Y387: 72.6 | Z387: 59 | AA387: 60 | AB387: 75 | AC387: 75 | AE387: 6 | AF387: 11 | AG387: 23 | AH387: 28 | AJ387: 75
A388: =IF(J388="","",CONCATENATE(J388," ",I388)) -> Nick Dunlap | B388: 46110 | C388: Houston Open | D388: Memorial Park | E388: Texas | F388: PGA | I388: Dunlap | J388: Nick | K388: mc | L388: 72 | M388: 67 | Q388: 139 | R388: 70.18 | S388: 70.04 | T388: 72.56 | U388: 68.34 | Y388: 70.45 | Z388: 105 | AA388: 76 | AE388: 9 | AF388: 12 | AJ388: 76
A389: =IF(J389="","",CONCATENATE(J389," ",I389)) -> Cole Hammer | B389: 46110 | C389: Houston Open | D389: Memorial Park | E389: Texas | F389: PGA | I389: Hammer | J389: Cole | K389: mc | L389: 67 | M389: 72 | Q389: 139 | R389: 70.18 | S389: 70.04 | T389: 67.56 | U389: 73.34 | Y389: 70.45 | Z389: 11 | AA389: 76 | AE389: 4 | AF389: 12 | AJ389: 76
A390: =IF(J390="","",CONCATENATE(J390," ",I390)) -> Joe Highsmith | B390: 46110 | C390: Houston Open | D390: Memorial Park | E390: Texas | F390: PGA | I390: Highsmith | J390: Joe | K390: mc | L390: 71 | M390: 68 | Q390: 139 | R390: 70.18 | S390: 70.04 | T390: 71.56 | U390: 69.34 | Y390: 70.45 | Z390: 93 | AA390: 76 | AE390: 8 | AF390: 12 | AJ390: 76
A391: =IF(J391="","",CONCATENATE(J391," ",I391)) -> Mason Howell | B391: 46110 | C391: Houston Open | D391: Memorial Park | E391: Texas | F391: PGA | I391: Howell | J391: Mason | K391: mc | L391: 73 | M391: 66 | Q391: 139 | R391: 70.18 | S391: 70.04 | T391: 73.56 | U391: 67.34 | Y391: 70.45 | Z391: 115 | AA391: 76 | AE391: 10 | AF391: 12 | AJ391: 76
A392: =IF(J392="","",CONCATENATE(J392," ",I392)) -> Mackenzie Hughes | B392: 46110 | C392: Houston Open | D392: Memorial Park | E392: Texas | F392: PGA | I392: Hughes | J392: Mackenzie | K392: mc | L392: 71 | M392: 68 | Q392: 139 | R392: 70.18 | S392: 70.04 | T392: 71.56 | U392: 69.34 | Y392: 70.45 | Z392: 93 | AA392: 76 | AE392: 8 | AF392: 12 | AJ392: 76
A393: =IF(J393="","",CONCATENATE(J393," ",I393)) -> Hank Lebioda | B393: 46110 | C393: Houston Open | D393: Memorial Park | E393: Texas | F393: PGA | I393: Lebioda | J393: Hank | K393: mc | L393: 71 | M393: 68 | Q393: 139 | R393: 70.18 | S393: 70.04 | T393: 71.56 | U393: 69.34 | Y393: 70.45 | Z393: 93 | AA393: 76 | AE393: 8 | AF393: 12 | AJ393: 76
A394: =IF(J394="","",CONCATENATE(J394," ",I394)) -> Taylor Moore | B394: 46110 | C394: Houston Open | D394: Memorial Park | E394: Texas | F394: PGA | I394: Moore | J394: Taylor | K394: mc | L394: 67 | M394: 72 | Q394: 139 | R394: 70.18 | S394: 70.04 | T394: 67.56 | U394: 73.34 | Y394: 70.45 | Z394: 11 | AA394: 76 | AE394: 4 | AF394: 12 | AJ394: 76
A395: =IF(J395="","",CONCATENATE(J395," ",I395)) -> Rasmus Neergaard-Petersen | B395: 46110 | C395: Houston Open | D395: Memorial Park | E395: Texas | F395: PGA | I395: Neergaard-Petersen | J395: Rasmus | K395: mc | L395: 69 | M395: 70 | Q395: 139 | R395: 70.18 | S395: 70.04 | T395: 69.56 | U395: 71.34 | Y395: 70.45 | Z395: 59 | AA395: 76 | AE395: 6 | AF395: 12 | AJ395: 76
A396: =IF(J396="","",CONCATENATE(J396," ",I396)) -> Marco Penge | B396: 46110 | C396: Houston Open | D396: Memorial Park | E396: Texas | F396: PGA | I396: Penge | J396: Marco | K396: mc | L396: 66 | M396: 73 | Q396: 139 | R396: 70.18 | S396: 70.04 | T396: 66.56 | U396: 74.34 | Y396: 70.45 | Z396: 6 | AA396: 76 | AE396: 3 | AF396: 12 | AJ396: 76
A397: =IF(J397="","",CONCATENATE(J397," ",I397)) -> J.T. Poston | B397: 46110 | C397: Houston Open | D397: Memorial Park | E397: Texas | F397: PGA | I397: Poston | J397: J.T. | K397: mc | L397: 71 | M397: 68 | Q397: 139 | R397: 70.18 | S397: 70.04 | T397: 71.56 | U397: 69.34 | Y397: 70.45 | Z397: 93 | AA397: 76 | AE397: 8 | AF397: 12 | AJ397: 76
A398: =IF(J398="","",CONCATENATE(J398," ",I398)) -> Adam Svensson | B398: 46110 | C398: Houston Open | D398: Memorial Park | E398: Texas | F398: PGA | I398: Svensson | J398: Adam | K398: mc | L398: 71 | M398: 68 | Q398: 139 | R398: 70.18 | S398: 70.04 | T398: 71.56 | U398: 69.34 | Y398: 70.45 | Z398: 93 | AA398: 76 | AE398: 8 | AF398: 12 | AJ398: 76
A399: =IF(J399="","",CONCATENATE(J399," ",I399)) -> Kevin Yu | B399: 46110 | C399: Houston Open | D399: Memorial Park | E399: Texas | F399: PGA | I399: Yu | J399: Kevin | K399: mc | L399: 71 | M399: 68 | Q399: 139 | R399: 70.18 | S399: 70.04 | T399: 71.56 | U399: 69.34 | Y399: 70.45 | Z399: 93 | AA399: 76 | AE399: 8 | AF399: 12 | AJ399: 76
... A446: =IF(J446="","",CONCATENATE(J446," ",I446)) -> Justin Lower | B446: 46110 | C446: Houston Open | D446: Memorial Park | E446: Texas | F446: PGA | I446: Lower | J446: Justin | K446: mc | L446: 76 | M446: 77 | Q446: 153 | R446: 70.18 | S446: 70.04 | T446: 76.56 | U446: 78.34 | Y446: 77.45 | Z446: 131 | AA446: 134 | AE446: 13 | AF446: 26 | AJ446: 134
A447: =IF(J447="","",CONCATENATE(J447," ",I447)) -> Pierceson Coody | B447: 46110 | C447: Houston Open | D447: Memorial Park | E447: Texas | F447: PGA | I447: Coody | J447: Pierceson | K447: w | L447: 70 | Q447: 70 | R447: 70.18 | S447: 70.04 | T447: 70.56 | Y447: 70.56 | Z447: 76 | AE447: 7 | AJ447: 135
A448: =IF(J448="","",CONCATENATE(J448," ",I448)) -> Alex Fitzpatrick | B448: 46110 | C448: Indian Open | D448: DLF (Player) | E448: India | F448: PGTI | G448: DP World | I448: Fitzpatrick | J448: Alex | K448: 1 | L448: 70 | M448: 68 | N448: 72 | O448: 69 | Q448: 279 | R448: 71.47 | S448: 71.17 | T448: 66.64 | U448: 64.82 | V448: 69.41 | W448: 64.05 | Y448: 66.23 | Z448: 8 | AA448: 3 | AB448: 2 | AC448: 1 | AE448: 4 | AF448: 2 | AG448: 4 | AH448: -2 | AJ448: 1
A449: =IF(J449="","",CONCATENATE(J449," ",I449)) -> Eugenio Chacarra | B449: 46110 | C449: Indian Open | D449: DLF (Player) | E449: India | F449: PGTI | G449: DP World | I449: Chacarra | J449: Eugenio | K449: 2 | L449: 67 | M449: 69 | N449: 70 | O449: 75 | Q449: 281 | R449: 71.47 | S449: 71.17 | T449: 63.64 | U449: 65.82 | V449: 67.41 | W449: 70.05 | Y449: 66.73 | Z449: 2 | AA449: 1 | AB449: 1 | AC449: 2 | AE449: 1 | AF449: -1 | AG449: -4 | AH449: 2 | AJ449: 2
A450: =IF(J450="","",CONCATENATE(J450," ",I450)) -> Ugo Coussaud | B450: 46110 | C450: Indian Open | D450: DLF (Player) | E450: India | F450: PGTI | G450: DP World | I450: Coussaud | J450: Ugo | K450: 3 | L450: 71 | M450: 69 | N450: 74 | O450: 69 | Q450: 283 | R450: 71.47 | S450: 71.17 | T450: 67.64 | U450: 65.82 | V450: 71.41 | W450: 64.05 | Y450: 67.23 | Z450: 17 | AA450: 6 | AB450: 10 | AC450: 3 | AE450: 5 | AF450: 4 | AG450: 8 | AH450: 4 | AJ450: 3
A451: =IF(J451="","",CONCATENATE(J451," ",I451)) -> M.J. Daffue | B451: 46110 | C451: Indian Open | D451: DLF (Player) | E451: India | F451: PGTI | G451: DP World | I451: Daffue | J451: M.J. | K451: 3 | L451: 71 | M451: 67 | N451: 72 | O451: 73 | Q451: 283 | R451: 71.47 | S451: 71.17 | T451: 67.64 | U451: 63.82 | V451: 69.41 | W451: 68.05 | Y451: 67.23 | Z451: 17 | AA451: 3 | AB451: 2 | AC451: 3 | AE451: 5 | AF451: 2 | AG451: 4 | AH451: 4 | AJ451: 3
...

Sheet Record
A1: Win | D1: FRL | G1: Top3: Win | J1: Top3: FRL | N1: WIN | O1: Rank | P1: Player | Q1: P/L | R1: E/W Play | U1: FRL | V1: Rank | W1: Player | X1: P/L | Y1: E/W Play
A2: Stakes | B2: Profit | D2: Stakes | E2: Profit | G2: Stakes | H2: Profit | J2: Stakes | K2: Profit | O2: 1 | P2: =IFERROR(OFFSET(Picks!A$1,MATCH($O2,Picks!$F:$F,0)-1,0),"") -> Christiaan Bezuidenhout | Q2: =IFERROR(OFFSET(Picks!I$1,MATCH($O2,Picks!$F:$F,0)-1,0),"") -> -2 | R2: =IFERROR(OFFSET(Picks!J$1,MATCH($O2,Picks!$F:$F,0)-1,0),"") -> Spreadex: 110/1, 6pl, 1/5 | V2: 1 | W2: =IFERROR(OFFSET(Picks!M$1,MATCH($O2,Picks!$R:$R,0)-1,0),"") -> Christiaan Bezuidenhout | X2: =IFERROR(OFFSET(Picks!U$1,MATCH($O2,Picks!$R:$R,0)-1,0),"") -> -1 | Y2: =IFERROR(OFFSET(Picks!V$1,MATCH($O2,Picks!$R:$R,0)-1,0),"") -> Spreadex: 110/1, 6pl, 1/5
A3: {=IF(100*SUMPRODUCT((Win!F:F<>"") * IFERROR(--Win!E:E, 0))=0,"",100*SUMPRODUCT((Win!F:F<>"") * IFERROR(--Win!E:E, 0)))} -> 1.3 | B3: =IF(AND(A3="",SUM(Win!G:G)=0),"",SUM(Win!G:G)) -> -1.3 | D3: {=IF(100*SUMPRODUCT((FRL!F:F<>"") * IFERROR(--FRL!E:E, 0))=0,"",100*SUMPRODUCT((FRL!F:F<>"") * IFERROR(--FRL!E:E, 0)))} -> 0.7 | E3: =IF(AND(D3="",SUM(FRL!G:G)=0),"",SUM(FRL!G:G)) -> -0.7 | G3: =IF(T3Picks!B2="","",2*(3-COUNTBLANK(T3Picks!A2:A4))) -> 6 | H3: =IF(T3Picks!B2="","",SUM(T3Picks!G2:G4)) -> -6 | J3: =IF(T3Picks!B5="","",(6-COUNTBLANK(T3Picks!H5:H10))) -> 6 | K3: =IF(T3Picks!B5="","",SUM(T3Picks!G5:G10)) -> -6 | O3: 2 | P3: =IFERROR(OFFSET(Picks!A$1,MATCH($O3,Picks!$F:$F,0)-1,0),"") -> Andrew Putnam | Q3: =IFERROR(OFFSET(Picks!I$1,MATCH($O3,Picks!$F:$F,0)-1,0),"") -> -2 | R3: =IFERROR(OFFSET(Picks!J$1,MATCH($O3,Picks!$F:$F,0)-1,0),"") -> BetMGM: 250/1, 6pl, 1/5 | V3: 2 | W3: =IFERROR(OFFSET(Picks!M$1,MATCH($O3,Picks!$R:$R,0)-1,0),"") -> Denny McCarthy | X3: =IFERROR(OFFSET(Picks!U$1,MATCH($O3,Picks!$R:$R,0)-1,0),"") -> -1 | Y3: =IFERROR(OFFSET(Picks!V$1,MATCH($O3,Picks!$R:$R,0)-1,0),"") -> Spreadex: 110/1, 6pl, 1/5
O4: 3 | P4: =IFERROR(OFFSET(Picks!A$1,MATCH($O4,Picks!$F:$F,0)-1,0),"") -> Denny McCarthy | Q4: =IFERROR(OFFSET(Picks!I$1,MATCH($O4,Picks!$F:$F,0)-1,0),"") -> -2 | R4: =IFERROR(OFFSET(Picks!J$1,MATCH($O4,Picks!$F:$F,0)-1,0),"") -> William Hill: 125/1, 6pl, 1/4 | V4: 3 | W4: =IFERROR(OFFSET(Picks!M$1,MATCH($O4,Picks!$R:$R,0)-1,0),"") -> Andrew Putnam | X4: =IFERROR(OFFSET(Picks!U$1,MATCH($O4,Picks!$R:$R,0)-1,0),"") -> -1 | Y4: =IFERROR(OFFSET(Picks!V$1,MATCH($O4,Picks!$R:$R,0)-1,0),"") -> VirginBet: 125/1, 6pl, 1/5
O5: 4 | P5: =IFERROR(OFFSET(Picks!A$1,MATCH($O5,Picks!$F:$F,0)-1,0),"") -> Chris Kirk | Q5: =IFERROR(OFFSET(Picks!I$1,MATCH($O5,Picks!$F:$F,0)-1,0),"") -> -2 | R5: =IFERROR(OFFSET(Picks!J$1,MATCH($O5,Picks!$F:$F,0)-1,0),"") -> Spreadex: 175/1, 6pl, 1/5 | V5: 4 | W5: =IFERROR(OFFSET(Picks!M$1,MATCH($O5,Picks!$R:$R,0)-1,0),"") -> Takumi Kanaya | X5: =IFERROR(OFFSET(Picks!U$1,MATCH($O5,Picks!$R:$R,0)-1,0),"") -> -1 | Y5: =IFERROR(OFFSET(Picks!V$1,MATCH($O5,Picks!$R:$R,0)-1,0),"") -> Spreadex: 150/1, 6pl, 1/5
O6: 5 | P6: =IFERROR(OFFSET(Picks!A$1,MATCH($O6,Picks!$F:$F,0)-1,0),"") -> Takumi Kanaya | Q6: =IFERROR(OFFSET(Picks!I$1,MATCH($O6,Picks!$F:$F,0)-1,0),"") -> -2 | R6: =IFERROR(OFFSET(Picks!J$1,MATCH($O6,Picks!$F:$F,0)-1,0),"") -> Betfred: 350/1, 5pl, 1/4 | V6: 5 | W6: =IFERROR(OFFSET(Picks!M$1,MATCH($O6,Picks!$R:$R,0)-1,0),"") -> Lucas Glover | X6: =IFERROR(OFFSET(Picks!U$1,MATCH($O6,Picks!$R:$R,0)-1,0),"") -> -1 | Y6: =IFERROR(OFFSET(Picks!V$1,MATCH($O6,Picks!$R:$R,0)-1,0),"") -> Betfred: 175/1, 5pl, 1/4
O7: 6 | P7: =IFERROR(OFFSET(Picks!A$1,MATCH($O7,Picks!$F:$F,0)-1,0),"") -> Lucas Glover | Q7: =IFERROR(OFFSET(Picks!I$1,MATCH($O7,Picks!$F:$F,0)-1,0),"") -> -2 | R7: =IFERROR(OFFSET(Picks!J$1,MATCH($O7,Picks!$F:$F,0)-1,0),"") -> Spreadex: 300/1, 6pl, 1/5 | V7: 6 | W7: =IFERROR(OFFSET(Picks!M$1,MATCH($O7,Picks!$R:$R,0)-1,0),"") -> Matt Kuchar | X7: =IFERROR(OFFSET(Picks!U$1,MATCH($O7,Picks!$R:$R,0)-1,0),"") -> -1 | Y7: =IFERROR(OFFSET(Picks!V$1,MATCH($O7,Picks!$R:$R,0)-1,0),"") -> Spreadex: 175/1, 6pl, 1/5
O8: 7 | P8: =IFERROR(OFFSET(Picks!A$1,MATCH($O8,Picks!$F:$F,0)-1,0),"") | Q8: =IFERROR(OFFSET(Picks!I$1,MATCH($O8,Picks!$F:$F,0)-1,0),"") | R8: =IFERROR(OFFSET(Picks!J$1,MATCH($O8,Picks!$F:$F,0)-1,0),"") | V8: 7 | W8: =IFERROR(OFFSET(Picks!M$1,MATCH($O8,Picks!$R:$R,0)-1,0),"") | X8: =IFERROR(OFFSET(Picks!U$1,MATCH($O8,Picks!$R:$R,0)-1,0),"") | Y8: =IFERROR(OFFSET(Picks!V$1,MATCH($O8,Picks!$R:$R,0)-1,0),"")
O9: 8 | P9: =IFERROR(OFFSET(Picks!A$1,MATCH($O9,Picks!$F:$F,0)-1,0),"") | Q9: =IFERROR(OFFSET(Picks!I$1,MATCH($O9,Picks!$F:$F,0)-1,0),"") | R9: =IFERROR(OFFSET(Picks!J$1,MATCH($O9,Picks!$F:$F,0)-1,0),"") | V9: 8 | W9: =IFERROR(OFFSET(Picks!M$1,MATCH($O9,Picks!$R:$R,0)-1,0),"") | X9: =IFERROR(OFFSET(Picks!U$1,MATCH($O9,Picks!$R:$R,0)-1,0),"") | Y9: =IFERROR(OFFSET(Picks!V$1,MATCH($O9,Picks!$R:$R,0)-1,0),"")
O10: 9 | P10: =IFERROR(OFFSET(Picks!A$1,MATCH($O10,Picks!$F:$F,0)-1,0),"") | Q10: =IFERROR(OFFSET(Picks!I$1,MATCH($O10,Picks!$F:$F,0)-1,0),"") | R10: =IFERROR(OFFSET(Picks!J$1,MATCH($O10,Picks!$F:$F,0)-1,0),"") | V10: 9 | W10: =IFERROR(OFFSET(Picks!M$1,MATCH($O10,Picks!$R:$R,0)-1,0),"") | X10: =IFERROR(OFFSET(Picks!U$1,MATCH($O10,Picks!$R:$R,0)-1,0),"") | Y10: =IFERROR(OFFSET(Picks!V$1,MATCH($O10,Picks!$R:$R,0)-1,0),"")
O11: 10 | P11: =IFERROR(OFFSET(Picks!A$1,MATCH($O11,Picks!$F:$F,0)-1,0),"") | Q11: =IFERROR(OFFSET(Picks!I$1,MATCH($O11,Picks!$F:$F,0)-1,0),"") | R11: =IFERROR(OFFSET(Picks!J$1,MATCH($O11,Picks!$F:$F,0)-1,0),"") | V11: 10 | W11: =IFERROR(OFFSET(Picks!M$1,MATCH($O11,Picks!$R:$R,0)-1,0),"") | X11: =IFERROR(OFFSET(Picks!U$1,MATCH($O11,Picks!$R:$R,0)-1,0),"") | Y11: =IFERROR(OFFSET(Picks!V$1,MATCH($O11,Picks!$R:$R,0)-1,0),"")
O12: 11 | P12: =IFERROR(OFFSET(Picks!A$1,MATCH($O12,Picks!$F:$F,0)-1,0),"") | Q12: =IFERROR(OFFSET(Picks!I$1,MATCH($O12,Picks!$F:$F,0)-1,0),"") | R12: =IFERROR(OFFSET(Picks!J$1,MATCH($O12,Picks!$F:$F,0)-1,0),"") | V12: 11 | W12: =IFERROR(OFFSET(Picks!M$1,MATCH($O12,Picks!$R:$R,0)-1,0),"") | X12: =IFERROR(OFFSET(Picks!U$1,MATCH($O12,Picks!$R:$R,0)-1,0),"") | Y12: =IFERROR(OFFSET(Picks!V$1,MATCH($O12,Picks!$R:$R,0)-1,0),"")
O13: 12 | P13: =IFERROR(OFFSET(Picks!A$1,MATCH($O13,Picks!$F:$F,0)-1,0),"") | Q13: =IFERROR(OFFSET(Picks!I$1,MATCH($O13,Picks!$F:$F,0)-1,0),"") | R13: =IFERROR(OFFSET(Picks!J$1,MATCH($O13,Picks!$F:$F,0)-1,0),"") | V13: 12 | W13: =IFERROR(OFFSET(Picks!M$1,MATCH($O13,Picks!$R:$R,0)-1,0),"") | X13: =IFERROR(OFFSET(Picks!U$1,MATCH($O13,Picks!$R:$R,0)-1,0),"") | Y13: =IFERROR(OFFSET(Picks!V$1,MATCH($O13,Picks!$R:$R,0)-1,0),"")
A27: WIN | B27: 1 | C27: 2 | D27: 3 | E27: 4 | F27: 5 | G27: 6 | H27: 7 | I27: 8 | J27: 9 | K27: 10 | L27: 11 | M27: 12 | N27: FRL | O27: 1 | P27: 2 | Q27: 3 | R27: 4 | S27: 5 | T27: 6 | U27: 7 | V27: 8 | W27: 9 | X27: 10 | Y27: 11 | Z27: 12
B28: =Q2*3 -> -6 | C28: =SUM(Q2:Q3)*1.5 -> -6 | D28: =SUM(Q2:Q4) -> -6 | E28: =SUM(Q2:Q5)*3/4 -> -6 | F28: =SUM(Q2:Q6)*3/5 -> -6 | G28: =SUM(Q2:Q7)*3/6 -> -6 | H28: =SUM(Q2:Q8)*3/7 -> -5.1428571 | I28: =SUM(Q2:Q9)*3/8 -> -4.5 | J28: =SUM(Q2:Q10)*3/9 -> -4 | K28: =SUM(Q2:Q11)*3/10 -> -3.6 | L28: =SUM(Q2:Q12)*3/11 -> -3.2727273 | M28: =SUM(Q2:Q13)*3/12 -> -3 | O28: =X2*3 -> -3 | P28: =SUM(X2:X3)*1.5 -> -3 | Q28: =SUM(X2:X4) -> -3 | R28: =SUM(X2:X5)*3/4 -> -3 | S28: =SUM(X2:X6)*3/5 -> -3 | T28: =SUM(X2:X7)*3/6 -> -3 | U28: =SUM(X2:X8)*3/7 -> -2.5714286 | V28: =SUM(X2:X9)*3/9 -> -2 | W28: =SUM(X2:X10)*3/9 -> -2 | X28: =SUM(X2:X11)*3/10 -> -1.8 | Y28: =SUM(X2:X12)*3/11 -> -1.6363636 | Z28: =SUM(X2:X13)*3/12 -> -1.5

Sheet Win
A1: Player | B1: Win % | C1: TT Odds | D1: Best Odds | E1: Kelly | F1: Result | G1: P/L | H1: E/W Play
A2: A.J. Ewart | B2: 0.24% | C2: 417 | D2: 201 | F2: =IFERROR(IF(A2="","",OFFSET(Results!$AJ$1,MATCH(A2,Results!$A:$A,0)-1,0)),"") -> 104 | G2: =IF(OR(E2="",F2=""),"",IF(F2=1,(IF(COUNTIFS(F:F,"<="&F2)<=1,1,(1-COUNTIFS(F:F,"<"&F2))/COUNTIFS(F:F,F2)))*50*E2*(1+VALUE(MID(H2,FIND(": ",H2)+2,FIND("/",H2)-FIND(":",H2)-2))-1)+50*E2*(1+VALUE(MID(H2,FIND(": ",H2)+2,FIND("/",H2)-FIND(":",H2)-2))-1)/VALUE(RIGHT(H2,1)),IF(F2<=VALUE(MID(H2,FIND(", ",H2)+2,IF(MID(H2,FIND(", ",H2)+2,1)="1",2,1))),(IF(COUNTIFS(F:F,"<="&F2)<=VALUE(MID(H2,FIND(", ",H2)+2,IF(MID(H2,FIND(", ",H2)+2,1)="1",2,1))),1,(VALUE(MID(H2,FIND(", ",H2)+2,IF(MID(H2,FIND(", ",H2)+2,1)="1",2,1)))-COUNTIFS(F:F,"<"&F2))/COUNTIFS(F:F,F2)))*(50*E2*(1+VALUE(MID(H2,FIND(": ",H2)+2,FIND("/",H2)-FIND(":",H2)-2))-1)/VALUE(RIGHT(H2,1))+50*E2)-(100*E2),-E2*100))) | H2: =IF(E2="","",OFFSET([1]PGA!$AL$1,MATCH(A2,[1]PGA!$E$1:$E$500,0)-1,0))
A3: Aaron Rai | B3: 1.06% | C3: 94 | D3: 81 | F3: =IFERROR(IF(A3="","",OFFSET(Results!$AJ$1,MATCH(A3,Results!$A:$A,0)-1,0)),"") | G3: =IF(OR(E3="",F3=""),"",IF(F3=1,(IF(COUNTIFS(F:F,"<="&F3)<=1,1,(1-COUNTIFS(F:F,"<"&F3))/COUNTIFS(F:F,F3)))*50*E3*(1+VALUE(MID(H3,FIND(": ",H3)+2,FIND("/",H3)-FIND(":",H3)-2))-1)+50*E3*(1+VALUE(MID(H3,FIND(": ",H3)+2,FIND("/",H3)-FIND(":",H3)-2))-1)/VALUE(RIGHT(H3,1)),IF(F3<=VALUE(MID(H3,FIND(", ",H3)+2,IF(MID(H3,FIND(", ",H3)+2,1)="1",2,1))),(IF(COUNTIFS(F:F,"<="&F3)<=VALUE(MID(H3,FIND(", ",H3)+2,IF(MID(H3,FIND(", ",H3)+2,1)="1",2,1))),1,(VALUE(MID(H3,FIND(", ",H3)+2,IF(MID(H3,FIND(", ",H3)+2,1)="1",2,1)))-COUNTIFS(F:F,"<"&F3))/COUNTIFS(F:F,F3)))*(50*E3*(1+VALUE(MID(H3,FIND(": ",H3)+2,FIND("/",H3)-FIND(":",H3)-2))-1)/VALUE(RIGHT(H3,1))+50*E3)-(100*E3),-E3*100))) | H3: =IF(E3="","",OFFSET([1]PGA!$AL$1,MATCH(A3,[1]PGA!$E$1:$E$500,0)-1,0))
A4: Aaron Wise | B4: 0.02% | C4: 5000 | D4: 1001 | F4: =IFERROR(IF(A4="","",OFFSET(Results!$AJ$1,MATCH(A4,Results!$A:$A,0)-1,0)),"") -> 98 | G4: =IF(OR(E4="",F4=""),"",IF(F4=1,(IF(COUNTIFS(F:F,"<="&F4)<=1,1,(1-COUNTIFS(F:F,"<"&F4))/COUNTIFS(F:F,F4)))*50*E4*(1+VALUE(MID(H4,FIND(": ",H4)+2,FIND("/",H4)-FIND(":",H4)-2))-1)+50*E4*(1+VALUE(MID(H4,FIND(": ",H4)+2,FIND("/",H4)-FIND(":",H4)-2))-1)/VALUE(RIGHT(H4,1)),IF(F4<=VALUE(MID(H4,FIND(", ",H4)+2,IF(MID(H4,FIND(", ",H4)+2,1)="1",2,1))),(IF(COUNTIFS(F:F,"<="&F4)<=VALUE(MID(H4,FIND(", ",H4)+2,IF(MID(H4,FIND(", ",H4)+2,1)="1",2,1))),1,(VALUE(MID(H4,FIND(", ",H4)+2,IF(MID(H4,FIND(", ",H4)+2,1)="1",2,1)))-COUNTIFS(F:F,"<"&F4))/COUNTIFS(F:F,F4)))*(50*E4*(1+VALUE(MID(H4,FIND(": ",H4)+2,FIND("/",H4)-FIND(":",H4)-2))-1)/VALUE(RIGHT(H4,1))+50*E4)-(100*E4),-E4*100))) | H4: =IF(E4="","",OFFSET([1]PGA!$AL$1,MATCH(A4,[1]PGA!$E$1:$E$500,0)-1,0))
A5: Adam Schenk | B5: 0.07% | C5: 1429 | D5: 1001 | F5: =IFERROR(IF(A5="","",OFFSET(Results!$AJ$1,MATCH(A5,Results!$A:$A,0)-1,0)),"") -> 112 | G5: =IF(OR(E5="",F5=""),"",IF(F5=1,(IF(COUNTIFS(F:F,"<="&F5)<=1,1,(1-COUNTIFS(F:F,"<"&F5))/COUNTIFS(F:F,F5)))*50*E5*(1+VALUE(MID(H5,FIND(": ",H5)+2,FIND("/",H5)-FIND(":",H5)-2))-1)+50*E5*(1+VALUE(MID(H5,FIND(": ",H5)+2,FIND("/",H5)-FIND(":",H5)-2))-1)/VALUE(RIGHT(H5,1)),IF(F5<=VALUE(MID(H5,FIND(", ",H5)+2,IF(MID(H5,FIND(", ",H5)+2,1)="1",2,1))),(IF(COUNTIFS(F:F,"<="&F5)<=VALUE(MID(H5,FIND(", ",H5)+2,IF(MID(H5,FIND(", ",H5)+2,1)="1",2,1))),1,(VALUE(MID(H5,FIND(", ",H5)+2,IF(MID(H5,FIND(", ",H5)+2,1)="1",2,1)))-COUNTIFS(F:F,"<"&F5))/COUNTIFS(F:F,F5)))*(50*E5*(1+VALUE(MID(H5,FIND(": ",H5)+2,FIND("/",H5)-FIND(":",H5)-2))-1)/VALUE(RIGHT(H5,1))+50*E5)-(100*E5),-E5*100))) | H5: =IF(E5="","",OFFSET([1]PGA!$AL$1,MATCH(A5,[1]PGA!$E$1:$E$500,0)-1,0))
A6: Adam Scott | B6: 2.20% | C6: 45 | D6: 36 | F6: =IFERROR(IF(A6="","",OFFSET(Results!$AJ$1,MATCH(A6,Results!$A:$A,0)-1,0)),"") -> 21 | G6: =IF(OR(E6="",F6=""),"",IF(F6=1,(IF(COUNTIFS(F:F,"<="&F6)<=1,1,(1-COUNTIFS(F:F,"<"&F6))/COUNTIFS(F:F,F6)))*50*E6*(1+VALUE(MID(H6,FIND(": ",H6)+2,FIND("/",H6)-FIND(":",H6)-2))-1)+50*E6*(1+VALUE(MID(H6,FIND(": ",H6)+2,FIND("/",H6)-FIND(":",H6)-2))-1)/VALUE(RIGHT(H6,1)),IF(F6<=VALUE(MID(H6,FIND(", ",H6)+2,IF(MID(H6,FIND(", ",H6)+2,1)="1",2,1))),(IF(COUNTIFS(F:F,"<="&F6)<=VALUE(MID(H6,FIND(", ",H6)+2,IF(MID(H6,FIND(", ",H6)+2,1)="1",2,1))),1,(VALUE(MID(H6,FIND(", ",H6)+2,IF(MID(H6,FIND(", ",H6)+2,1)="1",2,1)))-COUNTIFS(F:F,"<"&F6))/COUNTIFS(F:F,F6)))*(50*E6*(1+VALUE(MID(H6,FIND(": ",H6)+2,FIND("/",H6)-FIND(":",H6)-2))-1)/VALUE(RIGHT(H6,1))+50*E6)-(100*E6),-E6*100))) | H6: =IF(E6="","",OFFSET([1]PGA!$AL$1,MATCH(A6,[1]PGA!$E$1:$E$500,0)-1,0))
A7: Adam Svensson | B7: 0.12% | C7: 833 | D7: 401 | F7: =IFERROR(IF(A7="","",OFFSET(Results!$AJ$1,MATCH(A7,Results!$A:$A,0)-1,0)),"") -> 76 | G7: =IF(OR(E7="",F7=""),"",IF(F7=1,(IF(COUNTIFS(F:F,"<="&F7)<=1,1,(1-COUNTIFS(F:F,"<"&F7))/COUNTIFS(F:F,F7)))*50*E7*(1+VALUE(MID(H7,FIND(": ",H7)+2,FIND("/",H7)-FIND(":",H7)-2))-1)+50*E7*(1+VALUE(MID(H7,FIND(": ",H7)+2,FIND("/",H7)-FIND(":",H7)-2))-1)/VALUE(RIGHT(H7,1)),IF(F7<=VALUE(MID(H7,FIND(", ",H7)+2,IF(MID(H7,FIND(", ",H7)+2,1)="1",2,1))),(IF(COUNTIFS(F:F,"<="&F7)<=VALUE(MID(H7,FIND(", ",H7)+2,IF(MID(H7,FIND(", ",H7)+2,1)="1",2,1))),1,(VALUE(MID(H7,FIND(", ",H7)+2,IF(MID(H7,FIND(", ",H7)+2,1)="1",2,1)))-COUNTIFS(F:F,"<"&F7))/COUNTIFS(F:F,F7)))*(50*E7*(1+VALUE(MID(H7,FIND(": ",H7)+2,FIND("/",H7)-FIND(":",H7)-2))-1)/VALUE(RIGHT(H7,1))+50*E7)-(100*E7),-E7*100))) | H7: =IF(E7="","",OFFSET([1]PGA!$AL$1,MATCH(A7,[1]PGA!$E$1:$E$500,0)-1,0))
A8: Adrien Dumont de Chassart | B8: 0.45% | C8: 222 | D8: 126 | F8: =IFERROR(IF(A8="","",OFFSET(Results!$AJ$1,MATCH(A8,Results!$A:$A,0)-1,0)),"") -> 12 | G8: =IF(OR(E8="",F8=""),"",IF(F8=1,(IF(COUNTIFS(F:F,"<="&F8)<=1,1,(1-COUNTIFS(F:F,"<"&F8))/COUNTIFS(F:F,F8)))*50*E8*(1+VALUE(MID(H8,FIND(": ",H8)+2,FIND("/",H8)-FIND(":",H8)-2))-1)+50*E8*(1+VALUE(MID(H8,FIND(": ",H8)+2,FIND("/",H8)-FIND(":",H8)-2))-1)/VALUE(RIGHT(H8,1)),IF(F8<=VALUE(MID(H8,FIND(", ",H8)+2,IF(MID(H8,FIND(", ",H8)+2,1)="1",2,1))),(IF(COUNTIFS(F:F,"<="&F8)<=VALUE(MID(H8,FIND(", ",H8)+2,IF(MID(H8,FIND(", ",H8)+2,1)="1",2,1))),1,(VALUE(MID(H8,FIND(", ",H8)+2,IF(MID(H8,FIND(", ",H8)+2,1)="1",2,1)))-COUNTIFS(F:F,"<"&F8))/COUNTIFS(F:F,F8)))*(50*E8*(1+VALUE(MID(H8,FIND(": ",H8)+2,FIND("/",H8)-FIND(":",H8)-2))-1)/VALUE(RIGHT(H8,1))+50*E8)-(100*E8),-E8*100))) | H8: =IF(E8="","",OFFSET([1]PGA!$AL$1,MATCH(A8,[1]PGA!$E$1:$E$500,0)-1,0))
A9: Adrien Saddier | B9: 0.22% | C9: 455 | D9: 351 | F9: =IFERROR(IF(A9="","",OFFSET(Results!$AJ$1,MATCH(A9,Results!$A:$A,0)-1,0)),"") -> 39 | G9: =IF(OR(E9="",F9=""),"",IF(F9=1,(IF(COUNTIFS(F:F,"<="&F9)<=1,1,(1-COUNTIFS(F:F,"<"&F9))/COUNTIFS(F:F,F9)))*50*E9*(1+VALUE(MID(H9,FIND(": ",H9)+2,FIND("/",H9)-FIND(":",H9)-2))-1)+50*E9*(1+VALUE(MID(H9,FIND(": ",H9)+2,FIND("/",H9)-FIND(":",H9)-2))-1)/VALUE(RIGHT(H9,1)),IF(F9<=VALUE(MID(H9,FIND(", ",H9)+2,IF(MID(H9,FIND(", ",H9)+2,1)="1",2,1))),(IF(COUNTIFS(F:F,"<="&F9)<=VALUE(MID(H9,FIND(", ",H9)+2,IF(MID(H9,FIND(", ",H9)+2,1)="1",2,1))),1,(VALUE(MID(H9,FIND(", ",H9)+2,IF(MID(H9,FIND(", ",H9)+2,1)="1",2,1)))-COUNTIFS(F:F,"<"&F9))/COUNTIFS(F:F,F9)))*(50*E9*(1+VALUE(MID(H9,FIND(": ",H9)+2,FIND("/",H9)-FIND(":",H9)-2))-1)/VALUE(RIGHT(H9,1))+50*E9)-(100*E9),-E9*100))) | H9: =IF(E9="","",OFFSET([1]PGA!$AL$1,MATCH(A9,[1]PGA!$E$1:$E$500,0)-1,0))
A10: Aldrich Potgieter | B10: 0.15% | C10: 667 | D10: 91 | F10: =IFERROR(IF(A10="","",OFFSET(Results!$AJ$1,MATCH(A10,Results!$A:$A,0)-1,0)),"") -> 21 | G10: =IF(OR(E10="",F10=""),"",IF(F10=1,(IF(COUNTIFS(F:F,"<="&F10)<=1,1,(1-COUNTIFS(F:F,"<"&F10))/COUNTIFS(F:F,F10)))*50*E10*(1+VALUE(MID(H10,FIND(": ",H10)+2,FIND("/",H10)-FIND(":",H10)-2))-1)+50*E10*(1+VALUE(MID(H10,FIND(": ",H10)+2,FIND("/",H10)-FIND(":",H10)-2))-1)/VALUE(RIGHT(H10,1)),IF(F10<=VALUE(MID(H10,FIND(", ",H10)+2,IF(MID(H10,FIND(", ",H10)+2,1)="1",2,1))),(IF(COUNTIFS(F:F,"<="&F10)<=VALUE(MID(H10,FIND(", ",H10)+2,IF(MID(H10,FIND(", ",H10)+2,1)="1",2,1))),1,(VALUE(MID(H10,FIND(", ",H10)+2,IF(MID(H10,FIND(", ",H10)+2,1)="1",2,1)))-COUNTIFS(F:F,"<"&F10))/COUNTIFS(F:F,F10)))*(50*E10*(1+VALUE(MID(H10,FIND(": ",H10)+2,FIND("/",H10)-FIND(":",H10)-2))-1)/VALUE(RIGHT(H10,1))+50*E10)-(100*E10),-E10*100))) | H10: =IF(E10="","",OFFSET([1]PGA!$AL$1,MATCH(A10,[1]PGA!$E$1:$E$500,0)-1,0))
A11: Alejandro Tosti | B11: 0.05% | C11: 2000 | D11: 176 | F11: =IFERROR(IF(A11="","",OFFSET(Results!$AJ$1,MATCH(A11,Results!$A:$A,0)-1,0)),"") -> 104 | G11: =IF(OR(E11="",F11=""),"",IF(F11=1,(IF(COUNTIFS(F:F,"<="&F11)<=1,1,(1-COUNTIFS(F:F,"<"&F11))/COUNTIFS(F:F,F11)))*50*E11*(1+VALUE(MID(H11,FIND(": ",H11)+2,FIND("/",H11)-FIND(":",H11)-2))-1)+50*E11*(1+VALUE(MID(H11,FIND(": ",H11)+2,FIND("/",H11)-FIND(":",H11)-2))-1)/VALUE(RIGHT(H11,1)),IF(F11<=VALUE(MID(H11,FIND(", ",H11)+2,IF(MID(H11,FIND(", ",H11)+2,1)="1",2,1))),(IF(COUNTIFS(F:F,"<="&F11)<=VALUE(MID(H11,FIND(", ",H11)+2,IF(MID(H11,FIND(", ",H11)+2,1)="1",2,1))),1,(VALUE(MID(H11,FIND(", ",H11)+2,IF(MID(H11,FIND(", ",H11)+2,1)="1",2,1)))-COUNTIFS(F:F,"<"&F11))/COUNTIFS(F:F,F11)))*(50*E11*(1+VALUE(MID(H11,FIND(": ",H11)+2,FIND("/",H11)-FIND(":",H11)-2))-1)/VALUE(RIGHT(H11,1))+50*E11)-(100*E11),-E11*100))) | H11: =IF(E11="","",OFFSET([1]PGA!$AL$1,MATCH(A11,[1]PGA!$E$1:$E$500,0)-1,0))
A12: Alex Smalley | B12: 0.86% | C12: 116 | D12: 67 | F12: =IFERROR(IF(A12="","",OFFSET(Results!$AJ$1,MATCH(A12,Results!$A:$A,0)-1,0)),"") -> 21 | G12: =IF(OR(E12="",F12=""),"",IF(F12=1,(IF(COUNTIFS(F:F,"<="&F12)<=1,1,(1-COUNTIFS(F:F,"<"&F12))/COUNTIFS(F:F,F12)))*50*E12*(1+VALUE(MID(H12,FIND(": ",H12)+2,FIND("/",H12)-FIND(":",H12)-2))-1)+50*E12*(1+VALUE(MID(H12,FIND(": ",H12)+2,FIND("/",H12)-FIND(":",H12)-2))-1)/VALUE(RIGHT(H12,1)),IF(F12<=VALUE(MID(H12,FIND(", ",H12)+2,IF(MID(H12,FIND(", ",H12)+2,1)="1",2,1))),(IF(COUNTIFS(F:F,"<="&F12)<=VALUE(MID(H12,FIND(", ",H12)+2,IF(MID(H12,FIND(", ",H12)+2,1)="1",2,1))),1,(VALUE(MID(H12,FIND(", ",H12)+2,IF(MID(H12,FIND(", ",H12)+2,1)="1",2,1)))-COUNTIFS(F:F,"<"&F12))/COUNTIFS(F:F,F12)))*(50*E12*(1+VALUE(MID(H12,FIND(": ",H12)+2,FIND("/",H12)-FIND(":",H12)-2))-1)/VALUE(RIGHT(H12,1))+50*E12)-(100*E12),-E12*100))) | H12: =IF(E12="","",OFFSET([1]PGA!$AL$1,MATCH(A12,[1]PGA!$E$1:$E$500,0)-1,0))
A13: Andrew Putnam | B13: 0.68% | C13: 147 | D13: 251 | E13: 0.30% | F13: =IFERROR(IF(A13="","",OFFSET(Results!$AJ$1,MATCH(A13,Results!$A:$A,0)-1,0)),"") -> 44 | G13: =IF(OR(E13="",F13=""),"",IF(F13=1,(IF(COUNTIFS(F:F,"<="&F13)<=1,1,(1-COUNTIFS(F:F,"<"&F13))/COUNTIFS(F:F,F13)))*50*E13*(1+VALUE(MID(H13,FIND(": ",H13)+2,FIND("/",H13)-FIND(":",H13)-2))-1)+50*E13*(1+VALUE(MID(H13,FIND(": ",H13)+2,FIND("/",H13)-FIND(":",H13)-2))-1)/VALUE(RIGHT(H13,1)),IF(F13<=VALUE(MID(H13,FIND(", ",H13)+2,IF(MID(H13,FIND(", ",H13)+2,1)="1",2,1))),(IF(COUNTIFS(F:F,"<="&F13)<=VALUE(MID(H13,FIND(", ",H13)+2,IF(MID(H13,FIND(", ",H13)+2,1)="1",2,1))),1,(VALUE(MID(H13,FIND(", ",H13)+2,IF(MID(H13,FIND(", ",H13)+2,1)="1",2,1)))-COUNTIFS(F:F,"<"&F13))/COUNTIFS(F:F,F13)))*(50*E13*(1+VALUE(MID(H13,FIND(": ",H13)+2,FIND("/",H13)-FIND(":",H13)-2))-1)/VALUE(RIGHT(H13,1))+50*E13)-(100*E13),-E13*100))) -> -0.3 | H13: =IF(E13="","",OFFSET([1]PGA!$AL$1,MATCH(A13,[1]PGA!$E$1:$E$500,0)-1,0)) -> BetMGM: 250/1, 6pl, 1/5
A14: Austin Eckroat | B14: 0.28% | C14: 357 | D14: 201 | F14: =IFERROR(IF(A14="","",OFFSET(Results!$AJ$1,MATCH(A14,Results!$A:$A,0)-1,0)),"") -> 39 | G14: =IF(OR(E14="",F14=""),"",IF(F14=1,(IF(COUNTIFS(F:F,"<="&F14)<=1,1,(1-COUNTIFS(F:F,"<"&F14))/COUNTIFS(F:F,F14)))*50*E14*(1+VALUE(MID(H14,FIND(": ",H14)+2,FIND("/",H14)-FIND(":",H14)-2))-1)+50*E14*(1+VALUE(MID(H14,FIND(": ",H14)+2,FIND("/",H14)-FIND(":",H14)-2))-1)/VALUE(RIGHT(H14,1)),IF(F14<=VALUE(MID(H14,FIND(", ",H14)+2,IF(MID(H14,FIND(", ",H14)+2,1)="1",2,1))),(IF(COUNTIFS(F:F,"<="&F14)<=VALUE(MID(H14,FIND(", ",H14)+2,IF(MID(H14,FIND(", ",H14)+2,1)="1",2,1))),1,(VALUE(MID(H14,FIND(", ",H14)+2,IF(MID(H14,FIND(", ",H14)+2,1)="1",2,1)))-COUNTIFS(F:F,"<"&F14))/COUNTIFS(F:F,F14)))*(50*E14*(1+VALUE(MID(H14,FIND(": ",H14)+2,FIND("/",H14)-FIND(":",H14)-2))-1)/VALUE(RIGHT(H14,1))+50*E14)-(100*E14),-E14*100))) | H14: =IF(E14="","",OFFSET([1]PGA!$AL$1,MATCH(A14,[1]PGA!$E$1:$E$500,0)-1,0))
A15: Beau Hossler | B15: 0.25% | C15: 400 | D15: 226 | F15: =IFERROR(IF(A15="","",OFFSET(Results!$AJ$1,MATCH(A15,Results!$A:$A,0)-1,0)),"") -> 21 | G15: =IF(OR(E15="",F15=""),"",IF(F15=1,(IF(COUNTIFS(F:F,"<="&F15)<=1,1,(1-COUNTIFS(F:F,"<"&F15))/COUNTIFS(F:F,F15)))*50*E15*(1+VALUE(MID(H15,FIND(": ",H15)+2,FIND("/",H15)-FIND(":",H15)-2))-1)+50*E15*(1+VALUE(MID(H15,FIND(": ",H15)+2,FIND("/",H15)-FIND(":",H15)-2))-1)/VALUE(RIGHT(H15,1)),IF(F15<=VALUE(MID(H15,FIND(", ",H15)+2,IF(MID(H15,FIND(", ",H15)+2,1)="1",2,1))),(IF(COUNTIFS(F:F,"<="&F15)<=VALUE(MID(H15,FIND(", ",H15)+2,IF(MID(H15,FIND(", ",H15)+2,1)="1",2,1))),1,(VALUE(MID(H15,FIND(", ",H15)+2,IF(MID(H15,FIND(", ",H15)+2,1)="1",2,1)))-COUNTIFS(F:F,"<"&F15))/COUNTIFS(F:F,F15)))*(50*E15*(1+VALUE(MID(H15,FIND(": ",H15)+2,FIND("/",H15)-FIND(":",H15)-2))-1)/VALUE(RIGHT(H15,1))+50*E15)-(100*E15),-E15*100))) | H15: =IF(E15="","",OFFSET([1]PGA!$AL$1,MATCH(A15,[1]PGA!$E$1:$E$500,0)-1,0))
A16: Ben Griffin | B16: 1.90% | C16: 53 | D16: 41 | F16: =IFERROR(IF(A16="","",OFFSET(Results!$AJ$1,MATCH(A16,Results!$A:$A,0)-1,0)),"") -> 28 | G16: =IF(OR(E16="",F16=""),"",IF(F16=1,(IF(COUNTIFS(F:F,"<="&F16)<=1,1,(1-COUNTIFS(F:F,"<"&F16))/COUNTIFS(F:F,F16)))*50*E16*(1+VALUE(MID(H16,FIND(": ",H16)+2,FIND("/",H16)-FIND(":",H16)-2))-1)+50*E16*(1+VALUE(MID(H16,FIND(": ",H16)+2,FIND("/",H16)-FIND(":",H16)-2))-1)/VALUE(RIGHT(H16,1)),IF(F16<=VALUE(MID(H16,FIND(", ",H16)+2,IF(MID(H16,FIND(", ",H16)+2,1)="1",2,1))),(IF(COUNTIFS(F:F,"<="&F16)<=VALUE(MID(H16,FIND(", ",H16)+2,IF(MID(H16,FIND(", ",H16)+2,1)="1",2,1))),1,(VALUE(MID(H16,FIND(", ",H16)+2,IF(MID(H16,FIND(", ",H16)+2,1)="1",2,1)))-COUNTIFS(F:F,"<"&F16))/COUNTIFS(F:F,F16)))*(50*E16*(1+VALUE(MID(H16,FIND(": ",H16)+2,FIND("/",H16)-FIND(":",H16)-2))-1)/VALUE(RIGHT(H16,1))+50*E16)-(100*E16),-E16*100))) | H16: =IF(E16="","",OFFSET([1]PGA!$AL$1,MATCH(A16,[1]PGA!$E$1:$E$500,0)-1,0))
A17: Billy Horschel | B17: 0.45% | C17: 222 | D17: 151 | F17: =IFERROR(IF(A17="","",OFFSET(Results!$AJ$1,MATCH(A17,Results!$A:$A,0)-1,0)),"") -> 89 | G17: =IF(OR(E17="",F17=""),"",IF(F17=1,(IF(COUNTIFS(F:F,"<="&F17)<=1,1,(1-COUNTIFS(F:F,"<"&F17))/COUNTIFS(F:F,F17)))*50*E17*(1+VALUE(MID(H17,FIND(": ",H17)+2,FIND("/",H17)-FIND(":",H17)-2))-1)+50*E17*(1+VALUE(MID(H17,FIND(": ",H17)+2,FIND("/",H17)-FIND(":",H17)-2))-1)/VALUE(RIGHT(H17,1)),IF(F17<=VALUE(MID(H17,FIND(", ",H17)+2,IF(MID(H17,FIND(", ",H17)+2,1)="1",2,1))),(IF(COUNTIFS(F:F,"<="&F17)<=VALUE(MID(H17,FIND(", ",H17)+2,IF(MID(H17,FIND(", ",H17)+2,1)="1",2,1))),1,(VALUE(MID(H17,FIND(", ",H17)+2,IF(MID(H17,FIND(", ",H17)+2,1)="1",2,1)))-COUNTIFS(F:F,"<"&F17))/COUNTIFS(F:F,F17)))*(50*E17*(1+VALUE(MID(H17,FIND(": ",H17)+2,FIND("/",H17)-FIND(":",H17)-2))-1)/VALUE(RIGHT(H17,1))+50*E17)-(100*E17),-E17*100))) | H17: =IF(E17="","",OFFSET([1]PGA!$AL$1,MATCH(A17,[1]PGA!$E$1:$E$500,0)-1,0))
A18: Brian Campbell | B18: 0.10% | C18: 1000 | D18: 751 | F18: =IFERROR(IF(A18="","",OFFSET(Results!$AJ$1,MATCH(A18,Results!$A:$A,0)-1,0)),"") -> 125 | G18: =IF(OR(E18="",F18=""),"",IF(F18=1,(IF(COUNTIFS(F:F,"<="&F18)<=1,1,(1-COUNTIFS(F:F,"<"&F18))/COUNTIFS(F:F,F18)))*50*E18*(1+VALUE(MID(H18,FIND(": ",H18)+2,FIND("/",H18)-FIND(":",H18)-2))-1)+50*E18*(1+VALUE(MID(H18,FIND(": ",H18)+2,FIND("/",H18)-FIND(":",H18)-2))-1)/VALUE(RIGHT(H18,1)),IF(F18<=VALUE(MID(H18,FIND(", ",H18)+2,IF(MID(H18,FIND(", ",H18)+2,1)="1",2,1))),(IF(COUNTIFS(F:F,"<="&F18)<=VALUE(MID(H18,FIND(", ",H18)+2,IF(MID(H18,FIND(", ",H18)+2,1)="1",2,1))),1,(VALUE(MID(H18,FIND(", ",H18)+2,IF(MID(H18,FIND(", ",H18)+2,1)="1",2,1)))-COUNTIFS(F:F,"<"&F18))/COUNTIFS(F:F,F18)))*(50*E18*(1+VALUE(MID(H18,FIND(": ",H18)+2,FIND("/",H18)-FIND(":",H18)-2))-1)/VALUE(RIGHT(H18,1))+50*E18)-(100*E18),-E18*100))) | H18: =IF(E18="","",OFFSET([1]PGA!$AL$1,MATCH(A18,[1]PGA!$E$1:$E$500,0)-1,0))
A19: Brice Garnett | B19: 0.10% | C19: 1000 | D19: 751 | F19: =IFERROR(IF(A19="","",OFFSET(Results!$AJ$1,MATCH(A19,Results!$A:$A,0)-1,0)),"") -> 71 | G19: =IF(OR(E19="",F19=""),"",IF(F19=1,(IF(COUNTIFS(F:F,"<="&F19)<=1,1,(1-COUNTIFS(F:F,"<"&F19))/COUNTIFS(F:F,F19)))*50*E19*(1+VALUE(MID(H19,FIND(": ",H19)+2,FIND("/",H19)-FIND(":",H19)-2))-1)+50*E19*(1+VALUE(MID(H19,FIND(": ",H19)+2,FIND("/",H19)-FIND(":",H19)-2))-1)/VALUE(RIGHT(H19,1)),IF(F19<=VALUE(MID(H19,FIND(", ",H19)+2,IF(MID(H19,FIND(", ",H19)+2,1)="1",2,1))),(IF(COUNTIFS(F:F,"<="&F19)<=VALUE(MID(H19,FIND(", ",H19)+2,IF(MID(H19,FIND(", ",H19)+2,1)="1",2,1))),1,(VALUE(MID(H19,FIND(", ",H19)+2,IF(MID(H19,FIND(", ",H19)+2,1)="1",2,1)))-COUNTIFS(F:F,"<"&F19))/COUNTIFS(F:F,F19)))*(50*E19*(1+VALUE(MID(H19,FIND(": ",H19)+2,FIND("/",H19)-FIND(":",H19)-2))-1)/VALUE(RIGHT(H19,1))+50*E19)-(100*E19),-E19*100))) | H19: =IF(E19="","",OFFSET([1]PGA!$AL$1,MATCH(A19,[1]PGA!$E$1:$E$500,0)-1,0))
A20: Bronson Burgoon | B20: 0.13% | C20: 769 | D20: 501 | F20: =IFERROR(IF(A20="","",OFFSET(Results!$AJ$1,MATCH(A20,Results!$A:$A,0)-1,0)),"") -> 10 | G20: =IF(OR(E20="",F20=""),"",IF(F20=1,(IF(COUNTIFS(F:F,"<="&F20)<=1,1,(1-COUNTIFS(F:F,"<"&F20))/COUNTIFS(F:F,F20)))*50*E20*(1+VALUE(MID(H20,FIND(": ",H20)+2,FIND("/",H20)-FIND(":",H20)-2))-1)+50*E20*(1+VALUE(MID(H20,FIND(": ",H20)+2,FIND("/",H20)-FIND(":",H20)-2))-1)/VALUE(RIGHT(H20,1)),IF(F20<=VALUE(MID(H20,FIND(", ",H20)+2,IF(MID(H20,FIND(", ",H20)+2,1)="1",2,1))),(IF(COUNTIFS(F:F,"<="&F20)<=VALUE(MID(H20,FIND(", ",H20)+2,IF(MID(H20,FIND(", ",H20)+2,1)="1",2,1))),1,(VALUE(MID(H20,FIND(", ",H20)+2,IF(MID(H20,FIND(", ",H20)+2,1)="1",2,1)))-COUNTIFS(F:F,"<"&F20))/COUNTIFS(F:F,F20)))*(50*E20*(1+VALUE(MID(H20,FIND(": ",H20)+2,FIND("/",H20)-FIND(":",H20)-2))-1)/VALUE(RIGHT(H20,1))+50*E20)-(100*E20),-E20*100))) | H20: =IF(E20="","",OFFSET([1]PGA!$AL$1,MATCH(A20,[1]PGA!$E$1:$E$500,0)-1,0))
A21: Brooks Koepka | B21: 1.71% | C21: 58 | D21: 23 | F21: =IFERROR(IF(A21="","",OFFSET(Results!$AJ$1,MATCH(A21,Results!$A:$A,0)-1,0)),"") -> 116 | G21: =IF(OR(E21="",F21=""),"",IF(F21=1,(IF(COUNTIFS(F:F,"<="&F21)<=1,1,(1-COUNTIFS(F:F,"<"&F21))/COUNTIFS(F:F,F21)))*50*E21*(1+VALUE(MID(H21,FIND(": ",H21)+2,FIND("/",H21)-FIND(":",H21)-2))-1)+50*E21*(1+VALUE(MID(H21,FIND(": ",H21)+2,FIND("/",H21)-FIND(":",H21)-2))-1)/VALUE(RIGHT(H21,1)),IF(F21<=VALUE(MID(H21,FIND(", ",H21)+2,IF(MID(H21,FIND(", ",H21)+2,1)="1",2,1))),(IF(COUNTIFS(F:F,"<="&F21)<=VALUE(MID(H21,FIND(", ",H21)+2,IF(MID(H21,FIND(", ",H21)+2,1)="1",2,1))),1,(VALUE(MID(H21,FIND(", ",H21)+2,IF(MID(H21,FIND(", ",H21)+2,1)="1",2,1)))-COUNTIFS(F:F,"<"&F21))/COUNTIFS(F:F,F21)))*(50*E21*(1+VALUE(MID(H21,FIND(": ",H21)+2,FIND("/",H21)-FIND(":",H21)-2))-1)/VALUE(RIGHT(H21,1))+50*E21)-(100*E21),-E21*100))) | H21: =IF(E21="","",OFFSET([1]PGA!$AL$1,MATCH(A21,[1]PGA!$E$1:$E$500,0)-1,0))
A22: Bud Cauley | B22: 0.48% | C22: 208 | D22: 151 | F22: =IFERROR(IF(A22="","",OFFSET(Results!$AJ$1,MATCH(A22,Results!$A:$A,0)-1,0)),"") | G22: =IF(OR(E22="",F22=""),"",IF(F22=1,(IF(COUNTIFS(F:F,"<="&F22)<=1,1,(1-COUNTIFS(F:F,"<"&F22))/COUNTIFS(F:F,F22)))*50*E22*(1+VALUE(MID(H22,FIND(": ",H22)+2,FIND("/",H22)-FIND(":",H22)-2))-1)+50*E22*(1+VALUE(MID(H22,FIND(": ",H22)+2,FIND("/",H22)-FIND(":",H22)-2))-1)/VALUE(RIGHT(H22,1)),IF(F22<=VALUE(MID(H22,FIND(", ",H22)+2,IF(MID(H22,FIND(", ",H22)+2,1)="1",2,1))),(IF(COUNTIFS(F:F,"<="&F22)<=VALUE(MID(H22,FIND(", ",H22)+2,IF(MID(H22,FIND(", ",H22)+2,1)="1",2,1))),1,(VALUE(MID(H22,FIND(", ",H22)+2,IF(MID(H22,FIND(", ",H22)+2,1)="1",2,1)))-COUNTIFS(F:F,"<"&F22))/COUNTIFS(F:F,F22)))*(50*E22*(1+VALUE(MID(H22,FIND(": ",H22)+2,FIND("/",H22)-FIND(":",H22)-2))-1)/VALUE(RIGHT(H22,1))+50*E22)-(100*E22),-E22*100))) | H22: =IF(E22="","",OFFSET([1]PGA!$AL$1,MATCH(A22,[1]PGA!$E$1:$E$500,0)-1,0))
A23: Casey Russell | B23: 0.00% | C23: 10000 | D23: 2001 | F23: =IFERROR(IF(A23="","",OFFSET(Results!$AJ$1,MATCH(A23,Results!$A:$A,0)-1,0)),"") -> 125 | G23: =IF(OR(E23="",F23=""),"",IF(F23=1,(IF(COUNTIFS(F:F,"<="&F23)<=1,1,(1-COUNTIFS(F:F,"<"&F23))/COUNTIFS(F:F,F23)))*50*E23*(1+VALUE(MID(H23,FIND(": ",H23)+2,FIND("/",H23)-FIND(":",H23)-2))-1)+50*E23*(1+VALUE(MID(H23,FIND(": ",H23)+2,FIND("/",H23)-FIND(":",H23)-2))-1)/VALUE(RIGHT(H23,1)),IF(F23<=VALUE(MID(H23,FIND(", ",H23)+2,IF(MID(H23,FIND(", ",H23)+2,1)="1",2,1))),(IF(COUNTIFS(F:F,"<="&F23)<=VALUE(MID(H23,FIND(", ",H23)+2,IF(MID(H23,FIND(", ",H23)+2,1)="1",2,1))),1,(VALUE(MID(H23,FIND(", ",H23)+2,IF(MID(H23,FIND(", ",H23)+2,1)="1",2,1)))-COUNTIFS(F:F,"<"&F23))/COUNTIFS(F:F,F23)))*(50*E23*(1+VALUE(MID(H23,FIND(": ",H23)+2,FIND("/",H23)-FIND(":",H23)-2))-1)/VALUE(RIGHT(H23,1))+50*E23)-(100*E23),-E23*100))) | H23: =IF(E23="","",OFFSET([1]PGA!$AL$1,MATCH(A23,[1]PGA!$E$1:$E$500,0)-1,0))
A24: Chad Ramey | B24: 0.44% | C24: 227 | D24: 176 | F24: =IFERROR(IF(A24="","",OFFSET(Results!$AJ$1,MATCH(A24,Results!$A:$A,0)-1,0)),"") -> 28 | G24: =IF(OR(E24="",F24=""),"",IF(F24=1,(IF(COUNTIFS(F:F,"<="&F24)<=1,1,(1-COUNTIFS(F:F,"<"&F24))/COUNTIFS(F:F,F24)))*50*E24*(1+VALUE(MID(H24,FIND(": ",H24)+2,FIND("/",H24)-FIND(":",H24)-2))-1)+50*E24*(1+VALUE(MID(H24,FIND(": ",H24)+2,FIND("/",H24)-FIND(":",H24)-2))-1)/VALUE(RIGHT(H24,1)),IF(F24<=VALUE(MID(H24,FIND(", ",H24)+2,IF(MID(H24,FIND(", ",H24)+2,1)="1",2,1))),(IF(COUNTIFS(F:F,"<="&F24)<=VALUE(MID(H24,FIND(", ",H24)+2,IF(MID(H24,FIND(", ",H24)+2,1)="1",2,1))),1,(VALUE(MID(H24,FIND(", ",H24)+2,IF(MID(H24,FIND(", ",H24)+2,1)="1",2,1)))-COUNTIFS(F:F,"<"&F24))/COUNTIFS(F:F,F24)))*(50*E24*(1+VALUE(MID(H24,FIND(": ",H24)+2,FIND("/",H24)-FIND(":",H24)-2))-1)/VALUE(RIGHT(H24,1))+50*E24)-(100*E24),-E24*100))) | H24: =IF(E24="","",OFFSET([1]PGA!$AL$1,MATCH(A24,[1]PGA!$E$1:$E$500,0)-1,0))
A25: Chandler Blanchet | B25: 0.44% | C25: 227 | D25: 151 | F25: =IFERROR(IF(A25="","",OFFSET(Results!$AJ$1,MATCH(A25,Results!$A:$A,0)-1,0)),"") -> 130 | G25: =IF(OR(E25="",F25=""),"",IF(F25=1,(IF(COUNTIFS(F:F,"<="&F25)<=1,1,(1-COUNTIFS(F:F,"<"&F25))/COUNTIFS(F:F,F25)))*50*E25*(1+VALUE(MID(H25,FIND(": ",H25)+2,FIND("/",H25)-FIND(":",H25)-2))-1)+50*E25*(1+VALUE(MID(H25,FIND(": ",H25)+2,FIND("/",H25)-FIND(":",H25)-2))-1)/VALUE(RIGHT(H25,1)),IF(F25<=VALUE(MID(H25,FIND(", ",H25)+2,IF(MID(H25,FIND(", ",H25)+2,1)="1",2,1))),(IF(COUNTIFS(F:F,"<="&F25)<=VALUE(MID(H25,FIND(", ",H25)+2,IF(MID(H25,FIND(", ",H25)+2,1)="1",2,1))),1,(VALUE(MID(H25,FIND(", ",H25)+2,IF(MID(H25,FIND(", ",H25)+2,1)="1",2,1)))-COUNTIFS(F:F,"<"&F25))/COUNTIFS(F:F,F25)))*(50*E25*(1+VALUE(MID(H25,FIND(": ",H25)+2,FIND("/",H25)-FIND(":",H25)-2))-1)/VALUE(RIGHT(H25,1))+50*E25)-(100*E25),-E25*100))) | H25: =IF(E25="","",OFFSET([1]PGA!$AL$1,MATCH(A25,[1]PGA!$E$1:$E$500,0)-1,0))
... A28: Chris Gotterup | B28: 1.92% | C28: 52 | D28: 21 | F28: =IFERROR(IF(A28="","",OFFSET(Results!$AJ$1,MATCH(A28,Results!$A:$A,0)-1,0)),"") -> 6 | G28: =IF(OR(E28="",F28=""),"",IF(F28=1,(IF(COUNTIFS(F:F,"<="&F28)<=1,1,(1-COUNTIFS(F:F,"<"&F28))/COUNTIFS(F:F,F28)))*50*E28*(1+VALUE(MID(H28,FIND(": ",H28)+2,FIND("/",H28)-FIND(":",H28)-2))-1)+50*E28*(1+VALUE(MID(H28,FIND(": ",H28)+2,FIND("/",H28)-FIND(":",H28)-2))-1)/VALUE(RIGHT(H28,1)),IF(F28<=VALUE(MID(H28,FIND(", ",H28)+2,IF(MID(H28,FIND(", ",H28)+2,1)="1",2,1))),(IF(COUNTIFS(F:F,"<="&F28)<=VALUE(MID(H28,FIND(", ",H28)+2,IF(MID(H28,FIND(", ",H28)+2,1)="1",2,1))),1,(VALUE(MID(H28,FIND(", ",H28)+2,IF(MID(H28,FIND(", ",H28)+2,1)="1",2,1)))-COUNTIFS(F:F,"<"&F28))/COUNTIFS(F:F,F28)))*(50*E28*(1+VALUE(MID(H28,FIND(": ",H28)+2,FIND("/",H28)-FIND(":",H28)-2))-1)/VALUE(RIGHT(H28,1))+50*E28)-(100*E28),-E28*100))) | H28: =IF(E28="","",OFFSET([1]PGA!$AL$1,MATCH(A28,[1]PGA!$E$1:$E$500,0)-1,0))
A29: Chris Kirk | B29: 0.80% | C29: 125 | D29: 176 | E29: 0.20% | F29: =IFERROR(IF(A29="","",OFFSET(Results!$AJ$1,MATCH(A29,Results!$A:$A,0)-1,0)),"") -> 51 | G29: =IF(OR(E29="",F29=""),"",IF(F29=1,(IF(COUNTIFS(F:F,"<="&F29)<=1,1,(1-COUNTIFS(F:F,"<"&F29))/COUNTIFS(F:F,F29)))*50*E29*(1+VALUE(MID(H29,FIND(": ",H29)+2,FIND("/",H29)-FIND(":",H29)-2))-1)+50*E29*(1+VALUE(MID(H29,FIND(": ",H29)+2,FIND("/",H29)-FIND(":",H29)-2))-1)/VALUE(RIGHT(H29,1)),IF(F29<=VALUE(MID(H29,FIND(", ",H29)+2,IF(MID(H29,FIND(", ",H29)+2,1)="1",2,1))),(IF(COUNTIFS(F:F,"<="&F29)<=VALUE(MID(H29,FIND(", ",H29)+2,IF(MID(H29,FIND(", ",H29)+2,1)="1",2,1))),1,(VALUE(MID(H29,FIND(", ",H29)+2,IF(MID(H29,FIND(", ",H29)+2,1)="1",2,1)))-COUNTIFS(F:F,"<"&F29))/COUNTIFS(F:F,F29)))*(50*E29*(1+VALUE(MID(H29,FIND(": ",H29)+2,FIND("/",H29)-FIND(":",H29)-2))-1)/VALUE(RIGHT(H29,1))+50*E29)-(100*E29),-E29*100))) -> -0.2 | H29: =IF(E29="","",OFFSET([1]PGA!$AL$1,MATCH(A29,[1]PGA!$E$1:$E$500,0)-1,0)) -> Spreadex: 175/1, 6pl, 1/5
A30: Christiaan Bezuidenhout | B30: 1.19% | C30: 84 | D30: 111 | E30: 0.30% | F30: =IFERROR(IF(A30="","",OFFSET(Results!$AJ$1,MATCH(A30,Results!$A:$A,0)-1,0)),"") -> 51 | G30: =IF(OR(E30="",F30=""),"",IF(F30=1,(IF(COUNTIFS(F:F,"<="&F30)<=1,1,(1-COUNTIFS(F:F,"<"&F30))/COUNTIFS(F:F,F30)))*50*E30*(1+VALUE(MID(H30,FIND(": ",H30)+2,FIND("/",H30)-FIND(":",H30)-2))-1)+50*E30*(1+VALUE(MID(H30,FIND(": ",H30)+2,FIND("/",H30)-FIND(":",H30)-2))-1)/VALUE(RIGHT(H30,1)),IF(F30<=VALUE(MID(H30,FIND(", ",H30)+2,IF(MID(H30,FIND(", ",H30)+2,1)="1",2,1))),(IF(COUNTIFS(F:F,"<="&F30)<=VALUE(MID(H30,FIND(", ",H30)+2,IF(MID(H30,FIND(", ",H30)+2,1)="1",2,1))),1,(VALUE(MID(H30,FIND(", ",H30)+2,IF(MID(H30,FIND(", ",H30)+2,1)="1",2,1)))-COUNTIFS(F:F,"<"&F30))/COUNTIFS(F:F,F30)))*(50*E30*(1+VALUE(MID(H30,FIND(": ",H30)+2,FIND("/",H30)-FIND(":",H30)-2))-1)/VALUE(RIGHT(H30,1))+50*E30)-(100*E30),-E30*100))) -> -0.3 | H30: =IF(E30="","",OFFSET([1]PGA!$AL$1,MATCH(A30,[1]PGA!$E$1:$E$500,0)-1,0)) -> Spreadex: 110/1, 6pl, 1/5
A31: Christo Lamprecht | B31: 0.04% | C31: 2500 | D31: 351 | F31: =IFERROR(IF(A31="","",OFFSET(Results!$AJ$1,MATCH(A31,Results!$A:$A,0)-1,0)),"") -> 98 | G31: =IF(OR(E31="",F31=""),"",IF(F31=1,(IF(COUNTIFS(F:F,"<="&F31)<=1,1,(1-COUNTIFS(F:F,"<"&F31))/COUNTIFS(F:F,F31)))*50*E31*(1+VALUE(MID(H31,FIND(": ",H31)+2,FIND("/",H31)-FIND(":",H31)-2))-1)+50*E31*(1+VALUE(MID(H31,FIND(": ",H31)+2,FIND("/",H31)-FIND(":",H31)-2))-1)/VALUE(RIGHT(H31,1)),IF(F31<=VALUE(MID(H31,FIND(", ",H31)+2,IF(MID(H31,FIND(", ",H31)+2,1)="1",2,1))),(IF(COUNTIFS(F:F,"<="&F31)<=VALUE(MID(H31,FIND(", ",H31)+2,IF(MID(H31,FIND(", ",H31)+2,1)="1",2,1))),1,(VALUE(MID(H31,FIND(", ",H31)+2,IF(MID(H31,FIND(", ",H31)+2,1)="1",2,1)))-COUNTIFS(F:F,"<"&F31))/COUNTIFS(F:F,F31)))*(50*E31*(1+VALUE(MID(H31,FIND(": ",H31)+2,FIND("/",H31)-FIND(":",H31)-2))-1)/VALUE(RIGHT(H31,1))+50*E31)-(100*E31),-E31*100))) | H31: =IF(E31="","",OFFSET([1]PGA!$AL$1,MATCH(A31,[1]PGA!$E$1:$E$500,0)-1,0))
A32: Cole Hammer | B32: 0.04% | C32: 2500 | D32: 601 | F32: =IFERROR(IF(A32="","",OFFSET(Results!$AJ$1,MATCH(A32,Results!$A:$A,0)-1,0)),"") -> 76 | G32: =IF(OR(E32="",F32=""),"",IF(F32=1,(IF(COUNTIFS(F:F,"<="&F32)<=1,1,(1-COUNTIFS(F:F,"<"&F32))/COUNTIFS(F:F,F32)))*50*E32*(1+VALUE(MID(H32,FIND(": ",H32)+2,FIND("/",H32)-FIND(":",H32)-2))-1)+50*E32*(1+VALUE(MID(H32,FIND(": ",H32)+2,FIND("/",H32)-FIND(":",H32)-2))-1)/VALUE(RIGHT(H32,1)),IF(F32<=VALUE(MID(H32,FIND(", ",H32)+2,IF(MID(H32,FIND(", ",H32)+2,1)="1",2,1))),(IF(COUNTIFS(F:F,"<="&F32)<=VALUE(MID(H32,FIND(", ",H32)+2,IF(MID(H32,FIND(", ",H32)+2,1)="1",2,1))),1,(VALUE(MID(H32,FIND(", ",H32)+2,IF(MID(H32,FIND(", ",H32)+2,1)="1",2,1)))-COUNTIFS(F:F,"<"&F32))/COUNTIFS(F:F,F32)))*(50*E32*(1+VALUE(MID(H32,FIND(": ",H32)+2,FIND("/",H32)-FIND(":",H32)-2))-1)/VALUE(RIGHT(H32,1))+50*E32)-(100*E32),-E32*100))) | H32: =IF(E32="","",OFFSET([1]PGA!$AL$1,MATCH(A32,[1]PGA!$E$1:$E$500,0)-1,0))
A33: Daniel Brown (Oct1994) | B33: 0.42% | C33: 238 | D33: 201 | F33: =IFERROR(IF(A33="","",OFFSET(Results!$AJ$1,MATCH(A33,Results!$A:$A,0)-1,0)),"") -> 104 | G33: =IF(OR(E33="",F33=""),"",IF(F33=1,(IF(COUNTIFS(F:F,"<="&F33)<=1,1,(1-COUNTIFS(F:F,"<"&F33))/COUNTIFS(F:F,F33)))*50*E33*(1+VALUE(MID(H33,FIND(": ",H33)+2,FIND("/",H33)-FIND(":",H33)-2))-1)+50*E33*(1+VALUE(MID(H33,FIND(": ",H33)+2,FIND("/",H33)-FIND(":",H33)-2))-1)/VALUE(RIGHT(H33,1)),IF(F33<=VALUE(MID(H33,FIND(", ",H33)+2,IF(MID(H33,FIND(", ",H33)+2,1)="1",2,1))),(IF(COUNTIFS(F:F,"<="&F33)<=VALUE(MID(H33,FIND(", ",H33)+2,IF(MID(H33,FIND(", ",H33)+2,1)="1",2,1))),1,(VALUE(MID(H33,FIND(", ",H33)+2,IF(MID(H33,FIND(", ",H33)+2,1)="1",2,1)))-COUNTIFS(F:F,"<"&F33))/COUNTIFS(F:F,F33)))*(50*E33*(1+VALUE(MID(H33,FIND(": ",H33)+2,FIND("/",H33)-FIND(":",H33)-2))-1)/VALUE(RIGHT(H33,1))+50*E33)-(100*E33),-E33*100))) | H33: =IF(E33="","",OFFSET([1]PGA!$AL$1,MATCH(A33,[1]PGA!$E$1:$E$500,0)-1,0))
A34: Danny Walker | B34: 0.13% | C34: 769 | D34: 501 | F34: =IFERROR(IF(A34="","",OFFSET(Results!$AJ$1,MATCH(A34,Results!$A:$A,0)-1,0)),"") -> 68 | G34: =IF(OR(E34="",F34=""),"",IF(F34=1,(IF(COUNTIFS(F:F,"<="&F34)<=1,1,(1-COUNTIFS(F:F,"<"&F34))/COUNTIFS(F:F,F34)))*50*E34*(1+VALUE(MID(H34,FIND(": ",H34)+2,FIND("/",H34)-FIND(":",H34)-2))-1)+50*E34*(1+VALUE(MID(H34,FIND(": ",H34)+2,FIND("/",H34)-FIND(":",H34)-2))-1)/VALUE(RIGHT(H34,1)),IF(F34<=VALUE(MID(H34,FIND(", ",H34)+2,IF(MID(H34,FIND(", ",H34)+2,1)="1",2,1))),(IF(COUNTIFS(F:F,"<="&F34)<=VALUE(MID(H34,FIND(", ",H34)+2,IF(MID(H34,FIND(", ",H34)+2,1)="1",2,1))),1,(VALUE(MID(H34,FIND(", ",H34)+2,IF(MID(H34,FIND(", ",H34)+2,1)="1",2,1)))-COUNTIFS(F:F,"<"&F34))/COUNTIFS(F:F,F34)))*(50*E34*(1+VALUE(MID(H34,FIND(": ",H34)+2,FIND("/",H34)-FIND(":",H34)-2))-1)/VALUE(RIGHT(H34,1))+50*E34)-(100*E34),-E34*100))) | H34: =IF(E34="","",OFFSET([1]PGA!$AL$1,MATCH(A34,[1]PGA!$E$1:$E$500,0)-1,0))
A35: Danny Willett | B35: 0.02% | C35: 5000 | D35: 1501 | F35: =IFERROR(IF(A35="","",OFFSET(Results!$AJ$1,MATCH(A35,Results!$A:$A,0)-1,0)),"") -> 56 | G35: =IF(OR(E35="",F35=""),"",IF(F35=1,(IF(COUNTIFS(F:F,"<="&F35)<=1,1,(1-COUNTIFS(F:F,"<"&F35))/COUNTIFS(F:F,F35)))*50*E35*(1+VALUE(MID(H35,FIND(": ",H35)+2,FIND("/",H35)-FIND(":",H35)-2))-1)+50*E35*(1+VALUE(MID(H35,FIND(": ",H35)+2,FIND("/",H35)-FIND(":",H35)-2))-1)/VALUE(RIGHT(H35,1)),IF(F35<=VALUE(MID(H35,FIND(", ",H35)+2,IF(MID(H35,FIND(", ",H35)+2,1)="1",2,1))),(IF(COUNTIFS(F:F,"<="&F35)<=VALUE(MID(H35,FIND(", ",H35)+2,IF(MID(H35,FIND(", ",H35)+2,1)="1",2,1))),1,(VALUE(MID(H35,FIND(", ",H35)+2,IF(MID(H35,FIND(", ",H35)+2,1)="1",2,1)))-COUNTIFS(F:F,"<"&F35))/COUNTIFS(F:F,F35)))*(50*E35*(1+VALUE(MID(H35,FIND(": ",H35)+2,FIND("/",H35)-FIND(":",H35)-2))-1)/VALUE(RIGHT(H35,1))+50*E35)-(100*E35),-E35*100))) | H35: =IF(E35="","",OFFSET([1]PGA!$AL$1,MATCH(A35,[1]PGA!$E$1:$E$500,0)-1,0))
A36: David Ford | B36: 0.33% | C36: 303 | D36: 176 | F36: =IFERROR(IF(A36="","",OFFSET(Results!$AJ$1,MATCH(A36,Results!$A:$A,0)-1,0)),"") -> 104 | G36: =IF(OR(E36="",F36=""),"",IF(F36=1,(IF(COUNTIFS(F:F,"<="&F36)<=1,1,(1-COUNTIFS(F:F,"<"&F36))/COUNTIFS(F:F,F36)))*50*E36*(1+VALUE(MID(H36,FIND(": ",H36)+2,FIND("/",H36)-FIND(":",H36)-2))-1)+50*E36*(1+VALUE(MID(H36,FIND(": ",H36)+2,FIND("/",H36)-FIND(":",H36)-2))-1)/VALUE(RIGHT(H36,1)),IF(F36<=VALUE(MID(H36,FIND(", ",H36)+2,IF(MID(H36,FIND(", ",H36)+2,1)="1",2,1))),(IF(COUNTIFS(F:F,"<="&F36)<=VALUE(MID(H36,FIND(", ",H36)+2,IF(MID(H36,FIND(", ",H36)+2,1)="1",2,1))),1,(VALUE(MID(H36,FIND(", ",H36)+2,IF(MID(H36,FIND(", ",H36)+2,1)="1",2,1)))-COUNTIFS(F:F,"<"&F36))/COUNTIFS(F:F,F36)))*(50*E36*(1+VALUE(MID(H36,FIND(": ",H36)+2,FIND("/",H36)-FIND(":",H36)-2))-1)/VALUE(RIGHT(H36,1))+50*E36)-(100*E36),-E36*100))) | H36: =IF(E36="","",OFFSET([1]PGA!$AL$1,MATCH(A36,[1]PGA!$E$1:$E$500,0)-1,0))
A37: David Lipsky | B37: 0.35% | C37: 286 | D37: 176 | F37: =IFERROR(IF(A37="","",OFFSET(Results!$AJ$1,MATCH(A37,Results!$A:$A,0)-1,0)),"") -> 125 | G37: =IF(OR(E37="",F37=""),"",IF(F37=1,(IF(COUNTIFS(F:F,"<="&F37)<=1,1,(1-COUNTIFS(F:F,"<"&F37))/COUNTIFS(F:F,F37)))*50*E37*(1+VALUE(MID(H37,FIND(": ",H37)+2,FIND("/",H37)-FIND(":",H37)-2))-1)+50*E37*(1+VALUE(MID(H37,FIND(": ",H37)+2,FIND("/",H37)-FIND(":",H37)-2))-1)/VALUE(RIGHT(H37,1)),IF(F37<=VALUE(MID(H37,FIND(", ",H37)+2,IF(MID(H37,FIND(", ",H37)+2,1)="1",2,1))),(IF(COUNTIFS(F:F,"<="&F37)<=VALUE(MID(H37,FIND(", ",H37)+2,IF(MID(H37,FIND(", ",H37)+2,1)="1",2,1))),1,(VALUE(MID(H37,FIND(", ",H37)+2,IF(MID(H37,FIND(", ",H37)+2,1)="1",2,1)))-COUNTIFS(F:F,"<"&F37))/COUNTIFS(F:F,F37)))*(50*E37*(1+VALUE(MID(H37,FIND(": ",H37)+2,FIND("/",H37)-FIND(":",H37)-2))-1)/VALUE(RIGHT(H37,1))+50*E37)-(100*E37),-E37*100))) | H37: =IF(E37="","",OFFSET([1]PGA!$AL$1,MATCH(A37,[1]PGA!$E$1:$E$500,0)-1,0))
A38: Davis Chatfield | B38: 0.15% | C38: 667 | D38: 751 | F38: =IFERROR(IF(A38="","",OFFSET(Results!$AJ$1,MATCH(A38,Results!$A:$A,0)-1,0)),"") -> 104 | G38: =IF(OR(E38="",F38=""),"",IF(F38=1,(IF(COUNTIFS(F:F,"<="&F38)<=1,1,(1-COUNTIFS(F:F,"<"&F38))/COUNTIFS(F:F,F38)))*50*E38*(1+VALUE(MID(H38,FIND(": ",H38)+2,FIND("/",H38)-FIND(":",H38)-2))-1)+50*E38*(1+VALUE(MID(H38,FIND(": ",H38)+2,FIND("/",H38)-FIND(":",H38)-2))-1)/VALUE(RIGHT(H38,1)),IF(F38<=VALUE(MID(H38,FIND(", ",H38)+2,IF(MID(H38,FIND(", ",H38)+2,1)="1",2,1))),(IF(COUNTIFS(F:F,"<="&F38)<=VALUE(MID(H38,FIND(", ",H38)+2,IF(MID(H38,FIND(", ",H38)+2,1)="1",2,1))),1,(VALUE(MID(H38,FIND(", ",H38)+2,IF(MID(H38,FIND(", ",H38)+2,1)="1",2,1)))-COUNTIFS(F:F,"<"&F38))/COUNTIFS(F:F,F38)))*(50*E38*(1+VALUE(MID(H38,FIND(": ",H38)+2,FIND("/",H38)-FIND(":",H38)-2))-1)/VALUE(RIGHT(H38,1))+50*E38)-(100*E38),-E38*100))) | H38: =IF(E38="","",OFFSET([1]PGA!$AL$1,MATCH(A38,[1]PGA!$E$1:$E$500,0)-1,0))
A39: Davis Riley | B39: 0.06% | C39: 1667 | D39: 501 | F39: =IFERROR(IF(A39="","",OFFSET(Results!$AJ$1,MATCH(A39,Results!$A:$A,0)-1,0)),"") -> 60 | G39: =IF(OR(E39="",F39=""),"",IF(F39=1,(IF(COUNTIFS(F:F,"<="&F39)<=1,1,(1-COUNTIFS(F:F,"<"&F39))/COUNTIFS(F:F,F39)))*50*E39*(1+VALUE(MID(H39,FIND(": ",H39)+2,FIND("/",H39)-FIND(":",H39)-2))-1)+50*E39*(1+VALUE(MID(H39,FIND(": ",H39)+2,FIND("/",H39)-FIND(":",H39)-2))-1)/VALUE(RIGHT(H39,1)),IF(F39<=VALUE(MID(H39,FIND(", ",H39)+2,IF(MID(H39,FIND(", ",H39)+2,1)="1",2,1))),(IF(COUNTIFS(F:F,"<="&F39)<=VALUE(MID(H39,FIND(", ",H39)+2,IF(MID(H39,FIND(", ",H39)+2,1)="1",2,1))),1,(VALUE(MID(H39,FIND(", ",H39)+2,IF(MID(H39,FIND(", ",H39)+2,1)="1",2,1)))-COUNTIFS(F:F,"<"&F39))/COUNTIFS(F:F,F39)))*(50*E39*(1+VALUE(MID(H39,FIND(": ",H39)+2,FIND("/",H39)-FIND(":",H39)-2))-1)/VALUE(RIGHT(H39,1))+50*E39)-(100*E39),-E39*100))) | H39: =IF(E39="","",OFFSET([1]PGA!$AL$1,MATCH(A39,[1]PGA!$E$1:$E$500,0)-1,0))
A40: Davis Thompson | B40: 1.17% | C40: 85 | D40: 81 | F40: =IFERROR(IF(A40="","",OFFSET(Results!$AJ$1,MATCH(A40,Results!$A:$A,0)-1,0)),"") -> 89 | G40: =IF(OR(E40="",F40=""),"",IF(F40=1,(IF(COUNTIFS(F:F,"<="&F40)<=1,1,(1-COUNTIFS(F:F,"<"&F40))/COUNTIFS(F:F,F40)))*50*E40*(1+VALUE(MID(H40,FIND(": ",H40)+2,FIND("/",H40)-FIND(":",H40)-2))-1)+50*E40*(1+VALUE(MID(H40,FIND(": ",H40)+2,FIND("/",H40)-FIND(":",H40)-2))-1)/VALUE(RIGHT(H40,1)),IF(F40<=VALUE(MID(H40,FIND(", ",H40)+2,IF(MID(H40,FIND(", ",H40)+2,1)="1",2,1))),(IF(COUNTIFS(F:F,"<="&F40)<=VALUE(MID(H40,FIND(", ",H40)+2,IF(MID(H40,FIND(", ",H40)+2,1)="1",2,1))),1,(VALUE(MID(H40,FIND(", ",H40)+2,IF(MID(H40,FIND(", ",H40)+2,1)="1",2,1)))-COUNTIFS(F:F,"<"&F40))/COUNTIFS(F:F,F40)))*(50*E40*(1+VALUE(MID(H40,FIND(": ",H40)+2,FIND("/",H40)-FIND(":",H40)-2))-1)/VALUE(RIGHT(H40,1))+50*E40)-(100*E40),-E40*100))) | H40: =IF(E40="","",OFFSET([1]PGA!$AL$1,MATCH(A40,[1]PGA!$E$1:$E$500,0)-1,0))
A41: Denny McCarthy | B41: 0.96% | C41: 104 | D41: 126 | E41: 0.20% | F41: =IFERROR(IF(A41="","",OFFSET(Results!$AJ$1,MATCH(A41,Results!$A:$A,0)-1,0)),"") -> 12 | G41: =IF(OR(E41="",F41=""),"",IF(F41=1,(IF(COUNTIFS(F:F,"<="&F41)<=1,1,(1-COUNTIFS(F:F,"<"&F41))/COUNTIFS(F:F,F41)))*50*E41*(1+VALUE(MID(H41,FIND(": ",H41)+2,FIND("/",H41)-FIND(":",H41)-2))-1)+50*E41*(1+VALUE(MID(H41,FIND(": ",H41)+2,FIND("/",H41)-FIND(":",H41)-2))-1)/VALUE(RIGHT(H41,1)),IF(F41<=VALUE(MID(H41,FIND(", ",H41)+2,IF(MID(H41,FIND(", ",H41)+2,1)="1",2,1))),(IF(COUNTIFS(F:F,"<="&F41)<=VALUE(MID(H41,FIND(", ",H41)+2,IF(MID(H41,FIND(", ",H41)+2,1)="1",2,1))),1,(VALUE(MID(H41,FIND(", ",H41)+2,IF(MID(H41,FIND(", ",H41)+2,1)="1",2,1)))-COUNTIFS(F:F,"<"&F41))/COUNTIFS(F:F,F41)))*(50*E41*(1+VALUE(MID(H41,FIND(": ",H41)+2,FIND("/",H41)-FIND(":",H41)-2))-1)/VALUE(RIGHT(H41,1))+50*E41)-(100*E41),-E41*100))) -> -0.2 | H41: =IF(E41="","",OFFSET([1]PGA!$AL$1,MATCH(A41,[1]PGA!$E$1:$E$500,0)-1,0)) -> William Hill: 125/1, 6pl, 1/4
A42: Doug Ghim | B42: 0.49% | C42: 204 | D42: 126 | F42: =IFERROR(IF(A42="","",OFFSET(Results!$AJ$1,MATCH(A42,Results!$A:$A,0)-1,0)),"") -> 89 | G42: =IF(OR(E42="",F42=""),"",IF(F42=1,(IF(COUNTIFS(F:F,"<="&F42)<=1,1,(1-COUNTIFS(F:F,"<"&F42))/COUNTIFS(F:F,F42)))*50*E42*(1+VALUE(MID(H42,FIND(": ",H42)+2,FIND("/",H42)-FIND(":",H42)-2))-1)+50*E42*(1+VALUE(MID(H42,FIND(": ",H42)+2,FIND("/",H42)-FIND(":",H42)-2))-1)/VALUE(RIGHT(H42,1)),IF(F42<=VALUE(MID(H42,FIND(", ",H42)+2,IF(MID(H42,FIND(", ",H42)+2,1)="1",2,1))),(IF(COUNTIFS(F:F,"<="&F42)<=VALUE(MID(H42,FIND(", ",H42)+2,IF(MID(H42,FIND(", ",H42)+2,1)="1",2,1))),1,(VALUE(MID(H42,FIND(", ",H42)+2,IF(MID(H42,FIND(", ",H42)+2,1)="1",2,1)))-COUNTIFS(F:F,"<"&F42))/COUNTIFS(F:F,F42)))*(50*E42*(1+VALUE(MID(H42,FIND(": ",H42)+2,FIND("/",H42)-FIND(":",H42)-2))-1)/VALUE(RIGHT(H42,1))+50*E42)-(100*E42),-E42*100))) | H42: =IF(E42="","",OFFSET([1]PGA!$AL$1,MATCH(A42,[1]PGA!$E$1:$E$500,0)-1,0))
A43: Dylan Wu | B43: 0.28% | C43: 357 | D43: 251 | F43: =IFERROR(IF(A43="","",OFFSET(Results!$AJ$1,MATCH(A43,Results!$A:$A,0)-1,0)),"") -> 104 | G43: =IF(OR(E43="",F43=""),"",IF(F43=1,(IF(COUNTIFS(F:F,"<="&F43)<=1,1,(1-COUNTIFS(F:F,"<"&F43))/COUNTIFS(F:F,F43)))*50*E43*(1+VALUE(MID(H43,FIND(": ",H43)+2,FIND("/",H43)-FIND(":",H43)-2))-1)+50*E43*(1+VALUE(MID(H43,FIND(": ",H43)+2,FIND("/",H43)-FIND(":",H43)-2))-1)/VALUE(RIGHT(H43,1)),IF(F43<=VALUE(MID(H43,FIND(", ",H43)+2,IF(MID(H43,FIND(", ",H43)+2,1)="1",2,1))),(IF(COUNTIFS(F:F,"<="&F43)<=VALUE(MID(H43,FIND(", ",H43)+2,IF(MID(H43,FIND(", ",H43)+2,1)="1",2,1))),1,(VALUE(MID(H43,FIND(", ",H43)+2,IF(MID(H43,FIND(", ",H43)+2,1)="1",2,1)))-COUNTIFS(F:F,"<"&F43))/COUNTIFS(F:F,F43)))*(50*E43*(1+VALUE(MID(H43,FIND(": ",H43)+2,FIND("/",H43)-FIND(":",H43)-2))-1)/VALUE(RIGHT(H43,1))+50*E43)-(100*E43),-E43*100))) | H43: =IF(E43="","",OFFSET([1]PGA!$AL$1,MATCH(A43,[1]PGA!$E$1:$E$500,0)-1,0))
A44: Emiliano Grillo | B44: 0.50% | C44: 200 | D44: 201 | F44: =IFERROR(IF(A44="","",OFFSET(Results!$AJ$1,MATCH(A44,Results!$A:$A,0)-1,0)),"") -> 71 | G44: =IF(OR(E44="",F44=""),"",IF(F44=1,(IF(COUNTIFS(F:F,"<="&F44)<=1,1,(1-COUNTIFS(F:F,"<"&F44))/COUNTIFS(F:F,F44)))*50*E44*(1+VALUE(MID(H44,FIND(": ",H44)+2,FIND("/",H44)-FIND(":",H44)-2))-1)+50*E44*(1+VALUE(MID(H44,FIND(": ",H44)+2,FIND("/",H44)-FIND(":",H44)-2))-1)/VALUE(RIGHT(H44,1)),IF(F44<=VALUE(MID(H44,FIND(", ",H44)+2,IF(MID(H44,FIND(", ",H44)+2,1)="1",2,1))),(IF(COUNTIFS(F:F,"<="&F44)<=VALUE(MID(H44,FIND(", ",H44)+2,IF(MID(H44,FIND(", ",H44)+2,1)="1",2,1))),1,(VALUE(MID(H44,FIND(", ",H44)+2,IF(MID(H44,FIND(", ",H44)+2,1)="1",2,1)))-COUNTIFS(F:F,"<"&F44))/COUNTIFS(F:F,F44)))*(50*E44*(1+VALUE(MID(H44,FIND(": ",H44)+2,FIND("/",H44)-FIND(":",H44)-2))-1)/VALUE(RIGHT(H44,1))+50*E44)-(100*E44),-E44*100))) | H44: =IF(E44="","",OFFSET([1]PGA!$AL$1,MATCH(A44,[1]PGA!$E$1:$E$500,0)-1,0))
A45: Eric Cole | B45: 0.68% | C45: 147 | D45: 111 | F45: =IFERROR(IF(A45="","",OFFSET(Results!$AJ$1,MATCH(A45,Results!$A:$A,0)-1,0)),"") -> 51 | G45: =IF(OR(E45="",F45=""),"",IF(F45=1,(IF(COUNTIFS(F:F,"<="&F45)<=1,1,(1-COUNTIFS(F:F,"<"&F45))/COUNTIFS(F:F,F45)))*50*E45*(1+VALUE(MID(H45,FIND(": ",H45)+2,FIND("/",H45)-FIND(":",H45)-2))-1)+50*E45*(1+VALUE(MID(H45,FIND(": ",H45)+2,FIND("/",H45)-FIND(":",H45)-2))-1)/VALUE(RIGHT(H45,1)),IF(F45<=VALUE(MID(H45,FIND(", ",H45)+2,IF(MID(H45,FIND(", ",H45)+2,1)="1",2,1))),(IF(COUNTIFS(F:F,"<="&F45)<=VALUE(MID(H45,FIND(", ",H45)+2,IF(MID(H45,FIND(", ",H45)+2,1)="1",2,1))),1,(VALUE(MID(H45,FIND(", ",H45)+2,IF(MID(H45,FIND(", ",H45)+2,1)="1",2,1)))-COUNTIFS(F:F,"<"&F45))/COUNTIFS(F:F,F45)))*(50*E45*(1+VALUE(MID(H45,FIND(": ",H45)+2,FIND("/",H45)-FIND(":",H45)-2))-1)/VALUE(RIGHT(H45,1))+50*E45)-(100*E45),-E45*100))) | H45: =IF(E45="","",OFFSET([1]PGA!$AL$1,MATCH(A45,[1]PGA!$E$1:$E$500,0)-1,0))
A46: Erik Van Rooyen | B46: 0.07% | C46: 1429 | D46: 501 | F46: =IFERROR(IF(A46="","",OFFSET(Results!$AJ$1,MATCH(A46,Results!$A:$A,0)-1,0)),"") -> 48 | G46: =IF(OR(E46="",F46=""),"",IF(F46=1,(IF(COUNTIFS(F:F,"<="&F46)<=1,1,(1-COUNTIFS(F:F,"<"&F46))/COUNTIFS(F:F,F46)))*50*E46*(1+VALUE(MID(H46,FIND(": ",H46)+2,FIND("/",H46)-FIND(":",H46)-2))-1)+50*E46*(1+VALUE(MID(H46,FIND(": ",H46)+2,FIND("/",H46)-FIND(":",H46)-2))-1)/VALUE(RIGHT(H46,1)),IF(F46<=VALUE(MID(H46,FIND(", ",H46)+2,IF(MID(H46,FIND(", ",H46)+2,1)="1",2,1))),(IF(COUNTIFS(F:F,"<="&F46)<=VALUE(MID(H46,FIND(", ",H46)+2,IF(MID(H46,FIND(", ",H46)+2,1)="1",2,1))),1,(VALUE(MID(H46,FIND(", ",H46)+2,IF(MID(H46,FIND(", ",H46)+2,1)="1",2,1)))-COUNTIFS(F:F,"<"&F46))/COUNTIFS(F:F,F46)))*(50*E46*(1+VALUE(MID(H46,FIND(": ",H46)+2,FIND("/",H46)-FIND(":",H46)-2))-1)/VALUE(RIGHT(H46,1))+50*E46)-(100*E46),-E46*100))) | H46: =IF(E46="","",OFFSET([1]PGA!$AL$1,MATCH(A46,[1]PGA!$E$1:$E$500,0)-1,0))
A47: Garrick Higgo | B47: 0.28% | C47: 357 | D47: 251 | F47: =IFERROR(IF(A47="","",OFFSET(Results!$AJ$1,MATCH(A47,Results!$A:$A,0)-1,0)),"") -> 69 | G47: =IF(OR(E47="",F47=""),"",IF(F47=1,(IF(COUNTIFS(F:F,"<="&F47)<=1,1,(1-COUNTIFS(F:F,"<"&F47))/COUNTIFS(F:F,F47)))*50*E47*(1+VALUE(MID(H47,FIND(": ",H47)+2,FIND("/",H47)-FIND(":",H47)-2))-1)+50*E47*(1+VALUE(MID(H47,FIND(": ",H47)+2,FIND("/",H47)-FIND(":",H47)-2))-1)/VALUE(RIGHT(H47,1)),IF(F47<=VALUE(MID(H47,FIND(", ",H47)+2,IF(MID(H47,FIND(", ",H47)+2,1)="1",2,1))),(IF(COUNTIFS(F:F,"<="&F47)<=VALUE(MID(H47,FIND(", ",H47)+2,IF(MID(H47,FIND(", ",H47)+2,1)="1",2,1))),1,(VALUE(MID(H47,FIND(", ",H47)+2,IF(MID(H47,FIND(", ",H47)+2,1)="1",2,1)))-COUNTIFS(F:F,"<"&F47))/COUNTIFS(F:F,F47)))*(50*E47*(1+VALUE(MID(H47,FIND(": ",H47)+2,FIND("/",H47)-FIND(":",H47)-2))-1)/VALUE(RIGHT(H47,1))+50*E47)-(100*E47),-E47*100))) | H47: =IF(E47="","",OFFSET([1]PGA!$AL$1,MATCH(A47,[1]PGA!$E$1:$E$500,0)-1,0))
A48: Gary Woodland | B48: 0.65% | C48: 154 | D48: 86 | F48: =IFERROR(IF(A48="","",OFFSET(Results!$AJ$1,MATCH(A48,Results!$A:$A,0)-1,0)),"") -> 1 | G48: =IF(OR(E48="",F48=""),"",IF(F48=1,(IF(COUNTIFS(F:F,"<="&F48)<=1,1,(1-COUNTIFS(F:F,"<"&F48))/COUNTIFS(F:F,F48)))*50*E48*(1+VALUE(MID(H48,FIND(": ",H48)+2,FIND("/",H48)-FIND(":",H48)-2))-1)+50*E48*(1+VALUE(MID(H48,FIND(": ",H48)+2,FIND("/",H48)-FIND(":",H48)-2))-1)/VALUE(RIGHT(H48,1)),IF(F48<=VALUE(MID(H48,FIND(", ",H48)+2,IF(MID(H48,FIND(", ",H48)+2,1)="1",2,1))),(IF(COUNTIFS(F:F,"<="&F48)<=VALUE(MID(H48,FIND(", ",H48)+2,IF(MID(H48,FIND(", ",H48)+2,1)="1",2,1))),1,(VALUE(MID(H48,FIND(", ",H48)+2,IF(MID(H48,FIND(", ",H48)+2,1)="1",2,1)))-COUNTIFS(F:F,"<"&F48))/COUNTIFS(F:F,F48)))*(50*E48*(1+VALUE(MID(H48,FIND(": ",H48)+2,FIND("/",H48)-FIND(":",H48)-2))-1)/VALUE(RIGHT(H48,1))+50*E48)-(100*E48),-E48*100))) | H48: =IF(E48="","",OFFSET([1]PGA!$AL$1,MATCH(A48,[1]PGA!$E$1:$E$500,0)-1,0))
A49: Gordon Sargent | B49: 0.09% | C49: 1111 | D49: 351 | F49: =IFERROR(IF(A49="","",OFFSET(Results!$AJ$1,MATCH(A49,Results!$A:$A,0)-1,0)),"") -> 112 | G49: =IF(OR(E49="",F49=""),"",IF(F49=1,(IF(COUNTIFS(F:F,"<="&F49)<=1,1,(1-COUNTIFS(F:F,"<"&F49))/COUNTIFS(F:F,F49)))*50*E49*(1+VALUE(MID(H49,FIND(": ",H49)+2,FIND("/",H49)-FIND(":",H49)-2))-1)+50*E49*(1+VALUE(MID(H49,FIND(": ",H49)+2,FIND("/",H49)-FIND(":",H49)-2))-1)/VALUE(RIGHT(H49,1)),IF(F49<=VALUE(MID(H49,FIND(", ",H49)+2,IF(MID(H49,FIND(", ",H49)+2,1)="1",2,1))),(IF(COUNTIFS(F:F,"<="&F49)<=VALUE(MID(H49,FIND(", ",H49)+2,IF(MID(H49,FIND(", ",H49)+2,1)="1",2,1))),1,(VALUE(MID(H49,FIND(", ",H49)+2,IF(MID(H49,FIND(", ",H49)+2,1)="1",2,1)))-COUNTIFS(F:F,"<"&F49))/COUNTIFS(F:F,F49)))*(50*E49*(1+VALUE(MID(H49,FIND(": ",H49)+2,FIND("/",H49)-FIND(":",H49)-2))-1)/VALUE(RIGHT(H49,1))+50*E49)-(100*E49),-E49*100))) | H49: =IF(E49="","",OFFSET([1]PGA!$AL$1,MATCH(A49,[1]PGA!$E$1:$E$500,0)-1,0))
A50: Hank Lebioda | B50: 0.21% | C50: 476 | D50: 401 | F50: =IFERROR(IF(A50="","",OFFSET(Results!$AJ$1,MATCH(A50,Results!$A:$A,0)-1,0)),"") -> 76 | G50: =IF(OR(E50="",F50=""),"",IF(F50=1,(IF(COUNTIFS(F:F,"<="&F50)<=1,1,(1-COUNTIFS(F:F,"<"&F50))/COUNTIFS(F:F,F50)))*50*E50*(1+VALUE(MID(H50,FIND(": ",H50)+2,FIND("/",H50)-FIND(":",H50)-2))-1)+50*E50*(1+VALUE(MID(H50,FIND(": ",H50)+2,FIND("/",H50)-FIND(":",H50)-2))-1)/VALUE(RIGHT(H50,1)),IF(F50<=VALUE(MID(H50,FIND(", ",H50)+2,IF(MID(H50,FIND(", ",H50)+2,1)="1",2,1))),(IF(COUNTIFS(F:F,"<="&F50)<=VALUE(MID(H50,FIND(", ",H50)+2,IF(MID(H50,FIND(", ",H50)+2,1)="1",2,1))),1,(VALUE(MID(H50,FIND(", ",H50)+2,IF(MID(H50,FIND(", ",H50)+2,1)="1",2,1)))-COUNTIFS(F:F,"<"&F50))/COUNTIFS(F:F,F50)))*(50*E50*(1+VALUE(MID(H50,FIND(": ",H50)+2,FIND("/",H50)-FIND(":",H50)-2))-1)/VALUE(RIGHT(H50,1))+50*E50)-(100*E50),-E50*100))) | H50: =IF(E50="","",OFFSET([1]PGA!$AL$1,MATCH(A50,[1]PGA!$E$1:$E$500,0)-1,0))
A51: Haotong Li | B51: 0.47% | C51: 213 | D51: 101 | F51: =IFERROR(IF(A51="","",OFFSET(Results!$AJ$1,MATCH(A51,Results!$A:$A,0)-1,0)),"") -> 89 | G51: =IF(OR(E51="",F51=""),"",IF(F51=1,(IF(COUNTIFS(F:F,"<="&F51)<=1,1,(1-COUNTIFS(F:F,"<"&F51))/COUNTIFS(F:F,F51)))*50*E51*(1+VALUE(MID(H51,FIND(": ",H51)+2,FIND("/",H51)-FIND(":",H51)-2))-1)+50*E51*(1+VALUE(MID(H51,FIND(": ",H51)+2,FIND("/",H51)-FIND(":",H51)-2))-1)/VALUE(RIGHT(H51,1)),IF(F51<=VALUE(MID(H51,FIND(", ",H51)+2,IF(MID(H51,FIND(", ",H51)+2,1)="1",2,1))),(IF(COUNTIFS(F:F,"<="&F51)<=VALUE(MID(H51,FIND(", ",H51)+2,IF(MID(H51,FIND(", ",H51)+2,1)="1",2,1))),1,(VALUE(MID(H51,FIND(", ",H51)+2,IF(MID(H51,FIND(", ",H51)+2,1)="1",2,1)))-COUNTIFS(F:F,"<"&F51))/COUNTIFS(F:F,F51)))*(50*E51*(1+VALUE(MID(H51,FIND(": ",H51)+2,FIND("/",H51)-FIND(":",H51)-2))-1)/VALUE(RIGHT(H51,1))+50*E51)-(100*E51),-E51*100))) | H51: =IF(E51="","",OFFSET([1]PGA!$AL$1,MATCH(A51,[1]PGA!$E$1:$E$500,0)-1,0))
A52: Harris English | B52: 2.24% | C52: 45 | D52: 41 | F52: =IFERROR(IF(A52="","",OFFSET(Results!$AJ$1,MATCH(A52,Results!$A:$A,0)-1,0)),"") -> 21 | G52: =IF(OR(E52="",F52=""),"",IF(F52=1,(IF(COUNTIFS(F:F,"<="&F52)<=1,1,(1-COUNTIFS(F:F,"<"&F52))/COUNTIFS(F:F,F52)))*50*E52*(1+VALUE(MID(H52,FIND(": ",H52)+2,FIND("/",H52)-FIND(":",H52)-2))-1)+50*E52*(1+VALUE(MID(H52,FIND(": ",H52)+2,FIND("/",H52)-FIND(":",H52)-2))-1)/VALUE(RIGHT(H52,1)),IF(F52<=VALUE(MID(H52,FIND(", ",H52)+2,IF(MID(H52,FIND(", ",H52)+2,1)="1",2,1))),(IF(COUNTIFS(F:F,"<="&F52)<=VALUE(MID(H52,FIND(", ",H52)+2,IF(MID(H52,FIND(", ",H52)+2,1)="1",2,1))),1,(VALUE(MID(H52,FIND(", ",H52)+2,IF(MID(H52,FIND(", ",H52)+2,1)="1",2,1)))-COUNTIFS(F:F,"<"&F52))/COUNTIFS(F:F,F52)))*(50*E52*(1+VALUE(MID(H52,FIND(": ",H52)+2,FIND("/",H52)-FIND(":",H52)-2))-1)/VALUE(RIGHT(H52,1))+50*E52)-(100*E52),-E52*100))) | H52: =IF(E52="","",OFFSET([1]PGA!$AL$1,MATCH(A52,[1]PGA!$E$1:$E$500,0)-1,0))
A53: Harry Hall | B53: 1.39% | C53: 72 | D53: 46 | F53: =IFERROR(IF(A53="","",OFFSET(Results!$AJ$1,MATCH(A53,Results!$A:$A,0)-1,0)),"") -> 28 | G53: =IF(OR(E53="",F53=""),"",IF(F53=1,(IF(COUNTIFS(F:F,"<="&F53)<=1,1,(1-COUNTIFS(F:F,"<"&F53))/COUNTIFS(F:F,F53)))*50*E53*(1+VALUE(MID(H53,FIND(": ",H53)+2,FIND("/",H53)-FIND(":",H53)-2))-1)+50*E53*(1+VALUE(MID(H53,FIND(": ",H53)+2,FIND("/",H53)-FIND(":",H53)-2))-1)/VALUE(RIGHT(H53,1)),IF(F53<=VALUE(MID(H53,FIND(", ",H53)+2,IF(MID(H53,FIND(", ",H53)+2,1)="1",2,1))),(IF(COUNTIFS(F:F,"<="&F53)<=VALUE(MID(H53,FIND(", ",H53)+2,IF(MID(H53,FIND(", ",H53)+2,1)="1",2,1))),1,(VALUE(MID(H53,FIND(", ",H53)+2,IF(MID(H53,FIND(", ",H53)+2,1)="1",2,1)))-COUNTIFS(F:F,"<"&F53))/COUNTIFS(F:F,F53)))*(50*E53*(1+VALUE(MID(H53,FIND(": ",H53)+2,FIND("/",H53)-FIND(":",H53)-2))-1)/VALUE(RIGHT(H53,1))+50*E53)-(100*E53),-E53*100))) | H53: =IF(E53="","",OFFSET([1]PGA!$AL$1,MATCH(A53,[1]PGA!$E$1:$E$500,0)-1,0))
... A77: Lee Hodges | B77: 0.65% | C77: 154 | D77: 111 | F77: =IFERROR(IF(A77="","",OFFSET(Results!$AJ$1,MATCH(A77,Results!$A:$A,0)-1,0)),"") -> 65 | G77: =IF(OR(E77="",F77=""),"",IF(F77=1,(IF(COUNTIFS(F:F,"<="&F77)<=1,1,(1-COUNTIFS(F:F,"<"&F77))/COUNTIFS(F:F,F77)))*50*E77*(1+VALUE(MID(H77,FIND(": ",H77)+2,FIND("/",H77)-FIND(":",H77)-2))-1)+50*E77*(1+VALUE(MID(H77,FIND(": ",H77)+2,FIND("/",H77)-FIND(":",H77)-2))-1)/VALUE(RIGHT(H77,1)),IF(F77<=VALUE(MID(H77,FIND(", ",H77)+2,IF(MID(H77,FIND(", ",H77)+2,1)="1",2,1))),(IF(COUNTIFS(F:F,"<="&F77)<=VALUE(MID(H77,FIND(", ",H77)+2,IF(MID(H77,FIND(", ",H77)+2,1)="1",2,1))),1,(VALUE(MID(H77,FIND(", ",H77)+2,IF(MID(H77,FIND(", ",H77)+2,1)="1",2,1)))-COUNTIFS(F:F,"<"&F77))/COUNTIFS(F:F,F77)))*(50*E77*(1+VALUE(MID(H77,FIND(": ",H77)+2,FIND("/",H77)-FIND(":",H77)-2))-1)/VALUE(RIGHT(H77,1))+50*E77)-(100*E77),-E77*100))) | H77: =IF(E77="","",OFFSET([1]PGA!$AL$1,MATCH(A77,[1]PGA!$E$1:$E$500,0)-1,0))
A78: Lucas Glover | B78: 0.40% | C78: 250 | D78: 301 | E78: 0.10% | F78: =IFERROR(IF(A78="","",OFFSET(Results!$AJ$1,MATCH(A78,Results!$A:$A,0)-1,0)),"") -> 133 | G78: =IF(OR(E78="",F78=""),"",IF(F78=1,(IF(COUNTIFS(F:F,"<="&F78)<=1,1,(1-COUNTIFS(F:F,"<"&F78))/COUNTIFS(F:F,F78)))*50*E78*(1+VALUE(MID(H78,FIND(": ",H78)+2,FIND("/",H78)-FIND(":",H78)-2))-1)+50*E78*(1+VALUE(MID(H78,FIND(": ",H78)+2,FIND("/",H78)-FIND(":",H78)-2))-1)/VALUE(RIGHT(H78,1)),IF(F78<=VALUE(MID(H78,FIND(", ",H78)+2,IF(MID(H78,FIND(", ",H78)+2,1)="1",2,1))),(IF(COUNTIFS(F:F,"<="&F78)<=VALUE(MID(H78,FIND(", ",H78)+2,IF(MID(H78,FIND(", ",H78)+2,1)="1",2,1))),1,(VALUE(MID(H78,FIND(", ",H78)+2,IF(MID(H78,FIND(", ",H78)+2,1)="1",2,1)))-COUNTIFS(F:F,"<"&F78))/COUNTIFS(F:F,F78)))*(50*E78*(1+VALUE(MID(H78,FIND(": ",H78)+2,FIND("/",H78)-FIND(":",H78)-2))-1)/VALUE(RIGHT(H78,1))+50*E78)-(100*E78),-E78*100))) -> -0.1 | H78: =IF(E78="","",OFFSET([1]PGA!$AL$1,MATCH(A78,[1]PGA!$E$1:$E$500,0)-1,0)) -> Spreadex: 300/1, 6pl, 1/5
A79: Luke Clanton | B79: 0.18% | C79: 556 | D79: 276 | F79: =IFERROR(IF(A79="","",OFFSET(Results!$AJ$1,MATCH(A79,Results!$A:$A,0)-1,0)),"") -> 75 | G79: =IF(OR(E79="",F79=""),"",IF(F79=1,(IF(COUNTIFS(F:F,"<="&F79)<=1,1,(1-COUNTIFS(F:F,"<"&F79))/COUNTIFS(F:F,F79)))*50*E79*(1+VALUE(MID(H79,FIND(": ",H79)+2,FIND("/",H79)-FIND(":",H79)-2))-1)+50*E79*(1+VALUE(MID(H79,FIND(": ",H79)+2,FIND("/",H79)-FIND(":",H79)-2))-1)/VALUE(RIGHT(H79,1)),IF(F79<=VALUE(MID(H79,FIND(", ",H79)+2,IF(MID(H79,FIND(", ",H79)+2,1)="1",2,1))),(IF(COUNTIFS(F:F,"<="&F79)<=VALUE(MID(H79,FIND(", ",H79)+2,IF(MID(H79,FIND(", ",H79)+2,1)="1",2,1))),1,(VALUE(MID(H79,FIND(", ",H79)+2,IF(MID(H79,FIND(", ",H79)+2,1)="1",2,1)))-COUNTIFS(F:F,"<"&F79))/COUNTIFS(F:F,F79)))*(50*E79*(1+VALUE(MID(H79,FIND(": ",H79)+2,FIND("/",H79)-FIND(":",H79)-2))-1)/VALUE(RIGHT(H79,1))+50*E79)-(100*E79),-E79*100))) | H79: =IF(E79="","",OFFSET([1]PGA!$AL$1,MATCH(A79,[1]PGA!$E$1:$E$500,0)-1,0))
A80: Mac Meissner | B80: 0.57% | C80: 175 | D80: 126 | F80: =IFERROR(IF(A80="","",OFFSET(Results!$AJ$1,MATCH(A80,Results!$A:$A,0)-1,0)),"") -> 28 | G80: =IF(OR(E80="",F80=""),"",IF(F80=1,(IF(COUNTIFS(F:F,"<="&F80)<=1,1,(1-COUNTIFS(F:F,"<"&F80))/COUNTIFS(F:F,F80)))*50*E80*(1+VALUE(MID(H80,FIND(": ",H80)+2,FIND("/",H80)-FIND(":",H80)-2))-1)+50*E80*(1+VALUE(MID(H80,FIND(": ",H80)+2,FIND("/",H80)-FIND(":",H80)-2))-1)/VALUE(RIGHT(H80,1)),IF(F80<=VALUE(MID(H80,FIND(", ",H80)+2,IF(MID(H80,FIND(", ",H80)+2,1)="1",2,1))),(IF(COUNTIFS(F:F,"<="&F80)<=VALUE(MID(H80,FIND(", ",H80)+2,IF(MID(H80,FIND(", ",H80)+2,1)="1",2,1))),1,(VALUE(MID(H80,FIND(", ",H80)+2,IF(MID(H80,FIND(", ",H80)+2,1)="1",2,1)))-COUNTIFS(F:F,"<"&F80))/COUNTIFS(F:F,F80)))*(50*E80*(1+VALUE(MID(H80,FIND(": ",H80)+2,FIND("/",H80)-FIND(":",H80)-2))-1)/VALUE(RIGHT(H80,1))+50*E80)-(100*E80),-E80*100))) | H80: =IF(E80="","",OFFSET([1]PGA!$AL$1,MATCH(A80,[1]PGA!$E$1:$E$500,0)-1,0))
A81: Mackenzie Hughes | B81: 0.87% | C81: 115 | D81: 101 | F81: =IFERROR(IF(A81="","",OFFSET(Results!$AJ$1,MATCH(A81,Results!$A:$A,0)-1,0)),"") -> 76 | G81: =IF(OR(E81="",F81=""),"",IF(F81=1,(IF(COUNTIFS(F:F,"<="&F81)<=1,1,(1-COUNTIFS(F:F,"<"&F81))/COUNTIFS(F:F,F81)))*50*E81*(1+VALUE(MID(H81,FIND(": ",H81)+2,FIND("/",H81)-FIND(":",H81)-2))-1)+50*E81*(1+VALUE(MID(H81,FIND(": ",H81)+2,FIND("/",H81)-FIND(":",H81)-2))-1)/VALUE(RIGHT(H81,1)),IF(F81<=VALUE(MID(H81,FIND(", ",H81)+2,IF(MID(H81,FIND(", ",H81)+2,1)="1",2,1))),(IF(COUNTIFS(F:F,"<="&F81)<=VALUE(MID(H81,FIND(", ",H81)+2,IF(MID(H81,FIND(", ",H81)+2,1)="1",2,1))),1,(VALUE(MID(H81,FIND(", ",H81)+2,IF(MID(H81,FIND(", ",H81)+2,1)="1",2,1)))-COUNTIFS(F:F,"<"&F81))/COUNTIFS(F:F,F81)))*(50*E81*(1+VALUE(MID(H81,FIND(": ",H81)+2,FIND("/",H81)-FIND(":",H81)-2))-1)/VALUE(RIGHT(H81,1))+50*E81)-(100*E81),-E81*100))) | H81: =IF(E81="","",OFFSET([1]PGA!$AL$1,MATCH(A81,[1]PGA!$E$1:$E$500,0)-1,0))
A82: Marcelo Rozo | B82: 0.04% | C82: 2500 | D82: 1501 | F82: =IFERROR(IF(A82="","",OFFSET(Results!$AJ$1,MATCH(A82,Results!$A:$A,0)-1,0)),"") | G82: =IF(OR(E82="",F82=""),"",IF(F82=1,(IF(COUNTIFS(F:F,"<="&F82)<=1,1,(1-COUNTIFS(F:F,"<"&F82))/COUNTIFS(F:F,F82)))*50*E82*(1+VALUE(MID(H82,FIND(": ",H82)+2,FIND("/",H82)-FIND(":",H82)-2))-1)+50*E82*(1+VALUE(MID(H82,FIND(": ",H82)+2,FIND("/",H82)-FIND(":",H82)-2))-1)/VALUE(RIGHT(H82,1)),IF(F82<=VALUE(MID(H82,FIND(", ",H82)+2,IF(MID(H82,FIND(", ",H82)+2,1)="1",2,1))),(IF(COUNTIFS(F:F,"<="&F82)<=VALUE(MID(H82,FIND(", ",H82)+2,IF(MID(H82,FIND(", ",H82)+2,1)="1",2,1))),1,(VALUE(MID(H82,FIND(", ",H82)+2,IF(MID(H82,FIND(", ",H82)+2,1)="1",2,1)))-COUNTIFS(F:F,"<"&F82))/COUNTIFS(F:F,F82)))*(50*E82*(1+VALUE(MID(H82,FIND(": ",H82)+2,FIND("/",H82)-FIND(":",H82)-2))-1)/VALUE(RIGHT(H82,1))+50*E82)-(100*E82),-E82*100))) | H82: =IF(E82="","",OFFSET([1]PGA!$AL$1,MATCH(A82,[1]PGA!$E$1:$E$500,0)-1,0))
A83: Marco Penge | B83: 0.67% | C83: 149 | D83: 34 | F83: =IFERROR(IF(A83="","",OFFSET(Results!$AJ$1,MATCH(A83,Results!$A:$A,0)-1,0)),"") -> 76 | G83: =IF(OR(E83="",F83=""),"",IF(F83=1,(IF(COUNTIFS(F:F,"<="&F83)<=1,1,(1-COUNTIFS(F:F,"<"&F83))/COUNTIFS(F:F,F83)))*50*E83*(1+VALUE(MID(H83,FIND(": ",H83)+2,FIND("/",H83)-FIND(":",H83)-2))-1)+50*E83*(1+VALUE(MID(H83,FIND(": ",H83)+2,FIND("/",H83)-FIND(":",H83)-2))-1)/VALUE(RIGHT(H83,1)),IF(F83<=VALUE(MID(H83,FIND(", ",H83)+2,IF(MID(H83,FIND(", ",H83)+2,1)="1",2,1))),(IF(COUNTIFS(F:F,"<="&F83)<=VALUE(MID(H83,FIND(", ",H83)+2,IF(MID(H83,FIND(", ",H83)+2,1)="1",2,1))),1,(VALUE(MID(H83,FIND(", ",H83)+2,IF(MID(H83,FIND(", ",H83)+2,1)="1",2,1)))-COUNTIFS(F:F,"<"&F83))/COUNTIFS(F:F,F83)))*(50*E83*(1+VALUE(MID(H83,FIND(": ",H83)+2,FIND("/",H83)-FIND(":",H83)-2))-1)/VALUE(RIGHT(H83,1))+50*E83)-(100*E83),-E83*100))) | H83: =IF(E83="","",OFFSET([1]PGA!$AL$1,MATCH(A83,[1]PGA!$E$1:$E$500,0)-1,0))
A84: Mark Hubbard | B84: 0.27% | C84: 370 | D84: 401 | F84: =IFERROR(IF(A84="","",OFFSET(Results!$AJ$1,MATCH(A84,Results!$A:$A,0)-1,0)),"") -> 98 | G84: =IF(OR(E84="",F84=""),"",IF(F84=1,(IF(COUNTIFS(F:F,"<="&F84)<=1,1,(1-COUNTIFS(F:F,"<"&F84))/COUNTIFS(F:F,F84)))*50*E84*(1+VALUE(MID(H84,FIND(": ",H84)+2,FIND("/",H84)-FIND(":",H84)-2))-1)+50*E84*(1+VALUE(MID(H84,FIND(": ",H84)+2,FIND("/",H84)-FIND(":",H84)-2))-1)/VALUE(RIGHT(H84,1)),IF(F84<=VALUE(MID(H84,FIND(", ",H84)+2,IF(MID(H84,FIND(", ",H84)+2,1)="1",2,1))),(IF(COUNTIFS(F:F,"<="&F84)<=VALUE(MID(H84,FIND(", ",H84)+2,IF(MID(H84,FIND(", ",H84)+2,1)="1",2,1))),1,(VALUE(MID(H84,FIND(", ",H84)+2,IF(MID(H84,FIND(", ",H84)+2,1)="1",2,1)))-COUNTIFS(F:F,"<"&F84))/COUNTIFS(F:F,F84)))*(50*E84*(1+VALUE(MID(H84,FIND(": ",H84)+2,FIND("/",H84)-FIND(":",H84)-2))-1)/VALUE(RIGHT(H84,1))+50*E84)-(100*E84),-E84*100))) | H84: =IF(E84="","",OFFSET([1]PGA!$AL$1,MATCH(A84,[1]PGA!$E$1:$E$500,0)-1,0))
A85: Mason Howell | B85: 0.00% | C85: 10000 | D85: 501 | F85: =IFERROR(IF(A85="","",OFFSET(Results!$AJ$1,MATCH(A85,Results!$A:$A,0)-1,0)),"") -> 76 | G85: =IF(OR(E85="",F85=""),"",IF(F85=1,(IF(COUNTIFS(F:F,"<="&F85)<=1,1,(1-COUNTIFS(F:F,"<"&F85))/COUNTIFS(F:F,F85)))*50*E85*(1+VALUE(MID(H85,FIND(": ",H85)+2,FIND("/",H85)-FIND(":",H85)-2))-1)+50*E85*(1+VALUE(MID(H85,FIND(": ",H85)+2,FIND("/",H85)-FIND(":",H85)-2))-1)/VALUE(RIGHT(H85,1)),IF(F85<=VALUE(MID(H85,FIND(", ",H85)+2,IF(MID(H85,FIND(", ",H85)+2,1)="1",2,1))),(IF(COUNTIFS(F:F,"<="&F85)<=VALUE(MID(H85,FIND(", ",H85)+2,IF(MID(H85,FIND(", ",H85)+2,1)="1",2,1))),1,(VALUE(MID(H85,FIND(", ",H85)+2,IF(MID(H85,FIND(", ",H85)+2,1)="1",2,1)))-COUNTIFS(F:F,"<"&F85))/COUNTIFS(F:F,F85)))*(50*E85*(1+VALUE(MID(H85,FIND(": ",H85)+2,FIND("/",H85)-FIND(":",H85)-2))-1)/VALUE(RIGHT(H85,1))+50*E85)-(100*E85),-E85*100))) | H85: =IF(E85="","",OFFSET([1]PGA!$AL$1,MATCH(A85,[1]PGA!$E$1:$E$500,0)-1,0))
A86: Matt Wallace | B86: 0.67% | C86: 149 | D86: 126 | F86: =IFERROR(IF(A86="","",OFFSET(Results!$AJ$1,MATCH(A86,Results!$A:$A,0)-1,0)),"") -> 51 | G86: =IF(OR(E86="",F86=""),"",IF(F86=1,(IF(COUNTIFS(F:F,"<="&F86)<=1,1,(1-COUNTIFS(F:F,"<"&F86))/COUNTIFS(F:F,F86)))*50*E86*(1+VALUE(MID(H86,FIND(": ",H86)+2,FIND("/",H86)-FIND(":",H86)-2))-1)+50*E86*(1+VALUE(MID(H86,FIND(": ",H86)+2,FIND("/",H86)-FIND(":",H86)-2))-1)/VALUE(RIGHT(H86,1)),IF(F86<=VALUE(MID(H86,FIND(", ",H86)+2,IF(MID(H86,FIND(", ",H86)+2,1)="1",2,1))),(IF(COUNTIFS(F:F,"<="&F86)<=VALUE(MID(H86,FIND(", ",H86)+2,IF(MID(H86,FIND(", ",H86)+2,1)="1",2,1))),1,(VALUE(MID(H86,FIND(", ",H86)+2,IF(MID(H86,FIND(", ",H86)+2,1)="1",2,1)))-COUNTIFS(F:F,"<"&F86))/COUNTIFS(F:F,F86)))*(50*E86*(1+VALUE(MID(H86,FIND(": ",H86)+2,FIND("/",H86)-FIND(":",H86)-2))-1)/VALUE(RIGHT(H86,1))+50*E86)-(100*E86),-E86*100))) | H86: =IF(E86="","",OFFSET([1]PGA!$AL$1,MATCH(A86,[1]PGA!$E$1:$E$500,0)-1,0))
A87: Matthieu Pavon | B87: 0.43% | C87: 233 | D87: 251 | F87: =IFERROR(IF(A87="","",OFFSET(Results!$AJ$1,MATCH(A87,Results!$A:$A,0)-1,0)),"") -> 51 | G87: =IF(OR(E87="",F87=""),"",IF(F87=1,(IF(COUNTIFS(F:F,"<="&F87)<=1,1,(1-COUNTIFS(F:F,"<"&F87))/COUNTIFS(F:F,F87)))*50*E87*(1+VALUE(MID(H87,FIND(": ",H87)+2,FIND("/",H87)-FIND(":",H87)-2))-1)+50*E87*(1+VALUE(MID(H87,FIND(": ",H87)+2,FIND("/",H87)-FIND(":",H87)-2))-1)/VALUE(RIGHT(H87,1)),IF(F87<=VALUE(MID(H87,FIND(", ",H87)+2,IF(MID(H87,FIND(", ",H87)+2,1)="1",2,1))),(IF(COUNTIFS(F:F,"<="&F87)<=VALUE(MID(H87,FIND(", ",H87)+2,IF(MID(H87,FIND(", ",H87)+2,1)="1",2,1))),1,(VALUE(MID(H87,FIND(", ",H87)+2,IF(MID(H87,FIND(", ",H87)+2,1)="1",2,1)))-COUNTIFS(F:F,"<"&F87))/COUNTIFS(F:F,F87)))*(50*E87*(1+VALUE(MID(H87,FIND(": ",H87)+2,FIND("/",H87)-FIND(":",H87)-2))-1)/VALUE(RIGHT(H87,1))+50*E87)-(100*E87),-E87*100))) | H87: =IF(E87="","",OFFSET([1]PGA!$AL$1,MATCH(A87,[1]PGA!$E$1:$E$500,0)-1,0))
A88: Matti Schmid | B88: 0.64% | C88: 156 | D88: 126 | F88: =IFERROR(IF(A88="","",OFFSET(Results!$AJ$1,MATCH(A88,Results!$A:$A,0)-1,0)),"") -> 74 | G88: =IF(OR(E88="",F88=""),"",IF(F88=1,(IF(COUNTIFS(F:F,"<="&F88)<=1,1,(1-COUNTIFS(F:F,"<"&F88))/COUNTIFS(F:F,F88)))*50*E88*(1+VALUE(MID(H88,FIND(": ",H88)+2,FIND("/",H88)-FIND(":",H88)-2))-1)+50*E88*(1+VALUE(MID(H88,FIND(": ",H88)+2,FIND("/",H88)-FIND(":",H88)-2))-1)/VALUE(RIGHT(H88,1)),IF(F88<=VALUE(MID(H88,FIND(", ",H88)+2,IF(MID(H88,FIND(", ",H88)+2,1)="1",2,1))),(IF(COUNTIFS(F:F,"<="&F88)<=VALUE(MID(H88,FIND(", ",H88)+2,IF(MID(H88,FIND(", ",H88)+2,1)="1",2,1))),1,(VALUE(MID(H88,FIND(", ",H88)+2,IF(MID(H88,FIND(", ",H88)+2,1)="1",2,1)))-COUNTIFS(F:F,"<"&F88))/COUNTIFS(F:F,F88)))*(50*E88*(1+VALUE(MID(H88,FIND(": ",H88)+2,FIND("/",H88)-FIND(":",H88)-2))-1)/VALUE(RIGHT(H88,1))+50*E88)-(100*E88),-E88*100))) | H88: =IF(E88="","",OFFSET([1]PGA!$AL$1,MATCH(A88,[1]PGA!$E$1:$E$500,0)-1,0))
A89: Max Greyserman | B89: 0.74% | C89: 135 | D89: 81 | F89: =IFERROR(IF(A89="","",OFFSET(Results!$AJ$1,MATCH(A89,Results!$A:$A,0)-1,0)),"") -> 116 | G89: =IF(OR(E89="",F89=""),"",IF(F89=1,(IF(COUNTIFS(F:F,"<="&F89)<=1,1,(1-COUNTIFS(F:F,"<"&F89))/COUNTIFS(F:F,F89)))*50*E89*(1+VALUE(MID(H89,FIND(": ",H89)+2,FIND("/",H89)-FIND(":",H89)-2))-1)+50*E89*(1+VALUE(MID(H89,FIND(": ",H89)+2,FIND("/",H89)-FIND(":",H89)-2))-1)/VALUE(RIGHT(H89,1)),IF(F89<=VALUE(MID(H89,FIND(", ",H89)+2,IF(MID(H89,FIND(", ",H89)+2,1)="1",2,1))),(IF(COUNTIFS(F:F,"<="&F89)<=VALUE(MID(H89,FIND(", ",H89)+2,IF(MID(H89,FIND(", ",H89)+2,1)="1",2,1))),1,(VALUE(MID(H89,FIND(", ",H89)+2,IF(MID(H89,FIND(", ",H89)+2,1)="1",2,1)))-COUNTIFS(F:F,"<"&F89))/COUNTIFS(F:F,F89)))*(50*E89*(1+VALUE(MID(H89,FIND(": ",H89)+2,FIND("/",H89)-FIND(":",H89)-2))-1)/VALUE(RIGHT(H89,1))+50*E89)-(100*E89),-E89*100))) | H89: =IF(E89="","",OFFSET([1]PGA!$AL$1,MATCH(A89,[1]PGA!$E$1:$E$500,0)-1,0))
A90: Max McGreevy | B90: 0.53% | C90: 189 | D90: 126 | F90: =IFERROR(IF(A90="","",OFFSET(Results!$AJ$1,MATCH(A90,Results!$A:$A,0)-1,0)),"") -> 19 | G90: =IF(OR(E90="",F90=""),"",IF(F90=1,(IF(COUNTIFS(F:F,"<="&F90)<=1,1,(1-COUNTIFS(F:F,"<"&F90))/COUNTIFS(F:F,F90)))*50*E90*(1+VALUE(MID(H90,FIND(": ",H90)+2,FIND("/",H90)-FIND(":",H90)-2))-1)+50*E90*(1+VALUE(MID(H90,FIND(": ",H90)+2,FIND("/",H90)-FIND(":",H90)-2))-1)/VALUE(RIGHT(H90,1)),IF(F90<=VALUE(MID(H90,FIND(", ",H90)+2,IF(MID(H90,FIND(", ",H90)+2,1)="1",2,1))),(IF(COUNTIFS(F:F,"<="&F90)<=VALUE(MID(H90,FIND(", ",H90)+2,IF(MID(H90,FIND(", ",H90)+2,1)="1",2,1))),1,(VALUE(MID(H90,FIND(", ",H90)+2,IF(MID(H90,FIND(", ",H90)+2,1)="1",2,1)))-COUNTIFS(F:F,"<"&F90))/COUNTIFS(F:F,F90)))*(50*E90*(1+VALUE(MID(H90,FIND(": ",H90)+2,FIND("/",H90)-FIND(":",H90)-2))-1)/VALUE(RIGHT(H90,1))+50*E90)-(100*E90),-E90*100))) | H90: =IF(E90="","",OFFSET([1]PGA!$AL$1,MATCH(A90,[1]PGA!$E$1:$E$500,0)-1,0))
... A123: Sungjae Im | B123: 0.86% | C123: 116 | D123: 67 | F123: =IFERROR(IF(A123="","",OFFSET(Results!$AJ$1,MATCH(A123,Results!$A:$A,0)-1,0)),"") -> 60 | G123: =IF(OR(E123="",F123=""),"",IF(F123=1,(IF(COUNTIFS(F:F,"<="&F123)<=1,1,(1-COUNTIFS(F:F,"<"&F123))/COUNTIFS(F:F,F123)))*50*E123*(1+VALUE(MID(H123,FIND(": ",H123)+2,FIND("/",H123)-FIND(":",H123)-2))-1)+50*E123*(1+VALUE(MID(H123,FIND(": ",H123)+2,FIND("/",H123)-FIND(":",H123)-2))-1)/VALUE(RIGHT(H123,1)),IF(F123<=VALUE(MID(H123,FIND(", ",H123)+2,IF(MID(H123,FIND(", ",H123)+2,1)="1",2,1))),(IF(COUNTIFS(F:F,"<="&F123)<=VALUE(MID(H123,FIND(", ",H123)+2,IF(MID(H123,FIND(", ",H123)+2,1)="1",2,1))),1,(VALUE(MID(H123,FIND(", ",H123)+2,IF(MID(H123,FIND(", ",H123)+2,1)="1",2,1)))-COUNTIFS(F:F,"<"&F123))/COUNTIFS(F:F,F123)))*(50*E123*(1+VALUE(MID(H123,FIND(": ",H123)+2,FIND("/",H123)-FIND(":",H123)-2))-1)/VALUE(RIGHT(H123,1))+50*E123)-(100*E123),-E123*100))) | H123: =IF(E123="","",OFFSET([1]PGA!$AL$1,MATCH(A123,[1]PGA!$E$1:$E$500,0)-1,0))
A124: Takumi Kanaya | B124: 0.45% | C124: 222 | D124: 351 | E124: 0.20% | F124: =IFERROR(IF(A124="","",OFFSET(Results!$AJ$1,MATCH(A124,Results!$A:$A,0)-1,0)),"") -> 60 | G124: =IF(OR(E124="",F124=""),"",IF(F124=1,(IF(COUNTIFS(F:F,"<="&F124)<=1,1,(1-COUNTIFS(F:F,"<"&F124))/COUNTIFS(F:F,F124)))*50*E124*(1+VALUE(MID(H124,FIND(": ",H124)+2,FIND("/",H124)-FIND(":",H124)-2))-1)+50*E124*(1+VALUE(MID(H124,FIND(": ",H124)+2,FIND("/",H124)-FIND(":",H124)-2))-1)/VALUE(RIGHT(H124,1)),IF(F124<=VALUE(MID(H124,FIND(", ",H124)+2,IF(MID(H124,FIND(", ",H124)+2,1)="1",2,1))),(IF(COUNTIFS(F:F,"<="&F124)<=VALUE(MID(H124,FIND(", ",H124)+2,IF(MID(H124,FIND(", ",H124)+2,1)="1",2,1))),1,(VALUE(MID(H124,FIND(", ",H124)+2,IF(MID(H124,FIND(", ",H124)+2,1)="1",2,1)))-COUNTIFS(F:F,"<"&F124))/COUNTIFS(F:F,F124)))*(50*E124*(1+VALUE(MID(H124,FIND(": ",H124)+2,FIND("/",H124)-FIND(":",H124)-2))-1)/VALUE(RIGHT(H124,1))+50*E124)-(100*E124),-E124*100))) -> -0.2 | H124: =IF(E124="","",OFFSET([1]PGA!$AL$1,MATCH(A124,[1]PGA!$E$1:$E$500,0)-1,0)) -> Betfred: 350/1, 5pl, 1/4
A125: Taylor Pendrith | B125: 1.26% | C125: 79 | D125: 56 | F125: =IFERROR(IF(A125="","",OFFSET(Results!$AJ$1,MATCH(A125,Results!$A:$A,0)-1,0)),"") -> 130 | G125: =IF(OR(E125="",F125=""),"",IF(F125=1,(IF(COUNTIFS(F:F,"<="&F125)<=1,1,(1-COUNTIFS(F:F,"<"&F125))/COUNTIFS(F:F,F125)))*50*E125*(1+VALUE(MID(H125,FIND(": ",H125)+2,FIND("/",H125)-FIND(":",H125)-2))-1)+50*E125*(1+VALUE(MID(H125,FIND(": ",H125)+2,FIND("/",H125)-FIND(":",H125)-2))-1)/VALUE(RIGHT(H125,1)),IF(F125<=VALUE(MID(H125,FIND(", ",H125)+2,IF(MID(H125,FIND(", ",H125)+2,1)="1",2,1))),(IF(COUNTIFS(F:F,"<="&F125)<=VALUE(MID(H125,FIND(", ",H125)+2,IF(MID(H125,FIND(", ",H125)+2,1)="1",2,1))),1,(VALUE(MID(H125,FIND(", ",H125)+2,IF(MID(H125,FIND(", ",H125)+2,1)="1",2,1)))-COUNTIFS(F:F,"<"&F125))/COUNTIFS(F:F,F125)))*(50*E125*(1+VALUE(MID(H125,FIND(": ",H125)+2,FIND("/",H125)-FIND(":",H125)-2))-1)/VALUE(RIGHT(H125,1))+50*E125)-(100*E125),-E125*100))) | H125: =IF(E125="","",OFFSET([1]PGA!$AL$1,MATCH(A125,[1]PGA!$E$1:$E$500,0)-1,0))
A126: Thorbjorn Olesen | B126: 0.88% | C126: 114 | D126: 91 | F126: =IFERROR(IF(A126="","",OFFSET(Results!$AJ$1,MATCH(A126,Results!$A:$A,0)-1,0)),"") -> 14 | G126: =IF(OR(E126="",F126=""),"",IF(F126=1,(IF(COUNTIFS(F:F,"<="&F126)<=1,1,(1-COUNTIFS(F:F,"<"&F126))/COUNTIFS(F:F,F126)))*50*E126*(1+VALUE(MID(H126,FIND(": ",H126)+2,FIND("/",H126)-FIND(":",H126)-2))-1)+50*E126*(1+VALUE(MID(H126,FIND(": ",H126)+2,FIND("/",H126)-FIND(":",H126)-2))-1)/VALUE(RIGHT(H126,1)),IF(F126<=VALUE(MID(H126,FIND(", ",H126)+2,IF(MID(H126,FIND(", ",H126)+2,1)="1",2,1))),(IF(COUNTIFS(F:F,"<="&F126)<=VALUE(MID(H126,FIND(", ",H126)+2,IF(MID(H126,FIND(", ",H126)+2,1)="1",2,1))),1,(VALUE(MID(H126,FIND(", ",H126)+2,IF(MID(H126,FIND(", ",H126)+2,1)="1",2,1)))-COUNTIFS(F:F,"<"&F126))/COUNTIFS(F:F,F126)))*(50*E126*(1+VALUE(MID(H126,FIND(": ",H126)+2,FIND("/",H126)-FIND(":",H126)-2))-1)/VALUE(RIGHT(H126,1))+50*E126)-(100*E126),-E126*100))) | H126: =IF(E126="","",OFFSET([1]PGA!$AL$1,MATCH(A126,[1]PGA!$E$1:$E$500,0)-1,0))
A127: Tom Hoge | B127: 0.24% | C127: 417 | D127: 351 | F127: =IFERROR(IF(A127="","",OFFSET(Results!$AJ$1,MATCH(A127,Results!$A:$A,0)-1,0)),"") -> 71 | G127: =IF(OR(E127="",F127=""),"",IF(F127=1,(IF(COUNTIFS(F:F,"<="&F127)<=1,1,(1-COUNTIFS(F:F,"<"&F127))/COUNTIFS(F:F,F127)))*50*E127*(1+VALUE(MID(H127,FIND(": ",H127)+2,FIND("/",H127)-FIND(":",H127)-2))-1)+50*E127*(1+VALUE(MID(H127,FIND(": ",H127)+2,FIND("/",H127)-FIND(":",H127)-2))-1)/VALUE(RIGHT(H127,1)),IF(F127<=VALUE(MID(H127,FIND(", ",H127)+2,IF(MID(H127,FIND(", ",H127)+2,1)="1",2,1))),(IF(COUNTIFS(F:F,"<="&F127)<=VALUE(MID(H127,FIND(", ",H127)+2,IF(MID(H127,FIND(", ",H127)+2,1)="1",2,1))),1,(VALUE(MID(H127,FIND(", ",H127)+2,IF(MID(H127,FIND(", ",H127)+2,1)="1",2,1)))-COUNTIFS(F:F,"<"&F127))/COUNTIFS(F:F,F127)))*(50*E127*(1+VALUE(MID(H127,FIND(": ",H127)+2,FIND("/",H127)-FIND(":",H127)-2))-1)/VALUE(RIGHT(H127,1))+50*E127)-(100*E127),-E127*100))) | H127: =IF(E127="","",OFFSET([1]PGA!$AL$1,MATCH(A127,[1]PGA!$E$1:$E$500,0)-1,0))
A128: Tom Kim | B128: 0.68% | C128: 147 | D128: 101 | F128: =IFERROR(IF(A128="","",OFFSET(Results!$AJ$1,MATCH(A128,Results!$A:$A,0)-1,0)),"") -> 56 | G128: =IF(OR(E128="",F128=""),"",IF(F128=1,(IF(COUNTIFS(F:F,"<="&F128)<=1,1,(1-COUNTIFS(F:F,"<"&F128))/COUNTIFS(F:F,F128)))*50*E128*(1+VALUE(MID(H128,FIND(": ",H128)+2,FIND("/",H128)-FIND(":",H128)-2))-1)+50*E128*(1+VALUE(MID(H128,FIND(": ",H128)+2,FIND("/",H128)-FIND(":",H128)-2))-1)/VALUE(RIGHT(H128,1)),IF(F128<=VALUE(MID(H128,FIND(", ",H128)+2,IF(MID(H128,FIND(", ",H128)+2,1)="1",2,1))),(IF(COUNTIFS(F:F,"<="&F128)<=VALUE(MID(H128,FIND(", ",H128)+2,IF(MID(H128,FIND(", ",H128)+2,1)="1",2,1))),1,(VALUE(MID(H128,FIND(", ",H128)+2,IF(MID(H128,FIND(", ",H128)+2,1)="1",2,1)))-COUNTIFS(F:F,"<"&F128))/COUNTIFS(F:F,F128)))*(50*E128*(1+VALUE(MID(H128,FIND(": ",H128)+2,FIND("/",H128)-FIND(":",H128)-2))-1)/VALUE(RIGHT(H128,1))+50*E128)-(100*E128),-E128*100))) | H128: =IF(E128="","",OFFSET([1]PGA!$AL$1,MATCH(A128,[1]PGA!$E$1:$E$500,0)-1,0))
A129: Tony Finau | B129: 0.84% | C129: 119 | D129: 61 | F129: =IFERROR(IF(A129="","",OFFSET(Results!$AJ$1,MATCH(A129,Results!$A:$A,0)-1,0)),"") -> 39 | G129: =IF(OR(E129="",F129=""),"",IF(F129=1,(IF(COUNTIFS(F:F,"<="&F129)<=1,1,(1-COUNTIFS(F:F,"<"&F129))/COUNTIFS(F:F,F129)))*50*E129*(1+VALUE(MID(H129,FIND(": ",H129)+2,FIND("/",H129)-FIND(":",H129)-2))-1)+50*E129*(1+VALUE(MID(H129,FIND(": ",H129)+2,FIND("/",H129)-FIND(":",H129)-2))-1)/VALUE(RIGHT(H129,1)),IF(F129<=VALUE(MID(H129,FIND(", ",H129)+2,IF(MID(H129,FIND(", ",H129)+2,1)="1",2,1))),(IF(COUNTIFS(F:F,"<="&F129)<=VALUE(MID(H129,FIND(", ",H129)+2,IF(MID(H129,FIND(", ",H129)+2,1)="1",2,1))),1,(VALUE(MID(H129,FIND(", ",H129)+2,IF(MID(H129,FIND(", ",H129)+2,1)="1",2,1)))-COUNTIFS(F:F,"<"&F129))/COUNTIFS(F:F,F129)))*(50*E129*(1+VALUE(MID(H129,FIND(": ",H129)+2,FIND("/",H129)-FIND(":",H129)-2))-1)/VALUE(RIGHT(H129,1))+50*E129)-(100*E129),-E129*100))) | H129: =IF(E129="","",OFFSET([1]PGA!$AL$1,MATCH(A129,[1]PGA!$E$1:$E$500,0)-1,0))
A130: Trey Mullinax | B130: 0.09% | C130: 1111 | D130: 501 | F130: =IFERROR(IF(A130="","",OFFSET(Results!$AJ$1,MATCH(A130,Results!$A:$A,0)-1,0)),"") -> 116 | G130: =IF(OR(E130="",F130=""),"",IF(F130=1,(IF(COUNTIFS(F:F,"<="&F130)<=1,1,(1-COUNTIFS(F:F,"<"&F130))/COUNTIFS(F:F,F130)))*50*E130*(1+VALUE(MID(H130,FIND(": ",H130)+2,FIND("/",H130)-FIND(":",H130)-2))-1)+50*E130*(1+VALUE(MID(H130,FIND(": ",H130)+2,FIND("/",H130)-FIND(":",H130)-2))-1)/VALUE(RIGHT(H130,1)),IF(F130<=VALUE(MID(H130,FIND(", ",H130)+2,IF(MID(H130,FIND(", ",H130)+2,1)="1",2,1))),(IF(COUNTIFS(F:F,"<="&F130)<=VALUE(MID(H130,FIND(", ",H130)+2,IF(MID(H130,FIND(", ",H130)+2,1)="1",2,1))),1,(VALUE(MID(H130,FIND(", ",H130)+2,IF(MID(H130,FIND(", ",H130)+2,1)="1",2,1)))-COUNTIFS(F:F,"<"&F130))/COUNTIFS(F:F,F130)))*(50*E130*(1+VALUE(MID(H130,FIND(": ",H130)+2,FIND("/",H130)-FIND(":",H130)-2))-1)/VALUE(RIGHT(H130,1))+50*E130)-(100*E130),-E130*100))) | H130: =IF(E130="","",OFFSET([1]PGA!$AL$1,MATCH(A130,[1]PGA!$E$1:$E$500,0)-1,0))
A131: Vince Whaley | B131: 0.43% | C131: 233 | D131: 201 | F131: =IFERROR(IF(A131="","",OFFSET(Results!$AJ$1,MATCH(A131,Results!$A:$A,0)-1,0)),"") -> 28 | G131: =IF(OR(E131="",F131=""),"",IF(F131=1,(IF(COUNTIFS(F:F,"<="&F131)<=1,1,(1-COUNTIFS(F:F,"<"&F131))/COUNTIFS(F:F,F131)))*50*E131*(1+VALUE(MID(H131,FIND(": ",H131)+2,FIND("/",H131)-FIND(":",H131)-2))-1)+50*E131*(1+VALUE(MID(H131,FIND(": ",H131)+2,FIND("/",H131)-FIND(":",H131)-2))-1)/VALUE(RIGHT(H131,1)),IF(F131<=VALUE(MID(H131,FIND(", ",H131)+2,IF(MID(H131,FIND(", ",H131)+2,1)="1",2,1))),(IF(COUNTIFS(F:F,"<="&F131)<=VALUE(MID(H131,FIND(", ",H131)+2,IF(MID(H131,FIND(", ",H131)+2,1)="1",2,1))),1,(VALUE(MID(H131,FIND(", ",H131)+2,IF(MID(H131,FIND(", ",H131)+2,1)="1",2,1)))-COUNTIFS(F:F,"<"&F131))/COUNTIFS(F:F,F131)))*(50*E131*(1+VALUE(MID(H131,FIND(": ",H131)+2,FIND("/",H131)-FIND(":",H131)-2))-1)/VALUE(RIGHT(H131,1))+50*E131)-(100*E131),-E131*100))) | H131: =IF(E131="","",OFFSET([1]PGA!$AL$1,MATCH(A131,[1]PGA!$E$1:$E$500,0)-1,0))
A132: Will Zalatoris | B132: 0.52% | C132: 192 | D132: 71 | F132: =IFERROR(IF(A132="","",OFFSET(Results!$AJ$1,MATCH(A132,Results!$A:$A,0)-1,0)),"") -> 76 | G132: =IF(OR(E132="",F132=""),"",IF(F132=1,(IF(COUNTIFS(F:F,"<="&F132)<=1,1,(1-COUNTIFS(F:F,"<"&F132))/COUNTIFS(F:F,F132)))*50*E132*(1+VALUE(MID(H132,FIND(": ",H132)+2,FIND("/",H132)-FIND(":",H132)-2))-1)+50*E132*(1+VALUE(MID(H132,FIND(": ",H132)+2,FIND("/",H132)-FIND(":",H132)-2))-1)/VALUE(RIGHT(H132,1)),IF(F132<=VALUE(MID(H132,FIND(", ",H132)+2,IF(MID(H132,FIND(", ",H132)+2,1)="1",2,1))),(IF(COUNTIFS(F:F,"<="&F132)<=VALUE(MID(H132,FIND(", ",H132)+2,IF(MID(H132,FIND(", ",H132)+2,1)="1",2,1))),1,(VALUE(MID(H132,FIND(", ",H132)+2,IF(MID(H132,FIND(", ",H132)+2,1)="1",2,1)))-COUNTIFS(F:F,"<"&F132))/COUNTIFS(F:F,F132)))*(50*E132*(1+VALUE(MID(H132,FIND(": ",H132)+2,FIND("/",H132)-FIND(":",H132)-2))-1)/VALUE(RIGHT(H132,1))+50*E132)-(100*E132),-E132*100))) | H132: =IF(E132="","",OFFSET([1]PGA!$AL$1,MATCH(A132,[1]PGA!$E$1:$E$500,0)-1,0))
A133: William Mouw | B133: 0.62% | C133: 161 | D133: 111 | F133: =IFERROR(IF(A133="","",OFFSET(Results!$AJ$1,MATCH(A133,Results!$A:$A,0)-1,0)),"") -> 44 | G133: =IF(OR(E133="",F133=""),"",IF(F133=1,(IF(COUNTIFS(F:F,"<="&F133)<=1,1,(1-COUNTIFS(F:F,"<"&F133))/COUNTIFS(F:F,F133)))*50*E133*(1+VALUE(MID(H133,FIND(": ",H133)+2,FIND("/",H133)-FIND(":",H133)-2))-1)+50*E133*(1+VALUE(MID(H133,FIND(": ",H133)+2,FIND("/",H133)-FIND(":",H133)-2))-1)/VALUE(RIGHT(H133,1)),IF(F133<=VALUE(MID(H133,FIND(", ",H133)+2,IF(MID(H133,FIND(", ",H133)+2,1)="1",2,1))),(IF(COUNTIFS(F:F,"<="&F133)<=VALUE(MID(H133,FIND(", ",H133)+2,IF(MID(H133,FIND(", ",H133)+2,1)="1",2,1))),1,(VALUE(MID(H133,FIND(", ",H133)+2,IF(MID(H133,FIND(", ",H133)+2,1)="1",2,1)))-COUNTIFS(F:F,"<"&F133))/COUNTIFS(F:F,F133)))*(50*E133*(1+VALUE(MID(H133,FIND(": ",H133)+2,FIND("/",H133)-FIND(":",H133)-2))-1)/VALUE(RIGHT(H133,1))+50*E133)-(100*E133),-E133*100))) | H133: =IF(E133="","",OFFSET([1]PGA!$AL$1,MATCH(A133,[1]PGA!$E$1:$E$500,0)-1,0))
A134: Wyndham Clark | B134: 1.10% | C134: 91 | D134: 56 | F134: =IFERROR(IF(A134="","",OFFSET(Results!$AJ$1,MATCH(A134,Results!$A:$A,0)-1,0)),"") -> 104 | G134: =IF(OR(E134="",F134=""),"",IF(F134=1,(IF(COUNTIFS(F:F,"<="&F134)<=1,1,(1-COUNTIFS(F:F,"<"&F134))/COUNTIFS(F:F,F134)))*50*E134*(1+VALUE(MID(H134,FIND(": ",H134)+2,FIND("/",H134)-FIND(":",H134)-2))-1)+50*E134*(1+VALUE(MID(H134,FIND(": ",H134)+2,FIND("/",H134)-FIND(":",H134)-2))-1)/VALUE(RIGHT(H134,1)),IF(F134<=VALUE(MID(H134,FIND(", ",H134)+2,IF(MID(H134,FIND(", ",H134)+2,1)="1",2,1))),(IF(COUNTIFS(F:F,"<="&F134)<=VALUE(MID(H134,FIND(", ",H134)+2,IF(MID(H134,FIND(", ",H134)+2,1)="1",2,1))),1,(VALUE(MID(H134,FIND(", ",H134)+2,IF(MID(H134,FIND(", ",H134)+2,1)="1",2,1)))-COUNTIFS(F:F,"<"&F134))/COUNTIFS(F:F,F134)))*(50*E134*(1+VALUE(MID(H134,FIND(": ",H134)+2,FIND("/",H134)-FIND(":",H134)-2))-1)/VALUE(RIGHT(H134,1))+50*E134)-(100*E134),-E134*100))) | H134: =IF(E134="","",OFFSET([1]PGA!$AL$1,MATCH(A134,[1]PGA!$E$1:$E$500,0)-1,0))
A135: Zach Bauchou | B135: 0.31% | C135: 323 | D135: 251 | F135: =IFERROR(IF(A135="","",OFFSET(Results!$AJ$1,MATCH(A135,Results!$A:$A,0)-1,0)),"") -> 112 | G135: =IF(OR(E135="",F135=""),"",IF(F135=1,(IF(COUNTIFS(F:F,"<="&F135)<=1,1,(1-COUNTIFS(F:F,"<"&F135))/COUNTIFS(F:F,F135)))*50*E135*(1+VALUE(MID(H135,FIND(": ",H135)+2,FIND("/",H135)-FIND(":",H135)-2))-1)+50*E135*(1+VALUE(MID(H135,FIND(": ",H135)+2,FIND("/",H135)-FIND(":",H135)-2))-1)/VALUE(RIGHT(H135,1)),IF(F135<=VALUE(MID(H135,FIND(", ",H135)+2,IF(MID(H135,FIND(", ",H135)+2,1)="1",2,1))),(IF(COUNTIFS(F:F,"<="&F135)<=VALUE(MID(H135,FIND(", ",H135)+2,IF(MID(H135,FIND(", ",H135)+2,1)="1",2,1))),1,(VALUE(MID(H135,FIND(", ",H135)+2,IF(MID(H135,FIND(", ",H135)+2,1)="1",2,1)))-COUNTIFS(F:F,"<"&F135))/COUNTIFS(F:F,F135)))*(50*E135*(1+VALUE(MID(H135,FIND(": ",H135)+2,FIND("/",H135)-FIND(":",H135)-2))-1)/VALUE(RIGHT(H135,1))+50*E135)-(100*E135),-E135*100))) | H135: =IF(E135="","",OFFSET([1]PGA!$AL$1,MATCH(A135,[1]PGA!$E$1:$E$500,0)-1,0))
A136: Zecheng Dou | B136: 0.29% | C136: 345 | D136: 226 | F136: =IFERROR(IF(A136="","",OFFSET(Results!$AJ$1,MATCH(A136,Results!$A:$A,0)-1,0)),"") -> 21 | G136: =IF(OR(E136="",F136=""),"",IF(F136=1,(IF(COUNTIFS(F:F,"<="&F136)<=1,1,(1-COUNTIFS(F:F,"<"&F136))/COUNTIFS(F:F,F136)))*50*E136*(1+VALUE(MID(H136,FIND(": ",H136)+2,FIND("/",H136)-FIND(":",H136)-2))-1)+50*E136*(1+VALUE(MID(H136,FIND(": ",H136)+2,FIND("/",H136)-FIND(":",H136)-2))-1)/VALUE(RIGHT(H136,1)),IF(F136<=VALUE(MID(H136,FIND(", ",H136)+2,IF(MID(H136,FIND(", ",H136)+2,1)="1",2,1))),(IF(COUNTIFS(F:F,"<="&F136)<=VALUE(MID(H136,FIND(", ",H136)+2,IF(MID(H136,FIND(", ",H136)+2,1)="1",2,1))),1,(VALUE(MID(H136,FIND(", ",H136)+2,IF(MID(H136,FIND(", ",H136)+2,1)="1",2,1)))-COUNTIFS(F:F,"<"&F136))/COUNTIFS(F:F,F136)))*(50*E136*(1+VALUE(MID(H136,FIND(": ",H136)+2,FIND("/",H136)-FIND(":",H136)-2))-1)/VALUE(RIGHT(H136,1))+50*E136)-(100*E136),-E136*100))) | H136: =IF(E136="","",OFFSET([1]PGA!$AL$1,MATCH(A136,[1]PGA!$E$1:$E$500,0)-1,0))
F137: =IFERROR(IF(A137="","",OFFSET(Results!$AJ$1,MATCH(A137,Results!$A:$A,0)-1,0)),"") | G137: =IF(OR(E137="",F137=""),"",IF(F137=1,(IF(COUNTIFS(F:F,"<="&F137)<=1,1,(1-COUNTIFS(F:F,"<"&F137))/COUNTIFS(F:F,F137)))*50*E137*(1+VALUE(MID(H137,FIND(": ",H137)+2,FIND("/",H137)-FIND(":",H137)-2))-1)+50*E137*(1+VALUE(MID(H137,FIND(": ",H137)+2,FIND("/",H137)-FIND(":",H137)-2))-1)/VALUE(RIGHT(H137,1)),IF(F137<=VALUE(MID(H137,FIND(", ",H137)+2,IF(MID(H137,FIND(", ",H137)+2,1)="1",2,1))),(IF(COUNTIFS(F:F,"<="&F137)<=VALUE(MID(H137,FIND(", ",H137)+2,IF(MID(H137,FIND(", ",H137)+2,1)="1",2,1))),1,(VALUE(MID(H137,FIND(", ",H137)+2,IF(MID(H137,FIND(", ",H137)+2,1)="1",2,1)))-COUNTIFS(F:F,"<"&F137))/COUNTIFS(F:F,F137)))*(50*E137*(1+VALUE(MID(H137,FIND(": ",H137)+2,FIND("/",H137)-FIND(":",H137)-2))-1)/VALUE(RIGHT(H137,1))+50*E137)-(100*E137),-E137*100))) | H137: =IF(E137="","",OFFSET([1]PGA!$AL$1,MATCH(A137,[1]PGA!$E$1:$E$500,0)-1,0))
F138: =IFERROR(IF(A138="","",OFFSET(Results!$AJ$1,MATCH(A138,Results!$A:$A,0)-1,0)),"") | G138: =IF(OR(E138="",F138=""),"",IF(F138=1,(IF(COUNTIFS(F:F,"<="&F138)<=1,1,(1-COUNTIFS(F:F,"<"&F138))/COUNTIFS(F:F,F138)))*50*E138*(1+VALUE(MID(H138,FIND(": ",H138)+2,FIND("/",H138)-FIND(":",H138)-2))-1)+50*E138*(1+VALUE(MID(H138,FIND(": ",H138)+2,FIND("/",H138)-FIND(":",H138)-2))-1)/VALUE(RIGHT(H138,1)),IF(F138<=VALUE(MID(H138,FIND(", ",H138)+2,IF(MID(H138,FIND(", ",H138)+2,1)="1",2,1))),(IF(COUNTIFS(F:F,"<="&F138)<=VALUE(MID(H138,FIND(", ",H138)+2,IF(MID(H138,FIND(", ",H138)+2,1)="1",2,1))),1,(VALUE(MID(H138,FIND(", ",H138)+2,IF(MID(H138,FIND(", ",H138)+2,1)="1",2,1)))-COUNTIFS(F:F,"<"&F138))/COUNTIFS(F:F,F138)))*(50*E138*(1+VALUE(MID(H138,FIND(": ",H138)+2,FIND("/",H138)-FIND(":",H138)-2))-1)/VALUE(RIGHT(H138,1))+50*E138)-(100*E138),-E138*100))) | H138: =IF(E138="","",OFFSET([1]PGA!$AL$1,MATCH(A138,[1]PGA!$E$1:$E$500,0)-1,0))
F139: =IFERROR(IF(A139="","",OFFSET(Results!$AJ$1,MATCH(A139,Results!$A:$A,0)-1,0)),"") | G139: =IF(OR(E139="",F139=""),"",IF(F139=1,(IF(COUNTIFS(F:F,"<="&F139)<=1,1,(1-COUNTIFS(F:F,"<"&F139))/COUNTIFS(F:F,F139)))*50*E139*(1+VALUE(MID(H139,FIND(": ",H139)+2,FIND("/",H139)-FIND(":",H139)-2))-1)+50*E139*(1+VALUE(MID(H139,FIND(": ",H139)+2,FIND("/",H139)-FIND(":",H139)-2))-1)/VALUE(RIGHT(H139,1)),IF(F139<=VALUE(MID(H139,FIND(", ",H139)+2,IF(MID(H139,FIND(", ",H139)+2,1)="1",2,1))),(IF(COUNTIFS(F:F,"<="&F139)<=VALUE(MID(H139,FIND(", ",H139)+2,IF(MID(H139,FIND(", ",H139)+2,1)="1",2,1))),1,(VALUE(MID(H139,FIND(", ",H139)+2,IF(MID(H139,FIND(", ",H139)+2,1)="1",2,1)))-COUNTIFS(F:F,"<"&F139))/COUNTIFS(F:F,F139)))*(50*E139*(1+VALUE(MID(H139,FIND(": ",H139)+2,FIND("/",H139)-FIND(":",H139)-2))-1)/VALUE(RIGHT(H139,1))+50*E139)-(100*E139),-E139*100))) | H139: =IF(E139="","",OFFSET([1]PGA!$AL$1,MATCH(A139,[1]PGA!$E$1:$E$500,0)-1,0))
F140: =IFERROR(IF(A140="","",OFFSET(Results!$AJ$1,MATCH(A140,Results!$A:$A,0)-1,0)),"") | G140: =IF(OR(E140="",F140=""),"",IF(F140=1,(IF(COUNTIFS(F:F,"<="&F140)<=1,1,(1-COUNTIFS(F:F,"<"&F140))/COUNTIFS(F:F,F140)))*50*E140*(1+VALUE(MID(H140,FIND(": ",H140)+2,FIND("/",H140)-FIND(":",H140)-2))-1)+50*E140*(1+VALUE(MID(H140,FIND(": ",H140)+2,FIND("/",H140)-FIND(":",H140)-2))-1)/VALUE(RIGHT(H140,1)),IF(F140<=VALUE(MID(H140,FIND(", ",H140)+2,IF(MID(H140,FIND(", ",H140)+2,1)="1",2,1))),(IF(COUNTIFS(F:F,"<="&F140)<=VALUE(MID(H140,FIND(", ",H140)+2,IF(MID(H140,FIND(", ",H140)+2,1)="1",2,1))),1,(VALUE(MID(H140,FIND(", ",H140)+2,IF(MID(H140,FIND(", ",H140)+2,1)="1",2,1)))-COUNTIFS(F:F,"<"&F140))/COUNTIFS(F:F,F140)))*(50*E140*(1+VALUE(MID(H140,FIND(": ",H140)+2,FIND("/",H140)-FIND(":",H140)-2))-1)/VALUE(RIGHT(H140,1))+50*E140)-(100*E140),-E140*100))) | H140: =IF(E140="","",OFFSET([1]PGA!$AL$1,MATCH(A140,[1]PGA!$E$1:$E$500,0)-1,0))
F141: =IFERROR(IF(A141="","",OFFSET(Results!$AJ$1,MATCH(A141,Results!$A:$A,0)-1,0)),"") | G141: =IF(OR(E141="",F141=""),"",IF(F141=1,(IF(COUNTIFS(F:F,"<="&F141)<=1,1,(1-COUNTIFS(F:F,"<"&F141))/COUNTIFS(F:F,F141)))*50*E141*(1+VALUE(MID(H141,FIND(": ",H141)+2,FIND("/",H141)-FIND(":",H141)-2))-1)+50*E141*(1+VALUE(MID(H141,FIND(": ",H141)+2,FIND("/",H141)-FIND(":",H141)-2))-1)/VALUE(RIGHT(H141,1)),IF(F141<=VALUE(MID(H141,FIND(", ",H141)+2,IF(MID(H141,FIND(", ",H141)+2,1)="1",2,1))),(IF(COUNTIFS(F:F,"<="&F141)<=VALUE(MID(H141,FIND(", ",H141)+2,IF(MID(H141,FIND(", ",H141)+2,1)="1",2,1))),1,(VALUE(MID(H141,FIND(", ",H141)+2,IF(MID(H141,FIND(", ",H141)+2,1)="1",2,1)))-COUNTIFS(F:F,"<"&F141))/COUNTIFS(F:F,F141)))*(50*E141*(1+VALUE(MID(H141,FIND(": ",H141)+2,FIND("/",H141)-FIND(":",H141)-2))-1)/VALUE(RIGHT(H141,1))+50*E141)-(100*E141),-E141*100))) | H141: =IF(E141="","",OFFSET([1]PGA!$AL$1,MATCH(A141,[1]PGA!$E$1:$E$500,0)-1,0))
F142: =IFERROR(IF(A142="","",OFFSET(Results!$AJ$1,MATCH(A142,Results!$A:$A,0)-1,0)),"") | G142: =IF(OR(E142="",F142=""),"",IF(F142=1,(IF(COUNTIFS(F:F,"<="&F142)<=1,1,(1-COUNTIFS(F:F,"<"&F142))/COUNTIFS(F:F,F142)))*50*E142*(1+VALUE(MID(H142,FIND(": ",H142)+2,FIND("/",H142)-FIND(":",H142)-2))-1)+50*E142*(1+VALUE(MID(H142,FIND(": ",H142)+2,FIND("/",H142)-FIND(":",H142)-2))-1)/VALUE(RIGHT(H142,1)),IF(F142<=VALUE(MID(H142,FIND(", ",H142)+2,IF(MID(H142,FIND(", ",H142)+2,1)="1",2,1))),(IF(COUNTIFS(F:F,"<="&F142)<=VALUE(MID(H142,FIND(", ",H142)+2,IF(MID(H142,FIND(", ",H142)+2,1)="1",2,1))),1,(VALUE(MID(H142,FIND(", ",H142)+2,IF(MID(H142,FIND(", ",H142)+2,1)="1",2,1)))-COUNTIFS(F:F,"<"&F142))/COUNTIFS(F:F,F142)))*(50*E142*(1+VALUE(MID(H142,FIND(": ",H142)+2,FIND("/",H142)-FIND(":",H142)-2))-1)/VALUE(RIGHT(H142,1))+50*E142)-(100*E142),-E142*100))) | H142: =IF(E142="","",OFFSET([1]PGA!$AL$1,MATCH(A142,[1]PGA!$E$1:$E$500,0)-1,0))
F143: =IFERROR(IF(A143="","",OFFSET(Results!$AJ$1,MATCH(A143,Results!$A:$A,0)-1,0)),"") | G143: =IF(OR(E143="",F143=""),"",IF(F143=1,(IF(COUNTIFS(F:F,"<="&F143)<=1,1,(1-COUNTIFS(F:F,"<"&F143))/COUNTIFS(F:F,F143)))*50*E143*(1+VALUE(MID(H143,FIND(": ",H143)+2,FIND("/",H143)-FIND(":",H143)-2))-1)+50*E143*(1+VALUE(MID(H143,FIND(": ",H143)+2,FIND("/",H143)-FIND(":",H143)-2))-1)/VALUE(RIGHT(H143,1)),IF(F143<=VALUE(MID(H143,FIND(", ",H143)+2,IF(MID(H143,FIND(", ",H143)+2,1)="1",2,1))),(IF(COUNTIFS(F:F,"<="&F143)<=VALUE(MID(H143,FIND(", ",H143)+2,IF(MID(H143,FIND(", ",H143)+2,1)="1",2,1))),1,(VALUE(MID(H143,FIND(", ",H143)+2,IF(MID(H143,FIND(", ",H143)+2,1)="1",2,1)))-COUNTIFS(F:F,"<"&F143))/COUNTIFS(F:F,F143)))*(50*E143*(1+VALUE(MID(H143,FIND(": ",H143)+2,FIND("/",H143)-FIND(":",H143)-2))-1)/VALUE(RIGHT(H143,1))+50*E143)-(100*E143),-E143*100))) | H143: =IF(E143="","",OFFSET([1]PGA!$AL$1,MATCH(A143,[1]PGA!$E$1:$E$500,0)-1,0))
F144: =IFERROR(IF(A144="","",OFFSET(Results!$AJ$1,MATCH(A144,Results!$A:$A,0)-1,0)),"") | G144: =IF(OR(E144="",F144=""),"",IF(F144=1,(IF(COUNTIFS(F:F,"<="&F144)<=1,1,(1-COUNTIFS(F:F,"<"&F144))/COUNTIFS(F:F,F144)))*50*E144*(1+VALUE(MID(H144,FIND(": ",H144)+2,FIND("/",H144)-FIND(":",H144)-2))-1)+50*E144*(1+VALUE(MID(H144,FIND(": ",H144)+2,FIND("/",H144)-FIND(":",H144)-2))-1)/VALUE(RIGHT(H144,1)),IF(F144<=VALUE(MID(H144,FIND(", ",H144)+2,IF(MID(H144,FIND(", ",H144)+2,1)="1",2,1))),(IF(COUNTIFS(F:F,"<="&F144)<=VALUE(MID(H144,FIND(", ",H144)+2,IF(MID(H144,FIND(", ",H144)+2,1)="1",2,1))),1,(VALUE(MID(H144,FIND(", ",H144)+2,IF(MID(H144,FIND(", ",H144)+2,1)="1",2,1)))-COUNTIFS(F:F,"<"&F144))/COUNTIFS(F:F,F144)))*(50*E144*(1+VALUE(MID(H144,FIND(": ",H144)+2,FIND("/",H144)-FIND(":",H144)-2))-1)/VALUE(RIGHT(H144,1))+50*E144)-(100*E144),-E144*100))) | H144: =IF(E144="","",OFFSET([1]PGA!$AL$1,MATCH(A144,[1]PGA!$E$1:$E$500,0)-1,0))
F145: =IFERROR(IF(A145="","",OFFSET(Results!$AJ$1,MATCH(A145,Results!$A:$A,0)-1,0)),"") | G145: =IF(OR(E145="",F145=""),"",IF(F145=1,(IF(COUNTIFS(F:F,"<="&F145)<=1,1,(1-COUNTIFS(F:F,"<"&F145))/COUNTIFS(F:F,F145)))*50*E145*(1+VALUE(MID(H145,FIND(": ",H145)+2,FIND("/",H145)-FIND(":",H145)-2))-1)+50*E145*(1+VALUE(MID(H145,FIND(": ",H145)+2,FIND("/",H145)-FIND(":",H145)-2))-1)/VALUE(RIGHT(H145,1)),IF(F145<=VALUE(MID(H145,FIND(", ",H145)+2,IF(MID(H145,FIND(", ",H145)+2,1)="1",2,1))),(IF(COUNTIFS(F:F,"<="&F145)<=VALUE(MID(H145,FIND(", ",H145)+2,IF(MID(H145,FIND(", ",H145)+2,1)="1",2,1))),1,(VALUE(MID(H145,FIND(", ",H145)+2,IF(MID(H145,FIND(", ",H145)+2,1)="1",2,1)))-COUNTIFS(F:F,"<"&F145))/COUNTIFS(F:F,F145)))*(50*E145*(1+VALUE(MID(H145,FIND(": ",H145)+2,FIND("/",H145)-FIND(":",H145)-2))-1)/VALUE(RIGHT(H145,1))+50*E145)-(100*E145),-E145*100))) | H145: =IF(E145="","",OFFSET([1]PGA!$AL$1,MATCH(A145,[1]PGA!$E$1:$E$500,0)-1,0))
F146: =IFERROR(IF(A146="","",OFFSET(Results!$AJ$1,MATCH(A146,Results!$A:$A,0)-1,0)),"") | G146: =IF(OR(E146="",F146=""),"",IF(F146=1,(IF(COUNTIFS(F:F,"<="&F146)<=1,1,(1-COUNTIFS(F:F,"<"&F146))/COUNTIFS(F:F,F146)))*50*E146*(1+VALUE(MID(H146,FIND(": ",H146)+2,FIND("/",H146)-FIND(":",H146)-2))-1)+50*E146*(1+VALUE(MID(H146,FIND(": ",H146)+2,FIND("/",H146)-FIND(":",H146)-2))-1)/VALUE(RIGHT(H146,1)),IF(F146<=VALUE(MID(H146,FIND(", ",H146)+2,IF(MID(H146,FIND(", ",H146)+2,1)="1",2,1))),(IF(COUNTIFS(F:F,"<="&F146)<=VALUE(MID(H146,FIND(", ",H146)+2,IF(MID(H146,FIND(", ",H146)+2,1)="1",2,1))),1,(VALUE(MID(H146,FIND(", ",H146)+2,IF(MID(H146,FIND(", ",H146)+2,1)="1",2,1)))-COUNTIFS(F:F,"<"&F146))/COUNTIFS(F:F,F146)))*(50*E146*(1+VALUE(MID(H146,FIND(": ",H146)+2,FIND("/",H146)-FIND(":",H146)-2))-1)/VALUE(RIGHT(H146,1))+50*E146)-(100*E146),-E146*100))) | H146: =IF(E146="","",OFFSET([1]PGA!$AL$1,MATCH(A146,[1]PGA!$E$1:$E$500,0)-1,0))
F147: =IFERROR(IF(A147="","",OFFSET(Results!$AJ$1,MATCH(A147,Results!$A:$A,0)-1,0)),"") | G147: =IF(OR(E147="",F147=""),"",IF(F147=1,(IF(COUNTIFS(F:F,"<="&F147)<=1,1,(1-COUNTIFS(F:F,"<"&F147))/COUNTIFS(F:F,F147)))*50*E147*(1+VALUE(MID(H147,FIND(": ",H147)+2,FIND("/",H147)-FIND(":",H147)-2))-1)+50*E147*(1+VALUE(MID(H147,FIND(": ",H147)+2,FIND("/",H147)-FIND(":",H147)-2))-1)/VALUE(RIGHT(H147,1)),IF(F147<=VALUE(MID(H147,FIND(", ",H147)+2,IF(MID(H147,FIND(", ",H147)+2,1)="1",2,1))),(IF(COUNTIFS(F:F,"<="&F147)<=VALUE(MID(H147,FIND(", ",H147)+2,IF(MID(H147,FIND(", ",H147)+2,1)="1",2,1))),1,(VALUE(MID(H147,FIND(", ",H147)+2,IF(MID(H147,FIND(", ",H147)+2,1)="1",2,1)))-COUNTIFS(F:F,"<"&F147))/COUNTIFS(F:F,F147)))*(50*E147*(1+VALUE(MID(H147,FIND(": ",H147)+2,FIND("/",H147)-FIND(":",H147)-2))-1)/VALUE(RIGHT(H147,1))+50*E147)-(100*E147),-E147*100))) | H147: =IF(E147="","",OFFSET([1]PGA!$AL$1,MATCH(A147,[1]PGA!$E$1:$E$500,0)-1,0))
F148: =IFERROR(IF(A148="","",OFFSET(Results!$AJ$1,MATCH(A148,Results!$A:$A,0)-1,0)),"") | G148: =IF(OR(E148="",F148=""),"",IF(F148=1,(IF(COUNTIFS(F:F,"<="&F148)<=1,1,(1-COUNTIFS(F:F,"<"&F148))/COUNTIFS(F:F,F148)))*50*E148*(1+VALUE(MID(H148,FIND(": ",H148)+2,FIND("/",H148)-FIND(":",H148)-2))-1)+50*E148*(1+VALUE(MID(H148,FIND(": ",H148)+2,FIND("/",H148)-FIND(":",H148)-2))-1)/VALUE(RIGHT(H148,1)),IF(F148<=VALUE(MID(H148,FIND(", ",H148)+2,IF(MID(H148,FIND(", ",H148)+2,1)="1",2,1))),(IF(COUNTIFS(F:F,"<="&F148)<=VALUE(MID(H148,FIND(", ",H148)+2,IF(MID(H148,FIND(", ",H148)+2,1)="1",2,1))),1,(VALUE(MID(H148,FIND(", ",H148)+2,IF(MID(H148,FIND(", ",H148)+2,1)="1",2,1)))-COUNTIFS(F:F,"<"&F148))/COUNTIFS(F:F,F148)))*(50*E148*(1+VALUE(MID(H148,FIND(": ",H148)+2,FIND("/",H148)-FIND(":",H148)-2))-1)/VALUE(RIGHT(H148,1))+50*E148)-(100*E148),-E148*100))) | H148: =IF(E148="","",OFFSET([1]PGA!$AL$1,MATCH(A148,[1]PGA!$E$1:$E$500,0)-1,0))
... F169: =IFERROR(IF(A169="","",OFFSET(Results!$AJ$1,MATCH(A169,Results!$A:$A,0)-1,0)),"") | G169: =IF(OR(E169="",F169=""),"",IF(F169=1,(IF(COUNTIFS(F:F,"<="&F169)<=1,1,(1-COUNTIFS(F:F,"<"&F169))/COUNTIFS(F:F,F169)))*50*E169*(1+VALUE(MID(H169,FIND(": ",H169)+2,FIND("/",H169)-FIND(":",H169)-2))-1)+50*E169*(1+VALUE(MID(H169,FIND(": ",H169)+2,FIND("/",H169)-FIND(":",H169)-2))-1)/VALUE(RIGHT(H169,1)),IF(F169<=VALUE(MID(H169,FIND(", ",H169)+2,IF(MID(H169,FIND(", ",H169)+2,1)="1",2,1))),(IF(COUNTIFS(F:F,"<="&F169)<=VALUE(MID(H169,FIND(", ",H169)+2,IF(MID(H169,FIND(", ",H169)+2,1)="1",2,1))),1,(VALUE(MID(H169,FIND(", ",H169)+2,IF(MID(H169,FIND(", ",H169)+2,1)="1",2,1)))-COUNTIFS(F:F,"<"&F169))/COUNTIFS(F:F,F169)))*(50*E169*(1+VALUE(MID(H169,FIND(": ",H169)+2,FIND("/",H169)-FIND(":",H169)-2))-1)/VALUE(RIGHT(H169,1))+50*E169)-(100*E169),-E169*100))) | H169: =IF(E169="","",OFFSET([1]PGA!$AL$1,MATCH(A169,[1]PGA!$E$1:$E$500,0)-1,0))

Sheet Picks
A1: Player | B1: TTWin | C1: TTOdds | D1: BestOdds | E1: Kelly | F1: Rank | G1: Result | H1: P/L | I1: Full P/L | J1: E/W Play | L1: FRL: | M1: Player | N1: TTWin | O1: TTOdds | P1: BestOdds | Q1: Kelly | R1: Rank | S1: Result | T1: P/L | U1: Full P/L | V1: E/W Play
A2: =IF(Win!A2="","",Win!A2) -> A.J. Ewart | B2: =IF(Win!B2="","",VALUE(Win!B2)) -> 0.0024 | C2: =IF(Win!C2="","",Win!C2) -> 417 | D2: =IF(Win!D2="","",Win!D2) -> 201 | E2: =IF(D2="","",IF(ROUND((B2*(D2-1)-(1-B2))/(D2-1),3)<=0,"",ROUND((B2*(D2-1)-(1-B2))/(D2-1),3))) | F2: {=IF(E2="","",RANK(E2, $E$2:$E$241) + COUNTIFS($E$2:$E$241, E2, $D$2:$D$241, "<"&D2) + COUNTIFS($E$2:$E$241, E2, $D$2:$D$241, D2, $A$2:$A$241, "<"&A2))} | G2: =IF(Win!F2="","",Win!F2) -> 104 | H2: =IF(OR(F2="",G2="",F2>3),"",IF(G2=1,(IF(COUNTIFS(G:G,"<="&G2)<=1,1,(1-COUNTIFS(G:G,"<"&G2))/COUNTIFS(G:G,G2)))*(1+VALUE(MID(J2,FIND(": ",J2)+2,FIND("/",J2)-FIND(":",J2)-2))-1)+(1+VALUE(MID(J2,FIND(": ",J2)+2,FIND("/",J2)-FIND(":",J2)-2))-1)/VALUE(RIGHT(J2,1)),IF(G2<=VALUE(MID(J2,FIND(", ",J2)+2,IF(MID(J2,FIND(", ",J2)+2,1)="1",2,1))),(IF(COUNTIFS(G:G,"<="&G2)<=VALUE(MID(J2,FIND(", ",J2)+2,IF(MID(J2,FIND(", ",J2)+2,1)="1",2,1))),1,(VALUE(MID(J2,FIND(", ",J2)+2,IF(MID(J2,FIND(", ",J2)+2,1)="1",2,1)))-COUNTIFS(G:G,"<"&G2))/COUNTIFS(G:G,G2)))*(1*(1+VALUE(MID(J2,FIND(": ",J2)+2,FIND("/",J2)-FIND(":",J2)-2))-1)/VALUE(RIGHT(J2,1))+1)-2,-2))) | I2: =IF(OR(E2="",G2=""),"",IF(G2=1,(IF(COUNTIFS(G:G,"<="&G2)<=1,1,(1-COUNTIFS(G:G,"<"&G2))/COUNTIFS(G:G,G2)))*(1+VALUE(MID(J2,FIND(": ",J2)+2,FIND("/",J2)-FIND(":",J2)-2))-1)+(1+VALUE(MID(J2,FIND(": ",J2)+2,FIND("/",J2)-FIND(":",J2)-2))-1)/VALUE(RIGHT(J2,1)),IF(G2<=VALUE(MID(J2,FIND(", ",J2)+2,IF(MID(J2,FIND(", ",J2)+2,1)="1",2,1))),(IF(COUNTIFS(G:G,"<="&G2)<=VALUE(MID(J2,FIND(", ",J2)+2,IF(MID(J2,FIND(", ",J2)+2,1)="1",2,1))),1,(VALUE(MID(J2,FIND(", ",J2)+2,IF(MID(J2,FIND(", ",J2)+2,1)="1",2,1)))-COUNTIFS(G:G,"<"&G2))/COUNTIFS(G:G,G2)))*(1*(1+VALUE(MID(J2,FIND(": ",J2)+2,FIND("/",J2)-FIND(":",J2)-2))-1)/VALUE(RIGHT(J2,1))+1)-2,-2))) | J2: =IF(F2="","",Win!H2) | M2: =IF(FRL!A2="","",FRL!A2) -> A.J. Ewart | N2: =IF(FRL!B2="","",FRL!B2) -> 0.54% | O2: =IF(FRL!C2="","",FRL!C2) -> 185 | P2: =IF(FRL!D2="","",FRL!D2) -> 126 | Q2: =IF(P2="","",IF(ROUND((N2*(P2-1)-(1-N2))/(P2-1),3)<=0,"",ROUND((N2*(P2-1)-(1-N2))/(P2-1),3))) | R2: {=IF(Q2="","",RANK(Q2, $Q$2:$Q$241) + COUNTIFS($Q$2:$Q$241, Q2, $P$2:$P$241, "<"&P2) + COUNTIFS($Q$2:$Q$241, Q2, $P$2:$P$241, P2, $M$2:$M$241, "<"&M2))} | S2: =IF(FRL!F2="","",FRL!F2) -> 124 | T2: =IF(OR(R2="",S2="",R2>6),"",0.5*IF(S2=1,(IF(COUNTIFS(S:S,"<="&S2)<=1,1,(1-COUNTIFS(S:S,"<"&S2))/COUNTIFS(S:S,S2)))*(1+VALUE(MID(V2,FIND(": ",V2)+2,FIND("/",V2)-FIND(":",V2)-2))-1)+(1+VALUE(MID(V2,FIND(": ",V2)+2,FIND("/",V2)-FIND(":",V2)-2))-1)/VALUE(RIGHT(V2,1)),IF(S2<=VALUE(MID(V2,FIND(", ",V2)+2,IF(MID(V2,FIND(", ",V2)+2,1)="1",2,1))),(IF(COUNTIFS(S:S,"<="&S2)<=VALUE(MID(V2,FIND(", ",V2)+2,IF(MID(V2,FIND(", ",V2)+2,1)="1",2,1))),1,(VALUE(MID(V2,FIND(", ",V2)+2,IF(MID(V2,FIND(", ",V2)+2,1)="1",2,1)))-COUNTIFS(S:S,"<"&S2))/COUNTIFS(S:S,S2)))*(1*(1+VALUE(MID(V2,FIND(": ",V2)+2,FIND("/",V2)-FIND(":",V2)-2))-1)/VALUE(RIGHT(V2,1))+1)-2,-2))) | U2: =IF(OR(Q2="",S2=""),"",0.5*IF(S2=1,(IF(COUNTIFS(S:S,"<="&S2)<=1,1,(1-COUNTIFS(S:S,"<"&S2))/COUNTIFS(S:S,S2)))*(1+VALUE(MID(V2,FIND(": ",V2)+2,FIND("/",V2)-FIND(":",V2)-2))-1)+(1+VALUE(MID(V2,FIND(": ",V2)+2,FIND("/",V2)-FIND(":",V2)-2))-1)/VALUE(RIGHT(V2,1)),IF(S2<=VALUE(MID(V2,FIND(", ",V2)+2,IF(MID(V2,FIND(", ",V2)+2,1)="1",2,1))),(IF(COUNTIFS(S:S,"<="&S2)<=VALUE(MID(V2,FIND(", ",V2)+2,IF(MID(V2,FIND(", ",V2)+2,1)="1",2,1))),1,(VALUE(MID(V2,FIND(", ",V2)+2,IF(MID(V2,FIND(", ",V2)+2,1)="1",2,1)))-COUNTIFS(S:S,"<"&S2))/COUNTIFS(S:S,S2)))*(1*(1+VALUE(MID(V2,FIND(": ",V2)+2,FIND("/",V2)-FIND(":",V2)-2))-1)/VALUE(RIGHT(V2,1))+1)-2,-2))) | V2: =IF(R2="","",FRL!H2)
A3: =IF(Win!A3="","",Win!A3) -> Aaron Rai | B3: =IF(Win!B3="","",VALUE(Win!B3)) -> 0.0106 | C3: =IF(Win!C3="","",Win!C3) -> 94 | D3: =IF(Win!D3="","",Win!D3) -> 81 | E3: =IF(D3="","",IF(ROUND((B3*(D3-1)-(1-B3))/(D3-1),3)<=0,"",ROUND((B3*(D3-1)-(1-B3))/(D3-1),3))) | F3: {=IF(E3="","",RANK(E3, $E$2:$E$241) + COUNTIFS($E$2:$E$241, E3, $D$2:$D$241, "<"&D3) + COUNTIFS($E$2:$E$241, E3, $D$2:$D$241, D3, $A$2:$A$241, "<"&A3))} | G3: =IF(Win!F3="","",Win!F3) | H3: =IF(OR(F3="",G3="",F3>3),"",IF(G3=1,(IF(COUNTIFS(G:G,"<="&G3)<=1,1,(1-COUNTIFS(G:G,"<"&G3))/COUNTIFS(G:G,G3)))*(1+VALUE(MID(J3,FIND(": ",J3)+2,FIND("/",J3)-FIND(":",J3)-2))-1)+(1+VALUE(MID(J3,FIND(": ",J3)+2,FIND("/",J3)-FIND(":",J3)-2))-1)/VALUE(RIGHT(J3,1)),IF(G3<=VALUE(MID(J3,FIND(", ",J3)+2,IF(MID(J3,FIND(", ",J3)+2,1)="1",2,1))),(IF(COUNTIFS(G:G,"<="&G3)<=VALUE(MID(J3,FIND(", ",J3)+2,IF(MID(J3,FIND(", ",J3)+2,1)="1",2,1))),1,(VALUE(MID(J3,FIND(", ",J3)+2,IF(MID(J3,FIND(", ",J3)+2,1)="1",2,1)))-COUNTIFS(G:G,"<"&G3))/COUNTIFS(G:G,G3)))*(1*(1+VALUE(MID(J3,FIND(": ",J3)+2,FIND("/",J3)-FIND(":",J3)-2))-1)/VALUE(RIGHT(J3,1))+1)-2,-2))) | I3: =IF(OR(E3="",G3=""),"",IF(G3=1,(IF(COUNTIFS(G:G,"<="&G3)<=1,1,(1-COUNTIFS(G:G,"<"&G3))/COUNTIFS(G:G,G3)))*(1+VALUE(MID(J3,FIND(": ",J3)+2,FIND("/",J3)-FIND(":",J3)-2))-1)+(1+VALUE(MID(J3,FIND(": ",J3)+2,FIND("/",J3)-FIND(":",J3)-2))-1)/VALUE(RIGHT(J3,1)),IF(G3<=VALUE(MID(J3,FIND(", ",J3)+2,IF(MID(J3,FIND(", ",J3)+2,1)="1",2,1))),(IF(COUNTIFS(G:G,"<="&G3)<=VALUE(MID(J3,FIND(", ",J3)+2,IF(MID(J3,FIND(", ",J3)+2,1)="1",2,1))),1,(VALUE(MID(J3,FIND(", ",J3)+2,IF(MID(J3,FIND(", ",J3)+2,1)="1",2,1)))-COUNTIFS(G:G,"<"&G3))/COUNTIFS(G:G,G3)))*(1*(1+VALUE(MID(J3,FIND(": ",J3)+2,FIND("/",J3)-FIND(":",J3)-2))-1)/VALUE(RIGHT(J3,1))+1)-2,-2))) | J3: =IF(F3="","",Win!H3) | M3: =IF(FRL!A3="","",FRL!A3) -> Aaron Rai | N3: =IF(FRL!B3="","",FRL!B3) -> 0.98% | O3: =IF(FRL!C3="","",FRL!C3) -> 102 | P3: =IF(FRL!D3="","",FRL!D3) -> 101 | Q3: =IF(P3="","",IF(ROUND((N3*(P3-1)-(1-N3))/(P3-1),3)<=0,"",ROUND((N3*(P3-1)-(1-N3))/(P3-1),3))) | R3: {=IF(Q3="","",RANK(Q3, $Q$2:$Q$241) + COUNTIFS($Q$2:$Q$241, Q3, $P$2:$P$241, "<"&P3) + COUNTIFS($Q$2:$Q$241, Q3, $P$2:$P$241, P3, $M$2:$M$241, "<"&M3))} | S3: =IF(FRL!F3="","",FRL!F3) | T3: =IF(OR(R3="",S3="",R3>6),"",0.5*IF(S3=1,(IF(COUNTIFS(S:S,"<="&S3)<=1,1,(1-COUNTIFS(S:S,"<"&S3))/COUNTIFS(S:S,S3)))*(1+VALUE(MID(V3,FIND(": ",V3)+2,FIND("/",V3)-FIND(":",V3)-2))-1)+(1+VALUE(MID(V3,FIND(": ",V3)+2,FIND("/",V3)-FIND(":",V3)-2))-1)/VALUE(RIGHT(V3,1)),IF(S3<=VALUE(MID(V3,FIND(", ",V3)+2,IF(MID(V3,FIND(", ",V3)+2,1)="1",2,1))),(IF(COUNTIFS(S:S,"<="&S3)<=VALUE(MID(V3,FIND(", ",V3)+2,IF(MID(V3,FIND(", ",V3)+2,1)="1",2,1))),1,(VALUE(MID(V3,FIND(", ",V3)+2,IF(MID(V3,FIND(", ",V3)+2,1)="1",2,1)))-COUNTIFS(S:S,"<"&S3))/COUNTIFS(S:S,S3)))*(1*(1+VALUE(MID(V3,FIND(": ",V3)+2,FIND("/",V3)-FIND(":",V3)-2))-1)/VALUE(RIGHT(V3,1))+1)-2,-2))) | U3: =IF(OR(Q3="",S3=""),"",0.5*IF(S3=1,(IF(COUNTIFS(S:S,"<="&S3)<=1,1,(1-COUNTIFS(S:S,"<"&S3))/COUNTIFS(S:S,S3)))*(1+VALUE(MID(V3,FIND(": ",V3)+2,FIND("/",V3)-FIND(":",V3)-2))-1)+(1+VALUE(MID(V3,FIND(": ",V3)+2,FIND("/",V3)-FIND(":",V3)-2))-1)/VALUE(RIGHT(V3,1)),IF(S3<=VALUE(MID(V3,FIND(", ",V3)+2,IF(MID(V3,FIND(", ",V3)+2,1)="1",2,1))),(IF(COUNTIFS(S:S,"<="&S3)<=VALUE(MID(V3,FIND(", ",V3)+2,IF(MID(V3,FIND(", ",V3)+2,1)="1",2,1))),1,(VALUE(MID(V3,FIND(", ",V3)+2,IF(MID(V3,FIND(", ",V3)+2,1)="1",2,1)))-COUNTIFS(S:S,"<"&S3))/COUNTIFS(S:S,S3)))*(1*(1+VALUE(MID(V3,FIND(": ",V3)+2,FIND("/",V3)-FIND(":",V3)-2))-1)/VALUE(RIGHT(V3,1))+1)-2,-2))) | V3: =IF(R3="","",FRL!H3)
A4: =IF(Win!A4="","",Win!A4) -> Aaron Wise | B4: =IF(Win!B4="","",VALUE(Win!B4)) -> 0.0002 | C4: =IF(Win!C4="","",Win!C4) -> 5000 | D4: =IF(Win!D4="","",Win!D4) -> 1001 | E4: =IF(D4="","",IF(ROUND((B4*(D4-1)-(1-B4))/(D4-1),3)<=0,"",ROUND((B4*(D4-1)-(1-B4))/(D4-1),3))) | F4: {=IF(E4="","",RANK(E4, $E$2:$E$241) + COUNTIFS($E$2:$E$241, E4, $D$2:$D$241, "<"&D4) + COUNTIFS($E$2:$E$241, E4, $D$2:$D$241, D4, $A$2:$A$241, "<"&A4))} | G4: =IF(Win!F4="","",Win!F4) -> 98 | H4: =IF(OR(F4="",G4="",F4>3),"",IF(G4=1,(IF(COUNTIFS(G:G,"<="&G4)<=1,1,(1-COUNTIFS(G:G,"<"&G4))/COUNTIFS(G:G,G4)))*(1+VALUE(MID(J4,FIND(": ",J4)+2,FIND("/",J4)-FIND(":",J4)-2))-1)+(1+VALUE(MID(J4,FIND(": ",J4)+2,FIND("/",J4)-FIND(":",J4)-2))-1)/VALUE(RIGHT(J4,1)),IF(G4<=VALUE(MID(J4,FIND(", ",J4)+2,IF(MID(J4,FIND(", ",J4)+2,1)="1",2,1))),(IF(COUNTIFS(G:G,"<="&G4)<=VALUE(MID(J4,FIND(", ",J4)+2,IF(MID(J4,FIND(", ",J4)+2,1)="1",2,1))),1,(VALUE(MID(J4,FIND(", ",J4)+2,IF(MID(J4,FIND(", ",J4)+2,1)="1",2,1)))-COUNTIFS(G:G,"<"&G4))/COUNTIFS(G:G,G4)))*(1*(1+VALUE(MID(J4,FIND(": ",J4)+2,FIND("/",J4)-FIND(":",J4)-2))-1)/VALUE(RIGHT(J4,1))+1)-2,-2))) | I4: =IF(OR(E4="",G4=""),"",IF(G4=1,(IF(COUNTIFS(G:G,"<="&G4)<=1,1,(1-COUNTIFS(G:G,"<"&G4))/COUNTIFS(G:G,G4)))*(1+VALUE(MID(J4,FIND(": ",J4)+2,FIND("/",J4)-FIND(":",J4)-2))-1)+(1+VALUE(MID(J4,FIND(": ",J4)+2,FIND("/",J4)-FIND(":",J4)-2))-1)/VALUE(RIGHT(J4,1)),IF(G4<=VALUE(MID(J4,FIND(", ",J4)+2,IF(MID(J4,FIND(", ",J4)+2,1)="1",2,1))),(IF(COUNTIFS(G:G,"<="&G4)<=VALUE(MID(J4,FIND(", ",J4)+2,IF(MID(J4,FIND(", ",J4)+2,1)="1",2,1))),1,(VALUE(MID(J4,FIND(", ",J4)+2,IF(MID(J4,FIND(", ",J4)+2,1)="1",2,1)))-COUNTIFS(G:G,"<"&G4))/COUNTIFS(G:G,G4)))*(1*(1+VALUE(MID(J4,FIND(": ",J4)+2,FIND("/",J4)-FIND(":",J4)-2))-1)/VALUE(RIGHT(J4,1))+1)-2,-2))) | J4: =IF(F4="","",Win!H4) | M4: =IF(FRL!A4="","",FRL!A4) -> Aaron Wise | N4: =IF(FRL!B4="","",FRL!B4) -> 0.15% | O4: =IF(FRL!C4="","",FRL!C4) -> 667 | P4: =IF(FRL!D4="","",FRL!D4) -> 251 | Q4: =IF(P4="","",IF(ROUND((N4*(P4-1)-(1-N4))/(P4-1),3)<=0,"",ROUND((N4*(P4-1)-(1-N4))/(P4-1),3))) | R4: {=IF(Q4="","",RANK(Q4, $Q$2:$Q$241) + COUNTIFS($Q$2:$Q$241, Q4, $P$2:$P$241, "<"&P4) + COUNTIFS($Q$2:$Q$241, Q4, $P$2:$P$241, P4, $M$2:$M$241, "<"&M4))} | S4: =IF(FRL!F4="","",FRL!F4) -> 31 | T4: =IF(OR(R4="",S4="",R4>6),"",0.5*IF(S4=1,(IF(COUNTIFS(S:S,"<="&S4)<=1,1,(1-COUNTIFS(S:S,"<"&S4))/COUNTIFS(S:S,S4)))*(1+VALUE(MID(V4,FIND(": ",V4)+2,FIND("/",V4)-FIND(":",V4)-2))-1)+(1+VALUE(MID(V4,FIND(": ",V4)+2,FIND("/",V4)-FIND(":",V4)-2))-1)/VALUE(RIGHT(V4,1)),IF(S4<=VALUE(MID(V4,FIND(", ",V4)+2,IF(MID(V4,FIND(", ",V4)+2,1)="1",2,1))),(IF(COUNTIFS(S:S,"<="&S4)<=VALUE(MID(V4,FIND(", ",V4)+2,IF(MID(V4,FIND(", ",V4)+2,1)="1",2,1))),1,(VALUE(MID(V4,FIND(", ",V4)+2,IF(MID(V4,FIND(", ",V4)+2,1)="1",2,1)))-COUNTIFS(S:S,"<"&S4))/COUNTIFS(S:S,S4)))*(1*(1+VALUE(MID(V4,FIND(": ",V4)+2,FIND("/",V4)-FIND(":",V4)-2))-1)/VALUE(RIGHT(V4,1))+1)-2,-2))) | U4: =IF(OR(Q4="",S4=""),"",0.5*IF(S4=1,(IF(COUNTIFS(S:S,"<="&S4)<=1,1,(1-COUNTIFS(S:S,"<"&S4))/COUNTIFS(S:S,S4)))*(1+VALUE(MID(V4,FIND(": ",V4)+2,FIND("/",V4)-FIND(":",V4)-2))-1)+(1+VALUE(MID(V4,FIND(": ",V4)+2,FIND("/",V4)-FIND(":",V4)-2))-1)/VALUE(RIGHT(V4,1)),IF(S4<=VALUE(MID(V4,FIND(", ",V4)+2,IF(MID(V4,FIND(", ",V4)+2,1)="1",2,1))),(IF(COUNTIFS(S:S,"<="&S4)<=VALUE(MID(V4,FIND(", ",V4)+2,IF(MID(V4,FIND(", ",V4)+2,1)="1",2,1))),1,(VALUE(MID(V4,FIND(", ",V4)+2,IF(MID(V4,FIND(", ",V4)+2,1)="1",2,1)))-COUNTIFS(S:S,"<"&S4))/COUNTIFS(S:S,S4)))*(1*(1+VALUE(MID(V4,FIND(": ",V4)+2,FIND("/",V4)-FIND(":",V4)-2))-1)/VALUE(RIGHT(V4,1))+1)-2,-2))) | V4: =IF(R4="","",FRL!H4)
A5: =IF(Win!A5="","",Win!A5) -> Adam Schenk | B5: =IF(Win!B5="","",VALUE(Win!B5)) -> 0.0007 | C5: =IF(Win!C5="","",Win!C5) -> 1429 | D5: =IF(Win!D5="","",Win!D5) -> 1001 | E5: =IF(D5="","",IF(ROUND((B5*(D5-1)-(1-B5))/(D5-1),3)<=0,"",ROUND((B5*(D5-1)-(1-B5))/(D5-1),3))) | F5: {=IF(E5="","",RANK(E5, $E$2:$E$241) + COUNTIFS($E$2:$E$241, E5, $D$2:$D$241, "<"&D5) + COUNTIFS($E$2:$E$241, E5, $D$2:$D$241, D5, $A$2:$A$241, "<"&A5))} | G5: =IF(Win!F5="","",Win!F5) -> 112 | H5: =IF(OR(F5="",G5="",F5>3),"",IF(G5=1,(IF(COUNTIFS(G:G,"<="&G5)<=1,1,(1-COUNTIFS(G:G,"<"&G5))/COUNTIFS(G:G,G5)))*(1+VALUE(MID(J5,FIND(": ",J5)+2,FIND("/",J5)-FIND(":",J5)-2))-1)+(1+VALUE(MID(J5,FIND(": ",J5)+2,FIND("/",J5)-FIND(":",J5)-2))-1)/VALUE(RIGHT(J5,1)),IF(G5<=VALUE(MID(J5,FIND(", ",J5)+2,IF(MID(J5,FIND(", ",J5)+2,1)="1",2,1))),(IF(COUNTIFS(G:G,"<="&G5)<=VALUE(MID(J5,FIND(", ",J5)+2,IF(MID(J5,FIND(", ",J5)+2,1)="1",2,1))),1,(VALUE(MID(J5,FIND(", ",J5)+2,IF(MID(J5,FIND(", ",J5)+2,1)="1",2,1)))-COUNTIFS(G:G,"<"&G5))/COUNTIFS(G:G,G5)))*(1*(1+VALUE(MID(J5,FIND(": ",J5)+2,FIND("/",J5)-FIND(":",J5)-2))-1)/VALUE(RIGHT(J5,1))+1)-2,-2))) | I5: =IF(OR(E5="",G5=""),"",IF(G5=1,(IF(COUNTIFS(G:G,"<="&G5)<=1,1,(1-COUNTIFS(G:G,"<"&G5))/COUNTIFS(G:G,G5)))*(1+VALUE(MID(J5,FIND(": ",J5)+2,FIND("/",J5)-FIND(":",J5)-2))-1)+(1+VALUE(MID(J5,FIND(": ",J5)+2,FIND("/",J5)-FIND(":",J5)-2))-1)/VALUE(RIGHT(J5,1)),IF(G5<=VALUE(MID(J5,FIND(", ",J5)+2,IF(MID(J5,FIND(", ",J5)+2,1)="1",2,1))),(IF(COUNTIFS(G:G,"<="&G5)<=VALUE(MID(J5,FIND(", ",J5)+2,IF(MID(J5,FIND(", ",J5)+2,1)="1",2,1))),1,(VALUE(MID(J5,FIND(", ",J5)+2,IF(MID(J5,FIND(", ",J5)+2,1)="1",2,1)))-COUNTIFS(G:G,"<"&G5))/COUNTIFS(G:G,G5)))*(1*(1+VALUE(MID(J5,FIND(": ",J5)+2,FIND("/",J5)-FIND(":",J5)-2))-1)/VALUE(RIGHT(J5,1))+1)-2,-2))) | J5: =IF(F5="","",Win!H5) | M5: =IF(FRL!A5="","",FRL!A5) -> Adam Schenk | N5: =IF(FRL!B5="","",FRL!B5) -> 0.31% | O5: =IF(FRL!C5="","",FRL!C5) -> 323 | P5: =IF(FRL!D5="","",FRL!D5) -> 251 | Q5: =IF(P5="","",IF(ROUND((N5*(P5-1)-(1-N5))/(P5-1),3)<=0,"",ROUND((N5*(P5-1)-(1-N5))/(P5-1),3))) | R5: {=IF(Q5="","",RANK(Q5, $Q$2:$Q$241) + COUNTIFS($Q$2:$Q$241, Q5, $P$2:$P$241, "<"&P5) + COUNTIFS($Q$2:$Q$241, Q5, $P$2:$P$241, P5, $M$2:$M$241, "<"&M5))} | S5: =IF(FRL!F5="","",FRL!F5) -> 31 | T5: =IF(OR(R5="",S5="",R5>6),"",0.5*IF(S5=1,(IF(COUNTIFS(S:S,"<="&S5)<=1,1,(1-COUNTIFS(S:S,"<"&S5))/COUNTIFS(S:S,S5)))*(1+VALUE(MID(V5,FIND(": ",V5)+2,FIND("/",V5)-FIND(":",V5)-2))-1)+(1+VALUE(MID(V5,FIND(": ",V5)+2,FIND("/",V5)-FIND(":",V5)-2))-1)/VALUE(RIGHT(V5,1)),IF(S5<=VALUE(MID(V5,FIND(", ",V5)+2,IF(MID(V5,FIND(", ",V5)+2,1)="1",2,1))),(IF(COUNTIFS(S:S,"<="&S5)<=VALUE(MID(V5,FIND(", ",V5)+2,IF(MID(V5,FIND(", ",V5)+2,1)="1",2,1))),1,(VALUE(MID(V5,FIND(", ",V5)+2,IF(MID(V5,FIND(", ",V5)+2,1)="1",2,1)))-COUNTIFS(S:S,"<"&S5))/COUNTIFS(S:S,S5)))*(1*(1+VALUE(MID(V5,FIND(": ",V5)+2,FIND("/",V5)-FIND(":",V5)-2))-1)/VALUE(RIGHT(V5,1))+1)-2,-2))) | U5: =IF(OR(Q5="",S5=""),"",0.5*IF(S5=1,(IF(COUNTIFS(S:S,"<="&S5)<=1,1,(1-COUNTIFS(S:S,"<"&S5))/COUNTIFS(S:S,S5)))*(1+VALUE(MID(V5,FIND(": ",V5)+2,FIND("/",V5)-FIND(":",V5)-2))-1)+(1+VALUE(MID(V5,FIND(": ",V5)+2,FIND("/",V5)-FIND(":",V5)-2))-1)/VALUE(RIGHT(V5,1)),IF(S5<=VALUE(MID(V5,FIND(", ",V5)+2,IF(MID(V5,FIND(", ",V5)+2,1)="1",2,1))),(IF(COUNTIFS(S:S,"<="&S5)<=VALUE(MID(V5,FIND(", ",V5)+2,IF(MID(V5,FIND(", ",V5)+2,1)="1",2,1))),1,(VALUE(MID(V5,FIND(", ",V5)+2,IF(MID(V5,FIND(", ",V5)+2,1)="1",2,1)))-COUNTIFS(S:S,"<"&S5))/COUNTIFS(S:S,S5)))*(1*(1+VALUE(MID(V5,FIND(": ",V5)+2,FIND("/",V5)-FIND(":",V5)-2))-1)/VALUE(RIGHT(V5,1))+1)-2,-2))) | V5: =IF(R5="","",FRL!H5)
A6: =IF(Win!A6="","",Win!A6) -> Adam Scott | B6: =IF(Win!B6="","",VALUE(Win!B6)) -> 0.022 | C6: =IF(Win!C6="","",Win!C6) -> 45 | D6: =IF(Win!D6="","",Win!D6) -> 36 | E6: =IF(D6="","",IF(ROUND((B6*(D6-1)-(1-B6))/(D6-1),3)<=0,"",ROUND((B6*(D6-1)-(1-B6))/(D6-1),3))) | F6: {=IF(E6="","",RANK(E6, $E$2:$E$241) + COUNTIFS($E$2:$E$241, E6, $D$2:$D$241, "<"&D6) + COUNTIFS($E$2:$E$241, E6, $D$2:$D$241, D6, $A$2:$A$241, "<"&A6))} | G6: =IF(Win!F6="","",Win!F6) -> 21 | H6: =IF(OR(F6="",G6="",F6>3),"",IF(G6=1,(IF(COUNTIFS(G:G,"<="&G6)<=1,1,(1-COUNTIFS(G:G,"<"&G6))/COUNTIFS(G:G,G6)))*(1+VALUE(MID(J6,FIND(": ",J6)+2,FIND("/",J6)-FIND(":",J6)-2))-1)+(1+VALUE(MID(J6,FIND(": ",J6)+2,FIND("/",J6)-FIND(":",J6)-2))-1)/VALUE(RIGHT(J6,1)),IF(G6<=VALUE(MID(J6,FIND(", ",J6)+2,IF(MID(J6,FIND(", ",J6)+2,1)="1",2,1))),(IF(COUNTIFS(G:G,"<="&G6)<=VALUE(MID(J6,FIND(", ",J6)+2,IF(MID(J6,FIND(", ",J6)+2,1)="1",2,1))),1,(VALUE(MID(J6,FIND(", ",J6)+2,IF(MID(J6,FIND(", ",J6)+2,1)="1",2,1)))-COUNTIFS(G:G,"<"&G6))/COUNTIFS(G:G,G6)))*(1*(1+VALUE(MID(J6,FIND(": ",J6)+2,FIND("/",J6)-FIND(":",J6)-2))-1)/VALUE(RIGHT(J6,1))+1)-2,-2))) | I6: =IF(OR(E6="",G6=""),"",IF(G6=1,(IF(COUNTIFS(G:G,"<="&G6)<=1,1,(1-COUNTIFS(G:G,"<"&G6))/COUNTIFS(G:G,G6)))*(1+VALUE(MID(J6,FIND(": ",J6)+2,FIND("/",J6)-FIND(":",J6)-2))-1)+(1+VALUE(MID(J6,FIND(": ",J6)+2,FIND("/",J6)-FIND(":",J6)-2))-1)/VALUE(RIGHT(J6,1)),IF(G6<=VALUE(MID(J6,FIND(", ",J6)+2,IF(MID(J6,FIND(", ",J6)+2,1)="1",2,1))),(IF(COUNTIFS(G:G,"<="&G6)<=VALUE(MID(J6,FIND(", ",J6)+2,IF(MID(J6,FIND(", ",J6)+2,1)="1",2,1))),1,(VALUE(MID(J6,FIND(", ",J6)+2,IF(MID(J6,FIND(", ",J6)+2,1)="1",2,1)))-COUNTIFS(G:G,"<"&G6))/COUNTIFS(G:G,G6)))*(1*(1+VALUE(MID(J6,FIND(": ",J6)+2,FIND("/",J6)-FIND(":",J6)-2))-1)/VALUE(RIGHT(J6,1))+1)-2,-2))) | J6: =IF(F6="","",Win!H6) | M6: =IF(FRL!A6="","",FRL!A6) -> Adam Scott | N6: =IF(FRL!B6="","",FRL!B6) -> 1.51% | O6: =IF(FRL!C6="","",FRL!C6) -> 66 | P6: =IF(FRL!D6="","",FRL!D6) -> 56 | Q6: =IF(P6="","",IF(ROUND((N6*(P6-1)-(1-N6))/(P6-1),3)<=0,"",ROUND((N6*(P6-1)-(1-N6))/(P6-1),3))) | R6: {=IF(Q6="","",RANK(Q6, $Q$2:$Q$241) + COUNTIFS($Q$2:$Q$241, Q6, $P$2:$P$241, "<"&P6) + COUNTIFS($Q$2:$Q$241, Q6, $P$2:$P$241, P6, $M$2:$M$241, "<"&M6))} | S6: =IF(FRL!F6="","",FRL!F6) -> 11 | T6: =IF(OR(R6="",S6="",R6>6),"",0.5*IF(S6=1,(IF(COUNTIFS(S:S,"<="&S6)<=1,1,(1-COUNTIFS(S:S,"<"&S6))/COUNTIFS(S:S,S6)))*(1+VALUE(MID(V6,FIND(": ",V6)+2,FIND("/",V6)-FIND(":",V6)-2))-1)+(1+VALUE(MID(V6,FIND(": ",V6)+2,FIND("/",V6)-FIND(":",V6)-2))-1)/VALUE(RIGHT(V6,1)),IF(S6<=VALUE(MID(V6,FIND(", ",V6)+2,IF(MID(V6,FIND(", ",V6)+2,1)="1",2,1))),(IF(COUNTIFS(S:S,"<="&S6)<=VALUE(MID(V6,FIND(", ",V6)+2,IF(MID(V6,FIND(", ",V6)+2,1)="1",2,1))),1,(VALUE(MID(V6,FIND(", ",V6)+2,IF(MID(V6,FIND(", ",V6)+2,1)="1",2,1)))-COUNTIFS(S:S,"<"&S6))/COUNTIFS(S:S,S6)))*(1*(1+VALUE(MID(V6,FIND(": ",V6)+2,FIND("/",V6)-FIND(":",V6)-2))-1)/VALUE(RIGHT(V6,1))+1)-2,-2))) | U6: =IF(OR(Q6="",S6=""),"",0.5*IF(S6=1,(IF(COUNTIFS(S:S,"<="&S6)<=1,1,(1-COUNTIFS(S:S,"<"&S6))/COUNTIFS(S:S,S6)))*(1+VALUE(MID(V6,FIND(": ",V6)+2,FIND("/",V6)-FIND(":",V6)-2))-1)+(1+VALUE(MID(V6,FIND(": ",V6)+2,FIND("/",V6)-FIND(":",V6)-2))-1)/VALUE(RIGHT(V6,1)),IF(S6<=VALUE(MID(V6,FIND(", ",V6)+2,IF(MID(V6,FIND(", ",V6)+2,1)="1",2,1))),(IF(COUNTIFS(S:S,"<="&S6)<=VALUE(MID(V6,FIND(", ",V6)+2,IF(MID(V6,FIND(", ",V6)+2,1)="1",2,1))),1,(VALUE(MID(V6,FIND(", ",V6)+2,IF(MID(V6,FIND(", ",V6)+2,1)="1",2,1)))-COUNTIFS(S:S,"<"&S6))/COUNTIFS(S:S,S6)))*(1*(1+VALUE(MID(V6,FIND(": ",V6)+2,FIND("/",V6)-FIND(":",V6)-2))-1)/VALUE(RIGHT(V6,1))+1)-2,-2))) | V6: =IF(R6="","",FRL!H6)
A7: =IF(Win!A7="","",Win!A7) -> Adam Svensson | B7: =IF(Win!B7="","",VALUE(Win!B7)) -> 0.0012 | C7: =IF(Win!C7="","",Win!C7) -> 833 | D7: =IF(Win!D7="","",Win!D7) -> 401 | E7: =IF(D7="","",IF(ROUND((B7*(D7-1)-(1-B7))/(D7-1),3)<=0,"",ROUND((B7*(D7-1)-(1-B7))/(D7-1),3))) | F7: {=IF(E7="","",RANK(E7, $E$2:$E$241) + COUNTIFS($E$2:$E$241, E7, $D$2:$D$241, "<"&D7) + COUNTIFS($E$2:$E$241, E7, $D$2:$D$241, D7, $A$2:$A$241, "<"&A7))} | G7: =IF(Win!F7="","",Win!F7) -> 76 | H7: =IF(OR(F7="",G7="",F7>3),"",IF(G7=1,(IF(COUNTIFS(G:G,"<="&G7)<=1,1,(1-COUNTIFS(G:G,"<"&G7))/COUNTIFS(G:G,G7)))*(1+VALUE(MID(J7,FIND(": ",J7)+2,FIND("/",J7)-FIND(":",J7)-2))-1)+(1+VALUE(MID(J7,FIND(": ",J7)+2,FIND("/",J7)-FIND(":",J7)-2))-1)/VALUE(RIGHT(J7,1)),IF(G7<=VALUE(MID(J7,FIND(", ",J7)+2,IF(MID(J7,FIND(", ",J7)+2,1)="1",2,1))),(IF(COUNTIFS(G:G,"<="&G7)<=VALUE(MID(J7,FIND(", ",J7)+2,IF(MID(J7,FIND(", ",J7)+2,1)="1",2,1))),1,(VALUE(MID(J7,FIND(", ",J7)+2,IF(MID(J7,FIND(", ",J7)+2,1)="1",2,1)))-COUNTIFS(G:G,"<"&G7))/COUNTIFS(G:G,G7)))*(1*(1+VALUE(MID(J7,FIND(": ",J7)+2,FIND("/",J7)-FIND(":",J7)-2))-1)/VALUE(RIGHT(J7,1))+1)-2,-2))) | I7: =IF(OR(E7="",G7=""),"",IF(G7=1,(IF(COUNTIFS(G:G,"<="&G7)<=1,1,(1-COUNTIFS(G:G,"<"&G7))/COUNTIFS(G:G,G7)))*(1+VALUE(MID(J7,FIND(": ",J7)+2,FIND("/",J7)-FIND(":",J7)-2))-1)+(1+VALUE(MID(J7,FIND(": ",J7)+2,FIND("/",J7)-FIND(":",J7)-2))-1)/VALUE(RIGHT(J7,1)),IF(G7<=VALUE(MID(J7,FIND(", ",J7)+2,IF(MID(J7,FIND(", ",J7)+2,1)="1",2,1))),(IF(COUNTIFS(G:G,"<="&G7)<=VALUE(MID(J7,FIND(", ",J7)+2,IF(MID(J7,FIND(", ",J7)+2,1)="1",2,1))),1,(VALUE(MID(J7,FIND(", ",J7)+2,IF(MID(J7,FIND(", ",J7)+2,1)="1",2,1)))-COUNTIFS(G:G,"<"&G7))/COUNTIFS(G:G,G7)))*(1*(1+VALUE(MID(J7,FIND(": ",J7)+2,FIND("/",J7)-FIND(":",J7)-2))-1)/VALUE(RIGHT(J7,1))+1)-2,-2))) | J7: =IF(F7="","",Win!H7) | M7: =IF(FRL!A7="","",FRL!A7) -> Adam Svensson | N7: =IF(FRL!B7="","",FRL!B7) -> 0.40% | O7: =IF(FRL!C7="","",FRL!C7) -> 250 | P7: =IF(FRL!D7="","",FRL!D7) -> 201 | Q7: =IF(P7="","",IF(ROUND((N7*(P7-1)-(1-N7))/(P7-1),3)<=0,"",ROUND((N7*(P7-1)-(1-N7))/(P7-1),3))) | R7: {=IF(Q7="","",RANK(Q7, $Q$2:$Q$241) + COUNTIFS($Q$2:$Q$241, Q7, $P$2:$P$241, "<"&P7) + COUNTIFS($Q$2:$Q$241, Q7, $P$2:$P$241, P7, $M$2:$M$241, "<"&M7))} | S7: =IF(FRL!F7="","",FRL!F7) -> 93 | T7: =IF(OR(R7="",S7="",R7>6),"",0.5*IF(S7=1,(IF(COUNTIFS(S:S,"<="&S7)<=1,1,(1-COUNTIFS(S:S,"<"&S7))/COUNTIFS(S:S,S7)))*(1+VALUE(MID(V7,FIND(": ",V7)+2,FIND("/",V7)-FIND(":",V7)-2))-1)+(1+VALUE(MID(V7,FIND(": ",V7)+2,FIND("/",V7)-FIND(":",V7)-2))-1)/VALUE(RIGHT(V7,1)),IF(S7<=VALUE(MID(V7,FIND(", ",V7)+2,IF(MID(V7,FIND(", ",V7)+2,1)="1",2,1))),(IF(COUNTIFS(S:S,"<="&S7)<=VALUE(MID(V7,FIND(", ",V7)+2,IF(MID(V7,FIND(", ",V7)+2,1)="1",2,1))),1,(VALUE(MID(V7,FIND(", ",V7)+2,IF(MID(V7,FIND(", ",V7)+2,1)="1",2,1)))-COUNTIFS(S:S,"<"&S7))/COUNTIFS(S:S,S7)))*(1*(1+VALUE(MID(V7,FIND(": ",V7)+2,FIND("/",V7)-FIND(":",V7)-2))-1)/VALUE(RIGHT(V7,1))+1)-2,-2))) | U7: =IF(OR(Q7="",S7=""),"",0.5*IF(S7=1,(IF(COUNTIFS(S:S,"<="&S7)<=1,1,(1-COUNTIFS(S:S,"<"&S7))/COUNTIFS(S:S,S7)))*(1+VALUE(MID(V7,FIND(": ",V7)+2,FIND("/",V7)-FIND(":",V7)-2))-1)+(1+VALUE(MID(V7,FIND(": ",V7)+2,FIND("/",V7)-FIND(":",V7)-2))-1)/VALUE(RIGHT(V7,1)),IF(S7<=VALUE(MID(V7,FIND(", ",V7)+2,IF(MID(V7,FIND(", ",V7)+2,1)="1",2,1))),(IF(COUNTIFS(S:S,"<="&S7)<=VALUE(MID(V7,FIND(", ",V7)+2,IF(MID(V7,FIND(", ",V7)+2,1)="1",2,1))),1,(VALUE(MID(V7,FIND(", ",V7)+2,IF(MID(V7,FIND(", ",V7)+2,1)="1",2,1)))-COUNTIFS(S:S,"<"&S7))/COUNTIFS(S:S,S7)))*(1*(1+VALUE(MID(V7,FIND(": ",V7)+2,FIND("/",V7)-FIND(":",V7)-2))-1)/VALUE(RIGHT(V7,1))+1)-2,-2))) | V7: =IF(R7="","",FRL!H7)
A8: =IF(Win!A8="","",Win!A8) -> Adrien Dumont de Chassart | B8: =IF(Win!B8="","",VALUE(Win!B8)) -> 0.0045 | C8: =IF(Win!C8="","",Win!C8) -> 222 | D8: =IF(Win!D8="","",Win!D8) -> 126 | E8: =IF(D8="","",IF(ROUND((B8*(D8-1)-(1-B8))/(D8-1),3)<=0,"",ROUND((B8*(D8-1)-(1-B8))/(D8-1),3))) | F8: {=IF(E8="","",RANK(E8, $E$2:$E$241) + COUNTIFS($E$2:$E$241, E8, $D$2:$D$241, "<"&D8) + COUNTIFS($E$2:$E$241, E8, $D$2:$D$241, D8, $A$2:$A$241, "<"&A8))} | G8: =IF(Win!F8="","",Win!F8) -> 12 | H8: =IF(OR(F8="",G8="",F8>3),"",IF(G8=1,(IF(COUNTIFS(G:G,"<="&G8)<=1,1,(1-COUNTIFS(G:G,"<"&G8))/COUNTIFS(G:G,G8)))*(1+VALUE(MID(J8,FIND(": ",J8)+2,FIND("/",J8)-FIND(":",J8)-2))-1)+(1+VALUE(MID(J8,FIND(": ",J8)+2,FIND("/",J8)-FIND(":",J8)-2))-1)/VALUE(RIGHT(J8,1)),IF(G8<=VALUE(MID(J8,FIND(", ",J8)+2,IF(MID(J8,FIND(", ",J8)+2,1)="1",2,1))),(IF(COUNTIFS(G:G,"<="&G8)<=VALUE(MID(J8,FIND(", ",J8)+2,IF(MID(J8,FIND(", ",J8)+2,1)="1",2,1))),1,(VALUE(MID(J8,FIND(", ",J8)+2,IF(MID(J8,FIND(", ",J8)+2,1)="1",2,1)))-COUNTIFS(G:G,"<"&G8))/COUNTIFS(G:G,G8)))*(1*(1+VALUE(MID(J8,FIND(": ",J8)+2,FIND("/",J8)-FIND(":",J8)-2))-1)/VALUE(RIGHT(J8,1))+1)-2,-2))) | I8: =IF(OR(E8="",G8=""),"",IF(G8=1,(IF(COUNTIFS(G:G,"<="&G8)<=1,1,(1-COUNTIFS(G:G,"<"&G8))/COUNTIFS(G:G,G8)))*(1+VALUE(MID(J8,FIND(": ",J8)+2,FIND("/",J8)-FIND(":",J8)-2))-1)+(1+VALUE(MID(J8,FIND(": ",J8)+2,FIND("/",J8)-FIND(":",J8)-2))-1)/VALUE(RIGHT(J8,1)),IF(G8<=VALUE(MID(J8,FIND(", ",J8)+2,IF(MID(J8,FIND(", ",J8)+2,1)="1",2,1))),(IF(COUNTIFS(G:G,"<="&G8)<=VALUE(MID(J8,FIND(", ",J8)+2,IF(MID(J8,FIND(", ",J8)+2,1)="1",2,1))),1,(VALUE(MID(J8,FIND(", ",J8)+2,IF(MID(J8,FIND(", ",J8)+2,1)="1",2,1)))-COUNTIFS(G:G,"<"&G8))/COUNTIFS(G:G,G8)))*(1*(1+VALUE(MID(J8,FIND(": ",J8)+2,FIND("/",J8)-FIND(":",J8)-2))-1)/VALUE(RIGHT(J8,1))+1)-2,-2))) | J8: =IF(F8="","",Win!H8) | M8: =IF(FRL!A8="","",FRL!A8) -> Adrien Dumont de Chassart | N8: =IF(FRL!B8="","",FRL!B8) -> 0.69% | O8: =IF(FRL!C8="","",FRL!C8) -> 145 | P8: =IF(FRL!D8="","",FRL!D8) -> 101 | Q8: =IF(P8="","",IF(ROUND((N8*(P8-1)-(1-N8))/(P8-1),3)<=0,"",ROUND((N8*(P8-1)-(1-N8))/(P8-1),3))) | R8: {=IF(Q8="","",RANK(Q8, $Q$2:$Q$241) + COUNTIFS($Q$2:$Q$241, Q8, $P$2:$P$241, "<"&P8) + COUNTIFS($Q$2:$Q$241, Q8, $P$2:$P$241, P8, $M$2:$M$241, "<"&M8))} | S8: =IF(FRL!F8="","",FRL!F8) -> 11 | T8: =IF(OR(R8="",S8="",R8>6),"",0.5*IF(S8=1,(IF(COUNTIFS(S:S,"<="&S8)<=1,1,(1-COUNTIFS(S:S,"<"&S8))/COUNTIFS(S:S,S8)))*(1+VALUE(MID(V8,FIND(": ",V8)+2,FIND("/",V8)-FIND(":",V8)-2))-1)+(1+VALUE(MID(V8,FIND(": ",V8)+2,FIND("/",V8)-FIND(":",V8)-2))-1)/VALUE(RIGHT(V8,1)),IF(S8<=VALUE(MID(V8,FIND(", ",V8)+2,IF(MID(V8,FIND(", ",V8)+2,1)="1",2,1))),(IF(COUNTIFS(S:S,"<="&S8)<=VALUE(MID(V8,FIND(", ",V8)+2,IF(MID(V8,FIND(", ",V8)+2,1)="1",2,1))),1,(VALUE(MID(V8,FIND(", ",V8)+2,IF(MID(V8,FIND(", ",V8)+2,1)="1",2,1)))-COUNTIFS(S:S,"<"&S8))/COUNTIFS(S:S,S8)))*(1*(1+VALUE(MID(V8,FIND(": ",V8)+2,FIND("/",V8)-FIND(":",V8)-2))-1)/VALUE(RIGHT(V8,1))+1)-2,-2))) | U8: =IF(OR(Q8="",S8=""),"",0.5*IF(S8=1,(IF(COUNTIFS(S:S,"<="&S8)<=1,1,(1-COUNTIFS(S:S,"<"&S8))/COUNTIFS(S:S,S8)))*(1+VALUE(MID(V8,FIND(": ",V8)+2,FIND("/",V8)-FIND(":",V8)-2))-1)+(1+VALUE(MID(V8,FIND(": ",V8)+2,FIND("/",V8)-FIND(":",V8)-2))-1)/VALUE(RIGHT(V8,1)),IF(S8<=VALUE(MID(V8,FIND(", ",V8)+2,IF(MID(V8,FIND(", ",V8)+2,1)="1",2,1))),(IF(COUNTIFS(S:S,"<="&S8)<=VALUE(MID(V8,FIND(", ",V8)+2,IF(MID(V8,FIND(", ",V8)+2,1)="1",2,1))),1,(VALUE(MID(V8,FIND(", ",V8)+2,IF(MID(V8,FIND(", ",V8)+2,1)="1",2,1)))-COUNTIFS(S:S,"<"&S8))/COUNTIFS(S:S,S8)))*(1*(1+VALUE(MID(V8,FIND(": ",V8)+2,FIND("/",V8)-FIND(":",V8)-2))-1)/VALUE(RIGHT(V8,1))+1)-2,-2))) | V8: =IF(R8="","",FRL!H8)
A9: =IF(Win!A9="","",Win!A9) -> Adrien Saddier | B9: =IF(Win!B9="","",VALUE(Win!B9)) -> 0.0022 | C9: =IF(Win!C9="","",Win!C9) -> 455 | D9: =IF(Win!D9="","",Win!D9) -> 351 | E9: =IF(D9="","",IF(ROUND((B9*(D9-1)-(1-B9))/(D9-1),3)<=0,"",ROUND((B9*(D9-1)-(1-B9))/(D9-1),3))) | F9: {=IF(E9="","",RANK(E9, $E$2:$E$241) + COUNTIFS($E$2:$E$241, E9, $D$2:$D$241, "<"&D9) + COUNTIFS($E$2:$E$241, E9, $D$2:$D$241, D9, $A$2:$A$241, "<"&A9))} | G9: =IF(Win!F9="","",Win!F9) -> 39 | H9: =IF(OR(F9="",G9="",F9>3),"",IF(G9=1,(IF(COUNTIFS(G:G,"<="&G9)<=1,1,(1-COUNTIFS(G:G,"<"&G9))/COUNTIFS(G:G,G9)))*(1+VALUE(MID(J9,FIND(": ",J9)+2,FIND("/",J9)-FIND(":",J9)-2))-1)+(1+VALUE(MID(J9,FIND(": ",J9)+2,FIND("/",J9)-FIND(":",J9)-2))-1)/VALUE(RIGHT(J9,1)),IF(G9<=VALUE(MID(J9,FIND(", ",J9)+2,IF(MID(J9,FIND(", ",J9)+2,1)="1",2,1))),(IF(COUNTIFS(G:G,"<="&G9)<=VALUE(MID(J9,FIND(", ",J9)+2,IF(MID(J9,FIND(", ",J9)+2,1)="1",2,1))),1,(VALUE(MID(J9,FIND(", ",J9)+2,IF(MID(J9,FIND(", ",J9)+2,1)="1",2,1)))-COUNTIFS(G:G,"<"&G9))/COUNTIFS(G:G,G9)))*(1*(1+VALUE(MID(J9,FIND(": ",J9)+2,FIND("/",J9)-FIND(":",J9)-2))-1)/VALUE(RIGHT(J9,1))+1)-2,-2))) | I9: =IF(OR(E9="",G9=""),"",IF(G9=1,(IF(COUNTIFS(G:G,"<="&G9)<=1,1,(1-COUNTIFS(G:G,"<"&G9))/COUNTIFS(G:G,G9)))*(1+VALUE(MID(J9,FIND(": ",J9)+2,FIND("/",J9)-FIND(":",J9)-2))-1)+(1+VALUE(MID(J9,FIND(": ",J9)+2,FIND("/",J9)-FIND(":",J9)-2))-1)/VALUE(RIGHT(J9,1)),IF(G9<=VALUE(MID(J9,FIND(", ",J9)+2,IF(MID(J9,FIND(", ",J9)+2,1)="1",2,1))),(IF(COUNTIFS(G:G,"<="&G9)<=VALUE(MID(J9,FIND(", ",J9)+2,IF(MID(J9,FIND(", ",J9)+2,1)="1",2,1))),1,(VALUE(MID(J9,FIND(", ",J9)+2,IF(MID(J9,FIND(", ",J9)+2,1)="1",2,1)))-COUNTIFS(G:G,"<"&G9))/COUNTIFS(G:G,G9)))*(1*(1+VALUE(MID(J9,FIND(": ",J9)+2,FIND("/",J9)-FIND(":",J9)-2))-1)/VALUE(RIGHT(J9,1))+1)-2,-2))) | J9: =IF(F9="","",Win!H9) | M9: =IF(FRL!A9="","",FRL!A9) -> Adrien Saddier | N9: =IF(FRL!B9="","",FRL!B9) -> 0.52% | O9: =IF(FRL!C9="","",FRL!C9) -> 192 | P9: =IF(FRL!D9="","",FRL!D9) -> 151 | Q9: =IF(P9="","",IF(ROUND((N9*(P9-1)-(1-N9))/(P9-1),3)<=0,"",ROUND((N9*(P9-1)-(1-N9))/(P9-1),3))) | R9: {=IF(Q9="","",RANK(Q9, $Q$2:$Q$241) + COUNTIFS($Q$2:$Q$241, Q9, $P$2:$P$241, "<"&P9) + COUNTIFS($Q$2:$Q$241, Q9, $P$2:$P$241, P9, $M$2:$M$241, "<"&M9))} | S9: =IF(FRL!F9="","",FRL!F9) -> 31 | T9: =IF(OR(R9="",S9="",R9>6),"",0.5*IF(S9=1,(IF(COUNTIFS(S:S,"<="&S9)<=1,1,(1-COUNTIFS(S:S,"<"&S9))/COUNTIFS(S:S,S9)))*(1+VALUE(MID(V9,FIND(": ",V9)+2,FIND("/",V9)-FIND(":",V9)-2))-1)+(1+VALUE(MID(V9,FIND(": ",V9)+2,FIND("/",V9)-FIND(":",V9)-2))-1)/VALUE(RIGHT(V9,1)),IF(S9<=VALUE(MID(V9,FIND(", ",V9)+2,IF(MID(V9,FIND(", ",V9)+2,1)="1",2,1))),(IF(COUNTIFS(S:S,"<="&S9)<=VALUE(MID(V9,FIND(", ",V9)+2,IF(MID(V9,FIND(", ",V9)+2,1)="1",2,1))),1,(VALUE(MID(V9,FIND(", ",V9)+2,IF(MID(V9,FIND(", ",V9)+2,1)="1",2,1)))-COUNTIFS(S:S,"<"&S9))/COUNTIFS(S:S,S9)))*(1*(1+VALUE(MID(V9,FIND(": ",V9)+2,FIND("/",V9)-FIND(":",V9)-2))-1)/VALUE(RIGHT(V9,1))+1)-2,-2))) | U9: =IF(OR(Q9="",S9=""),"",0.5*IF(S9=1,(IF(COUNTIFS(S:S,"<="&S9)<=1,1,(1-COUNTIFS(S:S,"<"&S9))/COUNTIFS(S:S,S9)))*(1+VALUE(MID(V9,FIND(": ",V9)+2,FIND("/",V9)-FIND(":",V9)-2))-1)+(1+VALUE(MID(V9,FIND(": ",V9)+2,FIND("/",V9)-FIND(":",V9)-2))-1)/VALUE(RIGHT(V9,1)),IF(S9<=VALUE(MID(V9,FIND(", ",V9)+2,IF(MID(V9,FIND(", ",V9)+2,1)="1",2,1))),(IF(COUNTIFS(S:S,"<="&S9)<=VALUE(MID(V9,FIND(", ",V9)+2,IF(MID(V9,FIND(", ",V9)+2,1)="1",2,1))),1,(VALUE(MID(V9,FIND(", ",V9)+2,IF(MID(V9,FIND(", ",V9)+2,1)="1",2,1)))-COUNTIFS(S:S,"<"&S9))/COUNTIFS(S:S,S9)))*(1*(1+VALUE(MID(V9,FIND(": ",V9)+2,FIND("/",V9)-FIND(":",V9)-2))-1)/VALUE(RIGHT(V9,1))+1)-2,-2))) | V9: =IF(R9="","",FRL!H9)
A10: =IF(Win!A10="","",Win!A10) -> Aldrich Potgieter | B10: =IF(Win!B10="","",VALUE(Win!B10)) -> 0.0015 | C10: =IF(Win!C10="","",Win!C10) -> 667 | D10: =IF(Win!D10="","",Win!D10) -> 91 | E10: =IF(D10="","",IF(ROUND((B10*(D10-1)-(1-B10))/(D10-1),3)<=0,"",ROUND((B10*(D10-1)-(1-B10))/(D10-1),3))) | F10: {=IF(E10="","",RANK(E10, $E$2:$E$241) + COUNTIFS($E$2:$E$241, E10, $D$2:$D$241, "<"&D10) + COUNTIFS($E$2:$E$241, E10, $D$2:$D$241, D10, $A$2:$A$241, "<"&A10))} | G10: =IF(Win!F10="","",Win!F10) -> 21 | H10: =IF(OR(F10="",G10="",F10>3),"",IF(G10=1,(IF(COUNTIFS(G:G,"<="&G10)<=1,1,(1-COUNTIFS(G:G,"<"&G10))/COUNTIFS(G:G,G10)))*(1+VALUE(MID(J10,FIND(": ",J10)+2,FIND("/",J10)-FIND(":",J10)-2))-1)+(1+VALUE(MID(J10,FIND(": ",J10)+2,FIND("/",J10)-FIND(":",J10)-2))-1)/VALUE(RIGHT(J10,1)),IF(G10<=VALUE(MID(J10,FIND(", ",J10)+2,IF(MID(J10,FIND(", ",J10)+2,1)="1",2,1))),(IF(COUNTIFS(G:G,"<="&G10)<=VALUE(MID(J10,FIND(", ",J10)+2,IF(MID(J10,FIND(", ",J10)+2,1)="1",2,1))),1,(VALUE(MID(J10,FIND(", ",J10)+2,IF(MID(J10,FIND(", ",J10)+2,1)="1",2,1)))-COUNTIFS(G:G,"<"&G10))/COUNTIFS(G:G,G10)))*(1*(1+VALUE(MID(J10,FIND(": ",J10)+2,FIND("/",J10)-FIND(":",J10)-2))-1)/VALUE(RIGHT(J10,1))+1)-2,-2))) | I10: =IF(OR(E10="",G10=""),"",IF(G10=1,(IF(COUNTIFS(G:G,"<="&G10)<=1,1,(1-COUNTIFS(G:G,"<"&G10))/COUNTIFS(G:G,G10)))*(1+VALUE(MID(J10,FIND(": ",J10)+2,FIND("/",J10)-FIND(":",J10)-2))-1)+(1+VALUE(MID(J10,FIND(": ",J10)+2,FIND("/",J10)-FIND(":",J10)-2))-1)/VALUE(RIGHT(J10,1)),IF(G10<=VALUE(MID(J10,FIND(", ",J10)+2,IF(MID(J10,FIND(", ",J10)+2,1)="1",2,1))),(IF(COUNTIFS(G:G,"<="&G10)<=VALUE(MID(J10,FIND(", ",J10)+2,IF(MID(J10,FIND(", ",J10)+2,1)="1",2,1))),1,(VALUE(MID(J10,FIND(", ",J10)+2,IF(MID(J10,FIND(", ",J10)+2,1)="1",2,1)))-COUNTIFS(G:G,"<"&G10))/COUNTIFS(G:G,G10)))*(1*(1+VALUE(MID(J10,FIND(": ",J10)+2,FIND("/",J10)-FIND(":",J10)-2))-1)/VALUE(RIGHT(J10,1))+1)-2,-2))) | J10: =IF(F10="","",Win!H10) | M10: =IF(FRL!A10="","",FRL!A10) -> Aldrich Potgieter | N10: =IF(FRL!B10="","",FRL!B10) -> 0.43% | O10: =IF(FRL!C10="","",FRL!C10) -> 233 | P10: =IF(FRL!D10="","",FRL!D10) -> 91 | Q10: =IF(P10="","",IF(ROUND((N10*(P10-1)-(1-N10))/(P10-1),3)<=0,"",ROUND((N10*(P10-1)-(1-N10))/(P10-1),3))) | R10: {=IF(Q10="","",RANK(Q10, $Q$2:$Q$241) + COUNTIFS($Q$2:$Q$241, Q10, $P$2:$P$241, "<"&P10) + COUNTIFS($Q$2:$Q$241, Q10, $P$2:$P$241, P10, $M$2:$M$241, "<"&M10))} | S10: =IF(FRL!F10="","",FRL!F10) -> 59 | T10: =IF(OR(R10="",S10="",R10>6),"",0.5*IF(S10=1,(IF(COUNTIFS(S:S,"<="&S10)<=1,1,(1-COUNTIFS(S:S,"<"&S10))/COUNTIFS(S:S,S10)))*(1+VALUE(MID(V10,FIND(": ",V10)+2,FIND("/",V10)-FIND(":",V10)-2))-1)+(1+VALUE(MID(V10,FIND(": ",V10)+2,FIND("/",V10)-FIND(":",V10)-2))-1)/VALUE(RIGHT(V10,1)),IF(S10<=VALUE(MID(V10,FIND(", ",V10)+2,IF(MID(V10,FIND(", ",V10)+2,1)="1",2,1))),(IF(COUNTIFS(S:S,"<="&S10)<=VALUE(MID(V10,FIND(", ",V10)+2,IF(MID(V10,FIND(", ",V10)+2,1)="1",2,1))),1,(VALUE(MID(V10,FIND(", ",V10)+2,IF(MID(V10,FIND(", ",V10)+2,1)="1",2,1)))-COUNTIFS(S:S,"<"&S10))/COUNTIFS(S:S,S10)))*(1*(1+VALUE(MID(V10,FIND(": ",V10)+2,FIND("/",V10)-FIND(":",V10)-2))-1)/VALUE(RIGHT(V10,1))+1)-2,-2))) | U10: =IF(OR(Q10="",S10=""),"",0.5*IF(S10=1,(IF(COUNTIFS(S:S,"<="&S10)<=1,1,(1-COUNTIFS(S:S,"<"&S10))/COUNTIFS(S:S,S10)))*(1+VALUE(MID(V10,FIND(": ",V10)+2,FIND("/",V10)-FIND(":",V10)-2))-1)+(1+VALUE(MID(V10,FIND(": ",V10)+2,FIND("/",V10)-FIND(":",V10)-2))-1)/VALUE(RIGHT(V10,1)),IF(S10<=VALUE(MID(V10,FIND(", ",V10)+2,IF(MID(V10,FIND(", ",V10)+2,1)="1",2,1))),(IF(COUNTIFS(S:S,"<="&S10)<=VALUE(MID(V10,FIND(", ",V10)+2,IF(MID(V10,FIND(", ",V10)+2,1)="1",2,1))),1,(VALUE(MID(V10,FIND(", ",V10)+2,IF(MID(V10,FIND(", ",V10)+2,1)="1",2,1)))-COUNTIFS(S:S,"<"&S10))/COUNTIFS(S:S,S10)))*(1*(1+VALUE(MID(V10,FIND(": ",V10)+2,FIND("/",V10)-FIND(":",V10)-2))-1)/VALUE(RIGHT(V10,1))+1)-2,-2))) | V10: =IF(R10="","",FRL!H10)
A11: =IF(Win!A11="","",Win!A11) -> Alejandro Tosti | B11: =IF(Win!B11="","",VALUE(Win!B11)) -> 0.0005 | C11: =IF(Win!C11="","",Win!C11) -> 2000 | D11: =IF(Win!D11="","",Win!D11) -> 176 | E11: =IF(D11="","",IF(ROUND((B11*(D11-1)-(1-B11))/(D11-1),3)<=0,"",ROUND((B11*(D11-1)-(1-B11))/(D11-1),3))) | F11: {=IF(E11="","",RANK(E11, $E$2:$E$241) + COUNTIFS($E$2:$E$241, E11, $D$2:$D$241, "<"&D11) + COUNTIFS($E$2:$E$241, E11, $D$2:$D$241, D11, $A$2:$A$241, "<"&A11))} | G11: =IF(Win!F11="","",Win!F11) -> 104 | H11: =IF(OR(F11="",G11="",F11>3),"",IF(G11=1,(IF(COUNTIFS(G:G,"<="&G11)<=1,1,(1-COUNTIFS(G:G,"<"&G11))/COUNTIFS(G:G,G11)))*(1+VALUE(MID(J11,FIND(": ",J11)+2,FIND("/",J11)-FIND(":",J11)-2))-1)+(1+VALUE(MID(J11,FIND(": ",J11)+2,FIND("/",J11)-FIND(":",J11)-2))-1)/VALUE(RIGHT(J11,1)),IF(G11<=VALUE(MID(J11,FIND(", ",J11)+2,IF(MID(J11,FIND(", ",J11)+2,1)="1",2,1))),(IF(COUNTIFS(G:G,"<="&G11)<=VALUE(MID(J11,FIND(", ",J11)+2,IF(MID(J11,FIND(", ",J11)+2,1)="1",2,1))),1,(VALUE(MID(J11,FIND(", ",J11)+2,IF(MID(J11,FIND(", ",J11)+2,1)="1",2,1)))-COUNTIFS(G:G,"<"&G11))/COUNTIFS(G:G,G11)))*(1*(1+VALUE(MID(J11,FIND(": ",J11)+2,FIND("/",J11)-FIND(":",J11)-2))-1)/VALUE(RIGHT(J11,1))+1)-2,-2))) | I11: =IF(OR(E11="",G11=""),"",IF(G11=1,(IF(COUNTIFS(G:G,"<="&G11)<=1,1,(1-COUNTIFS(G:G,"<"&G11))/COUNTIFS(G:G,G11)))*(1+VALUE(MID(J11,FIND(": ",J11)+2,FIND("/",J11)-FIND(":",J11)-2))-1)+(1+VALUE(MID(J11,FIND(": ",J11)+2,FIND("/",J11)-FIND(":",J11)-2))-1)/VALUE(RIGHT(J11,1)),IF(G11<=VALUE(MID(J11,FIND(", ",J11)+2,IF(MID(J11,FIND(", ",J11)+2,1)="1",2,1))),(IF(COUNTIFS(G:G,"<="&G11)<=VALUE(MID(J11,FIND(", ",J11)+2,IF(MID(J11,FIND(", ",J11)+2,1)="1",2,1))),1,(VALUE(MID(J11,FIND(", ",J11)+2,IF(MID(J11,FIND(", ",J11)+2,1)="1",2,1)))-COUNTIFS(G:G,"<"&G11))/COUNTIFS(G:G,G11)))*(1*(1+VALUE(MID(J11,FIND(": ",J11)+2,FIND("/",J11)-FIND(":",J11)-2))-1)/VALUE(RIGHT(J11,1))+1)-2,-2))) | J11: =IF(F11="","",Win!H11) | M11: =IF(FRL!A11="","",FRL!A11) -> Alejandro Tosti | N11: =IF(FRL!B11="","",FRL!B11) -> 0.30% | O11: =IF(FRL!C11="","",FRL!C11) -> 333 | P11: =IF(FRL!D11="","",FRL!D11) -> 111 | Q11: =IF(P11="","",IF(ROUND((N11*(P11-1)-(1-N11))/(P11-1),3)<=0,"",ROUND((N11*(P11-1)-(1-N11))/(P11-1),3))) | R11: {=IF(Q11="","",RANK(Q11, $Q$2:$Q$241) + COUNTIFS($Q$2:$Q$241, Q11, $P$2:$P$241, "<"&P11) + COUNTIFS($Q$2:$Q$241, Q11, $P$2:$P$241, P11, $M$2:$M$241, "<"&M11))} | S11: =IF(FRL!F11="","",FRL!F11) -> 105 | T11: =IF(OR(R11="",S11="",R11>6),"",0.5*IF(S11=1,(IF(COUNTIFS(S:S,"<="&S11)<=1,1,(1-COUNTIFS(S:S,"<"&S11))/COUNTIFS(S:S,S11)))*(1+VALUE(MID(V11,FIND(": ",V11)+2,FIND("/",V11)-FIND(":",V11)-2))-1)+(1+VALUE(MID(V11,FIND(": ",V11)+2,FIND("/",V11)-FIND(":",V11)-2))-1)/VALUE(RIGHT(V11,1)),IF(S11<=VALUE(MID(V11,FIND(", ",V11)+2,IF(MID(V11,FIND(", ",V11)+2,1)="1",2,1))),(IF(COUNTIFS(S:S,"<="&S11)<=VALUE(MID(V11,FIND(", ",V11)+2,IF(MID(V11,FIND(", ",V11)+2,1)="1",2,1))),1,(VALUE(MID(V11,FIND(", ",V11)+2,IF(MID(V11,FIND(", ",V11)+2,1)="1",2,1)))-COUNTIFS(S:S,"<"&S11))/COUNTIFS(S:S,S11)))*(1*(1+VALUE(MID(V11,FIND(": ",V11)+2,FIND("/",V11)-FIND(":",V11)-2))-1)/VALUE(RIGHT(V11,1))+1)-2,-2))) | U11: =IF(OR(Q11="",S11=""),"",0.5*IF(S11=1,(IF(COUNTIFS(S:S,"<="&S11)<=1,1,(1-COUNTIFS(S:S,"<"&S11))/COUNTIFS(S:S,S11)))*(1+VALUE(MID(V11,FIND(": ",V11)+2,FIND("/",V11)-FIND(":",V11)-2))-1)+(1+VALUE(MID(V11,FIND(": ",V11)+2,FIND("/",V11)-FIND(":",V11)-2))-1)/VALUE(RIGHT(V11,1)),IF(S11<=VALUE(MID(V11,FIND(", ",V11)+2,IF(MID(V11,FIND(", ",V11)+2,1)="1",2,1))),(IF(COUNTIFS(S:S,"<="&S11)<=VALUE(MID(V11,FIND(", ",V11)+2,IF(MID(V11,FIND(", ",V11)+2,1)="1",2,1))),1,(VALUE(MID(V11,FIND(", ",V11)+2,IF(MID(V11,FIND(", ",V11)+2,1)="1",2,1)))-COUNTIFS(S:S,"<"&S11))/COUNTIFS(S:S,S11)))*(1*(1+VALUE(MID(V11,FIND(": ",V11)+2,FIND("/",V11)-FIND(":",V11)-2))-1)/VALUE(RIGHT(V11,1))+1)-2,-2))) | V11: =IF(R11="","",FRL!H11)
A12: =IF(Win!A12="","",Win!A12) -> Alex Smalley | B12: =IF(Win!B12="","",VALUE(Win!B12)) -> 0.0086 | C12: =IF(Win!C12="","",Win!C12) -> 116 | D12: =IF(Win!D12="","",Win!D12) -> 67 | E12: =IF(D12="","",IF(ROUND((B12*(D12-1)-(1-B12))/(D12-1),3)<=0,"",ROUND((B12*(D12-1)-(1-B12))/(D12-1),3))) | F12: {=IF(E12="","",RANK(E12, $E$2:$E$241) + COUNTIFS($E$2:$E$241, E12, $D$2:$D$241, "<"&D12) + COUNTIFS($E$2:$E$241, E12, $D$2:$D$241, D12, $A$2:$A$241, "<"&A12))} | G12: =IF(Win!F12="","",Win!F12) -> 21 | H12: =IF(OR(F12="",G12="",F12>3),"",IF(G12=1,(IF(COUNTIFS(G:G,"<="&G12)<=1,1,(1-COUNTIFS(G:G,"<"&G12))/COUNTIFS(G:G,G12)))*(1+VALUE(MID(J12,FIND(": ",J12)+2,FIND("/",J12)-FIND(":",J12)-2))-1)+(1+VALUE(MID(J12,FIND(": ",J12)+2,FIND("/",J12)-FIND(":",J12)-2))-1)/VALUE(RIGHT(J12,1)),IF(G12<=VALUE(MID(J12,FIND(", ",J12)+2,IF(MID(J12,FIND(", ",J12)+2,1)="1",2,1))),(IF(COUNTIFS(G:G,"<="&G12)<=VALUE(MID(J12,FIND(", ",J12)+2,IF(MID(J12,FIND(", ",J12)+2,1)="1",2,1))),1,(VALUE(MID(J12,FIND(", ",J12)+2,IF(MID(J12,FIND(", ",J12)+2,1)="1",2,1)))-COUNTIFS(G:G,"<"&G12))/COUNTIFS(G:G,G12)))*(1*(1+VALUE(MID(J12,FIND(": ",J12)+2,FIND("/",J12)-FIND(":",J12)-2))-1)/VALUE(RIGHT(J12,1))+1)-2,-2))) | I12: =IF(OR(E12="",G12=""),"",IF(G12=1,(IF(COUNTIFS(G:G,"<="&G12)<=1,1,(1-COUNTIFS(G:G,"<"&G12))/COUNTIFS(G:G,G12)))*(1+VALUE(MID(J12,FIND(": ",J12)+2,FIND("/",J12)-FIND(":",J12)-2))-1)+(1+VALUE(MID(J12,FIND(": ",J12)+2,FIND("/",J12)-FIND(":",J12)-2))-1)/VALUE(RIGHT(J12,1)),IF(G12<=VALUE(MID(J12,FIND(", ",J12)+2,IF(MID(J12,FIND(", ",J12)+2,1)="1",2,1))),(IF(COUNTIFS(G:G,"<="&G12)<=VALUE(MID(J12,FIND(", ",J12)+2,IF(MID(J12,FIND(", ",J12)+2,1)="1",2,1))),1,(VALUE(MID(J12,FIND(", ",J12)+2,IF(MID(J12,FIND(", ",J12)+2,1)="1",2,1)))-COUNTIFS(G:G,"<"&G12))/COUNTIFS(G:G,G12)))*(1*(1+VALUE(MID(J12,FIND(": ",J12)+2,FIND("/",J12)-FIND(":",J12)-2))-1)/VALUE(RIGHT(J12,1))+1)-2,-2))) | J12: =IF(F12="","",Win!H12) | M12: =IF(FRL!A12="","",FRL!A12) -> Alex Smalley | N12: =IF(FRL!B12="","",FRL!B12) -> 0.93% | O12: =IF(FRL!C12="","",FRL!C12) -> 108 | P12: =IF(FRL!D12="","",FRL!D12) -> 71 | Q12: =IF(P12="","",IF(ROUND((N12*(P12-1)-(1-N12))/(P12-1),3)<=0,"",ROUND((N12*(P12-1)-(1-N12))/(P12-1),3))) | R12: {=IF(Q12="","",RANK(Q12, $Q$2:$Q$241) + COUNTIFS($Q$2:$Q$241, Q12, $P$2:$P$241, "<"&P12) + COUNTIFS($Q$2:$Q$241, Q12, $P$2:$P$241, P12, $M$2:$M$241, "<"&M12))} | S12: =IF(FRL!F12="","",FRL!F12) -> 11 | T12: =IF(OR(R12="",S12="",R12>6),"",0.5*IF(S12=1,(IF(COUNTIFS(S:S,"<="&S12)<=1,1,(1-COUNTIFS(S:S,"<"&S12))/COUNTIFS(S:S,S12)))*(1+VALUE(MID(V12,FIND(": ",V12)+2,FIND("/",V12)-FIND(":",V12)-2))-1)+(1+VALUE(MID(V12,FIND(": ",V12)+2,FIND("/",V12)-FIND(":",V12)-2))-1)/VALUE(RIGHT(V12,1)),IF(S12<=VALUE(MID(V12,FIND(", ",V12)+2,IF(MID(V12,FIND(", ",V12)+2,1)="1",2,1))),(IF(COUNTIFS(S:S,"<="&S12)<=VALUE(MID(V12,FIND(", ",V12)+2,IF(MID(V12,FIND(", ",V12)+2,1)="1",2,1))),1,(VALUE(MID(V12,FIND(", ",V12)+2,IF(MID(V12,FIND(", ",V12)+2,1)="1",2,1)))-COUNTIFS(S:S,"<"&S12))/COUNTIFS(S:S,S12)))*(1*(1+VALUE(MID(V12,FIND(": ",V12)+2,FIND("/",V12)-FIND(":",V12)-2))-1)/VALUE(RIGHT(V12,1))+1)-2,-2))) | U12: =IF(OR(Q12="",S12=""),"",0.5*IF(S12=1,(IF(COUNTIFS(S:S,"<="&S12)<=1,1,(1-COUNTIFS(S:S,"<"&S12))/COUNTIFS(S:S,S12)))*(1+VALUE(MID(V12,FIND(": ",V12)+2,FIND("/",V12)-FIND(":",V12)-2))-1)+(1+VALUE(MID(V12,FIND(": ",V12)+2,FIND("/",V12)-FIND(":",V12)-2))-1)/VALUE(RIGHT(V12,1)),IF(S12<=VALUE(MID(V12,FIND(", ",V12)+2,IF(MID(V12,FIND(", ",V12)+2,1)="1",2,1))),(IF(COUNTIFS(S:S,"<="&S12)<=VALUE(MID(V12,FIND(", ",V12)+2,IF(MID(V12,FIND(", ",V12)+2,1)="1",2,1))),1,(VALUE(MID(V12,FIND(", ",V12)+2,IF(MID(V12,FIND(", ",V12)+2,1)="1",2,1)))-COUNTIFS(S:S,"<"&S12))/COUNTIFS(S:S,S12)))*(1*(1+VALUE(MID(V12,FIND(": ",V12)+2,FIND("/",V12)-FIND(":",V12)-2))-1)/VALUE(RIGHT(V12,1))+1)-2,-2))) | V12: =IF(R12="","",FRL!H12)
A13: =IF(Win!A13="","",Win!A13) -> Andrew Putnam | B13: =IF(Win!B13="","",VALUE(Win!B13)) -> 0.0068 | C13: =IF(Win!C13="","",Win!C13) -> 147 | D13: =IF(Win!D13="","",Win!D13) -> 251 | E13: =IF(D13="","",IF(ROUND((B13*(D13-1)-(1-B13))/(D13-1),3)<=0,"",ROUND((B13*(D13-1)-(1-B13))/(D13-1),3))) -> 0.003 | F13: {=IF(E13="","",RANK(E13, $E$2:$E$241) + COUNTIFS($E$2:$E$241, E13, $D$2:$D$241, "<"&D13) + COUNTIFS($E$2:$E$241, E13, $D$2:$D$241, D13, $A$2:$A$241, "<"&A13))} -> 2 | G13: =IF(Win!F13="","",Win!F13) -> 44 | H13: =IF(OR(F13="",G13="",F13>3),"",IF(G13=1,(IF(COUNTIFS(G:G,"<="&G13)<=1,1,(1-COUNTIFS(G:G,"<"&G13))/COUNTIFS(G:G,G13)))*(1+VALUE(MID(J13,FIND(": ",J13)+2,FIND("/",J13)-FIND(":",J13)-2))-1)+(1+VALUE(MID(J13,FIND(": ",J13)+2,FIND("/",J13)-FIND(":",J13)-2))-1)/VALUE(RIGHT(J13,1)),IF(G13<=VALUE(MID(J13,FIND(", ",J13)+2,IF(MID(J13,FIND(", ",J13)+2,1)="1",2,1))),(IF(COUNTIFS(G:G,"<="&G13)<=VALUE(MID(J13,FIND(", ",J13)+2,IF(MID(J13,FIND(", ",J13)+2,1)="1",2,1))),1,(VALUE(MID(J13,FIND(", ",J13)+2,IF(MID(J13,FIND(", ",J13)+2,1)="1",2,1)))-COUNTIFS(G:G,"<"&G13))/COUNTIFS(G:G,G13)))*(1*(1+VALUE(MID(J13,FIND(": ",J13)+2,FIND("/",J13)-FIND(":",J13)-2))-1)/VALUE(RIGHT(J13,1))+1)-2,-2))) -> -2 | I13: =IF(OR(E13="",G13=""),"",IF(G13=1,(IF(COUNTIFS(G:G,"<="&G13)<=1,1,(1-COUNTIFS(G:G,"<"&G13))/COUNTIFS(G:G,G13)))*(1+VALUE(MID(J13,FIND(": ",J13)+2,FIND("/",J13)-FIND(":",J13)-2))-1)+(1+VALUE(MID(J13,FIND(": ",J13)+2,FIND("/",J13)-FIND(":",J13)-2))-1)/VALUE(RIGHT(J13,1)),IF(G13<=VALUE(MID(J13,FIND(", ",J13)+2,IF(MID(J13,FIND(", ",J13)+2,1)="1",2,1))),(IF(COUNTIFS(G:G,"<="&G13)<=VALUE(MID(J13,FIND(", ",J13)+2,IF(MID(J13,FIND(", ",J13)+2,1)="1",2,1))),1,(VALUE(MID(J13,FIND(", ",J13)+2,IF(MID(J13,FIND(", ",J13)+2,1)="1",2,1)))-COUNTIFS(G:G,"<"&G13))/COUNTIFS(G:G,G13)))*(1*(1+VALUE(MID(J13,FIND(": ",J13)+2,FIND("/",J13)-FIND(":",J13)-2))-1)/VALUE(RIGHT(J13,1))+1)-2,-2))) -> -2 | J13: =IF(F13="","",Win!H13) -> BetMGM: 250/1, 6pl, 1/5 | M13: =IF(FRL!A13="","",FRL!A13) -> Andrew Putnam | N13: =IF(FRL!B13="","",FRL!B13) -> 0.87% | O13: =IF(FRL!C13="","",FRL!C13) -> 115 | P13: =IF(FRL!D13="","",FRL!D13) -> 126 | Q13: =IF(P13="","",IF(ROUND((N13*(P13-1)-(1-N13))/(P13-1),3)<=0,"",ROUND((N13*(P13-1)-(1-N13))/(P13-1),3))) -> 0.001 | R13: {=IF(Q13="","",RANK(Q13, $Q$2:$Q$241) + COUNTIFS($Q$2:$Q$241, Q13, $P$2:$P$241, "<"&P13) + COUNTIFS($Q$2:$Q$241, Q13, $P$2:$P$241, P13, $M$2:$M$241, "<"&M13))} -> 3 | S13: =IF(FRL!F13="","",FRL!F13) -> 76 | T13: =IF(OR(R13="",S13="",R13>6),"",0.5*IF(S13=1,(IF(COUNTIFS(S:S,"<="&S13)<=1,1,(1-COUNTIFS(S:S,"<"&S13))/COUNTIFS(S:S,S13)))*(1+VALUE(MID(V13,FIND(": ",V13)+2,FIND("/",V13)-FIND(":",V13)-2))-1)+(1+VALUE(MID(V13,FIND(": ",V13)+2,FIND("/",V13)-FIND(":",V13)-2))-1)/VALUE(RIGHT(V13,1)),IF(S13<=VALUE(MID(V13,FIND(", ",V13)+2,IF(MID(V13,FIND(", ",V13)+2,1)="1",2,1))),(IF(COUNTIFS(S:S,"<="&S13)<=VALUE(MID(V13,FIND(", ",V13)+2,IF(MID(V13,FIND(", ",V13)+2,1)="1",2,1))),1,(VALUE(MID(V13,FIND(", ",V13)+2,IF(MID(V13,FIND(", ",V13)+2,1)="1",2,1)))-COUNTIFS(S:S,"<"&S13))/COUNTIFS(S:S,S13)))*(1*(1+VALUE(MID(V13,FIND(": ",V13)+2,FIND("/",V13)-FIND(":",V13)-2))-1)/VALUE(RIGHT(V13,1))+1)-2,-2))) -> -1 | U13: =IF(OR(Q13="",S13=""),"",0.5*IF(S13=1,(IF(COUNTIFS(S:S,"<="&S13)<=1,1,(1-COUNTIFS(S:S,"<"&S13))/COUNTIFS(S:S,S13)))*(1+VALUE(MID(V13,FIND(": ",V13)+2,FIND("/",V13)-FIND(":",V13)-2))-1)+(1+VALUE(MID(V13,FIND(": ",V13)+2,FIND("/",V13)-FIND(":",V13)-2))-1)/VALUE(RIGHT(V13,1)),IF(S13<=VALUE(MID(V13,FIND(", ",V13)+2,IF(MID(V13,FIND(", ",V13)+2,1)="1",2,1))),(IF(COUNTIFS(S:S,"<="&S13)<=VALUE(MID(V13,FIND(", ",V13)+2,IF(MID(V13,FIND(", ",V13)+2,1)="1",2,1))),1,(VALUE(MID(V13,FIND(", ",V13)+2,IF(MID(V13,FIND(", ",V13)+2,1)="1",2,1)))-COUNTIFS(S:S,"<"&S13))/COUNTIFS(S:S,S13)))*(1*(1+VALUE(MID(V13,FIND(": ",V13)+2,FIND("/",V13)-FIND(":",V13)-2))-1)/VALUE(RIGHT(V13,1))+1)-2,-2))) -> -1 | V13: =IF(R13="","",FRL!H13) -> VirginBet: 125/1, 6pl, 1/5
... A241: =IF(Win!A241="","",Win!A241) | B241: =IF(Win!B241="","",VALUE(Win!B241)) | C241: =IF(Win!C241="","",Win!C241) | D241: =IF(Win!D241="","",Win!D241) | E241: =IF(D241="","",IF(ROUND((B241*(D241-1)-(1-B241))/(D241-1),3)<=0,"",ROUND((B241*(D241-1)-(1-B241))/(D241-1),3))) | F241: {=IF(E241="","",RANK(E241, $E$2:$E$241) + COUNTIFS($E$2:$E$241, E241, $D$2:$D$241, "<"&D241) + COUNTIFS($E$2:$E$241, E241, $D$2:$D$241, D241, $A$2:$A$241, "<"&A241))} | G241: =IF(Win!F241="","",Win!F241) | H241: =IF(OR(F241="",G241="",F241>3),"",IF(G241=1,(IF(COUNTIFS(G:G,"<="&G241)<=1,1,(1-COUNTIFS(G:G,"<"&G241))/COUNTIFS(G:G,G241)))*(1+VALUE(MID(J241,FIND(": ",J241)+2,FIND("/",J241)-FIND(":",J241)-2))-1)+(1+VALUE(MID(J241,FIND(": ",J241)+2,FIND("/",J241)-FIND(":",J241)-2))-1)/VALUE(RIGHT(J241,1)),IF(G241<=VALUE(MID(J241,FIND(", ",J241)+2,IF(MID(J241,FIND(", ",J241)+2,1)="1",2,1))),(IF(COUNTIFS(G:G,"<="&G241)<=VALUE(MID(J241,FIND(", ",J241)+2,IF(MID(J241,FIND(", ",J241)+2,1)="1",2,1))),1,(VALUE(MID(J241,FIND(", ",J241)+2,IF(MID(J241,FIND(", ",J241)+2,1)="1",2,1)))-COUNTIFS(G:G,"<"&G241))/COUNTIFS(G:G,G241)))*(1*(1+VALUE(MID(J241,FIND(": ",J241)+2,FIND("/",J241)-FIND(":",J241)-2))-1)/VALUE(RIGHT(J241,1))+1)-2,-2))) | I241: =IF(OR(E241="",G241=""),"",IF(G241=1,(IF(COUNTIFS(G:G,"<="&G241)<=1,1,(1-COUNTIFS(G:G,"<"&G241))/COUNTIFS(G:G,G241)))*(1+VALUE(MID(J241,FIND(": ",J241)+2,FIND("/",J241)-FIND(":",J241)-2))-1)+(1+VALUE(MID(J241,FIND(": ",J241)+2,FIND("/",J241)-FIND(":",J241)-2))-1)/VALUE(RIGHT(J241,1)),IF(G241<=VALUE(MID(J241,FIND(", ",J241)+2,IF(MID(J241,FIND(", ",J241)+2,1)="1",2,1))),(IF(COUNTIFS(G:G,"<="&G241)<=VALUE(MID(J241,FIND(", ",J241)+2,IF(MID(J241,FIND(", ",J241)+2,1)="1",2,1))),1,(VALUE(MID(J241,FIND(", ",J241)+2,IF(MID(J241,FIND(", ",J241)+2,1)="1",2,1)))-COUNTIFS(G:G,"<"&G241))/COUNTIFS(G:G,G241)))*(1*(1+VALUE(MID(J241,FIND(": ",J241)+2,FIND("/",J241)-FIND(":",J241)-2))-1)/VALUE(RIGHT(J241,1))+1)-2,-2))) | J241: =IF(F241="","",Win!H241) | M241: =IF(FRL!A241="","",FRL!A241) | N241: =IF(FRL!B241="","",FRL!B241) | O241: =IF(FRL!C241="","",FRL!C241) | P241: =IF(FRL!D241="","",FRL!D241) | Q241: =IF(P241="","",IF(ROUND((N241*(P241-1)-(1-N241))/(P241-1),3)<=0,"",ROUND((N241*(P241-1)-(1-N241))/(P241-1),3))) | R241: {=IF(Q241="","",RANK(Q241, $Q$2:$Q$241) + COUNTIFS($Q$2:$Q$241, Q241, $P$2:$P$241, "<"&P241) + COUNTIFS($Q$2:$Q$241, Q241, $P$2:$P$241, P241, $M$2:$M$241, "<"&M241))} | S241: =IF(FRL!F241="","",FRL!F241) | T241: =IF(OR(R241="",S241="",R241>6),"",0.5*IF(S241=1,(IF(COUNTIFS(S:S,"<="&S241)<=1,1,(1-COUNTIFS(S:S,"<"&S241))/COUNTIFS(S:S,S241)))*(1+VALUE(MID(V241,FIND(": ",V241)+2,FIND("/",V241)-FIND(":",V241)-2))-1)+(1+VALUE(MID(V241,FIND(": ",V241)+2,FIND("/",V241)-FIND(":",V241)-2))-1)/VALUE(RIGHT(V241,1)),IF(S241<=VALUE(MID(V241,FIND(", ",V241)+2,IF(MID(V241,FIND(", ",V241)+2,1)="1",2,1))),(IF(COUNTIFS(S:S,"<="&S241)<=VALUE(MID(V241,FIND(", ",V241)+2,IF(MID(V241,FIND(", ",V241)+2,1)="1",2,1))),1,(VALUE(MID(V241,FIND(", ",V241)+2,IF(MID(V241,FIND(", ",V241)+2,1)="1",2,1)))-COUNTIFS(S:S,"<"&S241))/COUNTIFS(S:S,S241)))*(1*(1+VALUE(MID(V241,FIND(": ",V241)+2,FIND("/",V241)-FIND(":",V241)-2))-1)/VALUE(RIGHT(V241,1))+1)-2,-2))) | U241: =IF(OR(Q241="",S241=""),"",0.5*IF(S241=1,(IF(COUNTIFS(S:S,"<="&S241)<=1,1,(1-COUNTIFS(S:S,"<"&S241))/COUNTIFS(S:S,S241)))*(1+VALUE(MID(V241,FIND(": ",V241)+2,FIND("/",V241)-FIND(":",V241)-2))-1)+(1+VALUE(MID(V241,FIND(": ",V241)+2,FIND("/",V241)-FIND(":",V241)-2))-1)/VALUE(RIGHT(V241,1)),IF(S241<=VALUE(MID(V241,FIND(", ",V241)+2,IF(MID(V241,FIND(", ",V241)+2,1)="1",2,1))),(IF(COUNTIFS(S:S,"<="&S241)<=VALUE(MID(V241,FIND(", ",V241)+2,IF(MID(V241,FIND(", ",V241)+2,1)="1",2,1))),1,(VALUE(MID(V241,FIND(", ",V241)+2,IF(MID(V241,FIND(", ",V241)+2,1)="1",2,1)))-COUNTIFS(S:S,"<"&S241))/COUNTIFS(S:S,S241)))*(1*(1+VALUE(MID(V241,FIND(": ",V241)+2,FIND("/",V241)-FIND(":",V241)-2))-1)/VALUE(RIGHT(V241,1))+1)-2,-2))) | V241: =IF(R241="","",FRL!H241)

Sheet FRL
A1: Player | B1: TT Win | C1: TT Odds | D1: Best Odds | E1: Kelly | F1: Result | G1: P/L | H1: E/W Play
A2: A.J. Ewart | B2: 0.54% | C2: 185 | D2: 126 | F2: =IFERROR(IF(A2="","",OFFSET(Results!$Z$1,MATCH(A2,Results!$A:$A,0)-1,0)),"") -> 124 | G2: =IF(OR(E2="",F2=""),"",IF(F2=1,(IF(COUNTIFS(F:F,"<="&F2)<=1,1,(1-COUNTIFS(F:F,"<"&F2))/COUNTIFS(F:F,F2)))*50*E2*(1+VALUE(MID(H2,FIND(": ",H2)+2,FIND("/",H2)-FIND(":",H2)-2))-1)+50*E2*(1+VALUE(MID(H2,FIND(": ",H2)+2,FIND("/",H2)-FIND(":",H2)-2))-1)/VALUE(RIGHT(H2,1)),IF(F2<=VALUE(MID(H2,FIND(", ",H2)+2,1)),(IF(COUNTIFS(F:F,"<="&F2)<=VALUE(MID(H2,FIND(", ",H2)+2,1)),1,(VALUE(MID(H2,FIND(", ",H2)+2,1))-COUNTIFS(F:F,"<"&F2))/COUNTIFS(F:F,F2)))*(50*E2*(1+VALUE(MID(H2,FIND(": ",H2)+2,FIND("/",H2)-FIND(":",H2)-2))-1)/VALUE(RIGHT(H2,1))+50*E2)-(100*E2),-E2*100))) | H2: =IF(E2="","",OFFSET([2]PGA!$AL$1,MATCH(A2,[2]PGA!$E$1:$E$500,0)-1,0))
A3: Aaron Rai | B3: 0.98% | C3: 102 | D3: 101 | F3: =IFERROR(IF(A3="","",OFFSET(Results!$Z$1,MATCH(A3,Results!$A:$A,0)-1,0)),"") | G3: =IF(OR(E3="",F3=""),"",IF(F3=1,(IF(COUNTIFS(F:F,"<="&F3)<=1,1,(1-COUNTIFS(F:F,"<"&F3))/COUNTIFS(F:F,F3)))*50*E3*(1+VALUE(MID(H3,FIND(": ",H3)+2,FIND("/",H3)-FIND(":",H3)-2))-1)+50*E3*(1+VALUE(MID(H3,FIND(": ",H3)+2,FIND("/",H3)-FIND(":",H3)-2))-1)/VALUE(RIGHT(H3,1)),IF(F3<=VALUE(MID(H3,FIND(", ",H3)+2,1)),(IF(COUNTIFS(F:F,"<="&F3)<=VALUE(MID(H3,FIND(", ",H3)+2,1)),1,(VALUE(MID(H3,FIND(", ",H3)+2,1))-COUNTIFS(F:F,"<"&F3))/COUNTIFS(F:F,F3)))*(50*E3*(1+VALUE(MID(H3,FIND(": ",H3)+2,FIND("/",H3)-FIND(":",H3)-2))-1)/VALUE(RIGHT(H3,1))+50*E3)-(100*E3),-E3*100))) | H3: =IF(E3="","",OFFSET([2]PGA!$AL$1,MATCH(A3,[2]PGA!$E$1:$E$500,0)-1,0))
A4: Aaron Wise | B4: 0.15% | C4: 667 | D4: 251 | F4: =IFERROR(IF(A4="","",OFFSET(Results!$Z$1,MATCH(A4,Results!$A:$A,0)-1,0)),"") -> 31 | G4: =IF(OR(E4="",F4=""),"",IF(F4=1,(IF(COUNTIFS(F:F,"<="&F4)<=1,1,(1-COUNTIFS(F:F,"<"&F4))/COUNTIFS(F:F,F4)))*50*E4*(1+VALUE(MID(H4,FIND(": ",H4)+2,FIND("/",H4)-FIND(":",H4)-2))-1)+50*E4*(1+VALUE(MID(H4,FIND(": ",H4)+2,FIND("/",H4)-FIND(":",H4)-2))-1)/VALUE(RIGHT(H4,1)),IF(F4<=VALUE(MID(H4,FIND(", ",H4)+2,1)),(IF(COUNTIFS(F:F,"<="&F4)<=VALUE(MID(H4,FIND(", ",H4)+2,1)),1,(VALUE(MID(H4,FIND(", ",H4)+2,1))-COUNTIFS(F:F,"<"&F4))/COUNTIFS(F:F,F4)))*(50*E4*(1+VALUE(MID(H4,FIND(": ",H4)+2,FIND("/",H4)-FIND(":",H4)-2))-1)/VALUE(RIGHT(H4,1))+50*E4)-(100*E4),-E4*100))) | H4: =IF(E4="","",OFFSET([2]PGA!$AL$1,MATCH(A4,[2]PGA!$E$1:$E$500,0)-1,0))
A5: Adam Schenk | B5: 0.31% | C5: 323 | D5: 251 | F5: =IFERROR(IF(A5="","",OFFSET(Results!$Z$1,MATCH(A5,Results!$A:$A,0)-1,0)),"") -> 31 | G5: =IF(OR(E5="",F5=""),"",IF(F5=1,(IF(COUNTIFS(F:F,"<="&F5)<=1,1,(1-COUNTIFS(F:F,"<"&F5))/COUNTIFS(F:F,F5)))*50*E5*(1+VALUE(MID(H5,FIND(": ",H5)+2,FIND("/",H5)-FIND(":",H5)-2))-1)+50*E5*(1+VALUE(MID(H5,FIND(": ",H5)+2,FIND("/",H5)-FIND(":",H5)-2))-1)/VALUE(RIGHT(H5,1)),IF(F5<=VALUE(MID(H5,FIND(", ",H5)+2,1)),(IF(COUNTIFS(F:F,"<="&F5)<=VALUE(MID(H5,FIND(", ",H5)+2,1)),1,(VALUE(MID(H5,FIND(", ",H5)+2,1))-COUNTIFS(F:F,"<"&F5))/COUNTIFS(F:F,F5)))*(50*E5*(1+VALUE(MID(H5,FIND(": ",H5)+2,FIND("/",H5)-FIND(":",H5)-2))-1)/VALUE(RIGHT(H5,1))+50*E5)-(100*E5),-E5*100))) | H5: =IF(E5="","",OFFSET([2]PGA!$AL$1,MATCH(A5,[2]PGA!$E$1:$E$500,0)-1,0))
A6: Adam Scott | B6: 1.51% | C6: 66 | D6: 56 | F6: =IFERROR(IF(A6="","",OFFSET(Results!$Z$1,MATCH(A6,Results!$A:$A,0)-1,0)),"") -> 11 | G6: =IF(OR(E6="",F6=""),"",IF(F6=1,(IF(COUNTIFS(F:F,"<="&F6)<=1,1,(1-COUNTIFS(F:F,"<"&F6))/COUNTIFS(F:F,F6)))*50*E6*(1+VALUE(MID(H6,FIND(": ",H6)+2,FIND("/",H6)-FIND(":",H6)-2))-1)+50*E6*(1+VALUE(MID(H6,FIND(": ",H6)+2,FIND("/",H6)-FIND(":",H6)-2))-1)/VALUE(RIGHT(H6,1)),IF(F6<=VALUE(MID(H6,FIND(", ",H6)+2,1)),(IF(COUNTIFS(F:F,"<="&F6)<=VALUE(MID(H6,FIND(", ",H6)+2,1)),1,(VALUE(MID(H6,FIND(", ",H6)+2,1))-COUNTIFS(F:F,"<"&F6))/COUNTIFS(F:F,F6)))*(50*E6*(1+VALUE(MID(H6,FIND(": ",H6)+2,FIND("/",H6)-FIND(":",H6)-2))-1)/VALUE(RIGHT(H6,1))+50*E6)-(100*E6),-E6*100))) | H6: =IF(E6="","",OFFSET([2]PGA!$AL$1,MATCH(A6,[2]PGA!$E$1:$E$500,0)-1,0))
A7: Adam Svensson | B7: 0.40% | C7: 250 | D7: 201 | F7: =IFERROR(IF(A7="","",OFFSET(Results!$Z$1,MATCH(A7,Results!$A:$A,0)-1,0)),"") -> 93 | G7: =IF(OR(E7="",F7=""),"",IF(F7=1,(IF(COUNTIFS(F:F,"<="&F7)<=1,1,(1-COUNTIFS(F:F,"<"&F7))/COUNTIFS(F:F,F7)))*50*E7*(1+VALUE(MID(H7,FIND(": ",H7)+2,FIND("/",H7)-FIND(":",H7)-2))-1)+50*E7*(1+VALUE(MID(H7,FIND(": ",H7)+2,FIND("/",H7)-FIND(":",H7)-2))-1)/VALUE(RIGHT(H7,1)),IF(F7<=VALUE(MID(H7,FIND(", ",H7)+2,1)),(IF(COUNTIFS(F:F,"<="&F7)<=VALUE(MID(H7,FIND(", ",H7)+2,1)),1,(VALUE(MID(H7,FIND(", ",H7)+2,1))-COUNTIFS(F:F,"<"&F7))/COUNTIFS(F:F,F7)))*(50*E7*(1+VALUE(MID(H7,FIND(": ",H7)+2,FIND("/",H7)-FIND(":",H7)-2))-1)/VALUE(RIGHT(H7,1))+50*E7)-(100*E7),-E7*100))) | H7: =IF(E7="","",OFFSET([2]PGA!$AL$1,MATCH(A7,[2]PGA!$E$1:$E$500,0)-1,0))
A8: Adrien Dumont de Chassart | B8: 0.69% | C8: 145 | D8: 101 | F8: =IFERROR(IF(A8="","",OFFSET(Results!$Z$1,MATCH(A8,Results!$A:$A,0)-1,0)),"") -> 11 | G8: =IF(OR(E8="",F8=""),"",IF(F8=1,(IF(COUNTIFS(F:F,"<="&F8)<=1,1,(1-COUNTIFS(F:F,"<"&F8))/COUNTIFS(F:F,F8)))*50*E8*(1+VALUE(MID(H8,FIND(": ",H8)+2,FIND("/",H8)-FIND(":",H8)-2))-1)+50*E8*(1+VALUE(MID(H8,FIND(": ",H8)+2,FIND("/",H8)-FIND(":",H8)-2))-1)/VALUE(RIGHT(H8,1)),IF(F8<=VALUE(MID(H8,FIND(", ",H8)+2,1)),(IF(COUNTIFS(F:F,"<="&F8)<=VALUE(MID(H8,FIND(", ",H8)+2,1)),1,(VALUE(MID(H8,FIND(", ",H8)+2,1))-COUNTIFS(F:F,"<"&F8))/COUNTIFS(F:F,F8)))*(50*E8*(1+VALUE(MID(H8,FIND(": ",H8)+2,FIND("/",H8)-FIND(":",H8)-2))-1)/VALUE(RIGHT(H8,1))+50*E8)-(100*E8),-E8*100))) | H8: =IF(E8="","",OFFSET([2]PGA!$AL$1,MATCH(A8,[2]PGA!$E$1:$E$500,0)-1,0))
A9: Adrien Saddier | B9: 0.52% | C9: 192 | D9: 151 | F9: =IFERROR(IF(A9="","",OFFSET(Results!$Z$1,MATCH(A9,Results!$A:$A,0)-1,0)),"") -> 31 | G9: =IF(OR(E9="",F9=""),"",IF(F9=1,(IF(COUNTIFS(F:F,"<="&F9)<=1,1,(1-COUNTIFS(F:F,"<"&F9))/COUNTIFS(F:F,F9)))*50*E9*(1+VALUE(MID(H9,FIND(": ",H9)+2,FIND("/",H9)-FIND(":",H9)-2))-1)+50*E9*(1+VALUE(MID(H9,FIND(": ",H9)+2,FIND("/",H9)-FIND(":",H9)-2))-1)/VALUE(RIGHT(H9,1)),IF(F9<=VALUE(MID(H9,FIND(", ",H9)+2,1)),(IF(COUNTIFS(F:F,"<="&F9)<=VALUE(MID(H9,FIND(", ",H9)+2,1)),1,(VALUE(MID(H9,FIND(", ",H9)+2,1))-COUNTIFS(F:F,"<"&F9))/COUNTIFS(F:F,F9)))*(50*E9*(1+VALUE(MID(H9,FIND(": ",H9)+2,FIND("/",H9)-FIND(":",H9)-2))-1)/VALUE(RIGHT(H9,1))+50*E9)-(100*E9),-E9*100))) | H9: =IF(E9="","",OFFSET([2]PGA!$AL$1,MATCH(A9,[2]PGA!$E$1:$E$500,0)-1,0))
A10: Aldrich Potgieter | B10: 0.43% | C10: 233 | D10: 91 | F10: =IFERROR(IF(A10="","",OFFSET(Results!$Z$1,MATCH(A10,Results!$A:$A,0)-1,0)),"") -> 59 | G10: =IF(OR(E10="",F10=""),"",IF(F10=1,(IF(COUNTIFS(F:F,"<="&F10)<=1,1,(1-COUNTIFS(F:F,"<"&F10))/COUNTIFS(F:F,F10)))*50*E10*(1+VALUE(MID(H10,FIND(": ",H10)+2,FIND("/",H10)-FIND(":",H10)-2))-1)+50*E10*(1+VALUE(MID(H10,FIND(": ",H10)+2,FIND("/",H10)-FIND(":",H10)-2))-1)/VALUE(RIGHT(H10,1)),IF(F10<=VALUE(MID(H10,FIND(", ",H10)+2,1)),(IF(COUNTIFS(F:F,"<="&F10)<=VALUE(MID(H10,FIND(", ",H10)+2,1)),1,(VALUE(MID(H10,FIND(", ",H10)+2,1))-COUNTIFS(F:F,"<"&F10))/COUNTIFS(F:F,F10)))*(50*E10*(1+VALUE(MID(H10,FIND(": ",H10)+2,FIND("/",H10)-FIND(":",H10)-2))-1)/VALUE(RIGHT(H10,1))+50*E10)-(100*E10),-E10*100))) | H10: =IF(E10="","",OFFSET([2]PGA!$AL$1,MATCH(A10,[2]PGA!$E$1:$E$500,0)-1,0))
A11: Alejandro Tosti | B11: 0.30% | C11: 333 | D11: 111 | F11: =IFERROR(IF(A11="","",OFFSET(Results!$Z$1,MATCH(A11,Results!$A:$A,0)-1,0)),"") -> 105 | G11: =IF(OR(E11="",F11=""),"",IF(F11=1,(IF(COUNTIFS(F:F,"<="&F11)<=1,1,(1-COUNTIFS(F:F,"<"&F11))/COUNTIFS(F:F,F11)))*50*E11*(1+VALUE(MID(H11,FIND(": ",H11)+2,FIND("/",H11)-FIND(":",H11)-2))-1)+50*E11*(1+VALUE(MID(H11,FIND(": ",H11)+2,FIND("/",H11)-FIND(":",H11)-2))-1)/VALUE(RIGHT(H11,1)),IF(F11<=VALUE(MID(H11,FIND(", ",H11)+2,1)),(IF(COUNTIFS(F:F,"<="&F11)<=VALUE(MID(H11,FIND(", ",H11)+2,1)),1,(VALUE(MID(H11,FIND(", ",H11)+2,1))-COUNTIFS(F:F,"<"&F11))/COUNTIFS(F:F,F11)))*(50*E11*(1+VALUE(MID(H11,FIND(": ",H11)+2,FIND("/",H11)-FIND(":",H11)-2))-1)/VALUE(RIGHT(H11,1))+50*E11)-(100*E11),-E11*100))) | H11: =IF(E11="","",OFFSET([2]PGA!$AL$1,MATCH(A11,[2]PGA!$E$1:$E$500,0)-1,0))
A12: Alex Smalley | B12: 0.93% | C12: 108 | D12: 71 | F12: =IFERROR(IF(A12="","",OFFSET(Results!$Z$1,MATCH(A12,Results!$A:$A,0)-1,0)),"") -> 11 | G12: =IF(OR(E12="",F12=""),"",IF(F12=1,(IF(COUNTIFS(F:F,"<="&F12)<=1,1,(1-COUNTIFS(F:F,"<"&F12))/COUNTIFS(F:F,F12)))*50*E12*(1+VALUE(MID(H12,FIND(": ",H12)+2,FIND("/",H12)-FIND(":",H12)-2))-1)+50*E12*(1+VALUE(MID(H12,FIND(": ",H12)+2,FIND("/",H12)-FIND(":",H12)-2))-1)/VALUE(RIGHT(H12,1)),IF(F12<=VALUE(MID(H12,FIND(", ",H12)+2,1)),(IF(COUNTIFS(F:F,"<="&F12)<=VALUE(MID(H12,FIND(", ",H12)+2,1)),1,(VALUE(MID(H12,FIND(", ",H12)+2,1))-COUNTIFS(F:F,"<"&F12))/COUNTIFS(F:F,F12)))*(50*E12*(1+VALUE(MID(H12,FIND(": ",H12)+2,FIND("/",H12)-FIND(":",H12)-2))-1)/VALUE(RIGHT(H12,1))+50*E12)-(100*E12),-E12*100))) | H12: =IF(E12="","",OFFSET([2]PGA!$AL$1,MATCH(A12,[2]PGA!$E$1:$E$500,0)-1,0))
A13: Andrew Putnam | B13: 0.87% | C13: 115 | D13: 126 | E13: 0.10% | F13: =IFERROR(IF(A13="","",OFFSET(Results!$Z$1,MATCH(A13,Results!$A:$A,0)-1,0)),"") -> 76 | G13: =IF(OR(E13="",F13=""),"",IF(F13=1,(IF(COUNTIFS(F:F,"<="&F13)<=1,1,(1-COUNTIFS(F:F,"<"&F13))/COUNTIFS(F:F,F13)))*50*E13*(1+VALUE(MID(H13,FIND(": ",H13)+2,FIND("/",H13)-FIND(":",H13)-2))-1)+50*E13*(1+VALUE(MID(H13,FIND(": ",H13)+2,FIND("/",H13)-FIND(":",H13)-2))-1)/VALUE(RIGHT(H13,1)),IF(F13<=VALUE(MID(H13,FIND(", ",H13)+2,1)),(IF(COUNTIFS(F:F,"<="&F13)<=VALUE(MID(H13,FIND(", ",H13)+2,1)),1,(VALUE(MID(H13,FIND(", ",H13)+2,1))-COUNTIFS(F:F,"<"&F13))/COUNTIFS(F:F,F13)))*(50*E13*(1+VALUE(MID(H13,FIND(": ",H13)+2,FIND("/",H13)-FIND(":",H13)-2))-1)/VALUE(RIGHT(H13,1))+50*E13)-(100*E13),-E13*100))) -> -0.1 | H13: =IF(E13="","",OFFSET([2]PGA!$AL$1,MATCH(A13,[2]PGA!$E$1:$E$500,0)-1,0)) -> VirginBet: 125/1, 6pl, 1/5
A14: Austin Eckroat | B14: 0.58% | C14: 172 | D14: 126 | F14: =IFERROR(IF(A14="","",OFFSET(Results!$Z$1,MATCH(A14,Results!$A:$A,0)-1,0)),"") -> 11 | G14: =IF(OR(E14="",F14=""),"",IF(F14=1,(IF(COUNTIFS(F:F,"<="&F14)<=1,1,(1-COUNTIFS(F:F,"<"&F14))/COUNTIFS(F:F,F14)))*50*E14*(1+VALUE(MID(H14,FIND(": ",H14)+2,FIND("/",H14)-FIND(":",H14)-2))-1)+50*E14*(1+VALUE(MID(H14,FIND(": ",H14)+2,FIND("/",H14)-FIND(":",H14)-2))-1)/VALUE(RIGHT(H14,1)),IF(F14<=VALUE(MID(H14,FIND(", ",H14)+2,1)),(IF(COUNTIFS(F:F,"<="&F14)<=VALUE(MID(H14,FIND(", ",H14)+2,1)),1,(VALUE(MID(H14,FIND(", ",H14)+2,1))-COUNTIFS(F:F,"<"&F14))/COUNTIFS(F:F,F14)))*(50*E14*(1+VALUE(MID(H14,FIND(": ",H14)+2,FIND("/",H14)-FIND(":",H14)-2))-1)/VALUE(RIGHT(H14,1))+50*E14)-(100*E14),-E14*100))) | H14: =IF(E14="","",OFFSET([2]PGA!$AL$1,MATCH(A14,[2]PGA!$E$1:$E$500,0)-1,0))
A15: Beau Hossler | B15: 0.55% | C15: 182 | D15: 141 | F15: =IFERROR(IF(A15="","",OFFSET(Results!$Z$1,MATCH(A15,Results!$A:$A,0)-1,0)),"") -> 31 | G15: =IF(OR(E15="",F15=""),"",IF(F15=1,(IF(COUNTIFS(F:F,"<="&F15)<=1,1,(1-COUNTIFS(F:F,"<"&F15))/COUNTIFS(F:F,F15)))*50*E15*(1+VALUE(MID(H15,FIND(": ",H15)+2,FIND("/",H15)-FIND(":",H15)-2))-1)+50*E15*(1+VALUE(MID(H15,FIND(": ",H15)+2,FIND("/",H15)-FIND(":",H15)-2))-1)/VALUE(RIGHT(H15,1)),IF(F15<=VALUE(MID(H15,FIND(", ",H15)+2,1)),(IF(COUNTIFS(F:F,"<="&F15)<=VALUE(MID(H15,FIND(", ",H15)+2,1)),1,(VALUE(MID(H15,FIND(", ",H15)+2,1))-COUNTIFS(F:F,"<"&F15))/COUNTIFS(F:F,F15)))*(50*E15*(1+VALUE(MID(H15,FIND(": ",H15)+2,FIND("/",H15)-FIND(":",H15)-2))-1)/VALUE(RIGHT(H15,1))+50*E15)-(100*E15),-E15*100))) | H15: =IF(E15="","",OFFSET([2]PGA!$AL$1,MATCH(A15,[2]PGA!$E$1:$E$500,0)-1,0))
A16: Ben Griffin | B16: 1.51% | C16: 66 | D16: 51 | F16: =IFERROR(IF(A16="","",OFFSET(Results!$Z$1,MATCH(A16,Results!$A:$A,0)-1,0)),"") -> 76 | G16: =IF(OR(E16="",F16=""),"",IF(F16=1,(IF(COUNTIFS(F:F,"<="&F16)<=1,1,(1-COUNTIFS(F:F,"<"&F16))/COUNTIFS(F:F,F16)))*50*E16*(1+VALUE(MID(H16,FIND(": ",H16)+2,FIND("/",H16)-FIND(":",H16)-2))-1)+50*E16*(1+VALUE(MID(H16,FIND(": ",H16)+2,FIND("/",H16)-FIND(":",H16)-2))-1)/VALUE(RIGHT(H16,1)),IF(F16<=VALUE(MID(H16,FIND(", ",H16)+2,1)),(IF(COUNTIFS(F:F,"<="&F16)<=VALUE(MID(H16,FIND(", ",H16)+2,1)),1,(VALUE(MID(H16,FIND(", ",H16)+2,1))-COUNTIFS(F:F,"<"&F16))/COUNTIFS(F:F,F16)))*(50*E16*(1+VALUE(MID(H16,FIND(": ",H16)+2,FIND("/",H16)-FIND(":",H16)-2))-1)/VALUE(RIGHT(H16,1))+50*E16)-(100*E16),-E16*100))) | H16: =IF(E16="","",OFFSET([2]PGA!$AL$1,MATCH(A16,[2]PGA!$E$1:$E$500,0)-1,0))
A17: Billy Horschel | B17: 0.65% | C17: 154 | D17: 111 | F17: =IFERROR(IF(A17="","",OFFSET(Results!$Z$1,MATCH(A17,Results!$A:$A,0)-1,0)),"") -> 76 | G17: =IF(OR(E17="",F17=""),"",IF(F17=1,(IF(COUNTIFS(F:F,"<="&F17)<=1,1,(1-COUNTIFS(F:F,"<"&F17))/COUNTIFS(F:F,F17)))*50*E17*(1+VALUE(MID(H17,FIND(": ",H17)+2,FIND("/",H17)-FIND(":",H17)-2))-1)+50*E17*(1+VALUE(MID(H17,FIND(": ",H17)+2,FIND("/",H17)-FIND(":",H17)-2))-1)/VALUE(RIGHT(H17,1)),IF(F17<=VALUE(MID(H17,FIND(", ",H17)+2,1)),(IF(COUNTIFS(F:F,"<="&F17)<=VALUE(MID(H17,FIND(", ",H17)+2,1)),1,(VALUE(MID(H17,FIND(", ",H17)+2,1))-COUNTIFS(F:F,"<"&F17))/COUNTIFS(F:F,F17)))*(50*E17*(1+VALUE(MID(H17,FIND(": ",H17)+2,FIND("/",H17)-FIND(":",H17)-2))-1)/VALUE(RIGHT(H17,1))+50*E17)-(100*E17),-E17*100))) | H17: =IF(E17="","",OFFSET([2]PGA!$AL$1,MATCH(A17,[2]PGA!$E$1:$E$500,0)-1,0))
A18: Brian Campbell | B18: 0.35% | C18: 286 | D18: 251 | F18: =IFERROR(IF(A18="","",OFFSET(Results!$Z$1,MATCH(A18,Results!$A:$A,0)-1,0)),"") -> 59 | G18: =IF(OR(E18="",F18=""),"",IF(F18=1,(IF(COUNTIFS(F:F,"<="&F18)<=1,1,(1-COUNTIFS(F:F,"<"&F18))/COUNTIFS(F:F,F18)))*50*E18*(1+VALUE(MID(H18,FIND(": ",H18)+2,FIND("/",H18)-FIND(":",H18)-2))-1)+50*E18*(1+VALUE(MID(H18,FIND(": ",H18)+2,FIND("/",H18)-FIND(":",H18)-2))-1)/VALUE(RIGHT(H18,1)),IF(F18<=VALUE(MID(H18,FIND(", ",H18)+2,1)),(IF(COUNTIFS(F:F,"<="&F18)<=VALUE(MID(H18,FIND(", ",H18)+2,1)),1,(VALUE(MID(H18,FIND(", ",H18)+2,1))-COUNTIFS(F:F,"<"&F18))/COUNTIFS(F:F,F18)))*(50*E18*(1+VALUE(MID(H18,FIND(": ",H18)+2,FIND("/",H18)-FIND(":",H18)-2))-1)/VALUE(RIGHT(H18,1))+50*E18)-(100*E18),-E18*100))) | H18: =IF(E18="","",OFFSET([2]PGA!$AL$1,MATCH(A18,[2]PGA!$E$1:$E$500,0)-1,0))
A19: Brice Garnett | B19: 0.36% | C19: 278 | D19: 251 | F19: =IFERROR(IF(A19="","",OFFSET(Results!$Z$1,MATCH(A19,Results!$A:$A,0)-1,0)),"") -> 59 | G19: =IF(OR(E19="",F19=""),"",IF(F19=1,(IF(COUNTIFS(F:F,"<="&F19)<=1,1,(1-COUNTIFS(F:F,"<"&F19))/COUNTIFS(F:F,F19)))*50*E19*(1+VALUE(MID(H19,FIND(": ",H19)+2,FIND("/",H19)-FIND(":",H19)-2))-1)+50*E19*(1+VALUE(MID(H19,FIND(": ",H19)+2,FIND("/",H19)-FIND(":",H19)-2))-1)/VALUE(RIGHT(H19,1)),IF(F19<=VALUE(MID(H19,FIND(", ",H19)+2,1)),(IF(COUNTIFS(F:F,"<="&F19)<=VALUE(MID(H19,FIND(", ",H19)+2,1)),1,(VALUE(MID(H19,FIND(", ",H19)+2,1))-COUNTIFS(F:F,"<"&F19))/COUNTIFS(F:F,F19)))*(50*E19*(1+VALUE(MID(H19,FIND(": ",H19)+2,FIND("/",H19)-FIND(":",H19)-2))-1)/VALUE(RIGHT(H19,1))+50*E19)-(100*E19),-E19*100))) | H19: =IF(E19="","",OFFSET([2]PGA!$AL$1,MATCH(A19,[2]PGA!$E$1:$E$500,0)-1,0))
A20: Bronson Burgoon | B20: 0.41% | C20: 244 | D20: 181 | F20: =IFERROR(IF(A20="","",OFFSET(Results!$Z$1,MATCH(A20,Results!$A:$A,0)-1,0)),"") -> 31 | G20: =IF(OR(E20="",F20=""),"",IF(F20=1,(IF(COUNTIFS(F:F,"<="&F20)<=1,1,(1-COUNTIFS(F:F,"<"&F20))/COUNTIFS(F:F,F20)))*50*E20*(1+VALUE(MID(H20,FIND(": ",H20)+2,FIND("/",H20)-FIND(":",H20)-2))-1)+50*E20*(1+VALUE(MID(H20,FIND(": ",H20)+2,FIND("/",H20)-FIND(":",H20)-2))-1)/VALUE(RIGHT(H20,1)),IF(F20<=VALUE(MID(H20,FIND(", ",H20)+2,1)),(IF(COUNTIFS(F:F,"<="&F20)<=VALUE(MID(H20,FIND(", ",H20)+2,1)),1,(VALUE(MID(H20,FIND(", ",H20)+2,1))-COUNTIFS(F:F,"<"&F20))/COUNTIFS(F:F,F20)))*(50*E20*(1+VALUE(MID(H20,FIND(": ",H20)+2,FIND("/",H20)-FIND(":",H20)-2))-1)/VALUE(RIGHT(H20,1))+50*E20)-(100*E20),-E20*100))) | H20: =IF(E20="","",OFFSET([2]PGA!$AL$1,MATCH(A20,[2]PGA!$E$1:$E$500,0)-1,0))
A21: Brooks Koepka | B21: 1.28% | C21: 78 | D21: 41 | F21: =IFERROR(IF(A21="","",OFFSET(Results!$Z$1,MATCH(A21,Results!$A:$A,0)-1,0)),"") -> 124 | G21: =IF(OR(E21="",F21=""),"",IF(F21=1,(IF(COUNTIFS(F:F,"<="&F21)<=1,1,(1-COUNTIFS(F:F,"<"&F21))/COUNTIFS(F:F,F21)))*50*E21*(1+VALUE(MID(H21,FIND(": ",H21)+2,FIND("/",H21)-FIND(":",H21)-2))-1)+50*E21*(1+VALUE(MID(H21,FIND(": ",H21)+2,FIND("/",H21)-FIND(":",H21)-2))-1)/VALUE(RIGHT(H21,1)),IF(F21<=VALUE(MID(H21,FIND(", ",H21)+2,1)),(IF(COUNTIFS(F:F,"<="&F21)<=VALUE(MID(H21,FIND(", ",H21)+2,1)),1,(VALUE(MID(H21,FIND(", ",H21)+2,1))-COUNTIFS(F:F,"<"&F21))/COUNTIFS(F:F,F21)))*(50*E21*(1+VALUE(MID(H21,FIND(": ",H21)+2,FIND("/",H21)-FIND(":",H21)-2))-1)/VALUE(RIGHT(H21,1))+50*E21)-(100*E21),-E21*100))) | H21: =IF(E21="","",OFFSET([2]PGA!$AL$1,MATCH(A21,[2]PGA!$E$1:$E$500,0)-1,0))
A22: Casey Russell | B22: 0.03% | C22: 3333 | D22: 401 | F22: =IFERROR(IF(A22="","",OFFSET(Results!$Z$1,MATCH(A22,Results!$A:$A,0)-1,0)),"") -> 93 | G22: =IF(OR(E22="",F22=""),"",IF(F22=1,(IF(COUNTIFS(F:F,"<="&F22)<=1,1,(1-COUNTIFS(F:F,"<"&F22))/COUNTIFS(F:F,F22)))*50*E22*(1+VALUE(MID(H22,FIND(": ",H22)+2,FIND("/",H22)-FIND(":",H22)-2))-1)+50*E22*(1+VALUE(MID(H22,FIND(": ",H22)+2,FIND("/",H22)-FIND(":",H22)-2))-1)/VALUE(RIGHT(H22,1)),IF(F22<=VALUE(MID(H22,FIND(", ",H22)+2,1)),(IF(COUNTIFS(F:F,"<="&F22)<=VALUE(MID(H22,FIND(", ",H22)+2,1)),1,(VALUE(MID(H22,FIND(", ",H22)+2,1))-COUNTIFS(F:F,"<"&F22))/COUNTIFS(F:F,F22)))*(50*E22*(1+VALUE(MID(H22,FIND(": ",H22)+2,FIND("/",H22)-FIND(":",H22)-2))-1)/VALUE(RIGHT(H22,1))+50*E22)-(100*E22),-E22*100))) | H22: =IF(E22="","",OFFSET([2]PGA!$AL$1,MATCH(A22,[2]PGA!$E$1:$E$500,0)-1,0))
A23: Chad Ramey | B23: 0.77% | C23: 130 | D23: 111 | F23: =IFERROR(IF(A23="","",OFFSET(Results!$Z$1,MATCH(A23,Results!$A:$A,0)-1,0)),"") -> 11 | G23: =IF(OR(E23="",F23=""),"",IF(F23=1,(IF(COUNTIFS(F:F,"<="&F23)<=1,1,(1-COUNTIFS(F:F,"<"&F23))/COUNTIFS(F:F,F23)))*50*E23*(1+VALUE(MID(H23,FIND(": ",H23)+2,FIND("/",H23)-FIND(":",H23)-2))-1)+50*E23*(1+VALUE(MID(H23,FIND(": ",H23)+2,FIND("/",H23)-FIND(":",H23)-2))-1)/VALUE(RIGHT(H23,1)),IF(F23<=VALUE(MID(H23,FIND(", ",H23)+2,1)),(IF(COUNTIFS(F:F,"<="&F23)<=VALUE(MID(H23,FIND(", ",H23)+2,1)),1,(VALUE(MID(H23,FIND(", ",H23)+2,1))-COUNTIFS(F:F,"<"&F23))/COUNTIFS(F:F,F23)))*(50*E23*(1+VALUE(MID(H23,FIND(": ",H23)+2,FIND("/",H23)-FIND(":",H23)-2))-1)/VALUE(RIGHT(H23,1))+50*E23)-(100*E23),-E23*100))) | H23: =IF(E23="","",OFFSET([2]PGA!$AL$1,MATCH(A23,[2]PGA!$E$1:$E$500,0)-1,0))
