Workbook

Sheet Results
A1: PLAYER | B1: Results
A2: =IF(J2="","",CONCATENATE(J2," ",I2)) -> FirstName Surname | B2: Date | C2: Event | D2: Course | E2: Location | F2: Tour | G2: Tour2 | H2: Tour3 | I2: Surname | J2: FirstName | K2: Posn | L2: Rd1 | M2: Rd2 | N2: Rd3 | O2: Rd4 | P2: Rd5 | Q2: Total | R2: Field | S2: Field1 | T2: AdjRd1 | U2: AdjRd2 | V2: AdjRd3 | W2: AdjRd4 | X2: AdjRd5 | Y2: AdjAve | Z2: Rd1Pos | AA2: Rd2Pos | AB2: Rd3Pos | AC2: Rd4Pos | AD2: Rd5Pos | AE2: Rd1Lead | AF2: Rd2Lead | AG2: Rd3Lead | AH2: Rd4Lead | AI2: Rd5Lead | AJ2: Posn2
A3: =IF(J3="","",CONCATENATE(J3," ",I3)) -> Cameron John | B3: 46110 | C3: The National Tournament | D3: The National | E3: Australia | F3: Australasian | I3: John | J3: Cameron | K3: 1 | L3: 73 | M3: 70 | N3: 66 | O3: 68 | Q3: 277 | R3: 73.84 | S3: 73.67 | T3: 72.46 | U3: 69.73 | V3: 70.03 | W3: 72.6 | Y3: 71.21 | Z3: 21 | AA3: 7 | AB3: 1 | AC3: 1 | AE3: 5 | AF3: 5 | AG3: 0 | AH3: 0 | AJ3: 1
A4: =IF(J4="","",CONCATENATE(J4," ",I4)) -> Daniel Gale | B4: 46110 | C4: The National Tournament | D4: The National | E4: Australia | F4: Australasian | I4: Gale | J4: Daniel | K4: 2 | L4: 74 | M4: 68 | N4: 71 | O4: 64 | Q4: 277 | R4: 73.84 | S4: 73.67 | T4: 73.46 | U4: 67.73 | V4: 75.03 | W4: 68.6 | Y4: 71.21 | Z4: 32 | AA4: 4 | AB4: 13 | AC4: 1 | AE4: 6 | AF4: 4 | AG4: 4 | AH4: 0 | AJ4: 2
A5: =IF(J5="","",CONCATENATE(J5," ",I5)) -> Matias Sanchez | B5: 46110 | C5: The National Tournament | D5: The National | E5: Australia | F5: Australasian | I5: Sanchez | J5: Matias | K5: 3 | L5: 71 | M5: 70 | N5: 68 | O5: 69 | Q5: 278 | R5: 73.84 | S5: 73.67 | T5: 70.46 | U5: 69.73 | V5: 72.03 | W5: 73.6 | Y5: 71.46 | Z5: 5 | AA5: 3 | AB5: 1 | AC5: 3 | AE5: 3 | AF5: 3 | AG5: 0 | AH5: 1 | AJ5: 3
A6: =IF(J6="","",CONCATENATE(J6," ",I6)) -> Louis Dobbelaar | B6: 46110 | C6: The National Tournament | D6: The National | E6: Australia | F6: Australasian | I6: Dobbelaar | J6: Louis | K6: 4 | L6: 74 | M6: 75 | N6: 64 | O6: 66 | Q6: 279 | R6: 73.84 | S6: 73.67 | T6: 73.46 | U6: 74.73 | V6: 68.03 | W6: 70.6 | Y6: 71.71 | Z6: 32 | AA6: 43 | AB6: 13 | AC6: 4 | AE6: 6 | AF6: 11 | AG6: 4 | AH6: 2 | AJ6: 4
A7: =IF(J7="","",CONCATENATE(J7," ",I7)) -> Declan O'Donovan | B7: 46110 | C7: The National Tournament | D7: The National | E7: Australia | F7: Australasian | I7: O'Donovan | J7: Declan | K7: 4 | L7: 78 | M7: 72 | N7: 66 | O7: 63 | Q7: 279 | R7: 73.84 | S7: 73.67 | T7: 77.46 | U7: 71.73 | V7: 70.03 | W7: 67.6 | Y7: 71.71 | Z7: 66 | AA7: 48 | AB7: 28 | AC7: 4 | AE7: 10 | AF7: 12 | AG7: 7 | AH7: 2 | AJ7: 4
A8: =IF(J8="","",CONCATENATE(J8," ",I8)) -> Todd Sinnott | B8: 46110 | C8: The National Tournament | D8: The National | E8: Australia | F8: Australasian | I8: Sinnott | J8: Todd | K8: 4 | L8: 71 | M8: 73 | N8: 67 | O8: 68 | Q8: 279 | R8: 73.84 | S8: 73.67 | T8: 70.46 | U8: 72.73 | V8: 71.03 | W8: 72.6 | Y8: 71.71 | Z8: 5 | AA8: 14 | AB8: 6 | AC8: 4 | AE8: 3 | AF8: 6 | AG8: 2 | AH8: 2 | AJ8: 4
A9: =IF(J9="","",CONCATENATE(J9," ",I9)) -> Corey Lamb | B9: 46110 | C9: The National Tournament | D9: The National | E9: Australia | F9: Australasian | I9: Lamb | J9: Corey | K9: 7 | L9: 71 | M9: 73 | N9: 67 | O9: 69 | Q9: 280 | R9: 73.84 | S9: 73.67 | T9: 70.46 | U9: 72.73 | V9: 71.03 | W9: 73.6 | Y9: 71.96 | Z9: 5 | AA9: 14 | AB9: 6 | AC9: 7 | AE9: 3 | AF9: 6 | AG9: 2 | AH9: 3 | AJ9: 7
A10: =IF(J10="","",CONCATENATE(J10," ",I10)) -> Josh Armstrong | B10: 46110 | C10: The National Tournament | D10: The National | E10: Australia | F10: Australasian | I10: Armstrong | J10: Josh | K10: 8 | L10: 68 | M10: 70 | N10: 72 | O10: 71 | Q10: 281 | R10: 73.84 | S10: 73.67 | T10: 67.46 | U10: 69.73 | V10: 76.03 | W10: 75.6 | Y10: 72.21 | Z10: 1 | AA10: 1 | AB10: 3 | AC10: 8 | AE10: -1 | AF10: -2 | AG10: 1 | AH10: 4 | AJ10: 8
A11: =IF(J11="","",CONCATENATE(J11," ",I11)) -> Nathan Barbieri | B11: 46110 | C11: The National Tournament | D11: The National | E11: Australia | F11: Australasian | I11: Barbieri | J11: Nathan | K11: 8 | L11: 73 | M11: 69 | N11: 68 | O11: 71 | Q11: 281 | R11: 73.84 | S11: 73.67 | T11: 72.46 | U11: 68.73 | V11: 72.03 | W11: 75.6 | Y11: 72.21 | Z11: 21 | AA11: 4 | AB11: 3 | AC11: 8 | AE11: 5 | AF11: 4 | AG11: 1 | AH11: 4 | AJ11: 8
A12: =IF(J12="","",CONCATENATE(J12," ",I12)) -> Kerry Mountcastle | B12: 46110 | C12: The National Tournament | D12: The National | E12: Australia | F12: Australasian | I12: Mountcastle | J12: Kerry | K12: 8 | L12: 73 | M12: 74 | N12: 68 | O12: 66 | Q12: 281 | R12: 73.84 | S12: 73.67 | T12: 72.46 | U12: 73.73 | V12: 72.03 | W12: 70.6 | Y12: 72.21 | Z12: 21 | AA12: 28 | AB12: 21 | AC12: 8 | AE12: 5 | AF12: 9 | AG12: 6 | AH12: 4 | AJ12: 8
A13: =IF(J13="","",CONCATENATE(J13," ",I13)) -> Jack Thompson | B13: 46110 | C13: The National Tournament | D13: The National | E13: Australia | F13: Australasian | I13: Thompson | J13: Jack | K13: 8 | L13: 76 | M13: 72 | N13: 65 | O13: 68 | Q13: 281 | R13: 73.84 | S13: 73.67 | T13: 75.46 | U13: 71.73 | V13: 69.03 | W13: 72.6 | Y13: 72.21 | Z13: 53 | AA13: 35 | AB13: 13 | AC13: 8 | AE13: 8 | AF13: 10 | AG13: 4 | AH13: 4 | AJ13: 8
A14: =IF(J14="","",CONCATENATE(J14," ",I14)) -> Lachlan Barker | B14: 46110 | C14: The National Tournament | D14: The National | E14: Australia | F14: Australasian | I14: Barker | J14: Lachlan | K14: 12 | L14: 73 | M14: 70 | N14: 70 | O14: 69 | Q14: 282 | R14: 73.84 | S14: 73.67 | T14: 72.46 | U14: 69.73 | V14: 74.03 | W14: 73.6 | Y14: 72.46 | Z14: 21 | AA14: 7 | AB14: 13 | AC14: 12 | AE14: 5 | AF14: 5 | AG14: 4 | AH14: 5 | AJ14: 12
... A57: =IF(J57="","",CONCATENATE(J57," ",I57)) -> Blake Proverbs | B57: 46110 | C57: The National Tournament | D57: The National | E57: Australia | F57: Australasian | I57: Proverbs | J57: Blake | K57: 54 | L57: 74 | M57: 72 | N57: 75 | O57: 74 | Q57: 295 | R57: 73.84 | S57: 73.67 | T57: 73.46 | U57: 71.73 | V57: 79.03 | W57: 78.6 | Y57: 75.71 | Z57: 32 | AA57: 22 | AB57: 49 | AC57: 54 | AE57: 6 | AF57: 8 | AG57: 12 | AH57: 18 | AJ57: 54
A58: =IF(J58="","",CONCATENATE(J58," ",I58)) -> Adam Coull | B58: 46110 | C58: The National Tournament | D58: The National | E58: Australia | F58: Australasian | I58: Coull | J58: Adam | K58: mc | L58: 77 | M58: 74 | Q58: 151 | R58: 73.84 | S58: 73.67 | T58: 76.46 | U58: 73.73 | Y58: 75.1 | Z58: 62 | AA58: 56 | AE58: 9 | AF58: 13 | AJ58: 56
A59: =IF(J59="","",CONCATENATE(J59," ",I59)) -> Adam Hatch | B59: 46110 | C59: The National Tournament | D59: The National | E59: Australia | F59: Australasian | I59: Hatch | J59: Adam | K59: mc | L59: 78 | M59: 73 | Q59: 151 | R59: 73.84 | S59: 73.67 | T59: 77.46 | U59: 72.73 | Y59: 75.1 | Z59: 66 | AA59: 56 | AE59: 10 | AF59: 13 | AJ59: 56
A60: =IF(J60="","",CONCATENATE(J60," ",I60)) -> Lucas Higgins | B60: 46110 | C60: The National Tournament | D60: The National | E60: Australia | F60: Australasian | I60: Higgins | J60: Lucas | K60: mc | L60: 76 | M60: 75 | Q60: 151 | R60: 73.84 | S60: 73.67 | T60: 75.46 | U60: 74.73 | Y60: 75.1 | Z60: 53 | AA60: 56 | AE60: 8 | AF60: 13 | AJ60: 56
A61: =IF(J61="","",CONCATENATE(J61," ",I61)) -> Jye Pickin | B61: 46110 | C61: The National Tournament | D61: The National | E61: Australia | F61: Australasian | I61: Pickin | J61: Jye | K61: mc | L61: 76 | M61: 75 | Q61: 151 | R61: 73.84 | S61: 73.67 | T61: 75.46 | U61: 74.73 | Y61: 75.1 | Z61: 53 | AA61: 56 | AE61: 8 | AF61: 13 | AJ61: 56
A62: =IF(J62="","",CONCATENATE(J62," ",I62)) -> Tyler Wood | B62: 46110 | C62: The National Tournament | D62: The National | E62: Australia | F62: Australasian | I62: Wood | J62: Tyler | K62: mc | L62: 76 | M62: 75 | Q62: 151 | R62: 73.84 | S62: 73.67 | T62: 75.46 | U62: 74.73 | Y62: 75.1 | Z62: 53 | AA62: 56 | AE62: 8 | AF62: 13 | AJ62: 56
A63: =IF(J63="","",CONCATENATE(J63," ",I63)) -> Patrick Healy | B63: 46110 | C63: The National Tournament | D63: The National | E63: Australia | F63: Australasian | I63: Healy | J63: Patrick | K63: mc | L63: 80 | M63: 72 | Q63: 152 | R63: 73.84 | S63: 73.67 | T63: 79.46 | U63: 71.73 | Y63: 75.6 | Z63: 73 | AA63: 61 | AE63: 12 | AF63: 14 | AJ63: 61
A64: =IF(J64="","",CONCATENATE(J64," ",I64)) -> Brett Rankin | B64: 46110 | C64: The National Tournament | D64: The National | E64: Australia | F64: Australasian | I64: Rankin | J64: Brett | K64: mc | L64: 77 | M64: 75 | Q64: 152 | R64: 73.84 | S64: 73.67 | T64: 76.46 | U64: 74.73 | Y64: 75.6 | Z64: 62 | AA64: 61 | AE64: 9 | AF64: 14 | AJ64: 61
A65: =IF(J65="","",CONCATENATE(J65," ",I65)) -> Adam Brady | B65: 46110 | C65: The National Tournament | D65: The National | E65: Australia | F65: Australasian | I65: Brady | J65: Adam | K65: mc | L65: 79 | M65: 74 | Q65: 153 | R65: 73.84 | S65: 73.67 | T65: 78.46 | U65: 73.73 | Y65: 76.1 | Z65: 72 | AA65: 63 | AE65: 11 | AF65: 15 | AJ65: 63
A66: =IF(J66="","",CONCATENATE(J66," ",I66)) -> Andrew Campbell | B66: 46110 | C66: The National Tournament | D66: The National | E66: Australia | F66: Australasian | I66: Campbell | J66: Andrew | K66: mc | L66: 75 | M66: 78 | Q66: 153 | R66: 73.84 | S66: 73.67 | T66: 74.46 | U66: 77.73 | Y66: 76.1 | Z66: 46 | AA66: 63 | AE66: 7 | AF66: 15 | AJ66: 63
A67: =IF(J67="","",CONCATENATE(J67," ",I67)) -> Zach Ion | B67: 46110 | C67: The National Tournament | D67: The National | E67: Australia | F67: Australasian | I67: Ion | J67: Zach | K67: mc | L67: 75 | M67: 78 | Q67: 153 | R67: 73.84 | S67: 73.67 | T67: 74.46 | U67: 77.73 | Y67: 76.1 | Z67: 46 | AA67: 63 | AE67: 7 | AF67: 15 | AJ67: 63
A68: =IF(J68="","",CONCATENATE(J68," ",I68)) -> Chris Malec | B68: 46110 | C68: The National Tournament | D68: The National | E68: Australia | F68: Australasian | I68: Malec | J68: Chris | K68: mc | L68: 75 | M68: 78 | Q68: 153 | R68: 73.84 | S68: 73.67 | T68: 74.46 | U68: 77.73 | Y68: 76.1 | Z68: 46 | AA68: 63 | AE68: 7 | AF68: 15 | AJ68: 63
A69: =IF(J69="","",CONCATENATE(J69," ",I69)) -> Aaron Townsend | B69: 46110 | C69: The National Tournament | D69: The National | E69: Australia | F69: Australasian | I69: Townsend | J69: Aaron | K69: mc | L69: 76 | M69: 77 | Q69: 153 | R69: 73.84 | S69: 73.67 | T69: 75.46 | U69: 76.73 | Y69: 76.1 | Z69: 53 | AA69: 63 | AE69: 8 | AF69: 15 | AJ69: 63
... A78: =IF(J78="","",CONCATENATE(J78," ",I78)) -> Samuel Slater | B78: 46110 | C78: The National Tournament | D78: The National | E78: Australia | F78: Australasian | I78: Slater | J78: Samuel | K78: mc | L78: 87 | M78: 92 | Q78: 179 | R78: 73.84 | S78: 73.67 | T78: 86.46 | U78: 91.73 | Y78: 89.1 | Z78: 76 | AA78: 76 | AE78: 19 | AF78: 41 | AJ78: 76
A79: =IF(J79="","",CONCATENATE(J79," ",I79)) -> Stewart Cink | B79: 46110 | C79: Hoag Classic | D79: Newport Beach | E79: California | F79: Champions | I79: Cink | J79: Stewart | K79: 1 | L79: 66 | M79: 62 | N79: 66 | Q79: 194 | R79: 73.73 | S79: 73.73 | T79: 71.46 | U79: 66.06 | V79: 70.28 | Y79: 69.27 | Z79: 9 | AA79: 1 | AB79: 1 | AE79: 4 | AF79: -2 | AG79: -4 | AJ79: 1
A80: =IF(J80="","",CONCATENATE(J80," ",I80)) -> Ernie Els | B80: 46110 | C80: Hoag Classic | D80: Newport Beach | E80: California | F80: Champions | I80: Els | J80: Ernie | K80: 2 | L80: 66 | M80: 65 | N80: 67 | Q80: 198 | R80: 73.73 | S80: 73.73 | T80: 71.46 | U80: 69.06 | V80: 71.28 | Y80: 70.6 | Z80: 9 | AA80: 4 | AB80: 2 | AE80: 4 | AF80: 3 | AG80: 4 | AJ80: 2
A81: =IF(J81="","",CONCATENATE(J81," ",I81)) -> Zach Johnson | B81: 46110 | C81: Hoag Classic | D81: Newport Beach | E81: California | F81: Champions | I81: Johnson | J81: Zach | K81: 2 | L81: 63 | M81: 70 | N81: 65 | Q81: 198 | R81: 73.73 | S81: 73.73 | T81: 68.46 | U81: 74.06 | V81: 69.28 | Y81: 70.6 | Z81: 2 | AA81: 10 | AB81: 2 | AE81: 1 | AF81: 5 | AG81: 4 | AJ81: 2
A82: =IF(J82="","",CONCATENATE(J82," ",I82)) -> Brian Gay | B82: 46110 | C82: Hoag Classic | D82: Newport Beach | E82: California | F82: Champions | I82: Gay | J82: Brian | K82: 4 | L82: 63 | M82: 69 | N82: 67 | Q82: 199 | R82: 73.73 | S82: 73.73 | T82: 68.46 | U82: 73.06 | V82: 71.28 | Y82: 70.94 | Z82: 2 | AA82: 6 | AB82: 4 | AE82: 1 | AF82: 4 | AG82: 5 | AJ82: 4
A83: =IF(J83="","",CONCATENATE(J83," ",I83)) -> Freddie Jacobson | B83: 46110 | C83: Hoag Classic | D83: Newport Beach | E83: California | F83: Champions | I83: Jacobson | J83: Freddie | K83: 4 | L83: 64 | M83: 66 | N83: 69 | Q83: 199 | R83: 73.73 | S83: 73.73 | T83: 69.46 | U83: 70.06 | V83: 73.28 | Y83: 70.94 | Z83: 4 | AA83: 2 | AB83: 4 | AE83: 2 | AF83: 2 | AG83: 5 | AJ83: 4
A84: =IF(J84="","",CONCATENATE(J84," ",I84)) -> Charlie Wi | B84: 46110 | C84: Hoag Classic | D84: Newport Beach | E84: California | F84: Champions | I84: Wi | J84: Charlie | K84: 4 | L84: 66 | M84: 67 | N84: 66 | Q84: 199 | R84: 73.73 | S84: 73.73 | T84: 71.46 | U84: 71.06 | V84: 70.28 | Y84: 70.94 | Z84: 9 | AA84: 10 | AB84: 4 | AE84: 4 | AF84: 5 | AG84: 5 | AJ84: 4
A85: =IF(J85="","",CONCATENATE(J85," ",I85)) -> Steven Alker | B85: 46110 | C85: Hoag Classic | D85: Newport Beach | E85: California | F85: Champions | I85: Alker | J85: Steven | K85: 7 | L85: 64 | M85: 66 | N85: 70 | Q85: 200 | R85: 73.73 | S85: 73.73 | T85: 69.46 | U85: 70.06 | V85: 74.28 | Y85: 71.27 | Z85: 4 | AA85: 2 | AB85: 7 | AE85: 2 | AF85: 2 | AG85: 6 | AJ85: 7
A86: =IF(J86="","",CONCATENATE(J86," ",I86)) -> Retief Goosen | B86: 46110 | C86: Hoag Classic | D86: Newport Beach | E86: California | F86: Champions | I86: Goosen | J86: Retief | K86: 7 | L86: 66 | M86: 69 | N86: 65 | Q86: 200 | R86: 73.73 | S86: 73.73 | T86: 71.46 | U86: 73.06 | V86: 69.28 | Y86: 71.27 | Z86: 9 | AA86: 17 | AB86: 7 | AE86: 4 | AF86: 7 | AG86: 6 | AJ86: 7
A87: =IF(J87="","",CONCATENATE(J87," ",I87)) -> Bernhard Langer | B87: 46110 | C87: Hoag Classic | D87: Newport Beach | E87: California | F87: Champions | I87: Langer | J87: Bernhard | K87: 7 | L87: 67 | M87: 67 | N87: 66 | Q87: 200 | R87: 73.73 | S87: 73.73 | T87: 72.46 | U87: 71.06 | V87: 70.28 | Y87: 71.27 | Z87: 21 | AA87: 12 | AB87: 7 | AE87: 5 | AF87: 6 | AG87: 6 | AJ87: 7
A88: =IF(J88="","",CONCATENATE(J88," ",I88)) -> Miguel Angel Jimenez | B88: 46110 | C88: Hoag Classic | D88: Newport Beach | E88: California | F88: Champions | I88: Jimenez | J88: Miguel Angel | K88: 10 | L88: 70 | M88: 64 | N88: 67 | Q88: 201 | R88: 73.73 | S88: 73.73 | T88: 75.46 | U88: 68.06 | V88: 71.28 | Y88: 71.6 | Z88: 55 | AA88: 12 | AB88: 10 | AE88: 8 | AF88: 6 | AG88: 7 | AJ88: 10
A89: =IF(J89="","",CONCATENATE(J89," ",I89)) -> Cameron Percy | B89: 46110 | C89: Hoag Classic | D89: Newport Beach | E89: California | F89: Champions | I89: Percy | J89: Cameron | K89: 10 | L89: 66 | M89: 66 | N89: 69 | Q89: 201 | R89: 73.73 | S89: 73.73 | T89: 71.46 | U89: 70.06 | V89: 73.28 | Y89: 71.6 | Z89: 9 | AA89: 6 | AB89: 10 | AE89: 4 | AF89: 4 | AG89: 7 | AJ89: 10
A90: =IF(J90="","",CONCATENATE(J90," ",I90)) -> David Toms | B90: 46110 | C90: Hoag Classic | D90: Newport Beach | E90: California | F90: Champions | I90: Toms | J90: David | K90: 10 | L90: 66 | M90: 66 | N90: 69 | Q90: 201 | R90: 73.73 | S90: 73.73 | T90: 71.46 | U90: 70.06 | V90: 73.28 | Y90: 71.6 | Z90: 9 | AA90: 6 | AB90: 10 | AE90: 4 | AF90: 4 | AG90: 7 | AJ90: 10
...

Sheet Record
A1: Win | D1: FRL | G1: Top3: Win | J1: Top3: FRL | N1: WIN | O1: Rank | P1: Player | Q1: P/L | R1: E/W Play | U1: FRL | V1: Rank | W1: Player | X1: P/L | Y1: E/W Play
A2: Stakes | B2: Profit | D2: Stakes | E2: Profit | G2: Stakes | H2: Profit | J2: Stakes | K2: Profit | O2: 1 | P2: =IFERROR(OFFSET(Picks!A$1,MATCH($O2,Picks!$F:$F,0)-1,0),"") -> Christiaan Bezuidenhout | Q2: =IFERROR(OFFSET(Picks!I$1,MATCH($O2,Picks!$F:$F,0)-1,0),"") -> -2 | R2: =IFERROR(OFFSET(Picks!J$1,MATCH($O2,Picks!$F:$F,0)-1,0),"") -> Spreadex: 110/1, 6pl, 1/5 | V2: 1 | W2: =IFERROR(OFFSET(Picks!M$1,MATCH($O2,Picks!$R:$R,0)-1,0),"") -> Christiaan Bezuidenhout | X2: =IFERROR(OFFSET(Picks!U$1,MATCH($O2,Picks!$R:$R,0)-1,0),"") -> -1 | Y2: =IFERROR(OFFSET(Picks!V$1,MATCH($O2,Picks!$R:$R,0)-1,0),"") -> Spreadex: 110/1, 6pl, 1/5
A3: {=IF(100*SUMPRODUCT((Win!F:F<>"") * IFERROR(--Win!E:E, 0))=0,"",100*SUMPRODUCT((Win!F:F<>"") * IFERROR(--Win!E:E, 0)))} -> 1.3 | B3: =IF(AND(A3="",SUM(Win!G:G)=0),"",SUM(Win!G:G)) -> -1.3 | D3: {=IF(100*SUMPRODUCT((FRL!F:F<>"") * IFERROR(--FRL!E:E, 0))=0,"",100*SUMPRODUCT((FRL!F:F<>"") * IFERROR(--FRL!E:E, 0)))} -> 0.7 | E3: =IF(AND(D3="",SUM(FRL!G:G)=0),"",SUM(FRL!G:G)) -> -0.7 | G3: =IF(T3Picks!B2="","",2*(3-COUNTBLANK(T3Picks!A2:A4))) -> 6 | H3: =IF(T3Picks!B2="","",SUM(T3Picks!G2:G4)) -> -6 | J3: =IF(T3Picks!B5="","",(6-COUNTBLANK(T3Picks!H5:H10))) -> 6 | K3: =IF(T3Picks!B5="","",SUM(T3Picks!G5:G10)) -> -6 | O3: 2 | P3: =IFERROR(OFFSET(Picks!A$1,MATCH($O3,Picks!$F:$F,0)-1,0),"") -> Andrew Putnam | Q3: =IFERROR(OFFSET(Picks!I$1,MATCH($O3,Picks!$F:$F,0)-1,0),"") -> -2 | R3: =IFERROR(OFFSET(Picks!J$1,MATCH($O3,Picks!$F:$F,0)-1,0),"") -> BetMGM: 250/1, 6pl, 1/5 | V3: 2 | W3: =IFERROR(OFFSET(Picks!M$1,MATCH($O3,Picks!$R:$R,0)-1,0),"") -> Denny McCarthy | X3: =IFERROR(OFFSET(Picks!U$1,MATCH($O3,Picks!$R:$R,0)-1,0),"") -> -1 | Y3: =IFERROR(OFFSET(Picks!V$1,MATCH($O3,Picks!$R:$R,0)-1,0),"") -> Spreadex: 110/1, 6pl, 1/5
O4: 3 | P4: =IFERROR(OFFSET(Picks!A$1,MATCH($O4,Picks!$F:$F,0)-1,0),"") -> Denny McCarthy | Q4: =IFERROR(OFFSET(Picks!I$1,MATCH($O4,Picks!$F:$F,0)-1,0),"") -> -2 | R4: =IFERROR(OFFSET(Picks!J$1,MATCH($O4,Picks!$F:$F,0)-1,0),"") -> William Hill: 125/1, 6pl, 1/4 | V4: 3 | W4: =IFERROR(OFFSET(Picks!M$1,MATCH($O4,Picks!$R:$R,0)-1,0),"") -> Andrew Putnam | X4: =IFERROR(OFFSET(Picks!U$1,MATCH($O4,Picks!$R:$R,0)-1,0),"") -> -1 | Y4: =IFERROR(OFFSET(Picks!V$1,MATCH($O4,Picks!$R:$R,0)-1,0),"") -> VirginBet: 125/1, 6pl, 1/5
O5: 4 | P5: =IFERROR(OFFSET(Picks!A$1,MATCH($O5,Picks!$F:$F,0)-1,0),"") -> Chris Kirk | Q5: =IFERROR(OFFSET(Picks!I$1,MATCH($O5,Picks!$F:$F,0)-1,0),"") -> -2 | R5: =IFERROR(OFFSET(Picks!J$1,MATCH($O5,Picks!$F:$F,0)-1,0),"") -> Spreadex: 175/1, 6pl, 1/5 | V5: 4 | W5: =IFERROR(OFFSET(Picks!M$1,MATCH($O5,Picks!$R:$R,0)-1,0),"") -> Takumi Kanaya | X5: =IFERROR(OFFSET(Picks!U$1,MATCH($O5,Picks!$R:$R,0)-1,0),"") -> -1 | Y5: =IFERROR(OFFSET(Picks!V$1,MATCH($O5,Picks!$R:$R,0)-1,0),"") -> Spreadex: 150/1, 6pl, 1/5
O6: 5 | P6: =IFERROR(OFFSET(Picks!A$1,MATCH($O6,Picks!$F:$F,0)-1,0),"") -> Takumi Kanaya | Q6: =IFERROR(OFFSET(Picks!I$1,MATCH($O6,Picks!$F:$F,0)-1,0),"") -> -2 | R6: =IFERROR(OFFSET(Picks!J$1,MATCH($O6,Picks!$F:$F,0)-1,0),"") -> Betfred: 350/1, 5pl, 1/4 | V6: 5 | W6: =IFERROR(OFFSET(Picks!M$1,MATCH($O6,Picks!$R:$R,0)-1,0),"") -> Lucas Glover | X6: =IFERROR(OFFSET(Picks!U$1,MATCH($O6,Picks!$R:$R,0)-1,0),"") -> -1 | Y6: =IFERROR(OFFSET(Picks!V$1,MATCH($O6,Picks!$R:$R,0)-1,0),"") -> Betfred: 175/1, 5pl, 1/4
O7: 6 | P7: =IFERROR(OFFSET(Picks!A$1,MATCH($O7,Picks!$F:$F,0)-1,0),"") -> Lucas Glover | Q7: =IFERROR(OFFSET(Picks!I$1,MATCH($O7,Picks!$F:$F,0)-1,0),"") -> -2 | R7: =IFERROR(OFFSET(Picks!J$1,MATCH($O7,Picks!$F:$F,0)-1,0),"") -> Spreadex: 300/1, 6pl, 1/5 | V7: 6 | W7: =IFERROR(OFFSET(Picks!M$1,MATCH($O7,Picks!$R:$R,0)-1,0),"") -> Matt Kuchar | X7: =IFERROR(OFFSET(Picks!U$1,MATCH($O7,Picks!$R:$R,0)-1,0),"") -> -1 | Y7: =IFERROR(OFFSET(Picks!V$1,MATCH($O7,Picks!$R:$R,0)-1,0),"") -> Spreadex: 175/1, 6pl, 1/5
O8: 7 | P8: =IFERROR(OFFSET(Picks!A$1,MATCH($O8,Picks!$F:$F,0)-1,0),"") | Q8: =IFERROR(OFFSET(Picks!I$1,MATCH($O8,Picks!$F:$F,0)-1,0),"") | R8: =IFERROR(OFFSET(Picks!J$1,MATCH($O8,Picks!$F:$F,0)-1,0),"") | V8: 7 | W8: =IFERROR(OFFSET(Picks!M$1,MATCH($O8,Picks!$R:$R,0)-1,0),"") | X8: =IFERROR(OFFSET(Picks!U$1,MATCH($O8,Picks!$R:$R,0)-1,0),"") | Y8: =IFERROR(OFFSET(Picks!V$1,MATCH($O8,Picks!$R:$R,0)-1,0),"")
O9: 8 | P9: =IFERROR(OFFSET(Picks!A$1,MATCH($O9,Picks!$F:$F,0)-1,0),"") | Q9: =IFERROR(OFFSET(Picks!I$1,MATCH($O9,Picks!$F:$F,0)-1,0),"") | R9: =IFERROR(OFFSET(Picks!J$1,MATCH($O9,Picks!$F:$F,0)-1,0),"") | V9: 8 | W9: =IFERROR(OFFSET(Picks!M$1,MATCH($O9,Picks!$R:$R,0)-1,0),"") | X9: =IFERROR(OFFSET(Picks!U$1,MATCH($O9,Picks!$R:$R,0)-1,0),"") | Y9: =IFERROR(OFFSET(Picks!V$1,MATCH($O9,Picks!$R:$R,0)-1,0),"")
O10: 9 | P10: =IFERROR(OFFSET(Picks!A$1,MATCH($O10,Picks!$F:$F,0)-1,0),"") | Q10: =IFERROR(OFFSET(Picks!I$1,MATCH($O10,Picks!$F:$F,0)-1,0),"") | R10: =IFERROR(OFFSET(Picks!J$1,MATCH($O10,Picks!$F:$F,0)-1,0),"") | V10: 9 | W10: =IFERROR(OFFSET(Picks!M$1,MATCH($O10,Picks!$R:$R,0)-1,0),"") | X10: =IFERROR(OFFSET(Picks!U$1,MATCH($O10,Picks!$R:$R,0)-1,0),"") | Y10: =IFERROR(OFFSET(Picks!V$1,MATCH($O10,Picks!$R:$R,0)-1,0),"")
O11: 10 | P11: =IFERROR(OFFSET(Picks!A$1,MATCH($O11,Picks!$F:$F,0)-1,0),"") | Q11: =IFERROR(OFFSET(Picks!I$1,MATCH($O11,Picks!$F:$F,0)-1,0),"") | R11: =IFERROR(OFFSET(Picks!J$1,MATCH($O11,Picks!$F:$F,0)-1,0),"") | V11: 10 | W11: =IFERROR(OFFSET(Picks!M$1,MATCH($O11,Picks!$R:$R,0)-1,0),"") | X11: =IFERROR(OFFSET(Picks!U$1,MATCH($O11,Picks!$R:$R,0)-1,0),"") | Y11: =IFERROR(OFFSET(Picks!V$1,MATCH($O11,Picks!$R:$R,0)-1,0),"")
O12: 11 | P12: =IFERROR(OFFSET(Picks!A$1,MATCH($O12,Picks!$F:$F,0)-1,0),"") | Q12: =IFERROR(OFFSET(Picks!I$1,MATCH($O12,Picks!$F:$F,0)-1,0),"") | R12: =IFERROR(OFFSET(Picks!J$1,MATCH($O12,Picks!$F:$F,0)-1,0),"") | V12: 11 | W12: =IFERROR(OFFSET(Picks!M$1,MATCH($O12,Picks!$R:$R,0)-1,0),"") | X12: =IFERROR(OFFSET(Picks!U$1,MATCH($O12,Picks!$R:$R,0)-1,0),"") | Y12: =IFERROR(OFFSET(Picks!V$1,MATCH($O12,Picks!$R:$R,0)-1,0),"")
O13: 12 | P13: =IFERROR(OFFSET(Picks!A$1,MATCH($O13,Picks!$F:$F,0)-1,0),"") | Q13: =IFERROR(OFFSET(Picks!I$1,MATCH($O13,Picks!$F:$F,0)-1,0),"") | R13: =IFERROR(OFFSET(Picks!J$1,MATCH($O13,Picks!$F:$F,0)-1,0),"") | V13: 12 | W13: =IFERROR(OFFSET(Picks!M$1,MATCH($O13,Picks!$R:$R,0)-1,0),"") | X13: =IFERROR(OFFSET(Picks!U$1,MATCH($O13,Picks!$R:$R,0)-1,0),"") | Y13: =IFERROR(OFFSET(Picks!V$1,MATCH($O13,Picks!$R:$R,0)-1,0),"")
A27: WIN | B27: 1 | C27: 2 | D27: 3 | E27: 4 | F27: 5 | G27: 6 | H27: 7 | I27: 8 | J27: 9 | K27: 10 | L27: 11 | M27: 12 | N27: FRL | O27: 1 | P27: 2 | Q27: 3 | R27: 4 | S27: 5 | T27: 6 | U27: 7 | V27: 8 | W27: 9 | X27: 10 | Y27: 11 | Z27: 12
B28: =Q2*3 -> -6 | C28: =SUM(Q2:Q3)*1.5 -> -6 | D28: =SUM(Q2:Q4) -> -6 | E28: =SUM(Q2:Q5)*3/4 -> -6 | F28: =SUM(Q2:Q6)*3/5 -> -6 | G28: =SUM(Q2:Q7)*3/6 -> -6 | H28: =SUM(Q2:Q8)*3/7 -> -5.1428571 | I28: =SUM(Q2:Q9)*3/8 -> -4.5 | J28: =SUM(Q2:Q10)*3/9 -> -4 | K28: =SUM(Q2:Q11)*3/10 -> -3.6 | L28: =SUM(Q2:Q12)*3/11 -> -3.2727273 | M28: =SUM(Q2:Q13)*3/12 -> -3 | O28: =X2*3 -> -3 | P28: =SUM(X2:X3)*1.5 -> -3 | Q28: =SUM(X2:X4) -> -3 | R28: =SUM(X2:X5)*3/4 -> -3 | S28: =SUM(X2:X6)*3/5 -> -3 | T28: =SUM(X2:X7)*3/6 -> -3 | U28: =SUM(X2:X8)*3/7 -> -2.5714286 | V28: =SUM(X2:X9)*3/9 -> -2 | W28: =SUM(X2:X10)*3/9 -> -2 | X28: =SUM(X2:X11)*3/10 -> -1.8 | Y28: =SUM(X2:X12)*3/11 -> -1.6363636 | Z28: =SUM(X2:X13)*3/12 -> -1.5

Sheet Win
A1: Player | B1: Win % | C1: TT Odds | D1: Best Odds | E1: Kelly | F1: Result | G1: P/L | H1: E/W Play
A2: A.J. Ewart | B2: 0.24% | C2: 417 | D2: 201 | F2: =IFERROR(IF(A2="","",OFFSET(Results!$AJ$1,MATCH(A2,Results!$A:$A,0)-1,0)),"") -> 104 | G2: =IF(OR(E2="",F2=""),"",IF(F2=1,(IF(COUNTIFS(F:F,"<="&F2)<=1,1,(1-COUNTIFS(F:F,"<"&F2))/COUNTIFS(F:F,F2)))*50*E2*(1+VALUE(MID(H2,FIND(": ",H2)+2,FIND("/",H2)-FIND(":",H2)-2))-1)+50*E2*(1+VALUE(MID(H2,FIND(": ",H2)+2,FIND("/",H2)-FIND(":",H2)-2))-1)/VALUE(RIGHT(H2,1)),IF(F2<=VALUE(MID(H2,FIND(", ",H2)+2,IF(MID(H2,FIND(", ",H2)+2,1)="1",2,1))),(IF(COUNTIFS(F:F,"<="&F2)<=VALUE(MID(H2,FIND(", ",H2)+2,IF(MID(H2,FIND(", ",H2)+2,1)="1",2,1))),1,(VALUE(MID(H2,FIND(", ",H2)+2,IF(MID(H2,FIND(", ",H2)+2,1)="1",2,1)))-COUNTIFS(F:F,"<"&F2))/COUNTIFS(F:F,F2)))*(50*E2*(1+VALUE(MID(H2,FIND(": ",H2)+2,FIND("/",H2)-FIND(":",H2)-2))-1)/VALUE(RIGHT(H2,1))+50*E2)-(100*E2),-E2*100))) | H2: =IF(E2="","",OFFSET([1]PGA!$AL$1,MATCH(A2,[1]PGA!$E$1:$E$500,0)-1,0))
A3: Aaron Rai | B3: 1.06% | C3: 94 | D3: 81 | F3: =IFERROR(IF(A3="","",OFFSET(Results!$AJ$1,MATCH(A3,Results!$A:$A,0)-1,0)),"") | G3: =IF(OR(E3="",F3=""),"",IF(F3=1,(IF(COUNTIFS(F:F,"<="&F3)<=1,1,(1-COUNTIFS(F:F,"<"&F3))/COUNTIFS(F:F,F3)))*50*E3*(1+VALUE(MID(H3,FIND(": ",H3)+2,FIND("/",H3)-FIND(":",H3)-2))-1)+50*E3*(1+VALUE(MID(H3,FIND(": ",H3)+2,FIND("/",H3)-FIND(":",H3)-2))-1)/VALUE(RIGHT(H3,1)),IF(F3<=VALUE(MID(H3,FIND(", ",H3)+2,IF(MID(H3,FIND(", ",H3)+2,1)="1",2,1))),(IF(COUNTIFS(F:F,"<="&F3)<=VALUE(MID(H3,FIND(", ",H3)+2,IF(MID(H3,FIND(", ",H3)+2,1)="1",2,1))),1,(VALUE(MID(H3,FIND(", ",H3)+2,IF(MID(H3,FIND(", ",H3)+2,1)="1",2,1)))-COUNTIFS(F:F,"<"&F3))/COUNTIFS(F:F,F3)))*(50*E3*(1+VALUE(MID(H3,FIND(": ",H3)+2,FIND("/",H3)-FIND(":",H3)-2))-1)/VALUE(RIGHT(H3,1))+50*E3)-(100*E3),-E3*100))) | H3: =IF(E3="","",OFFSET([1]PGA!$AL$1,MATCH(A3,[1]PGA!$E$1:$E$500,0)-1,0))
A4: Aaron Wise | B4: 0.02% | C4: 5000 | D4: 1001 | F4: =IFERROR(IF(A4="","",OFFSET(Results!$AJ$1,MATCH(A4,Results!$A:$A,0)-1,0)),"") -> 98 | G4: =IF(OR(E4="",F4=""),"",IF(F4=1,(IF(COUNTIFS(F:F,"<="&F4)<=1,1,(1-COUNTIFS(F:F,"<"&F4))/COUNTIFS(F:F,F4)))*50*E4*(1+VALUE(MID(H4,FIND(": ",H4)+2,FIND("/",H4)-FIND(":",H4)-2))-1)+50*E4*(1+VALUE(MID(H4,FIND(": ",H4)+2,FIND("/",H4)-FIND(":",H4)-2))-1)/VALUE(RIGHT(H4,1)),IF(F4<=VALUE(MID(H4,FIND(", ",H4)+2,IF(MID(H4,FIND(", ",H4)+2,1)="1",2,1))),(IF(COUNTIFS(F:F,"<="&F4)<=VALUE(MID(H4,FIND(", ",H4)+2,IF(MID(H4,FIND(", ",H4)+2,1)="1",2,1))),1,(VALUE(MID(H4,FIND(", ",H4)+2,IF(MID(H4,FIND(", ",H4)+2,1)="1",2,1)))-COUNTIFS(F:F,"<"&F4))/COUNTIFS(F:F,F4)))*(50*E4*(1+VALUE(MID(H4,FIND(": ",H4)+2,FIND("/",H4)-FIND(":",H4)-2))-1)/VALUE(RIGHT(H4,1))+50*E4)-(100*E4),-E4*100))) | H4: =IF(E4="","",OFFSET([1]PGA!$AL$1,MATCH(A4,[1]PGA!$E$1:$E$500,0)-1,0))
A5: Adam Schenk | B5: 0.07% | C5: 1429 | D5: 1001 | F5: =IFERROR(IF(A5="","",OFFSET(Results!$AJ$1,MATCH(A5,Results!$A:$A,0)-1,0)),"") -> 112 | G5: =IF(OR(E5="",F5=""),"",IF(F5=1,(IF(COUNTIFS(F:F,"<="&F5)<=1,1,(1-COUNTIFS(F:F,"<"&F5))/COUNTIFS(F:F,F5)))*50*E5*(1+VALUE(MID(H5,FIND(": ",H5)+2,FIND("/",H5)-FIND(":",H5)-2))-1)+50*E5*(1+VALUE(MID(H5,FIND(": ",H5)+2,FIND("/",H5)-FIND(":",H5)-2))-1)/VALUE(RIGHT(H5,1)),IF(F5<=VALUE(MID(H5,FIND(", ",H5)+2,IF(MID(H5,FIND(", ",H5)+2,1)="1",2,1))),(IF(COUNTIFS(F:F,"<="&F5)<=VALUE(MID(H5,FIND(", ",H5)+2,IF(MID(H5,FIND(", ",H5)+2,1)="1",2,1))),1,(VALUE(MID(H5,FIND(", ",H5)+2,IF(MID(H5,FIND(", ",H5)+2,1)="1",2,1)))-COUNTIFS(F:F,"<"&F5))/COUNTIFS(F:F,F5)))*(50*E5*(1+VALUE(MID(H5,FIND(": ",H5)+2,FIND("/",H5)-FIND(":",H5)-2))-1)/VALUE(RIGHT(H5,1))+50*E5)-(100*E5),-E5*100))) | H5: =IF(E5="","",OFFSET([1]PGA!$AL$1,MATCH(A5,[1]PGA!$E$1:$E$500,0)-1,0))
A6: Adam Scott | B6: 2.20% | C6: 45 | D6: 36 | F6: =IFERROR(IF(A6="","",OFFSET(Results!$AJ$1,MATCH(A6,Results!$A:$A,0)-1,0)),"") -> 21 | G6: =IF(OR(E6="",F6=""),"",IF(F6=1,(IF(COUNTIFS(F:F,"<="&F6)<=1,1,(1-COUNTIFS(F:F,"<"&F6))/COUNTIFS(F:F,F6)))*50*E6*(1+VALUE(MID(H6,FIND(": ",H6)+2,FIND("/",H6)-FIND(":",H6)-2))-1)+50*E6*(1+VALUE(MID(H6,FIND(": ",H6)+2,FIND("/",H6)-FIND(":",H6)-2))-1)/VALUE(RIGHT(H6,1)),IF(F6<=VALUE(MID(H6,FIND(", ",H6)+2,IF(MID(H6,FIND(", ",H6)+2,1)="1",2,1))),(IF(COUNTIFS(F:F,"<="&F6)<=VALUE(MID(H6,FIND(", ",H6)+2,IF(MID(H6,FIND(", ",H6)+2,1)="1",2,1))),1,(VALUE(MID(H6,FIND(", ",H6)+2,IF(MID(H6,FIND(", ",H6)+2,1)="1",2,1)))-COUNTIFS(F:F,"<"&F6))/COUNTIFS(F:F,F6)))*(50*E6*(1+VALUE(MID(H6,FIND(": ",H6)+2,FIND("/",H6)-FIND(":",H6)-2))-1)/VALUE(RIGHT(H6,1))+50*E6)-(100*E6),-E6*100))) | H6: =IF(E6="","",OFFSET([1]PGA!$AL$1,MATCH(A6,[1]PGA!$E$1:$E$500,0)-1,0))
A7: Adam Svensson | B7: 0.12% | C7: 833 | D7: 401 | F7: =IFERROR(IF(A7="","",OFFSET(Results!$AJ$1,MATCH(A7,Results!$A:$A,0)-1,0)),"") -> 76 | G7: =IF(OR(E7="",F7=""),"",IF(F7=1,(IF(COUNTIFS(F:F,"<="&F7)<=1,1,(1-COUNTIFS(F:F,"<"&F7))/COUNTIFS(F:F,F7)))*50*E7*(1+VALUE(MID(H7,FIND(": ",H7)+2,FIND("/",H7)-FIND(":",H7)-2))-1)+50*E7*(1+VALUE(MID(H7,FIND(": ",H7)+2,FIND("/",H7)-FIND(":",H7)-2))-1)/VALUE(RIGHT(H7,1)),IF(F7<=VALUE(MID(H7,FIND(", ",H7)+2,IF(MID(H7,FIND(", ",H7)+2,1)="1",2,1))),(IF(COUNTIFS(F:F,"<="&F7)<=VALUE(MID(H7,FIND(", ",H7)+2,IF(MID(H7,FIND(", ",H7)+2,1)="1",2,1))),1,(VALUE(MID(H7,FIND(", ",H7)+2,IF(MID(H7,FIND(", ",H7)+2,1)="1",2,1)))-COUNTIFS(F:F,"<"&F7))/COUNTIFS(F:F,F7)))*(50*E7*(1+VALUE(MID(H7,FIND(": ",H7)+2,FIND("/",H7)-FIND(":",H7)-2))-1)/VALUE(RIGHT(H7,1))+50*E7)-(100*E7),-E7*100))) | H7: =IF(E7="","",OFFSET([1]PGA!$AL$1,MATCH(A7,[1]PGA!$E$1:$E$500,0)-1,0))
A8: Adrien Dumont de Chassart | B8: 0.45% | C8: 222 | D8: 126 | F8: =IFERROR(IF(A8="","",OFFSET(Results!$AJ$1,MATCH(A8,Results!$A:$A,0)-1,0)),"") -> 12 | G8: =IF(OR(E8="",F8=""),"",IF(F8=1,(IF(COUNTIFS(F:F,"<="&F8)<=1,1,(1-COUNTIFS(F:F,"<"&F8))/COUNTIFS(F:F,F8)))*50*E8*(1+VALUE(MID(H8,FIND(": ",H8)+2,FIND("/",H8)-FIND(":",H8)-2))-1)+50*E8*(1+VALUE(MID(H8,FIND(": ",H8)+2,FIND("/",H8)-FIND(":",H8)-2))-1)/VALUE(RIGHT(H8,1)),IF(F8<=VALUE(MID(H8,FIND(", ",H8)+2,IF(MID(H8,FIND(", ",H8)+2,1)="1",2,1))),(IF(COUNTIFS(F:F,"<="&F8)<=VALUE(MID(H8,FIND(", ",H8)+2,IF(MID(H8,FIND(", ",H8)+2,1)="1",2,1))),1,(VALUE(MID(H8,FIND(", ",H8)+2,IF(MID(H8,FIND(", ",H8)+2,1)="1",2,1)))-COUNTIFS(F:F,"<"&F8))/COUNTIFS(F:F,F8)))*(50*E8*(1+VALUE(MID(H8,FIND(": ",H8)+2,FIND("/",H8)-FIND(":",H8)-2))-1)/VALUE(RIGHT(H8,1))+50*E8)-(100*E8),-E8*100))) | H8: =IF(E8="","",OFFSET([1]PGA!$AL$1,MATCH(A8,[1]PGA!$E$1:$E$500,0)-1,0))
A9: Adrien Saddier | B9: 0.22% | C9: 455 | D9: 351 | F9: =IFERROR(IF(A9="","",OFFSET(Results!$AJ$1,MATCH(A9,Results!$A:$A,0)-1,0)),"") -> 39 | G9: =IF(OR(E9="",F9=""),"",IF(F9=1,(IF(COUNTIFS(F:F,"<="&F9)<=1,1,(1-COUNTIFS(F:F,"<"&F9))/COUNTIFS(F:F,F9)))*50*E9*(1+VALUE(MID(H9,FIND(": ",H9)+2,FIND("/",H9)-FIND(":",H9)-2))-1)+50*E9*(1+VALUE(MID(H9,FIND(": ",H9)+2,FIND("/",H9)-FIND(":",H9)-2))-1)/VALUE(RIGHT(H9,1)),IF(F9<=VALUE(MID(H9,FIND(", ",H9)+2,IF(MID(H9,FIND(", ",H9)+2,1)="1",2,1))),(IF(COUNTIFS(F:F,"<="&F9)<=VALUE(MID(H9,FIND(", ",H9)+2,IF(MID(H9,FIND(", ",H9)+2,1)="1",2,1))),1,(VALUE(MID(H9,FIND(", ",H9)+2,IF(MID(H9,FIND(", ",H9)+2,1)="1",2,1)))-COUNTIFS(F:F,"<"&F9))/COUNTIFS(F:F,F9)))*(50*E9*(1+VALUE(MID(H9,FIND(": ",H9)+2,FIND("/",H9)-FIND(":",H9)-2))-1)/VALUE(RIGHT(H9,1))+50*E9)-(100*E9),-E9*100))) | H9: =IF(E9="","",OFFSET([1]PGA!$AL$1,MATCH(A9,[1]PGA!$E$1:$E$500,0)-1,0))
A10: Aldrich Potgieter | B10: 0.15% | C10: 667 | D10: 91 | F10: =IFERROR(IF(A10="","",OFFSET(Results!$AJ$1,MATCH(A10,Results!$A:$A,0)-1,0)),"") -> 21 | G10: =IF(OR(E10="",F10=""),"",IF(F10=1,(IF(COUNTIFS(F:F,"<="&F10)<=1,1,(1-COUNTIFS(F:F,"<"&F10))/COUNTIFS(F:F,F10)))*50*E10*(1+VALUE(MID(H10,FIND(": ",H10)+2,FIND("/",H10)-FIND(":",H10)-2))-1)+50*E10*(1+VALUE(MID(H10,FIND(": ",H10)+2,FIND("/",H10)-FIND(":",H10)-2))-1)/VALUE(RIGHT(H10,1)),IF(F10<=VALUE(MID(H10,FIND(", ",H10)+2,IF(MID(H10,FIND(", ",H10)+2,1)="1",2,1))),(IF(COUNTIFS(F:F,"<="&F10)<=VALUE(MID(H10,FIND(", ",H10)+2,IF(MID(H10,FIND(", ",H10)+2,1)="1",2,1))),1,(VALUE(MID(H10,FIND(", ",H10)+2,IF(MID(H10,FIND(", ",H10)+2,1)="1",2,1)))-COUNTIFS(F:F,"<"&F10))/COUNTIFS(F:F,F10)))*(50*E10*(1+VALUE(MID(H10,FIND(": ",H10)+2,FIND("/",H10)-FIND(":",H10)-2))-1)/VALUE(RIGHT(H10,1))+50*E10)-(100*E10),-E10*100))) | H10: =IF(E10="","",OFFSET([1]PGA!$AL$1,MATCH(A10,[1]PGA!$E$1:$E$500,0)-1,0))
A11: Alejandro Tosti | B11: 0.05% | C11: 2000 | D11: 176 | F11: =IFERROR(IF(A11="","",OFFSET(Results!$AJ$1,MATCH(A11,Results!$A:$A,0)-1,0)),"") -> 104 | G11: =IF(OR(E11="",F11=""),"",IF(F11=1,(IF(COUNTIFS(F:F,"<="&F11)<=1,1,(1-COUNTIFS(F:F,"<"&F11))/COUNTIFS(F:F,F11)))*50*E11*(1+VALUE(MID(H11,FIND(": ",H11)+2,FIND("/",H11)-FIND(":",H11)-2))-1)+50*E11*(1+VALUE(MID(H11,FIND(": ",H11)+2,FIND("/",H11)-FIND(":",H11)-2))-1)/VALUE(RIGHT(H11,1)),IF(F11<=VALUE(MID(H11,FIND(", ",H11)+2,IF(MID(H11,FIND(", ",H11)+2,1)="1",2,1))),(IF(COUNTIFS(F:F,"<="&F11)<=VALUE(MID(H11,FIND(", ",H11)+2,IF(MID(H11,FIND(", ",H11)+2,1)="1",2,1))),1,(VALUE(MID(H11,FIND(", ",H11)+2,IF(MID(H11,FIND(", ",H11)+2,1)="1",2,1)))-COUNTIFS(F:F,"<"&F11))/COUNTIFS(F:F,F11)))*(50*E11*(1+VALUE(MID(H11,FIND(": ",H11)+2,FIND("/",H11)-FIND(":",H11)-2))-1)/VALUE(RIGHT(H11,1))+50*E11)-(100*E11),-E11*100))) | H11: =IF(E11="","",OFFSET([1]PGA!$AL$1,MATCH(A11,[1]PGA!$E$1:$E$500,0)-1,0))
A12: Alex Smalley | B12: 0.86% | C12: 116 | D12: 67 | F12: =IFERROR(IF(A12="","",OFFSET(Results!$AJ$1,MATCH(A12,Results!$A:$A,0)-1,0)),"") -> 21 | G12: =IF(OR(E12="",F12=""),"",IF(F12=1,(IF(COUNTIFS(F:F,"<="&F12)<=1,1,(1-COUNTIFS(F:F,"<"&F12))/COUNTIFS(F:F,F12)))*50*E12*(1+VALUE(MID(H12,FIND(": ",H12)+2,FIND("/",H12)-FIND(":",H12)-2))-1)+50*E12*(1+VALUE(MID(H12,FIND(": ",H12)+2,FIND("/",H12)-FIND(":",H12)-2))-1)/VALUE(RIGHT(H12,1)),IF(F12<=VALUE(MID(H12,FIND(", ",H12)+2,IF(MID(H12,FIND(", ",H12)+2,1)="1",2,1))),(IF(COUNTIFS(F:F,"<="&F12)<=VALUE(MID(H12,FIND(", ",H12)+2,IF(MID(H12,FIND(", ",H12)+2,1)="1",2,1))),1,(VALUE(MID(H12,FIND(", ",H12)+2,IF(MID(H12,FIND(", ",H12)+2,1)="1",2,1)))-COUNTIFS(F:F,"<"&F12))/COUNTIFS(F:F,F12)))*(50*E12*(1+VALUE(MID(H12,FIND(": ",H12)+2,FIND("/",H12)-FIND(":",H12)-2))-1)/VALUE(RIGHT(H12,1))+50*E12)-(100*E12),-E12*100))) | H12: =IF(E12="","",OFFSET([1]PGA!$AL$1,MATCH(A12,[1]PGA!$E$1:$E$500,0)-1,0))
A13: Andrew Putnam | B13: 0.68% | C13: 147 | D13: 251 | E13: 0.30% | F13: =IFERROR(IF(A13="","",OFFSET(Results!$AJ$1,MATCH(A13,Results!$A:$A,0)-1,0)),"") -> 44 | G13: =IF(OR(E13="",F13=""),"",IF(F13=1,(IF(COUNTIFS(F:F,"<="&F13)<=1,1,(1-COUNTIFS(F:F,"<"&F13))/COUNTIFS(F:F,F13)))*50*E13*(1+VALUE(MID(H13,FIND(": ",H13)+2,FIND("/",H13)-FIND(":",H13)-2))-1)+50*E13*(1+VALUE(MID(H13,FIND(": ",H13)+2,FIND("/",H13)-FIND(":",H13)-2))-1)/VALUE(RIGHT(H13,1)),IF(F13<=VALUE(MID(H13,FIND(", ",H13)+2,IF(MID(H13,FIND(", ",H13)+2,1)="1",2,1))),(IF(COUNTIFS(F:F,"<="&F13)<=VALUE(MID(H13,FIND(", ",H13)+2,IF(MID(H13,FIND(", ",H13)+2,1)="1",2,1))),1,(VALUE(MID(H13,FIND(", ",H13)+2,IF(MID(H13,FIND(", ",H13)+2,1)="1",2,1)))-COUNTIFS(F:F,"<"&F13))/COUNTIFS(F:F,F13)))*(50*E13*(1+VALUE(MID(H13,FIND(": ",H13)+2,FIND("/",H13)-FIND(":",H13)-2))-1)/VALUE(RIGHT(H13,1))+50*E13)-(100*E13),-E13*100))) -> -0.3 | H13: =IF(E13="","",OFFSET([1]PGA!$AL$1,MATCH(A13,[1]PGA!$E$1:$E$500,0)-1,0)) -> BetMGM: 250/1, 6pl, 1/5
A14: Austin Eckroat | B14: 0.28% | C14: 357 | D14: 201 | F14: =IFERROR(IF(A14="","",OFFSET(Results!$AJ$1,MATCH(A14,Results!$A:$A,0)-1,0)),"") -> 39 | G14: =IF(OR(E14="",F14=""),"",IF(F14=1,(IF(COUNTIFS(F:F,"<="&F14)<=1,1,(1-COUNTIFS(F:F,"<"&F14))/COUNTIFS(F:F,F14)))*50*E14*(1+VALUE(MID(H14,FIND(": ",H14)+2,FIND("/",H14)-FIND(":",H14)-2))-1)+50*E14*(1+VALUE(MID(H14,FIND(": ",H14)+2,FIND("/",H14)-FIND(":",H14)-2))-1)/VALUE(RIGHT(H14,1)),IF(F14<=VALUE(MID(H14,FIND(", ",H14)+2,IF(MID(H14,FIND(", ",H14)+2,1)="1",2,1))),(IF(COUNTIFS(F:F,"<="&F14)<=VALUE(MID(H14,FIND(", ",H14)+2,IF(MID(H14,FIND(", ",H14)+2,1)="1",2,1))),1,(VALUE(MID(H14,FIND(", ",H14)+2,IF(MID(H14,FIND(", ",H14)+2,1)="1",2,1)))-COUNTIFS(F:F,"<"&F14))/COUNTIFS(F:F,F14)))*(50*E14*(1+VALUE(MID(H14,FIND(": ",H14)+2,FIND("/",H14)-FIND(":",H14)-2))-1)/VALUE(RIGHT(H14,1))+50*E14)-(100*E14),-E14*100))) | H14: =IF(E14="","",OFFSET([1]PGA!$AL$1,MATCH(A14,[1]PGA!$E$1:$E$500,0)-1,0))
A15: Beau Hossler | B15: 0.25% | C15: 400 | D15: 226 | F15: =IFERROR(IF(A15="","",OFFSET(Results!$AJ$1,MATCH(A15,Results!$A:$A,0)-1,0)),"") -> 21 | G15: =IF(OR(E15="",F15=""),"",IF(F15=1,(IF(COUNTIFS(F:F,"<="&F15)<=1,1,(1-COUNTIFS(F:F,"<"&F15))/COUNTIFS(F:F,F15)))*50*E15*(1+VALUE(MID(H15,FIND(": ",H15)+2,FIND("/",H15)-FIND(":",H15)-2))-1)+50*E15*(1+VALUE(MID(H15,FIND(": ",H15)+2,FIND("/",H15)-FIND(":",H15)-2))-1)/VALUE(RIGHT(H15,1)),IF(F15<=VALUE(MID(H15,FIND(", ",H15)+2,IF(MID(H15,FIND(", ",H15)+2,1)="1",2,1))),(IF(COUNTIFS(F:F,"<="&F15)<=VALUE(MID(H15,FIND(", ",H15)+2,IF(MID(H15,FIND(", ",H15)+2,1)="1",2,1))),1,(VALUE(MID(H15,FIND(", ",H15)+2,IF(MID(H15,FIND(", ",H15)+2,1)="1",2,1)))-COUNTIFS(F:F,"<"&F15))/COUNTIFS(F:F,F15)))*(50*E15*(1+VALUE(MID(H15,FIND(": ",H15)+2,FIND("/",H15)-FIND(":",H15)-2))-1)/VALUE(RIGHT(H15,1))+50*E15)-(100*E15),-E15*100))) | H15: =IF(E15="","",OFFSET([1]PGA!$AL$1,MATCH(A15,[1]PGA!$E$1:$E$500,0)-1,0))
A16: Ben Griffin | B16: 1.90% | C16: 53 | D16: 41 | F16: =IFERROR(IF(A16="","",OFFSET(Results!$AJ$1,MATCH(A16,Results!$A:$A,0)-1,0)),"") -> 28 | G16: =IF(OR(E16="",F16=""),"",IF(F16=1,(IF(COUNTIFS(F:F,"<="&F16)<=1,1,(1-COUNTIFS(F:F,"<"&F16))/COUNTIFS(F:F,F16)))*50*E16*(1+VALUE(MID(H16,FIND(": ",H16)+2,FIND("/",H16)-FIND(":",H16)-2))-1)+50*E16*(1+VALUE(MID(H16,FIND(": ",H16)+2,FIND("/",H16)-FIND(":",H16)-2))-1)/VALUE(RIGHT(H16,1)),IF(F16<=VALUE(MID(H16,FIND(", ",H16)+2,IF(MID(H16,FIND(", ",H16)+2,1)="1",2,1))),(IF(COUNTIFS(F:F,"<="&F16)<=VALUE(MID(H16,FIND(", ",H16)+2,IF(MID(H16,FIND(", ",H16)+2,1)="1",2,1))),1,(VALUE(MID(H16,FIND(", ",H16)+2,IF(MID(H16,FIND(", ",H16)+2,1)="1",2,1)))-COUNTIFS(F:F,"<"&F16))/COUNTIFS(F:F,F16)))*(50*E16*(1+VALUE(MID(H16,FIND(": ",H16)+2,FIND("/",H16)-FIND(":",H16)-2))-1)/VALUE(RIGHT(H16,1))+50*E16)-(100*E16),-E16*100))) | H16: =IF(E16="","",OFFSET([1]PGA!$AL$1,MATCH(A16,[1]PGA!$E$1:$E$500,0)-1,0))
A17: Billy Horschel | B17: 0.45% | C17: 222 | D17: 151 | F17: =IFERROR(IF(A17="","",OFFSET(Results!$AJ$1,MATCH(A17,Results!$A:$A,0)-1,0)),"") -> 89 | G17: =IF(OR(E17="",F17=""),"",IF(F17=1,(IF(COUNTIFS(F:F,"<="&F17)<=1,1,(1-COUNTIFS(F:F,"<"&F17))/COUNTIFS(F:F,F17)))*50*E17*(1+VALUE(MID(H17,FIND(": ",H17)+2,FIND("/",H17)-FIND(":",H17)-2))-1)+50*E17*(1+VALUE(MID(H17,FIND(": ",H17)+2,FIND("/",H17)-FIND(":",H17)-2))-1)/VALUE(RIGHT(H17,1)),IF(F17<=VALUE(MID(H17,FIND(", ",H17)+2,IF(MID(H17,FIND(", ",H17)+2,1)="1",2,1))),(IF(COUNTIFS(F:F,"<="&F17)<=VALUE(MID(H17,FIND(", ",H17)+2,IF(MID(H17,FIND(", ",H17)+2,1)="1",2,1))),1,(VALUE(MID(H17,FIND(", ",H17)+2,IF(MID(H17,FIND(", ",H17)+2,1)="1",2,1)))-COUNTIFS(F:F,"<"&F17))/COUNTIFS(F:F,F17)))*(50*E17*(1+VALUE(MID(H17,FIND(": ",H17)+2,FIND("/",H17)-FIND(":",H17)-2))-1)/VALUE(RIGHT(H17,1))+50*E17)-(100*E17),-E17*100))) | H17: =IF(E17="","",OFFSET([1]PGA!$AL$1,MATCH(A17,[1]PGA!$E$1:$E$500,0)-1,0))
A18: Brian Campbell | B18: 0.10% | C18: 1000 | D18: 751 | F18: =IFERROR(IF(A18="","",OFFSET(Results!$AJ$1,MATCH(A18,Results!$A:$A,0)-1,0)),"") -> 125 | G18: =IF(OR(E18="",F18=""),"",IF(F18=1,(IF(COUNTIFS(F:F,"<="&F18)<=1,1,(1-COUNTIFS(F:F,"<"&F18))/COUNTIFS(F:F,F18)))*50*E18*(1+VALUE(MID(H18,FIND(": ",H18)+2,FIND("/",H18)-FIND(":",H18)-2))-1)+50*E18*(1+VALUE(MID(H18,FIND(": ",H18)+2,FIND("/",H18)-FIND(":",H18)-2))-1)/VALUE(RIGHT(H18,1)),IF(F18<=VALUE(MID(H18,FIND(", ",H18)+2,IF(MID(H18,FIND(", ",H18)+2,1)="1",2,1))),(IF(COUNTIFS(F:F,"<="&F18)<=VALUE(MID(H18,FIND(", ",H18)+2,IF(MID(H18,FIND(", ",H18)+2,1)="1",2,1))),1,(VALUE(MID(H18,FIND(", ",H18)+2,IF(MID(H18,FIND(", ",H18)+2,1)="1",2,1)))-COUNTIFS(F:F,"<"&F18))/COUNTIFS(F:F,F18)))*(50*E18*(1+VALUE(MID(H18,FIND(": ",H18)+2,FIND("/",H18)-FIND(":",H18)-2))-1)/VALUE(RIGHT(H18,1))+50*E18)-(100*E18),-E18*100))) | H18: =IF(E18="","",OFFSET([1]PGA!$AL$1,MATCH(A18,[1]PGA!$E$1:$E$500,0)-1,0))
A19: Brice Garnett | B19: 0.10% | C19: 1000 | D19: 751 | F19: =IFERROR(IF(A19="","",OFFSET(Results!$AJ$1,MATCH(A19,Results!$A:$A,0)-1,0)),"") -> 71 | G19: =IF(OR(E19="",F19=""),"",IF(F19=1,(IF(COUNTIFS(F:F,"<="&F19)<=1,1,(1-COUNTIFS(F:F,"<"&F19))/COUNTIFS(F:F,F19)))*50*E19*(1+VALUE(MID(H19,FIND(": ",H19)+2,FIND("/",H19)-FIND(":",H19)-2))-1)+50*E19*(1+VALUE(MID(H19,FIND(": ",H19)+2,FIND("/",H19)-FIND(":",H19)-2))-1)/VALUE(RIGHT(H19,1)),IF(F19<=VALUE(MID(H19,FIND(", ",H19)+2,IF(MID(H19,FIND(", ",H19)+2,1)="1",2,1))),(IF(COUNTIFS(F:F,"<="&F19)<=VALUE(MID(H19,FIND(", ",H19)+2,IF(MID(H19,FIND(", ",H19)+2,1)="1",2,1))),1,(VALUE(MID(H19,FIND(", ",H19)+2,IF(MID(H19,FIND(", ",H19)+2,1)="1",2,1)))-COUNTIFS(F:F,"<"&F19))/COUNTIFS(F:F,F19)))*(50*E19*(1+VALUE(MID(H19,FIND(": ",H19)+2,FIND("/",H19)-FIND(":",H19)-2))-1)/VALUE(RIGHT(H19,1))+50*E19)-(100*E19),-E19*100))) | H19: =IF(E19="","",OFFSET([1]PGA!$AL$1,MATCH(A19,[1]PGA!$E$1:$E$500,0)-1,0))
A20: Bronson Burgoon | B20: 0.13% | C20: 769 | D20: 501 | F20: =IFERROR(IF(A20="","",OFFSET(Results!$AJ$1,MATCH(A20,Results!$A:$A,0)-1,0)),"") -> 10 | G20: =IF(OR(E20="",F20=""),"",IF(F20=1,(IF(COUNTIFS(F:F,"<="&F20)<=1,1,(1-COUNTIFS(F:F,"<"&F20))/COUNTIFS(F:F,F20)))*50*E20*(1+VALUE(MID(H20,FIND(": ",H20)+2,FIND("/",H20)-FIND(":",H20)-2))-1)+50*E20*(1+VALUE(MID(H20,FIND(": ",H20)+2,FIND("/",H20)-FIND(":",H20)-2))-1)/VALUE(RIGHT(H20,1)),IF(F20<=VALUE(MID(H20,FIND(", ",H20)+2,IF(MID(H20,FIND(", ",H20)+2,1)="1",2,1))),(IF(COUNTIFS(F:F,"<="&F20)<=VALUE(MID(H20,FIND(", ",H20)+2,IF(MID(H20,FIND(", ",H20)+2,1)="1",2,1))),1,(VALUE(MID(H20,FIND(", ",H20)+2,IF(MID(H20,FIND(", ",H20)+2,1)="1",2,1)))-COUNTIFS(F:F,"<"&F20))/COUNTIFS(F:F,F20)))*(50*E20*(1+VALUE(MID(H20,FIND(": ",H20)+2,FIND("/",H20)-FIND(":",H20)-2))-1)/VALUE(RIGHT(H20,1))+50*E20)-(100*E20),-E20*100))) | H20: =IF(E20="","",OFFSET([1]PGA!$AL$1,MATCH(A20,[1]PGA!$E$1:$E$500,0)-1,0))
A21: Brooks Koepka | B21: 1.71% | C21: 58 | D21: 23 | F21: =IFERROR(IF(A21="","",OFFSET(Results!$AJ$1,MATCH(A21,Results!$A:$A,0)-1,0)),"") -> 116 | G21: =IF(OR(E21="",F21=""),"",IF(F21=1,(IF(COUNTIFS(F:F,"<="&F21)<=1,1,(1-COUNTIFS(F:F,"<"&F21))/COUNTIFS(F:F,F21)))*50*E21*(1+VALUE(MID(H21,FIND(": ",H21)+2,FIND("/",H21)-FIND(":",H21)-2))-1)+50*E21*(1+VALUE(MID(H21,FIND(": ",H21)+2,FIND("/",H21)-FIND(":",H21)-2))-1)/VALUE(RIGHT(H21,1)),IF(F21<=VALUE(MID(H21,FIND(", ",H21)+2,IF(MID(H21,FIND(", ",H21)+2,1)="1",2,1))),(IF(COUNTIFS(F:F,"<="&F21)<=VALUE(MID(H21,FIND(", ",H21)+2,IF(MID(H21,FIND(", ",H21)+2,1)="1",2,1))),1,(VALUE(MID(H21,FIND(", ",H21)+2,IF(MID(H21,FIND(", ",H21)+2,1)="1",2,1)))-COUNTIFS(F:F,"<"&F21))/COUNTIFS(F:F,F21)))*(50*E21*(1+VALUE(MID(H21,FIND(": ",H21)+2,FIND("/",H21)-FIND(":",H21)-2))-1)/VALUE(RIGHT(H21,1))+50*E21)-(100*E21),-E21*100))) | H21: =IF(E21="","",OFFSET([1]PGA!$AL$1,MATCH(A21,[1]PGA!$E$1:$E$500,0)-1,0))
A22: Bud Cauley | B22: 0.48% | C22: 208 | D22: 151 | F22: =IFERROR(IF(A22="","",OFFSET(Results!$AJ$1,MATCH(A22,Results!$A:$A,0)-1,0)),"") | G22: =IF(OR(E22="",F22=""),"",IF(F22=1,(IF(COUNTIFS(F:F,"<="&F22)<=1,1,(1-COUNTIFS(F:F,"<"&F22))/COUNTIFS(F:F,F22)))*50*E22*(1+VALUE(MID(H22,FIND(": ",H22)+2,FIND("/",H22)-FIND(":",H22)-2))-1)+50*E22*(1+VALUE(MID(H22,FIND(": ",H22)+2,FIND("/",H22)-FIND(":",H22)-2))-1)/VALUE(RIGHT(H22,1)),IF(F22<=VALUE(MID(H22,FIND(", ",H22)+2,IF(MID(H22,FIND(", ",H22)+2,1)="1",2,1))),(IF(COUNTIFS(F:F,"<="&F22)<=VALUE(MID(H22,FIND(", ",H22)+2,IF(MID(H22,FIND(", ",H22)+2,1)="1",2,1))),1,(VALUE(MID(H22,FIND(", ",H22)+2,IF(MID(H22,FIND(", ",H22)+2,1)="1",2,1)))-COUNTIFS(F:F,"<"&F22))/COUNTIFS(F:F,F22)))*(50*E22*(1+VALUE(MID(H22,FIND(": ",H22)+2,FIND("/",H22)-FIND(":",H22)-2))-1)/VALUE(RIGHT(H22,1))+50*E22)-(100*E22),-E22*100))) | H22: =IF(E22="","",OFFSET([1]PGA!$AL$1,MATCH(A22,[1]PGA!$E$1:$E$500,0)-1,0))
A23: Casey Russell | B23: 0.00% | C23: 10000 | D23: 2001 | F23: =IFERROR(IF(A23="","",OFFSET(Results!$AJ$1,MATCH(A23,Results!$A:$A,0)-1,0)),"") -> 125 | G23: =IF(OR(E23="",F23=""),"",IF(F23=1,(IF(COUNTIFS(F:F,"<="&F23)<=1,1,(1-COUNTIFS(F:F,"<"&F23))/COUNTIFS(F:F,F23)))*50*E23*(1+VALUE(MID(H23,FIND(": ",H23)+2,FIND("/",H23)-FIND(":",H23)-2))-1)+50*E23*(1+VALUE(MID(H23,FIND(": ",H23)+2,FIND("/",H23)-FIND(":",H23)-2))-1)/VALUE(RIGHT(H23,1)),IF(F23<=VALUE(MID(H23,FIND(", ",H23)+2,IF(MID(H23,FIND(", ",H23)+2,1)="1",2,1))),(IF(COUNTIFS(F:F,"<="&F23)<=VALUE(MID(H23,FIND(", ",H23)+2,IF(MID(H23,FIND(", ",H23)+2,1)="1",2,1))),1,(VALUE(MID(H23,FIND(", ",H23)+2,IF(MID(H23,FIND(", ",H23)+2,1)="1",2,1)))-COUNTIFS(F:F,"<"&F23))/COUNTIFS(F:F,F23)))*(50*E23*(1+VALUE(MID(H23,FIND(": ",H23)+2,FIND("/",H23)-FIND(":",H23)-2))-1)/VALUE(RIGHT(H23,1))+50*E23)-(100*E23),-E23*100))) | H23: =IF(E23="","",OFFSET([1]PGA!$AL$1,MATCH(A23,[1]PGA!$E$1:$E$500,0)-1,0))
A24: Chad Ramey | B24: 0.44% | C24: 227 | D24: 176 | F24: =IFERROR(IF(A24="","",OFFSET(Results!$AJ$1,MATCH(A24,Results!$A:$A,0)-1,0)),"") -> 28 | G24: =IF(OR(E24="",F24=""),"",IF(F24=1,(IF(COUNTIFS(F:F,"<="&F24)<=1,1,(1-COUNTIFS(F:F,"<"&F24))/COUNTIFS(F:F,F24)))*50*E24*(1+VALUE(MID(H24,FIND(": ",H24)+2,FIND("/",H24)-FIND(":",H24)-2))-1)+50*E24*(1+VALUE(MID(H24,FIND(": ",H24)+2,FIND("/",H24)-FIND(":",H24)-2))-1)/VALUE(RIGHT(H24,1)),IF(F24<=VALUE(MID(H24,FIND(", ",H24)+2,IF(MID(H24,FIND(", ",H24)+2,1)="1",2,1))),(IF(COUNTIFS(F:F,"<="&F24)<=VALUE(MID(H24,FIND(", ",H24)+2,IF(MID(H24,FIND(", ",H24)+2,1)="1",2,1))),1,(VALUE(MID(H24,FIND(", ",H24)+2,IF(MID(H24,FIND(", ",H24)+2,1)="1",2,1)))-COUNTIFS(F:F,"<"&F24))/COUNTIFS(F:F,F24)))*(50*E24*(1+VALUE(MID(H24,FIND(": ",H24)+2,FIND("/",H24)-FIND(":",H24)-2))-1)/VALUE(RIGHT(H24,1))+50*E24)-(100*E24),-E24*100))) | H24: =IF(E24="","",OFFSET([1]PGA!$AL$1,MATCH(A24,[1]PGA!$E$1:$E$500,0)-1,0))
A25: Chandler Blanchet | B25: 0.44% | C25: 227 | D25: 151 | F25: =IFERROR(IF(A25="","",OFFSET(Results!$AJ$1,MATCH(A25,Results!$A:$A,0)-1,0)),"") -> 130 | G25: =IF(OR(E25="",F25=""),"",IF(F25=1,(IF(COUNTIFS(F:F,"<="&F25)<=1,1,(1-COUNTIFS(F:F,"<"&F25))/COUNTIFS(F:F,F25)))*50*E25*(1+VALUE(MID(H25,FIND(": ",H25)+2,FIND("/",H25)-FIND(":",H25)-2))-1)+50*E25*(1+VALUE(MID(H25,FIND(": ",H25)+2,FIND("/",H25)-FIND(":",H25)-2))-1)/VALUE(RIGHT(H25,1)),IF(F25<=VALUE(MID(H25,FIND(", ",H25)+2,IF(MID(H25,FIND(", ",H25)+2,1)="1",2,1))),(IF(COUNTIFS(F:F,"<="&F25)<=VALUE(MID(H25,FIND(", ",H25)+2,IF(MID(H25,FIND(", ",H25)+2,1)="1",2,1))),1,(VALUE(MID(H25,FIND(", ",H25)+2,IF(MID(H25,FIND(", ",H25)+2,1)="1",2,1)))-COUNTIFS(F:F,"<"&F25))/COUNTIFS(F:F,F25)))*(50*E25*(1+VALUE(MID(H25,FIND(": ",H25)+2,FIND("/",H25)-FIND(":",H25)-2))-1)/VALUE(RIGHT(H25,1))+50*E25)-(100*E25),-E25*100))) | H25: =IF(E25="","",OFFSET([1]PGA!$AL$1,MATCH(A25,[1]PGA!$E$1:$E$500,0)-1,0))
... A28: Chris Gotterup | B28: 1.92% | C28: 52 | D28: 21 | F28: =IFERROR(IF(A28="","",OFFSET(Results!$AJ$1,MATCH(A28,Results!$A:$A,0)-1,0)),"") -> 6 | G28: =IF(OR(E28="",F28=""),"",IF(F28=1,(IF(COUNTIFS(F:F,"<="&F28)<=1,1,(1-COUNTIFS(F:F,"<"&F28))/COUNTIFS(F:F,F28)))*50*E28*(1+VALUE(MID(H28,FIND(": ",H28)+2,FIND("/",H28)-FIND(":",H28)-2))-1)+50*E28*(1+VALUE(MID(H28,FIND(": ",H28)+2,FIND("/",H28)-FIND(":",H28)-2))-1)/VALUE(RIGHT(H28,1)),IF(F28<=VALUE(MID(H28,FIND(", ",H28)+2,IF(MID(H28,FIND(", ",H28)+2,1)="1",2,1))),(IF(COUNTIFS(F:F,"<="&F28)<=VALUE(MID(H28,FIND(", ",H28)+2,IF(MID(H28,FIND(", ",H28)+2,1)="1",2,1))),1,(VALUE(MID(H28,FIND(", ",H28)+2,IF(MID(H28,FIND(", ",H28)+2,1)="1",2,1)))-COUNTIFS(F:F,"<"&F28))/COUNTIFS(F:F,F28)))*(50*E28*(1+VALUE(MID(H28,FIND(": ",H28)+2,FIND("/",H28)-FIND(":",H28)-2))-1)/VALUE(RIGHT(H28,1))+50*E28)-(100*E28),-E28*100))) | H28: =IF(E28="","",OFFSET([1]PGA!$AL$1,MATCH(A28,[1]PGA!$E$1:$E$500,0)-1,0))
A29: Chris Kirk | B29: 0.80% | C29: 125 | D29: 176 | E29: 0.20% | F29: =IFERROR(IF(A29="","",OFFSET(Results!$AJ$1,MATCH(A29,Results!$A:$A,0)-1,0)),"") -> 51 | G29: =IF(OR(E29="",F29=""),"",IF(F29=1,(IF(COUNTIFS(F:F,"<="&F29)<=1,1,(1-COUNTIFS(F:F,"<"&F29))/COUNTIFS(F:F,F29)))*50*E29*(1+VALUE(MID(H29,FIND(": ",H29)+2,FIND("/",H29)-FIND(":",H29)-2))-1)+50*E29*(1+VALUE(MID(H29,FIND(": ",H29)+2,FIND("/",H29)-FIND(":",H29)-2))-1)/VALUE(RIGHT(H29,1)),IF(F29<=VALUE(MID(H29,FIND(", ",H29)+2,IF(MID(H29,FIND(", ",H29)+2,1)="1",2,1))),(IF(COUNTIFS(F:F,"<="&F29)<=VALUE(MID(H29,FIND(", ",H29)+2,IF(MID(H29,FIND(", ",H29)+2,1)="1",2,1))),1,(VALUE(MID(H29,FIND(", ",H29)+2,IF(MID(H29,FIND(", ",H29)+2,1)="1",2,1)))-COUNTIFS(F:F,"<"&F29))/COUNTIFS(F:F,F29)))*(50*E29*(1+VALUE(MID(H29,FIND(": ",H29)+2,FIND("/",H29)-FIND(":",H29)-2))-1)/VALUE(RIGHT(H29,1))+50*E29)-(100*E29),-E29*100))) -> -0.2 | H29: =IF(E29="","",OFFSET([1]PGA!$AL$1,MATCH(A29,[1]PGA!$E$1:$E$500,0)-1,0)) -> Spreadex: 175/1, 6pl, 1/5
A30: Christiaan Bezuidenhout | B30: 1.19% | C30: 84 | D30: 111 | E30: 0.30% | F30: =IFERROR(IF(A30="","",OFFSET(Results!$AJ$1,MATCH(A30,Results!$A:$A,0)-1,0)),"") -> 51 | G30: =IF(OR(E30="",F30=""),"",IF(F30=1,(IF(COUNTIFS(F:F,"<="&F30)<=1,1,(1-COUNTIFS(F:F,"<"&F30))/COUNTIFS(F:F,F30)))*50*E30*(1+VALUE(MID(H30,FIND(": ",H30)+2,FIND("/",H30)-FIND(":",H30)-2))-1)+50*E30*(1+VALUE(MID(H30,FIND(": ",H30)+2,FIND("/",H30)-FIND(":",H30)-2))-1)/VALUE(RIGHT(H30,1)),IF(F30<=VALUE(MID(H30,FIND(", ",H30)+2,IF(MID(H30,FIND(", ",H30)+2,1)="1",2,1))),(IF(COUNTIFS(F:F,"<="&F30)<=VALUE(MID(H30,FIND(", ",H30)+2,IF(MID(H30,FIND(", ",H30)+2,1)="1",2,1))),1,(VALUE(MID(H30,FIND(", ",H30)+2,IF(MID(H30,FIND(", ",H30)+2,1)="1",2,1)))-COUNTIFS(F:F,"<"&F30))/COUNTIFS(F:F,F30)))*(50*E30*(1+VALUE(MID(H30,FIND(": ",H30)+2,FIND("/",H30)-FIND(":",H30)-2))-1)/VALUE(RIGHT(H30,1))+50*E30)-(100*E30),-E30*100))) -> -0.3 | H30: =IF(E30="","",OFFSET([1]PGA!$AL$1,MATCH(A30,[1]PGA!$E$1:$E$500,0)-1,0)) -> Spreadex: 110/1, 6pl, 1/5
A31: Christo Lamprecht | B31: 0.04% | C31: 2500 | D31: 351 | F31: =IFERROR(IF(A31="","",OFFSET(Results!$AJ$1,MATCH(A31,Results!$A:$A,0)-1,0)),"") -> 98 | G31: =IF(OR(E31="",F31=""),"",IF(F31=1,(IF(COUNTIFS(F:F,"<="&F31)<=1,1,(1-COUNTIFS(F:F,"<"&F31))/COUNTIFS(F:F,F31)))*50*E31*(1+VALUE(MID(H31,FIND(": ",H31)+2,FIND("/",H31)-FIND(":",H31)-2))-1)+50*E31*(1+VALUE(MID(H31,FIND(": ",H31)+2,FIND("/",H31)-FIND(":",H31)-2))-1)/VALUE(RIGHT(H31,1)),IF(F31<=VALUE(MID(H31,FIND(", ",H31)+2,IF(MID(H31,FIND(", ",H31)+2,1)="1",2,1))),(IF(COUNTIFS(F:F,"<="&F31)<=VALUE(MID(H31,FIND(", ",H31)+2,IF(MID(H31,FIND(", ",H31)+2,1)="1",2,1))),1,(VALUE(MID(H31,FIND(", ",H31)+2,IF(MID(H31,FIND(", ",H31)+2,1)="1",2,1)))-COUNTIFS(F:F,"<"&F31))/COUNTIFS(F:F,F31)))*(50*E31*(1+VALUE(MID(H31,FIND(": ",H31)+2,FIND("/",H31)-FIND(":",H31)-2))-1)/VALUE(RIGHT(H31,1))+50*E31)-(100*E31),-E31*100))) | H31: =IF(E31="","",OFFSET([1]PGA!$AL$1,MATCH(A31,[1]PGA!$E$1:$E$500,0)-1,0))
A32: Cole Hammer | B32: 0.04% | C32: 2500 | D32: 601 | F32: =IFERROR(IF(A32="","",OFFSET(Results!$AJ$1,MATCH(A32,Results!$A:$A,0)-1,0)),"") -> 76 | G32: =IF(OR(E32="",F32=""),"",IF(F32=1,(IF(COUNTIFS(F:F,"<="&F32)<=1,1,(1-COUNTIFS(F:F,"<"&F32))/COUNTIFS(F:F,F32)))*50*E32*(1+VALUE(MID(H32,FIND(": ",H32)+2,FIND("/",H32)-FIND(":",H32)-2))-1)+50*E32*(1+VALUE(MID(H32,FIND(": ",H32)+2,FIND("/",H32)-FIND(":",H32)-2))-1)/VALUE(RIGHT(H32,1)),IF(F32<=VALUE(MID(H32,FIND(", ",H32)+2,IF(MID(H32,FIND(", ",H32)+2,1)="1",2,1))),(IF(COUNTIFS(F:F,"<="&F32)<=VALUE(MID(H32,FIND(", ",H32)+2,IF(MID(H32,FIND(", ",H32)+2,1)="1",2,1))),1,(VALUE(MID(H32,FIND(", ",H32)+2,IF(MID(H32,FIND(", ",H32)+2,1)="1",2,1)))-COUNTIFS(F:F,"<"&F32))/COUNTIFS(F:F,F32)))*(50*E32*(1+VALUE(MID(H32,FIND(": ",H32)+2,FIND("/",H32)-FIND(":",H32)-2))-1)/VALUE(RIGHT(H32,1))+50*E32)-(100*E32),-E32*100))) | H32: =IF(E32="","",OFFSET([1]PGA!$AL$1,MATCH(A32,[1]PGA!$E$1:$E$500,0)-1,0))
A33: Daniel Brown (Oct1994) | B33: 0.42% | C33: 238 | D33: 201 | F33: =IFERROR(IF(A33="","",OFFSET(Results!$AJ$1,MATCH(A33,Results!$A:$A,0)-1,0)),"") -> 104 | G33: =IF(OR(E33="",F33=""),"",IF(F33=1,(IF(COUNTIFS(F:F,"<="&F33)<=1,1,(1-COUNTIFS(F:F,"<"&F33))/COUNTIFS(F:F,F33)))*50*E33*(1+VALUE(MID(H33,FIND(": ",H33)+2,FIND("/",H33)-FIND(":",H33)-2))-1)+50*E33*(1+VALUE(MID(H33,FIND(": ",H33)+2,FIND("/",H33)-FIND(":",H33)-2))-1)/VALUE(RIGHT(H33,1)),IF(F33<=VALUE(MID(H33,FIND(", ",H33)+2,IF(MID(H33,FIND(", ",H33)+2,1)="1",2,1))),(IF(COUNTIFS(F:F,"<="&F33)<=VALUE(MID(H33,FIND(", ",H33)+2,IF(MID(H33,FIND(", ",H33)+2,1)="1",2,1))),1,(VALUE(MID(H33,FIND(", ",H33)+2,IF(MID(H33,FIND(", ",H33)+2,1)="1",2,1)))-COUNTIFS(F:F,"<"&F33))/COUNTIFS(F:F,F33)))*(50*E33*(1+VALUE(MID(H33,FIND(": ",H33)+2,FIND("/",H33)-FIND(":",H33)-2))-1)/VALUE(RIGHT(H33,1))+50*E33)-(100*E33),-E33*100))) | H33: =IF(E33="","",OFFSET([1]PGA!$AL$1,MATCH(A33,[1]PGA!$E$1:$E$500,0)-1,0))
A34: Danny Walker | B34: 0.13% | C34: 769 | D34: 501 | F34: =IFERROR(IF(A34="","",OFFSET(Results!$AJ$1,MATCH(A34,Results!$A:$A,0)-1,0)),"") -> 68 | G34: =IF(OR(E34="",F34=""),"",IF(F34=1,(IF(COUNTIFS(F:F,"<="&F34)<=1,1,(1-COUNTIFS(F:F,"<"&F34))/COUNTIFS(F:F,F34)))*50*E34*(1+VALUE(MID(H34,FIND(": ",H34)+2,FIND("/",H34)-FIND(":",H34)-2))-1)+50*E34*(1+VALUE(MID(H34,FIND(": ",H34)+2,FIND("/",H34)-FIND(":",H34)-2))-1)/VALUE(RIGHT(H34,1)),IF(F34<=VALUE(MID(H34,FIND(", ",H34)+2,IF(MID(H34,FIND(", ",H34)+2,1)="1",2,1))),(IF(COUNTIFS(F:F,"<="&F34)<=VALUE(MID(H34,FIND(", ",H34)+2,IF(MID(H34,FIND(", ",H34)+2,1)="1",2,1))),1,(VALUE(MID(H34,FIND(", ",H34)+2,IF(MID(H34,FIND(", ",H34)+2,1)="1",2,1)))-COUNTIFS(F:F,"<"&F34))/COUNTIFS(F:F,F34)))*(50*E34*(1+VALUE(MID(H34,FIND(": ",H34)+2,FIND("/",H34)-FIND(":",H34)-2))-1)/VALUE(RIGHT(H34,1))+50*E34)-(100*E34),-E34*100))) | H34: =IF(E34="","",OFFSET([1]PGA!$AL$1,MATCH(A34,[1]PGA!$E$1:$E$500,0)-1,0))
A35: Danny Willett | B35: 0.02% | C35: 5000 | D35: 1501 | F35: =IFERROR(IF(A35="","",OFFSET(Results!$AJ$1,MATCH(A35,Results!$A:$A,0)-1,0)),"") -> 56 | G35: =IF(OR(E35="",F35=""),"",IF(F35=1,(IF(COUNTIFS(F:F,"<="&F35)<=1,1,(1-COUNTIFS(F:F,"<"&F35))/COUNTIFS(F:F,F35)))*50*E35*(1+VALUE(MID(H35,FIND(": ",H35)+2,FIND("/",H35)-FIND(":",H35)-2))-1)+50*E35*(1+VALUE(MID(H35,FIND(": ",H35)+2,FIND("/",H35)-FIND(":",H35)-2))-1)/VALUE(RIGHT(H35,1)),IF(F35<=VALUE(MID(H35,FIND(", ",H35)+2,IF(MID(H35,FIND(", ",H35)+2,1)="1",2,1))),(IF(COUNTIFS(F:F,"<="&F35)<=VALUE(MID(H35,FIND(", ",H35)+2,IF(MID(H35,FIND(", ",H35)+2,1)="1",2,1))),1,(VALUE(MID(H35,FIND(", ",H35)+2,IF(MID(H35,FIND(", ",H35)+2,1)="1",2,1)))-COUNTIFS(F:F,"<"&F35))/COUNTIFS(F:F,F35)))*(50*E35*(1+VALUE(MID(H35,FIND(": ",H35)+2,FIND("/",H35)-FIND(":",H35)-2))-1)/VALUE(RIGHT(H35,1))+50*E35)-(100*E35),-E35*100))) | H35: =IF(E35="","",OFFSET([1]PGA!$AL$1,MATCH(A35,[1]PGA!$E$1:$E$500,0)-1,0))
A36: David Ford | B36: 0.33% | C36: 303 | D36: 176 | F36: =IFERROR(IF(A36="","",OFFSET(Results!$AJ$1,MATCH(A36,Results!$A:$A,0)-1,0)),"") -> 104 | G36: =IF(OR(E36="",F36=""),"",IF(F36=1,(IF(COUNTIFS(F:F,"<="&F36)<=1,1,(1-COUNTIFS(F:F,"<"&F36))/COUNTIFS(F:F,F36)))*50*E36*(1+VALUE(MID(H36,FIND(": ",H36)+2,FIND("/",H36)-FIND(":",H36)-2))-1)+50*E36*(1+VALUE(MID(H36,FIND(": ",H36)+2,FIND("/",H36)-FIND(":",H36)-2))-1)/VALUE(RIGHT(H36,1)),IF(F36<=VALUE(MID(H36,FIND(", ",H36)+2,IF(MID(H36,FIND(", ",H36)+2,1)="1",2,1))),(IF(COUNTIFS(F:F,"<="&F36)<=VALUE(MID(H36,FIND(", ",H36)+2,IF(MID(H36,FIND(", ",H36)+2,1)="1",2,1))),1,(VALUE(MID(H36,FIND(", ",H36)+2,IF(MID(H36,FIND(", ",H36)+2,1)="1",2,1)))-COUNTIFS(F:F,"<"&F36))/COUNTIFS(F:F,F36)))*(50*E36*(1+VALUE(MID(H36,FIND(": ",H36)+2,FIND("/",H36)-FIND(":",H36)-2))-1)/VALUE(RIGHT(H36,1))+50*E36)-(100*E36),-E36*100))) | H36: =IF(E36="","",OFFSET([1]PGA!$AL$1,MATCH(A36,[1]PGA!$E$1:$E$500,0)-1,0))
A37: David Lipsky | B37: 0.35% | C37: 286 | D37: 176 | F37: =IFERROR(IF(A37="","",OFFSET(Results!$AJ$1,MATCH(A37,Results!$A:$A,0)-1,0)),"") -> 125 | G37: =IF(OR(E37="",F37=""),"",IF(F37=1,(IF(COUNTIFS(F:F,"<="&F37)<=1,1,(1-COUNTIFS(F:F,"<"&F37))/COUNTIFS(F:F,F37)))*50*E37*(1+VALUE(MID(H37,FIND(": ",H37)+2,FIND("/",H37)-FIND(":",H37)-2))-1)+50*E37*(1+VALUE(MID(H37,FIND(": ",H37)+2,FIND("/",H37)-FIND(":",H37)-2))-1)/VALUE(RIGHT(H37,1)),IF(F37<=VALUE(MID(H37,FIND(", ",H37)+2,IF(MID(H37,FIND(", ",H37)+2,1)="1",2,1))),(IF(COUNTIFS(F:F,"<="&F37)<=VALUE(MID(H37,FIND(", ",H37)+2,IF(MID(H37,FIND(", ",H37)+2,1)="1",2,1))),1,(VALUE(MID(H37,FIND(", ",H37)+2,IF(MID(H37,FIND(", ",H37)+2,1)="1",2,1)))-COUNTIFS(F:F,"<"&F37))/COUNTIFS(F:F,F37)))*(50*E37*(1+VALUE(MID(H37,FIND(": ",H37)+2,FIND("/",H37)-FIND(":",H37)-2))-1)/VALUE(RIGHT(H37,1))+50*E37)-(100*E37),-E37*100))) | H37: =IF(E37="","",OFFSET([1]PGA!$AL$1,MATCH(A37,[1]PGA!$E$1:$E$500,0)-1,0))
A38: Davis Chatfield | B38: 0.15% | C38: 667 | D38: 751 | F38: =IFERROR(IF(A38="","",OFFSET(Results!$AJ$1,MATCH(A38,Results!$A:$A,0)-1,0)),"") -> 104 | G38: =IF(OR(E38="",F38=""),"",IF(F38=1,(IF(COUNTIFS(F:F,"<="&F38)<=1,1,(1-COUNTIFS(F:F,"<"&F38))/COUNTIFS(F:F,F38)))*50*E38*(1+VALUE(MID(H38,FIND(": ",H38)+2,FIND("/",H38)-FIND(":",H38)-2))-1)+50*E38*(1+VALUE(MID(H38,FIND(": ",H38)+2,FIND("/",H38)-FIND(":",H38)-2))-1)/VALUE(RIGHT(H38,1)),IF(F38<=VALUE(MID(H38,FIND(", ",H38)+2,IF(MID(H38,FIND(", ",H38)+2,1)="1",2,1))),(IF(COUNTIFS(F:F,"<="&F38)<=VALUE(MID(H38,FIND(", ",H38)+2,IF(MID(H38,FIND(", ",H38)+2,1)="1",2,1))),1,(VALUE(MID(H38,FIND(", ",H38)+2,IF(MID(H38,FIND(", ",H38)+2,1)="1",2,1)))-COUNTIFS(F:F,"<"&F38))/COUNTIFS(F:F,F38)))*(50*E38*(1+VALUE(MID(H38,FIND(": ",H38)+2,FIND("/",H38)-FIND(":",H38)-2))-1)/VALUE(RIGHT(H38,1))+50*E38)-(100*E38),-E38*100))) | H38: =IF(E38="","",OFFSET([1]PGA!$AL$1,MATCH(A38,[1]PGA!$E$1:$E$500,0)-1,0))
A39: Davis Riley | B39: 0.06% | C39: 1667 | D39: 501 | F39: =IFERROR(IF(A39="","",OFFSET(Results!$AJ$1,MATCH(A39,Results!$A:$A,0)-1,0)),"") -> 60 | G39: =IF(OR(E39="",F39=""),"",IF(F39=1,(IF(COUNTIFS(F:F,"<="&F39)<=1,1,(1-COUNTIFS(F:F,"<"&F39))/COUNTIFS(F:F,F39)))*50*E39*(1+VALUE(MID(H39,FIND(": ",H39)+2,FIND("/",H39)-FIND(":",H39)-2))-1)+50*E39*(1+VALUE(MID(H39,FIND(": ",H39)+2,FIND("/",H39)-FIND(":",H39)-2))-1)/VALUE(RIGHT(H39,1)),IF(F39<=VALUE(MID(H39,FIND(", ",H39)+2,IF(MID(H39,FIND(", ",H39)+2,1)="1",2,1))),(IF(COUNTIFS(F:F,"<="&F39)<=VALUE(MID(H39,FIND(", ",H39)+2,IF(MID(H39,FIND(", ",H39)+2,1)="1",2,1))),1,(VALUE(MID(H39,FIND(", ",H39)+2,IF(MID(H39,FIND(", ",H39)+2,1)="1",2,1)))-COUNTIFS(F:F,"<"&F39))/COUNTIFS(F:F,F39)))*(50*E39*(1+VALUE(MID(H39,FIND(": ",H39)+2,FIND("/",H39)-FIND(":",H39)-2))-1)/VALUE(RIGHT(H39,1))+50*E39)-(100*E39),-E39*100))) | H39: =IF(E39="","",OFFSET([1]PGA!$AL$1,MATCH(A39,[1]PGA!$E$1:$E$500,0)-1,0))
A40: Davis Thompson | B40: 1.17% | C40: 85 | D40: 81 | F40: =IFERROR(IF(A40="","",OFFSET(Results!$AJ$1,MATCH(A40,Results!$A:$A,0)-1,0)),"") -> 89 | G40: =IF(OR(E40="",F40=""),"",IF(F40=1,(IF(COUNTIFS(F:F,"<="&F40)<=1,1,(1-COUNTIFS(F:F,"<"&F40))/COUNTIFS(F:F,F40)))*50*E40*(1+VALUE(MID(H40,FIND(": ",H40)+2,FIND("/",H40)-FIND(":",H40)-2))-1)+50*E40*(1+VALUE(MID(H40,FIND(": ",H40)+2,FIND("/",H40)-FIND(":",H40)-2))-1)/VALUE(RIGHT(H40,1)),IF(F40<=VALUE(MID(H40,FIND(", ",H40)+2,IF(MID(H40,FIND(", ",H40)+2,1)="1",2,1))),(IF(COUNTIFS(F:F,"<="&F40)<=VALUE(MID(H40,FIND(", ",H40)+2,IF(MID(H40,FIND(", ",H40)+2,1)="1",2,1))),1,(VALUE(MID(H40,FIND(", ",H40)+2,IF(MID(H40,FIND(", ",H40)+2,1)="1",2,1)))-COUNTIFS(F:F,"<"&F40))/COUNTIFS(F:F,F40)))*(50*E40*(1+VALUE(MID(H40,FIND(": ",H40)+2,FIND("/",H40)-FIND(":",H40)-2))-1)/VALUE(RIGHT(H40,1))+50*E40)-(100*E40),-E40*100))) | H40: =IF(E40="","",OFFSET([1]PGA!$AL$1,MATCH(A40,[1]PGA!$E$1:$E$500,0)-1,0))
A41: Denny McCarthy | B41: 0.96% | C41: 104 | D41: 126 | E41: 0.20% | F41: =IFERROR(IF(A41="","",OFFSET(Results!$AJ$1,MATCH(A41,Results!$A:$A,0)-1,0)),"") -> 12 | G41: =IF(OR(E41="",F41=""),"",IF(F41=1,(IF(COUNTIFS(F:F,"<="&F41)<=1,1,(1-COUNTIFS(F:F,"<"&F41))/COUNTIFS(F:F,F41)))*50*E41*(1+VALUE(MID(H41,FIND(": ",H41)+2,FIND("/",H41)-FIND(":",H41)-2))-1)+50*E41*(1+VALUE(MID(H41,FIND(": ",H41)+2,FIND("/",H41)-FIND(":",H41)-2))-1)/VALUE(RIGHT(H41,1)),IF(F41<=VALUE(MID(H41,FIND(", ",H41)+2,IF(MID(H41,FIND(", ",H41)+2,1)="1",2,1))),(IF(COUNTIFS(F:F,"<="&F41)<=VALUE(MID(H41,FIND(", ",H41)+2,IF(MID(H41,FIND(", ",H41)+2,1)="1",2,1))),1,(VALUE(MID(H41,FIND(", ",H41)+2,IF(MID(H41,FIND(", ",H41)+2,1)="1",2,1)))-COUNTIFS(F:F,"<"&F41))/COUNTIFS(F:F,F41)))*(50*E41*(1+VALUE(MID(H41,FIND(": ",H41)+2,FIND("/",H41)-FIND(":",H41)-2))-1)/VALUE(RIGHT(H41,1))+50*E41)-(100*E41),-E41*100))) -> -0.2 | H41: =IF(E41="","",OFFSET([1]PGA!$AL$1,MATCH(A41,[1]PGA!$E$1:$E$500,0)-1,0)) -> William Hill: 125/1, 6pl, 1/4
A42: Doug Ghim | B42: 0.49% | C42: 204 | D42: 126 | F42: =IFERROR(IF(A42="","",OFFSET(Results!$AJ$1,MATCH(A42,Results!$A:$A,0)-1,0)),"") -> 89 | G42: =IF(OR(E42="",F42=""),"",IF(F42=1,(IF(COUNTIFS(F:F,"<="&F42)<=1,1,(1-COUNTIFS(F:F,"<"&F42))/COUNTIFS(F:F,F42)))*50*E42*(1+VALUE(MID(H42,FIND(": ",H42)+2,FIND("/",H42)-FIND(":",H42)-2))-1)+50*E42*(1+VALUE(MID(H42,FIND(": ",H42)+2,FIND("/",H42)-FIND(":",H42)-2))-1)/VALUE(RIGHT(H42,1)),IF(F42<=VALUE(MID(H42,FIND(", ",H42)+2,IF(MID(H42,FIND(", ",H42)+2,1)="1",2,1))),(IF(COUNTIFS(F:F,"<="&F42)<=VALUE(MID(H42,FIND(", ",H42)+2,IF(MID(H42,FIND(", ",H42)+2,1)="1",2,1))),1,(VALUE(MID(H42,FIND(", ",H42)+2,IF(MID(H42,FIND(", ",H42)+2,1)="1",2,1)))-COUNTIFS(F:F,"<"&F42))/COUNTIFS(F:F,F42)))*(50*E42*(1+VALUE(MID(H42,FIND(": ",H42)+2,FIND("/",H42)-FIND(":",H42)-2))-1)/VALUE(RIGHT(H42,1))+50*E42)-(100*E42),-E42*100))) | H42: =IF(E42="","",OFFSET([1]PGA!$AL$1,MATCH(A42,[1]PGA!$E$1:$E$500,0)-1,0))
...

Sheet Picks
A1: Player | B1: TTWin | C1: TTOdds | D1: BestOdds | E1: Kelly | F1: Rank | G1: Result | H1: P/L | I1: Full P/L | J1: E/W Play | L1: FRL: | M1: Player | N1: TTWin | O1: TTOdds | P1: BestOdds | Q1: Kelly | R1: Rank | S1: Result | T1: P/L | U1: Full P/L | V1: E/W Play
