Workbook

Sheet Results
A1: PLAYER | B1: Results
A2: =IF(J2="","",CONCATENATE(J2," ",I2)) -> FirstName Surname | B2: Date | C2: Event | D2: Course | E2: Location | F2: Tour | G2: Tour2 | H2: Tour3 | I2: Surname | J2: FirstName | K2: Posn | L2: Rd1 | M2: Rd2 | N2: Rd3 | O2: Rd4 | P2: Rd5 | Q2: Total | R2: Field | S2: Field1 | T2: AdjRd1 | U2: AdjRd2 | V2: AdjRd3 | W2: AdjRd4 | X2: AdjRd5 | Y2: AdjAve | Z2: Rd1Pos | AA2: Rd2Pos | AB2: Rd3Pos | AC2: Rd4Pos | AD2: Rd5Pos | AE2: Rd1Lead | AF2: Rd2Lead | AG2: Rd3Lead | AH2: Rd4Lead | AI2: Rd5Lead | AJ2: Posn2
A3: =IF(J3="","",CONCATENATE(J3," ",I3)) -> Josh Geary | B3: 45697 | C3: Victorian Open | D3: 13th Beach | E3: Australia | F3: Australasian | I3: Geary | J3: Josh | K3: 1 | L3: 64 | M3: 65 | N3: 68 | O3: 78 | Q3: 275 | R3: 74.35 | S3: 74.23 | T3: 68.39 | U3: 67.3 | V3: 69.65 | W3: 75.74 | Y3: 70.27 | Z3: 2 | AA3: 1 | AB3: 1 | AC3: 1 | AE3: 2 | AF3: -2 | AG3: -4 | AH3: -4 | AJ3: 1
A4: =IF(J4="","",CONCATENATE(J4," ",I4)) -> Connor McKinney | B4: 45697 | C4: Victorian Open | D4: 13th Beach | E4: Australia | F4: Australasian | I4: McKinney | J4: Connor | K4: 2 | L4: 67 | M4: 71 | N4: 71 | O4: 70 | Q4: 279 | R4: 74.35 | S4: 74.23 | T4: 71.39 | U4: 73.3 | V4: 72.65 | W4: 67.74 | Y4: 71.27 | Z4: 19 | AA4: 25 | AB4: 23 | AC4: 2 | AE4: 5 | AF4: 9 | AG4: 12 | AH4: 4 | AJ4: 2
A5: =IF(J5="","",CONCATENATE(J5," ",I5)) -> Austin Bautista | B5: 45697 | C5: Victorian Open | D5: 13th Beach | E5: Australia | F5: Australasian | I5: Bautista | J5: Austin | K5: 3 | L5: 65 | M5: 67 | N5: 69 | O5: 79 | Q5: 280 | R5: 74.35 | S5: 74.23 | T5: 69.39 | U5: 69.3 | V5: 70.65 | W5: 76.74 | Y5: 71.52 | Z5: 3 | AA5: 3 | AB5: 2 | AC5: 3 | AE5: 3 | AF5: 3 | AG5: 4 | AH5: 5 | AJ5: 3
A6: =IF(J6="","",CONCATENATE(J6," ",I6)) -> Michael Hendry | B6: 45697 | C6: Victorian Open | D6: 13th Beach | E6: Australia | F6: Australasian | I6: Hendry | J6: Michael | K6: 3 | L6: 68 | M6: 65 | N6: 73 | O6: 74 | Q6: 280 | R6: 74.35 | S6: 74.23 | T6: 72.39 | U6: 67.3 | V6: 74.65 | W6: 71.74 | Y6: 71.52 | Z6: 27 | AA6: 5 | AB6: 10 | AC6: 3 | AE6: 6 | AF6: 4 | AG6: 9 | AH6: 5 | AJ6: 3
A7: =IF(J7="","",CONCATENATE(J7," ",I7)) -> Kerry Mountcastle | B7: 45697 | C7: Victorian Open | D7: 13th Beach | E7: Australia | F7: Australasian | I7: Mountcastle | J7: Kerry | K7: 3 | L7: 68 | M7: 69 | N7: 73 | O7: 70 | Q7: 280 | R7: 74.35 | S7: 74.23 | T7: 72.39 | U7: 71.3 | V7: 74.65 | W7: 67.74 | Y7: 71.52 | Z7: 27 | AA7: 19 | AB7: 27 | AC7: 3 | AE7: 6 | AF7: 8 | AG7: 13 | AH7: 5 | AJ7: 3
A8: =IF(J8="","",CONCATENATE(J8," ",I8)) -> Andrew Evans | B8: 45697 | C8: Victorian Open | D8: 13th Beach | E8: Australia | F8: Australasian | I8: Evans | J8: Andrew | K8: 6 | L8: 66 | M8: 68 | N8: 71 | O8: 76 | Q8: 281 | R8: 74.35 | S8: 74.23 | T8: 70.39 | U8: 70.3 | V8: 72.65 | W8: 73.74 | Y8: 71.77 | Z8: 9 | AA8: 7 | AB8: 7 | AC8: 6 | AE8: 4 | AF8: 5 | AG8: 8 | AH8: 6 | AJ8: 6
A9: =IF(J9="","",CONCATENATE(J9," ",I9)) -> Aaron Wilkin | B9: 45697 | C9: Victorian Open | D9: 13th Beach | E9: Australia | F9: Australasian | I9: Wilkin | J9: Aaron | K9: 6 | L9: 68 | M9: 67 | N9: 68 | O9: 78 | Q9: 281 | R9: 74.35 | S9: 74.23 | T9: 72.39 | U9: 69.3 | V9: 69.65 | W9: 75.74 | Y9: 71.77 | Z9: 27 | AA9: 8 | AB9: 4 | AC9: 6 | AE9: 6 | AF9: 6 | AG9: 6 | AH9: 6 | AJ9: 6
A10: =IF(J10="","",CONCATENATE(J10," ",I10)) -> Quinnton Croker | B10: 45697 | C10: Victorian Open | D10: 13th Beach | E10: Australia | F10: Australasian | I10: Croker | J10: Quinnton | K10: 8 | L10: 70 | M10: 67 | N10: 69 | O10: 76 | Q10: 282 | R10: 74.35 | S10: 74.23 | T10: 74.39 | U10: 69.3 | V10: 70.65 | W10: 73.74 | Y10: 72.02 | Z10: 60 | AA10: 19 | AB10: 10 | AC10: 8 | AE10: 8 | AF10: 8 | AG10: 9 | AH10: 7 | AJ10: 8
A11: =IF(J11="","",CONCATENATE(J11," ",I11)) -> Ben Eccles | B11: 45697 | C11: Victorian Open | D11: 13th Beach | E11: Australia | F11: Australasian | I11: Eccles | J11: Ben | K11: 8 | L11: 71 | M11: 68 | N11: 73 | O11: 70 | Q11: 282 | R11: 74.35 | S11: 74.23 | T11: 75.39 | U11: 70.3 | V11: 74.65 | W11: 67.74 | Y11: 72.02 | Z11: 77 | AA11: 31 | AB11: 33 | AC11: 8 | AE11: 9 | AF11: 10 | AG11: 15 | AH11: 7 | AJ11: 8
A12: =IF(J12="","",CONCATENATE(J12," ",I12)) -> James Marchesani | B12: 45697 | C12: Victorian Open | D12: 13th Beach | E12: Australia | F12: Australasian | I12: Marchesani | J12: James | K12: 8 | L12: 68 | M12: 71 | N12: 71 | O12: 72 | Q12: 282 | R12: 74.35 | S12: 74.23 | T12: 72.39 | U12: 73.3 | V12: 72.65 | W12: 69.74 | Y12: 72.02 | Z12: 27 | AA12: 31 | AB12: 27 | AC12: 8 | AE12: 6 | AF12: 10 | AG12: 13 | AH12: 7 | AJ12: 8
A13: =IF(J13="","",CONCATENATE(J13," ",I13)) -> Declan O'Donovan | B13: 45697 | C13: Victorian Open | D13: 13th Beach | E13: Australia | F13: Australasian | I13: O'Donovan | J13: Declan | K13: 8 | L13: 65 | M13: 66 | N13: 71 | O13: 80 | Q13: 282 | R13: 74.35 | S13: 74.23 | T13: 69.39 | U13: 68.3 | V13: 72.65 | W13: 77.74 | Y13: 72.02 | Z13: 3 | AA13: 2 | AB13: 3 | AC13: 8 | AE13: 3 | AF13: 2 | AG13: 5 | AH13: 7 | AJ13: 8
A14: =IF(J14="","",CONCATENATE(J14," ",I14)) -> Lachlan Barker | B14: 45697 | C14: Victorian Open | D14: 13th Beach | E14: Australia | F14: Australasian | I14: Barker | J14: Lachlan | K14: 12 | L14: 66 | M14: 66 | N14: 74 | O14: 77 | Q14: 283 | R14: 74.35 | S14: 74.23 | T14: 70.39 | U14: 68.3 | V14: 75.65 | W14: 74.74 | Y14: 72.27 | Z14: 9 | AA14: 3 | AB14: 10 | AC14: 12 | AE14: 4 | AF14: 3 | AG14: 9 | AH14: 8 | AJ14: 12
... A43: =IF(J43="","",CONCATENATE(J43," ",I43)) -> Matthew Millar | B43: 45697 | C43: Victorian Open | D43: 13th Beach | E43: Australia | F43: Australasian | I43: Millar | J43: Matthew | K43: 40 | L43: 68 | M43: 71 | N43: 69 | O43: 84 | Q43: 292 | R43: 74.35 | S43: 74.23 | T43: 72.39 | U43: 73.3 | V43: 70.65 | W43: 81.74 | Y43: 74.52 | Z43: 27 | AA43: 31 | AB43: 21 | AC43: 40 | AE43: 6 | AF43: 10 | AG43: 11 | AH43: 17 | AJ43: 40
A44: =IF(J44="","",CONCATENATE(J44," ",I44)) -> Aaron Pike | B44: 45697 | C44: Victorian Open | D44: 13th Beach | E44: Australia | F44: Australasian | I44: Pike | J44: Aaron | K44: w | L44: 66 | M44: 72 | N44: 71 | Q44: 209 | R44: 74.35 | S44: 74.23 | T44: 70.39 | U44: 74.3 | V44: 72.65 | Y44: 72.45 | Z44: 9 | AA44: 25 | AB44: 23 | AE44: 4 | AF44: 9 | AG44: 12 | AJ44: 42
A45: =IF(J45="","",CONCATENATE(J45," ",I45)) -> Braden Becker | B45: 45697 | C45: Victorian Open | D45: 13th Beach | E45: Australia | F45: Australasian | I45: Becker | J45: Braden | K45: 43 | L45: 66 | M45: 72 | N45: 75 | Q45: 213 | R45: 74.35 | S45: 74.23 | T45: 70.39 | U45: 74.3 | V45: 76.65 | Y45: 73.78 | Z45: 9 | AA45: 25 | AB45: 43 | AE45: 4 | AF45: 9 | AG45: 16 | AJ45: 43
A46: =IF(J46="","",CONCATENATE(J46," ",I46)) -> Andrew Campbell | B46: 45697 | C46: Victorian Open | D46: 13th Beach | E46: Australia | F46: Australasian | I46: Campbell | J46: Andrew | K46: 43 | L46: 69 | M46: 66 | N46: 78 | Q46: 213 | R46: 74.35 | S46: 74.23 | T46: 73.39 | U46: 68.3 | V46: 79.65 | Y46: 73.78 | Z46: 47 | AA46: 8 | AB46: 43 | AE46: 7 | AF46: 6 | AG46: 16 | AJ46: 43
A47: =IF(J47="","",CONCATENATE(J47," ",I47)) -> Cory Crawford | B47: 45697 | C47: Victorian Open | D47: 13th Beach | E47: Australia | F47: Australasian | I47: Crawford | J47: Cory | K47: 43 | L47: 68 | M47: 71 | N47: 74 | Q47: 213 | R47: 74.35 | S47: 74.23 | T47: 72.39 | U47: 73.3 | V47: 75.65 | Y47: 73.78 | Z47: 27 | AA47: 31 | AB47: 43 | AE47: 6 | AF47: 10 | AG47: 16 | AJ47: 43
A48: =IF(J48="","",CONCATENATE(J48," ",I48)) -> Jake Meenhorst | B48: 45697 | C48: Victorian Open | D48: 13th Beach | E48: Australia | F48: Australasian | I48: Meenhorst | J48: Jake | K48: 43 | L48: 69 | M48: 72 | N48: 72 | Q48: 213 | R48: 74.35 | S48: 74.23 | T48: 73.39 | U48: 74.3 | V48: 73.65 | Y48: 73.78 | Z48: 47 | AA48: 53 | AB48: 43 | AE48: 7 | AF48: 12 | AG48: 16 | AJ48: 43
A49: =IF(J49="","",CONCATENATE(J49," ",I49)) -> Jack Munro | B49: 45697 | C49: Victorian Open | D49: 13th Beach | E49: Australia | F49: Australasian | I49: Munro | J49: Jack | K49: 43 | L49: 72 | M49: 68 | N49: 73 | Q49: 213 | R49: 74.35 | S49: 74.23 | T49: 76.39 | U49: 70.3 | V49: 74.65 | Y49: 73.78 | Z49: 96 | AA49: 43 | AB49: 43 | AE49: 10 | AF49: 11 | AG49: 16 | AJ49: 43
A50: =IF(J50="","",CONCATENATE(J50," ",I50)) -> Siddharth Nadimpalli | B50: 45697 | C50: Victorian Open | D50: 13th Beach | E50: Australia | F50: Australasian | I50: Nadimpalli | J50: Siddharth | K50: 43 | L50: 65 | M50: 76 | N50: 72 | Q50: 213 | R50: 74.35 | S50: 74.23 | T50: 69.39 | U50: 78.3 | V50: 73.65 | Y50: 73.78 | Z50: 3 | AA50: 53 | AB50: 43 | AE50: 3 | AF50: 12 | AG50: 16 | AJ50: 43
A51: =IF(J51="","",CONCATENATE(J51," ",I51)) -> Lincoln Tighe | B51: 45697 | C51: Victorian Open | D51: 13th Beach | E51: Australia | F51: Australasian | I51: Tighe | J51: Lincoln | K51: 43 | L51: 68 | M51: 70 | N51: 75 | Q51: 213 | R51: 74.35 | S51: 74.23 | T51: 72.39 | U51: 72.3 | V51: 76.65 | Y51: 73.78 | Z51: 27 | AA51: 25 | AB51: 43 | AE51: 6 | AF51: 9 | AG51: 16 | AJ51: 43
A52: =IF(J52="","",CONCATENATE(J52," ",I52)) -> Brady Watt | B52: 45697 | C52: Victorian Open | D52: 13th Beach | E52: Australia | F52: Australasian | I52: Watt | J52: Brady | K52: 43 | L52: 73 | M52: 68 | N52: 72 | Q52: 213 | R52: 74.35 | S52: 74.23 | T52: 77.39 | U52: 70.3 | V52: 73.65 | Y52: 73.78 | Z52: 104 | AA52: 53 | AB52: 43 | AE52: 11 | AF52: 12 | AG52: 16 | AJ52: 43
A53: =IF(J53="","",CONCATENATE(J53," ",I53)) -> Jordan Zunic | B53: 45697 | C53: Victorian Open | D53: 13th Beach | E53: Australia | F53: Australasian | I53: Zunic | J53: Jordan | K53: 43 | L53: 71 | M53: 69 | N53: 73 | Q53: 213 | R53: 74.35 | S53: 74.23 | T53: 75.39 | U53: 71.3 | V53: 74.65 | Y53: 73.78 | Z53: 77 | AA53: 43 | AB53: 43 | AE53: 9 | AF53: 11 | AG53: 16 | AJ53: 43
A54: =IF(J54="","",CONCATENATE(J54," ",I54)) -> Nathan Barbieri | B54: 45697 | C54: Victorian Open | D54: 13th Beach | E54: Australia | F54: Australasian | I54: Barbieri | J54: Nathan | K54: 52 | L54: 67 | M54: 74 | N54: 73 | Q54: 214 | R54: 74.35 | S54: 74.23 | T54: 71.39 | U54: 76.3 | V54: 74.65 | Y54: 74.12 | Z54: 19 | AA54: 53 | AB54: 52 | AE54: 5 | AF54: 12 | AG54: 17 | AJ54: 52
A55: =IF(J55="","",CONCATENATE(J55," ",I55)) -> Andre Lautee | B55: 45697 | C55: Victorian Open | D55: 13th Beach | E55: Australia | F55: Australasian | I55: Lautee | J55: Andre | K55: 53 | L55: 71 | M55: 70 | N55: 74 | Q55: 215 | R55: 74.35 | S55: 74.23 | T55: 75.39 | U55: 72.3 | V55: 75.65 | Y55: 74.45 | Z55: 77 | AA55: 53 | AB55: 53 | AE55: 9 | AF55: 12 | AG55: 18 | AJ55: 53
A56: =IF(J56="","",CONCATENATE(J56," ",I56)) -> D.J. Loypur | B56: 45697 | C56: Victorian Open | D56: 13th Beach | E56: Australia | F56: Australasian | I56: Loypur | J56: D.J. | K56: 53 | L56: 69 | M56: 71 | N56: 75 | Q56: 215 | R56: 74.35 | S56: 74.23 | T56: 73.39 | U56: 73.3 | V56: 76.65 | Y56: 74.45 | Z56: 47 | AA56: 43 | AB56: 53 | AE56: 7 | AF56: 11 | AG56: 18 | AJ56: 53
... A68: =IF(J68="","",CONCATENATE(J68," ",I68)) -> Lucas Higgins | B68: 45697 | C68: Victorian Open | D68: 13th Beach | E68: Australia | F68: Australasian | I68: Higgins | J68: Lucas | K68: 66 | L68: 67 | M68: 71 | N68: 81 | Q68: 219 | R68: 74.35 | S68: 74.23 | T68: 71.39 | U68: 73.3 | V68: 82.65 | Y68: 75.78 | Z68: 19 | AA68: 25 | AB68: 66 | AE68: 5 | AF68: 9 | AG68: 22 | AJ68: 66
A69: =IF(J69="","",CONCATENATE(J69," ",I69)) -> Marcus Fraser | B69: 45697 | C69: Victorian Open | D69: 13th Beach | E69: Australia | F69: Australasian | I69: Fraser | J69: Marcus | K69: mc | L69: 74 | M69: 68 | Q69: 142 | R69: 74.35 | S69: 74.23 | T69: 78.39 | U69: 70.3 | Y69: 74.35 | Z69: 116 | AA69: 67 | AE69: 12 | AF69: 13 | AJ69: 67
A70: =IF(J70="","",CONCATENATE(J70," ",I70)) -> James Gordon | B70: 45697 | C70: Victorian Open | D70: 13th Beach | E70: Australia | F70: Australasian | I70: Gordon | J70: James | K70: mc | L70: 69 | M70: 73 | Q70: 142 | R70: 74.35 | S70: 74.23 | T70: 73.39 | U70: 75.3 | Y70: 74.35 | Z70: 47 | AA70: 67 | AE70: 7 | AF70: 13 | AJ70: 67
A71: =IF(J71="","",CONCATENATE(J71," ",I71)) -> Dillon Hart | B71: 45697 | C71: Victorian Open | D71: 13th Beach | E71: Australia | F71: Australasian | I71: Hart | J71: Dillon | K71: mc | L71: 68 | M71: 74 | Q71: 142 | R71: 74.35 | S71: 74.23 | T71: 72.39 | U71: 76.3 | Y71: 74.35 | Z71: 27 | AA71: 67 | AE71: 6 | AF71: 13 | AJ71: 67
A72: =IF(J72="","",CONCATENATE(J72," ",I72)) -> Zachary Maxwell | B72: 45697 | C72: Victorian Open | D72: 13th Beach | E72: Australia | F72: Australasian | I72: Maxwell | J72: Zachary | K72: mc | L72: 70 | M72: 72 | Q72: 142 | R72: 74.35 | S72: 74.23 | T72: 74.39 | U72: 74.3 | Y72: 74.35 | Z72: 60 | AA72: 67 | AE72: 8 | AF72: 13 | AJ72: 67
A73: =IF(J73="","",CONCATENATE(J73," ",I73)) -> Will Moody | B73: 45697 | C73: Victorian Open | D73: 13th Beach | E73: Australia | F73: Australasian | I73: Moody | J73: Will | K73: mc | L73: 73 | M73: 69 | Q73: 142 | R73: 74.35 | S73: 74.23 | T73: 77.39 | U73: 71.3 | Y73: 74.35 | Z73: 104 | AA73: 67 | AE73: 11 | AF73: 13 | AJ73: 67
A74: =IF(J74="","",CONCATENATE(J74," ",I74)) -> Max Moring | B74: 45697 | C74: Victorian Open | D74: 13th Beach | E74: Australia | F74: Australasian | I74: Moring | J74: Max | K74: mc | L74: 71 | M74: 71 | Q74: 142 | R74: 74.35 | S74: 74.23 | T74: 75.39 | U74: 73.3 | Y74: 74.35 | Z74: 77 | AA74: 67 | AE74: 9 | AF74: 13 | AJ74: 67
A75: =IF(J75="","",CONCATENATE(J75," ",I75)) -> Blake Proverbs | B75: 45697 | C75: Victorian Open | D75: 13th Beach | E75: Australia | F75: Australasian | I75: Proverbs | J75: Blake | K75: mc | L75: 70 | M75: 72 | Q75: 142 | R75: 74.35 | S75: 74.23 | T75: 74.39 | U75: 74.3 | Y75: 74.35 | Z75: 60 | AA75: 67 | AE75: 8 | AF75: 13 | AJ75: 67
A76: =IF(J76="","",CONCATENATE(J76," ",I76)) -> Anthony Choat | B76: 45697 | C76: Victorian Open | D76: 13th Beach | E76: Australia | F76: Australasian | I76: Choat | J76: Anthony | K76: mc | L76: 73 | M76: 70 | Q76: 143 | R76: 74.35 | S76: 74.23 | T76: 77.39 | U76: 72.3 | Y76: 74.85 | Z76: 104 | AA76: 74 | AE76: 11 | AF76: 14 | AJ76: 74
A77: =IF(J77="","",CONCATENATE(J77," ",I77)) -> James Conran | B77: 45697 | C77: Victorian Open | D77: 13th Beach | E77: Australia | F77: Australasian | I77: Conran | J77: James | K77: mc | L77: 71 | M77: 72 | Q77: 143 | R77: 74.35 | S77: 74.23 | T77: 75.39 | U77: 74.3 | Y77: 74.85 | Z77: 77 | AA77: 74 | AE77: 9 | AF77: 14 | AJ77: 74
A78: =IF(J78="","",CONCATENATE(J78," ",I78)) -> Jordan Doull | B78: 45697 | C78: Victorian Open | D78: 13th Beach | E78: Australia | F78: Australasian | I78: Doull | J78: Jordan | K78: mc | L78: 70 | M78: 73 | Q78: 143 | R78: 74.35 | S78: 74.23 | T78: 74.39 | U78: 75.3 | Y78: 74.85 | Z78: 60 | AA78: 74 | AE78: 8 | AF78: 14 | AJ78: 74
A79: =IF(J79="","",CONCATENATE(J79," ",I79)) -> Josiah Edwards | B79: 45697 | C79: Victorian Open | D79: 13th Beach | E79: Australia | F79: Australasian | I79: Edwards | J79: Josiah | K79: mc | L79: 68 | M79: 75 | Q79: 143 | R79: 74.35 | S79: 74.23 | T79: 72.39 | U79: 77.3 | Y79: 74.85 | Z79: 27 | AA79: 74 | AE79: 6 | AF79: 14 | AJ79: 74
A80: =IF(J80="","",CONCATENATE(J80," ",I80)) -> Gavin Fairfax | B80: 45697 | C80: Victorian Open | D80: 13th Beach | E80: Australia | F80: Australasian | I80: Fairfax | J80: Gavin | K80: mc | L80: 76 | M80: 67 | Q80: 143 | R80: 74.35 | S80: 74.23 | T80: 80.39 | U80: 69.3 | Y80: 74.85 | Z80: 129 | AA80: 74 | AE80: 14 | AF80: 14 | AJ80: 74
... A133: =IF(J133="","",CONCATENATE(J133," ",I133)) -> Josh Armstrong | B133: 45697 | C133: Victorian Open | D133: 13th Beach | E133: Australia | F133: Australasian | I133: Armstrong | J133: Josh | K133: mc | L133: 75 | M133: 83 | Q133: 158 | R133: 74.35 | S133: 74.23 | T133: 79.39 | U133: 85.3 | Y133: 82.35 | Z133: 125 | AA133: 131 | AE133: 13 | AF133: 29 | AJ133: 131
A134: =IF(J134="","",CONCATENATE(J134," ",I134)) -> Tim Hart | B134: 45697 | C134: Victorian Open | D134: 13th Beach | E134: Australia | F134: Australasian | I134: Hart | J134: Tim | K134: w | L134: 75 | Q134: 75 | R134: 74.35 | S134: 74.23 | T134: 79.39 | Y134: 79.39 | Z134: 125 | AE134: 13 | AJ134: 132
A135: =IF(J135="","",CONCATENATE(J135," ",I135)) -> Miguel Angel Jimenez | B135: 45697 | C135: Trophy Hassan II | D135: Dar Es Salam | E135: Morocco | F135: Champions | I135: Jimenez | J135: Miguel Angel | K135: 1 | L135: 70 | M135: 69 | N135: 69 | Q135: 208 | R135: 73.92 | S135: 73.92 | T135: 69.75 | U135: 69.36 | V135: 67.94 | Y135: 69.02 | Z135: 3 | AA135: 1 | AB135: 1 | AE135: 1 | AF135: 0 | AG135: -2 | AJ135: 1
A136: =IF(J136="","",CONCATENATE(J136," ",I136)) -> Steven Alker | B136: 45697 | C136: Trophy Hassan II | D136: Dar Es Salam | E136: Morocco | F136: Champions | I136: Alker | J136: Steven | K136: 2 | L136: 69 | M136: 70 | N136: 71 | Q136: 210 | R136: 73.92 | S136: 73.92 | T136: 68.75 | U136: 70.36 | V136: 69.94 | Y136: 69.68 | Z136: 1 | AA136: 1 | AB136: 2 | AE136: 0 | AF136: 0 | AG136: 2 | AJ136: 2
A137: =IF(J137="","",CONCATENATE(J137," ",I137)) -> Ernie Els | B137: 45697 | C137: Trophy Hassan II | D137: Dar Es Salam | E137: Morocco | F137: Champions | I137: Els | J137: Ernie | K137: 3 | L137: 72 | M137: 71 | N137: 69 | Q137: 212 | R137: 73.92 | S137: 73.92 | T137: 71.75 | U137: 71.36 | V137: 67.94 | Y137: 70.35 | Z137: 15 | AA137: 5 | AB137: 3 | AE137: 3 | AF137: 4 | AG137: 4 | AJ137: 3
A138: =IF(J138="","",CONCATENATE(J138," ",I138)) -> K.J. Choi | B138: 45697 | C138: Trophy Hassan II | D138: Dar Es Salam | E138: Morocco | F138: Champions | I138: Choi | J138: K.J. | K138: 4 | L138: 74 | M138: 69 | N138: 70 | Q138: 213 | R138: 73.92 | S138: 73.92 | T138: 73.75 | U138: 69.36 | V138: 68.94 | Y138: 70.68 | Z138: 33 | AA138: 5 | AB138: 4 | AE138: 5 | AF138: 4 | AG138: 5 | AJ138: 4
A139: =IF(J139="","",CONCATENATE(J139," ",I139)) -> Adilson Da Silva | B139: 45697 | C139: Trophy Hassan II | D139: Dar Es Salam | E139: Morocco | F139: Champions | I139: Da Silva | J139: Adilson | K139: 5 | L139: 70 | M139: 73 | N139: 72 | Q139: 215 | R139: 73.92 | S139: 73.92 | T139: 69.75 | U139: 73.36 | V139: 70.94 | Y139: 71.35 | Z139: 3 | AA139: 5 | AB139: 5 | AE139: 1 | AF139: 4 | AG139: 7 | AJ139: 5
A140: =IF(J140="","",CONCATENATE(J140," ",I140)) -> Thomas Bjorn | B140: 45697 | C140: Trophy Hassan II | D140: Dar Es Salam | E140: Morocco | F140: Champions | I140: Bjorn | J140: Thomas | K140: 6 | L140: 72 | M140: 71 | N140: 73 | Q140: 216 | R140: 73.92 | S140: 73.92 | T140: 71.75 | U140: 71.36 | V140: 71.94 | Y140: 71.68 | Z140: 15 | AA140: 5 | AB140: 6 | AE140: 3 | AF140: 4 | AG140: 8 | AJ140: 6
A141: =IF(J141="","",CONCATENATE(J141," ",I141)) -> Stewart Cink | B141: 45697 | C141: Trophy Hassan II | D141: Dar Es Salam | E141: Morocco | F141: Champions | I141: Cink | J141: Stewart | K141: 6 | L141: 71 | M141: 72 | N141: 73 | Q141: 216 | R141: 73.92 | S141: 73.92 | T141: 70.75 | U141: 72.36 | V141: 71.94 | Y141: 71.68 | Z141: 10 | AA141: 5 | AB141: 6 | AE141: 2 | AF141: 4 | AG141: 8 | AJ141: 6
A142: =IF(J142="","",CONCATENATE(J142," ",I142)) -> Padraig Harrington | B142: 45697 | C142: Trophy Hassan II | D142: Dar Es Salam | E142: Morocco | F142: Champions | I142: Harrington | J142: Padraig | K142: 6 | L142: 72 | M142: 74 | N142: 70 | Q142: 216 | R142: 73.92 | S142: 73.92 | T142: 71.75 | U142: 74.36 | V142: 68.94 | Y142: 71.68 | Z142: 15 | AA142: 24 | AB142: 6 | AE142: 3 | AF142: 7 | AG142: 8 | AJ142: 6
A143: =IF(J143="","",CONCATENATE(J143," ",I143)) -> Paul Broadhurst | B143: 45697 | C143: Trophy Hassan II | D143: Dar Es Salam | E143: Morocco | F143: Champions | I143: Broadhurst | J143: Paul | K143: 9 | L143: 72 | M143: 72 | N143: 73 | Q143: 217 | R143: 73.92 | S143: 73.92 | T143: 71.75 | U143: 72.36 | V143: 71.94 | Y143: 72.02 | Z143: 15 | AA143: 14 | AB143: 9 | AE143: 3 | AF143: 5 | AG143: 9 | AJ143: 9
A144: =IF(J144="","",CONCATENATE(J144," ",I144)) -> Jason Caron | B144: 45697 | C144: Trophy Hassan II | D144: Dar Es Salam | E144: Morocco | F144: Champions | I144: Caron | J144: Jason | K144: 9 | L144: 71 | M144: 73 | N144: 73 | Q144: 217 | R144: 73.92 | S144: 73.92 | T144: 70.75 | U144: 73.36 | V144: 71.94 | Y144: 72.02 | Z144: 10 | AA144: 14 | AB144: 9 | AE144: 2 | AF144: 5 | AG144: 9 | AJ144: 9
A145: =IF(J145="","",CONCATENATE(J145," ",I145)) -> Paul Goydos | B145: 45697 | C145: Trophy Hassan II | D145: Dar Es Salam | E145: Morocco | F145: Champions | I145: Goydos | J145: Paul | K145: 9 | L145: 71 | M145: 75 | N145: 71 | Q145: 217 | R145: 73.92 | S145: 73.92 | T145: 70.75 | U145: 75.36 | V145: 69.94 | Y145: 72.02 | Z145: 10 | AA145: 24 | AB145: 9 | AE145: 2 | AF145: 7 | AG145: 9 | AJ145: 9
A146: =IF(J146="","",CONCATENATE(J146," ",I146)) -> Richard Green | B146: 45697 | C146: Trophy Hassan II | D146: Dar Es Salam | E146: Morocco | F146: Champions | I146: Green | J146: Richard | K146: 9 | L146: 76 | M146: 71 | N146: 70 | Q146: 217 | R146: 73.92 | S146: 73.92 | T146: 75.75 | U146: 71.36 | V146: 68.94 | Y146: 72.02 | Z146: 45 | AA146: 33 | AB146: 9 | AE146: 7 | AF146: 8 | AG146: 9 | AJ146: 9
... A200: =IF(J200="","",CONCATENATE(J200," ",I200)) -> Jeff Maggert | B200: 45697 | C200: Trophy Hassan II | D200: Dar Es Salam | E200: Morocco | F200: Champions | I200: Maggert | J200: Jeff | K200: 66 | L200: 81 | M200: 79 | N200: 77 | Q200: 237 | R200: 73.92 | S200: 73.92 | T200: 80.75 | U200: 79.36 | V200: 75.94 | Y200: 78.68 | Z200: 65 | AA200: 64 | AB200: 66 | AE200: 12 | AF200: 21 | AG200: 29 | AJ200: 66
A201: =IF(J201="","",CONCATENATE(J201," ",I201)) -> Haotong Li | B201: 45697 | C201: Qatar Masters | D201: Doha | E201: Qatar | F201: DP World | I201: Li | J201: Haotong | K201: 1 | L201: 69 | M201: 67 | N201: 67 | O201: 69 | Q201: 272 | R201: 71.62 | S201: 71.43 | T201: 67.89 | U201: 66.92 | V201: 66.55 | W201: 68.07 | Y201: 67.36 | Z201: 11 | AA201: 2 | AB201: 1 | AC201: 1 | AE201: 3 | AF201: 2 | AG201: -2 | AH201: -1 | AJ201: 1
A202: =IF(J202="","",CONCATENATE(J202," ",I202)) -> Rasmus Neergaard-Petersen | B202: 45697 | C202: Qatar Masters | D202: Doha | E202: Qatar | F202: DP World | I202: Neergaard-Petersen | J202: Rasmus | K202: 2 | L202: 66 | M202: 72 | N202: 70 | O202: 65 | Q202: 273 | R202: 71.62 | S202: 71.43 | T202: 64.89 | U202: 71.92 | V202: 69.55 | W202: 64.07 | Y202: 67.61 | Z202: 1 | AA202: 7 | AB202: 5 | AC202: 2 | AE202: 0 | AF202: 4 | AG202: 5 | AH202: 1 | AJ202: 2
A203: =IF(J203="","",CONCATENATE(J203," ",I203)) -> Brandon Robinson Thompson | B203: 45697 | C203: Qatar Masters | D203: Doha | E203: Qatar | F203: DP World | I203: Robinson Thompson | J203: Brandon | K203: 3 | L203: 66 | M203: 68 | N203: 71 | O203: 70 | Q203: 275 | R203: 71.62 | S203: 71.43 | T203: 64.89 | U203: 67.92 | V203: 70.55 | W203: 69.07 | Y203: 68.11 | Z203: 1 | AA203: 1 | AB203: 2 | AC203: 3 | AE203: 0 | AF203: -2 | AG203: 2 | AH203: 3 | AJ203: 3
A204: =IF(J204="","",CONCATENATE(J204," ",I204)) -> Antoine Rozner | B204: 45697 | C204: Qatar Masters | D204: Doha | E204: Qatar | F204: DP World | I204: Rozner | J204: Antoine | K204: 4 | L204: 69 | M204: 70 | N204: 71 | O204: 68 | Q204: 278 | R204: 71.62 | S204: 71.43 | T204: 67.89 | U204: 69.92 | V204: 70.55 | W204: 67.07 | Y204: 68.86 | Z204: 11 | AA204: 13 | AB204: 12 | AC204: 4 | AE204: 3 | AF204: 5 | AG204: 7 | AH204: 6 | AJ204: 4
A205: =IF(J205="","",CONCATENATE(J205," ",I205)) -> Martin Couvra | B205: 45697 | C205: Qatar Masters | D205: Doha | E205: Qatar | F205: DP World | I205: Couvra | J205: Martin | K205: 5 | L205: 71 | M205: 69 | N205: 68 | O205: 71 | Q205: 279 | R205: 71.62 | S205: 71.43 | T205: 69.89 | U205: 68.92 | V205: 67.55 | W205: 70.07 | Y205: 69.11 | Z205: 40 | AA205: 18 | AB205: 5 | AC205: 5 | AE205: 5 | AF205: 6 | AG205: 5 | AH205: 7 | AJ205: 5
A206: =IF(J206="","",CONCATENATE(J206," ",I206)) -> Jayden Schaper | B206: 45697 | C206: Qatar Masters | D206: Doha | E206: Qatar | F206: DP World | I206: Schaper | J206: Jayden | K206: 5 | L206: 69 | M206: 69 | N206: 69 | O206: 72 | Q206: 279 | R206: 71.62 | S206: 71.43 | T206: 67.89 | U206: 68.92 | V206: 68.55 | W206: 71.07 | Y206: 69.11 | Z206: 11 | AA206: 7 | AB206: 3 | AC206: 5 | AE206: 3 | AF206: 4 | AG206: 4 | AH206: 7 | AJ206: 5
A207: =IF(J207="","",CONCATENATE(J207," ",I207)) -> Ben Schmidt | B207: 45697 | C207: Qatar Masters | D207: Doha | E207: Qatar | F207: DP World | I207: Schmidt | J207: Ben | K207: 5 | L207: 73 | M207: 67 | N207: 70 | O207: 69 | Q207: 279 | R207: 71.62 | S207: 71.43 | T207: 71.89 | U207: 66.92 | V207: 69.55 | W207: 68.07 | Y207: 69.11 | Z207: 72 | AA207: 18 | AB207: 12 | AC207: 5 | AE207: 7 | AF207: 6 | AG207: 7 | AH207: 7 | AJ207: 5
A208: =IF(J208="","",CONCATENATE(J208," ",I208)) -> Adrien Dumont De Chassart | B208: 45697 | C208: Qatar Masters | D208: Doha | E208: Qatar | F208: DP World | I208: Dumont De Chassart | J208: Adrien | K208: 8 | L208: 69 | M208: 71 | N208: 69 | O208: 71 | Q208: 280 | R208: 71.62 | S208: 71.43 | T208: 67.89 | U208: 70.92 | V208: 68.55 | W208: 70.07 | Y208: 69.36 | Z208: 11 | AA208: 18 | AB208: 8 | AC208: 8 | AE208: 3 | AF208: 6 | AG208: 6 | AH208: 8 | AJ208: 8
A209: =IF(J209="","",CONCATENATE(J209," ",I209)) -> Minkyu Kim | B209: 45697 | C209: Qatar Masters | D209: Doha | E209: Qatar | F209: DP World | I209: Kim | J209: Minkyu | K209: 8 | L209: 69 | M209: 67 | N209: 72 | O209: 72 | Q209: 280 | R209: 71.62 | S209: 71.43 | T209: 67.89 | U209: 66.92 | V209: 71.55 | W209: 71.07 | Y209: 69.36 | Z209: 11 | AA209: 2 | AB209: 5 | AC209: 8 | AE209: 3 | AF209: 2 | AG209: 5 | AH209: 8 | AJ209: 8
A210: =IF(J210="","",CONCATENATE(J210," ",I210)) -> Sam Bairstow | B210: 45697 | C210: Qatar Masters | D210: Doha | E210: Qatar | F210: DP World | I210: Bairstow | J210: Sam | K210: 10 | L210: 67 | M210: 72 | N210: 70 | O210: 72 | Q210: 281 | R210: 71.62 | S210: 71.43 | T210: 65.89 | U210: 71.92 | V210: 69.55 | W210: 71.07 | Y210: 69.61 | Z210: 3 | AA210: 13 | AB210: 8 | AC210: 10 | AE210: 1 | AF210: 5 | AG210: 6 | AH210: 9 | AJ210: 10
A211: =IF(J211="","",CONCATENATE(J211," ",I211)) -> Daniel Brown (Oct1994) | B211: 45697 | C211: Qatar Masters | D211: Doha | E211: Qatar | F211: DP World | I211: Brown (Oct1994) | J211: Daniel | K211: 10 | L211: 69 | M211: 68 | N211: 78 | O211: 66 | Q211: 281 | R211: 71.62 | S211: 71.43 | T211: 67.89 | U211: 67.92 | V211: 77.55 | W211: 65.07 | Y211: 69.61 | Z211: 11 | AA211: 5 | AB211: 44 | AC211: 10 | AE211: 3 | AF211: 3 | AG211: 12 | AH211: 9 | AJ211: 10
A212: =IF(J212="","",CONCATENATE(J212," ",I212)) -> Matthew Jordan | B212: 45697 | C212: Qatar Masters | D212: Doha | E212: Qatar | F212: DP World | I212: Jordan | J212: Matthew | K212: 10 | L212: 69 | M212: 71 | N212: 67 | O212: 74 | Q212: 281 | R212: 71.62 | S212: 71.43 | T212: 67.89 | U212: 70.92 | V212: 66.55 | W212: 73.07 | Y212: 69.61 | Z212: 11 | AA212: 18 | AB212: 3 | AC212: 10 | AE212: 3 | AF212: 6 | AG212: 4 | AH212: 9 | AJ212: 10
... A266: =IF(J266="","",CONCATENATE(J266," ",I266)) -> Casey Jarvis | B266: 45697 | C266: Qatar Masters | D266: Doha | E266: Qatar | F266: DP World | I266: Jarvis | J266: Casey | K266: 66 | L266: 69 | M266: 73 | N266: 72 | O266: 81 | Q266: 295 | R266: 71.62 | S266: 71.43 | T266: 67.89 | U266: 72.92 | V266: 71.55 | W266: 80.07 | Y266: 73.11 | Z266: 11 | AA266: 34 | AB266: 40 | AC266: 66 | AE266: 3 | AF266: 8 | AG266: 11 | AH266: 23 | AJ266: 66
A267: =IF(J267="","",CONCATENATE(J267," ",I267)) -> Thomas Aiken | B267: 45697 | C267: Qatar Masters | D267: Doha | E267: Qatar | F267: DP World | I267: Aiken | J267: Thomas | K267: mc | L267: 70 | M267: 74 | Q267: 144 | R267: 71.62 | S267: 71.43 | T267: 68.89 | U267: 73.92 | Y267: 71.4 | Z267: 30 | AA267: 67 | AE267: 4 | AF267: 10 | AJ267: 67
A268: =IF(J268="","",CONCATENATE(J268," ",I268)) -> Alejandro Del Rey | B268: 45697 | C268: Qatar Masters | D268: Doha | E268: Qatar | F268: DP World | I268: Del Rey | J268: Alejandro | K268: mc | L268: 69 | M268: 75 | Q268: 144 | R268: 71.62 | S268: 71.43 | T268: 67.89 | U268: 74.92 | Y268: 71.4 | Z268: 11 | AA268: 67 | AE268: 3 | AF268: 10 | AJ268: 67
A269: =IF(J269="","",CONCATENATE(J269," ",I269)) -> Grant Forrest | B269: 45697 | C269: Qatar Masters | D269: Doha | E269: Qatar | F269: DP World | I269: Forrest | J269: Grant | K269: mc | L269: 71 | M269: 73 | Q269: 144 | R269: 71.62 | S269: 71.43 | T269: 69.89 | U269: 72.92 | Y269: 71.4 | Z269: 40 | AA269: 67 | AE269: 5 | AF269: 10 | AJ269: 67
A270: =IF(J270="","",CONCATENATE(J270," ",I270)) -> Takumi Kanaya | B270: 45697 | C270: Qatar Masters | D270: Doha | E270: Qatar | F270: DP World | I270: Kanaya | J270: Takumi | K270: mc | L270: 70 | M270: 74 | Q270: 144 | R270: 71.62 | S270: 71.43 | T270: 68.89 | U270: 73.92 | Y270: 71.4 | Z270: 30 | AA270: 67 | AE270: 4 | AF270: 10 | AJ270: 67
A271: =IF(J271="","",CONCATENATE(J271," ",I271)) -> Yuto Katsuragawa | B271: 45697 | C271: Qatar Masters | D271: Doha | E271: Qatar | F271: DP World | I271: Katsuragawa | J271: Yuto | K271: mc | L271: 73 | M271: 71 | Q271: 144 | R271: 71.62 | S271: 71.43 | T271: 71.89 | U271: 70.92 | Y271: 71.4 | Z271: 72 | AA271: 67 | AE271: 7 | AF271: 10 | AJ271: 67
A272: =IF(J272="","",CONCATENATE(J272," ",I272)) -> Jeong Weon Ko | B272: 45697 | C272: Qatar Masters | D272: Doha | E272: Qatar | F272: DP World | I272: Ko | J272: Jeong Weon | K272: mc | L272: 75 | M272: 69 | Q272: 144 | R272: 71.62 | S272: 71.43 | T272: 73.89 | U272: 68.92 | Y272: 71.4 | Z272: 104 | AA272: 67 | AE272: 9 | AF272: 10 | AJ272: 67
A273: =IF(J273="","",CONCATENATE(J273," ",I273)) -> Kazuma Kobori | B273: 45697 | C273: Qatar Masters | D273: Doha | E273: Qatar | F273: DP World | I273: Kobori | J273: Kazuma | K273: mc | L273: 73 | M273: 71 | Q273: 144 | R273: 71.62 | S273: 71.43 | T273: 71.89 | U273: 70.92 | Y273: 71.4 | Z273: 72 | AA273: 67 | AE273: 7 | AF273: 10 | AJ273: 67
A274: =IF(J274="","",CONCATENATE(J274," ",I274)) -> Adrian Otaegui | B274: 45697 | C274: Qatar Masters | D274: Doha | E274: Qatar | F274: DP World | I274: Otaegui | J274: Adrian | K274: mc | L274: 72 | M274: 72 | Q274: 144 | R274: 71.62 | S274: 71.43 | T274: 70.89 | U274: 71.92 | Y274: 71.4 | Z274: 51 | AA274: 67 | AE274: 6 | AF274: 10 | AJ274: 67
A275: =IF(J275="","",CONCATENATE(J275," ",I275)) -> Shubhankar Sharma | B275: 45697 | C275: Qatar Masters | D275: Doha | E275: Qatar | F275: DP World | I275: Sharma | J275: Shubhankar | K275: mc | L275: 75 | M275: 69 | Q275: 144 | R275: 71.62 | S275: 71.43 | T275: 73.89 | U275: 68.92 | Y275: 71.4 | Z275: 104 | AA275: 67 | AE275: 9 | AF275: 10 | AJ275: 67
A276: =IF(J276="","",CONCATENATE(J276," ",I276)) -> Brandon Stone | B276: 45697 | C276: Qatar Masters | D276: Doha | E276: Qatar | F276: DP World | I276: Stone | J276: Brandon | K276: mc | L276: 76 | M276: 68 | Q276: 144 | R276: 71.62 | S276: 71.43 | T276: 74.89 | U276: 67.92 | Y276: 71.4 | Z276: 115 | AA276: 67 | AE276: 10 | AF276: 10 | AJ276: 67
A277: =IF(J277="","",CONCATENATE(J277," ",I277)) -> Johannes Veerman | B277: 45697 | C277: Qatar Masters | D277: Doha | E277: Qatar | F277: DP World | I277: Veerman | J277: Johannes | K277: mc | L277: 75 | M277: 69 | Q277: 144 | R277: 71.62 | S277: 71.43 | T277: 73.89 | U277: 68.92 | Y277: 71.4 | Z277: 104 | AA277: 67 | AE277: 9 | AF277: 10 | AJ277: 67
A278: =IF(J278="","",CONCATENATE(J278," ",I278)) -> Matthew Baldwin | B278: 45697 | C278: Qatar Masters | D278: Doha | E278: Qatar | F278: DP World | I278: Baldwin | J278: Matthew | K278: mc | L278: 74 | M278: 71 | Q278: 145 | R278: 71.62 | S278: 71.43 | T278: 72.89 | U278: 70.92 | Y278: 71.9 | Z278: 92 | AA278: 78 | AE278: 8 | AF278: 11 | AJ278: 78
... A338: =IF(J338="","",CONCATENATE(J338," ",I338)) -> Saleh Al Kaabi | B338: 45697 | C338: Qatar Masters | D338: Doha | E338: Qatar | F338: DP World | I338: Al Kaabi | J338: Saleh | K338: mc | L338: 87 | M338: 74 | Q338: 161 | R338: 71.62 | S338: 71.43 | T338: 85.89 | U338: 73.92 | Y338: 79.9 | Z338: 140 | AA338: 138 | AE338: 21 | AF338: 27 | AJ338: 138
A339: =IF(J339="","",CONCATENATE(J339," ",I339)) -> Louis De Jager | B339: 45697 | C339: Qatar Masters | D339: Doha | E339: Qatar | F339: DP World | I339: De Jager | J339: Louis | K339: w | L339: 78 | Q339: 78 | R339: 71.62 | S339: 71.43 | T339: 76.89 | Y339: 76.89 | Z339: 127 | AE339: 12 | AJ339: 139
A340: =IF(J340="","",CONCATENATE(J340," ",I340)) -> Jordan Smith | B340: 45697 | C340: Qatar Masters | D340: Doha | E340: Qatar | F340: DP World | I340: Smith | J340: Jordan | K340: w | L340: 76 | Q340: 76 | R340: 71.62 | S340: 71.43 | T340: 74.89 | Y340: 74.89 | Z340: 115 | AE340: 10 | AJ340: 139
A341: =IF(J341="","",CONCATENATE(J341," ",I341)) -> Kyle Westmoreland | B341: 45697 | C341: Astara Golf Championship | D341: Bogota | E341: Colombia | F341: Korn Ferry | I341: Westmoreland | J341: Kyle | K341: 1 | L341: 70 | M341: 65 | N341: 61 | O341: 70 | Q341: 266 | R341: 71.89 | S341: 71.77 | T341: 71.85 | U341: 67.15 | V341: 62.92 | W341: 71.37 | Y341: 68.32 | Z341: 72 | AA341: 20 | AB341: 1 | AC341: 1 | AE341: 7 | AF341: 6 | AG341: -2 | AH341: -1 | AJ341: 1
A342: =IF(J342="","",CONCATENATE(J342," ",I342)) -> Pierceson Coody | B342: 45697 | C342: Astara Golf Championship | D342: Bogota | E342: Colombia | F342: Korn Ferry | I342: Coody | J342: Pierceson | K342: 2 | L342: 66 | M342: 68 | N342: 67 | O342: 66 | Q342: 267 | R342: 71.89 | S342: 71.77 | T342: 67.85 | U342: 70.15 | V342: 68.92 | W342: 67.37 | Y342: 68.57 | Z342: 12 | AA342: 10 | AB342: 6 | AC342: 2 | AE342: 3 | AF342: 5 | AG342: 5 | AH342: 1 | AJ342: 2
A343: =IF(J343="","",CONCATENATE(J343," ",I343)) -> Christo Lamprecht | B343: 45697 | C343: Astara Golf Championship | D343: Bogota | E343: Colombia | F343: Korn Ferry | I343: Lamprecht | J343: Christo | K343: 2 | L343: 69 | M343: 63 | N343: 67 | O343: 68 | Q343: 267 | R343: 71.89 | S343: 71.77 | T343: 70.85 | U343: 65.15 | V343: 68.92 | W343: 69.37 | Y343: 68.57 | Z343: 60 | AA343: 4 | AB343: 3 | AC343: 2 | AE343: 6 | AF343: 3 | AG343: 3 | AH343: 1 | AJ343: 2
A344: =IF(J344="","",CONCATENATE(J344," ",I344)) -> Johnny Keefer | B344: 45697 | C344: Astara Golf Championship | D344: Bogota | E344: Colombia | F344: Korn Ferry | I344: Keefer | J344: Johnny | K344: 4 | L344: 75 | M344: 62 | N344: 61 | O344: 70 | Q344: 268 | R344: 71.89 | S344: 71.77 | T344: 76.85 | U344: 64.15 | V344: 62.92 | W344: 71.37 | Y344: 68.82 | Z344: 137 | AA344: 32 | AB344: 2 | AC344: 4 | AE344: 12 | AF344: 8 | AG344: 2 | AH344: 2 | AJ344: 4
A345: =IF(J345="","",CONCATENATE(J345," ",I345)) -> Mitchell Meissner | B345: 45697 | C345: Astara Golf Championship | D345: Bogota | E345: Colombia | F345: Korn Ferry | I345: Meissner | J345: Mitchell | K345: 4 | L345: 68 | M345: 66 | N345: 67 | O345: 67 | Q345: 268 | R345: 71.89 | S345: 71.77 | T345: 69.85 | U345: 68.15 | V345: 68.92 | W345: 68.37 | Y345: 68.82 | Z345: 40 | AA345: 10 | AB345: 6 | AC345: 4 | AE345: 5 | AF345: 5 | AG345: 5 | AH345: 2 | AJ345: 4
A346: =IF(J346="","",CONCATENATE(J346," ",I346)) -> Tyson Alexander | B346: 45697 | C346: Astara Golf Championship | D346: Bogota | E346: Colombia | F346: Korn Ferry | I346: Alexander | J346: Tyson | K346: 6 | L346: 67 | M346: 66 | N346: 66 | O346: 71 | Q346: 270 | R346: 71.89 | S346: 71.77 | T346: 68.85 | U346: 68.15 | V346: 67.92 | W346: 72.37 | Y346: 69.32 | Z346: 22 | AA346: 5 | AB346: 3 | AC346: 6 | AE346: 4 | AF346: 4 | AG346: 3 | AH346: 4 | AJ346: 6
A347: =IF(J347="","",CONCATENATE(J347," ",I347)) -> Davis Chatfield | B347: 45697 | C347: Astara Golf Championship | D347: Bogota | E347: Colombia | F347: Korn Ferry | I347: Chatfield | J347: Davis | K347: 6 | L347: 68 | M347: 70 | N347: 65 | O347: 67 | Q347: 270 | R347: 71.89 | S347: 71.77 | T347: 69.85 | U347: 72.15 | V347: 66.92 | W347: 68.37 | Y347: 69.32 | Z347: 40 | AA347: 49 | AB347: 15 | AC347: 6 | AE347: 5 | AF347: 9 | AG347: 7 | AH347: 4 | AJ347: 6
A348: =IF(J348="","",CONCATENATE(J348," ",I348)) -> Kevin Dougherty | B348: 45697 | C348: Astara Golf Championship | D348: Bogota | E348: Colombia | F348: Korn Ferry | I348: Dougherty | J348: Kevin | K348: 6 | L348: 70 | M348: 66 | N348: 66 | O348: 68 | Q348: 270 | R348: 71.89 | S348: 71.77 | T348: 71.85 | U348: 68.15 | V348: 67.92 | W348: 69.37 | Y348: 69.32 | Z348: 72 | AA348: 25 | AB348: 8 | AC348: 6 | AE348: 7 | AF348: 7 | AG348: 6 | AH348: 4 | AJ348: 6
A349: =IF(J349="","",CONCATENATE(J349," ",I349)) -> Seungtaek Lee | B349: 45697 | C349: Astara Golf Championship | D349: Bogota | E349: Colombia | F349: Korn Ferry | I349: Lee | J349: Seungtaek | K349: 6 | L349: 67 | M349: 66 | N349: 66 | O349: 71 | Q349: 270 | R349: 71.89 | S349: 71.77 | T349: 68.85 | U349: 68.15 | V349: 67.92 | W349: 72.37 | Y349: 69.32 | Z349: 22 | AA349: 5 | AB349: 3 | AC349: 6 | AE349: 4 | AF349: 4 | AG349: 3 | AH349: 4 | AJ349: 6
A350: =IF(J350="","",CONCATENATE(J350," ",I350)) -> Ross Steelman | B350: 45697 | C350: Astara Golf Championship | D350: Bogota | E350: Colombia | F350: Korn Ferry | I350: Steelman | J350: Ross | K350: 6 | L350: 67 | M350: 62 | N350: 73 | O350: 68 | Q350: 270 | R350: 71.89 | S350: 71.77 | T350: 68.85 | U350: 64.15 | V350: 74.92 | W350: 69.37 | Y350: 69.32 | Z350: 22 | AA350: 1 | AB350: 8 | AC350: 6 | AE350: 4 | AF350: -2 | AG350: 6 | AH350: 4 | AJ350: 6
A351: =IF(J351="","",CONCATENATE(J351," ",I351)) -> Jack Maguire | B351: 45697 | C351: Astara Golf Championship | D351: Bogota | E351: Colombia | F351: Korn Ferry | I351: Maguire | J351: Jack | K351: 11 | L351: 65 | M351: 66 | N351: 71 | O351: 69 | Q351: 271 | R351: 71.89 | S351: 71.77 | T351: 66.85 | U351: 68.15 | V351: 72.92 | W351: 70.37 | Y351: 69.57 | Z351: 4 | AA351: 2 | AB351: 8 | AC351: 11 | AE351: 2 | AF351: 2 | AG351: 6 | AH351: 5 | AJ351: 11
A352: =IF(J352="","",CONCATENATE(J352," ",I352)) -> Austin Smotherman | B352: 45697 | C352: Astara Golf Championship | D352: Bogota | E352: Colombia | F352: Korn Ferry | I352: Smotherman | J352: Austin | K352: 11 | L352: 67 | M352: 71 | N352: 64 | O352: 69 | Q352: 271 | R352: 71.89 | S352: 71.77 | T352: 68.85 | U352: 73.15 | V352: 65.92 | W352: 70.37 | Y352: 69.57 | Z352: 22 | AA352: 49 | AB352: 8 | AC352: 11 | AE352: 4 | AF352: 9 | AG352: 6 | AH352: 5 | AJ352: 11
... A422: =IF(J422="","",CONCATENATE(J422," ",I422)) -> Paul Barjon | B422: 45697 | C422: Astara Golf Championship | D422: Bogota | E422: Colombia | F422: Korn Ferry | I422: Barjon | J422: Paul | K422: 82 | L422: 69 | M422: 68 | N422: 79 | O422: 75 | Q422: 291 | R422: 71.89 | S422: 71.77 | T422: 70.85 | U422: 70.15 | V422: 80.92 | W422: 76.37 | Y422: 74.57 | Z422: 60 | AA422: 32 | AB422: 82 | AC422: 82 | AE422: 6 | AF422: 8 | AG422: 20 | AH422: 25 | AJ422: 82
A423: =IF(J423="","",CONCATENATE(J423," ",I423)) -> Sam Bennett | B423: 45697 | C423: Astara Golf Championship | D423: Bogota | E423: Colombia | F423: Korn Ferry | I423: Bennett | J423: Sam | K423: mc | L423: 73 | M423: 67 | Q423: 140 | R423: 71.89 | S423: 71.77 | T423: 74.85 | U423: 69.15 | Y423: 72 | Z423: 119 | AA423: 83 | AE423: 10 | AF423: 11 | AJ423: 83
A424: =IF(J424="","",CONCATENATE(J424," ",I424)) -> Ryan Burnett | B424: 45697 | C424: Astara Golf Championship | D424: Bogota | E424: Colombia | F424: Korn Ferry | I424: Burnett | J424: Ryan | K424: mc | L424: 74 | M424: 66 | Q424: 140 | R424: 71.89 | S424: 71.77 | T424: 75.85 | U424: 68.15 | Y424: 72 | Z424: 132 | AA424: 83 | AE424: 11 | AF424: 11 | AJ424: 83
A425: =IF(J425="","",CONCATENATE(J425," ",I425)) -> Sebastian Cappelen | B425: 45697 | C425: Astara Golf Championship | D425: Bogota | E425: Colombia | F425: Korn Ferry | I425: Cappelen | J425: Sebastian | K425: mc | L425: 67 | M425: 73 | Q425: 140 | R425: 71.89 | S425: 71.77 | T425: 68.85 | U425: 75.15 | Y425: 72 | Z425: 22 | AA425: 83 | AE425: 4 | AF425: 11 | AJ425: 83
...

Sheet Record
A1: Win | D1: FRL | G1: Top3: Win | J1: Top3: FRL | N1: WIN | O1: Rank | P1: Player | Q1: P/L | R1: E/W Play | U1: FRL | V1: Rank | W1: Player | X1: P/L | Y1: E/W Play
A2: Stakes | B2: Profit | D2: Stakes | E2: Profit | G2: Stakes | H2: Profit | J2: Stakes | K2: Profit | O2: 1 | P2: =IFERROR(OFFSET(Picks!A$1,MATCH($O2,Picks!$F:$F,0)-1,0),"") -> Scottie Scheffler | Q2: =IFERROR(OFFSET(Picks!I$1,MATCH($O2,Picks!$F:$F,0)-1,0),"") -> -2 | R2: =IFERROR(OFFSET(Picks!J$1,MATCH($O2,Picks!$F:$F,0)-1,0),"") -> Ladbrokes: 2.5/1, 10pl, 1/5 | V2: 1 | W2: =IFERROR(OFFSET(Picks!M$1,MATCH($O2,Picks!$R:$R,0)-1,0),"") -> Matt Fitzpatrick | X2: =IFERROR(OFFSET(Picks!U$1,MATCH($O2,Picks!$R:$R,0)-1,0),"") -> -2 | Y2: =IFERROR(OFFSET(Picks!V$1,MATCH($O2,Picks!$R:$R,0)-1,0),"") -> Spreadex: 80/1, 6pl, 1/5
A3: {=IF(100*SUMPRODUCT((Win!F:F<>"") * IFERROR(--Win!E:E, 0))=0,"",100*SUMPRODUCT((Win!F:F<>"") * IFERROR(--Win!E:E, 0)))} -> 5.4 | B3: =IF(AND(A3="",SUM(Win!G:G)=0),"",SUM(Win!G:G)) -> -2.3 | D3: {=IF(100*SUMPRODUCT((FRL!F:F<>"") * IFERROR(--FRL!E:E, 0))=0,"",100*SUMPRODUCT((FRL!F:F<>"") * IFERROR(--FRL!E:E, 0)))} -> 8.8 | E3: =IF(AND(D3="",SUM(FRL!G:G)=0),"",SUM(FRL!G:G)) -> -0.725 | G3: =IF(T3Picks!B2="","",2*(3-COUNTBLANK(T3Picks!A2:A4))) -> 6 | H3: =IF(T3Picks!B2="","",SUM(T3Picks!G2:G4)) -> 25 | J3: =IF(T3Picks!B5="","",2*(3-COUNTBLANK(T3Picks!A5:A7))) -> 6 | K3: =IF(T3Picks!B5="","",SUM(T3Picks!G5:G7)) -> -6 | O3: 2 | P3: =IFERROR(OFFSET(Picks!A$1,MATCH($O3,Picks!$F:$F,0)-1,0),"") -> Luke Clanton | Q3: =IFERROR(OFFSET(Picks!I$1,MATCH($O3,Picks!$F:$F,0)-1,0),"") -> -2 | R3: =IFERROR(OFFSET(Picks!J$1,MATCH($O3,Picks!$F:$F,0)-1,0),"") -> Skybet: 60/1, 8pl, 1/5 | V3: 2 | W3: =IFERROR(OFFSET(Picks!M$1,MATCH($O3,Picks!$R:$R,0)-1,0),"") -> Billy Horschel | X3: =IFERROR(OFFSET(Picks!U$1,MATCH($O3,Picks!$R:$R,0)-1,0),"") -> -2 | Y3: =IFERROR(OFFSET(Picks!V$1,MATCH($O3,Picks!$R:$R,0)-1,0),"") -> Spreadex: 80/1, 6pl, 1/5
O4: 3 | P4: =IFERROR(OFFSET(Picks!A$1,MATCH($O4,Picks!$F:$F,0)-1,0),"") -> Christiaan Bezuidenhout | Q4: =IFERROR(OFFSET(Picks!I$1,MATCH($O4,Picks!$F:$F,0)-1,0),"") -> 29 | R4: =IFERROR(OFFSET(Picks!J$1,MATCH($O4,Picks!$F:$F,0)-1,0),"") -> Paddy Power: 150/1, 8pl, 1/5 | V4: 3 | W4: =IFERROR(OFFSET(Picks!M$1,MATCH($O4,Picks!$R:$R,0)-1,0),"") -> Brian Harman | X4: =IFERROR(OFFSET(Picks!U$1,MATCH($O4,Picks!$R:$R,0)-1,0),"") -> -2 | Y4: =IFERROR(OFFSET(Picks!V$1,MATCH($O4,Picks!$R:$R,0)-1,0),"") -> Spreadex: 100/1, 6pl, 1/5
O5: 4 | P5: =IFERROR(OFFSET(Picks!A$1,MATCH($O5,Picks!$F:$F,0)-1,0),"") -> Tom Hoge | Q5: =IFERROR(OFFSET(Picks!I$1,MATCH($O5,Picks!$F:$F,0)-1,0),"") -> -2 | R5: =IFERROR(OFFSET(Picks!J$1,MATCH($O5,Picks!$F:$F,0)-1,0),"") -> Paddy Power: 80/1, 8pl, 1/5 | V5: 4 | W5: =IFERROR(OFFSET(Picks!M$1,MATCH($O5,Picks!$R:$R,0)-1,0),"") -> Adam Hadwin | X5: =IFERROR(OFFSET(Picks!U$1,MATCH($O5,Picks!$R:$R,0)-1,0),"") -> -2 | Y5: =IFERROR(OFFSET(Picks!V$1,MATCH($O5,Picks!$R:$R,0)-1,0),"") -> Spreadex: 150/1, 6pl, 1/5
O6: 5 | P6: =IFERROR(OFFSET(Picks!A$1,MATCH($O6,Picks!$F:$F,0)-1,0),"") -> Keith Mitchell | Q6: =IFERROR(OFFSET(Picks!I$1,MATCH($O6,Picks!$F:$F,0)-1,0),"") -> -2 | R6: =IFERROR(OFFSET(Picks!J$1,MATCH($O6,Picks!$F:$F,0)-1,0),"") -> Betfair: 100/1, 8pl, 1/5 | V6: 5 | W6: =IFERROR(OFFSET(Picks!M$1,MATCH($O6,Picks!$R:$R,0)-1,0),"") -> Tom Hoge | X6: =IFERROR(OFFSET(Picks!U$1,MATCH($O6,Picks!$R:$R,0)-1,0),"") -> -2 | Y6: =IFERROR(OFFSET(Picks!V$1,MATCH($O6,Picks!$R:$R,0)-1,0),"") -> Bet365: 75/1, 5pl, 1/4
O7: 6 | P7: =IFERROR(OFFSET(Picks!A$1,MATCH($O7,Picks!$F:$F,0)-1,0),"") -> Brian Harman | Q7: =IFERROR(OFFSET(Picks!I$1,MATCH($O7,Picks!$F:$F,0)-1,0),"") -> -2 | R7: =IFERROR(OFFSET(Picks!J$1,MATCH($O7,Picks!$F:$F,0)-1,0),"") -> Betfair: 150/1, 8pl, 1/5 | V7: 6 | W7: =IFERROR(OFFSET(Picks!M$1,MATCH($O7,Picks!$R:$R,0)-1,0),"") -> Denny McCarthy | X7: =IFERROR(OFFSET(Picks!U$1,MATCH($O7,Picks!$R:$R,0)-1,0),"") -> -2 | Y7: =IFERROR(OFFSET(Picks!V$1,MATCH($O7,Picks!$R:$R,0)-1,0),"") -> Spreadex: 80/1, 6pl, 1/5
O8: 7 | P8: =IFERROR(OFFSET(Picks!A$1,MATCH($O8,Picks!$F:$F,0)-1,0),"") -> Andrew Putnam | Q8: =IFERROR(OFFSET(Picks!I$1,MATCH($O8,Picks!$F:$F,0)-1,0),"") -> -2 | R8: =IFERROR(OFFSET(Picks!J$1,MATCH($O8,Picks!$F:$F,0)-1,0),"") -> Skybet: 250/1, 8pl, 1/5 | V8: 7 | W8: =IFERROR(OFFSET(Picks!M$1,MATCH($O8,Picks!$R:$R,0)-1,0),"") -> Keith Mitchell | X8: =IFERROR(OFFSET(Picks!U$1,MATCH($O8,Picks!$R:$R,0)-1,0),"") -> -2 | Y8: =IFERROR(OFFSET(Picks!V$1,MATCH($O8,Picks!$R:$R,0)-1,0),"") -> Spreadex: 80/1, 6pl, 1/5
O9: 8 | P9: =IFERROR(OFFSET(Picks!A$1,MATCH($O9,Picks!$F:$F,0)-1,0),"") | Q9: =IFERROR(OFFSET(Picks!I$1,MATCH($O9,Picks!$F:$F,0)-1,0),"") | R9: =IFERROR(OFFSET(Picks!J$1,MATCH($O9,Picks!$F:$F,0)-1,0),"") | V9: 8 | W9: =IFERROR(OFFSET(Picks!M$1,MATCH($O9,Picks!$R:$R,0)-1,0),"") -> Patrick Rodgers | X9: =IFERROR(OFFSET(Picks!U$1,MATCH($O9,Picks!$R:$R,0)-1,0),"") -> -2 | Y9: =IFERROR(OFFSET(Picks!V$1,MATCH($O9,Picks!$R:$R,0)-1,0),"") -> Bet365: 100/1, 5pl, 1/4
O10: 9 | P10: =IFERROR(OFFSET(Picks!A$1,MATCH($O10,Picks!$F:$F,0)-1,0),"") | Q10: =IFERROR(OFFSET(Picks!I$1,MATCH($O10,Picks!$F:$F,0)-1,0),"") | R10: =IFERROR(OFFSET(Picks!J$1,MATCH($O10,Picks!$F:$F,0)-1,0),"") | V10: 9 | W10: =IFERROR(OFFSET(Picks!M$1,MATCH($O10,Picks!$R:$R,0)-1,0),"") -> Thomas Detry | X10: =IFERROR(OFFSET(Picks!U$1,MATCH($O10,Picks!$R:$R,0)-1,0),"") -> 7 | Y10: =IFERROR(OFFSET(Picks!V$1,MATCH($O10,Picks!$R:$R,0)-1,0),"") -> Spreadex: 100/1, 6pl, 1/5
O11: 10 | P11: =IFERROR(OFFSET(Picks!A$1,MATCH($O11,Picks!$F:$F,0)-1,0),"") | Q11: =IFERROR(OFFSET(Picks!I$1,MATCH($O11,Picks!$F:$F,0)-1,0),"") | R11: =IFERROR(OFFSET(Picks!J$1,MATCH($O11,Picks!$F:$F,0)-1,0),"") | V11: 10 | W11: =IFERROR(OFFSET(Picks!M$1,MATCH($O11,Picks!$R:$R,0)-1,0),"") -> Andrew Putnam | X11: =IFERROR(OFFSET(Picks!U$1,MATCH($O11,Picks!$R:$R,0)-1,0),"") -> 7.2142857 | Y11: =IFERROR(OFFSET(Picks!V$1,MATCH($O11,Picks!$R:$R,0)-1,0),"") -> Bet365: 125/1, 5pl, 1/4
O12: 11 | P12: =IFERROR(OFFSET(Picks!A$1,MATCH($O12,Picks!$F:$F,0)-1,0),"") | Q12: =IFERROR(OFFSET(Picks!I$1,MATCH($O12,Picks!$F:$F,0)-1,0),"") | R12: =IFERROR(OFFSET(Picks!J$1,MATCH($O12,Picks!$F:$F,0)-1,0),"") | V12: 11 | W12: =IFERROR(OFFSET(Picks!M$1,MATCH($O12,Picks!$R:$R,0)-1,0),"") -> Ryan Fox | X12: =IFERROR(OFFSET(Picks!U$1,MATCH($O12,Picks!$R:$R,0)-1,0),"") -> -2 | Y12: =IFERROR(OFFSET(Picks!V$1,MATCH($O12,Picks!$R:$R,0)-1,0),"") -> Spreadex: 125/1, 6pl, 1/5
O13: 12 | P13: =IFERROR(OFFSET(Picks!A$1,MATCH($O13,Picks!$F:$F,0)-1,0),"") | Q13: =IFERROR(OFFSET(Picks!I$1,MATCH($O13,Picks!$F:$F,0)-1,0),"") | R13: =IFERROR(OFFSET(Picks!J$1,MATCH($O13,Picks!$F:$F,0)-1,0),"") | V13: 12 | W13: =IFERROR(OFFSET(Picks!M$1,MATCH($O13,Picks!$R:$R,0)-1,0),"") -> Chris Gotterup | X13: =IFERROR(OFFSET(Picks!U$1,MATCH($O13,Picks!$R:$R,0)-1,0),"") -> -2 | Y13: =IFERROR(OFFSET(Picks!V$1,MATCH($O13,Picks!$R:$R,0)-1,0),"") -> Skybet: 175/1, 6pl, 1/5
A27: WIN | B27: 1 | C27: 2 | D27: 3 | E27: 4 | F27: 5 | G27: 6 | H27: 7 | I27: 8 | J27: 9 | K27: 10 | L27: 11 | M27: 12 | N27: FRL | O27: 1 | P27: 2 | Q27: 3 | R27: 4 | S27: 5 | T27: 6 | U27: 7 | V27: 8 | W27: 9 | X27: 10 | Y27: 11 | Z27: 12
B28: =Q2*3 -> -6 | C28: =SUM(Q2:Q3)*1.5 -> -6 | D28: =SUM(Q2:Q4) -> 25 | E28: =SUM(Q2:Q5)*3/4 -> 17.25 | F28: =SUM(Q2:Q6)*3/5 -> 12.6 | G28: =SUM(Q2:Q7)*3/6 -> 9.5 | H28: =SUM(Q2:Q8)*3/7 -> 7.2857143 | I28: =SUM(Q2:Q9)*3/8 -> 6.375 | J28: =SUM(Q2:Q10)*3/9 -> 5.6666667 | K28: =SUM(Q2:Q11)*3/10 -> 5.1 | L28: =SUM(Q2:Q12)*3/11 -> 4.6363636 | M28: =SUM(Q2:Q13)*3/12 -> 4.25 | O28: =X2*3 -> -6 | P28: =SUM(X2:X3)*1.5 -> -6 | Q28: =SUM(X2:X4) -> -6 | R28: =SUM(X2:X5)*3/4 -> -6 | S28: =SUM(X2:X6)*3/5 -> -6 | T28: =SUM(X2:X7)*3/6 -> -6 | U28: =SUM(X2:X8)*3/7 -> -6 | V28: =SUM(X2:X9)*3/9 -> -5.3333333 | W28: =SUM(X2:X10)*3/9 -> -3 | X28: =SUM(X2:X11)*3/10 -> -0.53571429 | Y28: =SUM(X2:X12)*3/11 -> -1.0324675 | Z28: =SUM(X2:X13)*3/12 -> -1.4464286

Sheet Win
A1: Player | B1: Win % | C1: TT Odds | D1: Best Odds | E1: Kelly | F1: Result | G1: P/L | H1: E/W Play
A2: Adam Hadwin | B2: 0.42% | C2: 238 | D2: 201 | F2: =IFERROR(IF(A2="","",OFFSET(Results!$AJ$1,MATCH(A2,Results!$A:$A,0)-1,0)),"") -> 9 | G2: =IF(OR(E2="",F2=""),"",IF(F2=1,(IF(COUNTIFS(F:F,"<="&F2)<=1,1,(1-COUNTIFS(F:F,"<"&F2))/COUNTIFS(F:F,F2)))*50*E2*(1+VALUE(MID(H2,FIND(": ",H2)+2,FIND("/",H2)-FIND(":",H2)-2))-1)+50*E2*(1+VALUE(MID(H2,FIND(": ",H2)+2,FIND("/",H2)-FIND(":",H2)-2))-1)/VALUE(RIGHT(H2,1)),IF(F2<=VALUE(MID(H2,FIND(", ",H2)+2,IF(MID(H2,FIND(", ",H2)+2,1)="1",2,1))),(IF(COUNTIFS(F:F,"<="&F2)<=VALUE(MID(H2,FIND(", ",H2)+2,IF(MID(H2,FIND(", ",H2)+2,1)="1",2,1))),1,(VALUE(MID(H2,FIND(", ",H2)+2,IF(MID(H2,FIND(", ",H2)+2,1)="1",2,1)))-COUNTIFS(F:F,"<"&F2))/COUNTIFS(F:F,F2)))*(50*E2*(1+VALUE(MID(H2,FIND(": ",H2)+2,FIND("/",H2)-FIND(":",H2)-2))-1)/VALUE(RIGHT(H2,1))+50*E2)-(100*E2),-E2*100))) | H2: =IF(E2="","",OFFSET([1]PGA!$AL$1,MATCH(A2,[1]PGA!$E$1:$E$500,0)-1,0))
A3: Adam Schenk | B3: 0.21% | C3: 476 | D3: 276 | F3: =IFERROR(IF(A3="","",OFFSET(Results!$AJ$1,MATCH(A3,Results!$A:$A,0)-1,0)),"") -> 25 | G3: =IF(OR(E3="",F3=""),"",IF(F3=1,(IF(COUNTIFS(F:F,"<="&F3)<=1,1,(1-COUNTIFS(F:F,"<"&F3))/COUNTIFS(F:F,F3)))*50*E3*(1+VALUE(MID(H3,FIND(": ",H3)+2,FIND("/",H3)-FIND(":",H3)-2))-1)+50*E3*(1+VALUE(MID(H3,FIND(": ",H3)+2,FIND("/",H3)-FIND(":",H3)-2))-1)/VALUE(RIGHT(H3,1)),IF(F3<=VALUE(MID(H3,FIND(", ",H3)+2,IF(MID(H3,FIND(", ",H3)+2,1)="1",2,1))),(IF(COUNTIFS(F:F,"<="&F3)<=VALUE(MID(H3,FIND(", ",H3)+2,IF(MID(H3,FIND(", ",H3)+2,1)="1",2,1))),1,(VALUE(MID(H3,FIND(", ",H3)+2,IF(MID(H3,FIND(", ",H3)+2,1)="1",2,1)))-COUNTIFS(F:F,"<"&F3))/COUNTIFS(F:F,F3)))*(50*E3*(1+VALUE(MID(H3,FIND(": ",H3)+2,FIND("/",H3)-FIND(":",H3)-2))-1)/VALUE(RIGHT(H3,1))+50*E3)-(100*E3),-E3*100))) | H3: =IF(E3="","",OFFSET([1]PGA!$AL$1,MATCH(A3,[1]PGA!$E$1:$E$500,0)-1,0))
A4: Adam Svensson | B4: 0.28% | C4: 357 | D4: 251 | F4: =IFERROR(IF(A4="","",OFFSET(Results!$AJ$1,MATCH(A4,Results!$A:$A,0)-1,0)),"") -> 36 | G4: =IF(OR(E4="",F4=""),"",IF(F4=1,(IF(COUNTIFS(F:F,"<="&F4)<=1,1,(1-COUNTIFS(F:F,"<"&F4))/COUNTIFS(F:F,F4)))*50*E4*(1+VALUE(MID(H4,FIND(": ",H4)+2,FIND("/",H4)-FIND(":",H4)-2))-1)+50*E4*(1+VALUE(MID(H4,FIND(": ",H4)+2,FIND("/",H4)-FIND(":",H4)-2))-1)/VALUE(RIGHT(H4,1)),IF(F4<=VALUE(MID(H4,FIND(", ",H4)+2,IF(MID(H4,FIND(", ",H4)+2,1)="1",2,1))),(IF(COUNTIFS(F:F,"<="&F4)<=VALUE(MID(H4,FIND(", ",H4)+2,IF(MID(H4,FIND(", ",H4)+2,1)="1",2,1))),1,(VALUE(MID(H4,FIND(", ",H4)+2,IF(MID(H4,FIND(", ",H4)+2,1)="1",2,1)))-COUNTIFS(F:F,"<"&F4))/COUNTIFS(F:F,F4)))*(50*E4*(1+VALUE(MID(H4,FIND(": ",H4)+2,FIND("/",H4)-FIND(":",H4)-2))-1)/VALUE(RIGHT(H4,1))+50*E4)-(100*E4),-E4*100))) | H4: =IF(E4="","",OFFSET([1]PGA!$AL$1,MATCH(A4,[1]PGA!$E$1:$E$500,0)-1,0))
A5: Akshay Bhatia | B5: 0.66% | C5: 152 | D5: 71 | F5: =IFERROR(IF(A5="","",OFFSET(Results!$AJ$1,MATCH(A5,Results!$A:$A,0)-1,0)),"") -> 32 | G5: =IF(OR(E5="",F5=""),"",IF(F5=1,(IF(COUNTIFS(F:F,"<="&F5)<=1,1,(1-COUNTIFS(F:F,"<"&F5))/COUNTIFS(F:F,F5)))*50*E5*(1+VALUE(MID(H5,FIND(": ",H5)+2,FIND("/",H5)-FIND(":",H5)-2))-1)+50*E5*(1+VALUE(MID(H5,FIND(": ",H5)+2,FIND("/",H5)-FIND(":",H5)-2))-1)/VALUE(RIGHT(H5,1)),IF(F5<=VALUE(MID(H5,FIND(", ",H5)+2,IF(MID(H5,FIND(", ",H5)+2,1)="1",2,1))),(IF(COUNTIFS(F:F,"<="&F5)<=VALUE(MID(H5,FIND(", ",H5)+2,IF(MID(H5,FIND(", ",H5)+2,1)="1",2,1))),1,(VALUE(MID(H5,FIND(", ",H5)+2,IF(MID(H5,FIND(", ",H5)+2,1)="1",2,1)))-COUNTIFS(F:F,"<"&F5))/COUNTIFS(F:F,F5)))*(50*E5*(1+VALUE(MID(H5,FIND(": ",H5)+2,FIND("/",H5)-FIND(":",H5)-2))-1)/VALUE(RIGHT(H5,1))+50*E5)-(100*E5),-E5*100))) | H5: =IF(E5="","",OFFSET([1]PGA!$AL$1,MATCH(A5,[1]PGA!$E$1:$E$500,0)-1,0))
A6: Alex Smalley | B6: 0.26% | C6: 385 | D6: 176 | F6: =IFERROR(IF(A6="","",OFFSET(Results!$AJ$1,MATCH(A6,Results!$A:$A,0)-1,0)),"") -> 21 | G6: =IF(OR(E6="",F6=""),"",IF(F6=1,(IF(COUNTIFS(F:F,"<="&F6)<=1,1,(1-COUNTIFS(F:F,"<"&F6))/COUNTIFS(F:F,F6)))*50*E6*(1+VALUE(MID(H6,FIND(": ",H6)+2,FIND("/",H6)-FIND(":",H6)-2))-1)+50*E6*(1+VALUE(MID(H6,FIND(": ",H6)+2,FIND("/",H6)-FIND(":",H6)-2))-1)/VALUE(RIGHT(H6,1)),IF(F6<=VALUE(MID(H6,FIND(", ",H6)+2,IF(MID(H6,FIND(", ",H6)+2,1)="1",2,1))),(IF(COUNTIFS(F:F,"<="&F6)<=VALUE(MID(H6,FIND(", ",H6)+2,IF(MID(H6,FIND(", ",H6)+2,1)="1",2,1))),1,(VALUE(MID(H6,FIND(", ",H6)+2,IF(MID(H6,FIND(", ",H6)+2,1)="1",2,1)))-COUNTIFS(F:F,"<"&F6))/COUNTIFS(F:F,F6)))*(50*E6*(1+VALUE(MID(H6,FIND(": ",H6)+2,FIND("/",H6)-FIND(":",H6)-2))-1)/VALUE(RIGHT(H6,1))+50*E6)-(100*E6),-E6*100))) | H6: =IF(E6="","",OFFSET([1]PGA!$AL$1,MATCH(A6,[1]PGA!$E$1:$E$500,0)-1,0))
A7: Andrew Novak | B7: 0.69% | C7: 145 | D7: 91 | F7: =IFERROR(IF(A7="","",OFFSET(Results!$AJ$1,MATCH(A7,Results!$A:$A,0)-1,0)),"") -> 78 | G7: =IF(OR(E7="",F7=""),"",IF(F7=1,(IF(COUNTIFS(F:F,"<="&F7)<=1,1,(1-COUNTIFS(F:F,"<"&F7))/COUNTIFS(F:F,F7)))*50*E7*(1+VALUE(MID(H7,FIND(": ",H7)+2,FIND("/",H7)-FIND(":",H7)-2))-1)+50*E7*(1+VALUE(MID(H7,FIND(": ",H7)+2,FIND("/",H7)-FIND(":",H7)-2))-1)/VALUE(RIGHT(H7,1)),IF(F7<=VALUE(MID(H7,FIND(", ",H7)+2,IF(MID(H7,FIND(", ",H7)+2,1)="1",2,1))),(IF(COUNTIFS(F:F,"<="&F7)<=VALUE(MID(H7,FIND(", ",H7)+2,IF(MID(H7,FIND(", ",H7)+2,1)="1",2,1))),1,(VALUE(MID(H7,FIND(", ",H7)+2,IF(MID(H7,FIND(", ",H7)+2,1)="1",2,1)))-COUNTIFS(F:F,"<"&F7))/COUNTIFS(F:F,F7)))*(50*E7*(1+VALUE(MID(H7,FIND(": ",H7)+2,FIND("/",H7)-FIND(":",H7)-2))-1)/VALUE(RIGHT(H7,1))+50*E7)-(100*E7),-E7*100))) | H7: =IF(E7="","",OFFSET([1]PGA!$AL$1,MATCH(A7,[1]PGA!$E$1:$E$500,0)-1,0))
A8: Andrew Putnam | B8: 0.50% | C8: 200 | D8: 251 | E8: 0.10% | F8: =IFERROR(IF(A8="","",OFFSET(Results!$AJ$1,MATCH(A8,Results!$A:$A,0)-1,0)),"") -> 25 | G8: =IF(OR(E8="",F8=""),"",IF(F8=1,(IF(COUNTIFS(F:F,"<="&F8)<=1,1,(1-COUNTIFS(F:F,"<"&F8))/COUNTIFS(F:F,F8)))*50*E8*(1+VALUE(MID(H8,FIND(": ",H8)+2,FIND("/",H8)-FIND(":",H8)-2))-1)+50*E8*(1+VALUE(MID(H8,FIND(": ",H8)+2,FIND("/",H8)-FIND(":",H8)-2))-1)/VALUE(RIGHT(H8,1)),IF(F8<=VALUE(MID(H8,FIND(", ",H8)+2,IF(MID(H8,FIND(", ",H8)+2,1)="1",2,1))),(IF(COUNTIFS(F:F,"<="&F8)<=VALUE(MID(H8,FIND(", ",H8)+2,IF(MID(H8,FIND(", ",H8)+2,1)="1",2,1))),1,(VALUE(MID(H8,FIND(", ",H8)+2,IF(MID(H8,FIND(", ",H8)+2,1)="1",2,1)))-COUNTIFS(F:F,"<"&F8))/COUNTIFS(F:F,F8)))*(50*E8*(1+VALUE(MID(H8,FIND(": ",H8)+2,FIND("/",H8)-FIND(":",H8)-2))-1)/VALUE(RIGHT(H8,1))+50*E8)-(100*E8),-E8*100))) -> -0.1 | H8: =IF(E8="","",OFFSET([1]PGA!$AL$1,MATCH(A8,[1]PGA!$E$1:$E$500,0)-1,0)) -> Skybet: 250/1, 8pl, 1/5
A9: Austin Eckroat | B9: 0.70% | C9: 143 | D9: 81 | F9: =IFERROR(IF(A9="","",OFFSET(Results!$AJ$1,MATCH(A9,Results!$A:$A,0)-1,0)),"") -> 95 | G9: =IF(OR(E9="",F9=""),"",IF(F9=1,(IF(COUNTIFS(F:F,"<="&F9)<=1,1,(1-COUNTIFS(F:F,"<"&F9))/COUNTIFS(F:F,F9)))*50*E9*(1+VALUE(MID(H9,FIND(": ",H9)+2,FIND("/",H9)-FIND(":",H9)-2))-1)+50*E9*(1+VALUE(MID(H9,FIND(": ",H9)+2,FIND("/",H9)-FIND(":",H9)-2))-1)/VALUE(RIGHT(H9,1)),IF(F9<=VALUE(MID(H9,FIND(", ",H9)+2,IF(MID(H9,FIND(", ",H9)+2,1)="1",2,1))),(IF(COUNTIFS(F:F,"<="&F9)<=VALUE(MID(H9,FIND(", ",H9)+2,IF(MID(H9,FIND(", ",H9)+2,1)="1",2,1))),1,(VALUE(MID(H9,FIND(", ",H9)+2,IF(MID(H9,FIND(", ",H9)+2,1)="1",2,1)))-COUNTIFS(F:F,"<"&F9))/COUNTIFS(F:F,F9)))*(50*E9*(1+VALUE(MID(H9,FIND(": ",H9)+2,FIND("/",H9)-FIND(":",H9)-2))-1)/VALUE(RIGHT(H9,1))+50*E9)-(100*E9),-E9*100))) | H9: =IF(E9="","",OFFSET([1]PGA!$AL$1,MATCH(A9,[1]PGA!$E$1:$E$500,0)-1,0))
A10: Beau Hossler | B10: 0.69% | C10: 145 | D10: 81 | F10: =IFERROR(IF(A10="","",OFFSET(Results!$AJ$1,MATCH(A10,Results!$A:$A,0)-1,0)),"") -> 32 | G10: =IF(OR(E10="",F10=""),"",IF(F10=1,(IF(COUNTIFS(F:F,"<="&F10)<=1,1,(1-COUNTIFS(F:F,"<"&F10))/COUNTIFS(F:F,F10)))*50*E10*(1+VALUE(MID(H10,FIND(": ",H10)+2,FIND("/",H10)-FIND(":",H10)-2))-1)+50*E10*(1+VALUE(MID(H10,FIND(": ",H10)+2,FIND("/",H10)-FIND(":",H10)-2))-1)/VALUE(RIGHT(H10,1)),IF(F10<=VALUE(MID(H10,FIND(", ",H10)+2,IF(MID(H10,FIND(", ",H10)+2,1)="1",2,1))),(IF(COUNTIFS(F:F,"<="&F10)<=VALUE(MID(H10,FIND(", ",H10)+2,IF(MID(H10,FIND(", ",H10)+2,1)="1",2,1))),1,(VALUE(MID(H10,FIND(", ",H10)+2,IF(MID(H10,FIND(", ",H10)+2,1)="1",2,1)))-COUNTIFS(F:F,"<"&F10))/COUNTIFS(F:F,F10)))*(50*E10*(1+VALUE(MID(H10,FIND(": ",H10)+2,FIND("/",H10)-FIND(":",H10)-2))-1)/VALUE(RIGHT(H10,1))+50*E10)-(100*E10),-E10*100))) | H10: =IF(E10="","",OFFSET([1]PGA!$AL$1,MATCH(A10,[1]PGA!$E$1:$E$500,0)-1,0))
A11: Ben Griffin | B11: 0.54% | C11: 185 | D11: 126 | F11: =IFERROR(IF(A11="","",OFFSET(Results!$AJ$1,MATCH(A11,Results!$A:$A,0)-1,0)),"") -> 36 | G11: =IF(OR(E11="",F11=""),"",IF(F11=1,(IF(COUNTIFS(F:F,"<="&F11)<=1,1,(1-COUNTIFS(F:F,"<"&F11))/COUNTIFS(F:F,F11)))*50*E11*(1+VALUE(MID(H11,FIND(": ",H11)+2,FIND("/",H11)-FIND(":",H11)-2))-1)+50*E11*(1+VALUE(MID(H11,FIND(": ",H11)+2,FIND("/",H11)-FIND(":",H11)-2))-1)/VALUE(RIGHT(H11,1)),IF(F11<=VALUE(MID(H11,FIND(", ",H11)+2,IF(MID(H11,FIND(", ",H11)+2,1)="1",2,1))),(IF(COUNTIFS(F:F,"<="&F11)<=VALUE(MID(H11,FIND(", ",H11)+2,IF(MID(H11,FIND(", ",H11)+2,1)="1",2,1))),1,(VALUE(MID(H11,FIND(", ",H11)+2,IF(MID(H11,FIND(", ",H11)+2,1)="1",2,1)))-COUNTIFS(F:F,"<"&F11))/COUNTIFS(F:F,F11)))*(50*E11*(1+VALUE(MID(H11,FIND(": ",H11)+2,FIND("/",H11)-FIND(":",H11)-2))-1)/VALUE(RIGHT(H11,1))+50*E11)-(100*E11),-E11*100))) | H11: =IF(E11="","",OFFSET([1]PGA!$AL$1,MATCH(A11,[1]PGA!$E$1:$E$500,0)-1,0))
A12: Ben Kohles | B12: 0.11% | C12: 909 | D12: 501 | F12: =IFERROR(IF(A12="","",OFFSET(Results!$AJ$1,MATCH(A12,Results!$A:$A,0)-1,0)),"") -> 78 | G12: =IF(OR(E12="",F12=""),"",IF(F12=1,(IF(COUNTIFS(F:F,"<="&F12)<=1,1,(1-COUNTIFS(F:F,"<"&F12))/COUNTIFS(F:F,F12)))*50*E12*(1+VALUE(MID(H12,FIND(": ",H12)+2,FIND("/",H12)-FIND(":",H12)-2))-1)+50*E12*(1+VALUE(MID(H12,FIND(": ",H12)+2,FIND("/",H12)-FIND(":",H12)-2))-1)/VALUE(RIGHT(H12,1)),IF(F12<=VALUE(MID(H12,FIND(", ",H12)+2,IF(MID(H12,FIND(", ",H12)+2,1)="1",2,1))),(IF(COUNTIFS(F:F,"<="&F12)<=VALUE(MID(H12,FIND(", ",H12)+2,IF(MID(H12,FIND(", ",H12)+2,1)="1",2,1))),1,(VALUE(MID(H12,FIND(", ",H12)+2,IF(MID(H12,FIND(", ",H12)+2,1)="1",2,1)))-COUNTIFS(F:F,"<"&F12))/COUNTIFS(F:F,F12)))*(50*E12*(1+VALUE(MID(H12,FIND(": ",H12)+2,FIND("/",H12)-FIND(":",H12)-2))-1)/VALUE(RIGHT(H12,1))+50*E12)-(100*E12),-E12*100))) | H12: =IF(E12="","",OFFSET([1]PGA!$AL$1,MATCH(A12,[1]PGA!$E$1:$E$500,0)-1,0))
A13: Ben Martin | B13: 0.12% | C13: 833 | D13: 601 | F13: =IFERROR(IF(A13="","",OFFSET(Results!$AJ$1,MATCH(A13,Results!$A:$A,0)-1,0)),"") -> 78 | G13: =IF(OR(E13="",F13=""),"",IF(F13=1,(IF(COUNTIFS(F:F,"<="&F13)<=1,1,(1-COUNTIFS(F:F,"<"&F13))/COUNTIFS(F:F,F13)))*50*E13*(1+VALUE(MID(H13,FIND(": ",H13)+2,FIND("/",H13)-FIND(":",H13)-2))-1)+50*E13*(1+VALUE(MID(H13,FIND(": ",H13)+2,FIND("/",H13)-FIND(":",H13)-2))-1)/VALUE(RIGHT(H13,1)),IF(F13<=VALUE(MID(H13,FIND(", ",H13)+2,IF(MID(H13,FIND(", ",H13)+2,1)="1",2,1))),(IF(COUNTIFS(F:F,"<="&F13)<=VALUE(MID(H13,FIND(", ",H13)+2,IF(MID(H13,FIND(", ",H13)+2,1)="1",2,1))),1,(VALUE(MID(H13,FIND(", ",H13)+2,IF(MID(H13,FIND(", ",H13)+2,1)="1",2,1)))-COUNTIFS(F:F,"<"&F13))/COUNTIFS(F:F,F13)))*(50*E13*(1+VALUE(MID(H13,FIND(": ",H13)+2,FIND("/",H13)-FIND(":",H13)-2))-1)/VALUE(RIGHT(H13,1))+50*E13)-(100*E13),-E13*100))) | H13: =IF(E13="","",OFFSET([1]PGA!$AL$1,MATCH(A13,[1]PGA!$E$1:$E$500,0)-1,0))
A14: Ben Silverman | B14: 0.15% | C14: 667 | D14: 501 | F14: =IFERROR(IF(A14="","",OFFSET(Results!$AJ$1,MATCH(A14,Results!$A:$A,0)-1,0)),"") -> 16 | G14: =IF(OR(E14="",F14=""),"",IF(F14=1,(IF(COUNTIFS(F:F,"<="&F14)<=1,1,(1-COUNTIFS(F:F,"<"&F14))/COUNTIFS(F:F,F14)))*50*E14*(1+VALUE(MID(H14,FIND(": ",H14)+2,FIND("/",H14)-FIND(":",H14)-2))-1)+50*E14*(1+VALUE(MID(H14,FIND(": ",H14)+2,FIND("/",H14)-FIND(":",H14)-2))-1)/VALUE(RIGHT(H14,1)),IF(F14<=VALUE(MID(H14,FIND(", ",H14)+2,IF(MID(H14,FIND(", ",H14)+2,1)="1",2,1))),(IF(COUNTIFS(F:F,"<="&F14)<=VALUE(MID(H14,FIND(", ",H14)+2,IF(MID(H14,FIND(", ",H14)+2,1)="1",2,1))),1,(VALUE(MID(H14,FIND(", ",H14)+2,IF(MID(H14,FIND(", ",H14)+2,1)="1",2,1)))-COUNTIFS(F:F,"<"&F14))/COUNTIFS(F:F,F14)))*(50*E14*(1+VALUE(MID(H14,FIND(": ",H14)+2,FIND("/",H14)-FIND(":",H14)-2))-1)/VALUE(RIGHT(H14,1))+50*E14)-(100*E14),-E14*100))) | H14: =IF(E14="","",OFFSET([1]PGA!$AL$1,MATCH(A14,[1]PGA!$E$1:$E$500,0)-1,0))
A15: Billy Horschel | B15: 1.21% | C15: 83 | D15: 61 | F15: =IFERROR(IF(A15="","",OFFSET(Results!$AJ$1,MATCH(A15,Results!$A:$A,0)-1,0)),"") -> 95 | G15: =IF(OR(E15="",F15=""),"",IF(F15=1,(IF(COUNTIFS(F:F,"<="&F15)<=1,1,(1-COUNTIFS(F:F,"<"&F15))/COUNTIFS(F:F,F15)))*50*E15*(1+VALUE(MID(H15,FIND(": ",H15)+2,FIND("/",H15)-FIND(":",H15)-2))-1)+50*E15*(1+VALUE(MID(H15,FIND(": ",H15)+2,FIND("/",H15)-FIND(":",H15)-2))-1)/VALUE(RIGHT(H15,1)),IF(F15<=VALUE(MID(H15,FIND(", ",H15)+2,IF(MID(H15,FIND(", ",H15)+2,1)="1",2,1))),(IF(COUNTIFS(F:F,"<="&F15)<=VALUE(MID(H15,FIND(", ",H15)+2,IF(MID(H15,FIND(", ",H15)+2,1)="1",2,1))),1,(VALUE(MID(H15,FIND(", ",H15)+2,IF(MID(H15,FIND(", ",H15)+2,1)="1",2,1)))-COUNTIFS(F:F,"<"&F15))/COUNTIFS(F:F,F15)))*(50*E15*(1+VALUE(MID(H15,FIND(": ",H15)+2,FIND("/",H15)-FIND(":",H15)-2))-1)/VALUE(RIGHT(H15,1))+50*E15)-(100*E15),-E15*100))) | H15: =IF(E15="","",OFFSET([1]PGA!$AL$1,MATCH(A15,[1]PGA!$E$1:$E$500,0)-1,0))
A16: Brandt Snedeker | B16: 0.07% | C16: 1429 | D16: 751 | F16: =IFERROR(IF(A16="","",OFFSET(Results!$AJ$1,MATCH(A16,Results!$A:$A,0)-1,0)),"") -> 66 | G16: =IF(OR(E16="",F16=""),"",IF(F16=1,(IF(COUNTIFS(F:F,"<="&F16)<=1,1,(1-COUNTIFS(F:F,"<"&F16))/COUNTIFS(F:F,F16)))*50*E16*(1+VALUE(MID(H16,FIND(": ",H16)+2,FIND("/",H16)-FIND(":",H16)-2))-1)+50*E16*(1+VALUE(MID(H16,FIND(": ",H16)+2,FIND("/",H16)-FIND(":",H16)-2))-1)/VALUE(RIGHT(H16,1)),IF(F16<=VALUE(MID(H16,FIND(", ",H16)+2,IF(MID(H16,FIND(", ",H16)+2,1)="1",2,1))),(IF(COUNTIFS(F:F,"<="&F16)<=VALUE(MID(H16,FIND(", ",H16)+2,IF(MID(H16,FIND(", ",H16)+2,1)="1",2,1))),1,(VALUE(MID(H16,FIND(", ",H16)+2,IF(MID(H16,FIND(", ",H16)+2,1)="1",2,1)))-COUNTIFS(F:F,"<"&F16))/COUNTIFS(F:F,F16)))*(50*E16*(1+VALUE(MID(H16,FIND(": ",H16)+2,FIND("/",H16)-FIND(":",H16)-2))-1)/VALUE(RIGHT(H16,1))+50*E16)-(100*E16),-E16*100))) | H16: =IF(E16="","",OFFSET([1]PGA!$AL$1,MATCH(A16,[1]PGA!$E$1:$E$500,0)-1,0))
A17: Brendon Todd | B17: 0.06% | C17: 1667 | D17: 1001 | F17: =IFERROR(IF(A17="","",OFFSET(Results!$AJ$1,MATCH(A17,Results!$A:$A,0)-1,0)),"") -> 130 | G17: =IF(OR(E17="",F17=""),"",IF(F17=1,(IF(COUNTIFS(F:F,"<="&F17)<=1,1,(1-COUNTIFS(F:F,"<"&F17))/COUNTIFS(F:F,F17)))*50*E17*(1+VALUE(MID(H17,FIND(": ",H17)+2,FIND("/",H17)-FIND(":",H17)-2))-1)+50*E17*(1+VALUE(MID(H17,FIND(": ",H17)+2,FIND("/",H17)-FIND(":",H17)-2))-1)/VALUE(RIGHT(H17,1)),IF(F17<=VALUE(MID(H17,FIND(", ",H17)+2,IF(MID(H17,FIND(", ",H17)+2,1)="1",2,1))),(IF(COUNTIFS(F:F,"<="&F17)<=VALUE(MID(H17,FIND(", ",H17)+2,IF(MID(H17,FIND(", ",H17)+2,1)="1",2,1))),1,(VALUE(MID(H17,FIND(", ",H17)+2,IF(MID(H17,FIND(", ",H17)+2,1)="1",2,1)))-COUNTIFS(F:F,"<"&F17))/COUNTIFS(F:F,F17)))*(50*E17*(1+VALUE(MID(H17,FIND(": ",H17)+2,FIND("/",H17)-FIND(":",H17)-2))-1)/VALUE(RIGHT(H17,1))+50*E17)-(100*E17),-E17*100))) | H17: =IF(E17="","",OFFSET([1]PGA!$AL$1,MATCH(A17,[1]PGA!$E$1:$E$500,0)-1,0))
A18: Brian Harman | B18: 0.76% | C18: 132 | D18: 151 | E18: 0.10% | F18: =IFERROR(IF(A18="","",OFFSET(Results!$AJ$1,MATCH(A18,Results!$A:$A,0)-1,0)),"") -> 25 | G18: =IF(OR(E18="",F18=""),"",IF(F18=1,(IF(COUNTIFS(F:F,"<="&F18)<=1,1,(1-COUNTIFS(F:F,"<"&F18))/COUNTIFS(F:F,F18)))*50*E18*(1+VALUE(MID(H18,FIND(": ",H18)+2,FIND("/",H18)-FIND(":",H18)-2))-1)+50*E18*(1+VALUE(MID(H18,FIND(": ",H18)+2,FIND("/",H18)-FIND(":",H18)-2))-1)/VALUE(RIGHT(H18,1)),IF(F18<=VALUE(MID(H18,FIND(", ",H18)+2,IF(MID(H18,FIND(", ",H18)+2,1)="1",2,1))),(IF(COUNTIFS(F:F,"<="&F18)<=VALUE(MID(H18,FIND(", ",H18)+2,IF(MID(H18,FIND(", ",H18)+2,1)="1",2,1))),1,(VALUE(MID(H18,FIND(", ",H18)+2,IF(MID(H18,FIND(", ",H18)+2,1)="1",2,1)))-COUNTIFS(F:F,"<"&F18))/COUNTIFS(F:F,F18)))*(50*E18*(1+VALUE(MID(H18,FIND(": ",H18)+2,FIND("/",H18)-FIND(":",H18)-2))-1)/VALUE(RIGHT(H18,1))+50*E18)-(100*E18),-E18*100))) -> -0.1 | H18: =IF(E18="","",OFFSET([1]PGA!$AL$1,MATCH(A18,[1]PGA!$E$1:$E$500,0)-1,0)) -> Betfair: 150/1, 8pl, 1/5
A19: Brice Garnett | B19: 0.09% | C19: 1111 | D19: 601 | F19: =IFERROR(IF(A19="","",OFFSET(Results!$AJ$1,MATCH(A19,Results!$A:$A,0)-1,0)),"") -> 67 | G19: =IF(OR(E19="",F19=""),"",IF(F19=1,(IF(COUNTIFS(F:F,"<="&F19)<=1,1,(1-COUNTIFS(F:F,"<"&F19))/COUNTIFS(F:F,F19)))*50*E19*(1+VALUE(MID(H19,FIND(": ",H19)+2,FIND("/",H19)-FIND(":",H19)-2))-1)+50*E19*(1+VALUE(MID(H19,FIND(": ",H19)+2,FIND("/",H19)-FIND(":",H19)-2))-1)/VALUE(RIGHT(H19,1)),IF(F19<=VALUE(MID(H19,FIND(", ",H19)+2,IF(MID(H19,FIND(", ",H19)+2,1)="1",2,1))),(IF(COUNTIFS(F:F,"<="&F19)<=VALUE(MID(H19,FIND(", ",H19)+2,IF(MID(H19,FIND(", ",H19)+2,1)="1",2,1))),1,(VALUE(MID(H19,FIND(", ",H19)+2,IF(MID(H19,FIND(", ",H19)+2,1)="1",2,1)))-COUNTIFS(F:F,"<"&F19))/COUNTIFS(F:F,F19)))*(50*E19*(1+VALUE(MID(H19,FIND(": ",H19)+2,FIND("/",H19)-FIND(":",H19)-2))-1)/VALUE(RIGHT(H19,1))+50*E19)-(100*E19),-E19*100))) | H19: =IF(E19="","",OFFSET([1]PGA!$AL$1,MATCH(A19,[1]PGA!$E$1:$E$500,0)-1,0))
A20: Bud Cauley | B20: 0.23% | C20: 435 | D20: 226 | F20: =IFERROR(IF(A20="","",OFFSET(Results!$AJ$1,MATCH(A20,Results!$A:$A,0)-1,0)),"") -> 21 | G20: =IF(OR(E20="",F20=""),"",IF(F20=1,(IF(COUNTIFS(F:F,"<="&F20)<=1,1,(1-COUNTIFS(F:F,"<"&F20))/COUNTIFS(F:F,F20)))*50*E20*(1+VALUE(MID(H20,FIND(": ",H20)+2,FIND("/",H20)-FIND(":",H20)-2))-1)+50*E20*(1+VALUE(MID(H20,FIND(": ",H20)+2,FIND("/",H20)-FIND(":",H20)-2))-1)/VALUE(RIGHT(H20,1)),IF(F20<=VALUE(MID(H20,FIND(", ",H20)+2,IF(MID(H20,FIND(", ",H20)+2,1)="1",2,1))),(IF(COUNTIFS(F:F,"<="&F20)<=VALUE(MID(H20,FIND(", ",H20)+2,IF(MID(H20,FIND(", ",H20)+2,1)="1",2,1))),1,(VALUE(MID(H20,FIND(", ",H20)+2,IF(MID(H20,FIND(", ",H20)+2,1)="1",2,1)))-COUNTIFS(F:F,"<"&F20))/COUNTIFS(F:F,F20)))*(50*E20*(1+VALUE(MID(H20,FIND(": ",H20)+2,FIND("/",H20)-FIND(":",H20)-2))-1)/VALUE(RIGHT(H20,1))+50*E20)-(100*E20),-E20*100))) | H20: =IF(E20="","",OFFSET([1]PGA!$AL$1,MATCH(A20,[1]PGA!$E$1:$E$500,0)-1,0))
A21: Byeong Hun An | B21: 1.11% | C21: 90 | D21: 46 | F21: =IFERROR(IF(A21="","",OFFSET(Results!$AJ$1,MATCH(A21,Results!$A:$A,0)-1,0)),"") -> 73 | G21: =IF(OR(E21="",F21=""),"",IF(F21=1,(IF(COUNTIFS(F:F,"<="&F21)<=1,1,(1-COUNTIFS(F:F,"<"&F21))/COUNTIFS(F:F,F21)))*50*E21*(1+VALUE(MID(H21,FIND(": ",H21)+2,FIND("/",H21)-FIND(":",H21)-2))-1)+50*E21*(1+VALUE(MID(H21,FIND(": ",H21)+2,FIND("/",H21)-FIND(":",H21)-2))-1)/VALUE(RIGHT(H21,1)),IF(F21<=VALUE(MID(H21,FIND(", ",H21)+2,IF(MID(H21,FIND(", ",H21)+2,1)="1",2,1))),(IF(COUNTIFS(F:F,"<="&F21)<=VALUE(MID(H21,FIND(", ",H21)+2,IF(MID(H21,FIND(", ",H21)+2,1)="1",2,1))),1,(VALUE(MID(H21,FIND(", ",H21)+2,IF(MID(H21,FIND(", ",H21)+2,1)="1",2,1)))-COUNTIFS(F:F,"<"&F21))/COUNTIFS(F:F,F21)))*(50*E21*(1+VALUE(MID(H21,FIND(": ",H21)+2,FIND("/",H21)-FIND(":",H21)-2))-1)/VALUE(RIGHT(H21,1))+50*E21)-(100*E21),-E21*100))) | H21: =IF(E21="","",OFFSET([1]PGA!$AL$1,MATCH(A21,[1]PGA!$E$1:$E$500,0)-1,0))
A22: C.T. Pan | B22: 0.26% | C22: 385 | D22: 201 | F22: =IFERROR(IF(A22="","",OFFSET(Results!$AJ$1,MATCH(A22,Results!$A:$A,0)-1,0)),"") -> 57 | G22: =IF(OR(E22="",F22=""),"",IF(F22=1,(IF(COUNTIFS(F:F,"<="&F22)<=1,1,(1-COUNTIFS(F:F,"<"&F22))/COUNTIFS(F:F,F22)))*50*E22*(1+VALUE(MID(H22,FIND(": ",H22)+2,FIND("/",H22)-FIND(":",H22)-2))-1)+50*E22*(1+VALUE(MID(H22,FIND(": ",H22)+2,FIND("/",H22)-FIND(":",H22)-2))-1)/VALUE(RIGHT(H22,1)),IF(F22<=VALUE(MID(H22,FIND(", ",H22)+2,IF(MID(H22,FIND(", ",H22)+2,1)="1",2,1))),(IF(COUNTIFS(F:F,"<="&F22)<=VALUE(MID(H22,FIND(", ",H22)+2,IF(MID(H22,FIND(", ",H22)+2,1)="1",2,1))),1,(VALUE(MID(H22,FIND(", ",H22)+2,IF(MID(H22,FIND(", ",H22)+2,1)="1",2,1)))-COUNTIFS(F:F,"<"&F22))/COUNTIFS(F:F,F22)))*(50*E22*(1+VALUE(MID(H22,FIND(": ",H22)+2,FIND("/",H22)-FIND(":",H22)-2))-1)/VALUE(RIGHT(H22,1))+50*E22)-(100*E22),-E22*100))) | H22: =IF(E22="","",OFFSET([1]PGA!$AL$1,MATCH(A22,[1]PGA!$E$1:$E$500,0)-1,0))
A23: Cameron Young | B23: 0.63% | C23: 159 | D23: 71 | F23: =IFERROR(IF(A23="","",OFFSET(Results!$AJ$1,MATCH(A23,Results!$A:$A,0)-1,0)),"") -> 12 | G23: =IF(OR(E23="",F23=""),"",IF(F23=1,(IF(COUNTIFS(F:F,"<="&F23)<=1,1,(1-COUNTIFS(F:F,"<"&F23))/COUNTIFS(F:F,F23)))*50*E23*(1+VALUE(MID(H23,FIND(": ",H23)+2,FIND("/",H23)-FIND(":",H23)-2))-1)+50*E23*(1+VALUE(MID(H23,FIND(": ",H23)+2,FIND("/",H23)-FIND(":",H23)-2))-1)/VALUE(RIGHT(H23,1)),IF(F23<=VALUE(MID(H23,FIND(", ",H23)+2,IF(MID(H23,FIND(", ",H23)+2,1)="1",2,1))),(IF(COUNTIFS(F:F,"<="&F23)<=VALUE(MID(H23,FIND(", ",H23)+2,IF(MID(H23,FIND(", ",H23)+2,1)="1",2,1))),1,(VALUE(MID(H23,FIND(", ",H23)+2,IF(MID(H23,FIND(", ",H23)+2,1)="1",2,1)))-COUNTIFS(F:F,"<"&F23))/COUNTIFS(F:F,F23)))*(50*E23*(1+VALUE(MID(H23,FIND(": ",H23)+2,FIND("/",H23)-FIND(":",H23)-2))-1)/VALUE(RIGHT(H23,1))+50*E23)-(100*E23),-E23*100))) | H23: =IF(E23="","",OFFSET([1]PGA!$AL$1,MATCH(A23,[1]PGA!$E$1:$E$500,0)-1,0))
A24: Camilo Villegas | B24: 0.02% | C24: 5000 | D24: 2501 | F24: =IFERROR(IF(A24="","",OFFSET(Results!$AJ$1,MATCH(A24,Results!$A:$A,0)-1,0)),"") -> 44 | G24: =IF(OR(E24="",F24=""),"",IF(F24=1,(IF(COUNTIFS(F:F,"<="&F24)<=1,1,(1-COUNTIFS(F:F,"<"&F24))/COUNTIFS(F:F,F24)))*50*E24*(1+VALUE(MID(H24,FIND(": ",H24)+2,FIND("/",H24)-FIND(":",H24)-2))-1)+50*E24*(1+VALUE(MID(H24,FIND(": ",H24)+2,FIND("/",H24)-FIND(":",H24)-2))-1)/VALUE(RIGHT(H24,1)),IF(F24<=VALUE(MID(H24,FIND(", ",H24)+2,IF(MID(H24,FIND(", ",H24)+2,1)="1",2,1))),(IF(COUNTIFS(F:F,"<="&F24)<=VALUE(MID(H24,FIND(", ",H24)+2,IF(MID(H24,FIND(", ",H24)+2,1)="1",2,1))),1,(VALUE(MID(H24,FIND(", ",H24)+2,IF(MID(H24,FIND(", ",H24)+2,1)="1",2,1)))-COUNTIFS(F:F,"<"&F24))/COUNTIFS(F:F,F24)))*(50*E24*(1+VALUE(MID(H24,FIND(": ",H24)+2,FIND("/",H24)-FIND(":",H24)-2))-1)/VALUE(RIGHT(H24,1))+50*E24)-(100*E24),-E24*100))) | H24: =IF(E24="","",OFFSET([1]PGA!$AL$1,MATCH(A24,[1]PGA!$E$1:$E$500,0)-1,0))
A25: Carson Young | B25: 0.16% | C25: 625 | D25: 351 | F25: =IFERROR(IF(A25="","",OFFSET(Results!$AJ$1,MATCH(A25,Results!$A:$A,0)-1,0)),"") -> 57 | G25: =IF(OR(E25="",F25=""),"",IF(F25=1,(IF(COUNTIFS(F:F,"<="&F25)<=1,1,(1-COUNTIFS(F:F,"<"&F25))/COUNTIFS(F:F,F25)))*50*E25*(1+VALUE(MID(H25,FIND(": ",H25)+2,FIND("/",H25)-FIND(":",H25)-2))-1)+50*E25*(1+VALUE(MID(H25,FIND(": ",H25)+2,FIND("/",H25)-FIND(":",H25)-2))-1)/VALUE(RIGHT(H25,1)),IF(F25<=VALUE(MID(H25,FIND(", ",H25)+2,IF(MID(H25,FIND(", ",H25)+2,1)="1",2,1))),(IF(COUNTIFS(F:F,"<="&F25)<=VALUE(MID(H25,FIND(", ",H25)+2,IF(MID(H25,FIND(", ",H25)+2,1)="1",2,1))),1,(VALUE(MID(H25,FIND(", ",H25)+2,IF(MID(H25,FIND(", ",H25)+2,1)="1",2,1)))-COUNTIFS(F:F,"<"&F25))/COUNTIFS(F:F,F25)))*(50*E25*(1+VALUE(MID(H25,FIND(": ",H25)+2,FIND("/",H25)-FIND(":",H25)-2))-1)/VALUE(RIGHT(H25,1))+50*E25)-(100*E25),-E25*100))) | H25: =IF(E25="","",OFFSET([1]PGA!$AL$1,MATCH(A25,[1]PGA!$E$1:$E$500,0)-1,0))
A26: Chad Ramey | B26: 0.16% | C26: 625 | D26: 501 | F26: =IFERROR(IF(A26="","",OFFSET(Results!$AJ$1,MATCH(A26,Results!$A:$A,0)-1,0)),"") -> 122 | G26: =IF(OR(E26="",F26=""),"",IF(F26=1,(IF(COUNTIFS(F:F,"<="&F26)<=1,1,(1-COUNTIFS(F:F,"<"&F26))/COUNTIFS(F:F,F26)))*50*E26*(1+VALUE(MID(H26,FIND(": ",H26)+2,FIND("/",H26)-FIND(":",H26)-2))-1)+50*E26*(1+VALUE(MID(H26,FIND(": ",H26)+2,FIND("/",H26)-FIND(":",H26)-2))-1)/VALUE(RIGHT(H26,1)),IF(F26<=VALUE(MID(H26,FIND(", ",H26)+2,IF(MID(H26,FIND(", ",H26)+2,1)="1",2,1))),(IF(COUNTIFS(F:F,"<="&F26)<=VALUE(MID(H26,FIND(", ",H26)+2,IF(MID(H26,FIND(", ",H26)+2,1)="1",2,1))),1,(VALUE(MID(H26,FIND(", ",H26)+2,IF(MID(H26,FIND(", ",H26)+2,1)="1",2,1)))-COUNTIFS(F:F,"<"&F26))/COUNTIFS(F:F,F26)))*(50*E26*(1+VALUE(MID(H26,FIND(": ",H26)+2,FIND("/",H26)-FIND(":",H26)-2))-1)/VALUE(RIGHT(H26,1))+50*E26)-(100*E26),-E26*100))) | H26: =IF(E26="","",OFFSET([1]PGA!$AL$1,MATCH(A26,[1]PGA!$E$1:$E$500,0)-1,0))
A27: Chan Kim | B27: 0.31% | C27: 323 | D27: 201 | F27: =IFERROR(IF(A27="","",OFFSET(Results!$AJ$1,MATCH(A27,Results!$A:$A,0)-1,0)),"") -> 115 | G27: =IF(OR(E27="",F27=""),"",IF(F27=1,(IF(COUNTIFS(F:F,"<="&F27)<=1,1,(1-COUNTIFS(F:F,"<"&F27))/COUNTIFS(F:F,F27)))*50*E27*(1+VALUE(MID(H27,FIND(": ",H27)+2,FIND("/",H27)-FIND(":",H27)-2))-1)+50*E27*(1+VALUE(MID(H27,FIND(": ",H27)+2,FIND("/",H27)-FIND(":",H27)-2))-1)/VALUE(RIGHT(H27,1)),IF(F27<=VALUE(MID(H27,FIND(", ",H27)+2,IF(MID(H27,FIND(", ",H27)+2,1)="1",2,1))),(IF(COUNTIFS(F:F,"<="&F27)<=VALUE(MID(H27,FIND(", ",H27)+2,IF(MID(H27,FIND(", ",H27)+2,1)="1",2,1))),1,(VALUE(MID(H27,FIND(", ",H27)+2,IF(MID(H27,FIND(", ",H27)+2,1)="1",2,1)))-COUNTIFS(F:F,"<"&F27))/COUNTIFS(F:F,F27)))*(50*E27*(1+VALUE(MID(H27,FIND(": ",H27)+2,FIND("/",H27)-FIND(":",H27)-2))-1)/VALUE(RIGHT(H27,1))+50*E27)-(100*E27),-E27*100))) | H27: =IF(E27="","",OFFSET([1]PGA!$AL$1,MATCH(A27,[1]PGA!$E$1:$E$500,0)-1,0))
A28: Chandler Phillips | B28: 0.17% | C28: 588 | D28: 501 | F28: =IFERROR(IF(A28="","",OFFSET(Results!$AJ$1,MATCH(A28,Results!$A:$A,0)-1,0)),"") -> 49 | G28: =IF(OR(E28="",F28=""),"",IF(F28=1,(IF(COUNTIFS(F:F,"<="&F28)<=1,1,(1-COUNTIFS(F:F,"<"&F28))/COUNTIFS(F:F,F28)))*50*E28*(1+VALUE(MID(H28,FIND(": ",H28)+2,FIND("/",H28)-FIND(":",H28)-2))-1)+50*E28*(1+VALUE(MID(H28,FIND(": ",H28)+2,FIND("/",H28)-FIND(":",H28)-2))-1)/VALUE(RIGHT(H28,1)),IF(F28<=VALUE(MID(H28,FIND(", ",H28)+2,IF(MID(H28,FIND(", ",H28)+2,1)="1",2,1))),(IF(COUNTIFS(F:F,"<="&F28)<=VALUE(MID(H28,FIND(", ",H28)+2,IF(MID(H28,FIND(", ",H28)+2,1)="1",2,1))),1,(VALUE(MID(H28,FIND(", ",H28)+2,IF(MID(H28,FIND(", ",H28)+2,1)="1",2,1)))-COUNTIFS(F:F,"<"&F28))/COUNTIFS(F:F,F28)))*(50*E28*(1+VALUE(MID(H28,FIND(": ",H28)+2,FIND("/",H28)-FIND(":",H28)-2))-1)/VALUE(RIGHT(H28,1))+50*E28)-(100*E28),-E28*100))) | H28: =IF(E28="","",OFFSET([1]PGA!$AL$1,MATCH(A28,[1]PGA!$E$1:$E$500,0)-1,0))
A29: Charley Hoffman | B29: 0.58% | C29: 172 | D29: 101 | F29: =IFERROR(IF(A29="","",OFFSET(Results!$AJ$1,MATCH(A29,Results!$A:$A,0)-1,0)),"") -> 115 | G29: =IF(OR(E29="",F29=""),"",IF(F29=1,(IF(COUNTIFS(F:F,"<="&F29)<=1,1,(1-COUNTIFS(F:F,"<"&F29))/COUNTIFS(F:F,F29)))*50*E29*(1+VALUE(MID(H29,FIND(": ",H29)+2,FIND("/",H29)-FIND(":",H29)-2))-1)+50*E29*(1+VALUE(MID(H29,FIND(": ",H29)+2,FIND("/",H29)-FIND(":",H29)-2))-1)/VALUE(RIGHT(H29,1)),IF(F29<=VALUE(MID(H29,FIND(", ",H29)+2,IF(MID(H29,FIND(", ",H29)+2,1)="1",2,1))),(IF(COUNTIFS(F:F,"<="&F29)<=VALUE(MID(H29,FIND(", ",H29)+2,IF(MID(H29,FIND(", ",H29)+2,1)="1",2,1))),1,(VALUE(MID(H29,FIND(", ",H29)+2,IF(MID(H29,FIND(", ",H29)+2,1)="1",2,1)))-COUNTIFS(F:F,"<"&F29))/COUNTIFS(F:F,F29)))*(50*E29*(1+VALUE(MID(H29,FIND(": ",H29)+2,FIND("/",H29)-FIND(":",H29)-2))-1)/VALUE(RIGHT(H29,1))+50*E29)-(100*E29),-E29*100))) | H29: =IF(E29="","",OFFSET([1]PGA!$AL$1,MATCH(A29,[1]PGA!$E$1:$E$500,0)-1,0))
A30: Chez Reavie | B30: 0.03% | C30: 3333 | D30: 1001 | F30: =IFERROR(IF(A30="","",OFFSET(Results!$AJ$1,MATCH(A30,Results!$A:$A,0)-1,0)),"") -> 103 | G30: =IF(OR(E30="",F30=""),"",IF(F30=1,(IF(COUNTIFS(F:F,"<="&F30)<=1,1,(1-COUNTIFS(F:F,"<"&F30))/COUNTIFS(F:F,F30)))*50*E30*(1+VALUE(MID(H30,FIND(": ",H30)+2,FIND("/",H30)-FIND(":",H30)-2))-1)+50*E30*(1+VALUE(MID(H30,FIND(": ",H30)+2,FIND("/",H30)-FIND(":",H30)-2))-1)/VALUE(RIGHT(H30,1)),IF(F30<=VALUE(MID(H30,FIND(", ",H30)+2,IF(MID(H30,FIND(", ",H30)+2,1)="1",2,1))),(IF(COUNTIFS(F:F,"<="&F30)<=VALUE(MID(H30,FIND(", ",H30)+2,IF(MID(H30,FIND(", ",H30)+2,1)="1",2,1))),1,(VALUE(MID(H30,FIND(", ",H30)+2,IF(MID(H30,FIND(", ",H30)+2,1)="1",2,1)))-COUNTIFS(F:F,"<"&F30))/COUNTIFS(F:F,F30)))*(50*E30*(1+VALUE(MID(H30,FIND(": ",H30)+2,FIND("/",H30)-FIND(":",H30)-2))-1)/VALUE(RIGHT(H30,1))+50*E30)-(100*E30),-E30*100))) | H30: =IF(E30="","",OFFSET([1]PGA!$AL$1,MATCH(A30,[1]PGA!$E$1:$E$500,0)-1,0))
... A32: Chris Kirk | B32: 0.54% | C32: 185 | D32: 151 | F32: =IFERROR(IF(A32="","",OFFSET(Results!$AJ$1,MATCH(A32,Results!$A:$A,0)-1,0)),"") -> 115 | G32: =IF(OR(E32="",F32=""),"",IF(F32=1,(IF(COUNTIFS(F:F,"<="&F32)<=1,1,(1-COUNTIFS(F:F,"<"&F32))/COUNTIFS(F:F,F32)))*50*E32*(1+VALUE(MID(H32,FIND(": ",H32)+2,FIND("/",H32)-FIND(":",H32)-2))-1)+50*E32*(1+VALUE(MID(H32,FIND(": ",H32)+2,FIND("/",H32)-FIND(":",H32)-2))-1)/VALUE(RIGHT(H32,1)),IF(F32<=VALUE(MID(H32,FIND(", ",H32)+2,IF(MID(H32,FIND(", ",H32)+2,1)="1",2,1))),(IF(COUNTIFS(F:F,"<="&F32)<=VALUE(MID(H32,FIND(", ",H32)+2,IF(MID(H32,FIND(", ",H32)+2,1)="1",2,1))),1,(VALUE(MID(H32,FIND(", ",H32)+2,IF(MID(H32,FIND(", ",H32)+2,1)="1",2,1)))-COUNTIFS(F:F,"<"&F32))/COUNTIFS(F:F,F32)))*(50*E32*(1+VALUE(MID(H32,FIND(": ",H32)+2,FIND("/",H32)-FIND(":",H32)-2))-1)/VALUE(RIGHT(H32,1))+50*E32)-(100*E32),-E32*100))) | H32: =IF(E32="","",OFFSET([1]PGA!$AL$1,MATCH(A32,[1]PGA!$E$1:$E$500,0)-1,0))
A33: Christiaan Bezuidenhout | B33: 0.84% | C33: 119 | D33: 151 | E33: 0.20% | F33: =IFERROR(IF(A33="","",OFFSET(Results!$AJ$1,MATCH(A33,Results!$A:$A,0)-1,0)),"") -> 4 | G33: =IF(OR(E33="",F33=""),"",IF(F33=1,(IF(COUNTIFS(F:F,"<="&F33)<=1,1,(1-COUNTIFS(F:F,"<"&F33))/COUNTIFS(F:F,F33)))*50*E33*(1+VALUE(MID(H33,FIND(": ",H33)+2,FIND("/",H33)-FIND(":",H33)-2))-1)+50*E33*(1+VALUE(MID(H33,FIND(": ",H33)+2,FIND("/",H33)-FIND(":",H33)-2))-1)/VALUE(RIGHT(H33,1)),IF(F33<=VALUE(MID(H33,FIND(", ",H33)+2,IF(MID(H33,FIND(", ",H33)+2,1)="1",2,1))),(IF(COUNTIFS(F:F,"<="&F33)<=VALUE(MID(H33,FIND(", ",H33)+2,IF(MID(H33,FIND(", ",H33)+2,1)="1",2,1))),1,(VALUE(MID(H33,FIND(", ",H33)+2,IF(MID(H33,FIND(", ",H33)+2,1)="1",2,1)))-COUNTIFS(F:F,"<"&F33))/COUNTIFS(F:F,F33)))*(50*E33*(1+VALUE(MID(H33,FIND(": ",H33)+2,FIND("/",H33)-FIND(":",H33)-2))-1)/VALUE(RIGHT(H33,1))+50*E33)-(100*E33),-E33*100))) -> 2.9 | H33: =IF(E33="","",OFFSET([1]PGA!$AL$1,MATCH(A33,[1]PGA!$E$1:$E$500,0)-1,0)) -> Paddy Power: 150/1, 8pl, 1/5
A34: Corey Conners | B34: 1.68% | C34: 60 | D34: 46 | F34: =IFERROR(IF(A34="","",OFFSET(Results!$AJ$1,MATCH(A34,Results!$A:$A,0)-1,0)),"") -> 74 | G34: =IF(OR(E34="",F34=""),"",IF(F34=1,(IF(COUNTIFS(F:F,"<="&F34)<=1,1,(1-COUNTIFS(F:F,"<"&F34))/COUNTIFS(F:F,F34)))*50*E34*(1+VALUE(MID(H34,FIND(": ",H34)+2,FIND("/",H34)-FIND(":",H34)-2))-1)+50*E34*(1+VALUE(MID(H34,FIND(": ",H34)+2,FIND("/",H34)-FIND(":",H34)-2))-1)/VALUE(RIGHT(H34,1)),IF(F34<=VALUE(MID(H34,FIND(", ",H34)+2,IF(MID(H34,FIND(", ",H34)+2,1)="1",2,1))),(IF(COUNTIFS(F:F,"<="&F34)<=VALUE(MID(H34,FIND(", ",H34)+2,IF(MID(H34,FIND(", ",H34)+2,1)="1",2,1))),1,(VALUE(MID(H34,FIND(", ",H34)+2,IF(MID(H34,FIND(", ",H34)+2,1)="1",2,1)))-COUNTIFS(F:F,"<"&F34))/COUNTIFS(F:F,F34)))*(50*E34*(1+VALUE(MID(H34,FIND(": ",H34)+2,FIND("/",H34)-FIND(":",H34)-2))-1)/VALUE(RIGHT(H34,1))+50*E34)-(100*E34),-E34*100))) | H34: =IF(E34="","",OFFSET([1]PGA!$AL$1,MATCH(A34,[1]PGA!$E$1:$E$500,0)-1,0))
A35: Daniel Berger | B35: 0.33% | C35: 303 | D35: 126 | F35: =IFERROR(IF(A35="","",OFFSET(Results!$AJ$1,MATCH(A35,Results!$A:$A,0)-1,0)),"") -> 2 | G35: =IF(OR(E35="",F35=""),"",IF(F35=1,(IF(COUNTIFS(F:F,"<="&F35)<=1,1,(1-COUNTIFS(F:F,"<"&F35))/COUNTIFS(F:F,F35)))*50*E35*(1+VALUE(MID(H35,FIND(": ",H35)+2,FIND("/",H35)-FIND(":",H35)-2))-1)+50*E35*(1+VALUE(MID(H35,FIND(": ",H35)+2,FIND("/",H35)-FIND(":",H35)-2))-1)/VALUE(RIGHT(H35,1)),IF(F35<=VALUE(MID(H35,FIND(", ",H35)+2,IF(MID(H35,FIND(", ",H35)+2,1)="1",2,1))),(IF(COUNTIFS(F:F,"<="&F35)<=VALUE(MID(H35,FIND(", ",H35)+2,IF(MID(H35,FIND(", ",H35)+2,1)="1",2,1))),1,(VALUE(MID(H35,FIND(", ",H35)+2,IF(MID(H35,FIND(", ",H35)+2,1)="1",2,1)))-COUNTIFS(F:F,"<"&F35))/COUNTIFS(F:F,F35)))*(50*E35*(1+VALUE(MID(H35,FIND(": ",H35)+2,FIND("/",H35)-FIND(":",H35)-2))-1)/VALUE(RIGHT(H35,1))+50*E35)-(100*E35),-E35*100))) | H35: =IF(E35="","",OFFSET([1]PGA!$AL$1,MATCH(A35,[1]PGA!$E$1:$E$500,0)-1,0))
A36: David Lipsky | B36: 0.10% | C36: 1000 | D36: 601 | F36: =IFERROR(IF(A36="","",OFFSET(Results!$AJ$1,MATCH(A36,Results!$A:$A,0)-1,0)),"") -> 108 | G36: =IF(OR(E36="",F36=""),"",IF(F36=1,(IF(COUNTIFS(F:F,"<="&F36)<=1,1,(1-COUNTIFS(F:F,"<"&F36))/COUNTIFS(F:F,F36)))*50*E36*(1+VALUE(MID(H36,FIND(": ",H36)+2,FIND("/",H36)-FIND(":",H36)-2))-1)+50*E36*(1+VALUE(MID(H36,FIND(": ",H36)+2,FIND("/",H36)-FIND(":",H36)-2))-1)/VALUE(RIGHT(H36,1)),IF(F36<=VALUE(MID(H36,FIND(", ",H36)+2,IF(MID(H36,FIND(", ",H36)+2,1)="1",2,1))),(IF(COUNTIFS(F:F,"<="&F36)<=VALUE(MID(H36,FIND(", ",H36)+2,IF(MID(H36,FIND(", ",H36)+2,1)="1",2,1))),1,(VALUE(MID(H36,FIND(", ",H36)+2,IF(MID(H36,FIND(", ",H36)+2,1)="1",2,1)))-COUNTIFS(F:F,"<"&F36))/COUNTIFS(F:F,F36)))*(50*E36*(1+VALUE(MID(H36,FIND(": ",H36)+2,FIND("/",H36)-FIND(":",H36)-2))-1)/VALUE(RIGHT(H36,1))+50*E36)-(100*E36),-E36*100))) | H36: =IF(E36="","",OFFSET([1]PGA!$AL$1,MATCH(A36,[1]PGA!$E$1:$E$500,0)-1,0))
A37: David Skinns | B37: 0.02% | C37: 5000 | D37: 2001 | F37: =IFERROR(IF(A37="","",OFFSET(Results!$AJ$1,MATCH(A37,Results!$A:$A,0)-1,0)),"") -> 49 | G37: =IF(OR(E37="",F37=""),"",IF(F37=1,(IF(COUNTIFS(F:F,"<="&F37)<=1,1,(1-COUNTIFS(F:F,"<"&F37))/COUNTIFS(F:F,F37)))*50*E37*(1+VALUE(MID(H37,FIND(": ",H37)+2,FIND("/",H37)-FIND(":",H37)-2))-1)+50*E37*(1+VALUE(MID(H37,FIND(": ",H37)+2,FIND("/",H37)-FIND(":",H37)-2))-1)/VALUE(RIGHT(H37,1)),IF(F37<=VALUE(MID(H37,FIND(", ",H37)+2,IF(MID(H37,FIND(", ",H37)+2,1)="1",2,1))),(IF(COUNTIFS(F:F,"<="&F37)<=VALUE(MID(H37,FIND(", ",H37)+2,IF(MID(H37,FIND(", ",H37)+2,1)="1",2,1))),1,(VALUE(MID(H37,FIND(", ",H37)+2,IF(MID(H37,FIND(", ",H37)+2,1)="1",2,1)))-COUNTIFS(F:F,"<"&F37))/COUNTIFS(F:F,F37)))*(50*E37*(1+VALUE(MID(H37,FIND(": ",H37)+2,FIND("/",H37)-FIND(":",H37)-2))-1)/VALUE(RIGHT(H37,1))+50*E37)-(100*E37),-E37*100))) | H37: =IF(E37="","",OFFSET([1]PGA!$AL$1,MATCH(A37,[1]PGA!$E$1:$E$500,0)-1,0))
A38: Davis Riley | B38: 0.02% | C38: 5000 | D38: 1001 | F38: =IFERROR(IF(A38="","",OFFSET(Results!$AJ$1,MATCH(A38,Results!$A:$A,0)-1,0)),"") -> 122 | G38: =IF(OR(E38="",F38=""),"",IF(F38=1,(IF(COUNTIFS(F:F,"<="&F38)<=1,1,(1-COUNTIFS(F:F,"<"&F38))/COUNTIFS(F:F,F38)))*50*E38*(1+VALUE(MID(H38,FIND(": ",H38)+2,FIND("/",H38)-FIND(":",H38)-2))-1)+50*E38*(1+VALUE(MID(H38,FIND(": ",H38)+2,FIND("/",H38)-FIND(":",H38)-2))-1)/VALUE(RIGHT(H38,1)),IF(F38<=VALUE(MID(H38,FIND(", ",H38)+2,IF(MID(H38,FIND(", ",H38)+2,1)="1",2,1))),(IF(COUNTIFS(F:F,"<="&F38)<=VALUE(MID(H38,FIND(", ",H38)+2,IF(MID(H38,FIND(", ",H38)+2,1)="1",2,1))),1,(VALUE(MID(H38,FIND(", ",H38)+2,IF(MID(H38,FIND(", ",H38)+2,1)="1",2,1)))-COUNTIFS(F:F,"<"&F38))/COUNTIFS(F:F,F38)))*(50*E38*(1+VALUE(MID(H38,FIND(": ",H38)+2,FIND("/",H38)-FIND(":",H38)-2))-1)/VALUE(RIGHT(H38,1))+50*E38)-(100*E38),-E38*100))) | H38: =IF(E38="","",OFFSET([1]PGA!$AL$1,MATCH(A38,[1]PGA!$E$1:$E$500,0)-1,0))
A39: Davis Thompson | B39: 0.66% | C39: 152 | D39: 81 | F39: =IFERROR(IF(A39="","",OFFSET(Results!$AJ$1,MATCH(A39,Results!$A:$A,0)-1,0)),"") -> 36 | G39: =IF(OR(E39="",F39=""),"",IF(F39=1,(IF(COUNTIFS(F:F,"<="&F39)<=1,1,(1-COUNTIFS(F:F,"<"&F39))/COUNTIFS(F:F,F39)))*50*E39*(1+VALUE(MID(H39,FIND(": ",H39)+2,FIND("/",H39)-FIND(":",H39)-2))-1)+50*E39*(1+VALUE(MID(H39,FIND(": ",H39)+2,FIND("/",H39)-FIND(":",H39)-2))-1)/VALUE(RIGHT(H39,1)),IF(F39<=VALUE(MID(H39,FIND(", ",H39)+2,IF(MID(H39,FIND(", ",H39)+2,1)="1",2,1))),(IF(COUNTIFS(F:F,"<="&F39)<=VALUE(MID(H39,FIND(", ",H39)+2,IF(MID(H39,FIND(", ",H39)+2,1)="1",2,1))),1,(VALUE(MID(H39,FIND(", ",H39)+2,IF(MID(H39,FIND(", ",H39)+2,1)="1",2,1)))-COUNTIFS(F:F,"<"&F39))/COUNTIFS(F:F,F39)))*(50*E39*(1+VALUE(MID(H39,FIND(": ",H39)+2,FIND("/",H39)-FIND(":",H39)-2))-1)/VALUE(RIGHT(H39,1))+50*E39)-(100*E39),-E39*100))) | H39: =IF(E39="","",OFFSET([1]PGA!$AL$1,MATCH(A39,[1]PGA!$E$1:$E$500,0)-1,0))
A40: Denny McCarthy | B40: 1.08% | C40: 93 | D40: 86 | F40: =IFERROR(IF(A40="","",OFFSET(Results!$AJ$1,MATCH(A40,Results!$A:$A,0)-1,0)),"") -> 16 | G40: =IF(OR(E40="",F40=""),"",IF(F40=1,(IF(COUNTIFS(F:F,"<="&F40)<=1,1,(1-COUNTIFS(F:F,"<"&F40))/COUNTIFS(F:F,F40)))*50*E40*(1+VALUE(MID(H40,FIND(": ",H40)+2,FIND("/",H40)-FIND(":",H40)-2))-1)+50*E40*(1+VALUE(MID(H40,FIND(": ",H40)+2,FIND("/",H40)-FIND(":",H40)-2))-1)/VALUE(RIGHT(H40,1)),IF(F40<=VALUE(MID(H40,FIND(", ",H40)+2,IF(MID(H40,FIND(", ",H40)+2,1)="1",2,1))),(IF(COUNTIFS(F:F,"<="&F40)<=VALUE(MID(H40,FIND(", ",H40)+2,IF(MID(H40,FIND(", ",H40)+2,1)="1",2,1))),1,(VALUE(MID(H40,FIND(", ",H40)+2,IF(MID(H40,FIND(", ",H40)+2,1)="1",2,1)))-COUNTIFS(F:F,"<"&F40))/COUNTIFS(F:F,F40)))*(50*E40*(1+VALUE(MID(H40,FIND(": ",H40)+2,FIND("/",H40)-FIND(":",H40)-2))-1)/VALUE(RIGHT(H40,1))+50*E40)-(100*E40),-E40*100))) | H40: =IF(E40="","",OFFSET([1]PGA!$AL$1,MATCH(A40,[1]PGA!$E$1:$E$500,0)-1,0))
A41: Doug Ghim | B41: 0.42% | C41: 238 | D41: 131 | F41: =IFERROR(IF(A41="","",OFFSET(Results!$AJ$1,MATCH(A41,Results!$A:$A,0)-1,0)),"") -> 49 | G41: =IF(OR(E41="",F41=""),"",IF(F41=1,(IF(COUNTIFS(F:F,"<="&F41)<=1,1,(1-COUNTIFS(F:F,"<"&F41))/COUNTIFS(F:F,F41)))*50*E41*(1+VALUE(MID(H41,FIND(": ",H41)+2,FIND("/",H41)-FIND(":",H41)-2))-1)+50*E41*(1+VALUE(MID(H41,FIND(": ",H41)+2,FIND("/",H41)-FIND(":",H41)-2))-1)/VALUE(RIGHT(H41,1)),IF(F41<=VALUE(MID(H41,FIND(", ",H41)+2,IF(MID(H41,FIND(", ",H41)+2,1)="1",2,1))),(IF(COUNTIFS(F:F,"<="&F41)<=VALUE(MID(H41,FIND(", ",H41)+2,IF(MID(H41,FIND(", ",H41)+2,1)="1",2,1))),1,(VALUE(MID(H41,FIND(", ",H41)+2,IF(MID(H41,FIND(", ",H41)+2,1)="1",2,1)))-COUNTIFS(F:F,"<"&F41))/COUNTIFS(F:F,F41)))*(50*E41*(1+VALUE(MID(H41,FIND(": ",H41)+2,FIND("/",H41)-FIND(":",H41)-2))-1)/VALUE(RIGHT(H41,1))+50*E41)-(100*E41),-E41*100))) | H41: =IF(E41="","",OFFSET([1]PGA!$AL$1,MATCH(A41,[1]PGA!$E$1:$E$500,0)-1,0))
A42: Emiliano Grillo | B42: 0.11% | C42: 909 | D42: 501 | F42: =IFERROR(IF(A42="","",OFFSET(Results!$AJ$1,MATCH(A42,Results!$A:$A,0)-1,0)),"") -> 76 | G42: =IF(OR(E42="",F42=""),"",IF(F42=1,(IF(COUNTIFS(F:F,"<="&F42)<=1,1,(1-COUNTIFS(F:F,"<"&F42))/COUNTIFS(F:F,F42)))*50*E42*(1+VALUE(MID(H42,FIND(": ",H42)+2,FIND("/",H42)-FIND(":",H42)-2))-1)+50*E42*(1+VALUE(MID(H42,FIND(": ",H42)+2,FIND("/",H42)-FIND(":",H42)-2))-1)/VALUE(RIGHT(H42,1)),IF(F42<=VALUE(MID(H42,FIND(", ",H42)+2,IF(MID(H42,FIND(", ",H42)+2,1)="1",2,1))),(IF(COUNTIFS(F:F,"<="&F42)<=VALUE(MID(H42,FIND(", ",H42)+2,IF(MID(H42,FIND(", ",H42)+2,1)="1",2,1))),1,(VALUE(MID(H42,FIND(", ",H42)+2,IF(MID(H42,FIND(", ",H42)+2,1)="1",2,1)))-COUNTIFS(F:F,"<"&F42))/COUNTIFS(F:F,F42)))*(50*E42*(1+VALUE(MID(H42,FIND(": ",H42)+2,FIND("/",H42)-FIND(":",H42)-2))-1)/VALUE(RIGHT(H42,1))+50*E42)-(100*E42),-E42*100))) | H42: =IF(E42="","",OFFSET([1]PGA!$AL$1,MATCH(A42,[1]PGA!$E$1:$E$500,0)-1,0))
A43: Eric Cole | B43: 0.52% | C43: 192 | D43: 126 | F43: =IFERROR(IF(A43="","",OFFSET(Results!$AJ$1,MATCH(A43,Results!$A:$A,0)-1,0)),"") -> 122 | G43: =IF(OR(E43="",F43=""),"",IF(F43=1,(IF(COUNTIFS(F:F,"<="&F43)<=1,1,(1-COUNTIFS(F:F,"<"&F43))/COUNTIFS(F:F,F43)))*50*E43*(1+VALUE(MID(H43,FIND(": ",H43)+2,FIND("/",H43)-FIND(":",H43)-2))-1)+50*E43*(1+VALUE(MID(H43,FIND(": ",H43)+2,FIND("/",H43)-FIND(":",H43)-2))-1)/VALUE(RIGHT(H43,1)),IF(F43<=VALUE(MID(H43,FIND(", ",H43)+2,IF(MID(H43,FIND(", ",H43)+2,1)="1",2,1))),(IF(COUNTIFS(F:F,"<="&F43)<=VALUE(MID(H43,FIND(", ",H43)+2,IF(MID(H43,FIND(", ",H43)+2,1)="1",2,1))),1,(VALUE(MID(H43,FIND(", ",H43)+2,IF(MID(H43,FIND(", ",H43)+2,1)="1",2,1)))-COUNTIFS(F:F,"<"&F43))/COUNTIFS(F:F,F43)))*(50*E43*(1+VALUE(MID(H43,FIND(": ",H43)+2,FIND("/",H43)-FIND(":",H43)-2))-1)/VALUE(RIGHT(H43,1))+50*E43)-(100*E43),-E43*100))) | H43: =IF(E43="","",OFFSET([1]PGA!$AL$1,MATCH(A43,[1]PGA!$E$1:$E$500,0)-1,0))
A44: Erik Van Rooyen | B44: 0.29% | C44: 345 | D44: 251 | F44: =IFERROR(IF(A44="","",OFFSET(Results!$AJ$1,MATCH(A44,Results!$A:$A,0)-1,0)),"") -> 95 | G44: =IF(OR(E44="",F44=""),"",IF(F44=1,(IF(COUNTIFS(F:F,"<="&F44)<=1,1,(1-COUNTIFS(F:F,"<"&F44))/COUNTIFS(F:F,F44)))*50*E44*(1+VALUE(MID(H44,FIND(": ",H44)+2,FIND("/",H44)-FIND(":",H44)-2))-1)+50*E44*(1+VALUE(MID(H44,FIND(": ",H44)+2,FIND("/",H44)-FIND(":",H44)-2))-1)/VALUE(RIGHT(H44,1)),IF(F44<=VALUE(MID(H44,FIND(", ",H44)+2,IF(MID(H44,FIND(", ",H44)+2,1)="1",2,1))),(IF(COUNTIFS(F:F,"<="&F44)<=VALUE(MID(H44,FIND(", ",H44)+2,IF(MID(H44,FIND(", ",H44)+2,1)="1",2,1))),1,(VALUE(MID(H44,FIND(", ",H44)+2,IF(MID(H44,FIND(", ",H44)+2,1)="1",2,1)))-COUNTIFS(F:F,"<"&F44))/COUNTIFS(F:F,F44)))*(50*E44*(1+VALUE(MID(H44,FIND(": ",H44)+2,FIND("/",H44)-FIND(":",H44)-2))-1)/VALUE(RIGHT(H44,1))+50*E44)-(100*E44),-E44*100))) | H44: =IF(E44="","",OFFSET([1]PGA!$AL$1,MATCH(A44,[1]PGA!$E$1:$E$500,0)-1,0))
A45: Frankie Capan | B45: 0.21% | C45: 476 | D45: 201 | F45: =IFERROR(IF(A45="","",OFFSET(Results!$AJ$1,MATCH(A45,Results!$A:$A,0)-1,0)),"") -> 126 | G45: =IF(OR(E45="",F45=""),"",IF(F45=1,(IF(COUNTIFS(F:F,"<="&F45)<=1,1,(1-COUNTIFS(F:F,"<"&F45))/COUNTIFS(F:F,F45)))*50*E45*(1+VALUE(MID(H45,FIND(": ",H45)+2,FIND("/",H45)-FIND(":",H45)-2))-1)+50*E45*(1+VALUE(MID(H45,FIND(": ",H45)+2,FIND("/",H45)-FIND(":",H45)-2))-1)/VALUE(RIGHT(H45,1)),IF(F45<=VALUE(MID(H45,FIND(", ",H45)+2,IF(MID(H45,FIND(", ",H45)+2,1)="1",2,1))),(IF(COUNTIFS(F:F,"<="&F45)<=VALUE(MID(H45,FIND(", ",H45)+2,IF(MID(H45,FIND(", ",H45)+2,1)="1",2,1))),1,(VALUE(MID(H45,FIND(", ",H45)+2,IF(MID(H45,FIND(", ",H45)+2,1)="1",2,1)))-COUNTIFS(F:F,"<"&F45))/COUNTIFS(F:F,F45)))*(50*E45*(1+VALUE(MID(H45,FIND(": ",H45)+2,FIND("/",H45)-FIND(":",H45)-2))-1)/VALUE(RIGHT(H45,1))+50*E45)-(100*E45),-E45*100))) | H45: =IF(E45="","",OFFSET([1]PGA!$AL$1,MATCH(A45,[1]PGA!$E$1:$E$500,0)-1,0))
... A61: Justin Thomas | B61: 4.42% | C61: 23 | D61: 15 | F61: =IFERROR(IF(A61="","",OFFSET(Results!$AJ$1,MATCH(A61,Results!$A:$A,0)-1,0)),"") -> 6 | G61: =IF(OR(E61="",F61=""),"",IF(F61=1,(IF(COUNTIFS(F:F,"<="&F61)<=1,1,(1-COUNTIFS(F:F,"<"&F61))/COUNTIFS(F:F,F61)))*50*E61*(1+VALUE(MID(H61,FIND(": ",H61)+2,FIND("/",H61)-FIND(":",H61)-2))-1)+50*E61*(1+VALUE(MID(H61,FIND(": ",H61)+2,FIND("/",H61)-FIND(":",H61)-2))-1)/VALUE(RIGHT(H61,1)),IF(F61<=VALUE(MID(H61,FIND(", ",H61)+2,IF(MID(H61,FIND(", ",H61)+2,1)="1",2,1))),(IF(COUNTIFS(F:F,"<="&F61)<=VALUE(MID(H61,FIND(", ",H61)+2,IF(MID(H61,FIND(", ",H61)+2,1)="1",2,1))),1,(VALUE(MID(H61,FIND(", ",H61)+2,IF(MID(H61,FIND(", ",H61)+2,1)="1",2,1)))-COUNTIFS(F:F,"<"&F61))/COUNTIFS(F:F,F61)))*(50*E61*(1+VALUE(MID(H61,FIND(": ",H61)+2,FIND("/",H61)-FIND(":",H61)-2))-1)/VALUE(RIGHT(H61,1))+50*E61)-(100*E61),-E61*100))) | H61: =IF(E61="","",OFFSET([1]PGA!$AL$1,MATCH(A61,[1]PGA!$E$1:$E$500,0)-1,0))
A62: Keith Mitchell | B62: 1.05% | C62: 95 | D62: 101 | E62: 0.10% | F62: =IFERROR(IF(A62="","",OFFSET(Results!$AJ$1,MATCH(A62,Results!$A:$A,0)-1,0)),"") -> 25 | G62: =IF(OR(E62="",F62=""),"",IF(F62=1,(IF(COUNTIFS(F:F,"<="&F62)<=1,1,(1-COUNTIFS(F:F,"<"&F62))/COUNTIFS(F:F,F62)))*50*E62*(1+VALUE(MID(H62,FIND(": ",H62)+2,FIND("/",H62)-FIND(":",H62)-2))-1)+50*E62*(1+VALUE(MID(H62,FIND(": ",H62)+2,FIND("/",H62)-FIND(":",H62)-2))-1)/VALUE(RIGHT(H62,1)),IF(F62<=VALUE(MID(H62,FIND(", ",H62)+2,IF(MID(H62,FIND(", ",H62)+2,1)="1",2,1))),(IF(COUNTIFS(F:F,"<="&F62)<=VALUE(MID(H62,FIND(", ",H62)+2,IF(MID(H62,FIND(", ",H62)+2,1)="1",2,1))),1,(VALUE(MID(H62,FIND(", ",H62)+2,IF(MID(H62,FIND(", ",H62)+2,1)="1",2,1)))-COUNTIFS(F:F,"<"&F62))/COUNTIFS(F:F,F62)))*(50*E62*(1+VALUE(MID(H62,FIND(": ",H62)+2,FIND("/",H62)-FIND(":",H62)-2))-1)/VALUE(RIGHT(H62,1))+50*E62)-(100*E62),-E62*100))) -> -0.1 | H62: =IF(E62="","",OFFSET([1]PGA!$AL$1,MATCH(A62,[1]PGA!$E$1:$E$500,0)-1,0)) -> Betfair: 100/1, 8pl, 1/5
A63: Kevin Kisner | B63: 0.00% | C63: 10000 | D63: 2501 | F63: =IFERROR(IF(A63="","",OFFSET(Results!$AJ$1,MATCH(A63,Results!$A:$A,0)-1,0)),"") -> 95 | G63: =IF(OR(E63="",F63=""),"",IF(F63=1,(IF(COUNTIFS(F:F,"<="&F63)<=1,1,(1-COUNTIFS(F:F,"<"&F63))/COUNTIFS(F:F,F63)))*50*E63*(1+VALUE(MID(H63,FIND(": ",H63)+2,FIND("/",H63)-FIND(":",H63)-2))-1)+50*E63*(1+VALUE(MID(H63,FIND(": ",H63)+2,FIND("/",H63)-FIND(":",H63)-2))-1)/VALUE(RIGHT(H63,1)),IF(F63<=VALUE(MID(H63,FIND(", ",H63)+2,IF(MID(H63,FIND(", ",H63)+2,1)="1",2,1))),(IF(COUNTIFS(F:F,"<="&F63)<=VALUE(MID(H63,FIND(", ",H63)+2,IF(MID(H63,FIND(", ",H63)+2,1)="1",2,1))),1,(VALUE(MID(H63,FIND(", ",H63)+2,IF(MID(H63,FIND(", ",H63)+2,1)="1",2,1)))-COUNTIFS(F:F,"<"&F63))/COUNTIFS(F:F,F63)))*(50*E63*(1+VALUE(MID(H63,FIND(": ",H63)+2,FIND("/",H63)-FIND(":",H63)-2))-1)/VALUE(RIGHT(H63,1))+50*E63)-(100*E63),-E63*100))) | H63: =IF(E63="","",OFFSET([1]PGA!$AL$1,MATCH(A63,[1]PGA!$E$1:$E$500,0)-1,0))
A64: Kevin Streelman | B64: 0.10% | C64: 1000 | D64: 601 | F64: =IFERROR(IF(A64="","",OFFSET(Results!$AJ$1,MATCH(A64,Results!$A:$A,0)-1,0)),"") -> 71 | G64: =IF(OR(E64="",F64=""),"",IF(F64=1,(IF(COUNTIFS(F:F,"<="&F64)<=1,1,(1-COUNTIFS(F:F,"<"&F64))/COUNTIFS(F:F,F64)))*50*E64*(1+VALUE(MID(H64,FIND(": ",H64)+2,FIND("/",H64)-FIND(":",H64)-2))-1)+50*E64*(1+VALUE(MID(H64,FIND(": ",H64)+2,FIND("/",H64)-FIND(":",H64)-2))-1)/VALUE(RIGHT(H64,1)),IF(F64<=VALUE(MID(H64,FIND(", ",H64)+2,IF(MID(H64,FIND(", ",H64)+2,1)="1",2,1))),(IF(COUNTIFS(F:F,"<="&F64)<=VALUE(MID(H64,FIND(", ",H64)+2,IF(MID(H64,FIND(", ",H64)+2,1)="1",2,1))),1,(VALUE(MID(H64,FIND(", ",H64)+2,IF(MID(H64,FIND(", ",H64)+2,1)="1",2,1)))-COUNTIFS(F:F,"<"&F64))/COUNTIFS(F:F,F64)))*(50*E64*(1+VALUE(MID(H64,FIND(": ",H64)+2,FIND("/",H64)-FIND(":",H64)-2))-1)/VALUE(RIGHT(H64,1))+50*E64)-(100*E64),-E64*100))) | H64: =IF(E64="","",OFFSET([1]PGA!$AL$1,MATCH(A64,[1]PGA!$E$1:$E$500,0)-1,0))
A65: Kevin Yu | B65: 0.18% | C65: 556 | D65: 251 | F65: =IFERROR(IF(A65="","",OFFSET(Results!$AJ$1,MATCH(A65,Results!$A:$A,0)-1,0)),"") -> 16 | G65: =IF(OR(E65="",F65=""),"",IF(F65=1,(IF(COUNTIFS(F:F,"<="&F65)<=1,1,(1-COUNTIFS(F:F,"<"&F65))/COUNTIFS(F:F,F65)))*50*E65*(1+VALUE(MID(H65,FIND(": ",H65)+2,FIND("/",H65)-FIND(":",H65)-2))-1)+50*E65*(1+VALUE(MID(H65,FIND(": ",H65)+2,FIND("/",H65)-FIND(":",H65)-2))-1)/VALUE(RIGHT(H65,1)),IF(F65<=VALUE(MID(H65,FIND(", ",H65)+2,IF(MID(H65,FIND(", ",H65)+2,1)="1",2,1))),(IF(COUNTIFS(F:F,"<="&F65)<=VALUE(MID(H65,FIND(", ",H65)+2,IF(MID(H65,FIND(", ",H65)+2,1)="1",2,1))),1,(VALUE(MID(H65,FIND(", ",H65)+2,IF(MID(H65,FIND(", ",H65)+2,1)="1",2,1)))-COUNTIFS(F:F,"<"&F65))/COUNTIFS(F:F,F65)))*(50*E65*(1+VALUE(MID(H65,FIND(": ",H65)+2,FIND("/",H65)-FIND(":",H65)-2))-1)/VALUE(RIGHT(H65,1))+50*E65)-(100*E65),-E65*100))) | H65: =IF(E65="","",OFFSET([1]PGA!$AL$1,MATCH(A65,[1]PGA!$E$1:$E$500,0)-1,0))
A66: Kris Ventura | B66: 0.12% | C66: 833 | D66: 301 | F66: =IFERROR(IF(A66="","",OFFSET(Results!$AJ$1,MATCH(A66,Results!$A:$A,0)-1,0)),"") -> 49 | G66: =IF(OR(E66="",F66=""),"",IF(F66=1,(IF(COUNTIFS(F:F,"<="&F66)<=1,1,(1-COUNTIFS(F:F,"<"&F66))/COUNTIFS(F:F,F66)))*50*E66*(1+VALUE(MID(H66,FIND(": ",H66)+2,FIND("/",H66)-FIND(":",H66)-2))-1)+50*E66*(1+VALUE(MID(H66,FIND(": ",H66)+2,FIND("/",H66)-FIND(":",H66)-2))-1)/VALUE(RIGHT(H66,1)),IF(F66<=VALUE(MID(H66,FIND(", ",H66)+2,IF(MID(H66,FIND(", ",H66)+2,1)="1",2,1))),(IF(COUNTIFS(F:F,"<="&F66)<=VALUE(MID(H66,FIND(", ",H66)+2,IF(MID(H66,FIND(", ",H66)+2,1)="1",2,1))),1,(VALUE(MID(H66,FIND(", ",H66)+2,IF(MID(H66,FIND(", ",H66)+2,1)="1",2,1)))-COUNTIFS(F:F,"<"&F66))/COUNTIFS(F:F,F66)))*(50*E66*(1+VALUE(MID(H66,FIND(": ",H66)+2,FIND("/",H66)-FIND(":",H66)-2))-1)/VALUE(RIGHT(H66,1))+50*E66)-(100*E66),-E66*100))) | H66: =IF(E66="","",OFFSET([1]PGA!$AL$1,MATCH(A66,[1]PGA!$E$1:$E$500,0)-1,0))
A67: Kurt Kitayama | B67: 0.71% | C67: 141 | D67: 71 | F67: =IFERROR(IF(A67="","",OFFSET(Results!$AJ$1,MATCH(A67,Results!$A:$A,0)-1,0)),"") -> 49 | G67: =IF(OR(E67="",F67=""),"",IF(F67=1,(IF(COUNTIFS(F:F,"<="&F67)<=1,1,(1-COUNTIFS(F:F,"<"&F67))/COUNTIFS(F:F,F67)))*50*E67*(1+VALUE(MID(H67,FIND(": ",H67)+2,FIND("/",H67)-FIND(":",H67)-2))-1)+50*E67*(1+VALUE(MID(H67,FIND(": ",H67)+2,FIND("/",H67)-FIND(":",H67)-2))-1)/VALUE(RIGHT(H67,1)),IF(F67<=VALUE(MID(H67,FIND(", ",H67)+2,IF(MID(H67,FIND(", ",H67)+2,1)="1",2,1))),(IF(COUNTIFS(F:F,"<="&F67)<=VALUE(MID(H67,FIND(", ",H67)+2,IF(MID(H67,FIND(", ",H67)+2,1)="1",2,1))),1,(VALUE(MID(H67,FIND(", ",H67)+2,IF(MID(H67,FIND(", ",H67)+2,1)="1",2,1)))-COUNTIFS(F:F,"<"&F67))/COUNTIFS(F:F,F67)))*(50*E67*(1+VALUE(MID(H67,FIND(": ",H67)+2,FIND("/",H67)-FIND(":",H67)-2))-1)/VALUE(RIGHT(H67,1))+50*E67)-(100*E67),-E67*100))) | H67: =IF(E67="","",OFFSET([1]PGA!$AL$1,MATCH(A67,[1]PGA!$E$1:$E$500,0)-1,0))
A68: Kyoung-Hoon Lee | B68: 0.28% | C68: 357 | D68: 226 | F68: =IFERROR(IF(A68="","",OFFSET(Results!$AJ$1,MATCH(A68,Results!$A:$A,0)-1,0)),"") -> 67 | G68: =IF(OR(E68="",F68=""),"",IF(F68=1,(IF(COUNTIFS(F:F,"<="&F68)<=1,1,(1-COUNTIFS(F:F,"<"&F68))/COUNTIFS(F:F,F68)))*50*E68*(1+VALUE(MID(H68,FIND(": ",H68)+2,FIND("/",H68)-FIND(":",H68)-2))-1)+50*E68*(1+VALUE(MID(H68,FIND(": ",H68)+2,FIND("/",H68)-FIND(":",H68)-2))-1)/VALUE(RIGHT(H68,1)),IF(F68<=VALUE(MID(H68,FIND(", ",H68)+2,IF(MID(H68,FIND(", ",H68)+2,1)="1",2,1))),(IF(COUNTIFS(F:F,"<="&F68)<=VALUE(MID(H68,FIND(", ",H68)+2,IF(MID(H68,FIND(", ",H68)+2,1)="1",2,1))),1,(VALUE(MID(H68,FIND(", ",H68)+2,IF(MID(H68,FIND(", ",H68)+2,1)="1",2,1)))-COUNTIFS(F:F,"<"&F68))/COUNTIFS(F:F,F68)))*(50*E68*(1+VALUE(MID(H68,FIND(": ",H68)+2,FIND("/",H68)-FIND(":",H68)-2))-1)/VALUE(RIGHT(H68,1))+50*E68)-(100*E68),-E68*100))) | H68: =IF(E68="","",OFFSET([1]PGA!$AL$1,MATCH(A68,[1]PGA!$E$1:$E$500,0)-1,0))
A69: Lanto Griffin | B69: 0.14% | C69: 714 | D69: 351 | F69: =IFERROR(IF(A69="","",OFFSET(Results!$AJ$1,MATCH(A69,Results!$A:$A,0)-1,0)),"") -> 78 | G69: =IF(OR(E69="",F69=""),"",IF(F69=1,(IF(COUNTIFS(F:F,"<="&F69)<=1,1,(1-COUNTIFS(F:F,"<"&F69))/COUNTIFS(F:F,F69)))*50*E69*(1+VALUE(MID(H69,FIND(": ",H69)+2,FIND("/",H69)-FIND(":",H69)-2))-1)+50*E69*(1+VALUE(MID(H69,FIND(": ",H69)+2,FIND("/",H69)-FIND(":",H69)-2))-1)/VALUE(RIGHT(H69,1)),IF(F69<=VALUE(MID(H69,FIND(", ",H69)+2,IF(MID(H69,FIND(", ",H69)+2,1)="1",2,1))),(IF(COUNTIFS(F:F,"<="&F69)<=VALUE(MID(H69,FIND(", ",H69)+2,IF(MID(H69,FIND(", ",H69)+2,1)="1",2,1))),1,(VALUE(MID(H69,FIND(", ",H69)+2,IF(MID(H69,FIND(", ",H69)+2,1)="1",2,1)))-COUNTIFS(F:F,"<"&F69))/COUNTIFS(F:F,F69)))*(50*E69*(1+VALUE(MID(H69,FIND(": ",H69)+2,FIND("/",H69)-FIND(":",H69)-2))-1)/VALUE(RIGHT(H69,1))+50*E69)-(100*E69),-E69*100))) | H69: =IF(E69="","",OFFSET([1]PGA!$AL$1,MATCH(A69,[1]PGA!$E$1:$E$500,0)-1,0))
A70: Lee Hodges | B70: 0.54% | C70: 185 | D70: 111 | F70: =IFERROR(IF(A70="","",OFFSET(Results!$AJ$1,MATCH(A70,Results!$A:$A,0)-1,0)),"") -> 57 | G70: =IF(OR(E70="",F70=""),"",IF(F70=1,(IF(COUNTIFS(F:F,"<="&F70)<=1,1,(1-COUNTIFS(F:F,"<"&F70))/COUNTIFS(F:F,F70)))*50*E70*(1+VALUE(MID(H70,FIND(": ",H70)+2,FIND("/",H70)-FIND(":",H70)-2))-1)+50*E70*(1+VALUE(MID(H70,FIND(": ",H70)+2,FIND("/",H70)-FIND(":",H70)-2))-1)/VALUE(RIGHT(H70,1)),IF(F70<=VALUE(MID(H70,FIND(", ",H70)+2,IF(MID(H70,FIND(", ",H70)+2,1)="1",2,1))),(IF(COUNTIFS(F:F,"<="&F70)<=VALUE(MID(H70,FIND(", ",H70)+2,IF(MID(H70,FIND(", ",H70)+2,1)="1",2,1))),1,(VALUE(MID(H70,FIND(", ",H70)+2,IF(MID(H70,FIND(", ",H70)+2,1)="1",2,1)))-COUNTIFS(F:F,"<"&F70))/COUNTIFS(F:F,F70)))*(50*E70*(1+VALUE(MID(H70,FIND(": ",H70)+2,FIND("/",H70)-FIND(":",H70)-2))-1)/VALUE(RIGHT(H70,1))+50*E70)-(100*E70),-E70*100))) | H70: =IF(E70="","",OFFSET([1]PGA!$AL$1,MATCH(A70,[1]PGA!$E$1:$E$500,0)-1,0))
A71: Lucas Glover | B71: 0.90% | C71: 111 | D71: 81 | F71: =IFERROR(IF(A71="","",OFFSET(Results!$AJ$1,MATCH(A71,Results!$A:$A,0)-1,0)),"") -> 88 | G71: =IF(OR(E71="",F71=""),"",IF(F71=1,(IF(COUNTIFS(F:F,"<="&F71)<=1,1,(1-COUNTIFS(F:F,"<"&F71))/COUNTIFS(F:F,F71)))*50*E71*(1+VALUE(MID(H71,FIND(": ",H71)+2,FIND("/",H71)-FIND(":",H71)-2))-1)+50*E71*(1+VALUE(MID(H71,FIND(": ",H71)+2,FIND("/",H71)-FIND(":",H71)-2))-1)/VALUE(RIGHT(H71,1)),IF(F71<=VALUE(MID(H71,FIND(", ",H71)+2,IF(MID(H71,FIND(", ",H71)+2,1)="1",2,1))),(IF(COUNTIFS(F:F,"<="&F71)<=VALUE(MID(H71,FIND(", ",H71)+2,IF(MID(H71,FIND(", ",H71)+2,1)="1",2,1))),1,(VALUE(MID(H71,FIND(", ",H71)+2,IF(MID(H71,FIND(", ",H71)+2,1)="1",2,1)))-COUNTIFS(F:F,"<"&F71))/COUNTIFS(F:F,F71)))*(50*E71*(1+VALUE(MID(H71,FIND(": ",H71)+2,FIND("/",H71)-FIND(":",H71)-2))-1)/VALUE(RIGHT(H71,1))+50*E71)-(100*E71),-E71*100))) | H71: =IF(E71="","",OFFSET([1]PGA!$AL$1,MATCH(A71,[1]PGA!$E$1:$E$500,0)-1,0))
A72: Luke Clanton | B72: 1.82% | C72: 55 | D72: 67 | E72: 0.30% | F72: =IFERROR(IF(A72="","",OFFSET(Results!$AJ$1,MATCH(A72,Results!$A:$A,0)-1,0)),"") -> 78 | G72: =IF(OR(E72="",F72=""),"",IF(F72=1,(IF(COUNTIFS(F:F,"<="&F72)<=1,1,(1-COUNTIFS(F:F,"<"&F72))/COUNTIFS(F:F,F72)))*50*E72*(1+VALUE(MID(H72,FIND(": ",H72)+2,FIND("/",H72)-FIND(":",H72)-2))-1)+50*E72*(1+VALUE(MID(H72,FIND(": ",H72)+2,FIND("/",H72)-FIND(":",H72)-2))-1)/VALUE(RIGHT(H72,1)),IF(F72<=VALUE(MID(H72,FIND(", ",H72)+2,IF(MID(H72,FIND(", ",H72)+2,1)="1",2,1))),(IF(COUNTIFS(F:F,"<="&F72)<=VALUE(MID(H72,FIND(", ",H72)+2,IF(MID(H72,FIND(", ",H72)+2,1)="1",2,1))),1,(VALUE(MID(H72,FIND(", ",H72)+2,IF(MID(H72,FIND(", ",H72)+2,1)="1",2,1)))-COUNTIFS(F:F,"<"&F72))/COUNTIFS(F:F,F72)))*(50*E72*(1+VALUE(MID(H72,FIND(": ",H72)+2,FIND("/",H72)-FIND(":",H72)-2))-1)/VALUE(RIGHT(H72,1))+50*E72)-(100*E72),-E72*100))) -> -0.3 | H72: =IF(E72="","",OFFSET([1]PGA!$AL$1,MATCH(A72,[1]PGA!$E$1:$E$500,0)-1,0)) -> Skybet: 60/1, 8pl, 1/5
A73: Luke List | B73: 0.13% | C73: 769 | D73: 501 | F73: =IFERROR(IF(A73="","",OFFSET(Results!$AJ$1,MATCH(A73,Results!$A:$A,0)-1,0)),"") -> 36 | G73: =IF(OR(E73="",F73=""),"",IF(F73=1,(IF(COUNTIFS(F:F,"<="&F73)<=1,1,(1-COUNTIFS(F:F,"<"&F73))/COUNTIFS(F:F,F73)))*50*E73*(1+VALUE(MID(H73,FIND(": ",H73)+2,FIND("/",H73)-FIND(":",H73)-2))-1)+50*E73*(1+VALUE(MID(H73,FIND(": ",H73)+2,FIND("/",H73)-FIND(":",H73)-2))-1)/VALUE(RIGHT(H73,1)),IF(F73<=VALUE(MID(H73,FIND(", ",H73)+2,IF(MID(H73,FIND(", ",H73)+2,1)="1",2,1))),(IF(COUNTIFS(F:F,"<="&F73)<=VALUE(MID(H73,FIND(", ",H73)+2,IF(MID(H73,FIND(", ",H73)+2,1)="1",2,1))),1,(VALUE(MID(H73,FIND(", ",H73)+2,IF(MID(H73,FIND(", ",H73)+2,1)="1",2,1)))-COUNTIFS(F:F,"<"&F73))/COUNTIFS(F:F,F73)))*(50*E73*(1+VALUE(MID(H73,FIND(": ",H73)+2,FIND("/",H73)-FIND(":",H73)-2))-1)/VALUE(RIGHT(H73,1))+50*E73)-(100*E73),-E73*100))) | H73: =IF(E73="","",OFFSET([1]PGA!$AL$1,MATCH(A73,[1]PGA!$E$1:$E$500,0)-1,0))
A74: Mac Meissner | B74: 0.32% | C74: 313 | D74: 201 | F74: =IFERROR(IF(A74="","",OFFSET(Results!$AJ$1,MATCH(A74,Results!$A:$A,0)-1,0)),"") -> 88 | G74: =IF(OR(E74="",F74=""),"",IF(F74=1,(IF(COUNTIFS(F:F,"<="&F74)<=1,1,(1-COUNTIFS(F:F,"<"&F74))/COUNTIFS(F:F,F74)))*50*E74*(1+VALUE(MID(H74,FIND(": ",H74)+2,FIND("/",H74)-FIND(":",H74)-2))-1)+50*E74*(1+VALUE(MID(H74,FIND(": ",H74)+2,FIND("/",H74)-FIND(":",H74)-2))-1)/VALUE(RIGHT(H74,1)),IF(F74<=VALUE(MID(H74,FIND(", ",H74)+2,IF(MID(H74,FIND(", ",H74)+2,1)="1",2,1))),(IF(COUNTIFS(F:F,"<="&F74)<=VALUE(MID(H74,FIND(", ",H74)+2,IF(MID(H74,FIND(", ",H74)+2,1)="1",2,1))),1,(VALUE(MID(H74,FIND(", ",H74)+2,IF(MID(H74,FIND(", ",H74)+2,1)="1",2,1)))-COUNTIFS(F:F,"<"&F74))/COUNTIFS(F:F,F74)))*(50*E74*(1+VALUE(MID(H74,FIND(": ",H74)+2,FIND("/",H74)-FIND(":",H74)-2))-1)/VALUE(RIGHT(H74,1))+50*E74)-(100*E74),-E74*100))) | H74: =IF(E74="","",OFFSET([1]PGA!$AL$1,MATCH(A74,[1]PGA!$E$1:$E$500,0)-1,0))
A75: Mackenzie Hughes | B75: 0.58% | C75: 172 | D75: 176 | F75: =IFERROR(IF(A75="","",OFFSET(Results!$AJ$1,MATCH(A75,Results!$A:$A,0)-1,0)),"") -> 36 | G75: =IF(OR(E75="",F75=""),"",IF(F75=1,(IF(COUNTIFS(F:F,"<="&F75)<=1,1,(1-COUNTIFS(F:F,"<"&F75))/COUNTIFS(F:F,F75)))*50*E75*(1+VALUE(MID(H75,FIND(": ",H75)+2,FIND("/",H75)-FIND(":",H75)-2))-1)+50*E75*(1+VALUE(MID(H75,FIND(": ",H75)+2,FIND("/",H75)-FIND(":",H75)-2))-1)/VALUE(RIGHT(H75,1)),IF(F75<=VALUE(MID(H75,FIND(", ",H75)+2,IF(MID(H75,FIND(", ",H75)+2,1)="1",2,1))),(IF(COUNTIFS(F:F,"<="&F75)<=VALUE(MID(H75,FIND(", ",H75)+2,IF(MID(H75,FIND(", ",H75)+2,1)="1",2,1))),1,(VALUE(MID(H75,FIND(", ",H75)+2,IF(MID(H75,FIND(", ",H75)+2,1)="1",2,1)))-COUNTIFS(F:F,"<"&F75))/COUNTIFS(F:F,F75)))*(50*E75*(1+VALUE(MID(H75,FIND(": ",H75)+2,FIND("/",H75)-FIND(":",H75)-2))-1)/VALUE(RIGHT(H75,1))+50*E75)-(100*E75),-E75*100))) | H75: =IF(E75="","",OFFSET([1]PGA!$AL$1,MATCH(A75,[1]PGA!$E$1:$E$500,0)-1,0))
A76: Mark Hubbard | B76: 0.37% | C76: 270 | D76: 201 | F76: =IFERROR(IF(A76="","",OFFSET(Results!$AJ$1,MATCH(A76,Results!$A:$A,0)-1,0)),"") -> 103 | G76: =IF(OR(E76="",F76=""),"",IF(F76=1,(IF(COUNTIFS(F:F,"<="&F76)<=1,1,(1-COUNTIFS(F:F,"<"&F76))/COUNTIFS(F:F,F76)))*50*E76*(1+VALUE(MID(H76,FIND(": ",H76)+2,FIND("/",H76)-FIND(":",H76)-2))-1)+50*E76*(1+VALUE(MID(H76,FIND(": ",H76)+2,FIND("/",H76)-FIND(":",H76)-2))-1)/VALUE(RIGHT(H76,1)),IF(F76<=VALUE(MID(H76,FIND(", ",H76)+2,IF(MID(H76,FIND(", ",H76)+2,1)="1",2,1))),(IF(COUNTIFS(F:F,"<="&F76)<=VALUE(MID(H76,FIND(", ",H76)+2,IF(MID(H76,FIND(", ",H76)+2,1)="1",2,1))),1,(VALUE(MID(H76,FIND(", ",H76)+2,IF(MID(H76,FIND(", ",H76)+2,1)="1",2,1)))-COUNTIFS(F:F,"<"&F76))/COUNTIFS(F:F,F76)))*(50*E76*(1+VALUE(MID(H76,FIND(": ",H76)+2,FIND("/",H76)-FIND(":",H76)-2))-1)/VALUE(RIGHT(H76,1))+50*E76)-(100*E76),-E76*100))) | H76: =IF(E76="","",OFFSET([1]PGA!$AL$1,MATCH(A76,[1]PGA!$E$1:$E$500,0)-1,0))
A77: Matt Fitzpatrick | B77: 1.44% | C77: 69 | D77: 61 | F77: =IFERROR(IF(A77="","",OFFSET(Results!$AJ$1,MATCH(A77,Results!$A:$A,0)-1,0)),"") -> 78 | G77: =IF(OR(E77="",F77=""),"",IF(F77=1,(IF(COUNTIFS(F:F,"<="&F77)<=1,1,(1-COUNTIFS(F:F,"<"&F77))/COUNTIFS(F:F,F77)))*50*E77*(1+VALUE(MID(H77,FIND(": ",H77)+2,FIND("/",H77)-FIND(":",H77)-2))-1)+50*E77*(1+VALUE(MID(H77,FIND(": ",H77)+2,FIND("/",H77)-FIND(":",H77)-2))-1)/VALUE(RIGHT(H77,1)),IF(F77<=VALUE(MID(H77,FIND(", ",H77)+2,IF(MID(H77,FIND(", ",H77)+2,1)="1",2,1))),(IF(COUNTIFS(F:F,"<="&F77)<=VALUE(MID(H77,FIND(", ",H77)+2,IF(MID(H77,FIND(", ",H77)+2,1)="1",2,1))),1,(VALUE(MID(H77,FIND(", ",H77)+2,IF(MID(H77,FIND(", ",H77)+2,1)="1",2,1)))-COUNTIFS(F:F,"<"&F77))/COUNTIFS(F:F,F77)))*(50*E77*(1+VALUE(MID(H77,FIND(": ",H77)+2,FIND("/",H77)-FIND(":",H77)-2))-1)/VALUE(RIGHT(H77,1))+50*E77)-(100*E77),-E77*100))) | H77: =IF(E77="","",OFFSET([1]PGA!$AL$1,MATCH(A77,[1]PGA!$E$1:$E$500,0)-1,0))
A78: Matt Kuchar | B78: 0.31% | C78: 323 | D78: 81 | F78: =IFERROR(IF(A78="","",OFFSET(Results!$AJ$1,MATCH(A78,Results!$A:$A,0)-1,0)),"") | G78: =IF(OR(E78="",F78=""),"",IF(F78=1,(IF(COUNTIFS(F:F,"<="&F78)<=1,1,(1-COUNTIFS(F:F,"<"&F78))/COUNTIFS(F:F,F78)))*50*E78*(1+VALUE(MID(H78,FIND(": ",H78)+2,FIND("/",H78)-FIND(":",H78)-2))-1)+50*E78*(1+VALUE(MID(H78,FIND(": ",H78)+2,FIND("/",H78)-FIND(":",H78)-2))-1)/VALUE(RIGHT(H78,1)),IF(F78<=VALUE(MID(H78,FIND(", ",H78)+2,IF(MID(H78,FIND(", ",H78)+2,1)="1",2,1))),(IF(COUNTIFS(F:F,"<="&F78)<=VALUE(MID(H78,FIND(", ",H78)+2,IF(MID(H78,FIND(", ",H78)+2,1)="1",2,1))),1,(VALUE(MID(H78,FIND(", ",H78)+2,IF(MID(H78,FIND(", ",H78)+2,1)="1",2,1)))-COUNTIFS(F:F,"<"&F78))/COUNTIFS(F:F,F78)))*(50*E78*(1+VALUE(MID(H78,FIND(": ",H78)+2,FIND("/",H78)-FIND(":",H78)-2))-1)/VALUE(RIGHT(H78,1))+50*E78)-(100*E78),-E78*100))) | H78: =IF(E78="","",OFFSET([1]PGA!$AL$1,MATCH(A78,[1]PGA!$E$1:$E$500,0)-1,0))
A79: Matt McCarty | B79: 0.12% | C79: 833 | D79: 301 | F79: =IFERROR(IF(A79="","",OFFSET(Results!$AJ$1,MATCH(A79,Results!$A:$A,0)-1,0)),"") -> 108 | G79: =IF(OR(E79="",F79=""),"",IF(F79=1,(IF(COUNTIFS(F:F,"<="&F79)<=1,1,(1-COUNTIFS(F:F,"<"&F79))/COUNTIFS(F:F,F79)))*50*E79*(1+VALUE(MID(H79,FIND(": ",H79)+2,FIND("/",H79)-FIND(":",H79)-2))-1)+50*E79*(1+VALUE(MID(H79,FIND(": ",H79)+2,FIND("/",H79)-FIND(":",H79)-2))-1)/VALUE(RIGHT(H79,1)),IF(F79<=VALUE(MID(H79,FIND(", ",H79)+2,IF(MID(H79,FIND(", ",H79)+2,1)="1",2,1))),(IF(COUNTIFS(F:F,"<="&F79)<=VALUE(MID(H79,FIND(", ",H79)+2,IF(MID(H79,FIND(", ",H79)+2,1)="1",2,1))),1,(VALUE(MID(H79,FIND(", ",H79)+2,IF(MID(H79,FIND(", ",H79)+2,1)="1",2,1)))-COUNTIFS(F:F,"<"&F79))/COUNTIFS(F:F,F79)))*(50*E79*(1+VALUE(MID(H79,FIND(": ",H79)+2,FIND("/",H79)-FIND(":",H79)-2))-1)/VALUE(RIGHT(H79,1))+50*E79)-(100*E79),-E79*100))) | H79: =IF(E79="","",OFFSET([1]PGA!$AL$1,MATCH(A79,[1]PGA!$E$1:$E$500,0)-1,0))
A80: Matt Wallace | B80: 0.22% | C80: 455 | D80: 176 | F80: =IFERROR(IF(A80="","",OFFSET(Results!$AJ$1,MATCH(A80,Results!$A:$A,0)-1,0)),"") -> 44 | G80: =IF(OR(E80="",F80=""),"",IF(F80=1,(IF(COUNTIFS(F:F,"<="&F80)<=1,1,(1-COUNTIFS(F:F,"<"&F80))/COUNTIFS(F:F,F80)))*50*E80*(1+VALUE(MID(H80,FIND(": ",H80)+2,FIND("/",H80)-FIND(":",H80)-2))-1)+50*E80*(1+VALUE(MID(H80,FIND(": ",H80)+2,FIND("/",H80)-FIND(":",H80)-2))-1)/VALUE(RIGHT(H80,1)),IF(F80<=VALUE(MID(H80,FIND(", ",H80)+2,IF(MID(H80,FIND(", ",H80)+2,1)="1",2,1))),(IF(COUNTIFS(F:F,"<="&F80)<=VALUE(MID(H80,FIND(", ",H80)+2,IF(MID(H80,FIND(", ",H80)+2,1)="1",2,1))),1,(VALUE(MID(H80,FIND(", ",H80)+2,IF(MID(H80,FIND(", ",H80)+2,1)="1",2,1)))-COUNTIFS(F:F,"<"&F80))/COUNTIFS(F:F,F80)))*(50*E80*(1+VALUE(MID(H80,FIND(": ",H80)+2,FIND("/",H80)-FIND(":",H80)-2))-1)/VALUE(RIGHT(H80,1))+50*E80)-(100*E80),-E80*100))) | H80: =IF(E80="","",OFFSET([1]PGA!$AL$1,MATCH(A80,[1]PGA!$E$1:$E$500,0)-1,0))
A81: Matthieu Pavon | B81: 0.08% | C81: 1250 | D81: 501 | F81: =IFERROR(IF(A81="","",OFFSET(Results!$AJ$1,MATCH(A81,Results!$A:$A,0)-1,0)),"") -> 63 | G81: =IF(OR(E81="",F81=""),"",IF(F81=1,(IF(COUNTIFS(F:F,"<="&F81)<=1,1,(1-COUNTIFS(F:F,"<"&F81))/COUNTIFS(F:F,F81)))*50*E81*(1+VALUE(MID(H81,FIND(": ",H81)+2,FIND("/",H81)-FIND(":",H81)-2))-1)+50*E81*(1+VALUE(MID(H81,FIND(": ",H81)+2,FIND("/",H81)-FIND(":",H81)-2))-1)/VALUE(RIGHT(H81,1)),IF(F81<=VALUE(MID(H81,FIND(", ",H81)+2,IF(MID(H81,FIND(", ",H81)+2,1)="1",2,1))),(IF(COUNTIFS(F:F,"<="&F81)<=VALUE(MID(H81,FIND(", ",H81)+2,IF(MID(H81,FIND(", ",H81)+2,1)="1",2,1))),1,(VALUE(MID(H81,FIND(", ",H81)+2,IF(MID(H81,FIND(", ",H81)+2,1)="1",2,1)))-COUNTIFS(F:F,"<"&F81))/COUNTIFS(F:F,F81)))*(50*E81*(1+VALUE(MID(H81,FIND(": ",H81)+2,FIND("/",H81)-FIND(":",H81)-2))-1)/VALUE(RIGHT(H81,1))+50*E81)-(100*E81),-E81*100))) | H81: =IF(E81="","",OFFSET([1]PGA!$AL$1,MATCH(A81,[1]PGA!$E$1:$E$500,0)-1,0))
A82: Matti Schmid | B82: 0.17% | C82: 588 | D82: 251 | F82: =IFERROR(IF(A82="","",OFFSET(Results!$AJ$1,MATCH(A82,Results!$A:$A,0)-1,0)),"") -> 115 | G82: =IF(OR(E82="",F82=""),"",IF(F82=1,(IF(COUNTIFS(F:F,"<="&F82)<=1,1,(1-COUNTIFS(F:F,"<"&F82))/COUNTIFS(F:F,F82)))*50*E82*(1+VALUE(MID(H82,FIND(": ",H82)+2,FIND("/",H82)-FIND(":",H82)-2))-1)+50*E82*(1+VALUE(MID(H82,FIND(": ",H82)+2,FIND("/",H82)-FIND(":",H82)-2))-1)/VALUE(RIGHT(H82,1)),IF(F82<=VALUE(MID(H82,FIND(", ",H82)+2,IF(MID(H82,FIND(", ",H82)+2,1)="1",2,1))),(IF(COUNTIFS(F:F,"<="&F82)<=VALUE(MID(H82,FIND(", ",H82)+2,IF(MID(H82,FIND(", ",H82)+2,1)="1",2,1))),1,(VALUE(MID(H82,FIND(", ",H82)+2,IF(MID(H82,FIND(", ",H82)+2,1)="1",2,1)))-COUNTIFS(F:F,"<"&F82))/COUNTIFS(F:F,F82)))*(50*E82*(1+VALUE(MID(H82,FIND(": ",H82)+2,FIND("/",H82)-FIND(":",H82)-2))-1)/VALUE(RIGHT(H82,1))+50*E82)-(100*E82),-E82*100))) | H82: =IF(E82="","",OFFSET([1]PGA!$AL$1,MATCH(A82,[1]PGA!$E$1:$E$500,0)-1,0))
A83: Maverick McNealy | B83: 1.01% | C83: 99 | D83: 61 | F83: =IFERROR(IF(A83="","",OFFSET(Results!$AJ$1,MATCH(A83,Results!$A:$A,0)-1,0)),"") -> 9 | G83: =IF(OR(E83="",F83=""),"",IF(F83=1,(IF(COUNTIFS(F:F,"<="&F83)<=1,1,(1-COUNTIFS(F:F,"<"&F83))/COUNTIFS(F:F,F83)))*50*E83*(1+VALUE(MID(H83,FIND(": ",H83)+2,FIND("/",H83)-FIND(":",H83)-2))-1)+50*E83*(1+VALUE(MID(H83,FIND(": ",H83)+2,FIND("/",H83)-FIND(":",H83)-2))-1)/VALUE(RIGHT(H83,1)),IF(F83<=VALUE(MID(H83,FIND(", ",H83)+2,IF(MID(H83,FIND(", ",H83)+2,1)="1",2,1))),(IF(COUNTIFS(F:F,"<="&F83)<=VALUE(MID(H83,FIND(", ",H83)+2,IF(MID(H83,FIND(", ",H83)+2,1)="1",2,1))),1,(VALUE(MID(H83,FIND(", ",H83)+2,IF(MID(H83,FIND(", ",H83)+2,1)="1",2,1)))-COUNTIFS(F:F,"<"&F83))/COUNTIFS(F:F,F83)))*(50*E83*(1+VALUE(MID(H83,FIND(": ",H83)+2,FIND("/",H83)-FIND(":",H83)-2))-1)/VALUE(RIGHT(H83,1))+50*E83)-(100*E83),-E83*100))) | H83: =IF(E83="","",OFFSET([1]PGA!$AL$1,MATCH(A83,[1]PGA!$E$1:$E$500,0)-1,0))
A84: Max Greyserman | B84: 0.95% | C84: 105 | D84: 71 | F84: =IFERROR(IF(A84="","",OFFSET(Results!$AJ$1,MATCH(A84,Results!$A:$A,0)-1,0)),"") -> 49 | G84: =IF(OR(E84="",F84=""),"",IF(F84=1,(IF(COUNTIFS(F:F,"<="&F84)<=1,1,(1-COUNTIFS(F:F,"<"&F84))/COUNTIFS(F:F,F84)))*50*E84*(1+VALUE(MID(H84,FIND(": ",H84)+2,FIND("/",H84)-FIND(":",H84)-2))-1)+50*E84*(1+VALUE(MID(H84,FIND(": ",H84)+2,FIND("/",H84)-FIND(":",H84)-2))-1)/VALUE(RIGHT(H84,1)),IF(F84<=VALUE(MID(H84,FIND(", ",H84)+2,IF(MID(H84,FIND(", ",H84)+2,1)="1",2,1))),(IF(COUNTIFS(F:F,"<="&F84)<=VALUE(MID(H84,FIND(", ",H84)+2,IF(MID(H84,FIND(", ",H84)+2,1)="1",2,1))),1,(VALUE(MID(H84,FIND(", ",H84)+2,IF(MID(H84,FIND(", ",H84)+2,1)="1",2,1)))-COUNTIFS(F:F,"<"&F84))/COUNTIFS(F:F,F84)))*(50*E84*(1+VALUE(MID(H84,FIND(": ",H84)+2,FIND("/",H84)-FIND(":",H84)-2))-1)/VALUE(RIGHT(H84,1))+50*E84)-(100*E84),-E84*100))) | H84: =IF(E84="","",OFFSET([1]PGA!$AL$1,MATCH(A84,[1]PGA!$E$1:$E$500,0)-1,0))
... A112: Sami Valimaki | B112: 0.09% | C112: 1111 | D112: 601 | F112: =IFERROR(IF(A112="","",OFFSET(Results!$AJ$1,MATCH(A112,Results!$A:$A,0)-1,0)),"") -> 103 | G112: =IF(OR(E112="",F112=""),"",IF(F112=1,(IF(COUNTIFS(F:F,"<="&F112)<=1,1,(1-COUNTIFS(F:F,"<"&F112))/COUNTIFS(F:F,F112)))*50*E112*(1+VALUE(MID(H112,FIND(": ",H112)+2,FIND("/",H112)-FIND(":",H112)-2))-1)+50*E112*(1+VALUE(MID(H112,FIND(": ",H112)+2,FIND("/",H112)-FIND(":",H112)-2))-1)/VALUE(RIGHT(H112,1)),IF(F112<=VALUE(MID(H112,FIND(", ",H112)+2,IF(MID(H112,FIND(", ",H112)+2,1)="1",2,1))),(IF(COUNTIFS(F:F,"<="&F112)<=VALUE(MID(H112,FIND(", ",H112)+2,IF(MID(H112,FIND(", ",H112)+2,1)="1",2,1))),1,(VALUE(MID(H112,FIND(", ",H112)+2,IF(MID(H112,FIND(", ",H112)+2,1)="1",2,1)))-COUNTIFS(F:F,"<"&F112))/COUNTIFS(F:F,F112)))*(50*E112*(1+VALUE(MID(H112,FIND(": ",H112)+2,FIND("/",H112)-FIND(":",H112)-2))-1)/VALUE(RIGHT(H112,1))+50*E112)-(100*E112),-E112*100))) | H112: =IF(E112="","",OFFSET([1]PGA!$AL$1,MATCH(A112,[1]PGA!$E$1:$E$500,0)-1,0))
A113: Scottie Scheffler | B113: 29.64% | C113: 3.4 | D113: 3.8 | E113: 4.50% | F113: =IFERROR(IF(A113="","",OFFSET(Results!$AJ$1,MATCH(A113,Results!$A:$A,0)-1,0)),"") -> 25 | G113: =IF(OR(E113="",F113=""),"",IF(F113=1,(IF(COUNTIFS(F:F,"<="&F113)<=1,1,(1-COUNTIFS(F:F,"<"&F113))/COUNTIFS(F:F,F113)))*50*E113*(1+VALUE(MID(H113,FIND(": ",H113)+2,FIND("/",H113)-FIND(":",H113)-2))-1)+50*E113*(1+VALUE(MID(H113,FIND(": ",H113)+2,FIND("/",H113)-FIND(":",H113)-2))-1)/VALUE(RIGHT(H113,1)),IF(F113<=VALUE(MID(H113,FIND(", ",H113)+2,IF(MID(H113,FIND(", ",H113)+2,1)="1",2,1))),(IF(COUNTIFS(F:F,"<="&F113)<=VALUE(MID(H113,FIND(", ",H113)+2,IF(MID(H113,FIND(", ",H113)+2,1)="1",2,1))),1,(VALUE(MID(H113,FIND(", ",H113)+2,IF(MID(H113,FIND(", ",H113)+2,1)="1",2,1)))-COUNTIFS(F:F,"<"&F113))/COUNTIFS(F:F,F113)))*(50*E113*(1+VALUE(MID(H113,FIND(": ",H113)+2,FIND("/",H113)-FIND(":",H113)-2))-1)/VALUE(RIGHT(H113,1))+50*E113)-(100*E113),-E113*100))) -> -4.5 | H113: =IF(E113="","",OFFSET([1]PGA!$AL$1,MATCH(A113,[1]PGA!$E$1:$E$500,0)-1,0)) -> Ladbrokes: 2.5/1, 10pl, 1/5
A114: Seamus Power | B114: 0.84% | C114: 119 | D114: 126 | F114: =IFERROR(IF(A114="","",OFFSET(Results!$AJ$1,MATCH(A114,Results!$A:$A,0)-1,0)),"") -> 36 | G114: =IF(OR(E114="",F114=""),"",IF(F114=1,(IF(COUNTIFS(F:F,"<="&F114)<=1,1,(1-COUNTIFS(F:F,"<"&F114))/COUNTIFS(F:F,F114)))*50*E114*(1+VALUE(MID(H114,FIND(": ",H114)+2,FIND("/",H114)-FIND(":",H114)-2))-1)+50*E114*(1+VALUE(MID(H114,FIND(": ",H114)+2,FIND("/",H114)-FIND(":",H114)-2))-1)/VALUE(RIGHT(H114,1)),IF(F114<=VALUE(MID(H114,FIND(", ",H114)+2,IF(MID(H114,FIND(", ",H114)+2,1)="1",2,1))),(IF(COUNTIFS(F:F,"<="&F114)<=VALUE(MID(H114,FIND(", ",H114)+2,IF(MID(H114,FIND(", ",H114)+2,1)="1",2,1))),1,(VALUE(MID(H114,FIND(", ",H114)+2,IF(MID(H114,FIND(", ",H114)+2,1)="1",2,1)))-COUNTIFS(F:F,"<"&F114))/COUNTIFS(F:F,F114)))*(50*E114*(1+VALUE(MID(H114,FIND(": ",H114)+2,FIND("/",H114)-FIND(":",H114)-2))-1)/VALUE(RIGHT(H114,1))+50*E114)-(100*E114),-E114*100))) | H114: =IF(E114="","",OFFSET([1]PGA!$AL$1,MATCH(A114,[1]PGA!$E$1:$E$500,0)-1,0))
A115: Sepp Straka | B115: 1.82% | C115: 55 | D115: 41 | F115: =IFERROR(IF(A115="","",OFFSET(Results!$AJ$1,MATCH(A115,Results!$A:$A,0)-1,0)),"") -> 15 | G115: =IF(OR(E115="",F115=""),"",IF(F115=1,(IF(COUNTIFS(F:F,"<="&F115)<=1,1,(1-COUNTIFS(F:F,"<"&F115))/COUNTIFS(F:F,F115)))*50*E115*(1+VALUE(MID(H115,FIND(": ",H115)+2,FIND("/",H115)-FIND(":",H115)-2))-1)+50*E115*(1+VALUE(MID(H115,FIND(": ",H115)+2,FIND("/",H115)-FIND(":",H115)-2))-1)/VALUE(RIGHT(H115,1)),IF(F115<=VALUE(MID(H115,FIND(", ",H115)+2,IF(MID(H115,FIND(", ",H115)+2,1)="1",2,1))),(IF(COUNTIFS(F:F,"<="&F115)<=VALUE(MID(H115,FIND(", ",H115)+2,IF(MID(H115,FIND(", ",H115)+2,1)="1",2,1))),1,(VALUE(MID(H115,FIND(", ",H115)+2,IF(MID(H115,FIND(", ",H115)+2,1)="1",2,1)))-COUNTIFS(F:F,"<"&F115))/COUNTIFS(F:F,F115)))*(50*E115*(1+VALUE(MID(H115,FIND(": ",H115)+2,FIND("/",H115)-FIND(":",H115)-2))-1)/VALUE(RIGHT(H115,1))+50*E115)-(100*E115),-E115*100))) | H115: =IF(E115="","",OFFSET([1]PGA!$AL$1,MATCH(A115,[1]PGA!$E$1:$E$500,0)-1,0))
A116: Si Woo Kim | B116: 1.30% | C116: 77 | D116: 61 | F116: =IFERROR(IF(A116="","",OFFSET(Results!$AJ$1,MATCH(A116,Results!$A:$A,0)-1,0)),"") -> 21 | G116: =IF(OR(E116="",F116=""),"",IF(F116=1,(IF(COUNTIFS(F:F,"<="&F116)<=1,1,(1-COUNTIFS(F:F,"<"&F116))/COUNTIFS(F:F,F116)))*50*E116*(1+VALUE(MID(H116,FIND(": ",H116)+2,FIND("/",H116)-FIND(":",H116)-2))-1)+50*E116*(1+VALUE(MID(H116,FIND(": ",H116)+2,FIND("/",H116)-FIND(":",H116)-2))-1)/VALUE(RIGHT(H116,1)),IF(F116<=VALUE(MID(H116,FIND(", ",H116)+2,IF(MID(H116,FIND(", ",H116)+2,1)="1",2,1))),(IF(COUNTIFS(F:F,"<="&F116)<=VALUE(MID(H116,FIND(", ",H116)+2,IF(MID(H116,FIND(", ",H116)+2,1)="1",2,1))),1,(VALUE(MID(H116,FIND(", ",H116)+2,IF(MID(H116,FIND(", ",H116)+2,1)="1",2,1)))-COUNTIFS(F:F,"<"&F116))/COUNTIFS(F:F,F116)))*(50*E116*(1+VALUE(MID(H116,FIND(": ",H116)+2,FIND("/",H116)-FIND(":",H116)-2))-1)/VALUE(RIGHT(H116,1))+50*E116)-(100*E116),-E116*100))) | H116: =IF(E116="","",OFFSET([1]PGA!$AL$1,MATCH(A116,[1]PGA!$E$1:$E$500,0)-1,0))
A117: Sungjae Im | B117: 2.94% | C117: 34 | D117: 26 | F117: =IFERROR(IF(A117="","",OFFSET(Results!$AJ$1,MATCH(A117,Results!$A:$A,0)-1,0)),"") -> 57 | G117: =IF(OR(E117="",F117=""),"",IF(F117=1,(IF(COUNTIFS(F:F,"<="&F117)<=1,1,(1-COUNTIFS(F:F,"<"&F117))/COUNTIFS(F:F,F117)))*50*E117*(1+VALUE(MID(H117,FIND(": ",H117)+2,FIND("/",H117)-FIND(":",H117)-2))-1)+50*E117*(1+VALUE(MID(H117,FIND(": ",H117)+2,FIND("/",H117)-FIND(":",H117)-2))-1)/VALUE(RIGHT(H117,1)),IF(F117<=VALUE(MID(H117,FIND(", ",H117)+2,IF(MID(H117,FIND(", ",H117)+2,1)="1",2,1))),(IF(COUNTIFS(F:F,"<="&F117)<=VALUE(MID(H117,FIND(", ",H117)+2,IF(MID(H117,FIND(", ",H117)+2,1)="1",2,1))),1,(VALUE(MID(H117,FIND(", ",H117)+2,IF(MID(H117,FIND(", ",H117)+2,1)="1",2,1)))-COUNTIFS(F:F,"<"&F117))/COUNTIFS(F:F,F117)))*(50*E117*(1+VALUE(MID(H117,FIND(": ",H117)+2,FIND("/",H117)-FIND(":",H117)-2))-1)/VALUE(RIGHT(H117,1))+50*E117)-(100*E117),-E117*100))) | H117: =IF(E117="","",OFFSET([1]PGA!$AL$1,MATCH(A117,[1]PGA!$E$1:$E$500,0)-1,0))
A118: Taylor Montgomery | B118: 0.05% | C118: 2000 | D118: 1001 | F118: =IFERROR(IF(A118="","",OFFSET(Results!$AJ$1,MATCH(A118,Results!$A:$A,0)-1,0)),"") -> 69 | G118: =IF(OR(E118="",F118=""),"",IF(F118=1,(IF(COUNTIFS(F:F,"<="&F118)<=1,1,(1-COUNTIFS(F:F,"<"&F118))/COUNTIFS(F:F,F118)))*50*E118*(1+VALUE(MID(H118,FIND(": ",H118)+2,FIND("/",H118)-FIND(":",H118)-2))-1)+50*E118*(1+VALUE(MID(H118,FIND(": ",H118)+2,FIND("/",H118)-FIND(":",H118)-2))-1)/VALUE(RIGHT(H118,1)),IF(F118<=VALUE(MID(H118,FIND(", ",H118)+2,IF(MID(H118,FIND(", ",H118)+2,1)="1",2,1))),(IF(COUNTIFS(F:F,"<="&F118)<=VALUE(MID(H118,FIND(", ",H118)+2,IF(MID(H118,FIND(", ",H118)+2,1)="1",2,1))),1,(VALUE(MID(H118,FIND(", ",H118)+2,IF(MID(H118,FIND(", ",H118)+2,1)="1",2,1)))-COUNTIFS(F:F,"<"&F118))/COUNTIFS(F:F,F118)))*(50*E118*(1+VALUE(MID(H118,FIND(": ",H118)+2,FIND("/",H118)-FIND(":",H118)-2))-1)/VALUE(RIGHT(H118,1))+50*E118)-(100*E118),-E118*100))) | H118: =IF(E118="","",OFFSET([1]PGA!$AL$1,MATCH(A118,[1]PGA!$E$1:$E$500,0)-1,0))
A119: Taylor Moore | B119: 0.54% | C119: 185 | D119: 126 | F119: =IFERROR(IF(A119="","",OFFSET(Results!$AJ$1,MATCH(A119,Results!$A:$A,0)-1,0)),"") -> 9 | G119: =IF(OR(E119="",F119=""),"",IF(F119=1,(IF(COUNTIFS(F:F,"<="&F119)<=1,1,(1-COUNTIFS(F:F,"<"&F119))/COUNTIFS(F:F,F119)))*50*E119*(1+VALUE(MID(H119,FIND(": ",H119)+2,FIND("/",H119)-FIND(":",H119)-2))-1)+50*E119*(1+VALUE(MID(H119,FIND(": ",H119)+2,FIND("/",H119)-FIND(":",H119)-2))-1)/VALUE(RIGHT(H119,1)),IF(F119<=VALUE(MID(H119,FIND(", ",H119)+2,IF(MID(H119,FIND(", ",H119)+2,1)="1",2,1))),(IF(COUNTIFS(F:F,"<="&F119)<=VALUE(MID(H119,FIND(", ",H119)+2,IF(MID(H119,FIND(", ",H119)+2,1)="1",2,1))),1,(VALUE(MID(H119,FIND(", ",H119)+2,IF(MID(H119,FIND(", ",H119)+2,1)="1",2,1)))-COUNTIFS(F:F,"<"&F119))/COUNTIFS(F:F,F119)))*(50*E119*(1+VALUE(MID(H119,FIND(": ",H119)+2,FIND("/",H119)-FIND(":",H119)-2))-1)/VALUE(RIGHT(H119,1))+50*E119)-(100*E119),-E119*100))) | H119: =IF(E119="","",OFFSET([1]PGA!$AL$1,MATCH(A119,[1]PGA!$E$1:$E$500,0)-1,0))
A120: Thomas Detry | B120: 0.76% | C120: 132 | D120: 111 | F120: =IFERROR(IF(A120="","",OFFSET(Results!$AJ$1,MATCH(A120,Results!$A:$A,0)-1,0)),"") -> 1 | G120: =IF(OR(E120="",F120=""),"",IF(F120=1,(IF(COUNTIFS(F:F,"<="&F120)<=1,1,(1-COUNTIFS(F:F,"<"&F120))/COUNTIFS(F:F,F120)))*50*E120*(1+VALUE(MID(H120,FIND(": ",H120)+2,FIND("/",H120)-FIND(":",H120)-2))-1)+50*E120*(1+VALUE(MID(H120,FIND(": ",H120)+2,FIND("/",H120)-FIND(":",H120)-2))-1)/VALUE(RIGHT(H120,1)),IF(F120<=VALUE(MID(H120,FIND(", ",H120)+2,IF(MID(H120,FIND(", ",H120)+2,1)="1",2,1))),(IF(COUNTIFS(F:F,"<="&F120)<=VALUE(MID(H120,FIND(", ",H120)+2,IF(MID(H120,FIND(", ",H120)+2,1)="1",2,1))),1,(VALUE(MID(H120,FIND(", ",H120)+2,IF(MID(H120,FIND(", ",H120)+2,1)="1",2,1)))-COUNTIFS(F:F,"<"&F120))/COUNTIFS(F:F,F120)))*(50*E120*(1+VALUE(MID(H120,FIND(": ",H120)+2,FIND("/",H120)-FIND(":",H120)-2))-1)/VALUE(RIGHT(H120,1))+50*E120)-(100*E120),-E120*100))) | H120: =IF(E120="","",OFFSET([1]PGA!$AL$1,MATCH(A120,[1]PGA!$E$1:$E$500,0)-1,0))
A121: Thriston Lawrence | B121: 0.12% | C121: 833 | D121: 251 | F121: =IFERROR(IF(A121="","",OFFSET(Results!$AJ$1,MATCH(A121,Results!$A:$A,0)-1,0)),"") -> 128 | G121: =IF(OR(E121="",F121=""),"",IF(F121=1,(IF(COUNTIFS(F:F,"<="&F121)<=1,1,(1-COUNTIFS(F:F,"<"&F121))/COUNTIFS(F:F,F121)))*50*E121*(1+VALUE(MID(H121,FIND(": ",H121)+2,FIND("/",H121)-FIND(":",H121)-2))-1)+50*E121*(1+VALUE(MID(H121,FIND(": ",H121)+2,FIND("/",H121)-FIND(":",H121)-2))-1)/VALUE(RIGHT(H121,1)),IF(F121<=VALUE(MID(H121,FIND(", ",H121)+2,IF(MID(H121,FIND(", ",H121)+2,1)="1",2,1))),(IF(COUNTIFS(F:F,"<="&F121)<=VALUE(MID(H121,FIND(", ",H121)+2,IF(MID(H121,FIND(", ",H121)+2,1)="1",2,1))),1,(VALUE(MID(H121,FIND(", ",H121)+2,IF(MID(H121,FIND(", ",H121)+2,1)="1",2,1)))-COUNTIFS(F:F,"<"&F121))/COUNTIFS(F:F,F121)))*(50*E121*(1+VALUE(MID(H121,FIND(": ",H121)+2,FIND("/",H121)-FIND(":",H121)-2))-1)/VALUE(RIGHT(H121,1))+50*E121)-(100*E121),-E121*100))) | H121: =IF(E121="","",OFFSET([1]PGA!$AL$1,MATCH(A121,[1]PGA!$E$1:$E$500,0)-1,0))
A122: Tom Hoge | B122: 1.31% | C122: 76 | D122: 81 | E122: 0.10% | F122: =IFERROR(IF(A122="","",OFFSET(Results!$AJ$1,MATCH(A122,Results!$A:$A,0)-1,0)),"") -> 128 | G122: =IF(OR(E122="",F122=""),"",IF(F122=1,(IF(COUNTIFS(F:F,"<="&F122)<=1,1,(1-COUNTIFS(F:F,"<"&F122))/COUNTIFS(F:F,F122)))*50*E122*(1+VALUE(MID(H122,FIND(": ",H122)+2,FIND("/",H122)-FIND(":",H122)-2))-1)+50*E122*(1+VALUE(MID(H122,FIND(": ",H122)+2,FIND("/",H122)-FIND(":",H122)-2))-1)/VALUE(RIGHT(H122,1)),IF(F122<=VALUE(MID(H122,FIND(", ",H122)+2,IF(MID(H122,FIND(", ",H122)+2,1)="1",2,1))),(IF(COUNTIFS(F:F,"<="&F122)<=VALUE(MID(H122,FIND(", ",H122)+2,IF(MID(H122,FIND(", ",H122)+2,1)="1",2,1))),1,(VALUE(MID(H122,FIND(", ",H122)+2,IF(MID(H122,FIND(", ",H122)+2,1)="1",2,1)))-COUNTIFS(F:F,"<"&F122))/COUNTIFS(F:F,F122)))*(50*E122*(1+VALUE(MID(H122,FIND(": ",H122)+2,FIND("/",H122)-FIND(":",H122)-2))-1)/VALUE(RIGHT(H122,1))+50*E122)-(100*E122),-E122*100))) -> -0.1 | H122: =IF(E122="","",OFFSET([1]PGA!$AL$1,MATCH(A122,[1]PGA!$E$1:$E$500,0)-1,0)) -> Paddy Power: 80/1, 8pl, 1/5
A123: Tom Kim | B123: 1.30% | C123: 77 | D123: 31 | F123: =IFERROR(IF(A123="","",OFFSET(Results!$AJ$1,MATCH(A123,Results!$A:$A,0)-1,0)),"") -> 44 | G123: =IF(OR(E123="",F123=""),"",IF(F123=1,(IF(COUNTIFS(F:F,"<="&F123)<=1,1,(1-COUNTIFS(F:F,"<"&F123))/COUNTIFS(F:F,F123)))*50*E123*(1+VALUE(MID(H123,FIND(": ",H123)+2,FIND("/",H123)-FIND(":",H123)-2))-1)+50*E123*(1+VALUE(MID(H123,FIND(": ",H123)+2,FIND("/",H123)-FIND(":",H123)-2))-1)/VALUE(RIGHT(H123,1)),IF(F123<=VALUE(MID(H123,FIND(", ",H123)+2,IF(MID(H123,FIND(", ",H123)+2,1)="1",2,1))),(IF(COUNTIFS(F:F,"<="&F123)<=VALUE(MID(H123,FIND(", ",H123)+2,IF(MID(H123,FIND(", ",H123)+2,1)="1",2,1))),1,(VALUE(MID(H123,FIND(", ",H123)+2,IF(MID(H123,FIND(", ",H123)+2,1)="1",2,1)))-COUNTIFS(F:F,"<"&F123))/COUNTIFS(F:F,F123)))*(50*E123*(1+VALUE(MID(H123,FIND(": ",H123)+2,FIND("/",H123)-FIND(":",H123)-2))-1)/VALUE(RIGHT(H123,1))+50*E123)-(100*E123),-E123*100))) | H123: =IF(E123="","",OFFSET([1]PGA!$AL$1,MATCH(A123,[1]PGA!$E$1:$E$500,0)-1,0))
A124: Trey Mullinax | B124: 0.08% | C124: 1250 | D124: 501 | F124: =IFERROR(IF(A124="","",OFFSET(Results!$AJ$1,MATCH(A124,Results!$A:$A,0)-1,0)),"") -> 32 | G124: =IF(OR(E124="",F124=""),"",IF(F124=1,(IF(COUNTIFS(F:F,"<="&F124)<=1,1,(1-COUNTIFS(F:F,"<"&F124))/COUNTIFS(F:F,F124)))*50*E124*(1+VALUE(MID(H124,FIND(": ",H124)+2,FIND("/",H124)-FIND(":",H124)-2))-1)+50*E124*(1+VALUE(MID(H124,FIND(": ",H124)+2,FIND("/",H124)-FIND(":",H124)-2))-1)/VALUE(RIGHT(H124,1)),IF(F124<=VALUE(MID(H124,FIND(", ",H124)+2,IF(MID(H124,FIND(", ",H124)+2,1)="1",2,1))),(IF(COUNTIFS(F:F,"<="&F124)<=VALUE(MID(H124,FIND(", ",H124)+2,IF(MID(H124,FIND(", ",H124)+2,1)="1",2,1))),1,(VALUE(MID(H124,FIND(", ",H124)+2,IF(MID(H124,FIND(", ",H124)+2,1)="1",2,1)))-COUNTIFS(F:F,"<"&F124))/COUNTIFS(F:F,F124)))*(50*E124*(1+VALUE(MID(H124,FIND(": ",H124)+2,FIND("/",H124)-FIND(":",H124)-2))-1)/VALUE(RIGHT(H124,1))+50*E124)-(100*E124),-E124*100))) | H124: =IF(E124="","",OFFSET([1]PGA!$AL$1,MATCH(A124,[1]PGA!$E$1:$E$500,0)-1,0))
A125: Victor Perez | B125: 0.39% | C125: 256 | D125: 201 | F125: =IFERROR(IF(A125="","",OFFSET(Results!$AJ$1,MATCH(A125,Results!$A:$A,0)-1,0)),"") -> 108 | G125: =IF(OR(E125="",F125=""),"",IF(F125=1,(IF(COUNTIFS(F:F,"<="&F125)<=1,1,(1-COUNTIFS(F:F,"<"&F125))/COUNTIFS(F:F,F125)))*50*E125*(1+VALUE(MID(H125,FIND(": ",H125)+2,FIND("/",H125)-FIND(":",H125)-2))-1)+50*E125*(1+VALUE(MID(H125,FIND(": ",H125)+2,FIND("/",H125)-FIND(":",H125)-2))-1)/VALUE(RIGHT(H125,1)),IF(F125<=VALUE(MID(H125,FIND(", ",H125)+2,IF(MID(H125,FIND(", ",H125)+2,1)="1",2,1))),(IF(COUNTIFS(F:F,"<="&F125)<=VALUE(MID(H125,FIND(", ",H125)+2,IF(MID(H125,FIND(", ",H125)+2,1)="1",2,1))),1,(VALUE(MID(H125,FIND(", ",H125)+2,IF(MID(H125,FIND(", ",H125)+2,1)="1",2,1)))-COUNTIFS(F:F,"<"&F125))/COUNTIFS(F:F,F125)))*(50*E125*(1+VALUE(MID(H125,FIND(": ",H125)+2,FIND("/",H125)-FIND(":",H125)-2))-1)/VALUE(RIGHT(H125,1))+50*E125)-(100*E125),-E125*100))) | H125: =IF(E125="","",OFFSET([1]PGA!$AL$1,MATCH(A125,[1]PGA!$E$1:$E$500,0)-1,0))
A126: Vince Whaley | B126: 0.16% | C126: 625 | D126: 351 | F126: =IFERROR(IF(A126="","",OFFSET(Results!$AJ$1,MATCH(A126,Results!$A:$A,0)-1,0)),"") -> 115 | G126: =IF(OR(E126="",F126=""),"",IF(F126=1,(IF(COUNTIFS(F:F,"<="&F126)<=1,1,(1-COUNTIFS(F:F,"<"&F126))/COUNTIFS(F:F,F126)))*50*E126*(1+VALUE(MID(H126,FIND(": ",H126)+2,FIND("/",H126)-FIND(":",H126)-2))-1)+50*E126*(1+VALUE(MID(H126,FIND(": ",H126)+2,FIND("/",H126)-FIND(":",H126)-2))-1)/VALUE(RIGHT(H126,1)),IF(F126<=VALUE(MID(H126,FIND(", ",H126)+2,IF(MID(H126,FIND(", ",H126)+2,1)="1",2,1))),(IF(COUNTIFS(F:F,"<="&F126)<=VALUE(MID(H126,FIND(", ",H126)+2,IF(MID(H126,FIND(", ",H126)+2,1)="1",2,1))),1,(VALUE(MID(H126,FIND(", ",H126)+2,IF(MID(H126,FIND(", ",H126)+2,1)="1",2,1)))-COUNTIFS(F:F,"<"&F126))/COUNTIFS(F:F,F126)))*(50*E126*(1+VALUE(MID(H126,FIND(": ",H126)+2,FIND("/",H126)-FIND(":",H126)-2))-1)/VALUE(RIGHT(H126,1))+50*E126)-(100*E126),-E126*100))) | H126: =IF(E126="","",OFFSET([1]PGA!$AL$1,MATCH(A126,[1]PGA!$E$1:$E$500,0)-1,0))
A127: Vincent Norrman | B127: 0.15% | C127: 667 | D127: 351 | F127: =IFERROR(IF(A127="","",OFFSET(Results!$AJ$1,MATCH(A127,Results!$A:$A,0)-1,0)),"") -> 71 | G127: =IF(OR(E127="",F127=""),"",IF(F127=1,(IF(COUNTIFS(F:F,"<="&F127)<=1,1,(1-COUNTIFS(F:F,"<"&F127))/COUNTIFS(F:F,F127)))*50*E127*(1+VALUE(MID(H127,FIND(": ",H127)+2,FIND("/",H127)-FIND(":",H127)-2))-1)+50*E127*(1+VALUE(MID(H127,FIND(": ",H127)+2,FIND("/",H127)-FIND(":",H127)-2))-1)/VALUE(RIGHT(H127,1)),IF(F127<=VALUE(MID(H127,FIND(", ",H127)+2,IF(MID(H127,FIND(", ",H127)+2,1)="1",2,1))),(IF(COUNTIFS(F:F,"<="&F127)<=VALUE(MID(H127,FIND(", ",H127)+2,IF(MID(H127,FIND(", ",H127)+2,1)="1",2,1))),1,(VALUE(MID(H127,FIND(", ",H127)+2,IF(MID(H127,FIND(", ",H127)+2,1)="1",2,1)))-COUNTIFS(F:F,"<"&F127))/COUNTIFS(F:F,F127)))*(50*E127*(1+VALUE(MID(H127,FIND(": ",H127)+2,FIND("/",H127)-FIND(":",H127)-2))-1)/VALUE(RIGHT(H127,1))+50*E127)-(100*E127),-E127*100))) | H127: =IF(E127="","",OFFSET([1]PGA!$AL$1,MATCH(A127,[1]PGA!$E$1:$E$500,0)-1,0))
A128: Webb Simpson | B128: 0.19% | C128: 526 | D128: 251 | F128: =IFERROR(IF(A128="","",OFFSET(Results!$AJ$1,MATCH(A128,Results!$A:$A,0)-1,0)),"") -> 78 | G128: =IF(OR(E128="",F128=""),"",IF(F128=1,(IF(COUNTIFS(F:F,"<="&F128)<=1,1,(1-COUNTIFS(F:F,"<"&F128))/COUNTIFS(F:F,F128)))*50*E128*(1+VALUE(MID(H128,FIND(": ",H128)+2,FIND("/",H128)-FIND(":",H128)-2))-1)+50*E128*(1+VALUE(MID(H128,FIND(": ",H128)+2,FIND("/",H128)-FIND(":",H128)-2))-1)/VALUE(RIGHT(H128,1)),IF(F128<=VALUE(MID(H128,FIND(", ",H128)+2,IF(MID(H128,FIND(", ",H128)+2,1)="1",2,1))),(IF(COUNTIFS(F:F,"<="&F128)<=VALUE(MID(H128,FIND(", ",H128)+2,IF(MID(H128,FIND(", ",H128)+2,1)="1",2,1))),1,(VALUE(MID(H128,FIND(", ",H128)+2,IF(MID(H128,FIND(", ",H128)+2,1)="1",2,1)))-COUNTIFS(F:F,"<"&F128))/COUNTIFS(F:F,F128)))*(50*E128*(1+VALUE(MID(H128,FIND(": ",H128)+2,FIND("/",H128)-FIND(":",H128)-2))-1)/VALUE(RIGHT(H128,1))+50*E128)-(100*E128),-E128*100))) | H128: =IF(E128="","",OFFSET([1]PGA!$AL$1,MATCH(A128,[1]PGA!$E$1:$E$500,0)-1,0))
A129: Will Gordon | B129: 0.18% | C129: 556 | D129: 401 | F129: =IFERROR(IF(A129="","",OFFSET(Results!$AJ$1,MATCH(A129,Results!$A:$A,0)-1,0)),"") -> 69 | G129: =IF(OR(E129="",F129=""),"",IF(F129=1,(IF(COUNTIFS(F:F,"<="&F129)<=1,1,(1-COUNTIFS(F:F,"<"&F129))/COUNTIFS(F:F,F129)))*50*E129*(1+VALUE(MID(H129,FIND(": ",H129)+2,FIND("/",H129)-FIND(":",H129)-2))-1)+50*E129*(1+VALUE(MID(H129,FIND(": ",H129)+2,FIND("/",H129)-FIND(":",H129)-2))-1)/VALUE(RIGHT(H129,1)),IF(F129<=VALUE(MID(H129,FIND(", ",H129)+2,IF(MID(H129,FIND(", ",H129)+2,1)="1",2,1))),(IF(COUNTIFS(F:F,"<="&F129)<=VALUE(MID(H129,FIND(", ",H129)+2,IF(MID(H129,FIND(", ",H129)+2,1)="1",2,1))),1,(VALUE(MID(H129,FIND(", ",H129)+2,IF(MID(H129,FIND(", ",H129)+2,1)="1",2,1)))-COUNTIFS(F:F,"<"&F129))/COUNTIFS(F:F,F129)))*(50*E129*(1+VALUE(MID(H129,FIND(": ",H129)+2,FIND("/",H129)-FIND(":",H129)-2))-1)/VALUE(RIGHT(H129,1))+50*E129)-(100*E129),-E129*100))) | H129: =IF(E129="","",OFFSET([1]PGA!$AL$1,MATCH(A129,[1]PGA!$E$1:$E$500,0)-1,0))
A130: Wyndham Clark | B130: 1.26% | C130: 79 | D130: 81 | F130: =IFERROR(IF(A130="","",OFFSET(Results!$AJ$1,MATCH(A130,Results!$A:$A,0)-1,0)),"") -> 16 | G130: =IF(OR(E130="",F130=""),"",IF(F130=1,(IF(COUNTIFS(F:F,"<="&F130)<=1,1,(1-COUNTIFS(F:F,"<"&F130))/COUNTIFS(F:F,F130)))*50*E130*(1+VALUE(MID(H130,FIND(": ",H130)+2,FIND("/",H130)-FIND(":",H130)-2))-1)+50*E130*(1+VALUE(MID(H130,FIND(": ",H130)+2,FIND("/",H130)-FIND(":",H130)-2))-1)/VALUE(RIGHT(H130,1)),IF(F130<=VALUE(MID(H130,FIND(", ",H130)+2,IF(MID(H130,FIND(", ",H130)+2,1)="1",2,1))),(IF(COUNTIFS(F:F,"<="&F130)<=VALUE(MID(H130,FIND(", ",H130)+2,IF(MID(H130,FIND(", ",H130)+2,1)="1",2,1))),1,(VALUE(MID(H130,FIND(", ",H130)+2,IF(MID(H130,FIND(", ",H130)+2,1)="1",2,1)))-COUNTIFS(F:F,"<"&F130))/COUNTIFS(F:F,F130)))*(50*E130*(1+VALUE(MID(H130,FIND(": ",H130)+2,FIND("/",H130)-FIND(":",H130)-2))-1)/VALUE(RIGHT(H130,1))+50*E130)-(100*E130),-E130*100))) | H130: =IF(E130="","",OFFSET([1]PGA!$AL$1,MATCH(A130,[1]PGA!$E$1:$E$500,0)-1,0))
F131: =IFERROR(IF(A131="","",OFFSET(Results!$AJ$1,MATCH(A131,Results!$A:$A,0)-1,0)),"") | G131: =IF(OR(E131="",F131=""),"",IF(F131=1,(IF(COUNTIFS(F:F,"<="&F131)<=1,1,(1-COUNTIFS(F:F,"<"&F131))/COUNTIFS(F:F,F131)))*50*E131*(1+VALUE(MID(H131,FIND(": ",H131)+2,FIND("/",H131)-FIND(":",H131)-2))-1)+50*E131*(1+VALUE(MID(H131,FIND(": ",H131)+2,FIND("/",H131)-FIND(":",H131)-2))-1)/VALUE(RIGHT(H131,1)),IF(F131<=VALUE(MID(H131,FIND(", ",H131)+2,IF(MID(H131,FIND(", ",H131)+2,1)="1",2,1))),(IF(COUNTIFS(F:F,"<="&F131)<=VALUE(MID(H131,FIND(", ",H131)+2,IF(MID(H131,FIND(", ",H131)+2,1)="1",2,1))),1,(VALUE(MID(H131,FIND(", ",H131)+2,IF(MID(H131,FIND(", ",H131)+2,1)="1",2,1)))-COUNTIFS(F:F,"<"&F131))/COUNTIFS(F:F,F131)))*(50*E131*(1+VALUE(MID(H131,FIND(": ",H131)+2,FIND("/",H131)-FIND(":",H131)-2))-1)/VALUE(RIGHT(H131,1))+50*E131)-(100*E131),-E131*100))) | H131: =IF(E131="","",OFFSET([1]PGA!$AL$1,MATCH(A131,[1]PGA!$E$1:$E$500,0)-1,0))
F132: =IFERROR(IF(A132="","",OFFSET(Results!$AJ$1,MATCH(A132,Results!$A:$A,0)-1,0)),"") | G132: =IF(OR(E132="",F132=""),"",IF(F132=1,(IF(COUNTIFS(F:F,"<="&F132)<=1,1,(1-COUNTIFS(F:F,"<"&F132))/COUNTIFS(F:F,F132)))*50*E132*(1+VALUE(MID(H132,FIND(": ",H132)+2,FIND("/",H132)-FIND(":",H132)-2))-1)+50*E132*(1+VALUE(MID(H132,FIND(": ",H132)+2,FIND("/",H132)-FIND(":",H132)-2))-1)/VALUE(RIGHT(H132,1)),IF(F132<=VALUE(MID(H132,FIND(", ",H132)+2,IF(MID(H132,FIND(", ",H132)+2,1)="1",2,1))),(IF(COUNTIFS(F:F,"<="&F132)<=VALUE(MID(H132,FIND(", ",H132)+2,IF(MID(H132,FIND(", ",H132)+2,1)="1",2,1))),1,(VALUE(MID(H132,FIND(", ",H132)+2,IF(MID(H132,FIND(", ",H132)+2,1)="1",2,1)))-COUNTIFS(F:F,"<"&F132))/COUNTIFS(F:F,F132)))*(50*E132*(1+VALUE(MID(H132,FIND(": ",H132)+2,FIND("/",H132)-FIND(":",H132)-2))-1)/VALUE(RIGHT(H132,1))+50*E132)-(100*E132),-E132*100))) | H132: =IF(E132="","",OFFSET([1]PGA!$AL$1,MATCH(A132,[1]PGA!$E$1:$E$500,0)-1,0))
F133: =IFERROR(IF(A133="","",OFFSET(Results!$AJ$1,MATCH(A133,Results!$A:$A,0)-1,0)),"") | G133: =IF(OR(E133="",F133=""),"",IF(F133=1,(IF(COUNTIFS(F:F,"<="&F133)<=1,1,(1-COUNTIFS(F:F,"<"&F133))/COUNTIFS(F:F,F133)))*50*E133*(1+VALUE(MID(H133,FIND(": ",H133)+2,FIND("/",H133)-FIND(":",H133)-2))-1)+50*E133*(1+VALUE(MID(H133,FIND(": ",H133)+2,FIND("/",H133)-FIND(":",H133)-2))-1)/VALUE(RIGHT(H133,1)),IF(F133<=VALUE(MID(H133,FIND(", ",H133)+2,IF(MID(H133,FIND(", ",H133)+2,1)="1",2,1))),(IF(COUNTIFS(F:F,"<="&F133)<=VALUE(MID(H133,FIND(", ",H133)+2,IF(MID(H133,FIND(", ",H133)+2,1)="1",2,1))),1,(VALUE(MID(H133,FIND(", ",H133)+2,IF(MID(H133,FIND(", ",H133)+2,1)="1",2,1)))-COUNTIFS(F:F,"<"&F133))/COUNTIFS(F:F,F133)))*(50*E133*(1+VALUE(MID(H133,FIND(": ",H133)+2,FIND("/",H133)-FIND(":",H133)-2))-1)/VALUE(RIGHT(H133,1))+50*E133)-(100*E133),-E133*100))) | H133: =IF(E133="","",OFFSET([1]PGA!$AL$1,MATCH(A133,[1]PGA!$E$1:$E$500,0)-1,0))
F134: =IFERROR(IF(A134="","",OFFSET(Results!$AJ$1,MATCH(A134,Results!$A:$A,0)-1,0)),"") | G134: =IF(OR(E134="",F134=""),"",IF(F134=1,(IF(COUNTIFS(F:F,"<="&F134)<=1,1,(1-COUNTIFS(F:F,"<"&F134))/COUNTIFS(F:F,F134)))*50*E134*(1+VALUE(MID(H134,FIND(": ",H134)+2,FIND("/",H134)-FIND(":",H134)-2))-1)+50*E134*(1+VALUE(MID(H134,FIND(": ",H134)+2,FIND("/",H134)-FIND(":",H134)-2))-1)/VALUE(RIGHT(H134,1)),IF(F134<=VALUE(MID(H134,FIND(", ",H134)+2,IF(MID(H134,FIND(", ",H134)+2,1)="1",2,1))),(IF(COUNTIFS(F:F,"<="&F134)<=VALUE(MID(H134,FIND(", ",H134)+2,IF(MID(H134,FIND(", ",H134)+2,1)="1",2,1))),1,(VALUE(MID(H134,FIND(", ",H134)+2,IF(MID(H134,FIND(", ",H134)+2,1)="1",2,1)))-COUNTIFS(F:F,"<"&F134))/COUNTIFS(F:F,F134)))*(50*E134*(1+VALUE(MID(H134,FIND(": ",H134)+2,FIND("/",H134)-FIND(":",H134)-2))-1)/VALUE(RIGHT(H134,1))+50*E134)-(100*E134),-E134*100))) | H134: =IF(E134="","",OFFSET([1]PGA!$AL$1,MATCH(A134,[1]PGA!$E$1:$E$500,0)-1,0))
F135: =IFERROR(IF(A135="","",OFFSET(Results!$AJ$1,MATCH(A135,Results!$A:$A,0)-1,0)),"") | G135: =IF(OR(E135="",F135=""),"",IF(F135=1,(IF(COUNTIFS(F:F,"<="&F135)<=1,1,(1-COUNTIFS(F:F,"<"&F135))/COUNTIFS(F:F,F135)))*50*E135*(1+VALUE(MID(H135,FIND(": ",H135)+2,FIND("/",H135)-FIND(":",H135)-2))-1)+50*E135*(1+VALUE(MID(H135,FIND(": ",H135)+2,FIND("/",H135)-FIND(":",H135)-2))-1)/VALUE(RIGHT(H135,1)),IF(F135<=VALUE(MID(H135,FIND(", ",H135)+2,IF(MID(H135,FIND(", ",H135)+2,1)="1",2,1))),(IF(COUNTIFS(F:F,"<="&F135)<=VALUE(MID(H135,FIND(", ",H135)+2,IF(MID(H135,FIND(", ",H135)+2,1)="1",2,1))),1,(VALUE(MID(H135,FIND(", ",H135)+2,IF(MID(H135,FIND(", ",H135)+2,1)="1",2,1)))-COUNTIFS(F:F,"<"&F135))/COUNTIFS(F:F,F135)))*(50*E135*(1+VALUE(MID(H135,FIND(": ",H135)+2,FIND("/",H135)-FIND(":",H135)-2))-1)/VALUE(RIGHT(H135,1))+50*E135)-(100*E135),-E135*100))) | H135: =IF(E135="","",OFFSET([1]PGA!$AL$1,MATCH(A135,[1]PGA!$E$1:$E$500,0)-1,0))
F136: =IFERROR(IF(A136="","",OFFSET(Results!$AJ$1,MATCH(A136,Results!$A:$A,0)-1,0)),"") | G136: =IF(OR(E136="",F136=""),"",IF(F136=1,(IF(COUNTIFS(F:F,"<="&F136)<=1,1,(1-COUNTIFS(F:F,"<"&F136))/COUNTIFS(F:F,F136)))*50*E136*(1+VALUE(MID(H136,FIND(": ",H136)+2,FIND("/",H136)-FIND(":",H136)-2))-1)+50*E136*(1+VALUE(MID(H136,FIND(": ",H136)+2,FIND("/",H136)-FIND(":",H136)-2))-1)/VALUE(RIGHT(H136,1)),IF(F136<=VALUE(MID(H136,FIND(", ",H136)+2,IF(MID(H136,FIND(", ",H136)+2,1)="1",2,1))),(IF(COUNTIFS(F:F,"<="&F136)<=VALUE(MID(H136,FIND(", ",H136)+2,IF(MID(H136,FIND(", ",H136)+2,1)="1",2,1))),1,(VALUE(MID(H136,FIND(", ",H136)+2,IF(MID(H136,FIND(", ",H136)+2,1)="1",2,1)))-COUNTIFS(F:F,"<"&F136))/COUNTIFS(F:F,F136)))*(50*E136*(1+VALUE(MID(H136,FIND(": ",H136)+2,FIND("/",H136)-FIND(":",H136)-2))-1)/VALUE(RIGHT(H136,1))+50*E136)-(100*E136),-E136*100))) | H136: =IF(E136="","",OFFSET([1]PGA!$AL$1,MATCH(A136,[1]PGA!$E$1:$E$500,0)-1,0))
F137: =IFERROR(IF(A137="","",OFFSET(Results!$AJ$1,MATCH(A137,Results!$A:$A,0)-1,0)),"") | G137: =IF(OR(E137="",F137=""),"",IF(F137=1,(IF(COUNTIFS(F:F,"<="&F137)<=1,1,(1-COUNTIFS(F:F,"<"&F137))/COUNTIFS(F:F,F137)))*50*E137*(1+VALUE(MID(H137,FIND(": ",H137)+2,FIND("/",H137)-FIND(":",H137)-2))-1)+50*E137*(1+VALUE(MID(H137,FIND(": ",H137)+2,FIND("/",H137)-FIND(":",H137)-2))-1)/VALUE(RIGHT(H137,1)),IF(F137<=VALUE(MID(H137,FIND(", ",H137)+2,IF(MID(H137,FIND(", ",H137)+2,1)="1",2,1))),(IF(COUNTIFS(F:F,"<="&F137)<=VALUE(MID(H137,FIND(", ",H137)+2,IF(MID(H137,FIND(", ",H137)+2,1)="1",2,1))),1,(VALUE(MID(H137,FIND(", ",H137)+2,IF(MID(H137,FIND(", ",H137)+2,1)="1",2,1)))-COUNTIFS(F:F,"<"&F137))/COUNTIFS(F:F,F137)))*(50*E137*(1+VALUE(MID(H137,FIND(": ",H137)+2,FIND("/",H137)-FIND(":",H137)-2))-1)/VALUE(RIGHT(H137,1))+50*E137)-(100*E137),-E137*100))) | H137: =IF(E137="","",OFFSET([1]PGA!$AL$1,MATCH(A137,[1]PGA!$E$1:$E$500,0)-1,0))
F138: =IFERROR(IF(A138="","",OFFSET(Results!$AJ$1,MATCH(A138,Results!$A:$A,0)-1,0)),"") | G138: =IF(OR(E138="",F138=""),"",IF(F138=1,(IF(COUNTIFS(F:F,"<="&F138)<=1,1,(1-COUNTIFS(F:F,"<"&F138))/COUNTIFS(F:F,F138)))*50*E138*(1+VALUE(MID(H138,FIND(": ",H138)+2,FIND("/",H138)-FIND(":",H138)-2))-1)+50*E138*(1+VALUE(MID(H138,FIND(": ",H138)+2,FIND("/",H138)-FIND(":",H138)-2))-1)/VALUE(RIGHT(H138,1)),IF(F138<=VALUE(MID(H138,FIND(", ",H138)+2,IF(MID(H138,FIND(", ",H138)+2,1)="1",2,1))),(IF(COUNTIFS(F:F,"<="&F138)<=VALUE(MID(H138,FIND(", ",H138)+2,IF(MID(H138,FIND(", ",H138)+2,1)="1",2,1))),1,(VALUE(MID(H138,FIND(", ",H138)+2,IF(MID(H138,FIND(", ",H138)+2,1)="1",2,1)))-COUNTIFS(F:F,"<"&F138))/COUNTIFS(F:F,F138)))*(50*E138*(1+VALUE(MID(H138,FIND(": ",H138)+2,FIND("/",H138)-FIND(":",H138)-2))-1)/VALUE(RIGHT(H138,1))+50*E138)-(100*E138),-E138*100))) | H138: =IF(E138="","",OFFSET([1]PGA!$AL$1,MATCH(A138,[1]PGA!$E$1:$E$500,0)-1,0))
F139: =IFERROR(IF(A139="","",OFFSET(Results!$AJ$1,MATCH(A139,Results!$A:$A,0)-1,0)),"") | G139: =IF(OR(E139="",F139=""),"",IF(F139=1,(IF(COUNTIFS(F:F,"<="&F139)<=1,1,(1-COUNTIFS(F:F,"<"&F139))/COUNTIFS(F:F,F139)))*50*E139*(1+VALUE(MID(H139,FIND(": ",H139)+2,FIND("/",H139)-FIND(":",H139)-2))-1)+50*E139*(1+VALUE(MID(H139,FIND(": ",H139)+2,FIND("/",H139)-FIND(":",H139)-2))-1)/VALUE(RIGHT(H139,1)),IF(F139<=VALUE(MID(H139,FIND(", ",H139)+2,IF(MID(H139,FIND(", ",H139)+2,1)="1",2,1))),(IF(COUNTIFS(F:F,"<="&F139)<=VALUE(MID(H139,FIND(", ",H139)+2,IF(MID(H139,FIND(", ",H139)+2,1)="1",2,1))),1,(VALUE(MID(H139,FIND(", ",H139)+2,IF(MID(H139,FIND(", ",H139)+2,1)="1",2,1)))-COUNTIFS(F:F,"<"&F139))/COUNTIFS(F:F,F139)))*(50*E139*(1+VALUE(MID(H139,FIND(": ",H139)+2,FIND("/",H139)-FIND(":",H139)-2))-1)/VALUE(RIGHT(H139,1))+50*E139)-(100*E139),-E139*100))) | H139: =IF(E139="","",OFFSET([1]PGA!$AL$1,MATCH(A139,[1]PGA!$E$1:$E$500,0)-1,0))
F140: =IFERROR(IF(A140="","",OFFSET(Results!$AJ$1,MATCH(A140,Results!$A:$A,0)-1,0)),"") | G140: =IF(OR(E140="",F140=""),"",IF(F140=1,(IF(COUNTIFS(F:F,"<="&F140)<=1,1,(1-COUNTIFS(F:F,"<"&F140))/COUNTIFS(F:F,F140)))*50*E140*(1+VALUE(MID(H140,FIND(": ",H140)+2,FIND("/",H140)-FIND(":",H140)-2))-1)+50*E140*(1+VALUE(MID(H140,FIND(": ",H140)+2,FIND("/",H140)-FIND(":",H140)-2))-1)/VALUE(RIGHT(H140,1)),IF(F140<=VALUE(MID(H140,FIND(", ",H140)+2,IF(MID(H140,FIND(", ",H140)+2,1)="1",2,1))),(IF(COUNTIFS(F:F,"<="&F140)<=VALUE(MID(H140,FIND(", ",H140)+2,IF(MID(H140,FIND(", ",H140)+2,1)="1",2,1))),1,(VALUE(MID(H140,FIND(", ",H140)+2,IF(MID(H140,FIND(", ",H140)+2,1)="1",2,1)))-COUNTIFS(F:F,"<"&F140))/COUNTIFS(F:F,F140)))*(50*E140*(1+VALUE(MID(H140,FIND(": ",H140)+2,FIND("/",H140)-FIND(":",H140)-2))-1)/VALUE(RIGHT(H140,1))+50*E140)-(100*E140),-E140*100))) | H140: =IF(E140="","",OFFSET([1]PGA!$AL$1,MATCH(A140,[1]PGA!$E$1:$E$500,0)-1,0))
F141: =IFERROR(IF(A141="","",OFFSET(Results!$AJ$1,MATCH(A141,Results!$A:$A,0)-1,0)),"") | G141: =IF(OR(E141="",F141=""),"",IF(F141=1,(IF(COUNTIFS(F:F,"<="&F141)<=1,1,(1-COUNTIFS(F:F,"<"&F141))/COUNTIFS(F:F,F141)))*50*E141*(1+VALUE(MID(H141,FIND(": ",H141)+2,FIND("/",H141)-FIND(":",H141)-2))-1)+50*E141*(1+VALUE(MID(H141,FIND(": ",H141)+2,FIND("/",H141)-FIND(":",H141)-2))-1)/VALUE(RIGHT(H141,1)),IF(F141<=VALUE(MID(H141,FIND(", ",H141)+2,IF(MID(H141,FIND(", ",H141)+2,1)="1",2,1))),(IF(COUNTIFS(F:F,"<="&F141)<=VALUE(MID(H141,FIND(", ",H141)+2,IF(MID(H141,FIND(", ",H141)+2,1)="1",2,1))),1,(VALUE(MID(H141,FIND(", ",H141)+2,IF(MID(H141,FIND(", ",H141)+2,1)="1",2,1)))-COUNTIFS(F:F,"<"&F141))/COUNTIFS(F:F,F141)))*(50*E141*(1+VALUE(MID(H141,FIND(": ",H141)+2,FIND("/",H141)-FIND(":",H141)-2))-1)/VALUE(RIGHT(H141,1))+50*E141)-(100*E141),-E141*100))) | H141: =IF(E141="","",OFFSET([1]PGA!$AL$1,MATCH(A141,[1]PGA!$E$1:$E$500,0)-1,0))
F142: =IFERROR(IF(A142="","",OFFSET(Results!$AJ$1,MATCH(A142,Results!$A:$A,0)-1,0)),"") | G142: =IF(OR(E142="",F142=""),"",IF(F142=1,(IF(COUNTIFS(F:F,"<="&F142)<=1,1,(1-COUNTIFS(F:F,"<"&F142))/COUNTIFS(F:F,F142)))*50*E142*(1+VALUE(MID(H142,FIND(": ",H142)+2,FIND("/",H142)-FIND(":",H142)-2))-1)+50*E142*(1+VALUE(MID(H142,FIND(": ",H142)+2,FIND("/",H142)-FIND(":",H142)-2))-1)/VALUE(RIGHT(H142,1)),IF(F142<=VALUE(MID(H142,FIND(", ",H142)+2,IF(MID(H142,FIND(", ",H142)+2,1)="1",2,1))),(IF(COUNTIFS(F:F,"<="&F142)<=VALUE(MID(H142,FIND(", ",H142)+2,IF(MID(H142,FIND(", ",H142)+2,1)="1",2,1))),1,(VALUE(MID(H142,FIND(", ",H142)+2,IF(MID(H142,FIND(", ",H142)+2,1)="1",2,1)))-COUNTIFS(F:F,"<"&F142))/COUNTIFS(F:F,F142)))*(50*E142*(1+VALUE(MID(H142,FIND(": ",H142)+2,FIND("/",H142)-FIND(":",H142)-2))-1)/VALUE(RIGHT(H142,1))+50*E142)-(100*E142),-E142*100))) | H142: =IF(E142="","",OFFSET([1]PGA!$AL$1,MATCH(A142,[1]PGA!$E$1:$E$500,0)-1,0))
... F169: =IFERROR(IF(A169="","",OFFSET(Results!$AJ$1,MATCH(A169,Results!$A:$A,0)-1,0)),"") | G169: =IF(OR(E169="",F169=""),"",IF(F169=1,(IF(COUNTIFS(F:F,"<="&F169)<=1,1,(1-COUNTIFS(F:F,"<"&F169))/COUNTIFS(F:F,F169)))*50*E169*(1+VALUE(MID(H169,FIND(": ",H169)+2,FIND("/",H169)-FIND(":",H169)-2))-1)+50*E169*(1+VALUE(MID(H169,FIND(": ",H169)+2,FIND("/",H169)-FIND(":",H169)-2))-1)/VALUE(RIGHT(H169,1)),IF(F169<=VALUE(MID(H169,FIND(", ",H169)+2,IF(MID(H169,FIND(", ",H169)+2,1)="1",2,1))),(IF(COUNTIFS(F:F,"<="&F169)<=VALUE(MID(H169,FIND(", ",H169)+2,IF(MID(H169,FIND(", ",H169)+2,1)="1",2,1))),1,(VALUE(MID(H169,FIND(", ",H169)+2,IF(MID(H169,FIND(", ",H169)+2,1)="1",2,1)))-COUNTIFS(F:F,"<"&F169))/COUNTIFS(F:F,F169)))*(50*E169*(1+VALUE(MID(H169,FIND(": ",H169)+2,FIND("/",H169)-FIND(":",H169)-2))-1)/VALUE(RIGHT(H169,1))+50*E169)-(100*E169),-E169*100))) | H169: =IF(E169="","",OFFSET([1]PGA!$AL$1,MATCH(A169,[1]PGA!$E$1:$E$500,0)-1,0))

Sheet Top3
A1: Player | B1: Win % | C1: TT Odds | D1: Best Odds | E1: Kelly | F1: Result | G1: P/L | H1: E/W Play
A2: Adam Hadwin | B2: 1.59% | C2: 63
A3: Adam Schenk | B3: 0.90% | C3: 111
A4: Adam Svensson | B4: 1.06% | C4: 94
A5: Akshay Bhatia | B5: 2.48% | C5: 40
A6: Alex Smalley | B6: 1.06% | C6: 94
A7: Andrew Novak | B7: 2.51% | C7: 40
A8: Andrew Putnam | B8: 1.95% | C8: 51
A9: Austin Eckroat | B9: 2.61% | C9: 38
A10: Beau Hossler | B10: 2.44% | C10: 41
A11: Ben Griffin | B11: 2.03% | C11: 49
A12: Ben Kohles | B12: 0.56% | C12: 179
A13: Ben Martin | B13: 0.54% | C13: 185
... A130: Wyndham Clark | B130: 4.25% | C130: 24

Sheet Top5
A1: Player | B1: Win % | C1: TT Odds | D1: Best Odds | E1: Kelly | F1: Result | G1: P/L | H1: E/W Play
A2: Adam Hadwin | B2: 3.00% | C2: 33
A3: Adam Schenk | B3: 1.75% | C3: 57
A4: Adam Svensson | B4: 2.05% | C4: 49
A5: Akshay Bhatia | B5: 4.44% | C5: 23
A6: Alex Smalley | B6: 2.05% | C6: 49
A7: Andrew Novak | B7: 4.44% | C7: 23
A8: Andrew Putnam | B8: 3.70% | C8: 27
A9: Austin Eckroat | B9: 4.62% | C9: 22
A10: Beau Hossler | B10: 4.40% | C10: 23
A11: Ben Griffin | B11: 3.75% | C11: 27
A12: Ben Kohles | B12: 1.10% | C12: 91
A13: Ben Martin | B13: 1.12% | C13: 89
... A130: Wyndham Clark | B130: 7.31% | C130: 14

Sheet Top10
A1: Player | B1: Win % | C1: TT Odds | D1: Best Odds | E1: Kelly | F1: Result | G1: P/L | H1: E/W Play
A2: Adam Hadwin | B2: 6.69% | C2: 15
A3: Adam Schenk | B3: 4.03% | C3: 25
A4: Adam Svensson | B4: 4.83% | C4: 21
A5: Akshay Bhatia | B5: 9.50% | C5: 11
A6: Alex Smalley | B6: 4.94% | C6: 20
A7: Andrew Novak | B7: 9.49% | C7: 11
A8: Andrew Putnam | B8: 8.15% | C8: 12
A9: Austin Eckroat | B9: 9.93% | C9: 10
A10: Beau Hossler | B10: 9.32% | C10: 11
A11: Ben Griffin | B11: 8.34% | C11: 12
A12: Ben Kohles | B12: 2.98% | C12: 34
A13: Ben Martin | B13: 2.89% | C13: 35
... A130: Wyndham Clark | B130: 14.35% | C130: 7

Sheet Top20
A1: Player | B1: Win % | C1: TT Odds | D1: Best Odds | E1: Kelly | F1: Result | G1: P/L | H1: E/W Play
A2: Adam Hadwin | B2: 14.90% | C2: 6.7
A3: Adam Schenk | B3: 9.75% | C3: 10
A4: Adam Svensson | B4: 11.41% | C4: 8.8
A5: Akshay Bhatia | B5: 19.42% | C5: 5.1
A6: Alex Smalley | B6: 11.74% | C6: 8.5
A7: Andrew Novak | B7: 19.56% | C7: 5.1
A8: Andrew Putnam | B8: 17.29% | C8: 5.8
A9: Austin Eckroat | B9: 20.25% | C9: 4.9
A10: Beau Hossler | B10: 19.09% | C10: 5.2
A11: Ben Griffin | B11: 17.79% | C11: 5.6
A12: Ben Kohles | B12: 7.59% | C12: 13
A13: Ben Martin | B13: 7.52% | C13: 13
... A130: Wyndham Clark | B130: 27.02% | C130: 3.7

Sheet Top30
A1: Player | B1: Win % | C1: TT Odds | D1: Best Odds | E1: Kelly | F1: Result | G1: P/L | H1: E/W Play
A2: Adam Hadwin | B2: 23.21% | C2: 4.3
A3: Adam Schenk | B3: 16.31% | C3: 6.1
A4: Adam Svensson | B4: 18.72% | C4: 5.3
A5: Akshay Bhatia | B5: 29.21% | C5: 3.4
A6: Alex Smalley | B6: 19.06% | C6: 5.2
A7: Andrew Novak | B7: 29.27% | C7: 3.4
A8: Andrew Putnam | B8: 26.57% | C8: 3.8
A9: Austin Eckroat | B9: 30.21% | C9: 3.3
A10: Beau Hossler | B10: 28.70% | C10: 3.5
A11: Ben Griffin | B11: 27.07% | C11: 3.7
A12: Ben Kohles | B12: 13.21% | C12: 7.6
A13: Ben Martin | B13: 13.04% | C13: 7.7
... A130: Wyndham Clark | B130: 38.38% | C130: 2.6

Sheet Top40
A1: Player | B1: Win % | C1: TT Odds | D1: Best Odds | E1: Kelly | F1: Result | G1: P/L | H1: E/W Play
A2: Adam Hadwin | B2: 31.94% | C2: 3.1
A3: Adam Schenk | B3: 23.54% | C3: 4.2
A4: Adam Svensson | B4: 26.36% | C4: 3.8
A5: Akshay Bhatia | B5: 38.81% | C5: 2.6
A6: Alex Smalley | B6: 27.02% | C6: 3.7
A7: Andrew Novak | B7: 38.54% | C7: 2.6
A8: Andrew Putnam | B8: 35.78% | C8: 2.8
A9: Austin Eckroat | B9: 39.61% | C9: 2.5
A10: Beau Hossler | B10: 37.99% | C10: 2.6
A11: Ben Griffin | B11: 36.24% | C11: 2.8
A12: Ben Kohles | B12: 19.61% | C12: 5.1
A13: Ben Martin | B13: 19.24% | C13: 5.2
... A130: Wyndham Clark | B130: 48.47% | C130: 2.1

Sheet MC
A1: Player | B1: Win % | C1: TT Odds | D1: Best Odds | E1: Kelly | F1: Result | G1: P/L | H1: E/W Play
A2: Adam Hadwin | B2: 42.44% | C2: 2.4
A3: Adam Schenk | B3: 52.38% | C3: 1.91
A4: Adam Svensson | B4: 48.77% | C4: 2.1
A5: Akshay Bhatia | B5: 35.60% | C5: 2.8
A6: Alex Smalley | B6: 48.10% | C6: 2.1
A7: Andrew Novak | B7: 35.62% | C7: 2.8
A8: Andrew Putnam | B8: 38.31% | C8: 2.6
A9: Austin Eckroat | B9: 34.54% | C9: 2.9
A10: Beau Hossler | B10: 36.18% | C10: 2.8
A11: Ben Griffin | B11: 37.93% | C11: 2.6
A12: Ben Kohles | B12: 57.69% | C12: 1.73
A13: Ben Martin | B13: 58.22% | C13: 1.72
... A130: Wyndham Clark | B130: 26.90% | C130: 3.7

Sheet Picks
A1: Player | B1: TTWin | C1: TTOdds | D1: BestOdds | E1: Kelly | F1: Rank | G1: Result | H1: P/L | I1: Full P/L | J1: E/W Play | L1: FRL: | M1: Player | N1: TTWin | O1: TTOdds | P1: BestOdds | Q1: Kelly | R1: Rank | S1: Result | T1: P/L | U1: Full P/L | V1: E/W Play
A2: =IF(Win!A2="","",Win!A2) -> Adam Hadwin | B2: =IF(Win!B2="","",VALUE(Win!B2)) -> 0.0042 | C2: =IF(Win!C2="","",Win!C2) -> 238 | D2: =IF(Win!D2="","",Win!D2) -> 201 | E2: =IF(D2="","",IF(ROUND((B2*(D2-1)-(1-B2))/(D2-1),3)<=0,"",ROUND((B2*(D2-1)-(1-B2))/(D2-1),3))) | F2: {=IF(E2="","",RANK(E2, $E$2:$E$241) + COUNTIFS($E$2:$E$241, E2, $D$2:$D$241, "<"&D2) + COUNTIFS($E$2:$E$241, E2, $D$2:$D$241, D2, $A$2:$A$241, "<"&A2))} | G2: =IF(Win!F2="","",Win!F2) -> 9 | H2: =IF(OR(F2="",G2="",F2>3),"",IF(G2=1,(IF(COUNTIFS(G:G,"<="&G2)<=1,1,(1-COUNTIFS(G:G,"<"&G2))/COUNTIFS(G:G,G2)))*(1+VALUE(MID(J2,FIND(": ",J2)+2,FIND("/",J2)-FIND(":",J2)-2))-1)+(1+VALUE(MID(J2,FIND(": ",J2)+2,FIND("/",J2)-FIND(":",J2)-2))-1)/VALUE(RIGHT(J2,1)),IF(G2<=VALUE(MID(J2,FIND(", ",J2)+2,IF(MID(J2,FIND(", ",J2)+2,1)="1",2,1))),(IF(COUNTIFS(G:G,"<="&G2)<=VALUE(MID(J2,FIND(", ",J2)+2,IF(MID(J2,FIND(", ",J2)+2,1)="1",2,1))),1,(VALUE(MID(J2,FIND(", ",J2)+2,IF(MID(J2,FIND(", ",J2)+2,1)="1",2,1)))-COUNTIFS(G:G,"<"&G2))/COUNTIFS(G:G,G2)))*(1*(1+VALUE(MID(J2,FIND(": ",J2)+2,FIND("/",J2)-FIND(":",J2)-2))-1)/VALUE(RIGHT(J2,1))+1)-2,-2))) | I2: =IF(OR(E2="",G2=""),"",IF(G2=1,(IF(COUNTIFS(G:G,"<="&G2)<=1,1,(1-COUNTIFS(G:G,"<"&G2))/COUNTIFS(G:G,G2)))*(1+VALUE(MID(J2,FIND(": ",J2)+2,FIND("/",J2)-FIND(":",J2)-2))-1)+(1+VALUE(MID(J2,FIND(": ",J2)+2,FIND("/",J2)-FIND(":",J2)-2))-1)/VALUE(RIGHT(J2,1)),IF(G2<=VALUE(MID(J2,FIND(", ",J2)+2,IF(MID(J2,FIND(", ",J2)+2,1)="1",2,1))),(IF(COUNTIFS(G:G,"<="&G2)<=VALUE(MID(J2,FIND(", ",J2)+2,IF(MID(J2,FIND(", ",J2)+2,1)="1",2,1))),1,(VALUE(MID(J2,FIND(", ",J2)+2,IF(MID(J2,FIND(", ",J2)+2,1)="1",2,1)))-COUNTIFS(G:G,"<"&G2))/COUNTIFS(G:G,G2)))*(1*(1+VALUE(MID(J2,FIND(": ",J2)+2,FIND("/",J2)-FIND(":",J2)-2))-1)/VALUE(RIGHT(J2,1))+1)-2,-2))) | J2: =IF(F2="","",OFFSET([1]PGA!$AL$1,MATCH(A2,[1]PGA!$E$1:$E$500,0)-1,0)) | M2: =IF(FRL!A2="","",FRL!A2) -> Adam Hadwin | N2: =IF(FRL!B2="","",FRL!B2) -> 1.05% | O2: =IF(FRL!C2="","",FRL!C2) -> 95 | P2: =IF(FRL!D2="","",FRL!D2) -> 151 | Q2: =IF(P2="","",IF(ROUND((N2*(P2-1)-(1-N2))/(P2-1),3)<=0,"",ROUND((N2*(P2-1)-(1-N2))/(P2-1),3))) -> 0.004 | R2: {=IF(Q2="","",RANK(Q2, $Q$2:$Q$241) + COUNTIFS($Q$2:$Q$241, Q2, $P$2:$P$241, "<"&P2) + COUNTIFS($Q$2:$Q$241, Q2, $P$2:$P$241, P2, $M$2:$M$241, "<"&M2))} -> 4 | S2: =IF(FRL!F2="","",FRL!F2) -> 16 | T2: =IF(OR(R2="",S2="",R2>3),"",IF(S2=1,(IF(COUNTIFS(S:S,"<="&S2)<=1,1,(1-COUNTIFS(S:S,"<"&S2))/COUNTIFS(S:S,S2)))*(1+VALUE(MID(V2,FIND(": ",V2)+2,FIND("/",V2)-FIND(":",V2)-2))-1)+(1+VALUE(MID(V2,FIND(": ",V2)+2,FIND("/",V2)-FIND(":",V2)-2))-1)/VALUE(RIGHT(V2,1)),IF(S2<=VALUE(MID(V2,FIND(", ",V2)+2,IF(MID(V2,FIND(", ",V2)+2,1)="1",2,1))),(IF(COUNTIFS(S:S,"<="&S2)<=VALUE(MID(V2,FIND(", ",V2)+2,IF(MID(V2,FIND(", ",V2)+2,1)="1",2,1))),1,(VALUE(MID(V2,FIND(", ",V2)+2,IF(MID(V2,FIND(", ",V2)+2,1)="1",2,1)))-COUNTIFS(S:S,"<"&S2))/COUNTIFS(S:S,S2)))*(1*(1+VALUE(MID(V2,FIND(": ",V2)+2,FIND("/",V2)-FIND(":",V2)-2))-1)/VALUE(RIGHT(V2,1))+1)-2,-2))) | U2: =IF(OR(Q2="",S2=""),"",IF(S2=1,(IF(COUNTIFS(S:S,"<="&S2)<=1,1,(1-COUNTIFS(S:S,"<"&S2))/COUNTIFS(S:S,S2)))*(1+VALUE(MID(V2,FIND(": ",V2)+2,FIND("/",V2)-FIND(":",V2)-2))-1)+(1+VALUE(MID(V2,FIND(": ",V2)+2,FIND("/",V2)-FIND(":",V2)-2))-1)/VALUE(RIGHT(V2,1)),IF(S2<=VALUE(MID(V2,FIND(", ",V2)+2,IF(MID(V2,FIND(", ",V2)+2,1)="1",2,1))),(IF(COUNTIFS(S:S,"<="&S2)<=VALUE(MID(V2,FIND(", ",V2)+2,IF(MID(V2,FIND(", ",V2)+2,1)="1",2,1))),1,(VALUE(MID(V2,FIND(", ",V2)+2,IF(MID(V2,FIND(", ",V2)+2,1)="1",2,1)))-COUNTIFS(S:S,"<"&S2))/COUNTIFS(S:S,S2)))*(1*(1+VALUE(MID(V2,FIND(": ",V2)+2,FIND("/",V2)-FIND(":",V2)-2))-1)/VALUE(RIGHT(V2,1))+1)-2,-2))) -> -2 | V2: =IF(R2="","",OFFSET([2]PGA!$AL$1,MATCH(M2,[2]PGA!$E$1:$E$500,0)-1,0)) -> Spreadex: 150/1, 6pl, 1/5
A3: =IF(Win!A3="","",Win!A3) -> Adam Schenk | B3: =IF(Win!B3="","",VALUE(Win!B3)) -> 0.0021 | C3: =IF(Win!C3="","",Win!C3) -> 476 | D3: =IF(Win!D3="","",Win!D3) -> 276 | E3: =IF(D3="","",IF(ROUND((B3*(D3-1)-(1-B3))/(D3-1),3)<=0,"",ROUND((B3*(D3-1)-(1-B3))/(D3-1),3))) | F3: {=IF(E3="","",RANK(E3, $E$2:$E$241) + COUNTIFS($E$2:$E$241, E3, $D$2:$D$241, "<"&D3) + COUNTIFS($E$2:$E$241, E3, $D$2:$D$241, D3, $A$2:$A$241, "<"&A3))} | G3: =IF(Win!F3="","",Win!F3) -> 25 | H3: =IF(OR(F3="",G3="",F3>3),"",IF(G3=1,(IF(COUNTIFS(G:G,"<="&G3)<=1,1,(1-COUNTIFS(G:G,"<"&G3))/COUNTIFS(G:G,G3)))*(1+VALUE(MID(J3,FIND(": ",J3)+2,FIND("/",J3)-FIND(":",J3)-2))-1)+(1+VALUE(MID(J3,FIND(": ",J3)+2,FIND("/",J3)-FIND(":",J3)-2))-1)/VALUE(RIGHT(J3,1)),IF(G3<=VALUE(MID(J3,FIND(", ",J3)+2,IF(MID(J3,FIND(", ",J3)+2,1)="1",2,1))),(IF(COUNTIFS(G:G,"<="&G3)<=VALUE(MID(J3,FIND(", ",J3)+2,IF(MID(J3,FIND(", ",J3)+2,1)="1",2,1))),1,(VALUE(MID(J3,FIND(", ",J3)+2,IF(MID(J3,FIND(", ",J3)+2,1)="1",2,1)))-COUNTIFS(G:G,"<"&G3))/COUNTIFS(G:G,G3)))*(1*(1+VALUE(MID(J3,FIND(": ",J3)+2,FIND("/",J3)-FIND(":",J3)-2))-1)/VALUE(RIGHT(J3,1))+1)-2,-2))) | I3: =IF(OR(E3="",G3=""),"",IF(G3=1,(IF(COUNTIFS(G:G,"<="&G3)<=1,1,(1-COUNTIFS(G:G,"<"&G3))/COUNTIFS(G:G,G3)))*(1+VALUE(MID(J3,FIND(": ",J3)+2,FIND("/",J3)-FIND(":",J3)-2))-1)+(1+VALUE(MID(J3,FIND(": ",J3)+2,FIND("/",J3)-FIND(":",J3)-2))-1)/VALUE(RIGHT(J3,1)),IF(G3<=VALUE(MID(J3,FIND(", ",J3)+2,IF(MID(J3,FIND(", ",J3)+2,1)="1",2,1))),(IF(COUNTIFS(G:G,"<="&G3)<=VALUE(MID(J3,FIND(", ",J3)+2,IF(MID(J3,FIND(", ",J3)+2,1)="1",2,1))),1,(VALUE(MID(J3,FIND(", ",J3)+2,IF(MID(J3,FIND(", ",J3)+2,1)="1",2,1)))-COUNTIFS(G:G,"<"&G3))/COUNTIFS(G:G,G3)))*(1*(1+VALUE(MID(J3,FIND(": ",J3)+2,FIND("/",J3)-FIND(":",J3)-2))-1)/VALUE(RIGHT(J3,1))+1)-2,-2))) | J3: =IF(F3="","",OFFSET([1]PGA!$AL$1,MATCH(A3,[1]PGA!$E$1:$E$500,0)-1,0)) | M3: =IF(FRL!A3="","",FRL!A3) -> Adam Schenk | N3: =IF(FRL!B3="","",FRL!B3) -> 0.83% | O3: =IF(FRL!C3="","",FRL!C3) -> 120 | P3: =IF(FRL!D3="","",FRL!D3) -> 126 | Q3: =IF(P3="","",IF(ROUND((N3*(P3-1)-(1-N3))/(P3-1),3)<=0,"",ROUND((N3*(P3-1)-(1-N3))/(P3-1),3))) | R3: {=IF(Q3="","",RANK(Q3, $Q$2:$Q$241) + COUNTIFS($Q$2:$Q$241, Q3, $P$2:$P$241, "<"&P3) + COUNTIFS($Q$2:$Q$241, Q3, $P$2:$P$241, P3, $M$2:$M$241, "<"&M3))} | S3: =IF(FRL!F3="","",FRL!F3) -> 4 | T3: =IF(OR(R3="",S3="",R3>3),"",IF(S3=1,(IF(COUNTIFS(S:S,"<="&S3)<=1,1,(1-COUNTIFS(S:S,"<"&S3))/COUNTIFS(S:S,S3)))*(1+VALUE(MID(V3,FIND(": ",V3)+2,FIND("/",V3)-FIND(":",V3)-2))-1)+(1+VALUE(MID(V3,FIND(": ",V3)+2,FIND("/",V3)-FIND(":",V3)-2))-1)/VALUE(RIGHT(V3,1)),IF(S3<=VALUE(MID(V3,FIND(", ",V3)+2,IF(MID(V3,FIND(", ",V3)+2,1)="1",2,1))),(IF(COUNTIFS(S:S,"<="&S3)<=VALUE(MID(V3,FIND(", ",V3)+2,IF(MID(V3,FIND(", ",V3)+2,1)="1",2,1))),1,(VALUE(MID(V3,FIND(", ",V3)+2,IF(MID(V3,FIND(", ",V3)+2,1)="1",2,1)))-COUNTIFS(S:S,"<"&S3))/COUNTIFS(S:S,S3)))*(1*(1+VALUE(MID(V3,FIND(": ",V3)+2,FIND("/",V3)-FIND(":",V3)-2))-1)/VALUE(RIGHT(V3,1))+1)-2,-2))) | U3: =IF(OR(Q3="",S3=""),"",IF(S3=1,(IF(COUNTIFS(S:S,"<="&S3)<=1,1,(1-COUNTIFS(S:S,"<"&S3))/COUNTIFS(S:S,S3)))*(1+VALUE(MID(V3,FIND(": ",V3)+2,FIND("/",V3)-FIND(":",V3)-2))-1)+(1+VALUE(MID(V3,FIND(": ",V3)+2,FIND("/",V3)-FIND(":",V3)-2))-1)/VALUE(RIGHT(V3,1)),IF(S3<=VALUE(MID(V3,FIND(", ",V3)+2,IF(MID(V3,FIND(", ",V3)+2,1)="1",2,1))),(IF(COUNTIFS(S:S,"<="&S3)<=VALUE(MID(V3,FIND(", ",V3)+2,IF(MID(V3,FIND(", ",V3)+2,1)="1",2,1))),1,(VALUE(MID(V3,FIND(", ",V3)+2,IF(MID(V3,FIND(", ",V3)+2,1)="1",2,1)))-COUNTIFS(S:S,"<"&S3))/COUNTIFS(S:S,S3)))*(1*(1+VALUE(MID(V3,FIND(": ",V3)+2,FIND("/",V3)-FIND(":",V3)-2))-1)/VALUE(RIGHT(V3,1))+1)-2,-2))) | V3: =IF(R3="","",OFFSET([2]PGA!$AL$1,MATCH(M3,[2]PGA!$E$1:$E$500,0)-1,0))
A4: =IF(Win!A4="","",Win!A4) -> Adam Svensson | B4: =IF(Win!B4="","",VALUE(Win!B4)) -> 0.0028 | C4: =IF(Win!C4="","",Win!C4) -> 357 | D4: =IF(Win!D4="","",Win!D4) -> 251 | E4: =IF(D4="","",IF(ROUND((B4*(D4-1)-(1-B4))/(D4-1),3)<=0,"",ROUND((B4*(D4-1)-(1-B4))/(D4-1),3))) | F4: {=IF(E4="","",RANK(E4, $E$2:$E$241) + COUNTIFS($E$2:$E$241, E4, $D$2:$D$241, "<"&D4) + COUNTIFS($E$2:$E$241, E4, $D$2:$D$241, D4, $A$2:$A$241, "<"&A4))} | G4: =IF(Win!F4="","",Win!F4) -> 36 | H4: =IF(OR(F4="",G4="",F4>3),"",IF(G4=1,(IF(COUNTIFS(G:G,"<="&G4)<=1,1,(1-COUNTIFS(G:G,"<"&G4))/COUNTIFS(G:G,G4)))*(1+VALUE(MID(J4,FIND(": ",J4)+2,FIND("/",J4)-FIND(":",J4)-2))-1)+(1+VALUE(MID(J4,FIND(": ",J4)+2,FIND("/",J4)-FIND(":",J4)-2))-1)/VALUE(RIGHT(J4,1)),IF(G4<=VALUE(MID(J4,FIND(", ",J4)+2,IF(MID(J4,FIND(", ",J4)+2,1)="1",2,1))),(IF(COUNTIFS(G:G,"<="&G4)<=VALUE(MID(J4,FIND(", ",J4)+2,IF(MID(J4,FIND(", ",J4)+2,1)="1",2,1))),1,(VALUE(MID(J4,FIND(", ",J4)+2,IF(MID(J4,FIND(", ",J4)+2,1)="1",2,1)))-COUNTIFS(G:G,"<"&G4))/COUNTIFS(G:G,G4)))*(1*(1+VALUE(MID(J4,FIND(": ",J4)+2,FIND("/",J4)-FIND(":",J4)-2))-1)/VALUE(RIGHT(J4,1))+1)-2,-2))) | I4: =IF(OR(E4="",G4=""),"",IF(G4=1,(IF(COUNTIFS(G:G,"<="&G4)<=1,1,(1-COUNTIFS(G:G,"<"&G4))/COUNTIFS(G:G,G4)))*(1+VALUE(MID(J4,FIND(": ",J4)+2,FIND("/",J4)-FIND(":",J4)-2))-1)+(1+VALUE(MID(J4,FIND(": ",J4)+2,FIND("/",J4)-FIND(":",J4)-2))-1)/VALUE(RIGHT(J4,1)),IF(G4<=VALUE(MID(J4,FIND(", ",J4)+2,IF(MID(J4,FIND(", ",J4)+2,1)="1",2,1))),(IF(COUNTIFS(G:G,"<="&G4)<=VALUE(MID(J4,FIND(", ",J4)+2,IF(MID(J4,FIND(", ",J4)+2,1)="1",2,1))),1,(VALUE(MID(J4,FIND(", ",J4)+2,IF(MID(J4,FIND(", ",J4)+2,1)="1",2,1)))-COUNTIFS(G:G,"<"&G4))/COUNTIFS(G:G,G4)))*(1*(1+VALUE(MID(J4,FIND(": ",J4)+2,FIND("/",J4)-FIND(":",J4)-2))-1)/VALUE(RIGHT(J4,1))+1)-2,-2))) | J4: =IF(F4="","",OFFSET([1]PGA!$AL$1,MATCH(A4,[1]PGA!$E$1:$E$500,0)-1,0)) | M4: =IF(FRL!A4="","",FRL!A4) -> Adam Svensson | N4: =IF(FRL!B4="","",FRL!B4) -> 0.87% | O4: =IF(FRL!C4="","",FRL!C4) -> 115 | P4: =IF(FRL!D4="","",FRL!D4) -> 151 | Q4: =IF(P4="","",IF(ROUND((N4*(P4-1)-(1-N4))/(P4-1),3)<=0,"",ROUND((N4*(P4-1)-(1-N4))/(P4-1),3))) -> 0.002 | R4: {=IF(Q4="","",RANK(Q4, $Q$2:$Q$241) + COUNTIFS($Q$2:$Q$241, Q4, $P$2:$P$241, "<"&P4) + COUNTIFS($Q$2:$Q$241, Q4, $P$2:$P$241, P4, $M$2:$M$241, "<"&M4))} -> 20 | S4: =IF(FRL!F4="","",FRL!F4) -> 27 | T4: =IF(OR(R4="",S4="",R4>3),"",IF(S4=1,(IF(COUNTIFS(S:S,"<="&S4)<=1,1,(1-COUNTIFS(S:S,"<"&S4))/COUNTIFS(S:S,S4)))*(1+VALUE(MID(V4,FIND(": ",V4)+2,FIND("/",V4)-FIND(":",V4)-2))-1)+(1+VALUE(MID(V4,FIND(": ",V4)+2,FIND("/",V4)-FIND(":",V4)-2))-1)/VALUE(RIGHT(V4,1)),IF(S4<=VALUE(MID(V4,FIND(", ",V4)+2,IF(MID(V4,FIND(", ",V4)+2,1)="1",2,1))),(IF(COUNTIFS(S:S,"<="&S4)<=VALUE(MID(V4,FIND(", ",V4)+2,IF(MID(V4,FIND(", ",V4)+2,1)="1",2,1))),1,(VALUE(MID(V4,FIND(", ",V4)+2,IF(MID(V4,FIND(", ",V4)+2,1)="1",2,1)))-COUNTIFS(S:S,"<"&S4))/COUNTIFS(S:S,S4)))*(1*(1+VALUE(MID(V4,FIND(": ",V4)+2,FIND("/",V4)-FIND(":",V4)-2))-1)/VALUE(RIGHT(V4,1))+1)-2,-2))) | U4: =IF(OR(Q4="",S4=""),"",IF(S4=1,(IF(COUNTIFS(S:S,"<="&S4)<=1,1,(1-COUNTIFS(S:S,"<"&S4))/COUNTIFS(S:S,S4)))*(1+VALUE(MID(V4,FIND(": ",V4)+2,FIND("/",V4)-FIND(":",V4)-2))-1)+(1+VALUE(MID(V4,FIND(": ",V4)+2,FIND("/",V4)-FIND(":",V4)-2))-1)/VALUE(RIGHT(V4,1)),IF(S4<=VALUE(MID(V4,FIND(", ",V4)+2,IF(MID(V4,FIND(", ",V4)+2,1)="1",2,1))),(IF(COUNTIFS(S:S,"<="&S4)<=VALUE(MID(V4,FIND(", ",V4)+2,IF(MID(V4,FIND(", ",V4)+2,1)="1",2,1))),1,(VALUE(MID(V4,FIND(", ",V4)+2,IF(MID(V4,FIND(", ",V4)+2,1)="1",2,1)))-COUNTIFS(S:S,"<"&S4))/COUNTIFS(S:S,S4)))*(1*(1+VALUE(MID(V4,FIND(": ",V4)+2,FIND("/",V4)-FIND(":",V4)-2))-1)/VALUE(RIGHT(V4,1))+1)-2,-2))) -> -2 | V4: =IF(R4="","",OFFSET([2]PGA!$AL$1,MATCH(M4,[2]PGA!$E$1:$E$500,0)-1,0)) -> Skybet: 150/1, 6pl, 1/5
A5: =IF(Win!A5="","",Win!A5) -> Akshay Bhatia | B5: =IF(Win!B5="","",VALUE(Win!B5)) -> 0.0066 | C5: =IF(Win!C5="","",Win!C5) -> 152 | D5: =IF(Win!D5="","",Win!D5) -> 71 | E5: =IF(D5="","",IF(ROUND((B5*(D5-1)-(1-B5))/(D5-1),3)<=0,"",ROUND((B5*(D5-1)-(1-B5))/(D5-1),3))) | F5: {=IF(E5="","",RANK(E5, $E$2:$E$241) + COUNTIFS($E$2:$E$241, E5, $D$2:$D$241, "<"&D5) + COUNTIFS($E$2:$E$241, E5, $D$2:$D$241, D5, $A$2:$A$241, "<"&A5))} | G5: =IF(Win!F5="","",Win!F5) -> 32 | H5: =IF(OR(F5="",G5="",F5>3),"",IF(G5=1,(IF(COUNTIFS(G:G,"<="&G5)<=1,1,(1-COUNTIFS(G:G,"<"&G5))/COUNTIFS(G:G,G5)))*(1+VALUE(MID(J5,FIND(": ",J5)+2,FIND("/",J5)-FIND(":",J5)-2))-1)+(1+VALUE(MID(J5,FIND(": ",J5)+2,FIND("/",J5)-FIND(":",J5)-2))-1)/VALUE(RIGHT(J5,1)),IF(G5<=VALUE(MID(J5,FIND(", ",J5)+2,IF(MID(J5,FIND(", ",J5)+2,1)="1",2,1))),(IF(COUNTIFS(G:G,"<="&G5)<=VALUE(MID(J5,FIND(", ",J5)+2,IF(MID(J5,FIND(", ",J5)+2,1)="1",2,1))),1,(VALUE(MID(J5,FIND(", ",J5)+2,IF(MID(J5,FIND(", ",J5)+2,1)="1",2,1)))-COUNTIFS(G:G,"<"&G5))/COUNTIFS(G:G,G5)))*(1*(1+VALUE(MID(J5,FIND(": ",J5)+2,FIND("/",J5)-FIND(":",J5)-2))-1)/VALUE(RIGHT(J5,1))+1)-2,-2))) | I5: =IF(OR(E5="",G5=""),"",IF(G5=1,(IF(COUNTIFS(G:G,"<="&G5)<=1,1,(1-COUNTIFS(G:G,"<"&G5))/COUNTIFS(G:G,G5)))*(1+VALUE(MID(J5,FIND(": ",J5)+2,FIND("/",J5)-FIND(":",J5)-2))-1)+(1+VALUE(MID(J5,FIND(": ",J5)+2,FIND("/",J5)-FIND(":",J5)-2))-1)/VALUE(RIGHT(J5,1)),IF(G5<=VALUE(MID(J5,FIND(", ",J5)+2,IF(MID(J5,FIND(", ",J5)+2,1)="1",2,1))),(IF(COUNTIFS(G:G,"<="&G5)<=VALUE(MID(J5,FIND(", ",J5)+2,IF(MID(J5,FIND(", ",J5)+2,1)="1",2,1))),1,(VALUE(MID(J5,FIND(", ",J5)+2,IF(MID(J5,FIND(", ",J5)+2,1)="1",2,1)))-COUNTIFS(G:G,"<"&G5))/COUNTIFS(G:G,G5)))*(1*(1+VALUE(MID(J5,FIND(": ",J5)+2,FIND("/",J5)-FIND(":",J5)-2))-1)/VALUE(RIGHT(J5,1))+1)-2,-2))) | J5: =IF(F5="","",OFFSET([1]PGA!$AL$1,MATCH(A5,[1]PGA!$E$1:$E$500,0)-1,0)) | M5: =IF(FRL!A5="","",FRL!A5) -> Akshay Bhatia | N5: =IF(FRL!B5="","",FRL!B5) -> 1.24% | O5: =IF(FRL!C5="","",FRL!C5) -> 81 | P5: =IF(FRL!D5="","",FRL!D5) -> 67 | Q5: =IF(P5="","",IF(ROUND((N5*(P5-1)-(1-N5))/(P5-1),3)<=0,"",ROUND((N5*(P5-1)-(1-N5))/(P5-1),3))) | R5: {=IF(Q5="","",RANK(Q5, $Q$2:$Q$241) + COUNTIFS($Q$2:$Q$241, Q5, $P$2:$P$241, "<"&P5) + COUNTIFS($Q$2:$Q$241, Q5, $P$2:$P$241, P5, $M$2:$M$241, "<"&M5))} | S5: =IF(FRL!F5="","",FRL!F5) -> 4 | T5: =IF(OR(R5="",S5="",R5>3),"",IF(S5=1,(IF(COUNTIFS(S:S,"<="&S5)<=1,1,(1-COUNTIFS(S:S,"<"&S5))/COUNTIFS(S:S,S5)))*(1+VALUE(MID(V5,FIND(": ",V5)+2,FIND("/",V5)-FIND(":",V5)-2))-1)+(1+VALUE(MID(V5,FIND(": ",V5)+2,FIND("/",V5)-FIND(":",V5)-2))-1)/VALUE(RIGHT(V5,1)),IF(S5<=VALUE(MID(V5,FIND(", ",V5)+2,IF(MID(V5,FIND(", ",V5)+2,1)="1",2,1))),(IF(COUNTIFS(S:S,"<="&S5)<=VALUE(MID(V5,FIND(", ",V5)+2,IF(MID(V5,FIND(", ",V5)+2,1)="1",2,1))),1,(VALUE(MID(V5,FIND(", ",V5)+2,IF(MID(V5,FIND(", ",V5)+2,1)="1",2,1)))-COUNTIFS(S:S,"<"&S5))/COUNTIFS(S:S,S5)))*(1*(1+VALUE(MID(V5,FIND(": ",V5)+2,FIND("/",V5)-FIND(":",V5)-2))-1)/VALUE(RIGHT(V5,1))+1)-2,-2))) | U5: =IF(OR(Q5="",S5=""),"",IF(S5=1,(IF(COUNTIFS(S:S,"<="&S5)<=1,1,(1-COUNTIFS(S:S,"<"&S5))/COUNTIFS(S:S,S5)))*(1+VALUE(MID(V5,FIND(": ",V5)+2,FIND("/",V5)-FIND(":",V5)-2))-1)+(1+VALUE(MID(V5,FIND(": ",V5)+2,FIND("/",V5)-FIND(":",V5)-2))-1)/VALUE(RIGHT(V5,1)),IF(S5<=VALUE(MID(V5,FIND(", ",V5)+2,IF(MID(V5,FIND(", ",V5)+2,1)="1",2,1))),(IF(COUNTIFS(S:S,"<="&S5)<=VALUE(MID(V5,FIND(", ",V5)+2,IF(MID(V5,FIND(", ",V5)+2,1)="1",2,1))),1,(VALUE(MID(V5,FIND(", ",V5)+2,IF(MID(V5,FIND(", ",V5)+2,1)="1",2,1)))-COUNTIFS(S:S,"<"&S5))/COUNTIFS(S:S,S5)))*(1*(1+VALUE(MID(V5,FIND(": ",V5)+2,FIND("/",V5)-FIND(":",V5)-2))-1)/VALUE(RIGHT(V5,1))+1)-2,-2))) | V5: =IF(R5="","",OFFSET([2]PGA!$AL$1,MATCH(M5,[2]PGA!$E$1:$E$500,0)-1,0))
A6: =IF(Win!A6="","",Win!A6) -> Alex Smalley | B6: =IF(Win!B6="","",VALUE(Win!B6)) -> 0.0026 | C6: =IF(Win!C6="","",Win!C6) -> 385 | D6: =IF(Win!D6="","",Win!D6) -> 176 | E6: =IF(D6="","",IF(ROUND((B6*(D6-1)-(1-B6))/(D6-1),3)<=0,"",ROUND((B6*(D6-1)-(1-B6))/(D6-1),3))) | F6: {=IF(E6="","",RANK(E6, $E$2:$E$241) + COUNTIFS($E$2:$E$241, E6, $D$2:$D$241, "<"&D6) + COUNTIFS($E$2:$E$241, E6, $D$2:$D$241, D6, $A$2:$A$241, "<"&A6))} | G6: =IF(Win!F6="","",Win!F6) -> 21 | H6: =IF(OR(F6="",G6="",F6>3),"",IF(G6=1,(IF(COUNTIFS(G:G,"<="&G6)<=1,1,(1-COUNTIFS(G:G,"<"&G6))/COUNTIFS(G:G,G6)))*(1+VALUE(MID(J6,FIND(": ",J6)+2,FIND("/",J6)-FIND(":",J6)-2))-1)+(1+VALUE(MID(J6,FIND(": ",J6)+2,FIND("/",J6)-FIND(":",J6)-2))-1)/VALUE(RIGHT(J6,1)),IF(G6<=VALUE(MID(J6,FIND(", ",J6)+2,IF(MID(J6,FIND(", ",J6)+2,1)="1",2,1))),(IF(COUNTIFS(G:G,"<="&G6)<=VALUE(MID(J6,FIND(", ",J6)+2,IF(MID(J6,FIND(", ",J6)+2,1)="1",2,1))),1,(VALUE(MID(J6,FIND(", ",J6)+2,IF(MID(J6,FIND(", ",J6)+2,1)="1",2,1)))-COUNTIFS(G:G,"<"&G6))/COUNTIFS(G:G,G6)))*(1*(1+VALUE(MID(J6,FIND(": ",J6)+2,FIND("/",J6)-FIND(":",J6)-2))-1)/VALUE(RIGHT(J6,1))+1)-2,-2))) | I6: =IF(OR(E6="",G6=""),"",IF(G6=1,(IF(COUNTIFS(G:G,"<="&G6)<=1,1,(1-COUNTIFS(G:G,"<"&G6))/COUNTIFS(G:G,G6)))*(1+VALUE(MID(J6,FIND(": ",J6)+2,FIND("/",J6)-FIND(":",J6)-2))-1)+(1+VALUE(MID(J6,FIND(": ",J6)+2,FIND("/",J6)-FIND(":",J6)-2))-1)/VALUE(RIGHT(J6,1)),IF(G6<=VALUE(MID(J6,FIND(", ",J6)+2,IF(MID(J6,FIND(", ",J6)+2,1)="1",2,1))),(IF(COUNTIFS(G:G,"<="&G6)<=VALUE(MID(J6,FIND(", ",J6)+2,IF(MID(J6,FIND(", ",J6)+2,1)="1",2,1))),1,(VALUE(MID(J6,FIND(", ",J6)+2,IF(MID(J6,FIND(", ",J6)+2,1)="1",2,1)))-COUNTIFS(G:G,"<"&G6))/COUNTIFS(G:G,G6)))*(1*(1+VALUE(MID(J6,FIND(": ",J6)+2,FIND("/",J6)-FIND(":",J6)-2))-1)/VALUE(RIGHT(J6,1))+1)-2,-2))) | J6: =IF(F6="","",OFFSET([1]PGA!$AL$1,MATCH(A6,[1]PGA!$E$1:$E$500,0)-1,0)) | M6: =IF(FRL!A6="","",FRL!A6) -> Alex Smalley | N6: =IF(FRL!B6="","",FRL!B6) -> 0.91% | O6: =IF(FRL!C6="","",FRL!C6) -> 110 | P6: =IF(FRL!D6="","",FRL!D6) -> 126 | Q6: =IF(P6="","",IF(ROUND((N6*(P6-1)-(1-N6))/(P6-1),3)<=0,"",ROUND((N6*(P6-1)-(1-N6))/(P6-1),3))) -> 0.001 | R6: {=IF(Q6="","",RANK(Q6, $Q$2:$Q$241) + COUNTIFS($Q$2:$Q$241, Q6, $P$2:$P$241, "<"&P6) + COUNTIFS($Q$2:$Q$241, Q6, $P$2:$P$241, P6, $M$2:$M$241, "<"&M6))} -> 31 | S6: =IF(FRL!F6="","",FRL!F6) -> 11 | T6: =IF(OR(R6="",S6="",R6>3),"",IF(S6=1,(IF(COUNTIFS(S:S,"<="&S6)<=1,1,(1-COUNTIFS(S:S,"<"&S6))/COUNTIFS(S:S,S6)))*(1+VALUE(MID(V6,FIND(": ",V6)+2,FIND("/",V6)-FIND(":",V6)-2))-1)+(1+VALUE(MID(V6,FIND(": ",V6)+2,FIND("/",V6)-FIND(":",V6)-2))-1)/VALUE(RIGHT(V6,1)),IF(S6<=VALUE(MID(V6,FIND(", ",V6)+2,IF(MID(V6,FIND(", ",V6)+2,1)="1",2,1))),(IF(COUNTIFS(S:S,"<="&S6)<=VALUE(MID(V6,FIND(", ",V6)+2,IF(MID(V6,FIND(", ",V6)+2,1)="1",2,1))),1,(VALUE(MID(V6,FIND(", ",V6)+2,IF(MID(V6,FIND(", ",V6)+2,1)="1",2,1)))-COUNTIFS(S:S,"<"&S6))/COUNTIFS(S:S,S6)))*(1*(1+VALUE(MID(V6,FIND(": ",V6)+2,FIND("/",V6)-FIND(":",V6)-2))-1)/VALUE(RIGHT(V6,1))+1)-2,-2))) | U6: =IF(OR(Q6="",S6=""),"",IF(S6=1,(IF(COUNTIFS(S:S,"<="&S6)<=1,1,(1-COUNTIFS(S:S,"<"&S6))/COUNTIFS(S:S,S6)))*(1+VALUE(MID(V6,FIND(": ",V6)+2,FIND("/",V6)-FIND(":",V6)-2))-1)+(1+VALUE(MID(V6,FIND(": ",V6)+2,FIND("/",V6)-FIND(":",V6)-2))-1)/VALUE(RIGHT(V6,1)),IF(S6<=VALUE(MID(V6,FIND(", ",V6)+2,IF(MID(V6,FIND(", ",V6)+2,1)="1",2,1))),(IF(COUNTIFS(S:S,"<="&S6)<=VALUE(MID(V6,FIND(", ",V6)+2,IF(MID(V6,FIND(", ",V6)+2,1)="1",2,1))),1,(VALUE(MID(V6,FIND(", ",V6)+2,IF(MID(V6,FIND(", ",V6)+2,1)="1",2,1)))-COUNTIFS(S:S,"<"&S6))/COUNTIFS(S:S,S6)))*(1*(1+VALUE(MID(V6,FIND(": ",V6)+2,FIND("/",V6)-FIND(":",V6)-2))-1)/VALUE(RIGHT(V6,1))+1)-2,-2))) -> -2 | V6: =IF(R6="","",OFFSET([2]PGA!$AL$1,MATCH(M6,[2]PGA!$E$1:$E$500,0)-1,0)) -> Spreadex: 125/1, 6pl, 1/5
A7: =IF(Win!A7="","",Win!A7) -> Andrew Novak | B7: =IF(Win!B7="","",VALUE(Win!B7)) -> 0.0069 | C7: =IF(Win!C7="","",Win!C7) -> 145 | D7: =IF(Win!D7="","",Win!D7) -> 91 | E7: =IF(D7="","",IF(ROUND((B7*(D7-1)-(1-B7))/(D7-1),3)<=0,"",ROUND((B7*(D7-1)-(1-B7))/(D7-1),3))) | F7: {=IF(E7="","",RANK(E7, $E$2:$E$241) + COUNTIFS($E$2:$E$241, E7, $D$2:$D$241, "<"&D7) + COUNTIFS($E$2:$E$241, E7, $D$2:$D$241, D7, $A$2:$A$241, "<"&A7))} | G7: =IF(Win!F7="","",Win!F7) -> 78 | H7: =IF(OR(F7="",G7="",F7>3),"",IF(G7=1,(IF(COUNTIFS(G:G,"<="&G7)<=1,1,(1-COUNTIFS(G:G,"<"&G7))/COUNTIFS(G:G,G7)))*(1+VALUE(MID(J7,FIND(": ",J7)+2,FIND("/",J7)-FIND(":",J7)-2))-1)+(1+VALUE(MID(J7,FIND(": ",J7)+2,FIND("/",J7)-FIND(":",J7)-2))-1)/VALUE(RIGHT(J7,1)),IF(G7<=VALUE(MID(J7,FIND(", ",J7)+2,IF(MID(J7,FIND(", ",J7)+2,1)="1",2,1))),(IF(COUNTIFS(G:G,"<="&G7)<=VALUE(MID(J7,FIND(", ",J7)+2,IF(MID(J7,FIND(", ",J7)+2,1)="1",2,1))),1,(VALUE(MID(J7,FIND(", ",J7)+2,IF(MID(J7,FIND(", ",J7)+2,1)="1",2,1)))-COUNTIFS(G:G,"<"&G7))/COUNTIFS(G:G,G7)))*(1*(1+VALUE(MID(J7,FIND(": ",J7)+2,FIND("/",J7)-FIND(":",J7)-2))-1)/VALUE(RIGHT(J7,1))+1)-2,-2))) | I7: =IF(OR(E7="",G7=""),"",IF(G7=1,(IF(COUNTIFS(G:G,"<="&G7)<=1,1,(1-COUNTIFS(G:G,"<"&G7))/COUNTIFS(G:G,G7)))*(1+VALUE(MID(J7,FIND(": ",J7)+2,FIND("/",J7)-FIND(":",J7)-2))-1)+(1+VALUE(MID(J7,FIND(": ",J7)+2,FIND("/",J7)-FIND(":",J7)-2))-1)/VALUE(RIGHT(J7,1)),IF(G7<=VALUE(MID(J7,FIND(", ",J7)+2,IF(MID(J7,FIND(", ",J7)+2,1)="1",2,1))),(IF(COUNTIFS(G:G,"<="&G7)<=VALUE(MID(J7,FIND(", ",J7)+2,IF(MID(J7,FIND(", ",J7)+2,1)="1",2,1))),1,(VALUE(MID(J7,FIND(", ",J7)+2,IF(MID(J7,FIND(", ",J7)+2,1)="1",2,1)))-COUNTIFS(G:G,"<"&G7))/COUNTIFS(G:G,G7)))*(1*(1+VALUE(MID(J7,FIND(": ",J7)+2,FIND("/",J7)-FIND(":",J7)-2))-1)/VALUE(RIGHT(J7,1))+1)-2,-2))) | J7: =IF(F7="","",OFFSET([1]PGA!$AL$1,MATCH(A7,[1]PGA!$E$1:$E$500,0)-1,0)) | M7: =IF(FRL!A7="","",FRL!A7) -> Andrew Novak | N7: =IF(FRL!B7="","",FRL!B7) -> 1.24% | O7: =IF(FRL!C7="","",FRL!C7) -> 81 | P7: =IF(FRL!D7="","",FRL!D7) -> 81 | Q7: =IF(P7="","",IF(ROUND((N7*(P7-1)-(1-N7))/(P7-1),3)<=0,"",ROUND((N7*(P7-1)-(1-N7))/(P7-1),3))) | R7: {=IF(Q7="","",RANK(Q7, $Q$2:$Q$241) + COUNTIFS($Q$2:$Q$241, Q7, $P$2:$P$241, "<"&P7) + COUNTIFS($Q$2:$Q$241, Q7, $P$2:$P$241, P7, $M$2:$M$241, "<"&M7))} | S7: =IF(FRL!F7="","",FRL!F7) -> 27 | T7: =IF(OR(R7="",S7="",R7>3),"",IF(S7=1,(IF(COUNTIFS(S:S,"<="&S7)<=1,1,(1-COUNTIFS(S:S,"<"&S7))/COUNTIFS(S:S,S7)))*(1+VALUE(MID(V7,FIND(": ",V7)+2,FIND("/",V7)-FIND(":",V7)-2))-1)+(1+VALUE(MID(V7,FIND(": ",V7)+2,FIND("/",V7)-FIND(":",V7)-2))-1)/VALUE(RIGHT(V7,1)),IF(S7<=VALUE(MID(V7,FIND(", ",V7)+2,IF(MID(V7,FIND(", ",V7)+2,1)="1",2,1))),(IF(COUNTIFS(S:S,"<="&S7)<=VALUE(MID(V7,FIND(", ",V7)+2,IF(MID(V7,FIND(", ",V7)+2,1)="1",2,1))),1,(VALUE(MID(V7,FIND(", ",V7)+2,IF(MID(V7,FIND(", ",V7)+2,1)="1",2,1)))-COUNTIFS(S:S,"<"&S7))/COUNTIFS(S:S,S7)))*(1*(1+VALUE(MID(V7,FIND(": ",V7)+2,FIND("/",V7)-FIND(":",V7)-2))-1)/VALUE(RIGHT(V7,1))+1)-2,-2))) | U7: =IF(OR(Q7="",S7=""),"",IF(S7=1,(IF(COUNTIFS(S:S,"<="&S7)<=1,1,(1-COUNTIFS(S:S,"<"&S7))/COUNTIFS(S:S,S7)))*(1+VALUE(MID(V7,FIND(": ",V7)+2,FIND("/",V7)-FIND(":",V7)-2))-1)+(1+VALUE(MID(V7,FIND(": ",V7)+2,FIND("/",V7)-FIND(":",V7)-2))-1)/VALUE(RIGHT(V7,1)),IF(S7<=VALUE(MID(V7,FIND(", ",V7)+2,IF(MID(V7,FIND(", ",V7)+2,1)="1",2,1))),(IF(COUNTIFS(S:S,"<="&S7)<=VALUE(MID(V7,FIND(", ",V7)+2,IF(MID(V7,FIND(", ",V7)+2,1)="1",2,1))),1,(VALUE(MID(V7,FIND(", ",V7)+2,IF(MID(V7,FIND(", ",V7)+2,1)="1",2,1)))-COUNTIFS(S:S,"<"&S7))/COUNTIFS(S:S,S7)))*(1*(1+VALUE(MID(V7,FIND(": ",V7)+2,FIND("/",V7)-FIND(":",V7)-2))-1)/VALUE(RIGHT(V7,1))+1)-2,-2))) | V7: =IF(R7="","",OFFSET([2]PGA!$AL$1,MATCH(M7,[2]PGA!$E$1:$E$500,0)-1,0))
A8: =IF(Win!A8="","",Win!A8) -> Andrew Putnam | B8: =IF(Win!B8="","",VALUE(Win!B8)) -> 0.005 | C8: =IF(Win!C8="","",Win!C8) -> 200 | D8: =IF(Win!D8="","",Win!D8) -> 251 | E8: =IF(D8="","",IF(ROUND((B8*(D8-1)-(1-B8))/(D8-1),3)<=0,"",ROUND((B8*(D8-1)-(1-B8))/(D8-1),3))) -> 0.001 | F8: {=IF(E8="","",RANK(E8, $E$2:$E$241) + COUNTIFS($E$2:$E$241, E8, $D$2:$D$241, "<"&D8) + COUNTIFS($E$2:$E$241, E8, $D$2:$D$241, D8, $A$2:$A$241, "<"&A8))} -> 7 | G8: =IF(Win!F8="","",Win!F8) -> 25 | H8: =IF(OR(F8="",G8="",F8>3),"",IF(G8=1,(IF(COUNTIFS(G:G,"<="&G8)<=1,1,(1-COUNTIFS(G:G,"<"&G8))/COUNTIFS(G:G,G8)))*(1+VALUE(MID(J8,FIND(": ",J8)+2,FIND("/",J8)-FIND(":",J8)-2))-1)+(1+VALUE(MID(J8,FIND(": ",J8)+2,FIND("/",J8)-FIND(":",J8)-2))-1)/VALUE(RIGHT(J8,1)),IF(G8<=VALUE(MID(J8,FIND(", ",J8)+2,IF(MID(J8,FIND(", ",J8)+2,1)="1",2,1))),(IF(COUNTIFS(G:G,"<="&G8)<=VALUE(MID(J8,FIND(", ",J8)+2,IF(MID(J8,FIND(", ",J8)+2,1)="1",2,1))),1,(VALUE(MID(J8,FIND(", ",J8)+2,IF(MID(J8,FIND(", ",J8)+2,1)="1",2,1)))-COUNTIFS(G:G,"<"&G8))/COUNTIFS(G:G,G8)))*(1*(1+VALUE(MID(J8,FIND(": ",J8)+2,FIND("/",J8)-FIND(":",J8)-2))-1)/VALUE(RIGHT(J8,1))+1)-2,-2))) | I8: =IF(OR(E8="",G8=""),"",IF(G8=1,(IF(COUNTIFS(G:G,"<="&G8)<=1,1,(1-COUNTIFS(G:G,"<"&G8))/COUNTIFS(G:G,G8)))*(1+VALUE(MID(J8,FIND(": ",J8)+2,FIND("/",J8)-FIND(":",J8)-2))-1)+(1+VALUE(MID(J8,FIND(": ",J8)+2,FIND("/",J8)-FIND(":",J8)-2))-1)/VALUE(RIGHT(J8,1)),IF(G8<=VALUE(MID(J8,FIND(", ",J8)+2,IF(MID(J8,FIND(", ",J8)+2,1)="1",2,1))),(IF(COUNTIFS(G:G,"<="&G8)<=VALUE(MID(J8,FIND(", ",J8)+2,IF(MID(J8,FIND(", ",J8)+2,1)="1",2,1))),1,(VALUE(MID(J8,FIND(", ",J8)+2,IF(MID(J8,FIND(", ",J8)+2,1)="1",2,1)))-COUNTIFS(G:G,"<"&G8))/COUNTIFS(G:G,G8)))*(1*(1+VALUE(MID(J8,FIND(": ",J8)+2,FIND("/",J8)-FIND(":",J8)-2))-1)/VALUE(RIGHT(J8,1))+1)-2,-2))) -> -2 | J8: =IF(F8="","",OFFSET([1]PGA!$AL$1,MATCH(A8,[1]PGA!$E$1:$E$500,0)-1,0)) -> Skybet: 250/1, 8pl, 1/5 | M8: =IF(FRL!A8="","",FRL!A8) -> Andrew Putnam | N8: =IF(FRL!B8="","",FRL!B8) -> 1.09% | O8: =IF(FRL!C8="","",FRL!C8) -> 92 | P8: =IF(FRL!D8="","",FRL!D8) -> 126 | Q8: =IF(P8="","",IF(ROUND((N8*(P8-1)-(1-N8))/(P8-1),3)<=0,"",ROUND((N8*(P8-1)-(1-N8))/(P8-1),3))) -> 0.003 | R8: {=IF(Q8="","",RANK(Q8, $Q$2:$Q$241) + COUNTIFS($Q$2:$Q$241, Q8, $P$2:$P$241, "<"&P8) + COUNTIFS($Q$2:$Q$241, Q8, $P$2:$P$241, P8, $M$2:$M$241, "<"&M8))} -> 10 | S8: =IF(FRL!F8="","",FRL!F8) -> 4 | T8: =IF(OR(R8="",S8="",R8>3),"",IF(S8=1,(IF(COUNTIFS(S:S,"<="&S8)<=1,1,(1-COUNTIFS(S:S,"<"&S8))/COUNTIFS(S:S,S8)))*(1+VALUE(MID(V8,FIND(": ",V8)+2,FIND("/",V8)-FIND(":",V8)-2))-1)+(1+VALUE(MID(V8,FIND(": ",V8)+2,FIND("/",V8)-FIND(":",V8)-2))-1)/VALUE(RIGHT(V8,1)),IF(S8<=VALUE(MID(V8,FIND(", ",V8)+2,IF(MID(V8,FIND(", ",V8)+2,1)="1",2,1))),(IF(COUNTIFS(S:S,"<="&S8)<=VALUE(MID(V8,FIND(", ",V8)+2,IF(MID(V8,FIND(", ",V8)+2,1)="1",2,1))),1,(VALUE(MID(V8,FIND(", ",V8)+2,IF(MID(V8,FIND(", ",V8)+2,1)="1",2,1)))-COUNTIFS(S:S,"<"&S8))/COUNTIFS(S:S,S8)))*(1*(1+VALUE(MID(V8,FIND(": ",V8)+2,FIND("/",V8)-FIND(":",V8)-2))-1)/VALUE(RIGHT(V8,1))+1)-2,-2))) | U8: =IF(OR(Q8="",S8=""),"",IF(S8=1,(IF(COUNTIFS(S:S,"<="&S8)<=1,1,(1-COUNTIFS(S:S,"<"&S8))/COUNTIFS(S:S,S8)))*(1+VALUE(MID(V8,FIND(": ",V8)+2,FIND("/",V8)-FIND(":",V8)-2))-1)+(1+VALUE(MID(V8,FIND(": ",V8)+2,FIND("/",V8)-FIND(":",V8)-2))-1)/VALUE(RIGHT(V8,1)),IF(S8<=VALUE(MID(V8,FIND(", ",V8)+2,IF(MID(V8,FIND(", ",V8)+2,1)="1",2,1))),(IF(COUNTIFS(S:S,"<="&S8)<=VALUE(MID(V8,FIND(", ",V8)+2,IF(MID(V8,FIND(", ",V8)+2,1)="1",2,1))),1,(VALUE(MID(V8,FIND(", ",V8)+2,IF(MID(V8,FIND(", ",V8)+2,1)="1",2,1)))-COUNTIFS(S:S,"<"&S8))/COUNTIFS(S:S,S8)))*(1*(1+VALUE(MID(V8,FIND(": ",V8)+2,FIND("/",V8)-FIND(":",V8)-2))-1)/VALUE(RIGHT(V8,1))+1)-2,-2))) -> 7.2142857 | V8: =IF(R8="","",OFFSET([2]PGA!$AL$1,MATCH(M8,[2]PGA!$E$1:$E$500,0)-1,0)) -> Bet365: 125/1, 5pl, 1/4
A9: =IF(Win!A9="","",Win!A9) -> Austin Eckroat | B9: =IF(Win!B9="","",VALUE(Win!B9)) -> 0.007 | C9: =IF(Win!C9="","",Win!C9) -> 143 | D9: =IF(Win!D9="","",Win!D9) -> 81 | E9: =IF(D9="","",IF(ROUND((B9*(D9-1)-(1-B9))/(D9-1),3)<=0,"",ROUND((B9*(D9-1)-(1-B9))/(D9-1),3))) | F9: {=IF(E9="","",RANK(E9, $E$2:$E$241) + COUNTIFS($E$2:$E$241, E9, $D$2:$D$241, "<"&D9) + COUNTIFS($E$2:$E$241, E9, $D$2:$D$241, D9, $A$2:$A$241, "<"&A9))} | G9: =IF(Win!F9="","",Win!F9) -> 95 | H9: =IF(OR(F9="",G9="",F9>3),"",IF(G9=1,(IF(COUNTIFS(G:G,"<="&G9)<=1,1,(1-COUNTIFS(G:G,"<"&G9))/COUNTIFS(G:G,G9)))*(1+VALUE(MID(J9,FIND(": ",J9)+2,FIND("/",J9)-FIND(":",J9)-2))-1)+(1+VALUE(MID(J9,FIND(": ",J9)+2,FIND("/",J9)-FIND(":",J9)-2))-1)/VALUE(RIGHT(J9,1)),IF(G9<=VALUE(MID(J9,FIND(", ",J9)+2,IF(MID(J9,FIND(", ",J9)+2,1)="1",2,1))),(IF(COUNTIFS(G:G,"<="&G9)<=VALUE(MID(J9,FIND(", ",J9)+2,IF(MID(J9,FIND(", ",J9)+2,1)="1",2,1))),1,(VALUE(MID(J9,FIND(", ",J9)+2,IF(MID(J9,FIND(", ",J9)+2,1)="1",2,1)))-COUNTIFS(G:G,"<"&G9))/COUNTIFS(G:G,G9)))*(1*(1+VALUE(MID(J9,FIND(": ",J9)+2,FIND("/",J9)-FIND(":",J9)-2))-1)/VALUE(RIGHT(J9,1))+1)-2,-2))) | I9: =IF(OR(E9="",G9=""),"",IF(G9=1,(IF(COUNTIFS(G:G,"<="&G9)<=1,1,(1-COUNTIFS(G:G,"<"&G9))/COUNTIFS(G:G,G9)))*(1+VALUE(MID(J9,FIND(": ",J9)+2,FIND("/",J9)-FIND(":",J9)-2))-1)+(1+VALUE(MID(J9,FIND(": ",J9)+2,FIND("/",J9)-FIND(":",J9)-2))-1)/VALUE(RIGHT(J9,1)),IF(G9<=VALUE(MID(J9,FIND(", ",J9)+2,IF(MID(J9,FIND(", ",J9)+2,1)="1",2,1))),(IF(COUNTIFS(G:G,"<="&G9)<=VALUE(MID(J9,FIND(", ",J9)+2,IF(MID(J9,FIND(", ",J9)+2,1)="1",2,1))),1,(VALUE(MID(J9,FIND(", ",J9)+2,IF(MID(J9,FIND(", ",J9)+2,1)="1",2,1)))-COUNTIFS(G:G,"<"&G9))/COUNTIFS(G:G,G9)))*(1*(1+VALUE(MID(J9,FIND(": ",J9)+2,FIND("/",J9)-FIND(":",J9)-2))-1)/VALUE(RIGHT(J9,1))+1)-2,-2))) | J9: =IF(F9="","",OFFSET([1]PGA!$AL$1,MATCH(A9,[1]PGA!$E$1:$E$500,0)-1,0)) | M9: =IF(FRL!A9="","",FRL!A9) -> Austin Eckroat | N9: =IF(FRL!B9="","",FRL!B9) -> 1.28% | O9: =IF(FRL!C9="","",FRL!C9) -> 78 | P9: =IF(FRL!D9="","",FRL!D9) -> 81 | Q9: =IF(P9="","",IF(ROUND((N9*(P9-1)-(1-N9))/(P9-1),3)<=0,"",ROUND((N9*(P9-1)-(1-N9))/(P9-1),3))) | R9: {=IF(Q9="","",RANK(Q9, $Q$2:$Q$241) + COUNTIFS($Q$2:$Q$241, Q9, $P$2:$P$241, "<"&P9) + COUNTIFS($Q$2:$Q$241, Q9, $P$2:$P$241, P9, $M$2:$M$241, "<"&M9))} | S9: =IF(FRL!F9="","",FRL!F9) -> 92 | T9: =IF(OR(R9="",S9="",R9>3),"",IF(S9=1,(IF(COUNTIFS(S:S,"<="&S9)<=1,1,(1-COUNTIFS(S:S,"<"&S9))/COUNTIFS(S:S,S9)))*(1+VALUE(MID(V9,FIND(": ",V9)+2,FIND("/",V9)-FIND(":",V9)-2))-1)+(1+VALUE(MID(V9,FIND(": ",V9)+2,FIND("/",V9)-FIND(":",V9)-2))-1)/VALUE(RIGHT(V9,1)),IF(S9<=VALUE(MID(V9,FIND(", ",V9)+2,IF(MID(V9,FIND(", ",V9)+2,1)="1",2,1))),(IF(COUNTIFS(S:S,"<="&S9)<=VALUE(MID(V9,FIND(", ",V9)+2,IF(MID(V9,FIND(", ",V9)+2,1)="1",2,1))),1,(VALUE(MID(V9,FIND(", ",V9)+2,IF(MID(V9,FIND(", ",V9)+2,1)="1",2,1)))-COUNTIFS(S:S,"<"&S9))/COUNTIFS(S:S,S9)))*(1*(1+VALUE(MID(V9,FIND(": ",V9)+2,FIND("/",V9)-FIND(":",V9)-2))-1)/VALUE(RIGHT(V9,1))+1)-2,-2))) | U9: =IF(OR(Q9="",S9=""),"",IF(S9=1,(IF(COUNTIFS(S:S,"<="&S9)<=1,1,(1-COUNTIFS(S:S,"<"&S9))/COUNTIFS(S:S,S9)))*(1+VALUE(MID(V9,FIND(": ",V9)+2,FIND("/",V9)-FIND(":",V9)-2))-1)+(1+VALUE(MID(V9,FIND(": ",V9)+2,FIND("/",V9)-FIND(":",V9)-2))-1)/VALUE(RIGHT(V9,1)),IF(S9<=VALUE(MID(V9,FIND(", ",V9)+2,IF(MID(V9,FIND(", ",V9)+2,1)="1",2,1))),(IF(COUNTIFS(S:S,"<="&S9)<=VALUE(MID(V9,FIND(", ",V9)+2,IF(MID(V9,FIND(", ",V9)+2,1)="1",2,1))),1,(VALUE(MID(V9,FIND(", ",V9)+2,IF(MID(V9,FIND(", ",V9)+2,1)="1",2,1)))-COUNTIFS(S:S,"<"&S9))/COUNTIFS(S:S,S9)))*(1*(1+VALUE(MID(V9,FIND(": ",V9)+2,FIND("/",V9)-FIND(":",V9)-2))-1)/VALUE(RIGHT(V9,1))+1)-2,-2))) | V9: =IF(R9="","",OFFSET([2]PGA!$AL$1,MATCH(M9,[2]PGA!$E$1:$E$500,0)-1,0))
A10: =IF(Win!A10="","",Win!A10) -> Beau Hossler | B10: =IF(Win!B10="","",VALUE(Win!B10)) -> 0.0069 | C10: =IF(Win!C10="","",Win!C10) -> 145 | D10: =IF(Win!D10="","",Win!D10) -> 81 | E10: =IF(D10="","",IF(ROUND((B10*(D10-1)-(1-B10))/(D10-1),3)<=0,"",ROUND((B10*(D10-1)-(1-B10))/(D10-1),3))) | F10: {=IF(E10="","",RANK(E10, $E$2:$E$241) + COUNTIFS($E$2:$E$241, E10, $D$2:$D$241, "<"&D10) + COUNTIFS($E$2:$E$241, E10, $D$2:$D$241, D10, $A$2:$A$241, "<"&A10))} | G10: =IF(Win!F10="","",Win!F10) -> 32 | H10: =IF(OR(F10="",G10="",F10>3),"",IF(G10=1,(IF(COUNTIFS(G:G,"<="&G10)<=1,1,(1-COUNTIFS(G:G,"<"&G10))/COUNTIFS(G:G,G10)))*(1+VALUE(MID(J10,FIND(": ",J10)+2,FIND("/",J10)-FIND(":",J10)-2))-1)+(1+VALUE(MID(J10,FIND(": ",J10)+2,FIND("/",J10)-FIND(":",J10)-2))-1)/VALUE(RIGHT(J10,1)),IF(G10<=VALUE(MID(J10,FIND(", ",J10)+2,IF(MID(J10,FIND(", ",J10)+2,1)="1",2,1))),(IF(COUNTIFS(G:G,"<="&G10)<=VALUE(MID(J10,FIND(", ",J10)+2,IF(MID(J10,FIND(", ",J10)+2,1)="1",2,1))),1,(VALUE(MID(J10,FIND(", ",J10)+2,IF(MID(J10,FIND(", ",J10)+2,1)="1",2,1)))-COUNTIFS(G:G,"<"&G10))/COUNTIFS(G:G,G10)))*(1*(1+VALUE(MID(J10,FIND(": ",J10)+2,FIND("/",J10)-FIND(":",J10)-2))-1)/VALUE(RIGHT(J10,1))+1)-2,-2))) | I10: =IF(OR(E10="",G10=""),"",IF(G10=1,(IF(COUNTIFS(G:G,"<="&G10)<=1,1,(1-COUNTIFS(G:G,"<"&G10))/COUNTIFS(G:G,G10)))*(1+VALUE(MID(J10,FIND(": ",J10)+2,FIND("/",J10)-FIND(":",J10)-2))-1)+(1+VALUE(MID(J10,FIND(": ",J10)+2,FIND("/",J10)-FIND(":",J10)-2))-1)/VALUE(RIGHT(J10,1)),IF(G10<=VALUE(MID(J10,FIND(", ",J10)+2,IF(MID(J10,FIND(", ",J10)+2,1)="1",2,1))),(IF(COUNTIFS(G:G,"<="&G10)<=VALUE(MID(J10,FIND(", ",J10)+2,IF(MID(J10,FIND(", ",J10)+2,1)="1",2,1))),1,(VALUE(MID(J10,FIND(", ",J10)+2,IF(MID(J10,FIND(", ",J10)+2,1)="1",2,1)))-COUNTIFS(G:G,"<"&G10))/COUNTIFS(G:G,G10)))*(1*(1+VALUE(MID(J10,FIND(": ",J10)+2,FIND("/",J10)-FIND(":",J10)-2))-1)/VALUE(RIGHT(J10,1))+1)-2,-2))) | J10: =IF(F10="","",OFFSET([1]PGA!$AL$1,MATCH(A10,[1]PGA!$E$1:$E$500,0)-1,0)) | M10: =IF(FRL!A10="","",FRL!A10) -> Beau Hossler | N10: =IF(FRL!B10="","",FRL!B10) -> 1.27% | O10: =IF(FRL!C10="","",FRL!C10) -> 79 | P10: =IF(FRL!D10="","",FRL!D10) -> 81 | Q10: =IF(P10="","",IF(ROUND((N10*(P10-1)-(1-N10))/(P10-1),3)<=0,"",ROUND((N10*(P10-1)-(1-N10))/(P10-1),3))) | R10: {=IF(Q10="","",RANK(Q10, $Q$2:$Q$241) + COUNTIFS($Q$2:$Q$241, Q10, $P$2:$P$241, "<"&P10) + COUNTIFS($Q$2:$Q$241, Q10, $P$2:$P$241, P10, $M$2:$M$241, "<"&M10))} | S10: =IF(FRL!F10="","",FRL!F10) -> 120 | T10: =IF(OR(R10="",S10="",R10>3),"",IF(S10=1,(IF(COUNTIFS(S:S,"<="&S10)<=1,1,(1-COUNTIFS(S:S,"<"&S10))/COUNTIFS(S:S,S10)))*(1+VALUE(MID(V10,FIND(": ",V10)+2,FIND("/",V10)-FIND(":",V10)-2))-1)+(1+VALUE(MID(V10,FIND(": ",V10)+2,FIND("/",V10)-FIND(":",V10)-2))-1)/VALUE(RIGHT(V10,1)),IF(S10<=VALUE(MID(V10,FIND(", ",V10)+2,IF(MID(V10,FIND(", ",V10)+2,1)="1",2,1))),(IF(COUNTIFS(S:S,"<="&S10)<=VALUE(MID(V10,FIND(", ",V10)+2,IF(MID(V10,FIND(", ",V10)+2,1)="1",2,1))),1,(VALUE(MID(V10,FIND(", ",V10)+2,IF(MID(V10,FIND(", ",V10)+2,1)="1",2,1)))-COUNTIFS(S:S,"<"&S10))/COUNTIFS(S:S,S10)))*(1*(1+VALUE(MID(V10,FIND(": ",V10)+2,FIND("/",V10)-FIND(":",V10)-2))-1)/VALUE(RIGHT(V10,1))+1)-2,-2))) | U10: =IF(OR(Q10="",S10=""),"",IF(S10=1,(IF(COUNTIFS(S:S,"<="&S10)<=1,1,(1-COUNTIFS(S:S,"<"&S10))/COUNTIFS(S:S,S10)))*(1+VALUE(MID(V10,FIND(": ",V10)+2,FIND("/",V10)-FIND(":",V10)-2))-1)+(1+VALUE(MID(V10,FIND(": ",V10)+2,FIND("/",V10)-FIND(":",V10)-2))-1)/VALUE(RIGHT(V10,1)),IF(S10<=VALUE(MID(V10,FIND(", ",V10)+2,IF(MID(V10,FIND(", ",V10)+2,1)="1",2,1))),(IF(COUNTIFS(S:S,"<="&S10)<=VALUE(MID(V10,FIND(", ",V10)+2,IF(MID(V10,FIND(", ",V10)+2,1)="1",2,1))),1,(VALUE(MID(V10,FIND(", ",V10)+2,IF(MID(V10,FIND(", ",V10)+2,1)="1",2,1)))-COUNTIFS(S:S,"<"&S10))/COUNTIFS(S:S,S10)))*(1*(1+VALUE(MID(V10,FIND(": ",V10)+2,FIND("/",V10)-FIND(":",V10)-2))-1)/VALUE(RIGHT(V10,1))+1)-2,-2))) | V10: =IF(R10="","",OFFSET([2]PGA!$AL$1,MATCH(M10,[2]PGA!$E$1:$E$500,0)-1,0))
A11: =IF(Win!A11="","",Win!A11) -> Ben Griffin | B11: =IF(Win!B11="","",VALUE(Win!B11)) -> 0.0054 | C11: =IF(Win!C11="","",Win!C11) -> 185 | D11: =IF(Win!D11="","",Win!D11) -> 126 | E11: =IF(D11="","",IF(ROUND((B11*(D11-1)-(1-B11))/(D11-1),3)<=0,"",ROUND((B11*(D11-1)-(1-B11))/(D11-1),3))) | F11: {=IF(E11="","",RANK(E11, $E$2:$E$241) + COUNTIFS($E$2:$E$241, E11, $D$2:$D$241, "<"&D11) + COUNTIFS($E$2:$E$241, E11, $D$2:$D$241, D11, $A$2:$A$241, "<"&A11))} | G11: =IF(Win!F11="","",Win!F11) -> 36 | H11: =IF(OR(F11="",G11="",F11>3),"",IF(G11=1,(IF(COUNTIFS(G:G,"<="&G11)<=1,1,(1-COUNTIFS(G:G,"<"&G11))/COUNTIFS(G:G,G11)))*(1+VALUE(MID(J11,FIND(": ",J11)+2,FIND("/",J11)-FIND(":",J11)-2))-1)+(1+VALUE(MID(J11,FIND(": ",J11)+2,FIND("/",J11)-FIND(":",J11)-2))-1)/VALUE(RIGHT(J11,1)),IF(G11<=VALUE(MID(J11,FIND(", ",J11)+2,IF(MID(J11,FIND(", ",J11)+2,1)="1",2,1))),(IF(COUNTIFS(G:G,"<="&G11)<=VALUE(MID(J11,FIND(", ",J11)+2,IF(MID(J11,FIND(", ",J11)+2,1)="1",2,1))),1,(VALUE(MID(J11,FIND(", ",J11)+2,IF(MID(J11,FIND(", ",J11)+2,1)="1",2,1)))-COUNTIFS(G:G,"<"&G11))/COUNTIFS(G:G,G11)))*(1*(1+VALUE(MID(J11,FIND(": ",J11)+2,FIND("/",J11)-FIND(":",J11)-2))-1)/VALUE(RIGHT(J11,1))+1)-2,-2))) | I11: =IF(OR(E11="",G11=""),"",IF(G11=1,(IF(COUNTIFS(G:G,"<="&G11)<=1,1,(1-COUNTIFS(G:G,"<"&G11))/COUNTIFS(G:G,G11)))*(1+VALUE(MID(J11,FIND(": ",J11)+2,FIND("/",J11)-FIND(":",J11)-2))-1)+(1+VALUE(MID(J11,FIND(": ",J11)+2,FIND("/",J11)-FIND(":",J11)-2))-1)/VALUE(RIGHT(J11,1)),IF(G11<=VALUE(MID(J11,FIND(", ",J11)+2,IF(MID(J11,FIND(", ",J11)+2,1)="1",2,1))),(IF(COUNTIFS(G:G,"<="&G11)<=VALUE(MID(J11,FIND(", ",J11)+2,IF(MID(J11,FIND(", ",J11)+2,1)="1",2,1))),1,(VALUE(MID(J11,FIND(", ",J11)+2,IF(MID(J11,FIND(", ",J11)+2,1)="1",2,1)))-COUNTIFS(G:G,"<"&G11))/COUNTIFS(G:G,G11)))*(1*(1+VALUE(MID(J11,FIND(": ",J11)+2,FIND("/",J11)-FIND(":",J11)-2))-1)/VALUE(RIGHT(J11,1))+1)-2,-2))) | J11: =IF(F11="","",OFFSET([1]PGA!$AL$1,MATCH(A11,[1]PGA!$E$1:$E$500,0)-1,0)) | M11: =IF(FRL!A11="","",FRL!A11) -> Ben Griffin | N11: =IF(FRL!B11="","",FRL!B11) -> 0.46% | O11: =IF(FRL!C11="","",FRL!C11) -> 217 | P11: =IF(FRL!D11="","",FRL!D11) -> 91 | Q11: =IF(P11="","",IF(ROUND((N11*(P11-1)-(1-N11))/(P11-1),3)<=0,"",ROUND((N11*(P11-1)-(1-N11))/(P11-1),3))) | R11: {=IF(Q11="","",RANK(Q11, $Q$2:$Q$241) + COUNTIFS($Q$2:$Q$241, Q11, $P$2:$P$241, "<"&P11) + COUNTIFS($Q$2:$Q$241, Q11, $P$2:$P$241, P11, $M$2:$M$241, "<"&M11))} | S11: =IF(FRL!F11="","",FRL!F11) -> 67 | T11: =IF(OR(R11="",S11="",R11>3),"",IF(S11=1,(IF(COUNTIFS(S:S,"<="&S11)<=1,1,(1-COUNTIFS(S:S,"<"&S11))/COUNTIFS(S:S,S11)))*(1+VALUE(MID(V11,FIND(": ",V11)+2,FIND("/",V11)-FIND(":",V11)-2))-1)+(1+VALUE(MID(V11,FIND(": ",V11)+2,FIND("/",V11)-FIND(":",V11)-2))-1)/VALUE(RIGHT(V11,1)),IF(S11<=VALUE(MID(V11,FIND(", ",V11)+2,IF(MID(V11,FIND(", ",V11)+2,1)="1",2,1))),(IF(COUNTIFS(S:S,"<="&S11)<=VALUE(MID(V11,FIND(", ",V11)+2,IF(MID(V11,FIND(", ",V11)+2,1)="1",2,1))),1,(VALUE(MID(V11,FIND(", ",V11)+2,IF(MID(V11,FIND(", ",V11)+2,1)="1",2,1)))-COUNTIFS(S:S,"<"&S11))/COUNTIFS(S:S,S11)))*(1*(1+VALUE(MID(V11,FIND(": ",V11)+2,FIND("/",V11)-FIND(":",V11)-2))-1)/VALUE(RIGHT(V11,1))+1)-2,-2))) | U11: =IF(OR(Q11="",S11=""),"",IF(S11=1,(IF(COUNTIFS(S:S,"<="&S11)<=1,1,(1-COUNTIFS(S:S,"<"&S11))/COUNTIFS(S:S,S11)))*(1+VALUE(MID(V11,FIND(": ",V11)+2,FIND("/",V11)-FIND(":",V11)-2))-1)+(1+VALUE(MID(V11,FIND(": ",V11)+2,FIND("/",V11)-FIND(":",V11)-2))-1)/VALUE(RIGHT(V11,1)),IF(S11<=VALUE(MID(V11,FIND(", ",V11)+2,IF(MID(V11,FIND(", ",V11)+2,1)="1",2,1))),(IF(COUNTIFS(S:S,"<="&S11)<=VALUE(MID(V11,FIND(", ",V11)+2,IF(MID(V11,FIND(", ",V11)+2,1)="1",2,1))),1,(VALUE(MID(V11,FIND(", ",V11)+2,IF(MID(V11,FIND(", ",V11)+2,1)="1",2,1)))-COUNTIFS(S:S,"<"&S11))/COUNTIFS(S:S,S11)))*(1*(1+VALUE(MID(V11,FIND(": ",V11)+2,FIND("/",V11)-FIND(":",V11)-2))-1)/VALUE(RIGHT(V11,1))+1)-2,-2))) | V11: =IF(R11="","",OFFSET([2]PGA!$AL$1,MATCH(M11,[2]PGA!$E$1:$E$500,0)-1,0))
A12: =IF(Win!A12="","",Win!A12) -> Ben Kohles | B12: =IF(Win!B12="","",VALUE(Win!B12)) -> 0.0011 | C12: =IF(Win!C12="","",Win!C12) -> 909 | D12: =IF(Win!D12="","",Win!D12) -> 501 | E12: =IF(D12="","",IF(ROUND((B12*(D12-1)-(1-B12))/(D12-1),3)<=0,"",ROUND((B12*(D12-1)-(1-B12))/(D12-1),3))) | F12: {=IF(E12="","",RANK(E12, $E$2:$E$241) + COUNTIFS($E$2:$E$241, E12, $D$2:$D$241, "<"&D12) + COUNTIFS($E$2:$E$241, E12, $D$2:$D$241, D12, $A$2:$A$241, "<"&A12))} | G12: =IF(Win!F12="","",Win!F12) -> 78 | H12: =IF(OR(F12="",G12="",F12>3),"",IF(G12=1,(IF(COUNTIFS(G:G,"<="&G12)<=1,1,(1-COUNTIFS(G:G,"<"&G12))/COUNTIFS(G:G,G12)))*(1+VALUE(MID(J12,FIND(": ",J12)+2,FIND("/",J12)-FIND(":",J12)-2))-1)+(1+VALUE(MID(J12,FIND(": ",J12)+2,FIND("/",J12)-FIND(":",J12)-2))-1)/VALUE(RIGHT(J12,1)),IF(G12<=VALUE(MID(J12,FIND(", ",J12)+2,IF(MID(J12,FIND(", ",J12)+2,1)="1",2,1))),(IF(COUNTIFS(G:G,"<="&G12)<=VALUE(MID(J12,FIND(", ",J12)+2,IF(MID(J12,FIND(", ",J12)+2,1)="1",2,1))),1,(VALUE(MID(J12,FIND(", ",J12)+2,IF(MID(J12,FIND(", ",J12)+2,1)="1",2,1)))-COUNTIFS(G:G,"<"&G12))/COUNTIFS(G:G,G12)))*(1*(1+VALUE(MID(J12,FIND(": ",J12)+2,FIND("/",J12)-FIND(":",J12)-2))-1)/VALUE(RIGHT(J12,1))+1)-2,-2))) | I12: =IF(OR(E12="",G12=""),"",IF(G12=1,(IF(COUNTIFS(G:G,"<="&G12)<=1,1,(1-COUNTIFS(G:G,"<"&G12))/COUNTIFS(G:G,G12)))*(1+VALUE(MID(J12,FIND(": ",J12)+2,FIND("/",J12)-FIND(":",J12)-2))-1)+(1+VALUE(MID(J12,FIND(": ",J12)+2,FIND("/",J12)-FIND(":",J12)-2))-1)/VALUE(RIGHT(J12,1)),IF(G12<=VALUE(MID(J12,FIND(", ",J12)+2,IF(MID(J12,FIND(", ",J12)+2,1)="1",2,1))),(IF(COUNTIFS(G:G,"<="&G12)<=VALUE(MID(J12,FIND(", ",J12)+2,IF(MID(J12,FIND(", ",J12)+2,1)="1",2,1))),1,(VALUE(MID(J12,FIND(", ",J12)+2,IF(MID(J12,FIND(", ",J12)+2,1)="1",2,1)))-COUNTIFS(G:G,"<"&G12))/COUNTIFS(G:G,G12)))*(1*(1+VALUE(MID(J12,FIND(": ",J12)+2,FIND("/",J12)-FIND(":",J12)-2))-1)/VALUE(RIGHT(J12,1))+1)-2,-2))) | J12: =IF(F12="","",OFFSET([1]PGA!$AL$1,MATCH(A12,[1]PGA!$E$1:$E$500,0)-1,0)) | M12: =IF(FRL!A12="","",FRL!A12) -> Ben Kohles | N12: =IF(FRL!B12="","",FRL!B12) -> 0.28% | O12: =IF(FRL!C12="","",FRL!C12) -> 357 | P12: =IF(FRL!D12="","",FRL!D12) -> 201 | Q12: =IF(P12="","",IF(ROUND((N12*(P12-1)-(1-N12))/(P12-1),3)<=0,"",ROUND((N12*(P12-1)-(1-N12))/(P12-1),3))) | R12: {=IF(Q12="","",RANK(Q12, $Q$2:$Q$241) + COUNTIFS($Q$2:$Q$241, Q12, $P$2:$P$241, "<"&P12) + COUNTIFS($Q$2:$Q$241, Q12, $P$2:$P$241, P12, $M$2:$M$241, "<"&M12))} | S12: =IF(FRL!F12="","",FRL!F12) -> 44 | T12: =IF(OR(R12="",S12="",R12>3),"",IF(S12=1,(IF(COUNTIFS(S:S,"<="&S12)<=1,1,(1-COUNTIFS(S:S,"<"&S12))/COUNTIFS(S:S,S12)))*(1+VALUE(MID(V12,FIND(": ",V12)+2,FIND("/",V12)-FIND(":",V12)-2))-1)+(1+VALUE(MID(V12,FIND(": ",V12)+2,FIND("/",V12)-FIND(":",V12)-2))-1)/VALUE(RIGHT(V12,1)),IF(S12<=VALUE(MID(V12,FIND(", ",V12)+2,IF(MID(V12,FIND(", ",V12)+2,1)="1",2,1))),(IF(COUNTIFS(S:S,"<="&S12)<=VALUE(MID(V12,FIND(", ",V12)+2,IF(MID(V12,FIND(", ",V12)+2,1)="1",2,1))),1,(VALUE(MID(V12,FIND(", ",V12)+2,IF(MID(V12,FIND(", ",V12)+2,1)="1",2,1)))-COUNTIFS(S:S,"<"&S12))/COUNTIFS(S:S,S12)))*(1*(1+VALUE(MID(V12,FIND(": ",V12)+2,FIND("/",V12)-FIND(":",V12)-2))-1)/VALUE(RIGHT(V12,1))+1)-2,-2))) | U12: =IF(OR(Q12="",S12=""),"",IF(S12=1,(IF(COUNTIFS(S:S,"<="&S12)<=1,1,(1-COUNTIFS(S:S,"<"&S12))/COUNTIFS(S:S,S12)))*(1+VALUE(MID(V12,FIND(": ",V12)+2,FIND("/",V12)-FIND(":",V12)-2))-1)+(1+VALUE(MID(V12,FIND(": ",V12)+2,FIND("/",V12)-FIND(":",V12)-2))-1)/VALUE(RIGHT(V12,1)),IF(S12<=VALUE(MID(V12,FIND(", ",V12)+2,IF(MID(V12,FIND(", ",V12)+2,1)="1",2,1))),(IF(COUNTIFS(S:S,"<="&S12)<=VALUE(MID(V12,FIND(", ",V12)+2,IF(MID(V12,FIND(", ",V12)+2,1)="1",2,1))),1,(VALUE(MID(V12,FIND(", ",V12)+2,IF(MID(V12,FIND(", ",V12)+2,1)="1",2,1)))-COUNTIFS(S:S,"<"&S12))/COUNTIFS(S:S,S12)))*(1*(1+VALUE(MID(V12,FIND(": ",V12)+2,FIND("/",V12)-FIND(":",V12)-2))-1)/VALUE(RIGHT(V12,1))+1)-2,-2))) | V12: =IF(R12="","",OFFSET([2]PGA!$AL$1,MATCH(M12,[2]PGA!$E$1:$E$500,0)-1,0))
A13: =IF(Win!A13="","",Win!A13) -> Ben Martin | B13: =IF(Win!B13="","",VALUE(Win!B13)) -> 0.0012 | C13: =IF(Win!C13="","",Win!C13) -> 833 | D13: =IF(Win!D13="","",Win!D13) -> 601 | E13: =IF(D13="","",IF(ROUND((B13*(D13-1)-(1-B13))/(D13-1),3)<=0,"",ROUND((B13*(D13-1)-(1-B13))/(D13-1),3))) | F13: {=IF(E13="","",RANK(E13, $E$2:$E$241) + COUNTIFS($E$2:$E$241, E13, $D$2:$D$241, "<"&D13) + COUNTIFS($E$2:$E$241, E13, $D$2:$D$241, D13, $A$2:$A$241, "<"&A13))} | G13: =IF(Win!F13="","",Win!F13) -> 78 | H13: =IF(OR(F13="",G13="",F13>3),"",IF(G13=1,(IF(COUNTIFS(G:G,"<="&G13)<=1,1,(1-COUNTIFS(G:G,"<"&G13))/COUNTIFS(G:G,G13)))*(1+VALUE(MID(J13,FIND(": ",J13)+2,FIND("/",J13)-FIND(":",J13)-2))-1)+(1+VALUE(MID(J13,FIND(": ",J13)+2,FIND("/",J13)-FIND(":",J13)-2))-1)/VALUE(RIGHT(J13,1)),IF(G13<=VALUE(MID(J13,FIND(", ",J13)+2,IF(MID(J13,FIND(", ",J13)+2,1)="1",2,1))),(IF(COUNTIFS(G:G,"<="&G13)<=VALUE(MID(J13,FIND(", ",J13)+2,IF(MID(J13,FIND(", ",J13)+2,1)="1",2,1))),1,(VALUE(MID(J13,FIND(", ",J13)+2,IF(MID(J13,FIND(", ",J13)+2,1)="1",2,1)))-COUNTIFS(G:G,"<"&G13))/COUNTIFS(G:G,G13)))*(1*(1+VALUE(MID(J13,FIND(": ",J13)+2,FIND("/",J13)-FIND(":",J13)-2))-1)/VALUE(RIGHT(J13,1))+1)-2,-2))) | I13: =IF(OR(E13="",G13=""),"",IF(G13=1,(IF(COUNTIFS(G:G,"<="&G13)<=1,1,(1-COUNTIFS(G:G,"<"&G13))/COUNTIFS(G:G,G13)))*(1+VALUE(MID(J13,FIND(": ",J13)+2,FIND("/",J13)-FIND(":",J13)-2))-1)+(1+VALUE(MID(J13,FIND(": ",J13)+2,FIND("/",J13)-FIND(":",J13)-2))-1)/VALUE(RIGHT(J13,1)),IF(G13<=VALUE(MID(J13,FIND(", ",J13)+2,IF(MID(J13,FIND(", ",J13)+2,1)="1",2,1))),(IF(COUNTIFS(G:G,"<="&G13)<=VALUE(MID(J13,FIND(", ",J13)+2,IF(MID(J13,FIND(", ",J13)+2,1)="1",2,1))),1,(VALUE(MID(J13,FIND(", ",J13)+2,IF(MID(J13,FIND(", ",J13)+2,1)="1",2,1)))-COUNTIFS(G:G,"<"&G13))/COUNTIFS(G:G,G13)))*(1*(1+VALUE(MID(J13,FIND(": ",J13)+2,FIND("/",J13)-FIND(":",J13)-2))-1)/VALUE(RIGHT(J13,1))+1)-2,-2))) | J13: =IF(F13="","",OFFSET([1]PGA!$AL$1,MATCH(A13,[1]PGA!$E$1:$E$500,0)-1,0)) | M13: =IF(FRL!A13="","",FRL!A13) -> Ben Martin | N13: =IF(FRL!B13="","",FRL!B13) -> 0.63% | O13: =IF(FRL!C13="","",FRL!C13) -> 159 | P13: =IF(FRL!D13="","",FRL!D13) -> 251 | Q13: =IF(P13="","",IF(ROUND((N13*(P13-1)-(1-N13))/(P13-1),3)<=0,"",ROUND((N13*(P13-1)-(1-N13))/(P13-1),3))) -> 0.002 | R13: {=IF(Q13="","",RANK(Q13, $Q$2:$Q$241) + COUNTIFS($Q$2:$Q$241, Q13, $P$2:$P$241, "<"&P13) + COUNTIFS($Q$2:$Q$241, Q13, $P$2:$P$241, P13, $M$2:$M$241, "<"&M13))} -> 27 | S13: =IF(FRL!F13="","",FRL!F13) -> 44 | T13: =IF(OR(R13="",S13="",R13>3),"",IF(S13=1,(IF(COUNTIFS(S:S,"<="&S13)<=1,1,(1-COUNTIFS(S:S,"<"&S13))/COUNTIFS(S:S,S13)))*(1+VALUE(MID(V13,FIND(": ",V13)+2,FIND("/",V13)-FIND(":",V13)-2))-1)+(1+VALUE(MID(V13,FIND(": ",V13)+2,FIND("/",V13)-FIND(":",V13)-2))-1)/VALUE(RIGHT(V13,1)),IF(S13<=VALUE(MID(V13,FIND(", ",V13)+2,IF(MID(V13,FIND(", ",V13)+2,1)="1",2,1))),(IF(COUNTIFS(S:S,"<="&S13)<=VALUE(MID(V13,FIND(", ",V13)+2,IF(MID(V13,FIND(", ",V13)+2,1)="1",2,1))),1,(VALUE(MID(V13,FIND(", ",V13)+2,IF(MID(V13,FIND(", ",V13)+2,1)="1",2,1)))-COUNTIFS(S:S,"<"&S13))/COUNTIFS(S:S,S13)))*(1*(1+VALUE(MID(V13,FIND(": ",V13)+2,FIND("/",V13)-FIND(":",V13)-2))-1)/VALUE(RIGHT(V13,1))+1)-2,-2))) | U13: =IF(OR(Q13="",S13=""),"",IF(S13=1,(IF(COUNTIFS(S:S,"<="&S13)<=1,1,(1-COUNTIFS(S:S,"<"&S13))/COUNTIFS(S:S,S13)))*(1+VALUE(MID(V13,FIND(": ",V13)+2,FIND("/",V13)-FIND(":",V13)-2))-1)+(1+VALUE(MID(V13,FIND(": ",V13)+2,FIND("/",V13)-FIND(":",V13)-2))-1)/VALUE(RIGHT(V13,1)),IF(S13<=VALUE(MID(V13,FIND(", ",V13)+2,IF(MID(V13,FIND(", ",V13)+2,1)="1",2,1))),(IF(COUNTIFS(S:S,"<="&S13)<=VALUE(MID(V13,FIND(", ",V13)+2,IF(MID(V13,FIND(", ",V13)+2,1)="1",2,1))),1,(VALUE(MID(V13,FIND(", ",V13)+2,IF(MID(V13,FIND(", ",V13)+2,1)="1",2,1)))-COUNTIFS(S:S,"<"&S13))/COUNTIFS(S:S,S13)))*(1*(1+VALUE(MID(V13,FIND(": ",V13)+2,FIND("/",V13)-FIND(":",V13)-2))-1)/VALUE(RIGHT(V13,1))+1)-2,-2))) -> -2 | V13: =IF(R13="","",OFFSET([2]PGA!$AL$1,MATCH(M13,[2]PGA!$E$1:$E$500,0)-1,0)) -> VBet: 250/1, 5pl, 1/4
... A241: =IF(Win!A241="","",Win!A241) | B241: =IF(Win!B241="","",VALUE(Win!B241)) | C241: =IF(Win!C241="","",Win!C241) | D241: =IF(Win!D241="","",Win!D241) | E241: =IF(D241="","",IF(ROUND((B241*(D241-1)-(1-B241))/(D241-1),3)<=0,"",ROUND((B241*(D241-1)-(1-B241))/(D241-1),3))) | F241: {=IF(E241="","",RANK(E241, $E$2:$E$241) + COUNTIFS($E$2:$E$241, E241, $D$2:$D$241, "<"&D241) + COUNTIFS($E$2:$E$241, E241, $D$2:$D$241, D241, $A$2:$A$241, "<"&A241))} | G241: =IF(Win!F241="","",Win!F241) | H241: =IF(OR(F241="",G241="",F241>3),"",IF(G241=1,(IF(COUNTIFS(G:G,"<="&G241)<=1,1,(1-COUNTIFS(G:G,"<"&G241))/COUNTIFS(G:G,G241)))*(1+VALUE(MID(J241,FIND(": ",J241)+2,FIND("/",J241)-FIND(":",J241)-2))-1)+(1+VALUE(MID(J241,FIND(": ",J241)+2,FIND("/",J241)-FIND(":",J241)-2))-1)/VALUE(RIGHT(J241,1)),IF(G241<=VALUE(MID(J241,FIND(", ",J241)+2,IF(MID(J241,FIND(", ",J241)+2,1)="1",2,1))),(IF(COUNTIFS(G:G,"<="&G241)<=VALUE(MID(J241,FIND(", ",J241)+2,IF(MID(J241,FIND(", ",J241)+2,1)="1",2,1))),1,(VALUE(MID(J241,FIND(", ",J241)+2,IF(MID(J241,FIND(", ",J241)+2,1)="1",2,1)))-COUNTIFS(G:G,"<"&G241))/COUNTIFS(G:G,G241)))*(1*(1+VALUE(MID(J241,FIND(": ",J241)+2,FIND("/",J241)-FIND(":",J241)-2))-1)/VALUE(RIGHT(J241,1))+1)-2,-2))) | I241: =IF(OR(E241="",G241=""),"",IF(G241=1,(IF(COUNTIFS(G:G,"<="&G241)<=1,1,(1-COUNTIFS(G:G,"<"&G241))/COUNTIFS(G:G,G241)))*(1+VALUE(MID(J241,FIND(": ",J241)+2,FIND("/",J241)-FIND(":",J241)-2))-1)+(1+VALUE(MID(J241,FIND(": ",J241)+2,FIND("/",J241)-FIND(":",J241)-2))-1)/VALUE(RIGHT(J241,1)),IF(G241<=VALUE(MID(J241,FIND(", ",J241)+2,IF(MID(J241,FIND(", ",J241)+2,1)="1",2,1))),(IF(COUNTIFS(G:G,"<="&G241)<=VALUE(MID(J241,FIND(", ",J241)+2,IF(MID(J241,FIND(", ",J241)+2,1)="1",2,1))),1,(VALUE(MID(J241,FIND(", ",J241)+2,IF(MID(J241,FIND(", ",J241)+2,1)="1",2,1)))-COUNTIFS(G:G,"<"&G241))/COUNTIFS(G:G,G241)))*(1*(1+VALUE(MID(J241,FIND(": ",J241)+2,FIND("/",J241)-FIND(":",J241)-2))-1)/VALUE(RIGHT(J241,1))+1)-2,-2))) | J241: =IF(F241="","",OFFSET([1]PGA!$AL$1,MATCH(A241,[1]PGA!$E$1:$E$500,0)-1,0)) | M241: =IF(FRL!A241="","",FRL!A241) | N241: =IF(FRL!B241="","",FRL!B241) | O241: =IF(FRL!C241="","",FRL!C241) | P241: =IF(FRL!D241="","",FRL!D241) | Q241: =IF(P241="","",IF(ROUND((N241*(P241-1)-(1-N241))/(P241-1),3)<=0,"",ROUND((N241*(P241-1)-(1-N241))/(P241-1),3))) | R241: {=IF(Q241="","",RANK(Q241, $Q$2:$Q$241) + COUNTIFS($Q$2:$Q$241, Q241, $P$2:$P$241, "<"&P241) + COUNTIFS($Q$2:$Q$241, Q241, $P$2:$P$241, P241, $M$2:$M$241, "<"&M241))} | S241: =IF(FRL!F241="","",FRL!F241) | T241: =IF(OR(R241="",S241="",R241>3),"",IF(S241=1,(IF(COUNTIFS(S:S,"<="&S241)<=1,1,(1-COUNTIFS(S:S,"<"&S241))/COUNTIFS(S:S,S241)))*(1+VALUE(MID(V241,FIND(": ",V241)+2,FIND("/",V241)-FIND(":",V241)-2))-1)+(1+VALUE(MID(V241,FIND(": ",V241)+2,FIND("/",V241)-FIND(":",V241)-2))-1)/VALUE(RIGHT(V241,1)),IF(S241<=VALUE(MID(V241,FIND(", ",V241)+2,IF(MID(V241,FIND(", ",V241)+2,1)="1",2,1))),(IF(COUNTIFS(S:S,"<="&S241)<=VALUE(MID(V241,FIND(", ",V241)+2,IF(MID(V241,FIND(", ",V241)+2,1)="1",2,1))),1,(VALUE(MID(V241,FIND(", ",V241)+2,IF(MID(V241,FIND(", ",V241)+2,1)="1",2,1)))-COUNTIFS(S:S,"<"&S241))/COUNTIFS(S:S,S241)))*(1*(1+VALUE(MID(V241,FIND(": ",V241)+2,FIND("/",V241)-FIND(":",V241)-2))-1)/VALUE(RIGHT(V241,1))+1)-2,-2))) | U241: =IF(OR(Q241="",S241=""),"",IF(S241=1,(IF(COUNTIFS(S:S,"<="&S241)<=1,1,(1-COUNTIFS(S:S,"<"&S241))/COUNTIFS(S:S,S241)))*(1+VALUE(MID(V241,FIND(": ",V241)+2,FIND("/",V241)-FIND(":",V241)-2))-1)+(1+VALUE(MID(V241,FIND(": ",V241)+2,FIND("/",V241)-FIND(":",V241)-2))-1)/VALUE(RIGHT(V241,1)),IF(S241<=VALUE(MID(V241,FIND(", ",V241)+2,IF(MID(V241,FIND(", ",V241)+2,1)="1",2,1))),(IF(COUNTIFS(S:S,"<="&S241)<=VALUE(MID(V241,FIND(", ",V241)+2,IF(MID(V241,FIND(", ",V241)+2,1)="1",2,1))),1,(VALUE(MID(V241,FIND(", ",V241)+2,IF(MID(V241,FIND(", ",V241)+2,1)="1",2,1)))-COUNTIFS(S:S,"<"&S241))/COUNTIFS(S:S,S241)))*(1*(1+VALUE(MID(V241,FIND(": ",V241)+2,FIND("/",V241)-FIND(":",V241)-2))-1)/VALUE(RIGHT(V241,1))+1)-2,-2))) | V241: =IF(R241="","",OFFSET([2]PGA!$AL$1,MATCH(M241,[2]PGA!$E$1:$E$500,0)-1,0))

Sheet FRL
A1: Player | B1: TT Win | C1: TT Odds | D1: Best Odds | E1: Kelly | F1: Result | G1: P/L | H1: E/W Play
A2: Adam Hadwin | B2: 1.05% | C2: 95 | D2: 151 | E2: 0.40% | F2: =IFERROR(IF(A2="","",OFFSET(Results!$Z$1,MATCH(A2,Results!$A:$A,0)-1,0)),"") -> 16 | G2: =IF(OR(E2="",F2=""),"",IF(F2=1,(IF(COUNTIFS(F:F,"<="&F2)<=1,1,(1-COUNTIFS(F:F,"<"&F2))/COUNTIFS(F:F,F2)))*50*E2*(1+VALUE(MID(H2,FIND(": ",H2)+2,FIND("/",H2)-FIND(":",H2)-2))-1)+50*E2*(1+VALUE(MID(H2,FIND(": ",H2)+2,FIND("/",H2)-FIND(":",H2)-2))-1)/VALUE(RIGHT(H2,1)),IF(F2<=VALUE(MID(H2,FIND(", ",H2)+2,1)),(IF(COUNTIFS(F:F,"<="&F2)<=VALUE(MID(H2,FIND(", ",H2)+2,1)),1,(VALUE(MID(H2,FIND(", ",H2)+2,1))-COUNTIFS(F:F,"<"&F2))/COUNTIFS(F:F,F2)))*(50*E2*(1+VALUE(MID(H2,FIND(": ",H2)+2,FIND("/",H2)-FIND(":",H2)-2))-1)/VALUE(RIGHT(H2,1))+50*E2)-(100*E2),-E2*100))) -> -0.4 | H2: =IF(E2="","",OFFSET([2]PGA!$AL$1,MATCH(A2,[2]PGA!$E$1:$E$500,0)-1,0)) -> Spreadex: 150/1, 6pl, 1/5
A3: Adam Schenk | B3: 0.83% | C3: 120 | D3: 126 | F3: =IFERROR(IF(A3="","",OFFSET(Results!$Z$1,MATCH(A3,Results!$A:$A,0)-1,0)),"") -> 4 | G3: =IF(OR(E3="",F3=""),"",IF(F3=1,(IF(COUNTIFS(F:F,"<="&F3)<=1,1,(1-COUNTIFS(F:F,"<"&F3))/COUNTIFS(F:F,F3)))*50*E3*(1+VALUE(MID(H3,FIND(": ",H3)+2,FIND("/",H3)-FIND(":",H3)-2))-1)+50*E3*(1+VALUE(MID(H3,FIND(": ",H3)+2,FIND("/",H3)-FIND(":",H3)-2))-1)/VALUE(RIGHT(H3,1)),IF(F3<=VALUE(MID(H3,FIND(", ",H3)+2,1)),(IF(COUNTIFS(F:F,"<="&F3)<=VALUE(MID(H3,FIND(", ",H3)+2,1)),1,(VALUE(MID(H3,FIND(", ",H3)+2,1))-COUNTIFS(F:F,"<"&F3))/COUNTIFS(F:F,F3)))*(50*E3*(1+VALUE(MID(H3,FIND(": ",H3)+2,FIND("/",H3)-FIND(":",H3)-2))-1)/VALUE(RIGHT(H3,1))+50*E3)-(100*E3),-E3*100))) | H3: =IF(E3="","",OFFSET([2]PGA!$AL$1,MATCH(A3,[2]PGA!$E$1:$E$500,0)-1,0))
A4: Adam Svensson | B4: 0.87% | C4: 115 | D4: 151 | E4: 0.20% | F4: =IFERROR(IF(A4="","",OFFSET(Results!$Z$1,MATCH(A4,Results!$A:$A,0)-1,0)),"") -> 27 | G4: =IF(OR(E4="",F4=""),"",IF(F4=1,(IF(COUNTIFS(F:F,"<="&F4)<=1,1,(1-COUNTIFS(F:F,"<"&F4))/COUNTIFS(F:F,F4)))*50*E4*(1+VALUE(MID(H4,FIND(": ",H4)+2,FIND("/",H4)-FIND(":",H4)-2))-1)+50*E4*(1+VALUE(MID(H4,FIND(": ",H4)+2,FIND("/",H4)-FIND(":",H4)-2))-1)/VALUE(RIGHT(H4,1)),IF(F4<=VALUE(MID(H4,FIND(", ",H4)+2,1)),(IF(COUNTIFS(F:F,"<="&F4)<=VALUE(MID(H4,FIND(", ",H4)+2,1)),1,(VALUE(MID(H4,FIND(", ",H4)+2,1))-COUNTIFS(F:F,"<"&F4))/COUNTIFS(F:F,F4)))*(50*E4*(1+VALUE(MID(H4,FIND(": ",H4)+2,FIND("/",H4)-FIND(":",H4)-2))-1)/VALUE(RIGHT(H4,1))+50*E4)-(100*E4),-E4*100))) -> -0.2 | H4: =IF(E4="","",OFFSET([2]PGA!$AL$1,MATCH(A4,[2]PGA!$E$1:$E$500,0)-1,0)) -> Skybet: 150/1, 6pl, 1/5
A5: Akshay Bhatia | B5: 1.24% | C5: 81 | D5: 67 | F5: =IFERROR(IF(A5="","",OFFSET(Results!$Z$1,MATCH(A5,Results!$A:$A,0)-1,0)),"") -> 4 | G5: =IF(OR(E5="",F5=""),"",IF(F5=1,(IF(COUNTIFS(F:F,"<="&F5)<=1,1,(1-COUNTIFS(F:F,"<"&F5))/COUNTIFS(F:F,F5)))*50*E5*(1+VALUE(MID(H5,FIND(": ",H5)+2,FIND("/",H5)-FIND(":",H5)-2))-1)+50*E5*(1+VALUE(MID(H5,FIND(": ",H5)+2,FIND("/",H5)-FIND(":",H5)-2))-1)/VALUE(RIGHT(H5,1)),IF(F5<=VALUE(MID(H5,FIND(", ",H5)+2,1)),(IF(COUNTIFS(F:F,"<="&F5)<=VALUE(MID(H5,FIND(", ",H5)+2,1)),1,(VALUE(MID(H5,FIND(", ",H5)+2,1))-COUNTIFS(F:F,"<"&F5))/COUNTIFS(F:F,F5)))*(50*E5*(1+VALUE(MID(H5,FIND(": ",H5)+2,FIND("/",H5)-FIND(":",H5)-2))-1)/VALUE(RIGHT(H5,1))+50*E5)-(100*E5),-E5*100))) | H5: =IF(E5="","",OFFSET([2]PGA!$AL$1,MATCH(A5,[2]PGA!$E$1:$E$500,0)-1,0))
A6: Alex Smalley | B6: 0.91% | C6: 110 | D6: 126 | E6: 0.10% | F6: =IFERROR(IF(A6="","",OFFSET(Results!$Z$1,MATCH(A6,Results!$A:$A,0)-1,0)),"") -> 11 | G6: =IF(OR(E6="",F6=""),"",IF(F6=1,(IF(COUNTIFS(F:F,"<="&F6)<=1,1,(1-COUNTIFS(F:F,"<"&F6))/COUNTIFS(F:F,F6)))*50*E6*(1+VALUE(MID(H6,FIND(": ",H6)+2,FIND("/",H6)-FIND(":",H6)-2))-1)+50*E6*(1+VALUE(MID(H6,FIND(": ",H6)+2,FIND("/",H6)-FIND(":",H6)-2))-1)/VALUE(RIGHT(H6,1)),IF(F6<=VALUE(MID(H6,FIND(", ",H6)+2,1)),(IF(COUNTIFS(F:F,"<="&F6)<=VALUE(MID(H6,FIND(", ",H6)+2,1)),1,(VALUE(MID(H6,FIND(", ",H6)+2,1))-COUNTIFS(F:F,"<"&F6))/COUNTIFS(F:F,F6)))*(50*E6*(1+VALUE(MID(H6,FIND(": ",H6)+2,FIND("/",H6)-FIND(":",H6)-2))-1)/VALUE(RIGHT(H6,1))+50*E6)-(100*E6),-E6*100))) -> -0.1 | H6: =IF(E6="","",OFFSET([2]PGA!$AL$1,MATCH(A6,[2]PGA!$E$1:$E$500,0)-1,0)) -> Spreadex: 125/1, 6pl, 1/5
