Workbook

Sheet Results
A1: PLAYER | B1: Results
A2: =IF(J2="","",CONCATENATE(J2," ",I2)) -> FirstName Surname | B2: Date | C2: Event | D2: Course | E2: Location | F2: Tour | G2: Tour2 | H2: Tour3 | I2: Surname | J2: FirstName | K2: Posn | L2: Rd1 | M2: Rd2 | N2: Rd3 | O2: Rd4 | P2: Rd5 | Q2: Total | R2: Field | S2: Field1 | T2: AdjRd1 | U2: AdjRd2 | V2: AdjRd3 | W2: AdjRd4 | X2: AdjRd5 | Y2: AdjAve | Z2: Rd1Pos | AA2: Rd2Pos | AB2: Rd3Pos | AC2: Rd4Pos | AD2: Rd5Pos | AE2: Rd1Lead | AF2: Rd2Lead | AG2: Rd3Lead | AH2: Rd4Lead | AI2: Rd5Lead | AJ2: Posn2
A3: =IF(J3="","",CONCATENATE(J3," ",I3)) -> Josh Geary | B3: 45697 | C3: Victorian Open | D3: 13th Beach | E3: Australia | F3: Australasian | I3: Geary | J3: Josh | K3: 1 | L3: 64 | M3: 65 | N3: 68 | O3: 78 | Q3: 275 | R3: 74.35 | S3: 74.23 | T3: 68.39 | U3: 67.3 | V3: 69.65 | W3: 75.74 | Y3: 70.27 | Z3: 2 | AA3: 1 | AB3: 1 | AC3: 1 | AE3: 2 | AF3: -2 | AG3: -4 | AH3: -4 | AJ3: 1
A4: =IF(J4="","",CONCATENATE(J4," ",I4)) -> Connor McKinney | B4: 45697 | C4: Victorian Open | D4: 13th Beach | E4: Australia | F4: Australasian | I4: McKinney | J4: Connor | K4: 2 | L4: 67 | M4: 71 | N4: 71 | O4: 70 | Q4: 279 | R4: 74.35 | S4: 74.23 | T4: 71.39 | U4: 73.3 | V4: 72.65 | W4: 67.74 | Y4: 71.27 | Z4: 19 | AA4: 25 | AB4: 23 | AC4: 2 | AE4: 5 | AF4: 9 | AG4: 12 | AH4: 4 | AJ4: 2
A5: =IF(J5="","",CONCATENATE(J5," ",I5)) -> Austin Bautista | B5: 45697 | C5: Victorian Open | D5: 13th Beach | E5: Australia | F5: Australasian | I5: Bautista | J5: Austin | K5: 3 | L5: 65 | M5: 67 | N5: 69 | O5: 79 | Q5: 280 | R5: 74.35 | S5: 74.23 | T5: 69.39 | U5: 69.3 | V5: 70.65 | W5: 76.74 | Y5: 71.52 | Z5: 3 | AA5: 3 | AB5: 2 | AC5: 3 | AE5: 3 | AF5: 3 | AG5: 4 | AH5: 5 | AJ5: 3
A6: =IF(J6="","",CONCATENATE(J6," ",I6)) -> Michael Hendry | B6: 45697 | C6: Victorian Open | D6: 13th Beach | E6: Australia | F6: Australasian | I6: Hendry | J6: Michael | K6: 3 | L6: 68 | M6: 65 | N6: 73 | O6: 74 | Q6: 280 | R6: 74.35 | S6: 74.23 | T6: 72.39 | U6: 67.3 | V6: 74.65 | W6: 71.74 | Y6: 71.52 | Z6: 27 | AA6: 5 | AB6: 10 | AC6: 3 | AE6: 6 | AF6: 4 | AG6: 9 | AH6: 5 | AJ6: 3
A7: =IF(J7="","",CONCATENATE(J7," ",I7)) -> Kerry Mountcastle | B7: 45697 | C7: Victorian Open | D7: 13th Beach | E7: Australia | F7: Australasian | I7: Mountcastle | J7: Kerry | K7: 3 | L7: 68 | M7: 69 | N7: 73 | O7: 70 | Q7: 280 | R7: 74.35 | S7: 74.23 | T7: 72.39 | U7: 71.3 | V7: 74.65 | W7: 67.74 | Y7: 71.52 | Z7: 27 | AA7: 19 | AB7: 27 | AC7: 3 | AE7: 6 | AF7: 8 | AG7: 13 | AH7: 5 | AJ7: 3
A8: =IF(J8="","",CONCATENATE(J8," ",I8)) -> Andrew Evans | B8: 45697 | C8: Victorian Open | D8: 13th Beach | E8: Australia | F8: Australasian | I8: Evans | J8: Andrew | K8: 6 | L8: 66 | M8: 68 | N8: 71 | O8: 76 | Q8: 281 | R8: 74.35 | S8: 74.23 | T8: 70.39 | U8: 70.3 | V8: 72.65 | W8: 73.74 | Y8: 71.77 | Z8: 9 | AA8: 7 | AB8: 7 | AC8: 6 | AE8: 4 | AF8: 5 | AG8: 8 | AH8: 6 | AJ8: 6
A9: =IF(J9="","",CONCATENATE(J9," ",I9)) -> Aaron Wilkin | B9: 45697 | C9: Victorian Open | D9: 13th Beach | E9: Australia | F9: Australasian | I9: Wilkin | J9: Aaron | K9: 6 | L9: 68 | M9: 67 | N9: 68 | O9: 78 | Q9: 281 | R9: 74.35 | S9: 74.23 | T9: 72.39 | U9: 69.3 | V9: 69.65 | W9: 75.74 | Y9: 71.77 | Z9: 27 | AA9: 8 | AB9: 4 | AC9: 6 | AE9: 6 | AF9: 6 | AG9: 6 | AH9: 6 | AJ9: 6
A10: =IF(J10="","",CONCATENATE(J10," ",I10)) -> Quinnton Croker | B10: 45697 | C10: Victorian Open | D10: 13th Beach | E10: Australia | F10: Australasian | I10: Croker | J10: Quinnton | K10: 8 | L10: 70 | M10: 67 | N10: 69 | O10: 76 | Q10: 282 | R10: 74.35 | S10: 74.23 | T10: 74.39 | U10: 69.3 | V10: 70.65 | W10: 73.74 | Y10: 72.02 | Z10: 60 | AA10: 19 | AB10: 10 | AC10: 8 | AE10: 8 | AF10: 8 | AG10: 9 | AH10: 7 | AJ10: 8
A11: =IF(J11="","",CONCATENATE(J11," ",I11)) -> Ben Eccles | B11: 45697 | C11: Victorian Open | D11: 13th Beach | E11: Australia | F11: Australasian | I11: Eccles | J11: Ben | K11: 8 | L11: 71 | M11: 68 | N11: 73 | O11: 70 | Q11: 282 | R11: 74.35 | S11: 74.23 | T11: 75.39 | U11: 70.3 | V11: 74.65 | W11: 67.74 | Y11: 72.02 | Z11: 77 | AA11: 31 | AB11: 33 | AC11: 8 | AE11: 9 | AF11: 10 | AG11: 15 | AH11: 7 | AJ11: 8
A12: =IF(J12="","",CONCATENATE(J12," ",I12)) -> James Marchesani | B12: 45697 | C12: Victorian Open | D12: 13th Beach | E12: Australia | F12: Australasian | I12: Marchesani | J12: James | K12: 8 | L12: 68 | M12: 71 | N12: 71 | O12: 72 | Q12: 282 | R12: 74.35 | S12: 74.23 | T12: 72.39 | U12: 73.3 | V12: 72.65 | W12: 69.74 | Y12: 72.02 | Z12: 27 | AA12: 31 | AB12: 27 | AC12: 8 | AE12: 6 | AF12: 10 | AG12: 13 | AH12: 7 | AJ12: 8
A13: =IF(J13="","",CONCATENATE(J13," ",I13)) -> Declan O'Donovan | B13: 45697 | C13: Victorian Open | D13: 13th Beach | E13: Australia | F13: Australasian | I13: O'Donovan | J13: Declan | K13: 8 | L13: 65 | M13: 66 | N13: 71 | O13: 80 | Q13: 282 | R13: 74.35 | S13: 74.23 | T13: 69.39 | U13: 68.3 | V13: 72.65 | W13: 77.74 | Y13: 72.02 | Z13: 3 | AA13: 2 | AB13: 3 | AC13: 8 | AE13: 3 | AF13: 2 | AG13: 5 | AH13: 7 | AJ13: 8
A14: =IF(J14="","",CONCATENATE(J14," ",I14)) -> Lachlan Barker | B14: 45697 | C14: Victorian Open | D14: 13th Beach | E14: Australia | F14: Australasian | I14: Barker | J14: Lachlan | K14: 12 | L14: 66 | M14: 66 | N14: 74 | O14: 77 | Q14: 283 | R14: 74.35 | S14: 74.23 | T14: 70.39 | U14: 68.3 | V14: 75.65 | W14: 74.74 | Y14: 72.27 | Z14: 9 | AA14: 3 | AB14: 10 | AC14: 12 | AE14: 4 | AF14: 3 | AG14: 9 | AH14: 8 | AJ14: 12
... A43: =IF(J43="","",CONCATENATE(J43," ",I43)) -> Matthew Millar | B43: 45697 | C43: Victorian Open | D43: 13th Beach | E43: Australia | F43: Australasian | I43: Millar | J43: Matthew | K43: 40 | L43: 68 | M43: 71 | N43: 69 | O43: 84 | Q43: 292 | R43: 74.35 | S43: 74.23 | T43: 72.39 | U43: 73.3 | V43: 70.65 | W43: 81.74 | Y43: 74.52 | Z43: 27 | AA43: 31 | AB43: 21 | AC43: 40 | AE43: 6 | AF43: 10 | AG43: 11 | AH43: 17 | AJ43: 40
A44: =IF(J44="","",CONCATENATE(J44," ",I44)) -> Aaron Pike | B44: 45697 | C44: Victorian Open | D44: 13th Beach | E44: Australia | F44: Australasian | I44: Pike | J44: Aaron | K44: w | L44: 66 | M44: 72 | N44: 71 | Q44: 209 | R44: 74.35 | S44: 74.23 | T44: 70.39 | U44: 74.3 | V44: 72.65 | Y44: 72.45 | Z44: 9 | AA44: 25 | AB44: 23 | AE44: 4 | AF44: 9 | AG44: 12 | AJ44: 42
A45: =IF(J45="","",CONCATENATE(J45," ",I45)) -> Braden Becker | B45: 45697 | C45: Victorian Open | D45: 13th Beach | E45: Australia | F45: Australasian | I45: Becker | J45: Braden | K45: 43 | L45: 66 | M45: 72 | N45: 75 | Q45: 213 | R45: 74.35 | S45: 74.23 | T45: 70.39 | U45: 74.3 | V45: 76.65 | Y45: 73.78 | Z45: 9 | AA45: 25 | AB45: 43 | AE45: 4 | AF45: 9 | AG45: 16 | AJ45: 43
A46: =IF(J46="","",CONCATENATE(J46," ",I46)) -> Andrew Campbell | B46: 45697 | C46: Victorian Open | D46: 13th Beach | E46: Australia | F46: Australasian | I46: Campbell | J46: Andrew | K46: 43 | L46: 69 | M46: 66 | N46: 78 | Q46: 213 | R46: 74.35 | S46: 74.23 | T46: 73.39 | U46: 68.3 | V46: 79.65 | Y46: 73.78 | Z46: 47 | AA46: 8 | AB46: 43 | AE46: 7 | AF46: 6 | AG46: 16 | AJ46: 43
A47: =IF(J47="","",CONCATENATE(J47," ",I47)) -> Cory Crawford | B47: 45697 | C47: Victorian Open | D47: 13th Beach | E47: Australia | F47: Australasian | I47: Crawford | J47: Cory | K47: 43 | L47: 68 | M47: 71 | N47: 74 | Q47: 213 | R47: 74.35 | S47: 74.23 | T47: 72.39 | U47: 73.3 | V47: 75.65 | Y47: 73.78 | Z47: 27 | AA47: 31 | AB47: 43 | AE47: 6 | AF47: 10 | AG47: 16 | AJ47: 43
A48: =IF(J48="","",CONCATENATE(J48," ",I48)) -> Jake Meenhorst | B48: 45697 | C48: Victorian Open | D48: 13th Beach | E48: Australia | F48: Australasian | I48: Meenhorst | J48: Jake | K48: 43 | L48: 69 | M48: 72 | N48: 72 | Q48: 213 | R48: 74.35 | S48: 74.23 | T48: 73.39 | U48: 74.3 | V48: 73.65 | Y48: 73.78 | Z48: 47 | AA48: 53 | AB48: 43 | AE48: 7 | AF48: 12 | AG48: 16 | AJ48: 43
A49: =IF(J49="","",CONCATENATE(J49," ",I49)) -> Jack Munro | B49: 45697 | C49: Victorian Open | D49: 13th Beach | E49: Australia | F49: Australasian | I49: Munro | J49: Jack | K49: 43 | L49: 72 | M49: 68 | N49: 73 | Q49: 213 | R49: 74.35 | S49: 74.23 | T49: 76.39 | U49: 70.3 | V49: 74.65 | Y49: 73.78 | Z49: 96 | AA49: 43 | AB49: 43 | AE49: 10 | AF49: 11 | AG49: 16 | AJ49: 43
A50: =IF(J50="","",CONCATENATE(J50," ",I50)) -> Siddharth Nadimpalli | B50: 45697 | C50: Victorian Open | D50: 13th Beach | E50: Australia | F50: Australasian | I50: Nadimpalli | J50: Siddharth | K50: 43 | L50: 65 | M50: 76 | N50: 72 | Q50: 213 | R50: 74.35 | S50: 74.23 | T50: 69.39 | U50: 78.3 | V50: 73.65 | Y50: 73.78 | Z50: 3 | AA50: 53 | AB50: 43 | AE50: 3 | AF50: 12 | AG50: 16 | AJ50: 43
A51: =IF(J51="","",CONCATENATE(J51," ",I51)) -> Lincoln Tighe | B51: 45697 | C51: Victorian Open | D51: 13th Beach | E51: Australia | F51: Australasian | I51: Tighe | J51: Lincoln | K51: 43 | L51: 68 | M51: 70 | N51: 75 | Q51: 213 | R51: 74.35 | S51: 74.23 | T51: 72.39 | U51: 72.3 | V51: 76.65 | Y51: 73.78 | Z51: 27 | AA51: 25 | AB51: 43 | AE51: 6 | AF51: 9 | AG51: 16 | AJ51: 43
A52: =IF(J52="","",CONCATENATE(J52," ",I52)) -> Brady Watt | B52: 45697 | C52: Victorian Open | D52: 13th Beach | E52: Australia | F52: Australasian | I52: Watt | J52: Brady | K52: 43 | L52: 73 | M52: 68 | N52: 72 | Q52: 213 | R52: 74.35 | S52: 74.23 | T52: 77.39 | U52: 70.3 | V52: 73.65 | Y52: 73.78 | Z52: 104 | AA52: 53 | AB52: 43 | AE52: 11 | AF52: 12 | AG52: 16 | AJ52: 43
A53: =IF(J53="","",CONCATENATE(J53," ",I53)) -> Jordan Zunic | B53: 45697 | C53: Victorian Open | D53: 13th Beach | E53: Australia | F53: Australasian | I53: Zunic | J53: Jordan | K53: 43 | L53: 71 | M53: 69 | N53: 73 | Q53: 213 | R53: 74.35 | S53: 74.23 | T53: 75.39 | U53: 71.3 | V53: 74.65 | Y53: 73.78 | Z53: 77 | AA53: 43 | AB53: 43 | AE53: 9 | AF53: 11 | AG53: 16 | AJ53: 43
A54: =IF(J54="","",CONCATENATE(J54," ",I54)) -> Nathan Barbieri | B54: 45697 | C54: Victorian Open | D54: 13th Beach | E54: Australia | F54: Australasian | I54: Barbieri | J54: Nathan | K54: 52 | L54: 67 | M54: 74 | N54: 73 | Q54: 214 | R54: 74.35 | S54: 74.23 | T54: 71.39 | U54: 76.3 | V54: 74.65 | Y54: 74.12 | Z54: 19 | AA54: 53 | AB54: 52 | AE54: 5 | AF54: 12 | AG54: 17 | AJ54: 52
A55: =IF(J55="","",CONCATENATE(J55," ",I55)) -> Andre Lautee | B55: 45697 | C55: Victorian Open | D55: 13th Beach | E55: Australia | F55: Australasian | I55: Lautee | J55: Andre | K55: 53 | L55: 71 | M55: 70 | N55: 74 | Q55: 215 | R55: 74.35 | S55: 74.23 | T55: 75.39 | U55: 72.3 | V55: 75.65 | Y55: 74.45 | Z55: 77 | AA55: 53 | AB55: 53 | AE55: 9 | AF55: 12 | AG55: 18 | AJ55: 53
A56: =IF(J56="","",CONCATENATE(J56," ",I56)) -> D.J. Loypur | B56: 45697 | C56: Victorian Open | D56: 13th Beach | E56: Australia | F56: Australasian | I56: Loypur | J56: D.J. | K56: 53 | L56: 69 | M56: 71 | N56: 75 | Q56: 215 | R56: 74.35 | S56: 74.23 | T56: 73.39 | U56: 73.3 | V56: 76.65 | Y56: 74.45 | Z56: 47 | AA56: 43 | AB56: 53 | AE56: 7 | AF56: 11 | AG56: 18 | AJ56: 53
... A68: =IF(J68="","",CONCATENATE(J68," ",I68)) -> Lucas Higgins | B68: 45697 | C68: Victorian Open | D68: 13th Beach | E68: Australia | F68: Australasian | I68: Higgins | J68: Lucas | K68: 66 | L68: 67 | M68: 71 | N68: 81 | Q68: 219 | R68: 74.35 | S68: 74.23 | T68: 71.39 | U68: 73.3 | V68: 82.65 | Y68: 75.78 | Z68: 19 | AA68: 25 | AB68: 66 | AE68: 5 | AF68: 9 | AG68: 22 | AJ68: 66
A69: =IF(J69="","",CONCATENATE(J69," ",I69)) -> Marcus Fraser | B69: 45697 | C69: Victorian Open | D69: 13th Beach | E69: Australia | F69: Australasian | I69: Fraser | J69: Marcus | K69: mc | L69: 74 | M69: 68 | Q69: 142 | R69: 74.35 | S69: 74.23 | T69: 78.39 | U69: 70.3 | Y69: 74.35 | Z69: 116 | AA69: 67 | AE69: 12 | AF69: 13 | AJ69: 67
A70: =IF(J70="","",CONCATENATE(J70," ",I70)) -> James Gordon | B70: 45697 | C70: Victorian Open | D70: 13th Beach | E70: Australia | F70: Australasian | I70: Gordon | J70: James | K70: mc | L70: 69 | M70: 73 | Q70: 142 | R70: 74.35 | S70: 74.23 | T70: 73.39 | U70: 75.3 | Y70: 74.35 | Z70: 47 | AA70: 67 | AE70: 7 | AF70: 13 | AJ70: 67
A71: =IF(J71="","",CONCATENATE(J71," ",I71)) -> Dillon Hart | B71: 45697 | C71: Victorian Open | D71: 13th Beach | E71: Australia | F71: Australasian | I71: Hart | J71: Dillon | K71: mc | L71: 68 | M71: 74 | Q71: 142 | R71: 74.35 | S71: 74.23 | T71: 72.39 | U71: 76.3 | Y71: 74.35 | Z71: 27 | AA71: 67 | AE71: 6 | AF71: 13 | AJ71: 67
A72: =IF(J72="","",CONCATENATE(J72," ",I72)) -> Zachary Maxwell | B72: 45697 | C72: Victorian Open | D72: 13th Beach | E72: Australia | F72: Australasian | I72: Maxwell | J72: Zachary | K72: mc | L72: 70 | M72: 72 | Q72: 142 | R72: 74.35 | S72: 74.23 | T72: 74.39 | U72: 74.3 | Y72: 74.35 | Z72: 60 | AA72: 67 | AE72: 8 | AF72: 13 | AJ72: 67
A73: =IF(J73="","",CONCATENATE(J73," ",I73)) -> Will Moody | B73: 45697 | C73: Victorian Open | D73: 13th Beach | E73: Australia | F73: Australasian | I73: Moody | J73: Will | K73: mc | L73: 73 | M73: 69 | Q73: 142 | R73: 74.35 | S73: 74.23 | T73: 77.39 | U73: 71.3 | Y73: 74.35 | Z73: 104 | AA73: 67 | AE73: 11 | AF73: 13 | AJ73: 67
A74: =IF(J74="","",CONCATENATE(J74," ",I74)) -> Max Moring | B74: 45697 | C74: Victorian Open | D74: 13th Beach | E74: Australia | F74: Australasian | I74: Moring | J74: Max | K74: mc | L74: 71 | M74: 71 | Q74: 142 | R74: 74.35 | S74: 74.23 | T74: 75.39 | U74: 73.3 | Y74: 74.35 | Z74: 77 | AA74: 67 | AE74: 9 | AF74: 13 | AJ74: 67
A75: =IF(J75="","",CONCATENATE(J75," ",I75)) -> Blake Proverbs | B75: 45697 | C75: Victorian Open | D75: 13th Beach | E75: Australia | F75: Australasian | I75: Proverbs | J75: Blake | K75: mc | L75: 70 | M75: 72 | Q75: 142 | R75: 74.35 | S75: 74.23 | T75: 74.39 | U75: 74.3 | Y75: 74.35 | Z75: 60 | AA75: 67 | AE75: 8 | AF75: 13 | AJ75: 67
A76: =IF(J76="","",CONCATENATE(J76," ",I76)) -> Anthony Choat | B76: 45697 | C76: Victorian Open | D76: 13th Beach | E76: Australia | F76: Australasian | I76: Choat | J76: Anthony | K76: mc | L76: 73 | M76: 70 | Q76: 143 | R76: 74.35 | S76: 74.23 | T76: 77.39 | U76: 72.3 | Y76: 74.85 | Z76: 104 | AA76: 74 | AE76: 11 | AF76: 14 | AJ76: 74
A77: =IF(J77="","",CONCATENATE(J77," ",I77)) -> James Conran | B77: 45697 | C77: Victorian Open | D77: 13th Beach | E77: Australia | F77: Australasian | I77: Conran | J77: James | K77: mc | L77: 71 | M77: 72 | Q77: 143 | R77: 74.35 | S77: 74.23 | T77: 75.39 | U77: 74.3 | Y77: 74.85 | Z77: 77 | AA77: 74 | AE77: 9 | AF77: 14 | AJ77: 74
A78: =IF(J78="","",CONCATENATE(J78," ",I78)) -> Jordan Doull | B78: 45697 | C78: Victorian Open | D78: 13th Beach | E78: Australia | F78: Australasian | I78: Doull | J78: Jordan | K78: mc | L78: 70 | M78: 73 | Q78: 143 | R78: 74.35 | S78: 74.23 | T78: 74.39 | U78: 75.3 | Y78: 74.85 | Z78: 60 | AA78: 74 | AE78: 8 | AF78: 14 | AJ78: 74
A79: =IF(J79="","",CONCATENATE(J79," ",I79)) -> Josiah Edwards | B79: 45697 | C79: Victorian Open | D79: 13th Beach | E79: Australia | F79: Australasian | I79: Edwards | J79: Josiah | K79: mc | L79: 68 | M79: 75 | Q79: 143 | R79: 74.35 | S79: 74.23 | T79: 72.39 | U79: 77.3 | Y79: 74.85 | Z79: 27 | AA79: 74 | AE79: 6 | AF79: 14 | AJ79: 74
...

Sheet Record
A1: Win | D1: FRL | G1: Top3: Win | J1: Top3: FRL | N1: WIN | O1: Rank | P1: Player | Q1: P/L | R1: E/W Play | U1: FRL | V1: Rank | W1: Player | X1: P/L | Y1: E/W Play
A2: Stakes | B2: Profit | D2: Stakes | E2: Profit | G2: Stakes | H2: Profit | J2: Stakes | K2: Profit | O2: 1 | P2: =IFERROR(OFFSET(Picks!A$1,MATCH($O2,Picks!$F:$F,0)-1,0),"") -> Scottie Scheffler | Q2: =IFERROR(OFFSET(Picks!I$1,MATCH($O2,Picks!$F:$F,0)-1,0),"") -> -2 | R2: =IFERROR(OFFSET(Picks!J$1,MATCH($O2,Picks!$F:$F,0)-1,0),"") -> Ladbrokes: 2.5/1, 10pl, 1/5 | V2: 1 | W2: =IFERROR(OFFSET(Picks!M$1,MATCH($O2,Picks!$R:$R,0)-1,0),"") -> Matt Fitzpatrick | X2: =IFERROR(OFFSET(Picks!U$1,MATCH($O2,Picks!$R:$R,0)-1,0),"") -> -2 | Y2: =IFERROR(OFFSET(Picks!V$1,MATCH($O2,Picks!$R:$R,0)-1,0),"") -> Spreadex: 80/1, 6pl, 1/5
A3: {=IF(100*SUMPRODUCT((Win!F:F<>"") * IFERROR(--Win!E:E, 0))=0,"",100*SUMPRODUCT((Win!F:F<>"") * IFERROR(--Win!E:E, 0)))} -> 5.4 | B3: =IF(AND(A3="",SUM(Win!G:G)=0),"",SUM(Win!G:G)) -> -2.3 | D3: {=IF(100*SUMPRODUCT((FRL!F:F<>"") * IFERROR(--FRL!E:E, 0))=0,"",100*SUMPRODUCT((FRL!F:F<>"") * IFERROR(--FRL!E:E, 0)))} -> 8.8 | E3: =IF(AND(D3="",SUM(FRL!G:G)=0),"",SUM(FRL!G:G)) -> -0.725 | G3: =IF(T3Picks!B2="","",2*(3-COUNTBLANK(T3Picks!A2:A4))) -> 6 | H3: =IF(T3Picks!B2="","",SUM(T3Picks!G2:G4)) -> 25 | J3: =IF(T3Picks!B5="","",2*(3-COUNTBLANK(T3Picks!A5:A7))) -> 6 | K3: =IF(T3Picks!B5="","",SUM(T3Picks!G5:G7)) -> -6 | O3: 2 | P3: =IFERROR(OFFSET(Picks!A$1,MATCH($O3,Picks!$F:$F,0)-1,0),"") -> Luke Clanton | Q3: =IFERROR(OFFSET(Picks!I$1,MATCH($O3,Picks!$F:$F,0)-1,0),"") -> -2 | R3: =IFERROR(OFFSET(Picks!J$1,MATCH($O3,Picks!$F:$F,0)-1,0),"") -> Skybet: 60/1, 8pl, 1/5 | V3: 2 | W3: =IFERROR(OFFSET(Picks!M$1,MATCH($O3,Picks!$R:$R,0)-1,0),"") -> Billy Horschel | X3: =IFERROR(OFFSET(Picks!U$1,MATCH($O3,Picks!$R:$R,0)-1,0),"") -> -2 | Y3: =IFERROR(OFFSET(Picks!V$1,MATCH($O3,Picks!$R:$R,0)-1,0),"") -> Spreadex: 80/1, 6pl, 1/5
O4: 3 | P4: =IFERROR(OFFSET(Picks!A$1,MATCH($O4,Picks!$F:$F,0)-1,0),"") -> Christiaan Bezuidenhout | Q4: =IFERROR(OFFSET(Picks!I$1,MATCH($O4,Picks!$F:$F,0)-1,0),"") -> 29 | R4: =IFERROR(OFFSET(Picks!J$1,MATCH($O4,Picks!$F:$F,0)-1,0),"") -> Paddy Power: 150/1, 8pl, 1/5 | V4: 3 | W4: =IFERROR(OFFSET(Picks!M$1,MATCH($O4,Picks!$R:$R,0)-1,0),"") -> Brian Harman | X4: =IFERROR(OFFSET(Picks!U$1,MATCH($O4,Picks!$R:$R,0)-1,0),"") -> -2 | Y4: =IFERROR(OFFSET(Picks!V$1,MATCH($O4,Picks!$R:$R,0)-1,0),"") -> Spreadex: 100/1, 6pl, 1/5
O5: 4 | P5: =IFERROR(OFFSET(Picks!A$1,MATCH($O5,Picks!$F:$F,0)-1,0),"") -> Tom Hoge | Q5: =IFERROR(OFFSET(Picks!I$1,MATCH($O5,Picks!$F:$F,0)-1,0),"") -> -2 | R5: =IFERROR(OFFSET(Picks!J$1,MATCH($O5,Picks!$F:$F,0)-1,0),"") -> Paddy Power: 80/1, 8pl, 1/5 | V5: 4 | W5: =IFERROR(OFFSET(Picks!M$1,MATCH($O5,Picks!$R:$R,0)-1,0),"") -> Adam Hadwin | X5: =IFERROR(OFFSET(Picks!U$1,MATCH($O5,Picks!$R:$R,0)-1,0),"") -> -2 | Y5: =IFERROR(OFFSET(Picks!V$1,MATCH($O5,Picks!$R:$R,0)-1,0),"") -> Spreadex: 150/1, 6pl, 1/5
O6: 5 | P6: =IFERROR(OFFSET(Picks!A$1,MATCH($O6,Picks!$F:$F,0)-1,0),"") -> Keith Mitchell | Q6: =IFERROR(OFFSET(Picks!I$1,MATCH($O6,Picks!$F:$F,0)-1,0),"") -> -2 | R6: =IFERROR(OFFSET(Picks!J$1,MATCH($O6,Picks!$F:$F,0)-1,0),"") -> Betfair: 100/1, 8pl, 1/5 | V6: 5 | W6: =IFERROR(OFFSET(Picks!M$1,MATCH($O6,Picks!$R:$R,0)-1,0),"") -> Tom Hoge | X6: =IFERROR(OFFSET(Picks!U$1,MATCH($O6,Picks!$R:$R,0)-1,0),"") -> -2 | Y6: =IFERROR(OFFSET(Picks!V$1,MATCH($O6,Picks!$R:$R,0)-1,0),"") -> Bet365: 75/1, 5pl, 1/4
O7: 6 | P7: =IFERROR(OFFSET(Picks!A$1,MATCH($O7,Picks!$F:$F,0)-1,0),"") -> Brian Harman | Q7: =IFERROR(OFFSET(Picks!I$1,MATCH($O7,Picks!$F:$F,0)-1,0),"") -> -2 | R7: =IFERROR(OFFSET(Picks!J$1,MATCH($O7,Picks!$F:$F,0)-1,0),"") -> Betfair: 150/1, 8pl, 1/5 | V7: 6 | W7: =IFERROR(OFFSET(Picks!M$1,MATCH($O7,Picks!$R:$R,0)-1,0),"") -> Denny McCarthy | X7: =IFERROR(OFFSET(Picks!U$1,MATCH($O7,Picks!$R:$R,0)-1,0),"") -> -2 | Y7: =IFERROR(OFFSET(Picks!V$1,MATCH($O7,Picks!$R:$R,0)-1,0),"") -> Spreadex: 80/1, 6pl, 1/5
O8: 7 | P8: =IFERROR(OFFSET(Picks!A$1,MATCH($O8,Picks!$F:$F,0)-1,0),"") -> Andrew Putnam | Q8: =IFERROR(OFFSET(Picks!I$1,MATCH($O8,Picks!$F:$F,0)-1,0),"") -> -2 | R8: =IFERROR(OFFSET(Picks!J$1,MATCH($O8,Picks!$F:$F,0)-1,0),"") -> Skybet: 250/1, 8pl, 1/5 | V8: 7 | W8: =IFERROR(OFFSET(Picks!M$1,MATCH($O8,Picks!$R:$R,0)-1,0),"") -> Keith Mitchell | X8: =IFERROR(OFFSET(Picks!U$1,MATCH($O8,Picks!$R:$R,0)-1,0),"") -> -2 | Y8: =IFERROR(OFFSET(Picks!V$1,MATCH($O8,Picks!$R:$R,0)-1,0),"") -> Spreadex: 80/1, 6pl, 1/5
O9: 8 | P9: =IFERROR(OFFSET(Picks!A$1,MATCH($O9,Picks!$F:$F,0)-1,0),"") | Q9: =IFERROR(OFFSET(Picks!I$1,MATCH($O9,Picks!$F:$F,0)-1,0),"") | R9: =IFERROR(OFFSET(Picks!J$1,MATCH($O9,Picks!$F:$F,0)-1,0),"") | V9: 8 | W9: =IFERROR(OFFSET(Picks!M$1,MATCH($O9,Picks!$R:$R,0)-1,0),"") -> Patrick Rodgers | X9: =IFERROR(OFFSET(Picks!U$1,MATCH($O9,Picks!$R:$R,0)-1,0),"") -> -2 | Y9: =IFERROR(OFFSET(Picks!V$1,MATCH($O9,Picks!$R:$R,0)-1,0),"") -> Bet365: 100/1, 5pl, 1/4
O10: 9 | P10: =IFERROR(OFFSET(Picks!A$1,MATCH($O10,Picks!$F:$F,0)-1,0),"") | Q10: =IFERROR(OFFSET(Picks!I$1,MATCH($O10,Picks!$F:$F,0)-1,0),"") | R10: =IFERROR(OFFSET(Picks!J$1,MATCH($O10,Picks!$F:$F,0)-1,0),"") | V10: 9 | W10: =IFERROR(OFFSET(Picks!M$1,MATCH($O10,Picks!$R:$R,0)-1,0),"") -> Thomas Detry | X10: =IFERROR(OFFSET(Picks!U$1,MATCH($O10,Picks!$R:$R,0)-1,0),"") -> 7 | Y10: =IFERROR(OFFSET(Picks!V$1,MATCH($O10,Picks!$R:$R,0)-1,0),"") -> Spreadex: 100/1, 6pl, 1/5
O11: 10 | P11: =IFERROR(OFFSET(Picks!A$1,MATCH($O11,Picks!$F:$F,0)-1,0),"") | Q11: =IFERROR(OFFSET(Picks!I$1,MATCH($O11,Picks!$F:$F,0)-1,0),"") | R11: =IFERROR(OFFSET(Picks!J$1,MATCH($O11,Picks!$F:$F,0)-1,0),"") | V11: 10 | W11: =IFERROR(OFFSET(Picks!M$1,MATCH($O11,Picks!$R:$R,0)-1,0),"") -> Andrew Putnam | X11: =IFERROR(OFFSET(Picks!U$1,MATCH($O11,Picks!$R:$R,0)-1,0),"") -> 7.2142857 | Y11: =IFERROR(OFFSET(Picks!V$1,MATCH($O11,Picks!$R:$R,0)-1,0),"") -> Bet365: 125/1, 5pl, 1/4
O12: 11 | P12: =IFERROR(OFFSET(Picks!A$1,MATCH($O12,Picks!$F:$F,0)-1,0),"") | Q12: =IFERROR(OFFSET(Picks!I$1,MATCH($O12,Picks!$F:$F,0)-1,0),"") | R12: =IFERROR(OFFSET(Picks!J$1,MATCH($O12,Picks!$F:$F,0)-1,0),"") | V12: 11 | W12: =IFERROR(OFFSET(Picks!M$1,MATCH($O12,Picks!$R:$R,0)-1,0),"") -> Ryan Fox | X12: =IFERROR(OFFSET(Picks!U$1,MATCH($O12,Picks!$R:$R,0)-1,0),"") -> -2 | Y12: =IFERROR(OFFSET(Picks!V$1,MATCH($O12,Picks!$R:$R,0)-1,0),"") -> Spreadex: 125/1, 6pl, 1/5
O13: 12 | P13: =IFERROR(OFFSET(Picks!A$1,MATCH($O13,Picks!$F:$F,0)-1,0),"") | Q13: =IFERROR(OFFSET(Picks!I$1,MATCH($O13,Picks!$F:$F,0)-1,0),"") | R13: =IFERROR(OFFSET(Picks!J$1,MATCH($O13,Picks!$F:$F,0)-1,0),"") | V13: 12 | W13: =IFERROR(OFFSET(Picks!M$1,MATCH($O13,Picks!$R:$R,0)-1,0),"") -> Chris Gotterup | X13: =IFERROR(OFFSET(Picks!U$1,MATCH($O13,Picks!$R:$R,0)-1,0),"") -> -2 | Y13: =IFERROR(OFFSET(Picks!V$1,MATCH($O13,Picks!$R:$R,0)-1,0),"") -> Skybet: 175/1, 6pl, 1/5
A27: WIN | B27: 1 | C27: 2 | D27: 3 | E27: 4 | F27: 5 | G27: 6 | H27: 7 | I27: 8 | J27: 9 | K27: 10 | L27: 11 | M27: 12 | N27: FRL | O27: 1 | P27: 2 | Q27: 3 | R27: 4 | S27: 5 | T27: 6 | U27: 7 | V27: 8 | W27: 9 | X27: 10 | Y27: 11 | Z27: 12
B28: =Q2*3 -> -6 | C28: =SUM(Q2:Q3)*1.5 -> -6 | D28: =SUM(Q2:Q4) -> 25 | E28: =SUM(Q2:Q5)*3/4 -> 17.25 | F28: =SUM(Q2:Q6)*3/5 -> 12.6 | G28: =SUM(Q2:Q7)*3/6 -> 9.5 | H28: =SUM(Q2:Q8)*3/7 -> 7.2857143 | I28: =SUM(Q2:Q9)*3/8 -> 6.375 | J28: =SUM(Q2:Q10)*3/9 -> 5.6666667 | K28: =SUM(Q2:Q11)*3/10 -> 5.1 | L28: =SUM(Q2:Q12)*3/11 -> 4.6363636 | M28: =SUM(Q2:Q13)*3/12 -> 4.25 | O28: =X2*3 -> -6 | P28: =SUM(X2:X3)*1.5 -> -6 | Q28: =SUM(X2:X4) -> -6 | R28: =SUM(X2:X5)*3/4 -> -6 | S28: =SUM(X2:X6)*3/5 -> -6 | T28: =SUM(X2:X7)*3/6 -> -6 | U28: =SUM(X2:X8)*3/7 -> -6 | V28: =SUM(X2:X9)*3/9 -> -5.3333333 | W28: =SUM(X2:X10)*3/9 -> -3 | X28: =SUM(X2:X11)*3/10 -> -0.53571429 | Y28: =SUM(X2:X12)*3/11 -> -1.0324675 | Z28: =SUM(X2:X13)*3/12 -> -1.4464286

Sheet Win
A1: Player | B1: Win % | C1: TT Odds | D1: Best Odds | E1: Kelly | F1: Result | G1: P/L | H1: E/W Play
A2: Adam Hadwin | B2: 0.42% | C2: 238 | D2: 201 | F2: =IFERROR(IF(A2="","",OFFSET(Results!$AJ$1,MATCH(A2,Results!$A:$A,0)-1,0)),"") -> 9 | G2: =IF(OR(E2="",F2=""),"",IF(F2=1,(IF(COUNTIFS(F:F,"<="&F2)<=1,1,(1-COUNTIFS(F:F,"<"&F2))/COUNTIFS(F:F,F2)))*50*E2*(1+VALUE(MID(H2,FIND(": ",H2)+2,FIND("/",H2)-FIND(":",H2)-2))-1)+50*E2*(1+VALUE(MID(H2,FIND(": ",H2)+2,FIND("/",H2)-FIND(":",H2)-2))-1)/VALUE(RIGHT(H2,1)),IF(F2<=VALUE(MID(H2,FIND(", ",H2)+2,IF(MID(H2,FIND(", ",H2)+2,1)="1",2,1))),(IF(COUNTIFS(F:F,"<="&F2)<=VALUE(MID(H2,FIND(", ",H2)+2,IF(MID(H2,FIND(", ",H2)+2,1)="1",2,1))),1,(VALUE(MID(H2,FIND(", ",H2)+2,IF(MID(H2,FIND(", ",H2)+2,1)="1",2,1)))-COUNTIFS(F:F,"<"&F2))/COUNTIFS(F:F,F2)))*(50*E2*(1+VALUE(MID(H2,FIND(": ",H2)+2,FIND("/",H2)-FIND(":",H2)-2))-1)/VALUE(RIGHT(H2,1))+50*E2)-(100*E2),-E2*100))) | H2: =IF(E2="","",OFFSET([1]PGA!$AL$1,MATCH(A2,[1]PGA!$E$1:$E$500,0)-1,0))
A3: Adam Schenk | B3: 0.21% | C3: 476 | D3: 276 | F3: =IFERROR(IF(A3="","",OFFSET(Results!$AJ$1,MATCH(A3,Results!$A:$A,0)-1,0)),"") -> 25 | G3: =IF(OR(E3="",F3=""),"",IF(F3=1,(IF(COUNTIFS(F:F,"<="&F3)<=1,1,(1-COUNTIFS(F:F,"<"&F3))/COUNTIFS(F:F,F3)))*50*E3*(1+VALUE(MID(H3,FIND(": ",H3)+2,FIND("/",H3)-FIND(":",H3)-2))-1)+50*E3*(1+VALUE(MID(H3,FIND(": ",H3)+2,FIND("/",H3)-FIND(":",H3)-2))-1)/VALUE(RIGHT(H3,1)),IF(F3<=VALUE(MID(H3,FIND(", ",H3)+2,IF(MID(H3,FIND(", ",H3)+2,1)="1",2,1))),(IF(COUNTIFS(F:F,"<="&F3)<=VALUE(MID(H3,FIND(", ",H3)+2,IF(MID(H3,FIND(", ",H3)+2,1)="1",2,1))),1,(VALUE(MID(H3,FIND(", ",H3)+2,IF(MID(H3,FIND(", ",H3)+2,1)="1",2,1)))-COUNTIFS(F:F,"<"&F3))/COUNTIFS(F:F,F3)))*(50*E3*(1+VALUE(MID(H3,FIND(": ",H3)+2,FIND("/",H3)-FIND(":",H3)-2))-1)/VALUE(RIGHT(H3,1))+50*E3)-(100*E3),-E3*100))) | H3: =IF(E3="","",OFFSET([1]PGA!$AL$1,MATCH(A3,[1]PGA!$E$1:$E$500,0)-1,0))
A4: Adam Svensson | B4: 0.28% | C4: 357 | D4: 251 | F4: =IFERROR(IF(A4="","",OFFSET(Results!$AJ$1,MATCH(A4,Results!$A:$A,0)-1,0)),"") -> 36 | G4: =IF(OR(E4="",F4=""),"",IF(F4=1,(IF(COUNTIFS(F:F,"<="&F4)<=1,1,(1-COUNTIFS(F:F,"<"&F4))/COUNTIFS(F:F,F4)))*50*E4*(1+VALUE(MID(H4,FIND(": ",H4)+2,FIND("/",H4)-FIND(":",H4)-2))-1)+50*E4*(1+VALUE(MID(H4,FIND(": ",H4)+2,FIND("/",H4)-FIND(":",H4)-2))-1)/VALUE(RIGHT(H4,1)),IF(F4<=VALUE(MID(H4,FIND(", ",H4)+2,IF(MID(H4,FIND(", ",H4)+2,1)="1",2,1))),(IF(COUNTIFS(F:F,"<="&F4)<=VALUE(MID(H4,FIND(", ",H4)+2,IF(MID(H4,FIND(", ",H4)+2,1)="1",2,1))),1,(VALUE(MID(H4,FIND(", ",H4)+2,IF(MID(H4,FIND(", ",H4)+2,1)="1",2,1)))-COUNTIFS(F:F,"<"&F4))/COUNTIFS(F:F,F4)))*(50*E4*(1+VALUE(MID(H4,FIND(": ",H4)+2,FIND("/",H4)-FIND(":",H4)-2))-1)/VALUE(RIGHT(H4,1))+50*E4)-(100*E4),-E4*100))) | H4: =IF(E4="","",OFFSET([1]PGA!$AL$1,MATCH(A4,[1]PGA!$E$1:$E$500,0)-1,0))
A5: Akshay Bhatia | B5: 0.66% | C5: 152 | D5: 71 | F5: =IFERROR(IF(A5="","",OFFSET(Results!$AJ$1,MATCH(A5,Results!$A:$A,0)-1,0)),"") -> 32 | G5: =IF(OR(E5="",F5=""),"",IF(F5=1,(IF(COUNTIFS(F:F,"<="&F5)<=1,1,(1-COUNTIFS(F:F,"<"&F5))/COUNTIFS(F:F,F5)))*50*E5*(1+VALUE(MID(H5,FIND(": ",H5)+2,FIND("/",H5)-FIND(":",H5)-2))-1)+50*E5*(1+VALUE(MID(H5,FIND(": ",H5)+2,FIND("/",H5)-FIND(":",H5)-2))-1)/VALUE(RIGHT(H5,1)),IF(F5<=VALUE(MID(H5,FIND(", ",H5)+2,IF(MID(H5,FIND(", ",H5)+2,1)="1",2,1))),(IF(COUNTIFS(F:F,"<="&F5)<=VALUE(MID(H5,FIND(", ",H5)+2,IF(MID(H5,FIND(", ",H5)+2,1)="1",2,1))),1,(VALUE(MID(H5,FIND(", ",H5)+2,IF(MID(H5,FIND(", ",H5)+2,1)="1",2,1)))-COUNTIFS(F:F,"<"&F5))/COUNTIFS(F:F,F5)))*(50*E5*(1+VALUE(MID(H5,FIND(": ",H5)+2,FIND("/",H5)-FIND(":",H5)-2))-1)/VALUE(RIGHT(H5,1))+50*E5)-(100*E5),-E5*100))) | H5: =IF(E5="","",OFFSET([1]PGA!$AL$1,MATCH(A5,[1]PGA!$E$1:$E$500,0)-1,0))
A6: Alex Smalley | B6: 0.26% | C6: 385 | D6: 176 | F6: =IFERROR(IF(A6="","",OFFSET(Results!$AJ$1,MATCH(A6,Results!$A:$A,0)-1,0)),"") -> 21 | G6: =IF(OR(E6="",F6=""),"",IF(F6=1,(IF(COUNTIFS(F:F,"<="&F6)<=1,1,(1-COUNTIFS(F:F,"<"&F6))/COUNTIFS(F:F,F6)))*50*E6*(1+VALUE(MID(H6,FIND(": ",H6)+2,FIND("/",H6)-FIND(":",H6)-2))-1)+50*E6*(1+VALUE(MID(H6,FIND(": ",H6)+2,FIND("/",H6)-FIND(":",H6)-2))-1)/VALUE(RIGHT(H6,1)),IF(F6<=VALUE(MID(H6,FIND(", ",H6)+2,IF(MID(H6,FIND(", ",H6)+2,1)="1",2,1))),(IF(COUNTIFS(F:F,"<="&F6)<=VALUE(MID(H6,FIND(", ",H6)+2,IF(MID(H6,FIND(", ",H6)+2,1)="1",2,1))),1,(VALUE(MID(H6,FIND(", ",H6)+2,IF(MID(H6,FIND(", ",H6)+2,1)="1",2,1)))-COUNTIFS(F:F,"<"&F6))/COUNTIFS(F:F,F6)))*(50*E6*(1+VALUE(MID(H6,FIND(": ",H6)+2,FIND("/",H6)-FIND(":",H6)-2))-1)/VALUE(RIGHT(H6,1))+50*E6)-(100*E6),-E6*100))) | H6: =IF(E6="","",OFFSET([1]PGA!$AL$1,MATCH(A6,[1]PGA!$E$1:$E$500,0)-1,0))
A7: Andrew Novak | B7: 0.69% | C7: 145 | D7: 91 | F7: =IFERROR(IF(A7="","",OFFSET(Results!$AJ$1,MATCH(A7,Results!$A:$A,0)-1,0)),"") -> 78 | G7: =IF(OR(E7="",F7=""),"",IF(F7=1,(IF(COUNTIFS(F:F,"<="&F7)<=1,1,(1-COUNTIFS(F:F,"<"&F7))/COUNTIFS(F:F,F7)))*50*E7*(1+VALUE(MID(H7,FIND(": ",H7)+2,FIND("/",H7)-FIND(":",H7)-2))-1)+50*E7*(1+VALUE(MID(H7,FIND(": ",H7)+2,FIND("/",H7)-FIND(":",H7)-2))-1)/VALUE(RIGHT(H7,1)),IF(F7<=VALUE(MID(H7,FIND(", ",H7)+2,IF(MID(H7,FIND(", ",H7)+2,1)="1",2,1))),(IF(COUNTIFS(F:F,"<="&F7)<=VALUE(MID(H7,FIND(", ",H7)+2,IF(MID(H7,FIND(", ",H7)+2,1)="1",2,1))),1,(VALUE(MID(H7,FIND(", ",H7)+2,IF(MID(H7,FIND(", ",H7)+2,1)="1",2,1)))-COUNTIFS(F:F,"<"&F7))/COUNTIFS(F:F,F7)))*(50*E7*(1+VALUE(MID(H7,FIND(": ",H7)+2,FIND("/",H7)-FIND(":",H7)-2))-1)/VALUE(RIGHT(H7,1))+50*E7)-(100*E7),-E7*100))) | H7: =IF(E7="","",OFFSET([1]PGA!$AL$1,MATCH(A7,[1]PGA!$E$1:$E$500,0)-1,0))
A8: Andrew Putnam | B8: 0.50% | C8: 200 | D8: 251 | E8: 0.10% | F8: =IFERROR(IF(A8="","",OFFSET(Results!$AJ$1,MATCH(A8,Results!$A:$A,0)-1,0)),"") -> 25 | G8: =IF(OR(E8="",F8=""),"",IF(F8=1,(IF(COUNTIFS(F:F,"<="&F8)<=1,1,(1-COUNTIFS(F:F,"<"&F8))/COUNTIFS(F:F,F8)))*50*E8*(1+VALUE(MID(H8,FIND(": ",H8)+2,FIND("/",H8)-FIND(":",H8)-2))-1)+50*E8*(1+VALUE(MID(H8,FIND(": ",H8)+2,FIND("/",H8)-FIND(":",H8)-2))-1)/VALUE(RIGHT(H8,1)),IF(F8<=VALUE(MID(H8,FIND(", ",H8)+2,IF(MID(H8,FIND(", ",H8)+2,1)="1",2,1))),(IF(COUNTIFS(F:F,"<="&F8)<=VALUE(MID(H8,FIND(", ",H8)+2,IF(MID(H8,FIND(", ",H8)+2,1)="1",2,1))),1,(VALUE(MID(H8,FIND(", ",H8)+2,IF(MID(H8,FIND(", ",H8)+2,1)="1",2,1)))-COUNTIFS(F:F,"<"&F8))/COUNTIFS(F:F,F8)))*(50*E8*(1+VALUE(MID(H8,FIND(": ",H8)+2,FIND("/",H8)-FIND(":",H8)-2))-1)/VALUE(RIGHT(H8,1))+50*E8)-(100*E8),-E8*100))) -> -0.1 | H8: =IF(E8="","",OFFSET([1]PGA!$AL$1,MATCH(A8,[1]PGA!$E$1:$E$500,0)-1,0)) -> Skybet: 250/1, 8pl, 1/5
A9: Austin Eckroat | B9: 0.70% | C9: 143 | D9: 81 | F9: =IFERROR(IF(A9="","",OFFSET(Results!$AJ$1,MATCH(A9,Results!$A:$A,0)-1,0)),"") -> 95 | G9: =IF(OR(E9="",F9=""),"",IF(F9=1,(IF(COUNTIFS(F:F,"<="&F9)<=1,1,(1-COUNTIFS(F:F,"<"&F9))/COUNTIFS(F:F,F9)))*50*E9*(1+VALUE(MID(H9,FIND(": ",H9)+2,FIND("/",H9)-FIND(":",H9)-2))-1)+50*E9*(1+VALUE(MID(H9,FIND(": ",H9)+2,FIND("/",H9)-FIND(":",H9)-2))-1)/VALUE(RIGHT(H9,1)),IF(F9<=VALUE(MID(H9,FIND(", ",H9)+2,IF(MID(H9,FIND(", ",H9)+2,1)="1",2,1))),(IF(COUNTIFS(F:F,"<="&F9)<=VALUE(MID(H9,FIND(", ",H9)+2,IF(MID(H9,FIND(", ",H9)+2,1)="1",2,1))),1,(VALUE(MID(H9,FIND(", ",H9)+2,IF(MID(H9,FIND(", ",H9)+2,1)="1",2,1)))-COUNTIFS(F:F,"<"&F9))/COUNTIFS(F:F,F9)))*(50*E9*(1+VALUE(MID(H9,FIND(": ",H9)+2,FIND("/",H9)-FIND(":",H9)-2))-1)/VALUE(RIGHT(H9,1))+50*E9)-(100*E9),-E9*100))) | H9: =IF(E9="","",OFFSET([1]PGA!$AL$1,MATCH(A9,[1]PGA!$E$1:$E$500,0)-1,0))
A10: Beau Hossler | B10: 0.69% | C10: 145 | D10: 81 | F10: =IFERROR(IF(A10="","",OFFSET(Results!$AJ$1,MATCH(A10,Results!$A:$A,0)-1,0)),"") -> 32 | G10: =IF(OR(E10="",F10=""),"",IF(F10=1,(IF(COUNTIFS(F:F,"<="&F10)<=1,1,(1-COUNTIFS(F:F,"<"&F10))/COUNTIFS(F:F,F10)))*50*E10*(1+VALUE(MID(H10,FIND(": ",H10)+2,FIND("/",H10)-FIND(":",H10)-2))-1)+50*E10*(1+VALUE(MID(H10,FIND(": ",H10)+2,FIND("/",H10)-FIND(":",H10)-2))-1)/VALUE(RIGHT(H10,1)),IF(F10<=VALUE(MID(H10,FIND(", ",H10)+2,IF(MID(H10,FIND(", ",H10)+2,1)="1",2,1))),(IF(COUNTIFS(F:F,"<="&F10)<=VALUE(MID(H10,FIND(", ",H10)+2,IF(MID(H10,FIND(", ",H10)+2,1)="1",2,1))),1,(VALUE(MID(H10,FIND(", ",H10)+2,IF(MID(H10,FIND(", ",H10)+2,1)="1",2,1)))-COUNTIFS(F:F,"<"&F10))/COUNTIFS(F:F,F10)))*(50*E10*(1+VALUE(MID(H10,FIND(": ",H10)+2,FIND("/",H10)-FIND(":",H10)-2))-1)/VALUE(RIGHT(H10,1))+50*E10)-(100*E10),-E10*100))) | H10: =IF(E10="","",OFFSET([1]PGA!$AL$1,MATCH(A10,[1]PGA!$E$1:$E$500,0)-1,0))
A11: Ben Griffin | B11: 0.54% | C11: 185 | D11: 126 | F11: =IFERROR(IF(A11="","",OFFSET(Results!$AJ$1,MATCH(A11,Results!$A:$A,0)-1,0)),"") -> 36 | G11: =IF(OR(E11="",F11=""),"",IF(F11=1,(IF(COUNTIFS(F:F,"<="&F11)<=1,1,(1-COUNTIFS(F:F,"<"&F11))/COUNTIFS(F:F,F11)))*50*E11*(1+VALUE(MID(H11,FIND(": ",H11)+2,FIND("/",H11)-FIND(":",H11)-2))-1)+50*E11*(1+VALUE(MID(H11,FIND(": ",H11)+2,FIND("/",H11)-FIND(":",H11)-2))-1)/VALUE(RIGHT(H11,1)),IF(F11<=VALUE(MID(H11,FIND(", ",H11)+2,IF(MID(H11,FIND(", ",H11)+2,1)="1",2,1))),(IF(COUNTIFS(F:F,"<="&F11)<=VALUE(MID(H11,FIND(", ",H11)+2,IF(MID(H11,FIND(", ",H11)+2,1)="1",2,1))),1,(VALUE(MID(H11,FIND(", ",H11)+2,IF(MID(H11,FIND(", ",H11)+2,1)="1",2,1)))-COUNTIFS(F:F,"<"&F11))/COUNTIFS(F:F,F11)))*(50*E11*(1+VALUE(MID(H11,FIND(": ",H11)+2,FIND("/",H11)-FIND(":",H11)-2))-1)/VALUE(RIGHT(H11,1))+50*E11)-(100*E11),-E11*100))) | H11: =IF(E11="","",OFFSET([1]PGA!$AL$1,MATCH(A11,[1]PGA!$E$1:$E$500,0)-1,0))
A12: Ben Kohles | B12: 0.11% | C12: 909 | D12: 501 | F12: =IFERROR(IF(A12="","",OFFSET(Results!$AJ$1,MATCH(A12,Results!$A:$A,0)-1,0)),"") -> 78 | G12: =IF(OR(E12="",F12=""),"",IF(F12=1,(IF(COUNTIFS(F:F,"<="&F12)<=1,1,(1-COUNTIFS(F:F,"<"&F12))/COUNTIFS(F:F,F12)))*50*E12*(1+VALUE(MID(H12,FIND(": ",H12)+2,FIND("/",H12)-FIND(":",H12)-2))-1)+50*E12*(1+VALUE(MID(H12,FIND(": ",H12)+2,FIND("/",H12)-FIND(":",H12)-2))-1)/VALUE(RIGHT(H12,1)),IF(F12<=VALUE(MID(H12,FIND(", ",H12)+2,IF(MID(H12,FIND(", ",H12)+2,1)="1",2,1))),(IF(COUNTIFS(F:F,"<="&F12)<=VALUE(MID(H12,FIND(", ",H12)+2,IF(MID(H12,FIND(", ",H12)+2,1)="1",2,1))),1,(VALUE(MID(H12,FIND(", ",H12)+2,IF(MID(H12,FIND(", ",H12)+2,1)="1",2,1)))-COUNTIFS(F:F,"<"&F12))/COUNTIFS(F:F,F12)))*(50*E12*(1+VALUE(MID(H12,FIND(": ",H12)+2,FIND("/",H12)-FIND(":",H12)-2))-1)/VALUE(RIGHT(H12,1))+50*E12)-(100*E12),-E12*100))) | H12: =IF(E12="","",OFFSET([1]PGA!$AL$1,MATCH(A12,[1]PGA!$E$1:$E$500,0)-1,0))
A13: Ben Martin | B13: 0.12% | C13: 833 | D13: 601 | F13: =IFERROR(IF(A13="","",OFFSET(Results!$AJ$1,MATCH(A13,Results!$A:$A,0)-1,0)),"") -> 78 | G13: =IF(OR(E13="",F13=""),"",IF(F13=1,(IF(COUNTIFS(F:F,"<="&F13)<=1,1,(1-COUNTIFS(F:F,"<"&F13))/COUNTIFS(F:F,F13)))*50*E13*(1+VALUE(MID(H13,FIND(": ",H13)+2,FIND("/",H13)-FIND(":",H13)-2))-1)+50*E13*(1+VALUE(MID(H13,FIND(": ",H13)+2,FIND("/",H13)-FIND(":",H13)-2))-1)/VALUE(RIGHT(H13,1)),IF(F13<=VALUE(MID(H13,FIND(", ",H13)+2,IF(MID(H13,FIND(", ",H13)+2,1)="1",2,1))),(IF(COUNTIFS(F:F,"<="&F13)<=VALUE(MID(H13,FIND(", ",H13)+2,IF(MID(H13,FIND(", ",H13)+2,1)="1",2,1))),1,(VALUE(MID(H13,FIND(", ",H13)+2,IF(MID(H13,FIND(", ",H13)+2,1)="1",2,1)))-COUNTIFS(F:F,"<"&F13))/COUNTIFS(F:F,F13)))*(50*E13*(1+VALUE(MID(H13,FIND(": ",H13)+2,FIND("/",H13)-FIND(":",H13)-2))-1)/VALUE(RIGHT(H13,1))+50*E13)-(100*E13),-E13*100))) | H13: =IF(E13="","",OFFSET([1]PGA!$AL$1,MATCH(A13,[1]PGA!$E$1:$E$500,0)-1,0))
A14: Ben Silverman | B14: 0.15% | C14: 667 | D14: 501 | F14: =IFERROR(IF(A14="","",OFFSET(Results!$AJ$1,MATCH(A14,Results!$A:$A,0)-1,0)),"") -> 16 | G14: =IF(OR(E14="",F14=""),"",IF(F14=1,(IF(COUNTIFS(F:F,"<="&F14)<=1,1,(1-COUNTIFS(F:F,"<"&F14))/COUNTIFS(F:F,F14)))*50*E14*(1+VALUE(MID(H14,FIND(": ",H14)+2,FIND("/",H14)-FIND(":",H14)-2))-1)+50*E14*(1+VALUE(MID(H14,FIND(": ",H14)+2,FIND("/",H14)-FIND(":",H14)-2))-1)/VALUE(RIGHT(H14,1)),IF(F14<=VALUE(MID(H14,FIND(", ",H14)+2,IF(MID(H14,FIND(", ",H14)+2,1)="1",2,1))),(IF(COUNTIFS(F:F,"<="&F14)<=VALUE(MID(H14,FIND(", ",H14)+2,IF(MID(H14,FIND(", ",H14)+2,1)="1",2,1))),1,(VALUE(MID(H14,FIND(", ",H14)+2,IF(MID(H14,FIND(", ",H14)+2,1)="1",2,1)))-COUNTIFS(F:F,"<"&F14))/COUNTIFS(F:F,F14)))*(50*E14*(1+VALUE(MID(H14,FIND(": ",H14)+2,FIND("/",H14)-FIND(":",H14)-2))-1)/VALUE(RIGHT(H14,1))+50*E14)-(100*E14),-E14*100))) | H14: =IF(E14="","",OFFSET([1]PGA!$AL$1,MATCH(A14,[1]PGA!$E$1:$E$500,0)-1,0))
A15: Billy Horschel | B15: 1.21% | C15: 83 | D15: 61 | F15: =IFERROR(IF(A15="","",OFFSET(Results!$AJ$1,MATCH(A15,Results!$A:$A,0)-1,0)),"") -> 95 | G15: =IF(OR(E15="",F15=""),"",IF(F15=1,(IF(COUNTIFS(F:F,"<="&F15)<=1,1,(1-COUNTIFS(F:F,"<"&F15))/COUNTIFS(F:F,F15)))*50*E15*(1+VALUE(MID(H15,FIND(": ",H15)+2,FIND("/",H15)-FIND(":",H15)-2))-1)+50*E15*(1+VALUE(MID(H15,FIND(": ",H15)+2,FIND("/",H15)-FIND(":",H15)-2))-1)/VALUE(RIGHT(H15,1)),IF(F15<=VALUE(MID(H15,FIND(", ",H15)+2,IF(MID(H15,FIND(", ",H15)+2,1)="1",2,1))),(IF(COUNTIFS(F:F,"<="&F15)<=VALUE(MID(H15,FIND(", ",H15)+2,IF(MID(H15,FIND(", ",H15)+2,1)="1",2,1))),1,(VALUE(MID(H15,FIND(", ",H15)+2,IF(MID(H15,FIND(", ",H15)+2,1)="1",2,1)))-COUNTIFS(F:F,"<"&F15))/COUNTIFS(F:F,F15)))*(50*E15*(1+VALUE(MID(H15,FIND(": ",H15)+2,FIND("/",H15)-FIND(":",H15)-2))-1)/VALUE(RIGHT(H15,1))+50*E15)-(100*E15),-E15*100))) | H15: =IF(E15="","",OFFSET([1]PGA!$AL$1,MATCH(A15,[1]PGA!$E$1:$E$500,0)-1,0))
A16: Brandt Snedeker | B16: 0.07% | C16: 1429 | D16: 751 | F16: =IFERROR(IF(A16="","",OFFSET(Results!$AJ$1,MATCH(A16,Results!$A:$A,0)-1,0)),"") -> 66 | G16: =IF(OR(E16="",F16=""),"",IF(F16=1,(IF(COUNTIFS(F:F,"<="&F16)<=1,1,(1-COUNTIFS(F:F,"<"&F16))/COUNTIFS(F:F,F16)))*50*E16*(1+VALUE(MID(H16,FIND(": ",H16)+2,FIND("/",H16)-FIND(":",H16)-2))-1)+50*E16*(1+VALUE(MID(H16,FIND(": ",H16)+2,FIND("/",H16)-FIND(":",H16)-2))-1)/VALUE(RIGHT(H16,1)),IF(F16<=VALUE(MID(H16,FIND(", ",H16)+2,IF(MID(H16,FIND(", ",H16)+2,1)="1",2,1))),(IF(COUNTIFS(F:F,"<="&F16)<=VALUE(MID(H16,FIND(", ",H16)+2,IF(MID(H16,FIND(", ",H16)+2,1)="1",2,1))),1,(VALUE(MID(H16,FIND(", ",H16)+2,IF(MID(H16,FIND(", ",H16)+2,1)="1",2,1)))-COUNTIFS(F:F,"<"&F16))/COUNTIFS(F:F,F16)))*(50*E16*(1+VALUE(MID(H16,FIND(": ",H16)+2,FIND("/",H16)-FIND(":",H16)-2))-1)/VALUE(RIGHT(H16,1))+50*E16)-(100*E16),-E16*100))) | H16: =IF(E16="","",OFFSET([1]PGA!$AL$1,MATCH(A16,[1]PGA!$E$1:$E$500,0)-1,0))
A17: Brendon Todd | B17: 0.06% | C17: 1667 | D17: 1001 | F17: =IFERROR(IF(A17="","",OFFSET(Results!$AJ$1,MATCH(A17,Results!$A:$A,0)-1,0)),"") -> 130 | G17: =IF(OR(E17="",F17=""),"",IF(F17=1,(IF(COUNTIFS(F:F,"<="&F17)<=1,1,(1-COUNTIFS(F:F,"<"&F17))/COUNTIFS(F:F,F17)))*50*E17*(1+VALUE(MID(H17,FIND(": ",H17)+2,FIND("/",H17)-FIND(":",H17)-2))-1)+50*E17*(1+VALUE(MID(H17,FIND(": ",H17)+2,FIND("/",H17)-FIND(":",H17)-2))-1)/VALUE(RIGHT(H17,1)),IF(F17<=VALUE(MID(H17,FIND(", ",H17)+2,IF(MID(H17,FIND(", ",H17)+2,1)="1",2,1))),(IF(COUNTIFS(F:F,"<="&F17)<=VALUE(MID(H17,FIND(", ",H17)+2,IF(MID(H17,FIND(", ",H17)+2,1)="1",2,1))),1,(VALUE(MID(H17,FIND(", ",H17)+2,IF(MID(H17,FIND(", ",H17)+2,1)="1",2,1)))-COUNTIFS(F:F,"<"&F17))/COUNTIFS(F:F,F17)))*(50*E17*(1+VALUE(MID(H17,FIND(": ",H17)+2,FIND("/",H17)-FIND(":",H17)-2))-1)/VALUE(RIGHT(H17,1))+50*E17)-(100*E17),-E17*100))) | H17: =IF(E17="","",OFFSET([1]PGA!$AL$1,MATCH(A17,[1]PGA!$E$1:$E$500,0)-1,0))
A18: Brian Harman | B18: 0.76% | C18: 132 | D18: 151 | E18: 0.10% | F18: =IFERROR(IF(A18="","",OFFSET(Results!$AJ$1,MATCH(A18,Results!$A:$A,0)-1,0)),"") -> 25 | G18: =IF(OR(E18="",F18=""),"",IF(F18=1,(IF(COUNTIFS(F:F,"<="&F18)<=1,1,(1-COUNTIFS(F:F,"<"&F18))/COUNTIFS(F:F,F18)))*50*E18*(1+VALUE(MID(H18,FIND(": ",H18)+2,FIND("/",H18)-FIND(":",H18)-2))-1)+50*E18*(1+VALUE(MID(H18,FIND(": ",H18)+2,FIND("/",H18)-FIND(":",H18)-2))-1)/VALUE(RIGHT(H18,1)),IF(F18<=VALUE(MID(H18,FIND(", ",H18)+2,IF(MID(H18,FIND(", ",H18)+2,1)="1",2,1))),(IF(COUNTIFS(F:F,"<="&F18)<=VALUE(MID(H18,FIND(", ",H18)+2,IF(MID(H18,FIND(", ",H18)+2,1)="1",2,1))),1,(VALUE(MID(H18,FIND(", ",H18)+2,IF(MID(H18,FIND(", ",H18)+2,1)="1",2,1)))-COUNTIFS(F:F,"<"&F18))/COUNTIFS(F:F,F18)))*(50*E18*(1+VALUE(MID(H18,FIND(": ",H18)+2,FIND("/",H18)-FIND(":",H18)-2))-1)/VALUE(RIGHT(H18,1))+50*E18)-(100*E18),-E18*100))) -> -0.1 | H18: =IF(E18="","",OFFSET([1]PGA!$AL$1,MATCH(A18,[1]PGA!$E$1:$E$500,0)-1,0)) -> Betfair: 150/1, 8pl, 1/5
A19: Brice Garnett | B19: 0.09% | C19: 1111 | D19: 601 | F19: =IFERROR(IF(A19="","",OFFSET(Results!$AJ$1,MATCH(A19,Results!$A:$A,0)-1,0)),"") -> 67 | G19: =IF(OR(E19="",F19=""),"",IF(F19=1,(IF(COUNTIFS(F:F,"<="&F19)<=1,1,(1-COUNTIFS(F:F,"<"&F19))/COUNTIFS(F:F,F19)))*50*E19*(1+VALUE(MID(H19,FIND(": ",H19)+2,FIND("/",H19)-FIND(":",H19)-2))-1)+50*E19*(1+VALUE(MID(H19,FIND(": ",H19)+2,FIND("/",H19)-FIND(":",H19)-2))-1)/VALUE(RIGHT(H19,1)),IF(F19<=VALUE(MID(H19,FIND(", ",H19)+2,IF(MID(H19,FIND(", ",H19)+2,1)="1",2,1))),(IF(COUNTIFS(F:F,"<="&F19)<=VALUE(MID(H19,FIND(", ",H19)+2,IF(MID(H19,FIND(", ",H19)+2,1)="1",2,1))),1,(VALUE(MID(H19,FIND(", ",H19)+2,IF(MID(H19,FIND(", ",H19)+2,1)="1",2,1)))-COUNTIFS(F:F,"<"&F19))/COUNTIFS(F:F,F19)))*(50*E19*(1+VALUE(MID(H19,FIND(": ",H19)+2,FIND("/",H19)-FIND(":",H19)-2))-1)/VALUE(RIGHT(H19,1))+50*E19)-(100*E19),-E19*100))) | H19: =IF(E19="","",OFFSET([1]PGA!$AL$1,MATCH(A19,[1]PGA!$E$1:$E$500,0)-1,0))
A20: Bud Cauley | B20: 0.23% | C20: 435 | D20: 226 | F20: =IFERROR(IF(A20="","",OFFSET(Results!$AJ$1,MATCH(A20,Results!$A:$A,0)-1,0)),"") -> 21 | G20: =IF(OR(E20="",F20=""),"",IF(F20=1,(IF(COUNTIFS(F:F,"<="&F20)<=1,1,(1-COUNTIFS(F:F,"<"&F20))/COUNTIFS(F:F,F20)))*50*E20*(1+VALUE(MID(H20,FIND(": ",H20)+2,FIND("/",H20)-FIND(":",H20)-2))-1)+50*E20*(1+VALUE(MID(H20,FIND(": ",H20)+2,FIND("/",H20)-FIND(":",H20)-2))-1)/VALUE(RIGHT(H20,1)),IF(F20<=VALUE(MID(H20,FIND(", ",H20)+2,IF(MID(H20,FIND(", ",H20)+2,1)="1",2,1))),(IF(COUNTIFS(F:F,"<="&F20)<=VALUE(MID(H20,FIND(", ",H20)+2,IF(MID(H20,FIND(", ",H20)+2,1)="1",2,1))),1,(VALUE(MID(H20,FIND(", ",H20)+2,IF(MID(H20,FIND(", ",H20)+2,1)="1",2,1)))-COUNTIFS(F:F,"<"&F20))/COUNTIFS(F:F,F20)))*(50*E20*(1+VALUE(MID(H20,FIND(": ",H20)+2,FIND("/",H20)-FIND(":",H20)-2))-1)/VALUE(RIGHT(H20,1))+50*E20)-(100*E20),-E20*100))) | H20: =IF(E20="","",OFFSET([1]PGA!$AL$1,MATCH(A20,[1]PGA!$E$1:$E$500,0)-1,0))
A21: Byeong Hun An | B21: 1.11% | C21: 90 | D21: 46 | F21: =IFERROR(IF(A21="","",OFFSET(Results!$AJ$1,MATCH(A21,Results!$A:$A,0)-1,0)),"") -> 73 | G21: =IF(OR(E21="",F21=""),"",IF(F21=1,(IF(COUNTIFS(F:F,"<="&F21)<=1,1,(1-COUNTIFS(F:F,"<"&F21))/COUNTIFS(F:F,F21)))*50*E21*(1+VALUE(MID(H21,FIND(": ",H21)+2,FIND("/",H21)-FIND(":",H21)-2))-1)+50*E21*(1+VALUE(MID(H21,FIND(": ",H21)+2,FIND("/",H21)-FIND(":",H21)-2))-1)/VALUE(RIGHT(H21,1)),IF(F21<=VALUE(MID(H21,FIND(", ",H21)+2,IF(MID(H21,FIND(", ",H21)+2,1)="1",2,1))),(IF(COUNTIFS(F:F,"<="&F21)<=VALUE(MID(H21,FIND(", ",H21)+2,IF(MID(H21,FIND(", ",H21)+2,1)="1",2,1))),1,(VALUE(MID(H21,FIND(", ",H21)+2,IF(MID(H21,FIND(", ",H21)+2,1)="1",2,1)))-COUNTIFS(F:F,"<"&F21))/COUNTIFS(F:F,F21)))*(50*E21*(1+VALUE(MID(H21,FIND(": ",H21)+2,FIND("/",H21)-FIND(":",H21)-2))-1)/VALUE(RIGHT(H21,1))+50*E21)-(100*E21),-E21*100))) | H21: =IF(E21="","",OFFSET([1]PGA!$AL$1,MATCH(A21,[1]PGA!$E$1:$E$500,0)-1,0))
A22: C.T. Pan | B22: 0.26% | C22: 385 | D22: 201 | F22: =IFERROR(IF(A22="","",OFFSET(Results!$AJ$1,MATCH(A22,Results!$A:$A,0)-1,0)),"") -> 57 | G22: =IF(OR(E22="",F22=""),"",IF(F22=1,(IF(COUNTIFS(F:F,"<="&F22)<=1,1,(1-COUNTIFS(F:F,"<"&F22))/COUNTIFS(F:F,F22)))*50*E22*(1+VALUE(MID(H22,FIND(": ",H22)+2,FIND("/",H22)-FIND(":",H22)-2))-1)+50*E22*(1+VALUE(MID(H22,FIND(": ",H22)+2,FIND("/",H22)-FIND(":",H22)-2))-1)/VALUE(RIGHT(H22,1)),IF(F22<=VALUE(MID(H22,FIND(", ",H22)+2,IF(MID(H22,FIND(", ",H22)+2,1)="1",2,1))),(IF(COUNTIFS(F:F,"<="&F22)<=VALUE(MID(H22,FIND(", ",H22)+2,IF(MID(H22,FIND(", ",H22)+2,1)="1",2,1))),1,(VALUE(MID(H22,FIND(", ",H22)+2,IF(MID(H22,FIND(", ",H22)+2,1)="1",2,1)))-COUNTIFS(F:F,"<"&F22))/COUNTIFS(F:F,F22)))*(50*E22*(1+VALUE(MID(H22,FIND(": ",H22)+2,FIND("/",H22)-FIND(":",H22)-2))-1)/VALUE(RIGHT(H22,1))+50*E22)-(100*E22),-E22*100))) | H22: =IF(E22="","",OFFSET([1]PGA!$AL$1,MATCH(A22,[1]PGA!$E$1:$E$500,0)-1,0))
A23: Cameron Young | B23: 0.63% | C23: 159 | D23: 71 | F23: =IFERROR(IF(A23="","",OFFSET(Results!$AJ$1,MATCH(A23,Results!$A:$A,0)-1,0)),"") -> 12 | G23: =IF(OR(E23="",F23=""),"",IF(F23=1,(IF(COUNTIFS(F:F,"<="&F23)<=1,1,(1-COUNTIFS(F:F,"<"&F23))/COUNTIFS(F:F,F23)))*50*E23*(1+VALUE(MID(H23,FIND(": ",H23)+2,FIND("/",H23)-FIND(":",H23)-2))-1)+50*E23*(1+VALUE(MID(H23,FIND(": ",H23)+2,FIND("/",H23)-FIND(":",H23)-2))-1)/VALUE(RIGHT(H23,1)),IF(F23<=VALUE(MID(H23,FIND(", ",H23)+2,IF(MID(H23,FIND(", ",H23)+2,1)="1",2,1))),(IF(COUNTIFS(F:F,"<="&F23)<=VALUE(MID(H23,FIND(", ",H23)+2,IF(MID(H23,FIND(", ",H23)+2,1)="1",2,1))),1,(VALUE(MID(H23,FIND(", ",H23)+2,IF(MID(H23,FIND(", ",H23)+2,1)="1",2,1)))-COUNTIFS(F:F,"<"&F23))/COUNTIFS(F:F,F23)))*(50*E23*(1+VALUE(MID(H23,FIND(": ",H23)+2,FIND("/",H23)-FIND(":",H23)-2))-1)/VALUE(RIGHT(H23,1))+50*E23)-(100*E23),-E23*100))) | H23: =IF(E23="","",OFFSET([1]PGA!$AL$1,MATCH(A23,[1]PGA!$E$1:$E$500,0)-1,0))
A24: Camilo Villegas | B24: 0.02% | C24: 5000 | D24: 2501 | F24: =IFERROR(IF(A24="","",OFFSET(Results!$AJ$1,MATCH(A24,Results!$A:$A,0)-1,0)),"") -> 44 | G24: =IF(OR(E24="",F24=""),"",IF(F24=1,(IF(COUNTIFS(F:F,"<="&F24)<=1,1,(1-COUNTIFS(F:F,"<"&F24))/COUNTIFS(F:F,F24)))*50*E24*(1+VALUE(MID(H24,FIND(": ",H24)+2,FIND("/",H24)-FIND(":",H24)-2))-1)+50*E24*(1+VALUE(MID(H24,FIND(": ",H24)+2,FIND("/",H24)-FIND(":",H24)-2))-1)/VALUE(RIGHT(H24,1)),IF(F24<=VALUE(MID(H24,FIND(", ",H24)+2,IF(MID(H24,FIND(", ",H24)+2,1)="1",2,1))),(IF(COUNTIFS(F:F,"<="&F24)<=VALUE(MID(H24,FIND(", ",H24)+2,IF(MID(H24,FIND(", ",H24)+2,1)="1",2,1))),1,(VALUE(MID(H24,FIND(", ",H24)+2,IF(MID(H24,FIND(", ",H24)+2,1)="1",2,1)))-COUNTIFS(F:F,"<"&F24))/COUNTIFS(F:F,F24)))*(50*E24*(1+VALUE(MID(H24,FIND(": ",H24)+2,FIND("/",H24)-FIND(":",H24)-2))-1)/VALUE(RIGHT(H24,1))+50*E24)-(100*E24),-E24*100))) | H24: =IF(E24="","",OFFSET([1]PGA!$AL$1,MATCH(A24,[1]PGA!$E$1:$E$500,0)-1,0))
A25: Carson Young | B25: 0.16% | C25: 625 | D25: 351 | F25: =IFERROR(IF(A25="","",OFFSET(Results!$AJ$1,MATCH(A25,Results!$A:$A,0)-1,0)),"") -> 57 | G25: =IF(OR(E25="",F25=""),"",IF(F25=1,(IF(COUNTIFS(F:F,"<="&F25)<=1,1,(1-COUNTIFS(F:F,"<"&F25))/COUNTIFS(F:F,F25)))*50*E25*(1+VALUE(MID(H25,FIND(": ",H25)+2,FIND("/",H25)-FIND(":",H25)-2))-1)+50*E25*(1+VALUE(MID(H25,FIND(": ",H25)+2,FIND("/",H25)-FIND(":",H25)-2))-1)/VALUE(RIGHT(H25,1)),IF(F25<=VALUE(MID(H25,FIND(", ",H25)+2,IF(MID(H25,FIND(", ",H25)+2,1)="1",2,1))),(IF(COUNTIFS(F:F,"<="&F25)<=VALUE(MID(H25,FIND(", ",H25)+2,IF(MID(H25,FIND(", ",H25)+2,1)="1",2,1))),1,(VALUE(MID(H25,FIND(", ",H25)+2,IF(MID(H25,FIND(", ",H25)+2,1)="1",2,1)))-COUNTIFS(F:F,"<"&F25))/COUNTIFS(F:F,F25)))*(50*E25*(1+VALUE(MID(H25,FIND(": ",H25)+2,FIND("/",H25)-FIND(":",H25)-2))-1)/VALUE(RIGHT(H25,1))+50*E25)-(100*E25),-E25*100))) | H25: =IF(E25="","",OFFSET([1]PGA!$AL$1,MATCH(A25,[1]PGA!$E$1:$E$500,0)-1,0))
A26: Chad Ramey | B26: 0.16% | C26: 625 | D26: 501 | F26: =IFERROR(IF(A26="","",OFFSET(Results!$AJ$1,MATCH(A26,Results!$A:$A,0)-1,0)),"") -> 122 | G26: =IF(OR(E26="",F26=""),"",IF(F26=1,(IF(COUNTIFS(F:F,"<="&F26)<=1,1,(1-COUNTIFS(F:F,"<"&F26))/COUNTIFS(F:F,F26)))*50*E26*(1+VALUE(MID(H26,FIND(": ",H26)+2,FIND("/",H26)-FIND(":",H26)-2))-1)+50*E26*(1+VALUE(MID(H26,FIND(": ",H26)+2,FIND("/",H26)-FIND(":",H26)-2))-1)/VALUE(RIGHT(H26,1)),IF(F26<=VALUE(MID(H26,FIND(", ",H26)+2,IF(MID(H26,FIND(", ",H26)+2,1)="1",2,1))),(IF(COUNTIFS(F:F,"<="&F26)<=VALUE(MID(H26,FIND(", ",H26)+2,IF(MID(H26,FIND(", ",H26)+2,1)="1",2,1))),1,(VALUE(MID(H26,FIND(", ",H26)+2,IF(MID(H26,FIND(", ",H26)+2,1)="1",2,1)))-COUNTIFS(F:F,"<"&F26))/COUNTIFS(F:F,F26)))*(50*E26*(1+VALUE(MID(H26,FIND(": ",H26)+2,FIND("/",H26)-FIND(":",H26)-2))-1)/VALUE(RIGHT(H26,1))+50*E26)-(100*E26),-E26*100))) | H26: =IF(E26="","",OFFSET([1]PGA!$AL$1,MATCH(A26,[1]PGA!$E$1:$E$500,0)-1,0))
A27: Chan Kim | B27: 0.31% | C27: 323 | D27: 201 | F27: =IFERROR(IF(A27="","",OFFSET(Results!$AJ$1,MATCH(A27,Results!$A:$A,0)-1,0)),"") -> 115 | G27: =IF(OR(E27="",F27=""),"",IF(F27=1,(IF(COUNTIFS(F:F,"<="&F27)<=1,1,(1-COUNTIFS(F:F,"<"&F27))/COUNTIFS(F:F,F27)))*50*E27*(1+VALUE(MID(H27,FIND(": ",H27)+2,FIND("/",H27)-FIND(":",H27)-2))-1)+50*E27*(1+VALUE(MID(H27,FIND(": ",H27)+2,FIND("/",H27)-FIND(":",H27)-2))-1)/VALUE(RIGHT(H27,1)),IF(F27<=VALUE(MID(H27,FIND(", ",H27)+2,IF(MID(H27,FIND(", ",H27)+2,1)="1",2,1))),(IF(COUNTIFS(F:F,"<="&F27)<=VALUE(MID(H27,FIND(", ",H27)+2,IF(MID(H27,FIND(", ",H27)+2,1)="1",2,1))),1,(VALUE(MID(H27,FIND(", ",H27)+2,IF(MID(H27,FIND(", ",H27)+2,1)="1",2,1)))-COUNTIFS(F:F,"<"&F27))/COUNTIFS(F:F,F27)))*(50*E27*(1+VALUE(MID(H27,FIND(": ",H27)+2,FIND("/",H27)-FIND(":",H27)-2))-1)/VALUE(RIGHT(H27,1))+50*E27)-(100*E27),-E27*100))) | H27: =IF(E27="","",OFFSET([1]PGA!$AL$1,MATCH(A27,[1]PGA!$E$1:$E$500,0)-1,0))
A28: Chandler Phillips | B28: 0.17% | C28: 588 | D28: 501 | F28: =IFERROR(IF(A28="","",OFFSET(Results!$AJ$1,MATCH(A28,Results!$A:$A,0)-1,0)),"") -> 49 | G28: =IF(OR(E28="",F28=""),"",IF(F28=1,(IF(COUNTIFS(F:F,"<="&F28)<=1,1,(1-COUNTIFS(F:F,"<"&F28))/COUNTIFS(F:F,F28)))*50*E28*(1+VALUE(MID(H28,FIND(": ",H28)+2,FIND("/",H28)-FIND(":",H28)-2))-1)+50*E28*(1+VALUE(MID(H28,FIND(": ",H28)+2,FIND("/",H28)-FIND(":",H28)-2))-1)/VALUE(RIGHT(H28,1)),IF(F28<=VALUE(MID(H28,FIND(", ",H28)+2,IF(MID(H28,FIND(", ",H28)+2,1)="1",2,1))),(IF(COUNTIFS(F:F,"<="&F28)<=VALUE(MID(H28,FIND(", ",H28)+2,IF(MID(H28,FIND(", ",H28)+2,1)="1",2,1))),1,(VALUE(MID(H28,FIND(", ",H28)+2,IF(MID(H28,FIND(", ",H28)+2,1)="1",2,1)))-COUNTIFS(F:F,"<"&F28))/COUNTIFS(F:F,F28)))*(50*E28*(1+VALUE(MID(H28,FIND(": ",H28)+2,FIND("/",H28)-FIND(":",H28)-2))-1)/VALUE(RIGHT(H28,1))+50*E28)-(100*E28),-E28*100))) | H28: =IF(E28="","",OFFSET([1]PGA!$AL$1,MATCH(A28,[1]PGA!$E$1:$E$500,0)-1,0))
A29: Charley Hoffman | B29: 0.58% | C29: 172 | D29: 101 | F29: =IFERROR(IF(A29="","",OFFSET(Results!$AJ$1,MATCH(A29,Results!$A:$A,0)-1,0)),"") -> 115 | G29: =IF(OR(E29="",F29=""),"",IF(F29=1,(IF(COUNTIFS(F:F,"<="&F29)<=1,1,(1-COUNTIFS(F:F,"<"&F29))/COUNTIFS(F:F,F29)))*50*E29*(1+VALUE(MID(H29,FIND(": ",H29)+2,FIND("/",H29)-FIND(":",H29)-2))-1)+50*E29*(1+VALUE(MID(H29,FIND(": ",H29)+2,FIND("/",H29)-FIND(":",H29)-2))-1)/VALUE(RIGHT(H29,1)),IF(F29<=VALUE(MID(H29,FIND(", ",H29)+2,IF(MID(H29,FIND(", ",H29)+2,1)="1",2,1))),(IF(COUNTIFS(F:F,"<="&F29)<=VALUE(MID(H29,FIND(", ",H29)+2,IF(MID(H29,FIND(", ",H29)+2,1)="1",2,1))),1,(VALUE(MID(H29,FIND(", ",H29)+2,IF(MID(H29,FIND(", ",H29)+2,1)="1",2,1)))-COUNTIFS(F:F,"<"&F29))/COUNTIFS(F:F,F29)))*(50*E29*(1+VALUE(MID(H29,FIND(": ",H29)+2,FIND("/",H29)-FIND(":",H29)-2))-1)/VALUE(RIGHT(H29,1))+50*E29)-(100*E29),-E29*100))) | H29: =IF(E29="","",OFFSET([1]PGA!$AL$1,MATCH(A29,[1]PGA!$E$1:$E$500,0)-1,0))
A30: Chez Reavie | B30: 0.03% | C30: 3333 | D30: 1001 | F30: =IFERROR(IF(A30="","",OFFSET(Results!$AJ$1,MATCH(A30,Results!$A:$A,0)-1,0)),"") -> 103 | G30: =IF(OR(E30="",F30=""),"",IF(F30=1,(IF(COUNTIFS(F:F,"<="&F30)<=1,1,(1-COUNTIFS(F:F,"<"&F30))/COUNTIFS(F:F,F30)))*50*E30*(1+VALUE(MID(H30,FIND(": ",H30)+2,FIND("/",H30)-FIND(":",H30)-2))-1)+50*E30*(1+VALUE(MID(H30,FIND(": ",H30)+2,FIND("/",H30)-FIND(":",H30)-2))-1)/VALUE(RIGHT(H30,1)),IF(F30<=VALUE(MID(H30,FIND(", ",H30)+2,IF(MID(H30,FIND(", ",H30)+2,1)="1",2,1))),(IF(COUNTIFS(F:F,"<="&F30)<=VALUE(MID(H30,FIND(", ",H30)+2,IF(MID(H30,FIND(", ",H30)+2,1)="1",2,1))),1,(VALUE(MID(H30,FIND(", ",H30)+2,IF(MID(H30,FIND(", ",H30)+2,1)="1",2,1)))-COUNTIFS(F:F,"<"&F30))/COUNTIFS(F:F,F30)))*(50*E30*(1+VALUE(MID(H30,FIND(": ",H30)+2,FIND("/",H30)-FIND(":",H30)-2))-1)/VALUE(RIGHT(H30,1))+50*E30)-(100*E30),-E30*100))) | H30: =IF(E30="","",OFFSET([1]PGA!$AL$1,MATCH(A30,[1]PGA!$E$1:$E$500,0)-1,0))
... A32: Chris Kirk | B32: 0.54% | C32: 185 | D32: 151 | F32: =IFERROR(IF(A32="","",OFFSET(Results!$AJ$1,MATCH(A32,Results!$A:$A,0)-1,0)),"") -> 115 | G32: =IF(OR(E32="",F32=""),"",IF(F32=1,(IF(COUNTIFS(F:F,"<="&F32)<=1,1,(1-COUNTIFS(F:F,"<"&F32))/COUNTIFS(F:F,F32)))*50*E32*(1+VALUE(MID(H32,FIND(": ",H32)+2,FIND("/",H32)-FIND(":",H32)-2))-1)+50*E32*(1+VALUE(MID(H32,FIND(": ",H32)+2,FIND("/",H32)-FIND(":",H32)-2))-1)/VALUE(RIGHT(H32,1)),IF(F32<=VALUE(MID(H32,FIND(", ",H32)+2,IF(MID(H32,FIND(", ",H32)+2,1)="1",2,1))),(IF(COUNTIFS(F:F,"<="&F32)<=VALUE(MID(H32,FIND(", ",H32)+2,IF(MID(H32,FIND(", ",H32)+2,1)="1",2,1))),1,(VALUE(MID(H32,FIND(", ",H32)+2,IF(MID(H32,FIND(", ",H32)+2,1)="1",2,1)))-COUNTIFS(F:F,"<"&F32))/COUNTIFS(F:F,F32)))*(50*E32*(1+VALUE(MID(H32,FIND(": ",H32)+2,FIND("/",H32)-FIND(":",H32)-2))-1)/VALUE(RIGHT(H32,1))+50*E32)-(100*E32),-E32*100))) | H32: =IF(E32="","",OFFSET([1]PGA!$AL$1,MATCH(A32,[1]PGA!$E$1:$E$500,0)-1,0))
A33: Christiaan Bezuidenhout | B33: 0.84% | C33: 119 | D33: 151 | E33: 0.20% | F33: =IFERROR(IF(A33="","",OFFSET(Results!$AJ$1,MATCH(A33,Results!$A:$A,0)-1,0)),"") -> 4 | G33: =IF(OR(E33="",F33=""),"",IF(F33=1,(IF(COUNTIFS(F:F,"<="&F33)<=1,1,(1-COUNTIFS(F:F,"<"&F33))/COUNTIFS(F:F,F33)))*50*E33*(1+VALUE(MID(H33,FIND(": ",H33)+2,FIND("/",H33)-FIND(":",H33)-2))-1)+50*E33*(1+VALUE(MID(H33,FIND(": ",H33)+2,FIND("/",H33)-FIND(":",H33)-2))-1)/VALUE(RIGHT(H33,1)),IF(F33<=VALUE(MID(H33,FIND(", ",H33)+2,IF(MID(H33,FIND(", ",H33)+2,1)="1",2,1))),(IF(COUNTIFS(F:F,"<="&F33)<=VALUE(MID(H33,FIND(", ",H33)+2,IF(MID(H33,FIND(", ",H33)+2,1)="1",2,1))),1,(VALUE(MID(H33,FIND(", ",H33)+2,IF(MID(H33,FIND(", ",H33)+2,1)="1",2,1)))-COUNTIFS(F:F,"<"&F33))/COUNTIFS(F:F,F33)))*(50*E33*(1+VALUE(MID(H33,FIND(": ",H33)+2,FIND("/",H33)-FIND(":",H33)-2))-1)/VALUE(RIGHT(H33,1))+50*E33)-(100*E33),-E33*100))) -> 2.9 | H33: =IF(E33="","",OFFSET([1]PGA!$AL$1,MATCH(A33,[1]PGA!$E$1:$E$500,0)-1,0)) -> Paddy Power: 150/1, 8pl, 1/5
A34: Corey Conners | B34: 1.68% | C34: 60 | D34: 46 | F34: =IFERROR(IF(A34="","",OFFSET(Results!$AJ$1,MATCH(A34,Results!$A:$A,0)-1,0)),"") -> 74 | G34: =IF(OR(E34="",F34=""),"",IF(F34=1,(IF(COUNTIFS(F:F,"<="&F34)<=1,1,(1-COUNTIFS(F:F,"<"&F34))/COUNTIFS(F:F,F34)))*50*E34*(1+VALUE(MID(H34,FIND(": ",H34)+2,FIND("/",H34)-FIND(":",H34)-2))-1)+50*E34*(1+VALUE(MID(H34,FIND(": ",H34)+2,FIND("/",H34)-FIND(":",H34)-2))-1)/VALUE(RIGHT(H34,1)),IF(F34<=VALUE(MID(H34,FIND(", ",H34)+2,IF(MID(H34,FIND(", ",H34)+2,1)="1",2,1))),(IF(COUNTIFS(F:F,"<="&F34)<=VALUE(MID(H34,FIND(", ",H34)+2,IF(MID(H34,FIND(", ",H34)+2,1)="1",2,1))),1,(VALUE(MID(H34,FIND(", ",H34)+2,IF(MID(H34,FIND(", ",H34)+2,1)="1",2,1)))-COUNTIFS(F:F,"<"&F34))/COUNTIFS(F:F,F34)))*(50*E34*(1+VALUE(MID(H34,FIND(": ",H34)+2,FIND("/",H34)-FIND(":",H34)-2))-1)/VALUE(RIGHT(H34,1))+50*E34)-(100*E34),-E34*100))) | H34: =IF(E34="","",OFFSET([1]PGA!$AL$1,MATCH(A34,[1]PGA!$E$1:$E$500,0)-1,0))
A35: Daniel Berger | B35: 0.33% | C35: 303 | D35: 126 | F35: =IFERROR(IF(A35="","",OFFSET(Results!$AJ$1,MATCH(A35,Results!$A:$A,0)-1,0)),"") -> 2 | G35: =IF(OR(E35="",F35=""),"",IF(F35=1,(IF(COUNTIFS(F:F,"<="&F35)<=1,1,(1-COUNTIFS(F:F,"<"&F35))/COUNTIFS(F:F,F35)))*50*E35*(1+VALUE(MID(H35,FIND(": ",H35)+2,FIND("/",H35)-FIND(":",H35)-2))-1)+50*E35*(1+VALUE(MID(H35,FIND(": ",H35)+2,FIND("/",H35)-FIND(":",H35)-2))-1)/VALUE(RIGHT(H35,1)),IF(F35<=VALUE(MID(H35,FIND(", ",H35)+2,IF(MID(H35,FIND(", ",H35)+2,1)="1",2,1))),(IF(COUNTIFS(F:F,"<="&F35)<=VALUE(MID(H35,FIND(", ",H35)+2,IF(MID(H35,FIND(", ",H35)+2,1)="1",2,1))),1,(VALUE(MID(H35,FIND(", ",H35)+2,IF(MID(H35,FIND(", ",H35)+2,1)="1",2,1)))-COUNTIFS(F:F,"<"&F35))/COUNTIFS(F:F,F35)))*(50*E35*(1+VALUE(MID(H35,FIND(": ",H35)+2,FIND("/",H35)-FIND(":",H35)-2))-1)/VALUE(RIGHT(H35,1))+50*E35)-(100*E35),-E35*100))) | H35: =IF(E35="","",OFFSET([1]PGA!$AL$1,MATCH(A35,[1]PGA!$E$1:$E$500,0)-1,0))
A36: David Lipsky | B36: 0.10% | C36: 1000 | D36: 601 | F36: =IFERROR(IF(A36="","",OFFSET(Results!$AJ$1,MATCH(A36,Results!$A:$A,0)-1,0)),"") -> 108 | G36: =IF(OR(E36="",F36=""),"",IF(F36=1,(IF(COUNTIFS(F:F,"<="&F36)<=1,1,(1-COUNTIFS(F:F,"<"&F36))/COUNTIFS(F:F,F36)))*50*E36*(1+VALUE(MID(H36,FIND(": ",H36)+2,FIND("/",H36)-FIND(":",H36)-2))-1)+50*E36*(1+VALUE(MID(H36,FIND(": ",H36)+2,FIND("/",H36)-FIND(":",H36)-2))-1)/VALUE(RIGHT(H36,1)),IF(F36<=VALUE(MID(H36,FIND(", ",H36)+2,IF(MID(H36,FIND(", ",H36)+2,1)="1",2,1))),(IF(COUNTIFS(F:F,"<="&F36)<=VALUE(MID(H36,FIND(", ",H36)+2,IF(MID(H36,FIND(", ",H36)+2,1)="1",2,1))),1,(VALUE(MID(H36,FIND(", ",H36)+2,IF(MID(H36,FIND(", ",H36)+2,1)="1",2,1)))-COUNTIFS(F:F,"<"&F36))/COUNTIFS(F:F,F36)))*(50*E36*(1+VALUE(MID(H36,FIND(": ",H36)+2,FIND("/",H36)-FIND(":",H36)-2))-1)/VALUE(RIGHT(H36,1))+50*E36)-(100*E36),-E36*100))) | H36: =IF(E36="","",OFFSET([1]PGA!$AL$1,MATCH(A36,[1]PGA!$E$1:$E$500,0)-1,0))
A37: David Skinns | B37: 0.02% | C37: 5000 | D37: 2001 | F37: =IFERROR(IF(A37="","",OFFSET(Results!$AJ$1,MATCH(A37,Results!$A:$A,0)-1,0)),"") -> 49 | G37: =IF(OR(E37="",F37=""),"",IF(F37=1,(IF(COUNTIFS(F:F,"<="&F37)<=1,1,(1-COUNTIFS(F:F,"<"&F37))/COUNTIFS(F:F,F37)))*50*E37*(1+VALUE(MID(H37,FIND(": ",H37)+2,FIND("/",H37)-FIND(":",H37)-2))-1)+50*E37*(1+VALUE(MID(H37,FIND(": ",H37)+2,FIND("/",H37)-FIND(":",H37)-2))-1)/VALUE(RIGHT(H37,1)),IF(F37<=VALUE(MID(H37,FIND(", ",H37)+2,IF(MID(H37,FIND(", ",H37)+2,1)="1",2,1))),(IF(COUNTIFS(F:F,"<="&F37)<=VALUE(MID(H37,FIND(", ",H37)+2,IF(MID(H37,FIND(", ",H37)+2,1)="1",2,1))),1,(VALUE(MID(H37,FIND(", ",H37)+2,IF(MID(H37,FIND(", ",H37)+2,1)="1",2,1)))-COUNTIFS(F:F,"<"&F37))/COUNTIFS(F:F,F37)))*(50*E37*(1+VALUE(MID(H37,FIND(": ",H37)+2,FIND("/",H37)-FIND(":",H37)-2))-1)/VALUE(RIGHT(H37,1))+50*E37)-(100*E37),-E37*100))) | H37: =IF(E37="","",OFFSET([1]PGA!$AL$1,MATCH(A37,[1]PGA!$E$1:$E$500,0)-1,0))
A38: Davis Riley | B38: 0.02% | C38: 5000 | D38: 1001 | F38: =IFERROR(IF(A38="","",OFFSET(Results!$AJ$1,MATCH(A38,Results!$A:$A,0)-1,0)),"") -> 122 | G38: =IF(OR(E38="",F38=""),"",IF(F38=1,(IF(COUNTIFS(F:F,"<="&F38)<=1,1,(1-COUNTIFS(F:F,"<"&F38))/COUNTIFS(F:F,F38)))*50*E38*(1+VALUE(MID(H38,FIND(": ",H38)+2,FIND("/",H38)-FIND(":",H38)-2))-1)+50*E38*(1+VALUE(MID(H38,FIND(": ",H38)+2,FIND("/",H38)-FIND(":",H38)-2))-1)/VALUE(RIGHT(H38,1)),IF(F38<=VALUE(MID(H38,FIND(", ",H38)+2,IF(MID(H38,FIND(", ",H38)+2,1)="1",2,1))),(IF(COUNTIFS(F:F,"<="&F38)<=VALUE(MID(H38,FIND(", ",H38)+2,IF(MID(H38,FIND(", ",H38)+2,1)="1",2,1))),1,(VALUE(MID(H38,FIND(", ",H38)+2,IF(MID(H38,FIND(", ",H38)+2,1)="1",2,1)))-COUNTIFS(F:F,"<"&F38))/COUNTIFS(F:F,F38)))*(50*E38*(1+VALUE(MID(H38,FIND(": ",H38)+2,FIND("/",H38)-FIND(":",H38)-2))-1)/VALUE(RIGHT(H38,1))+50*E38)-(100*E38),-E38*100))) | H38: =IF(E38="","",OFFSET([1]PGA!$AL$1,MATCH(A38,[1]PGA!$E$1:$E$500,0)-1,0))
A39: Davis Thompson | B39: 0.66% | C39: 152 | D39: 81 | F39: =IFERROR(IF(A39="","",OFFSET(Results!$AJ$1,MATCH(A39,Results!$A:$A,0)-1,0)),"") -> 36 | G39: =IF(OR(E39="",F39=""),"",IF(F39=1,(IF(COUNTIFS(F:F,"<="&F39)<=1,1,(1-COUNTIFS(F:F,"<"&F39))/COUNTIFS(F:F,F39)))*50*E39*(1+VALUE(MID(H39,FIND(": ",H39)+2,FIND("/",H39)-FIND(":",H39)-2))-1)+50*E39*(1+VALUE(MID(H39,FIND(": ",H39)+2,FIND("/",H39)-FIND(":",H39)-2))-1)/VALUE(RIGHT(H39,1)),IF(F39<=VALUE(MID(H39,FIND(", ",H39)+2,IF(MID(H39,FIND(", ",H39)+2,1)="1",2,1))),(IF(COUNTIFS(F:F,"<="&F39)<=VALUE(MID(H39,FIND(", ",H39)+2,IF(MID(H39,FIND(", ",H39)+2,1)="1",2,1))),1,(VALUE(MID(H39,FIND(", ",H39)+2,IF(MID(H39,FIND(", ",H39)+2,1)="1",2,1)))-COUNTIFS(F:F,"<"&F39))/COUNTIFS(F:F,F39)))*(50*E39*(1+VALUE(MID(H39,FIND(": ",H39)+2,FIND("/",H39)-FIND(":",H39)-2))-1)/VALUE(RIGHT(H39,1))+50*E39)-(100*E39),-E39*100))) | H39: =IF(E39="","",OFFSET([1]PGA!$AL$1,MATCH(A39,[1]PGA!$E$1:$E$500,0)-1,0))
A40: Denny McCarthy | B40: 1.08% | C40: 93 | D40: 86 | F40: =IFERROR(IF(A40="","",OFFSET(Results!$AJ$1,MATCH(A40,Results!$A:$A,0)-1,0)),"") -> 16 | G40: =IF(OR(E40="",F40=""),"",IF(F40=1,(IF(COUNTIFS(F:F,"<="&F40)<=1,1,(1-COUNTIFS(F:F,"<"&F40))/COUNTIFS(F:F,F40)))*50*E40*(1+VALUE(MID(H40,FIND(": ",H40)+2,FIND("/",H40)-FIND(":",H40)-2))-1)+50*E40*(1+VALUE(MID(H40,FIND(": ",H40)+2,FIND("/",H40)-FIND(":",H40)-2))-1)/VALUE(RIGHT(H40,1)),IF(F40<=VALUE(MID(H40,FIND(", ",H40)+2,IF(MID(H40,FIND(", ",H40)+2,1)="1",2,1))),(IF(COUNTIFS(F:F,"<="&F40)<=VALUE(MID(H40,FIND(", ",H40)+2,IF(MID(H40,FIND(", ",H40)+2,1)="1",2,1))),1,(VALUE(MID(H40,FIND(", ",H40)+2,IF(MID(H40,FIND(", ",H40)+2,1)="1",2,1)))-COUNTIFS(F:F,"<"&F40))/COUNTIFS(F:F,F40)))*(50*E40*(1+VALUE(MID(H40,FIND(": ",H40)+2,FIND("/",H40)-FIND(":",H40)-2))-1)/VALUE(RIGHT(H40,1))+50*E40)-(100*E40),-E40*100))) | H40: =IF(E40="","",OFFSET([1]PGA!$AL$1,MATCH(A40,[1]PGA!$E$1:$E$500,0)-1,0))
A41: Doug Ghim | B41: 0.42% | C41: 238 | D41: 131 | F41: =IFERROR(IF(A41="","",OFFSET(Results!$AJ$1,MATCH(A41,Results!$A:$A,0)-1,0)),"") -> 49 | G41: =IF(OR(E41="",F41=""),"",IF(F41=1,(IF(COUNTIFS(F:F,"<="&F41)<=1,1,(1-COUNTIFS(F:F,"<"&F41))/COUNTIFS(F:F,F41)))*50*E41*(1+VALUE(MID(H41,FIND(": ",H41)+2,FIND("/",H41)-FIND(":",H41)-2))-1)+50*E41*(1+VALUE(MID(H41,FIND(": ",H41)+2,FIND("/",H41)-FIND(":",H41)-2))-1)/VALUE(RIGHT(H41,1)),IF(F41<=VALUE(MID(H41,FIND(", ",H41)+2,IF(MID(H41,FIND(", ",H41)+2,1)="1",2,1))),(IF(COUNTIFS(F:F,"<="&F41)<=VALUE(MID(H41,FIND(", ",H41)+2,IF(MID(H41,FIND(", ",H41)+2,1)="1",2,1))),1,(VALUE(MID(H41,FIND(", ",H41)+2,IF(MID(H41,FIND(", ",H41)+2,1)="1",2,1)))-COUNTIFS(F:F,"<"&F41))/COUNTIFS(F:F,F41)))*(50*E41*(1+VALUE(MID(H41,FIND(": ",H41)+2,FIND("/",H41)-FIND(":",H41)-2))-1)/VALUE(RIGHT(H41,1))+50*E41)-(100*E41),-E41*100))) | H41: =IF(E41="","",OFFSET([1]PGA!$AL$1,MATCH(A41,[1]PGA!$E$1:$E$500,0)-1,0))
...

Sheet Top3
A1: Player | B1: Win % | C1: TT Odds | D1: Best Odds | E1: Kelly | F1: Result | G1: P/L | H1: E/W Play
A2: Adam Hadwin | B2: 1.59% | C2: 63
A3: Adam Schenk | B3: 0.90% | C3: 111
A4: Adam Svensson | B4: 1.06% | C4: 94
A5: Akshay Bhatia | B5: 2.48% | C5: 40
A6: Alex Smalley | B6: 1.06% | C6: 94
A7: Andrew Novak | B7: 2.51% | C7: 40
A8: Andrew Putnam | B8: 1.95% | C8: 51
A9: Austin Eckroat | B9: 2.61% | C9: 38
A10: Beau Hossler | B10: 2.44% | C10: 41
A11: Ben Griffin | B11: 2.03% | C11: 49
