Workbook

Sheet Record
A1: Win | D1: Top3: Win
A2: Stakes | B2: Profit | D2: Stakes | E2: Profit
A3: {=SUM(IFERROR(100*SUMPRODUCT(('Rd1'!H:H<>"") * IFERROR(--'Rd1'!G:G, 0)),0),IFERROR(100*SUMPRODUCT(('Rd2'!H:H<>"") * IFERROR(--'Rd2'!G:G, 0)),0),IFERROR(100*SUMPRODUCT(('Rd3'!H:H<>"") * IFERROR(--'Rd3'!G:G, 0)),0),IFERROR(100*SUMPRODUCT(('Rd4'!H:H<>"") * IFERROR(--'Rd4'!G:G, 0)),0))} -> 274.4 | B3: =SUM(IF(AND(A3="",SUM('Rd1'!I:I)=0),"",SUM('Rd1'!I:I)),IF(AND(A3="",SUM('Rd2'!I:I)=0),"",SUM('Rd2'!I:I)),IF(AND(A3="",SUM('Rd3'!I:I)=0),"",SUM('Rd3'!I:I)),IF(AND(A3="",SUM('Rd4'!I:I)=0),"",SUM('Rd4'!I:I))) -> 69.4 | D3: =IF(T3Picks!C2="","",2*(12-COUNTBLANK(T3Picks!B2:B13))) -> 24 | E3: =IF(T3Picks!C2="","",SUM(T3Picks!I2:I13)) -> 7.4

Sheet Rd1
A1: Round | B1: Time | C1: Player | D1: Win % | E1: TT Odds | F1: Best Odds | G1: Kelly | H1: Score | I1: P/L
A2: =IF(B2="","",1) -> 1 | B2: 0.48958333 | C2: Alex Smalley | D2: 36.04% | E2: 2.8 | F2: 2.45 | H2: 72
A3: =IF(B3="","",1) -> 1 | B3: 0.48958333 | C3: Alex Noren | D3: 41.36% | E3: 2.4 | F3: 2.5 | G3: 1.10% | H3: 71 | I3: -1.1
A4: =IF(B4="","",1) -> 1 | B4: 0.48958333 | C4: Lanto Griffin | D4: 22.60% | E4: 4.4 | F4: 4 | H4: 67
A5: =IF(B5="","",1) -> 1 | B5: 0.48958333 | C5: Victor Perez | D5: 41.97% | E5: 2.4 | F5: 2.3 | H5: 66
A6: =IF(B6="","",1) -> 1 | B6: 0.48958333 | C6: Adam Hadwin | D6: 31.83% | E6: 3.1 | F6: 2.88 | H6: 67
A7: =IF(B7="","",1) -> 1 | B7: 0.48958333 | C7: David Skinns | D7: 26.20% | E7: 3.8 | F7: 3.6 | H7: 69
A8: =IF(B8="","",1) -> 1 | B8: 0.49722222 | C8: Patrick Fishburn | D8: 40.61% | E8: 2.5 | F8: 2.15 | H8: 68
A9: =IF(B9="","",1) -> 1 | B9: 0.49722222 | C9: Ben Silverman | D9: 38.40% | E9: 2.6 | F9: 2.63 | G9: 0.30% | H9: 73 | I9: -0.3
A10: =IF(B10="","",1) -> 1 | B10: 0.49722222 | C10: Aaron Baddeley | D10: 20.98% | E10: 4.8 | F10: 4.33 | H10: 71
A11: =IF(B11="","",1) -> 1 | B11: 0.49722222 | C11: Thorbjorn Olesen | D11: 43.80% | E11: 2.3 | F11: 2.2 | H11: 69
A12: =IF(B12="","",1) -> 1 | B12: 0.49722222 | C12: Carson Young | D12: 31.22% | E12: 3.2 | F12: 3 | H12: 71
A13: =IF(B13="","",1) -> 1 | B13: 0.49722222 | C13: Will Gordon | D13: 24.99% | E13: 4 | F13: 3.6 | H13: 69
A14: =IF(B14="","",1) -> 1 | B14: 0.50486111 | C14: Rico Hoey | D14: 39.57% | E14: 2.5 | F14: 2.45 | H14: 71
A15: =IF(B15="","",1) -> 1 | B15: 0.50486111 | C15: Trey Mullinax | D15: 30.35% | E15: 3.3 | F15: 2.88 | H15: 71
A16: =IF(B16="","",1) -> 1 | B16: 0.50486111 | C16: Chandler Phillips | D16: 30.09% | E16: 3.3 | F16: 3.4 | G16: 0.50% | H16: 70 | I16: 1.2
A17: =IF(B17="","",1) -> 1 | B17: 0.50486111 | C17: Andrew Putnam | D17: 47.35% | E17: 2.1 | F17: 2.3 | G17: 3.40% | H17: 64 | I17: 4.42
A18: =IF(B18="","",1) -> 1 | B18: 0.50486111 | C18: Danny Walker | D18: 31.58% | E18: 3.2 | F18: 2.7 | H18: 72
A19: =IF(B19="","",1) -> 1 | B19: 0.50486111 | C19: David Lipsky | D19: 21.07% | E19: 4.7 | F19: 3.9 | H19: 69
A20: =IF(B20="","",1) -> 1 | B20: 0.5125 | C20: Nico Echavarria | D20: 43.46% | E20: 2.3 | F20: 2.1 | H20: 66
A21: =IF(B21="","",1) -> 1 | B21: 0.5125 | C21: Patton Kizzire | D21: 32.75% | E21: 3.1 | F21: 3 | H21: 74
A22: =IF(B22="","",1) -> 1 | B22: 0.5125 | C22: Peter Malnati | D22: 23.79% | E22: 4.2 | F22: 4.2 | H22: 69
A23: =IF(B23="","",1) -> 1 | B23: 0.5125 | C23: Wyndham Clark | D23: 38.21% | E23: 2.6 | F23: 2.5 | H23: 66
A24: =IF(B24="","",1) -> 1 | B24: 0.5125 | C24: Min Woo Lee | D24: 35.24% | E24: 2.8 | F24: 2.75 | H24: 63
A25: =IF(B25="","",1) -> 1 | B25: 0.5125 | C25: Cam Davis | D25: 26.55% | E25: 3.8 | F25: 3.25 | H25: 74
A26: =IF(B26="","",1) -> 1 | B26: 0.52013889 | C26: Collin Morikawa | D26: 31.38% | E26: 3.2 | F26: 2.63 | H26: 69
A27: =IF(B27="","",1) -> 1 | B27: 0.52013889 | C27: Patrick Cantlay | D27: 35.03% | E27: 2.9 | F27: 2.8 | H27: 66
A28: =IF(B28="","",1) -> 1 | B28: 0.52013889 | C28: Keegan Bradley | D28: 33.59% | E28: 3 | F28: 3 | G28: 0.20% | H28: 68 | I28: -0.2
A29: =IF(B29="","",1) -> 1 | B29: 0.52013889 | C29: Lee Hodges | D29: 35.27% | E29: 2.8 | F29: 2.5 | H29: 65
A30: =IF(B30="","",1) -> 1 | B30: 0.52013889 | C30: Seamus Power | D30: 38.61% | E30: 2.6 | F30: 2.8 | G30: 2.30% | H30: 73 | I30: -2.3
A31: =IF(B31="","",1) -> 1 | B31: 0.52013889 | C31: Luke List | D31: 26.13% | E31: 3.8 | F31: 3.5 | H31: 68
A32: =IF(B32="","",1) -> 1 | B32: 0.52777778 | C32: Matt Fitzpatrick | D32: 32.58% | E32: 3.1 | F32: 2.75 | H32: 67
A33: =IF(B33="","",1) -> 1 | B33: 0.52777778 | C33: Akshay Bhatia | D33: 31.59% | E33: 3.2 | F33: 2.8 | H33: 68
A34: =IF(B34="","",1) -> 1 | B34: 0.52777778 | C34: Rickie Fowler | D34: 35.84% | E34: 2.8 | F34: 3 | G34: 1.90% | H34: 71 | I34: -1.9
A35: =IF(B35="","",1) -> 1 | B35: 0.52777778 | C35: Joe Highsmith | D35: 37.25% | E35: 2.7 | F35: 2.63 | H35: 71
A36: =IF(B36="","",1) -> 1 | B36: 0.52777778 | C36: Brice Garnett | D36: 35.51% | E36: 2.8 | F36: 2.9 | G36: 0.80% | H36: 72 | I36: -0.8
A37: =IF(B37="","",1) -> 1 | B37: 0.52777778 | C37: Francesco Molinari | D37: 27.23% | E37: 3.7 | F37: 3.4 | H37: 71
A38: =IF(B38="","",1) -> 1 | B38: 0.53541667 | C38: Kurt Kitayama | D38: 45.32% | E38: 2.2 | F38: 2.1 | H38: 70
A39: =IF(B39="","",1) -> 1 | B39: 0.53541667 | C39: Adam Schenk | D39: 28.65% | E39: 3.5 | F39: 2.9 | H39: 70
A40: =IF(B40="","",1) -> 1 | B40: 0.53541667 | C40: Nick Dunlap | D40: 26.04% | E40: 3.8 | F40: 3.9 | G40: 0.30% | H40: 70 | I40: 0.09
...

Sheet Rd2
A1: Round | B1: Time | C1: Player | D1: Win % | E1: TT Odds | F1: Best Odds | G1: Kelly | H1: Score | I1: P/L
A2: =IF(B2="","",2) -> 2 | B2: 0.48958333 | C2: Keith Mitchell | D2: 41.76% | E2: 2.4 | F2: 2.38 | H2: 78
A3: =IF(B3="","",2) -> 2 | B3: 0.48958333 | C3: Kevin Roy | D3: 36.32% | E3: 2.8 | F3: 2.88 | G3: 1.20% | H3: 71 | I3: 0.53
A4: =IF(B4="","",2) -> 2 | B4: 0.48958333 | C4: Joel Dahmen | D4: 21.92% | E4: 4.6 | F4: 3.6 | H4: 71
A5: =IF(B5="","",2) -> 2 | B5: 0.48958333 | C5: Isaiah Salinda | D5: 35.09% | E5: 2.8 | F5: 2.5 | H5: 71
A6: =IF(B6="","",2) -> 2 | B6: 0.48958333 | C6: Mac Meissner | D6: 32.49% | E6: 3.1 | F6: 3 | H6: 69
A7: =IF(B7="","",2) -> 2 | B7: 0.48958333 | C7: Justin Lower | D7: 32.42% | E7: 3.1 | F7: 3.1 | G7: 0.10% | H7: 67 | I7: 0.21
A8: =IF(B8="","",2) -> 2 | B8: 0.49722222 | C8: Ryan Gerard | D8: 38.47% | E8: 2.6 | F8: 2.3 | H8: 68
A9: =IF(B9="","",2) -> 2 | B9: 0.49722222 | C9: Aldrich Potgieter | D9: 32.66% | E9: 3.1 | F9: 2.88 | H9: 70
A10: =IF(B10="","",2) -> 2 | B10: 0.49722222 | C10: Chan Kim | D10: 28.87% | E10: 3.5 | F10: 4.2 | G10: 3.30% | H10: 65 | I10: 10.56
A11: =IF(B11="","",2) -> 2 | B11: 0.49722222 | C11: Vince Whaley | D11: 39.00% | E11: 2.6 | F11: 2.5 | H11: 69
A12: =IF(B12="","",2) -> 2 | B12: 0.49722222 | C12: Patrick Rodgers | D12: 37.71% | E12: 2.7 | F12: 2.63 | H12: 71
A13: =IF(B13="","",2) -> 2 | B13: 0.49722222 | C13: Nate Lashley | D13: 23.29% | E13: 4.3 | F13: 3.6 | H13: 67
A14: =IF(B14="","",2) -> 2 | B14: 0.50486111 | C14: Greyson Sigg | D14: 40.91% | E14: 2.4 | F14: 2.35 | H14: 70
A15: =IF(B15="","",2) -> 2 | B15: 0.50486111 | C15: Hayden Buckley | D15: 37.98% | E15: 2.6 | F15: 2.75 | G15: 1.30% | H15: 68 | I15: 2.28
A16: =IF(B16="","",2) -> 2 | B16: 0.50486111 | C16: Ryan Brehm | D16: 21.11% | E16: 4.7 | F16: 4 | H16: 71
A17: =IF(B17="","",2) -> 2 | B17: 0.50486111 | C17: Ryo Hisatsune | D17: 37.14% | E17: 2.7 | F17: 2.4 | H17: 67
A18: =IF(B18="","",2) -> 2 | B18: 0.50486111 | C18: Henrik Norlander | D18: 35.65% | E18: 2.8 | F18: 2.63 | H18: 72
A19: =IF(B19="","",2) -> 2 | B19: 0.50486111 | C19: Danny Willett | D19: 27.21% | E19: 3.7 | F19: 3.8 | G19: 0.60% | H19: 71 | I19: -0.6
A20: =IF(B20="","",2) -> 2 | B20: 0.5125 | C20: Stephan Jaeger | D20: 33.68% | E20: 3 | F20: 2.7 | H20: 72
A21: =IF(B21="","",2) -> 2 | B21: 0.5125 | C21: Tom Kim | D21: 37.93% | E21: 2.6 | F21: 2.8 | G21: 1.70% | H21: 76 | I21: -1.7
A22: =IF(B22="","",2) -> 2 | B22: 0.5125 | C22: Jake Knapp | D22: 28.40% | E22: 3.5 | F22: 3.1 | H22: 61
A23: =IF(B23="","",2) -> 2 | B23: 0.5125 | C23: Harry Hall | D23: 54.02% | E23: 1.85 | F23: 1.91 | G23: 1.70% | H23: 67 | I23: -0.08
A24: =IF(B24="","",2) -> 2 | B24: 0.5125 | C24: Joseph Bramlett | D24: 28.42% | E24: 3.5 | F24: 4 | G24: 2.30% | H24: 67 | I24: 2.3
A25: =IF(B25="","",2) -> 2 | B25: 0.5125 | C25: Aaron Wise | D25: 17.56% | E25: 5.7 | F25: 4.5 | H25: 68
A26: =IF(B26="","",2) -> 2 | B26: 0.52013889 | C26: Ben Griffin | D26: 41.43% | E26: 2.4 | F26: 2.4 | H26: 67
A27: =IF(B27="","",2) -> 2 | B27: 0.52013889 | C27: Hideki Matsuyama | D27: 36.52% | E27: 2.7 | F27: 2.7 | H27: 66
A28: =IF(B28="","",2) -> 2 | B28: 0.52013889 | C28: Max Homa | D28: 22.05% | E28: 4.5 | F28: 4.35 | H28: 70
A29: =IF(B29="","",2) -> 2 | B29: 0.52013889 | C29: Davis Thompson | D29: 32.01% | E29: 3.1 | F29: 2.6 | H29: 70
A30: =IF(B30="","",2) -> 2 | B30: 0.52013889 | C30: Si Woo Kim | D30: 37.13% | E30: 2.7 | F30: 2.75 | G30: 0.60% | H30: 68 | I30: -0.6
A31: =IF(B31="","",2) -> 2 | B31: 0.52013889 | C31: Chris Kirk | D31: 30.86% | E31: 3.2 | F31: 3.5 | G31: 1.60% | H31: 65 | I31: 4
A32: =IF(B32="","",2) -> 2 | B32: 0.52777778 | C32: Cameron Young | D32: 37.98% | E32: 2.6 | F32: 2.25 | H32: 69
A33: =IF(B33="","",2) -> 2 | B33: 0.52777778 | C33: Gary Woodland | D33: 32.15% | E33: 3.1 | F33: 3.1 | H33: 66
A34: =IF(B34="","",2) -> 2 | B34: 0.52777778 | C34: Austin Eckroat | D34: 29.87% | E34: 3.3 | F34: 3.5 | G34: 0.90% | H34: 67 | I34: -0.9
A35: =IF(B35="","",2) -> 2 | B35: 0.52777778 | C35: Matt McCarty | D35: 46.07% | E35: 2.2 | F35: 2.2 | G35: 0.60% | H35: 67 | I35: -0.6
A36: =IF(B36="","",2) -> 2 | B36: 0.52777778 | C36: Davis Riley | D36: 31.04% | E36: 3.2 | F36: 2.8 | H36: 63
A37: =IF(B37="","",2) -> 2 | B37: 0.52777778 | C37: Camilo Villegas | D37: 22.89% | E37: 4.4 | F37: 4 | H37: 68
A38: =IF(B38="","",2) -> 2 | B38: 0.53541667 | C38: Emiliano Grillo | D38: 43.31% | E38: 2.3 | F38: 2.63 | G38: 4.30% | H38: 67 | I38: -4.3
A39: =IF(B39="","",2) -> 2 | B39: 0.53541667 | C39: Chris Gotterup | D39: 32.50% | E39: 3.1 | F39: 2.75 | H39: 66
A40: =IF(B40="","",2) -> 2 | B40: 0.53541667 | C40: Adam Svensson | D40: 24.20% | E40: 4.1 | F40: 3.6 | H40: 70
...

Sheet Rd3
A1: Round | B1: Time | C1: Player | D1: Win % | E1: TT Odds | F1: Best Odds | G1: Kelly | H1: Score | I1: P/L
A2: =IF(B2="","",3) -> 3 | B2: 0.49652778 | C2: Michael Kim | D2: 51.07% | E2: 1.96 | F2: 2 | G2: 1.10% | H2: 67 | I2: 1.1
A3: =IF(B3="","",3) -> 3 | B3: 0.49652778 | C3: Antoine Rozner | D3: 36.02% | E3: 2.8 | F3: 2.3 | H3: 71
A4: =IF(B4="","",3) -> 3 | B4: 0.49652778 | C4: Tie | D4: 12.91% | E4: 7.7 | F4: 8.5 | G4: 0.60% | H4: - | I4: -0.6
A5: =IF(B5="","",3) -> 3 | B5: 0.50347222 | C5: Erik van Rooyen | D5: 51.49% | E5: 1.94 | F5: 1.8 | H5: 74
A6: =IF(B6="","",3) -> 3 | B6: 0.50347222 | C6: Zach Johnson | D6: 36.17% | E6: 2.8 | F6: 2.5 | H6: 71
A7: =IF(B7="","",3) -> 3 | B7: 0.50347222 | C7: Tie | D7: 12.34% | E7: 8.1 | F7: 8.5 | G7: 0.30% | H7: - | I7: -0.3
A8: =IF(B8="","",3) -> 3 | B8: 0.51041667 | C8: Akshay Bhatia | D8: 48.66% | E8: 2.1 | F8: 2 | H8: 70
A9: =IF(B9="","",3) -> 3 | B9: 0.51041667 | C9: Kurt Kitayama | D9: 38.35% | E9: 2.6 | F9: 2.3 | H9: 68
A10: =IF(B10="","",3) -> 3 | B10: 0.51041667 | C10: Tie | D10: 12.98% | E10: 7.7 | F10: 9 | G10: 1.10% | H10: - | I10: -1.1
A11: =IF(B11="","",3) -> 3 | B11: 0.51736111 | C11: Patrick Cantlay | D11: 65.83% | E11: 1.52 | F11: 1.56 | G11: 2.40% | H11: 67 | I11: 1.34
A12: =IF(B12="","",3) -> 3 | B12: 0.51736111 | C12: Luke List | D12: 23.41% | E12: 4.3 | F12: 3.4 | H12: 68
A13: =IF(B13="","",3) -> 3 | B13: 0.51736111 | C13: Tie | D13: 10.76% | E13: 9.3 | F13: 9 | H13: -
A14: =IF(B14="","",3) -> 3 | B14: 0.52430556 | C14: Keegan Bradley | D14: 61.74% | E14: 1.62 | F14: 1.67 | G14: 2.30% | H14: 71 | I14: -2.3
A15: =IF(B15="","",3) -> 3 | B15: 0.52430556 | C15: Chandler Phillips | D15: 26.61% | E15: 3.8 | F15: 3 | H15: 65
A16: =IF(B16="","",3) -> 3 | B16: 0.52430556 | C16: Tie | D16: 11.65% | E16: 8.6 | F16: 9 | G16: 0.30% | H16: - | I16: -0.3
A17: =IF(B17="","",3) -> 3 | B17: 0.53125 | C17: Lanto Griffin | D17: 45.67% | E17: 2.2 | F17: 2.1 | H17: 71
A18: =IF(B18="","",3) -> 3 | B18: 0.53125 | C18: Will Gordon | D18: 41.07% | E18: 2.4 | F18: 2.1 | H18: 69
A19: =IF(B19="","",3) -> 3 | B19: 0.53125 | C19: Tie | D19: 13.25% | E19: 7.5 | F19: 8.5 | G19: 0.80% | H19: - | I19: -0.8
A20: =IF(B20="","",3) -> 3 | B20: 0.53819444 | C20: Paul Peterson | D20: 49.63% | E20: 2 | F20: 2.2 | G20: 3.80% | H20: 69 | I20: 4.56
A21: =IF(B21="","",3) -> 3 | B21: 0.53819444 | C21: James Piot | D21: 37.32% | E21: 2.7 | F21: 2.3 | H21: 72
A22: =IF(B22="","",3) -> 3 | B22: 0.53819444 | C22: Tie | D22: 13.04% | E22: 7.7 | F22: 8.5 | G22: 0.70% | H22: - | I22: -0.7
A23: =IF(B23="","",3) -> 3 | B23: 0.54513889 | C23: Beau Hossler | D23: 48.02% | E23: 2.1 | F23: 2 | H23: 70
A24: =IF(B24="","",3) -> 3 | B24: 0.54513889 | C24: Ben Kohles | D24: 39.01% | E24: 2.6 | F24: 2.3 | H24: 72
A25: =IF(B25="","",3) -> 3 | B25: 0.54513889 | C25: Tie | D25: 12.96% | E25: 7.7 | F25: 8.5 | G25: 0.70% | H25: - | I25: -0.7
A26: =IF(B26="","",3) -> 3 | B26: 0.55208333 | C26: Chris Gotterup | D26: 43.01% | E26: 2.3 | F26: 1.91 | H26: 65
A27: =IF(B27="","",3) -> 3 | B27: 0.55208333 | C27: Austin Eckroat | D27: 44.73% | E27: 2.2 | F27: 2.3 | G27: 1.10% | H27: 73 | I27: -1.1
A28: =IF(B28="","",3) -> 3 | B28: 0.55208333 | C28: Tie | D28: 12.25% | E28: 8.2 | F28: 8.5 | G28: 0.30% | H28: - | I28: -0.3
A29: =IF(B29="","",3) -> 3 | B29: 0.5625 | C29: Davis Riley | D29: 55.89% | E29: 1.79 | F29: 1.67 | H29: 74
A30: =IF(B30="","",3) -> 3 | B30: 0.5625 | C30: Aaron Wise | D30: 31.36% | E30: 3.2 | F30: 2.9 | H30: 70
A31: =IF(B31="","",3) -> 3 | B31: 0.5625 | C31: Tie | D31: 12.75% | E31: 7.8 | F31: 8.5 | G31: 0.60% | H31: - | I31: -0.6
A32: =IF(B32="","",3) -> 3 | B32: 0.56944444 | C32: Isaiah Salinda | D32: 44.13% | E32: 2.3 | F32: 1.95 | H32: 71
A33: =IF(B33="","",3) -> 3 | B33: 0.56944444 | C33: Kris Ventura | D33: 43.73% | E33: 2.3 | F33: 2.25 | H33: 70
A34: =IF(B34="","",3) -> 3 | B34: 0.56944444 | C34: Tie | D34: 12.13% | E34: 8.2 | F34: 8.5 | G34: 0.20% | H34: - | I34: -0.2
A35: =IF(B35="","",3) -> 3 | B35: 0.57638889 | C35: Cameron Champ | D35: 56.22% | E35: 1.78 | F35: 1.73 | H35: 66
A36: =IF(B36="","",3) -> 3 | B36: 0.57638889 | C36: Matthew Riedel | D36: 32.45% | E36: 3.1 | F36: 2.15 | H36: 67
A37: =IF(B37="","",3) -> 3 | B37: 0.57638889 | C37: Tie | D37: 11.33% | E37: 8.8 | F37: 8.5 | H37: -
A38: =IF(B38="","",3) -> 3 | B38: 0.58333333 | C38: Byeong Hun An | D38: 55.46% | E38: 1.8 | F38: 1.91 | G38: 3.30% | H38: 75 | I38: -3.3
A39: =IF(B39="","",3) -> 3 | B39: 0.58333333 | C39: Webb Simpson | D39: 32.63% | E39: 3.1 | F39: 2.6 | H39: 71
A40: =IF(B40="","",3) -> 3 | B40: 0.58333333 | C40: Tie | D40: 11.91% | E40: 8.4 | F40: 8.5 | G40: 0.10% | H40: - | I40: -0.1
...

Sheet Rd4
A1: Round | B1: Time | C1: Player | D1: Win % | E1: TT Odds | F1: Best Odds | G1: Kelly | H1: Score | I1: P/L
A2: =IF(B2="","",4) -> 4 | B2: 0.48611111 | C2: Quade Cummins | D2: 56.44% | E2: 1.77 | F2: 1.7 | H2: 69
A3: =IF(B3="","",4) -> 4 | B3: 0.48611111 | C3: Cristobal Del Solar | D3: 31.04% | E3: 3.2 | F3: 2.6 | H3: 73
A4: =IF(B4="","",4) -> 4 | B4: 0.48611111 | C4: Tie | D4: 12.52% | E4: 8 | F4: 8.5 | G4: 0.40% | H4: - | I4: -0.4
A5: =IF(B5="","",4) -> 4 | B5: 0.49236111 | C5: Byeong Hun An | D5: 59.88% | E5: 1.67 | F5: 1.91 | G5: 7.90% | H5: 67 | I5: 7.19
A6: =IF(B6="","",4) -> 4 | B6: 0.49236111 | C6: Davis Riley | D6: 28.18% | E6: 3.5 | F6: 2.5 | H6: 68
A7: =IF(B7="","",4) -> 4 | B7: 0.49236111 | C7: Tie | D7: 11.94% | E7: 8.4 | F7: 8.5 | G7: 0.10% | H7: - | I7: -0.1
A8: =IF(B8="","",4) -> 4 | B8: 0.49861111 | C8: Erik van Rooyen | D8: 66.02% | E8: 1.51 | F8: 1.67 | G8: 7.70% | H8: 70 | I8: 5.16
A9: =IF(B9="","",4) -> 4 | B9: 0.49861111 | C9: Harrison Endycott | D9: 22.66% | E9: 4.4 | F9: 2.75 | H9: 72
A10: =IF(B10="","",4) -> 4 | B10: 0.49861111 | C10: Tie | D10: 11.32% | E10: 8.8 | F10: 9 | G10: 0.10% | H10: - | I10: -0.1
A11: =IF(B11="","",4) -> 4 | B11: 0.50486111 | C11: Si Woo Kim | D11: 49.49% | E11: 2 | F11: 1.87 | H11: 73
A12: =IF(B12="","",4) -> 4 | B12: 0.50486111 | C12: Austin Eckroat | D12: 37.58% | E12: 2.7 | F12: 2.5 | H12: 68
A13: =IF(B13="","",4) -> 4 | B13: 0.50486111 | C13: Tie | D13: 12.92% | E13: 7.7 | F13: 8.5 | G13: 0.70% | H13: - | I13: -0.7
A14: =IF(B14="","",4) -> 4 | B14: 0.51111111 | C14: Luke Clanton | D14: 56.00% | E14: 1.79 | F14: 1.67 | H14: 69
A15: =IF(B15="","",4) -> 4 | B15: 0.51111111 | C15: David Skinns | D15: 31.34% | E15: 3.2 | F15: 2.75 | H15: 70
A16: =IF(B16="","",4) -> 4 | B16: 0.51111111 | C16: Tie | D16: 12.66% | E16: 7.9 | F16: 9 | G16: 0.90% | H16: - | I16: -0.9
A17: =IF(B17="","",4) -> 4 | B17: 0.51736111 | C17: Gordon Sargent | D17: 42.15% | E17: 2.4 | F17: 2.05 | H17: 70
A18: =IF(B18="","",4) -> 4 | B18: 0.51736111 | C18: Camilo Villegas | D18: 44.06% | E18: 2.3 | F18: 2.15 | H18: 70
A19: =IF(B19="","",4) -> 4 | B19: 0.51736111 | C19: Tie | D19: 13.78% | E19: 7.3 | F19: 9 | G19: 1.50% | H19: - | I19: 12
A20: =IF(B20="","",4) -> 4 | B20: 0.52361111 | C20: Ben Kohles | D20: 60.27% | E20: 1.66 | F20: 1.85 | G20: 6.80% | H20: 72 | I20: -6.8
A21: =IF(B21="","",4) -> 4 | B21: 0.52361111 | C21: James Piot | D21: 27.99% | E21: 3.6 | F21: 2.6 | H21: 71
A22: =IF(B22="","",4) -> 4 | B22: 0.52361111 | C22: Tie | D22: 11.74% | E22: 8.5 | F22: 9 | G22: 0.40% | H22: - | I22: -0.4
A23: =IF(B23="","",4) -> 4 | B23: 0.52986111 | C23: Victor Perez | D23: 47.85% | E23: 2.1 | F23: 1.8 | H23: 69
A24: =IF(B24="","",4) -> 4 | B24: 0.52986111 | C24: Nick Hardy | D24: 39.14% | E24: 2.6 | F24: 2.5 | H24: 69
A25: =IF(B25="","",4) -> 4 | B25: 0.52986111 | C25: Tie | D25: 13.00% | E25: 7.7 | F25: 8.5 | G25: 0.70% | H25: - | I25: 5.25
A26: =IF(B26="","",4) -> 4 | B26: 0.53958333 | C26: Matt Wallace | D26: 50.92% | E26: 1.96 | F26: 1.91 | H26: 68
A27: =IF(B27="","",4) -> 4 | B27: 0.53958333 | C27: Henrik Norlander | D27: 36.34% | E27: 2.8 | F27: 2.3 | H27: 69
A28: =IF(B28="","",4) -> 4 | B28: 0.53958333 | C28: Tie | D28: 12.74% | E28: 7.8 | F28: 8.5 | G28: 0.60% | H28: - | I28: -0.6
A29: =IF(B29="","",4) -> 4 | B29: 0.54583333 | C29: Isaiah Salinda | D29: 40.57% | E29: 2.5 | F29: 1.91 | H29: 70
A30: =IF(B30="","",4) -> 4 | B30: 0.54583333 | C30: Ben Silverman | D30: 45.93% | E30: 2.2 | F30: 2.3 | G30: 2.20% | H30: 71 | I30: -2.2
A31: =IF(B31="","",4) -> 4 | B31: 0.54583333 | C31: Tie | D31: 13.49% | E31: 7.4 | F31: 8.5 | G31: 1.00% | H31: - | I31: -1
A32: =IF(B32="","",4) -> 4 | B32: 0.55208333 | C32: Keegan Bradley | D32: 64.06% | E32: 1.56 | F32: 1.57 | G32: 0.50% | H32: 67 | I32: 0.29
A33: =IF(B33="","",4) -> 4 | B33: 0.55208333 | C33: Lanto Griffin | D33: 24.43% | E33: 4.1 | F33: 3.1 | H33: 69
A34: =IF(B34="","",4) -> 4 | B34: 0.55208333 | C34: Tie | D34: 11.51% | E34: 8.7 | F34: 8.5 | H34: -
A35: =IF(B35="","",4) -> 4 | B35: 0.55902778 | C35: Antoine Rozner | D35: 47.25% | E35: 2.1 | F35: 1.91 | H35: 72
A36: =IF(B36="","",4) -> 4 | B36: 0.55902778 | C36: Zach Johnson | D36: 40.29% | E36: 2.5 | F36: 2.15 | H36: 74
A37: =IF(B37="","",4) -> 4 | B37: 0.55902778 | C37: Tie | D37: 12.45% | E37: 8 | F37: 8.5 | G37: 0.40% | H37: - | I37: -0.4
A38: =IF(B38="","",4) -> 4 | B38: 0.56597222 | C38: Ryo Hisatsune | D38: 62.87% | E38: 1.59 | F38: 1.67 | G38: 3.70% | H38: 71 | I38: 2.48
A39: =IF(B39="","",4) -> 4 | B39: 0.56597222 | C39: Mason Andersen | D39: 25.71% | E39: 3.9 | F39: 2.8 | H39: 76
A40: =IF(B40="","",4) -> 4 | B40: 0.56597222 | C40: Tie | D40: 11.42% | E40: 8.8 | F40: 8.5 | H40: -
...

Sheet Picks
A1: Player | B1: TTWin | C1: TTOdds | D1: BestOdds | E1: Kelly | F1: Rank | G1: Result | H1: P/L | I1: Full P/L | J1: E/W Play | L1: FRL: | M1: Player | N1: TTWin | O1: TTOdds | P1: BestOdds | Q1: Kelly | R1: Rank | S1: Result | T1: P/L | U1: Full P/L | V1: E/W Play
A2: =IF('Rd1'!C2="","",'Rd1'!C2) -> Alex Smalley | B2: =IF('Rd1'!D2="","",VALUE('Rd1'!D2)) -> 0.3604 | C2: =IF('Rd1'!E2="","",'Rd1'!E2) -> 2.8 | D2: =IF('Rd1'!F2="","",'Rd1'!F2) -> 2.45 | E2: =IF(D2="","",IF(ROUND((B2*(D2-1)-(1-B2))/(D2-1),3)<=0,"",ROUND((B2*(D2-1)-(1-B2))/(D2-1),3))) | F2: {=IF(E2="","",RANK(E2, $E$2:$E$241) + COUNTIFS($E$2:$E$241, E2, $D$2:$D$241, "<"&D2) + COUNTIFS($E$2:$E$241, E2, $D$2:$D$241, D2, $A$2:$A$241, "<"&A2))} | G2: =IF('Rd1'!H2="","",'Rd1'!H2) -> 72 | H2: =IF(OR(F2="",G2="",F2>3),"",IF(G2=1,(IF(COUNTIFS(G:G,"<="&G2)<=1,1,(1-COUNTIFS(G:G,"<"&G2))/COUNTIFS(G:G,G2)))*(1+VALUE(MID(J2,FIND(": ",J2)+2,FIND("/",J2)-FIND(":",J2)-2))-1)+(1+VALUE(MID(J2,FIND(": ",J2)+2,FIND("/",J2)-FIND(":",J2)-2))-1)/VALUE(RIGHT(J2,1)),IF(G2<=VALUE(MID(J2,FIND(", ",J2)+2,IF(MID(J2,FIND(", ",J2)+2,1)="1",2,1))),(IF(COUNTIFS(G:G,"<="&G2)<=VALUE(MID(J2,FIND(", ",J2)+2,IF(MID(J2,FIND(", ",J2)+2,1)="1",2,1))),1,(VALUE(MID(J2,FIND(", ",J2)+2,IF(MID(J2,FIND(", ",J2)+2,1)="1",2,1)))-COUNTIFS(G:G,"<"&G2))/COUNTIFS(G:G,G2)))*(1*(1+VALUE(MID(J2,FIND(": ",J2)+2,FIND("/",J2)-FIND(":",J2)-2))-1)/VALUE(RIGHT(J2,1))+1)-2,-2))) | I2: =IF(OR(E2="",G2=""),"",IF(G2=1,(IF(COUNTIFS(G:G,"<="&G2)<=1,1,(1-COUNTIFS(G:G,"<"&G2))/COUNTIFS(G:G,G2)))*(1+VALUE(MID(J2,FIND(": ",J2)+2,FIND("/",J2)-FIND(":",J2)-2))-1)+(1+VALUE(MID(J2,FIND(": ",J2)+2,FIND("/",J2)-FIND(":",J2)-2))-1)/VALUE(RIGHT(J2,1)),IF(G2<=VALUE(MID(J2,FIND(", ",J2)+2,IF(MID(J2,FIND(", ",J2)+2,1)="1",2,1))),(IF(COUNTIFS(G:G,"<="&G2)<=VALUE(MID(J2,FIND(", ",J2)+2,IF(MID(J2,FIND(", ",J2)+2,1)="1",2,1))),1,(VALUE(MID(J2,FIND(", ",J2)+2,IF(MID(J2,FIND(", ",J2)+2,1)="1",2,1)))-COUNTIFS(G:G,"<"&G2))/COUNTIFS(G:G,G2)))*(1*(1+VALUE(MID(J2,FIND(": ",J2)+2,FIND("/",J2)-FIND(":",J2)-2))-1)/VALUE(RIGHT(J2,1))+1)-2,-2))) | J2: =IF(F2="","",'Rd1'!J2) | M2: =IF(#REF!="","",#REF!) -> #REF! | N2: =IF(#REF!="","",#REF!) -> #REF! | O2: =IF(#REF!="","",#REF!) -> #REF! | P2: =IF(#REF!="","",#REF!) -> #REF! | Q2: =IF(P2="","",IF(ROUND((N2*(P2-1)-(1-N2))/(P2-1),3)<=0,"",ROUND((N2*(P2-1)-(1-N2))/(P2-1),3))) -> #REF! | R2: {=IF(Q2="","",RANK(Q2, $Q$2:$Q$241) + COUNTIFS($Q$2:$Q$241, Q2, $P$2:$P$241, "<"&P2) + COUNTIFS($Q$2:$Q$241, Q2, $P$2:$P$241, P2, $M$2:$M$241, "<"&M2))} -> #REF! | S2: =IF(#REF!="","",#REF!) -> #REF! | T2: =IF(OR(R2="",S2="",R2>3),"",IF(S2=1,(IF(COUNTIFS(S:S,"<="&S2)<=1,1,(1-COUNTIFS(S:S,"<"&S2))/COUNTIFS(S:S,S2)))*(1+VALUE(MID(V2,FIND(": ",V2)+2,FIND("/",V2)-FIND(":",V2)-2))-1)+(1+VALUE(MID(V2,FIND(": ",V2)+2,FIND("/",V2)-FIND(":",V2)-2))-1)/VALUE(RIGHT(V2,1)),IF(S2<=VALUE(MID(V2,FIND(", ",V2)+2,IF(MID(V2,FIND(", ",V2)+2,1)="1",2,1))),(IF(COUNTIFS(S:S,"<="&S2)<=VALUE(MID(V2,FIND(", ",V2)+2,IF(MID(V2,FIND(", ",V2)+2,1)="1",2,1))),1,(VALUE(MID(V2,FIND(", ",V2)+2,IF(MID(V2,FIND(", ",V2)+2,1)="1",2,1)))-COUNTIFS(S:S,"<"&S2))/COUNTIFS(S:S,S2)))*(1*(1+VALUE(MID(V2,FIND(": ",V2)+2,FIND("/",V2)-FIND(":",V2)-2))-1)/VALUE(RIGHT(V2,1))+1)-2,-2))) -> #REF! | U2: =IF(OR(Q2="",S2=""),"",IF(S2=1,(IF(COUNTIFS(S:S,"<="&S2)<=1,1,(1-COUNTIFS(S:S,"<"&S2))/COUNTIFS(S:S,S2)))*(1+VALUE(MID(V2,FIND(": ",V2)+2,FIND("/",V2)-FIND(":",V2)-2))-1)+(1+VALUE(MID(V2,FIND(": ",V2)+2,FIND("/",V2)-FIND(":",V2)-2))-1)/VALUE(RIGHT(V2,1)),IF(S2<=VALUE(MID(V2,FIND(", ",V2)+2,IF(MID(V2,FIND(", ",V2)+2,1)="1",2,1))),(IF(COUNTIFS(S:S,"<="&S2)<=VALUE(MID(V2,FIND(", ",V2)+2,IF(MID(V2,FIND(", ",V2)+2,1)="1",2,1))),1,(VALUE(MID(V2,FIND(", ",V2)+2,IF(MID(V2,FIND(", ",V2)+2,1)="1",2,1)))-COUNTIFS(S:S,"<"&S2))/COUNTIFS(S:S,S2)))*(1*(1+VALUE(MID(V2,FIND(": ",V2)+2,FIND("/",V2)-FIND(":",V2)-2))-1)/VALUE(RIGHT(V2,1))+1)-2,-2))) -> #REF! | V2: =IF(R2="","",#REF!) -> #REF!
A3: =IF('Rd1'!C3="","",'Rd1'!C3) -> Alex Noren | B3: =IF('Rd1'!D3="","",VALUE('Rd1'!D3)) -> 0.4136 | C3: =IF('Rd1'!E3="","",'Rd1'!E3) -> 2.4 | D3: =IF('Rd1'!F3="","",'Rd1'!F3) -> 2.5 | E3: =IF(D3="","",IF(ROUND((B3*(D3-1)-(1-B3))/(D3-1),3)<=0,"",ROUND((B3*(D3-1)-(1-B3))/(D3-1),3))) -> 0.023 | F3: {=IF(E3="","",RANK(E3, $E$2:$E$241) + COUNTIFS($E$2:$E$241, E3, $D$2:$D$241, "<"&D3) + COUNTIFS($E$2:$E$241, E3, $D$2:$D$241, D3, $A$2:$A$241, "<"&A3))} -> 20 | G3: =IF('Rd1'!H3="","",'Rd1'!H3) -> 71 | H3: =IF(OR(F3="",G3="",F3>3),"",IF(G3=1,(IF(COUNTIFS(G:G,"<="&G3)<=1,1,(1-COUNTIFS(G:G,"<"&G3))/COUNTIFS(G:G,G3)))*(1+VALUE(MID(J3,FIND(": ",J3)+2,FIND("/",J3)-FIND(":",J3)-2))-1)+(1+VALUE(MID(J3,FIND(": ",J3)+2,FIND("/",J3)-FIND(":",J3)-2))-1)/VALUE(RIGHT(J3,1)),IF(G3<=VALUE(MID(J3,FIND(", ",J3)+2,IF(MID(J3,FIND(", ",J3)+2,1)="1",2,1))),(IF(COUNTIFS(G:G,"<="&G3)<=VALUE(MID(J3,FIND(", ",J3)+2,IF(MID(J3,FIND(", ",J3)+2,1)="1",2,1))),1,(VALUE(MID(J3,FIND(", ",J3)+2,IF(MID(J3,FIND(", ",J3)+2,1)="1",2,1)))-COUNTIFS(G:G,"<"&G3))/COUNTIFS(G:G,G3)))*(1*(1+VALUE(MID(J3,FIND(": ",J3)+2,FIND("/",J3)-FIND(":",J3)-2))-1)/VALUE(RIGHT(J3,1))+1)-2,-2))) | I3: =IF(OR(E3="",G3=""),"",IF(G3=1,(IF(COUNTIFS(G:G,"<="&G3)<=1,1,(1-COUNTIFS(G:G,"<"&G3))/COUNTIFS(G:G,G3)))*(1+VALUE(MID(J3,FIND(": ",J3)+2,FIND("/",J3)-FIND(":",J3)-2))-1)+(1+VALUE(MID(J3,FIND(": ",J3)+2,FIND("/",J3)-FIND(":",J3)-2))-1)/VALUE(RIGHT(J3,1)),IF(G3<=VALUE(MID(J3,FIND(", ",J3)+2,IF(MID(J3,FIND(", ",J3)+2,1)="1",2,1))),(IF(COUNTIFS(G:G,"<="&G3)<=VALUE(MID(J3,FIND(", ",J3)+2,IF(MID(J3,FIND(", ",J3)+2,1)="1",2,1))),1,(VALUE(MID(J3,FIND(", ",J3)+2,IF(MID(J3,FIND(", ",J3)+2,1)="1",2,1)))-COUNTIFS(G:G,"<"&G3))/COUNTIFS(G:G,G3)))*(1*(1+VALUE(MID(J3,FIND(": ",J3)+2,FIND("/",J3)-FIND(":",J3)-2))-1)/VALUE(RIGHT(J3,1))+1)-2,-2))) -> #VALUE! | J3: =IF(F3="","",'Rd1'!J3) -> 0 | M3: =IF(#REF!="","",#REF!) -> #REF! | N3: =IF(#REF!="","",#REF!) -> #REF! | O3: =IF(#REF!="","",#REF!) -> #REF! | P3: =IF(#REF!="","",#REF!) -> #REF! | Q3: =IF(P3="","",IF(ROUND((N3*(P3-1)-(1-N3))/(P3-1),3)<=0,"",ROUND((N3*(P3-1)-(1-N3))/(P3-1),3))) -> #REF! | R3: {=IF(Q3="","",RANK(Q3, $Q$2:$Q$241) + COUNTIFS($Q$2:$Q$241, Q3, $P$2:$P$241, "<"&P3) + COUNTIFS($Q$2:$Q$241, Q3, $P$2:$P$241, P3, $M$2:$M$241, "<"&M3))} -> #REF! | S3: =IF(#REF!="","",#REF!) -> #REF! | T3: =IF(OR(R3="",S3="",R3>3),"",IF(S3=1,(IF(COUNTIFS(S:S,"<="&S3)<=1,1,(1-COUNTIFS(S:S,"<"&S3))/COUNTIFS(S:S,S3)))*(1+VALUE(MID(V3,FIND(": ",V3)+2,FIND("/",V3)-FIND(":",V3)-2))-1)+(1+VALUE(MID(V3,FIND(": ",V3)+2,FIND("/",V3)-FIND(":",V3)-2))-1)/VALUE(RIGHT(V3,1)),IF(S3<=VALUE(MID(V3,FIND(", ",V3)+2,IF(MID(V3,FIND(", ",V3)+2,1)="1",2,1))),(IF(COUNTIFS(S:S,"<="&S3)<=VALUE(MID(V3,FIND(", ",V3)+2,IF(MID(V3,FIND(", ",V3)+2,1)="1",2,1))),1,(VALUE(MID(V3,FIND(", ",V3)+2,IF(MID(V3,FIND(", ",V3)+2,1)="1",2,1)))-COUNTIFS(S:S,"<"&S3))/COUNTIFS(S:S,S3)))*(1*(1+VALUE(MID(V3,FIND(": ",V3)+2,FIND("/",V3)-FIND(":",V3)-2))-1)/VALUE(RIGHT(V3,1))+1)-2,-2))) -> #REF! | U3: =IF(OR(Q3="",S3=""),"",IF(S3=1,(IF(COUNTIFS(S:S,"<="&S3)<=1,1,(1-COUNTIFS(S:S,"<"&S3))/COUNTIFS(S:S,S3)))*(1+VALUE(MID(V3,FIND(": ",V3)+2,FIND("/",V3)-FIND(":",V3)-2))-1)+(1+VALUE(MID(V3,FIND(": ",V3)+2,FIND("/",V3)-FIND(":",V3)-2))-1)/VALUE(RIGHT(V3,1)),IF(S3<=VALUE(MID(V3,FIND(", ",V3)+2,IF(MID(V3,FIND(", ",V3)+2,1)="1",2,1))),(IF(COUNTIFS(S:S,"<="&S3)<=VALUE(MID(V3,FIND(", ",V3)+2,IF(MID(V3,FIND(", ",V3)+2,1)="1",2,1))),1,(VALUE(MID(V3,FIND(", ",V3)+2,IF(MID(V3,FIND(", ",V3)+2,1)="1",2,1)))-COUNTIFS(S:S,"<"&S3))/COUNTIFS(S:S,S3)))*(1*(1+VALUE(MID(V3,FIND(": ",V3)+2,FIND("/",V3)-FIND(":",V3)-2))-1)/VALUE(RIGHT(V3,1))+1)-2,-2))) -> #REF! | V3: =IF(R3="","",#REF!) -> #REF!
A4: =IF('Rd1'!C4="","",'Rd1'!C4) -> Lanto Griffin | B4: =IF('Rd1'!D4="","",VALUE('Rd1'!D4)) -> 0.226 | C4: =IF('Rd1'!E4="","",'Rd1'!E4) -> 4.4 | D4: =IF('Rd1'!F4="","",'Rd1'!F4) -> 4 | E4: =IF(D4="","",IF(ROUND((B4*(D4-1)-(1-B4))/(D4-1),3)<=0,"",ROUND((B4*(D4-1)-(1-B4))/(D4-1),3))) | F4: {=IF(E4="","",RANK(E4, $E$2:$E$241) + COUNTIFS($E$2:$E$241, E4, $D$2:$D$241, "<"&D4) + COUNTIFS($E$2:$E$241, E4, $D$2:$D$241, D4, $A$2:$A$241, "<"&A4))} | G4: =IF('Rd1'!H4="","",'Rd1'!H4) -> 67 | H4: =IF(OR(F4="",G4="",F4>3),"",IF(G4=1,(IF(COUNTIFS(G:G,"<="&G4)<=1,1,(1-COUNTIFS(G:G,"<"&G4))/COUNTIFS(G:G,G4)))*(1+VALUE(MID(J4,FIND(": ",J4)+2,FIND("/",J4)-FIND(":",J4)-2))-1)+(1+VALUE(MID(J4,FIND(": ",J4)+2,FIND("/",J4)-FIND(":",J4)-2))-1)/VALUE(RIGHT(J4,1)),IF(G4<=VALUE(MID(J4,FIND(", ",J4)+2,IF(MID(J4,FIND(", ",J4)+2,1)="1",2,1))),(IF(COUNTIFS(G:G,"<="&G4)<=VALUE(MID(J4,FIND(", ",J4)+2,IF(MID(J4,FIND(", ",J4)+2,1)="1",2,1))),1,(VALUE(MID(J4,FIND(", ",J4)+2,IF(MID(J4,FIND(", ",J4)+2,1)="1",2,1)))-COUNTIFS(G:G,"<"&G4))/COUNTIFS(G:G,G4)))*(1*(1+VALUE(MID(J4,FIND(": ",J4)+2,FIND("/",J4)-FIND(":",J4)-2))-1)/VALUE(RIGHT(J4,1))+1)-2,-2))) | I4: =IF(OR(E4="",G4=""),"",IF(G4=1,(IF(COUNTIFS(G:G,"<="&G4)<=1,1,(1-COUNTIFS(G:G,"<"&G4))/COUNTIFS(G:G,G4)))*(1+VALUE(MID(J4,FIND(": ",J4)+2,FIND("/",J4)-FIND(":",J4)-2))-1)+(1+VALUE(MID(J4,FIND(": ",J4)+2,FIND("/",J4)-FIND(":",J4)-2))-1)/VALUE(RIGHT(J4,1)),IF(G4<=VALUE(MID(J4,FIND(", ",J4)+2,IF(MID(J4,FIND(", ",J4)+2,1)="1",2,1))),(IF(COUNTIFS(G:G,"<="&G4)<=VALUE(MID(J4,FIND(", ",J4)+2,IF(MID(J4,FIND(", ",J4)+2,1)="1",2,1))),1,(VALUE(MID(J4,FIND(", ",J4)+2,IF(MID(J4,FIND(", ",J4)+2,1)="1",2,1)))-COUNTIFS(G:G,"<"&G4))/COUNTIFS(G:G,G4)))*(1*(1+VALUE(MID(J4,FIND(": ",J4)+2,FIND("/",J4)-FIND(":",J4)-2))-1)/VALUE(RIGHT(J4,1))+1)-2,-2))) | J4: =IF(F4="","",'Rd1'!J4) | M4: =IF(#REF!="","",#REF!) -> #REF! | N4: =IF(#REF!="","",#REF!) -> #REF! | O4: =IF(#REF!="","",#REF!) -> #REF! | P4: =IF(#REF!="","",#REF!) -> #REF! | Q4: =IF(P4="","",IF(ROUND((N4*(P4-1)-(1-N4))/(P4-1),3)<=0,"",ROUND((N4*(P4-1)-(1-N4))/(P4-1),3))) -> #REF! | R4: {=IF(Q4="","",RANK(Q4, $Q$2:$Q$241) + COUNTIFS($Q$2:$Q$241, Q4, $P$2:$P$241, "<"&P4) + COUNTIFS($Q$2:$Q$241, Q4, $P$2:$P$241, P4, $M$2:$M$241, "<"&M4))} -> #REF! | S4: =IF(#REF!="","",#REF!) -> #REF! | T4: =IF(OR(R4="",S4="",R4>3),"",IF(S4=1,(IF(COUNTIFS(S:S,"<="&S4)<=1,1,(1-COUNTIFS(S:S,"<"&S4))/COUNTIFS(S:S,S4)))*(1+VALUE(MID(V4,FIND(": ",V4)+2,FIND("/",V4)-FIND(":",V4)-2))-1)+(1+VALUE(MID(V4,FIND(": ",V4)+2,FIND("/",V4)-FIND(":",V4)-2))-1)/VALUE(RIGHT(V4,1)),IF(S4<=VALUE(MID(V4,FIND(", ",V4)+2,IF(MID(V4,FIND(", ",V4)+2,1)="1",2,1))),(IF(COUNTIFS(S:S,"<="&S4)<=VALUE(MID(V4,FIND(", ",V4)+2,IF(MID(V4,FIND(", ",V4)+2,1)="1",2,1))),1,(VALUE(MID(V4,FIND(", ",V4)+2,IF(MID(V4,FIND(", ",V4)+2,1)="1",2,1)))-COUNTIFS(S:S,"<"&S4))/COUNTIFS(S:S,S4)))*(1*(1+VALUE(MID(V4,FIND(": ",V4)+2,FIND("/",V4)-FIND(":",V4)-2))-1)/VALUE(RIGHT(V4,1))+1)-2,-2))) -> #REF! | U4: =IF(OR(Q4="",S4=""),"",IF(S4=1,(IF(COUNTIFS(S:S,"<="&S4)<=1,1,(1-COUNTIFS(S:S,"<"&S4))/COUNTIFS(S:S,S4)))*(1+VALUE(MID(V4,FIND(": ",V4)+2,FIND("/",V4)-FIND(":",V4)-2))-1)+(1+VALUE(MID(V4,FIND(": ",V4)+2,FIND("/",V4)-FIND(":",V4)-2))-1)/VALUE(RIGHT(V4,1)),IF(S4<=VALUE(MID(V4,FIND(", ",V4)+2,IF(MID(V4,FIND(", ",V4)+2,1)="1",2,1))),(IF(COUNTIFS(S:S,"<="&S4)<=VALUE(MID(V4,FIND(", ",V4)+2,IF(MID(V4,FIND(", ",V4)+2,1)="1",2,1))),1,(VALUE(MID(V4,FIND(", ",V4)+2,IF(MID(V4,FIND(", ",V4)+2,1)="1",2,1)))-COUNTIFS(S:S,"<"&S4))/COUNTIFS(S:S,S4)))*(1*(1+VALUE(MID(V4,FIND(": ",V4)+2,FIND("/",V4)-FIND(":",V4)-2))-1)/VALUE(RIGHT(V4,1))+1)-2,-2))) -> #REF! | V4: =IF(R4="","",#REF!) -> #REF!
A5: =IF('Rd1'!C5="","",'Rd1'!C5) -> Victor Perez | B5: =IF('Rd1'!D5="","",VALUE('Rd1'!D5)) -> 0.4197 | C5: =IF('Rd1'!E5="","",'Rd1'!E5) -> 2.4 | D5: =IF('Rd1'!F5="","",'Rd1'!F5) -> 2.3 | E5: =IF(D5="","",IF(ROUND((B5*(D5-1)-(1-B5))/(D5-1),3)<=0,"",ROUND((B5*(D5-1)-(1-B5))/(D5-1),3))) | F5: {=IF(E5="","",RANK(E5, $E$2:$E$241) + COUNTIFS($E$2:$E$241, E5, $D$2:$D$241, "<"&D5) + COUNTIFS($E$2:$E$241, E5, $D$2:$D$241, D5, $A$2:$A$241, "<"&A5))} | G5: =IF('Rd1'!H5="","",'Rd1'!H5) -> 66 | H5: =IF(OR(F5="",G5="",F5>3),"",IF(G5=1,(IF(COUNTIFS(G:G,"<="&G5)<=1,1,(1-COUNTIFS(G:G,"<"&G5))/COUNTIFS(G:G,G5)))*(1+VALUE(MID(J5,FIND(": ",J5)+2,FIND("/",J5)-FIND(":",J5)-2))-1)+(1+VALUE(MID(J5,FIND(": ",J5)+2,FIND("/",J5)-FIND(":",J5)-2))-1)/VALUE(RIGHT(J5,1)),IF(G5<=VALUE(MID(J5,FIND(", ",J5)+2,IF(MID(J5,FIND(", ",J5)+2,1)="1",2,1))),(IF(COUNTIFS(G:G,"<="&G5)<=VALUE(MID(J5,FIND(", ",J5)+2,IF(MID(J5,FIND(", ",J5)+2,1)="1",2,1))),1,(VALUE(MID(J5,FIND(", ",J5)+2,IF(MID(J5,FIND(", ",J5)+2,1)="1",2,1)))-COUNTIFS(G:G,"<"&G5))/COUNTIFS(G:G,G5)))*(1*(1+VALUE(MID(J5,FIND(": ",J5)+2,FIND("/",J5)-FIND(":",J5)-2))-1)/VALUE(RIGHT(J5,1))+1)-2,-2))) | I5: =IF(OR(E5="",G5=""),"",IF(G5=1,(IF(COUNTIFS(G:G,"<="&G5)<=1,1,(1-COUNTIFS(G:G,"<"&G5))/COUNTIFS(G:G,G5)))*(1+VALUE(MID(J5,FIND(": ",J5)+2,FIND("/",J5)-FIND(":",J5)-2))-1)+(1+VALUE(MID(J5,FIND(": ",J5)+2,FIND("/",J5)-FIND(":",J5)-2))-1)/VALUE(RIGHT(J5,1)),IF(G5<=VALUE(MID(J5,FIND(", ",J5)+2,IF(MID(J5,FIND(", ",J5)+2,1)="1",2,1))),(IF(COUNTIFS(G:G,"<="&G5)<=VALUE(MID(J5,FIND(", ",J5)+2,IF(MID(J5,FIND(", ",J5)+2,1)="1",2,1))),1,(VALUE(MID(J5,FIND(", ",J5)+2,IF(MID(J5,FIND(", ",J5)+2,1)="1",2,1)))-COUNTIFS(G:G,"<"&G5))/COUNTIFS(G:G,G5)))*(1*(1+VALUE(MID(J5,FIND(": ",J5)+2,FIND("/",J5)-FIND(":",J5)-2))-1)/VALUE(RIGHT(J5,1))+1)-2,-2))) | J5: =IF(F5="","",'Rd1'!J5) | M5: =IF(#REF!="","",#REF!) -> #REF! | N5: =IF(#REF!="","",#REF!) -> #REF! | O5: =IF(#REF!="","",#REF!) -> #REF! | P5: =IF(#REF!="","",#REF!) -> #REF! | Q5: =IF(P5="","",IF(ROUND((N5*(P5-1)-(1-N5))/(P5-1),3)<=0,"",ROUND((N5*(P5-1)-(1-N5))/(P5-1),3))) -> #REF! | R5: {=IF(Q5="","",RANK(Q5, $Q$2:$Q$241) + COUNTIFS($Q$2:$Q$241, Q5, $P$2:$P$241, "<"&P5) + COUNTIFS($Q$2:$Q$241, Q5, $P$2:$P$241, P5, $M$2:$M$241, "<"&M5))} -> #REF! | S5: =IF(#REF!="","",#REF!) -> #REF! | T5: =IF(OR(R5="",S5="",R5>3),"",IF(S5=1,(IF(COUNTIFS(S:S,"<="&S5)<=1,1,(1-COUNTIFS(S:S,"<"&S5))/COUNTIFS(S:S,S5)))*(1+VALUE(MID(V5,FIND(": ",V5)+2,FIND("/",V5)-FIND(":",V5)-2))-1)+(1+VALUE(MID(V5,FIND(": ",V5)+2,FIND("/",V5)-FIND(":",V5)-2))-1)/VALUE(RIGHT(V5,1)),IF(S5<=VALUE(MID(V5,FIND(", ",V5)+2,IF(MID(V5,FIND(", ",V5)+2,1)="1",2,1))),(IF(COUNTIFS(S:S,"<="&S5)<=VALUE(MID(V5,FIND(", ",V5)+2,IF(MID(V5,FIND(", ",V5)+2,1)="1",2,1))),1,(VALUE(MID(V5,FIND(", ",V5)+2,IF(MID(V5,FIND(", ",V5)+2,1)="1",2,1)))-COUNTIFS(S:S,"<"&S5))/COUNTIFS(S:S,S5)))*(1*(1+VALUE(MID(V5,FIND(": ",V5)+2,FIND("/",V5)-FIND(":",V5)-2))-1)/VALUE(RIGHT(V5,1))+1)-2,-2))) -> #REF! | U5: =IF(OR(Q5="",S5=""),"",IF(S5=1,(IF(COUNTIFS(S:S,"<="&S5)<=1,1,(1-COUNTIFS(S:S,"<"&S5))/COUNTIFS(S:S,S5)))*(1+VALUE(MID(V5,FIND(": ",V5)+2,FIND("/",V5)-FIND(":",V5)-2))-1)+(1+VALUE(MID(V5,FIND(": ",V5)+2,FIND("/",V5)-FIND(":",V5)-2))-1)/VALUE(RIGHT(V5,1)),IF(S5<=VALUE(MID(V5,FIND(", ",V5)+2,IF(MID(V5,FIND(", ",V5)+2,1)="1",2,1))),(IF(COUNTIFS(S:S,"<="&S5)<=VALUE(MID(V5,FIND(", ",V5)+2,IF(MID(V5,FIND(", ",V5)+2,1)="1",2,1))),1,(VALUE(MID(V5,FIND(", ",V5)+2,IF(MID(V5,FIND(", ",V5)+2,1)="1",2,1)))-COUNTIFS(S:S,"<"&S5))/COUNTIFS(S:S,S5)))*(1*(1+VALUE(MID(V5,FIND(": ",V5)+2,FIND("/",V5)-FIND(":",V5)-2))-1)/VALUE(RIGHT(V5,1))+1)-2,-2))) -> #REF! | V5: =IF(R5="","",#REF!) -> #REF!
A6: =IF('Rd1'!C6="","",'Rd1'!C6) -> Adam Hadwin | B6: =IF('Rd1'!D6="","",VALUE('Rd1'!D6)) -> 0.3183 | C6: =IF('Rd1'!E6="","",'Rd1'!E6) -> 3.1 | D6: =IF('Rd1'!F6="","",'Rd1'!F6) -> 2.88 | E6: =IF(D6="","",IF(ROUND((B6*(D6-1)-(1-B6))/(D6-1),3)<=0,"",ROUND((B6*(D6-1)-(1-B6))/(D6-1),3))) | F6: {=IF(E6="","",RANK(E6, $E$2:$E$241) + COUNTIFS($E$2:$E$241, E6, $D$2:$D$241, "<"&D6) + COUNTIFS($E$2:$E$241, E6, $D$2:$D$241, D6, $A$2:$A$241, "<"&A6))} | G6: =IF('Rd1'!H6="","",'Rd1'!H6) -> 67 | H6: =IF(OR(F6="",G6="",F6>3),"",IF(G6=1,(IF(COUNTIFS(G:G,"<="&G6)<=1,1,(1-COUNTIFS(G:G,"<"&G6))/COUNTIFS(G:G,G6)))*(1+VALUE(MID(J6,FIND(": ",J6)+2,FIND("/",J6)-FIND(":",J6)-2))-1)+(1+VALUE(MID(J6,FIND(": ",J6)+2,FIND("/",J6)-FIND(":",J6)-2))-1)/VALUE(RIGHT(J6,1)),IF(G6<=VALUE(MID(J6,FIND(", ",J6)+2,IF(MID(J6,FIND(", ",J6)+2,1)="1",2,1))),(IF(COUNTIFS(G:G,"<="&G6)<=VALUE(MID(J6,FIND(", ",J6)+2,IF(MID(J6,FIND(", ",J6)+2,1)="1",2,1))),1,(VALUE(MID(J6,FIND(", ",J6)+2,IF(MID(J6,FIND(", ",J6)+2,1)="1",2,1)))-COUNTIFS(G:G,"<"&G6))/COUNTIFS(G:G,G6)))*(1*(1+VALUE(MID(J6,FIND(": ",J6)+2,FIND("/",J6)-FIND(":",J6)-2))-1)/VALUE(RIGHT(J6,1))+1)-2,-2))) | I6: =IF(OR(E6="",G6=""),"",IF(G6=1,(IF(COUNTIFS(G:G,"<="&G6)<=1,1,(1-COUNTIFS(G:G,"<"&G6))/COUNTIFS(G:G,G6)))*(1+VALUE(MID(J6,FIND(": ",J6)+2,FIND("/",J6)-FIND(":",J6)-2))-1)+(1+VALUE(MID(J6,FIND(": ",J6)+2,FIND("/",J6)-FIND(":",J6)-2))-1)/VALUE(RIGHT(J6,1)),IF(G6<=VALUE(MID(J6,FIND(", ",J6)+2,IF(MID(J6,FIND(", ",J6)+2,1)="1",2,1))),(IF(COUNTIFS(G:G,"<="&G6)<=VALUE(MID(J6,FIND(", ",J6)+2,IF(MID(J6,FIND(", ",J6)+2,1)="1",2,1))),1,(VALUE(MID(J6,FIND(", ",J6)+2,IF(MID(J6,FIND(", ",J6)+2,1)="1",2,1)))-COUNTIFS(G:G,"<"&G6))/COUNTIFS(G:G,G6)))*(1*(1+VALUE(MID(J6,FIND(": ",J6)+2,FIND("/",J6)-FIND(":",J6)-2))-1)/VALUE(RIGHT(J6,1))+1)-2,-2))) | J6: =IF(F6="","",'Rd1'!J6) | M6: =IF(#REF!="","",#REF!) -> #REF! | N6: =IF(#REF!="","",#REF!) -> #REF! | O6: =IF(#REF!="","",#REF!) -> #REF! | P6: =IF(#REF!="","",#REF!) -> #REF! | Q6: =IF(P6="","",IF(ROUND((N6*(P6-1)-(1-N6))/(P6-1),3)<=0,"",ROUND((N6*(P6-1)-(1-N6))/(P6-1),3))) -> #REF! | R6: {=IF(Q6="","",RANK(Q6, $Q$2:$Q$241) + COUNTIFS($Q$2:$Q$241, Q6, $P$2:$P$241, "<"&P6) + COUNTIFS($Q$2:$Q$241, Q6, $P$2:$P$241, P6, $M$2:$M$241, "<"&M6))} -> #REF! | S6: =IF(#REF!="","",#REF!) -> #REF! | T6: =IF(OR(R6="",S6="",R6>3),"",IF(S6=1,(IF(COUNTIFS(S:S,"<="&S6)<=1,1,(1-COUNTIFS(S:S,"<"&S6))/COUNTIFS(S:S,S6)))*(1+VALUE(MID(V6,FIND(": ",V6)+2,FIND("/",V6)-FIND(":",V6)-2))-1)+(1+VALUE(MID(V6,FIND(": ",V6)+2,FIND("/",V6)-FIND(":",V6)-2))-1)/VALUE(RIGHT(V6,1)),IF(S6<=VALUE(MID(V6,FIND(", ",V6)+2,IF(MID(V6,FIND(", ",V6)+2,1)="1",2,1))),(IF(COUNTIFS(S:S,"<="&S6)<=VALUE(MID(V6,FIND(", ",V6)+2,IF(MID(V6,FIND(", ",V6)+2,1)="1",2,1))),1,(VALUE(MID(V6,FIND(", ",V6)+2,IF(MID(V6,FIND(", ",V6)+2,1)="1",2,1)))-COUNTIFS(S:S,"<"&S6))/COUNTIFS(S:S,S6)))*(1*(1+VALUE(MID(V6,FIND(": ",V6)+2,FIND("/",V6)-FIND(":",V6)-2))-1)/VALUE(RIGHT(V6,1))+1)-2,-2))) -> #REF! | U6: =IF(OR(Q6="",S6=""),"",IF(S6=1,(IF(COUNTIFS(S:S,"<="&S6)<=1,1,(1-COUNTIFS(S:S,"<"&S6))/COUNTIFS(S:S,S6)))*(1+VALUE(MID(V6,FIND(": ",V6)+2,FIND("/",V6)-FIND(":",V6)-2))-1)+(1+VALUE(MID(V6,FIND(": ",V6)+2,FIND("/",V6)-FIND(":",V6)-2))-1)/VALUE(RIGHT(V6,1)),IF(S6<=VALUE(MID(V6,FIND(", ",V6)+2,IF(MID(V6,FIND(", ",V6)+2,1)="1",2,1))),(IF(COUNTIFS(S:S,"<="&S6)<=VALUE(MID(V6,FIND(", ",V6)+2,IF(MID(V6,FIND(", ",V6)+2,1)="1",2,1))),1,(VALUE(MID(V6,FIND(", ",V6)+2,IF(MID(V6,FIND(", ",V6)+2,1)="1",2,1)))-COUNTIFS(S:S,"<"&S6))/COUNTIFS(S:S,S6)))*(1*(1+VALUE(MID(V6,FIND(": ",V6)+2,FIND("/",V6)-FIND(":",V6)-2))-1)/VALUE(RIGHT(V6,1))+1)-2,-2))) -> #REF! | V6: =IF(R6="","",#REF!) -> #REF!
A7: =IF('Rd1'!C7="","",'Rd1'!C7) -> David Skinns | B7: =IF('Rd1'!D7="","",VALUE('Rd1'!D7)) -> 0.262 | C7: =IF('Rd1'!E7="","",'Rd1'!E7) -> 3.8 | D7: =IF('Rd1'!F7="","",'Rd1'!F7) -> 3.6 | E7: =IF(D7="","",IF(ROUND((B7*(D7-1)-(1-B7))/(D7-1),3)<=0,"",ROUND((B7*(D7-1)-(1-B7))/(D7-1),3))) | F7: {=IF(E7="","",RANK(E7, $E$2:$E$241) + COUNTIFS($E$2:$E$241, E7, $D$2:$D$241, "<"&D7) + COUNTIFS($E$2:$E$241, E7, $D$2:$D$241, D7, $A$2:$A$241, "<"&A7))} | G7: =IF('Rd1'!H7="","",'Rd1'!H7) -> 69 | H7: =IF(OR(F7="",G7="",F7>3),"",IF(G7=1,(IF(COUNTIFS(G:G,"<="&G7)<=1,1,(1-COUNTIFS(G:G,"<"&G7))/COUNTIFS(G:G,G7)))*(1+VALUE(MID(J7,FIND(": ",J7)+2,FIND("/",J7)-FIND(":",J7)-2))-1)+(1+VALUE(MID(J7,FIND(": ",J7)+2,FIND("/",J7)-FIND(":",J7)-2))-1)/VALUE(RIGHT(J7,1)),IF(G7<=VALUE(MID(J7,FIND(", ",J7)+2,IF(MID(J7,FIND(", ",J7)+2,1)="1",2,1))),(IF(COUNTIFS(G:G,"<="&G7)<=VALUE(MID(J7,FIND(", ",J7)+2,IF(MID(J7,FIND(", ",J7)+2,1)="1",2,1))),1,(VALUE(MID(J7,FIND(", ",J7)+2,IF(MID(J7,FIND(", ",J7)+2,1)="1",2,1)))-COUNTIFS(G:G,"<"&G7))/COUNTIFS(G:G,G7)))*(1*(1+VALUE(MID(J7,FIND(": ",J7)+2,FIND("/",J7)-FIND(":",J7)-2))-1)/VALUE(RIGHT(J7,1))+1)-2,-2))) | I7: =IF(OR(E7="",G7=""),"",IF(G7=1,(IF(COUNTIFS(G:G,"<="&G7)<=1,1,(1-COUNTIFS(G:G,"<"&G7))/COUNTIFS(G:G,G7)))*(1+VALUE(MID(J7,FIND(": ",J7)+2,FIND("/",J7)-FIND(":",J7)-2))-1)+(1+VALUE(MID(J7,FIND(": ",J7)+2,FIND("/",J7)-FIND(":",J7)-2))-1)/VALUE(RIGHT(J7,1)),IF(G7<=VALUE(MID(J7,FIND(", ",J7)+2,IF(MID(J7,FIND(", ",J7)+2,1)="1",2,1))),(IF(COUNTIFS(G:G,"<="&G7)<=VALUE(MID(J7,FIND(", ",J7)+2,IF(MID(J7,FIND(", ",J7)+2,1)="1",2,1))),1,(VALUE(MID(J7,FIND(", ",J7)+2,IF(MID(J7,FIND(", ",J7)+2,1)="1",2,1)))-COUNTIFS(G:G,"<"&G7))/COUNTIFS(G:G,G7)))*(1*(1+VALUE(MID(J7,FIND(": ",J7)+2,FIND("/",J7)-FIND(":",J7)-2))-1)/VALUE(RIGHT(J7,1))+1)-2,-2))) | J7: =IF(F7="","",'Rd1'!J7) | M7: =IF(#REF!="","",#REF!) -> #REF! | N7: =IF(#REF!="","",#REF!) -> #REF! | O7: =IF(#REF!="","",#REF!) -> #REF! | P7: =IF(#REF!="","",#REF!) -> #REF! | Q7: =IF(P7="","",IF(ROUND((N7*(P7-1)-(1-N7))/(P7-1),3)<=0,"",ROUND((N7*(P7-1)-(1-N7))/(P7-1),3))) -> #REF! | R7: {=IF(Q7="","",RANK(Q7, $Q$2:$Q$241) + COUNTIFS($Q$2:$Q$241, Q7, $P$2:$P$241, "<"&P7) + COUNTIFS($Q$2:$Q$241, Q7, $P$2:$P$241, P7, $M$2:$M$241, "<"&M7))} -> #REF! | S7: =IF(#REF!="","",#REF!) -> #REF! | T7: =IF(OR(R7="",S7="",R7>3),"",IF(S7=1,(IF(COUNTIFS(S:S,"<="&S7)<=1,1,(1-COUNTIFS(S:S,"<"&S7))/COUNTIFS(S:S,S7)))*(1+VALUE(MID(V7,FIND(": ",V7)+2,FIND("/",V7)-FIND(":",V7)-2))-1)+(1+VALUE(MID(V7,FIND(": ",V7)+2,FIND("/",V7)-FIND(":",V7)-2))-1)/VALUE(RIGHT(V7,1)),IF(S7<=VALUE(MID(V7,FIND(", ",V7)+2,IF(MID(V7,FIND(", ",V7)+2,1)="1",2,1))),(IF(COUNTIFS(S:S,"<="&S7)<=VALUE(MID(V7,FIND(", ",V7)+2,IF(MID(V7,FIND(", ",V7)+2,1)="1",2,1))),1,(VALUE(MID(V7,FIND(", ",V7)+2,IF(MID(V7,FIND(", ",V7)+2,1)="1",2,1)))-COUNTIFS(S:S,"<"&S7))/COUNTIFS(S:S,S7)))*(1*(1+VALUE(MID(V7,FIND(": ",V7)+2,FIND("/",V7)-FIND(":",V7)-2))-1)/VALUE(RIGHT(V7,1))+1)-2,-2))) -> #REF! | U7: =IF(OR(Q7="",S7=""),"",IF(S7=1,(IF(COUNTIFS(S:S,"<="&S7)<=1,1,(1-COUNTIFS(S:S,"<"&S7))/COUNTIFS(S:S,S7)))*(1+VALUE(MID(V7,FIND(": ",V7)+2,FIND("/",V7)-FIND(":",V7)-2))-1)+(1+VALUE(MID(V7,FIND(": ",V7)+2,FIND("/",V7)-FIND(":",V7)-2))-1)/VALUE(RIGHT(V7,1)),IF(S7<=VALUE(MID(V7,FIND(", ",V7)+2,IF(MID(V7,FIND(", ",V7)+2,1)="1",2,1))),(IF(COUNTIFS(S:S,"<="&S7)<=VALUE(MID(V7,FIND(", ",V7)+2,IF(MID(V7,FIND(", ",V7)+2,1)="1",2,1))),1,(VALUE(MID(V7,FIND(", ",V7)+2,IF(MID(V7,FIND(", ",V7)+2,1)="1",2,1)))-COUNTIFS(S:S,"<"&S7))/COUNTIFS(S:S,S7)))*(1*(1+VALUE(MID(V7,FIND(": ",V7)+2,FIND("/",V7)-FIND(":",V7)-2))-1)/VALUE(RIGHT(V7,1))+1)-2,-2))) -> #REF! | V7: =IF(R7="","",#REF!) -> #REF!
A8: =IF('Rd1'!C8="","",'Rd1'!C8) -> Patrick Fishburn | B8: =IF('Rd1'!D8="","",VALUE('Rd1'!D8)) -> 0.4061 | C8: =IF('Rd1'!E8="","",'Rd1'!E8) -> 2.5 | D8: =IF('Rd1'!F8="","",'Rd1'!F8) -> 2.15 | E8: =IF(D8="","",IF(ROUND((B8*(D8-1)-(1-B8))/(D8-1),3)<=0,"",ROUND((B8*(D8-1)-(1-B8))/(D8-1),3))) | F8: {=IF(E8="","",RANK(E8, $E$2:$E$241) + COUNTIFS($E$2:$E$241, E8, $D$2:$D$241, "<"&D8) + COUNTIFS($E$2:$E$241, E8, $D$2:$D$241, D8, $A$2:$A$241, "<"&A8))} | G8: =IF('Rd1'!H8="","",'Rd1'!H8) -> 68 | H8: =IF(OR(F8="",G8="",F8>3),"",IF(G8=1,(IF(COUNTIFS(G:G,"<="&G8)<=1,1,(1-COUNTIFS(G:G,"<"&G8))/COUNTIFS(G:G,G8)))*(1+VALUE(MID(J8,FIND(": ",J8)+2,FIND("/",J8)-FIND(":",J8)-2))-1)+(1+VALUE(MID(J8,FIND(": ",J8)+2,FIND("/",J8)-FIND(":",J8)-2))-1)/VALUE(RIGHT(J8,1)),IF(G8<=VALUE(MID(J8,FIND(", ",J8)+2,IF(MID(J8,FIND(", ",J8)+2,1)="1",2,1))),(IF(COUNTIFS(G:G,"<="&G8)<=VALUE(MID(J8,FIND(", ",J8)+2,IF(MID(J8,FIND(", ",J8)+2,1)="1",2,1))),1,(VALUE(MID(J8,FIND(", ",J8)+2,IF(MID(J8,FIND(", ",J8)+2,1)="1",2,1)))-COUNTIFS(G:G,"<"&G8))/COUNTIFS(G:G,G8)))*(1*(1+VALUE(MID(J8,FIND(": ",J8)+2,FIND("/",J8)-FIND(":",J8)-2))-1)/VALUE(RIGHT(J8,1))+1)-2,-2))) | I8: =IF(OR(E8="",G8=""),"",IF(G8=1,(IF(COUNTIFS(G:G,"<="&G8)<=1,1,(1-COUNTIFS(G:G,"<"&G8))/COUNTIFS(G:G,G8)))*(1+VALUE(MID(J8,FIND(": ",J8)+2,FIND("/",J8)-FIND(":",J8)-2))-1)+(1+VALUE(MID(J8,FIND(": ",J8)+2,FIND("/",J8)-FIND(":",J8)-2))-1)/VALUE(RIGHT(J8,1)),IF(G8<=VALUE(MID(J8,FIND(", ",J8)+2,IF(MID(J8,FIND(", ",J8)+2,1)="1",2,1))),(IF(COUNTIFS(G:G,"<="&G8)<=VALUE(MID(J8,FIND(", ",J8)+2,IF(MID(J8,FIND(", ",J8)+2,1)="1",2,1))),1,(VALUE(MID(J8,FIND(", ",J8)+2,IF(MID(J8,FIND(", ",J8)+2,1)="1",2,1)))-COUNTIFS(G:G,"<"&G8))/COUNTIFS(G:G,G8)))*(1*(1+VALUE(MID(J8,FIND(": ",J8)+2,FIND("/",J8)-FIND(":",J8)-2))-1)/VALUE(RIGHT(J8,1))+1)-2,-2))) | J8: =IF(F8="","",'Rd1'!J8) | M8: =IF(#REF!="","",#REF!) -> #REF! | N8: =IF(#REF!="","",#REF!) -> #REF! | O8: =IF(#REF!="","",#REF!) -> #REF! | P8: =IF(#REF!="","",#REF!) -> #REF! | Q8: =IF(P8="","",IF(ROUND((N8*(P8-1)-(1-N8))/(P8-1),3)<=0,"",ROUND((N8*(P8-1)-(1-N8))/(P8-1),3))) -> #REF! | R8: {=IF(Q8="","",RANK(Q8, $Q$2:$Q$241) + COUNTIFS($Q$2:$Q$241, Q8, $P$2:$P$241, "<"&P8) + COUNTIFS($Q$2:$Q$241, Q8, $P$2:$P$241, P8, $M$2:$M$241, "<"&M8))} -> #REF! | S8: =IF(#REF!="","",#REF!) -> #REF! | T8: =IF(OR(R8="",S8="",R8>3),"",IF(S8=1,(IF(COUNTIFS(S:S,"<="&S8)<=1,1,(1-COUNTIFS(S:S,"<"&S8))/COUNTIFS(S:S,S8)))*(1+VALUE(MID(V8,FIND(": ",V8)+2,FIND("/",V8)-FIND(":",V8)-2))-1)+(1+VALUE(MID(V8,FIND(": ",V8)+2,FIND("/",V8)-FIND(":",V8)-2))-1)/VALUE(RIGHT(V8,1)),IF(S8<=VALUE(MID(V8,FIND(", ",V8)+2,IF(MID(V8,FIND(", ",V8)+2,1)="1",2,1))),(IF(COUNTIFS(S:S,"<="&S8)<=VALUE(MID(V8,FIND(", ",V8)+2,IF(MID(V8,FIND(", ",V8)+2,1)="1",2,1))),1,(VALUE(MID(V8,FIND(", ",V8)+2,IF(MID(V8,FIND(", ",V8)+2,1)="1",2,1)))-COUNTIFS(S:S,"<"&S8))/COUNTIFS(S:S,S8)))*(1*(1+VALUE(MID(V8,FIND(": ",V8)+2,FIND("/",V8)-FIND(":",V8)-2))-1)/VALUE(RIGHT(V8,1))+1)-2,-2))) -> #REF! | U8: =IF(OR(Q8="",S8=""),"",IF(S8=1,(IF(COUNTIFS(S:S,"<="&S8)<=1,1,(1-COUNTIFS(S:S,"<"&S8))/COUNTIFS(S:S,S8)))*(1+VALUE(MID(V8,FIND(": ",V8)+2,FIND("/",V8)-FIND(":",V8)-2))-1)+(1+VALUE(MID(V8,FIND(": ",V8)+2,FIND("/",V8)-FIND(":",V8)-2))-1)/VALUE(RIGHT(V8,1)),IF(S8<=VALUE(MID(V8,FIND(", ",V8)+2,IF(MID(V8,FIND(", ",V8)+2,1)="1",2,1))),(IF(COUNTIFS(S:S,"<="&S8)<=VALUE(MID(V8,FIND(", ",V8)+2,IF(MID(V8,FIND(", ",V8)+2,1)="1",2,1))),1,(VALUE(MID(V8,FIND(", ",V8)+2,IF(MID(V8,FIND(", ",V8)+2,1)="1",2,1)))-COUNTIFS(S:S,"<"&S8))/COUNTIFS(S:S,S8)))*(1*(1+VALUE(MID(V8,FIND(": ",V8)+2,FIND("/",V8)-FIND(":",V8)-2))-1)/VALUE(RIGHT(V8,1))+1)-2,-2))) -> #REF! | V8: =IF(R8="","",#REF!) -> #REF!
A9: =IF('Rd1'!C9="","",'Rd1'!C9) -> Ben Silverman | B9: =IF('Rd1'!D9="","",VALUE('Rd1'!D9)) -> 0.384 | C9: =IF('Rd1'!E9="","",'Rd1'!E9) -> 2.6 | D9: =IF('Rd1'!F9="","",'Rd1'!F9) -> 2.63 | E9: =IF(D9="","",IF(ROUND((B9*(D9-1)-(1-B9))/(D9-1),3)<=0,"",ROUND((B9*(D9-1)-(1-B9))/(D9-1),3))) -> 0.006 | F9: {=IF(E9="","",RANK(E9, $E$2:$E$241) + COUNTIFS($E$2:$E$241, E9, $D$2:$D$241, "<"&D9) + COUNTIFS($E$2:$E$241, E9, $D$2:$D$241, D9, $A$2:$A$241, "<"&A9))} -> 33 | G9: =IF('Rd1'!H9="","",'Rd1'!H9) -> 73 | H9: =IF(OR(F9="",G9="",F9>3),"",IF(G9=1,(IF(COUNTIFS(G:G,"<="&G9)<=1,1,(1-COUNTIFS(G:G,"<"&G9))/COUNTIFS(G:G,G9)))*(1+VALUE(MID(J9,FIND(": ",J9)+2,FIND("/",J9)-FIND(":",J9)-2))-1)+(1+VALUE(MID(J9,FIND(": ",J9)+2,FIND("/",J9)-FIND(":",J9)-2))-1)/VALUE(RIGHT(J9,1)),IF(G9<=VALUE(MID(J9,FIND(", ",J9)+2,IF(MID(J9,FIND(", ",J9)+2,1)="1",2,1))),(IF(COUNTIFS(G:G,"<="&G9)<=VALUE(MID(J9,FIND(", ",J9)+2,IF(MID(J9,FIND(", ",J9)+2,1)="1",2,1))),1,(VALUE(MID(J9,FIND(", ",J9)+2,IF(MID(J9,FIND(", ",J9)+2,1)="1",2,1)))-COUNTIFS(G:G,"<"&G9))/COUNTIFS(G:G,G9)))*(1*(1+VALUE(MID(J9,FIND(": ",J9)+2,FIND("/",J9)-FIND(":",J9)-2))-1)/VALUE(RIGHT(J9,1))+1)-2,-2))) | I9: =IF(OR(E9="",G9=""),"",IF(G9=1,(IF(COUNTIFS(G:G,"<="&G9)<=1,1,(1-COUNTIFS(G:G,"<"&G9))/COUNTIFS(G:G,G9)))*(1+VALUE(MID(J9,FIND(": ",J9)+2,FIND("/",J9)-FIND(":",J9)-2))-1)+(1+VALUE(MID(J9,FIND(": ",J9)+2,FIND("/",J9)-FIND(":",J9)-2))-1)/VALUE(RIGHT(J9,1)),IF(G9<=VALUE(MID(J9,FIND(", ",J9)+2,IF(MID(J9,FIND(", ",J9)+2,1)="1",2,1))),(IF(COUNTIFS(G:G,"<="&G9)<=VALUE(MID(J9,FIND(", ",J9)+2,IF(MID(J9,FIND(", ",J9)+2,1)="1",2,1))),1,(VALUE(MID(J9,FIND(", ",J9)+2,IF(MID(J9,FIND(", ",J9)+2,1)="1",2,1)))-COUNTIFS(G:G,"<"&G9))/COUNTIFS(G:G,G9)))*(1*(1+VALUE(MID(J9,FIND(": ",J9)+2,FIND("/",J9)-FIND(":",J9)-2))-1)/VALUE(RIGHT(J9,1))+1)-2,-2))) -> #VALUE! | J9: =IF(F9="","",'Rd1'!J9) -> 0 | M9: =IF(#REF!="","",#REF!) -> #REF! | N9: =IF(#REF!="","",#REF!) -> #REF! | O9: =IF(#REF!="","",#REF!) -> #REF! | P9: =IF(#REF!="","",#REF!) -> #REF! | Q9: =IF(P9="","",IF(ROUND((N9*(P9-1)-(1-N9))/(P9-1),3)<=0,"",ROUND((N9*(P9-1)-(1-N9))/(P9-1),3))) -> #REF! | R9: {=IF(Q9="","",RANK(Q9, $Q$2:$Q$241) + COUNTIFS($Q$2:$Q$241, Q9, $P$2:$P$241, "<"&P9) + COUNTIFS($Q$2:$Q$241, Q9, $P$2:$P$241, P9, $M$2:$M$241, "<"&M9))} -> #REF! | S9: =IF(#REF!="","",#REF!) -> #REF! | T9: =IF(OR(R9="",S9="",R9>3),"",IF(S9=1,(IF(COUNTIFS(S:S,"<="&S9)<=1,1,(1-COUNTIFS(S:S,"<"&S9))/COUNTIFS(S:S,S9)))*(1+VALUE(MID(V9,FIND(": ",V9)+2,FIND("/",V9)-FIND(":",V9)-2))-1)+(1+VALUE(MID(V9,FIND(": ",V9)+2,FIND("/",V9)-FIND(":",V9)-2))-1)/VALUE(RIGHT(V9,1)),IF(S9<=VALUE(MID(V9,FIND(", ",V9)+2,IF(MID(V9,FIND(", ",V9)+2,1)="1",2,1))),(IF(COUNTIFS(S:S,"<="&S9)<=VALUE(MID(V9,FIND(", ",V9)+2,IF(MID(V9,FIND(", ",V9)+2,1)="1",2,1))),1,(VALUE(MID(V9,FIND(", ",V9)+2,IF(MID(V9,FIND(", ",V9)+2,1)="1",2,1)))-COUNTIFS(S:S,"<"&S9))/COUNTIFS(S:S,S9)))*(1*(1+VALUE(MID(V9,FIND(": ",V9)+2,FIND("/",V9)-FIND(":",V9)-2))-1)/VALUE(RIGHT(V9,1))+1)-2,-2))) -> #REF! | U9: =IF(OR(Q9="",S9=""),"",IF(S9=1,(IF(COUNTIFS(S:S,"<="&S9)<=1,1,(1-COUNTIFS(S:S,"<"&S9))/COUNTIFS(S:S,S9)))*(1+VALUE(MID(V9,FIND(": ",V9)+2,FIND("/",V9)-FIND(":",V9)-2))-1)+(1+VALUE(MID(V9,FIND(": ",V9)+2,FIND("/",V9)-FIND(":",V9)-2))-1)/VALUE(RIGHT(V9,1)),IF(S9<=VALUE(MID(V9,FIND(", ",V9)+2,IF(MID(V9,FIND(", ",V9)+2,1)="1",2,1))),(IF(COUNTIFS(S:S,"<="&S9)<=VALUE(MID(V9,FIND(", ",V9)+2,IF(MID(V9,FIND(", ",V9)+2,1)="1",2,1))),1,(VALUE(MID(V9,FIND(", ",V9)+2,IF(MID(V9,FIND(", ",V9)+2,1)="1",2,1)))-COUNTIFS(S:S,"<"&S9))/COUNTIFS(S:S,S9)))*(1*(1+VALUE(MID(V9,FIND(": ",V9)+2,FIND("/",V9)-FIND(":",V9)-2))-1)/VALUE(RIGHT(V9,1))+1)-2,-2))) -> #REF! | V9: =IF(R9="","",#REF!) -> #REF!
A10: =IF('Rd1'!C10="","",'Rd1'!C10) -> Aaron Baddeley | B10: =IF('Rd1'!D10="","",VALUE('Rd1'!D10)) -> 0.2098 | C10: =IF('Rd1'!E10="","",'Rd1'!E10) -> 4.8 | D10: =IF('Rd1'!F10="","",'Rd1'!F10) -> 4.33 | E10: =IF(D10="","",IF(ROUND((B10*(D10-1)-(1-B10))/(D10-1),3)<=0,"",ROUND((B10*(D10-1)-(1-B10))/(D10-1),3))) | F10: {=IF(E10="","",RANK(E10, $E$2:$E$241) + COUNTIFS($E$2:$E$241, E10, $D$2:$D$241, "<"&D10) + COUNTIFS($E$2:$E$241, E10, $D$2:$D$241, D10, $A$2:$A$241, "<"&A10))} | G10: =IF('Rd1'!H10="","",'Rd1'!H10) -> 71 | H10: =IF(OR(F10="",G10="",F10>3),"",IF(G10=1,(IF(COUNTIFS(G:G,"<="&G10)<=1,1,(1-COUNTIFS(G:G,"<"&G10))/COUNTIFS(G:G,G10)))*(1+VALUE(MID(J10,FIND(": ",J10)+2,FIND("/",J10)-FIND(":",J10)-2))-1)+(1+VALUE(MID(J10,FIND(": ",J10)+2,FIND("/",J10)-FIND(":",J10)-2))-1)/VALUE(RIGHT(J10,1)),IF(G10<=VALUE(MID(J10,FIND(", ",J10)+2,IF(MID(J10,FIND(", ",J10)+2,1)="1",2,1))),(IF(COUNTIFS(G:G,"<="&G10)<=VALUE(MID(J10,FIND(", ",J10)+2,IF(MID(J10,FIND(", ",J10)+2,1)="1",2,1))),1,(VALUE(MID(J10,FIND(", ",J10)+2,IF(MID(J10,FIND(", ",J10)+2,1)="1",2,1)))-COUNTIFS(G:G,"<"&G10))/COUNTIFS(G:G,G10)))*(1*(1+VALUE(MID(J10,FIND(": ",J10)+2,FIND("/",J10)-FIND(":",J10)-2))-1)/VALUE(RIGHT(J10,1))+1)-2,-2))) | I10: =IF(OR(E10="",G10=""),"",IF(G10=1,(IF(COUNTIFS(G:G,"<="&G10)<=1,1,(1-COUNTIFS(G:G,"<"&G10))/COUNTIFS(G:G,G10)))*(1+VALUE(MID(J10,FIND(": ",J10)+2,FIND("/",J10)-FIND(":",J10)-2))-1)+(1+VALUE(MID(J10,FIND(": ",J10)+2,FIND("/",J10)-FIND(":",J10)-2))-1)/VALUE(RIGHT(J10,1)),IF(G10<=VALUE(MID(J10,FIND(", ",J10)+2,IF(MID(J10,FIND(", ",J10)+2,1)="1",2,1))),(IF(COUNTIFS(G:G,"<="&G10)<=VALUE(MID(J10,FIND(", ",J10)+2,IF(MID(J10,FIND(", ",J10)+2,1)="1",2,1))),1,(VALUE(MID(J10,FIND(", ",J10)+2,IF(MID(J10,FIND(", ",J10)+2,1)="1",2,1)))-COUNTIFS(G:G,"<"&G10))/COUNTIFS(G:G,G10)))*(1*(1+VALUE(MID(J10,FIND(": ",J10)+2,FIND("/",J10)-FIND(":",J10)-2))-1)/VALUE(RIGHT(J10,1))+1)-2,-2))) | J10: =IF(F10="","",'Rd1'!J10) | M10: =IF(#REF!="","",#REF!) -> #REF! | N10: =IF(#REF!="","",#REF!) -> #REF! | O10: =IF(#REF!="","",#REF!) -> #REF! | P10: =IF(#REF!="","",#REF!) -> #REF! | Q10: =IF(P10="","",IF(ROUND((N10*(P10-1)-(1-N10))/(P10-1),3)<=0,"",ROUND((N10*(P10-1)-(1-N10))/(P10-1),3))) -> #REF! | R10: {=IF(Q10="","",RANK(Q10, $Q$2:$Q$241) + COUNTIFS($Q$2:$Q$241, Q10, $P$2:$P$241, "<"&P10) + COUNTIFS($Q$2:$Q$241, Q10, $P$2:$P$241, P10, $M$2:$M$241, "<"&M10))} -> #REF! | S10: =IF(#REF!="","",#REF!) -> #REF! | T10: =IF(OR(R10="",S10="",R10>3),"",IF(S10=1,(IF(COUNTIFS(S:S,"<="&S10)<=1,1,(1-COUNTIFS(S:S,"<"&S10))/COUNTIFS(S:S,S10)))*(1+VALUE(MID(V10,FIND(": ",V10)+2,FIND("/",V10)-FIND(":",V10)-2))-1)+(1+VALUE(MID(V10,FIND(": ",V10)+2,FIND("/",V10)-FIND(":",V10)-2))-1)/VALUE(RIGHT(V10,1)),IF(S10<=VALUE(MID(V10,FIND(", ",V10)+2,IF(MID(V10,FIND(", ",V10)+2,1)="1",2,1))),(IF(COUNTIFS(S:S,"<="&S10)<=VALUE(MID(V10,FIND(", ",V10)+2,IF(MID(V10,FIND(", ",V10)+2,1)="1",2,1))),1,(VALUE(MID(V10,FIND(", ",V10)+2,IF(MID(V10,FIND(", ",V10)+2,1)="1",2,1)))-COUNTIFS(S:S,"<"&S10))/COUNTIFS(S:S,S10)))*(1*(1+VALUE(MID(V10,FIND(": ",V10)+2,FIND("/",V10)-FIND(":",V10)-2))-1)/VALUE(RIGHT(V10,1))+1)-2,-2))) -> #REF! | U10: =IF(OR(Q10="",S10=""),"",IF(S10=1,(IF(COUNTIFS(S:S,"<="&S10)<=1,1,(1-COUNTIFS(S:S,"<"&S10))/COUNTIFS(S:S,S10)))*(1+VALUE(MID(V10,FIND(": ",V10)+2,FIND("/",V10)-FIND(":",V10)-2))-1)+(1+VALUE(MID(V10,FIND(": ",V10)+2,FIND("/",V10)-FIND(":",V10)-2))-1)/VALUE(RIGHT(V10,1)),IF(S10<=VALUE(MID(V10,FIND(", ",V10)+2,IF(MID(V10,FIND(", ",V10)+2,1)="1",2,1))),(IF(COUNTIFS(S:S,"<="&S10)<=VALUE(MID(V10,FIND(", ",V10)+2,IF(MID(V10,FIND(", ",V10)+2,1)="1",2,1))),1,(VALUE(MID(V10,FIND(", ",V10)+2,IF(MID(V10,FIND(", ",V10)+2,1)="1",2,1)))-COUNTIFS(S:S,"<"&S10))/COUNTIFS(S:S,S10)))*(1*(1+VALUE(MID(V10,FIND(": ",V10)+2,FIND("/",V10)-FIND(":",V10)-2))-1)/VALUE(RIGHT(V10,1))+1)-2,-2))) -> #REF! | V10: =IF(R10="","",#REF!) -> #REF!
A11: =IF('Rd1'!C11="","",'Rd1'!C11) -> Thorbjorn Olesen | B11: =IF('Rd1'!D11="","",VALUE('Rd1'!D11)) -> 0.438 | C11: =IF('Rd1'!E11="","",'Rd1'!E11) -> 2.3 | D11: =IF('Rd1'!F11="","",'Rd1'!F11) -> 2.2 | E11: =IF(D11="","",IF(ROUND((B11*(D11-1)-(1-B11))/(D11-1),3)<=0,"",ROUND((B11*(D11-1)-(1-B11))/(D11-1),3))) | F11: {=IF(E11="","",RANK(E11, $E$2:$E$241) + COUNTIFS($E$2:$E$241, E11, $D$2:$D$241, "<"&D11) + COUNTIFS($E$2:$E$241, E11, $D$2:$D$241, D11, $A$2:$A$241, "<"&A11))} | G11: =IF('Rd1'!H11="","",'Rd1'!H11) -> 69 | H11: =IF(OR(F11="",G11="",F11>3),"",IF(G11=1,(IF(COUNTIFS(G:G,"<="&G11)<=1,1,(1-COUNTIFS(G:G,"<"&G11))/COUNTIFS(G:G,G11)))*(1+VALUE(MID(J11,FIND(": ",J11)+2,FIND("/",J11)-FIND(":",J11)-2))-1)+(1+VALUE(MID(J11,FIND(": ",J11)+2,FIND("/",J11)-FIND(":",J11)-2))-1)/VALUE(RIGHT(J11,1)),IF(G11<=VALUE(MID(J11,FIND(", ",J11)+2,IF(MID(J11,FIND(", ",J11)+2,1)="1",2,1))),(IF(COUNTIFS(G:G,"<="&G11)<=VALUE(MID(J11,FIND(", ",J11)+2,IF(MID(J11,FIND(", ",J11)+2,1)="1",2,1))),1,(VALUE(MID(J11,FIND(", ",J11)+2,IF(MID(J11,FIND(", ",J11)+2,1)="1",2,1)))-COUNTIFS(G:G,"<"&G11))/COUNTIFS(G:G,G11)))*(1*(1+VALUE(MID(J11,FIND(": ",J11)+2,FIND("/",J11)-FIND(":",J11)-2))-1)/VALUE(RIGHT(J11,1))+1)-2,-2))) | I11: =IF(OR(E11="",G11=""),"",IF(G11=1,(IF(COUNTIFS(G:G,"<="&G11)<=1,1,(1-COUNTIFS(G:G,"<"&G11))/COUNTIFS(G:G,G11)))*(1+VALUE(MID(J11,FIND(": ",J11)+2,FIND("/",J11)-FIND(":",J11)-2))-1)+(1+VALUE(MID(J11,FIND(": ",J11)+2,FIND("/",J11)-FIND(":",J11)-2))-1)/VALUE(RIGHT(J11,1)),IF(G11<=VALUE(MID(J11,FIND(", ",J11)+2,IF(MID(J11,FIND(", ",J11)+2,1)="1",2,1))),(IF(COUNTIFS(G:G,"<="&G11)<=VALUE(MID(J11,FIND(", ",J11)+2,IF(MID(J11,FIND(", ",J11)+2,1)="1",2,1))),1,(VALUE(MID(J11,FIND(", ",J11)+2,IF(MID(J11,FIND(", ",J11)+2,1)="1",2,1)))-COUNTIFS(G:G,"<"&G11))/COUNTIFS(G:G,G11)))*(1*(1+VALUE(MID(J11,FIND(": ",J11)+2,FIND("/",J11)-FIND(":",J11)-2))-1)/VALUE(RIGHT(J11,1))+1)-2,-2))) | J11: =IF(F11="","",'Rd1'!J11) | M11: =IF(#REF!="","",#REF!) -> #REF! | N11: =IF(#REF!="","",#REF!) -> #REF! | O11: =IF(#REF!="","",#REF!) -> #REF! | P11: =IF(#REF!="","",#REF!) -> #REF! | Q11: =IF(P11="","",IF(ROUND((N11*(P11-1)-(1-N11))/(P11-1),3)<=0,"",ROUND((N11*(P11-1)-(1-N11))/(P11-1),3))) -> #REF! | R11: {=IF(Q11="","",RANK(Q11, $Q$2:$Q$241) + COUNTIFS($Q$2:$Q$241, Q11, $P$2:$P$241, "<"&P11) + COUNTIFS($Q$2:$Q$241, Q11, $P$2:$P$241, P11, $M$2:$M$241, "<"&M11))} -> #REF! | S11: =IF(#REF!="","",#REF!) -> #REF! | T11: =IF(OR(R11="",S11="",R11>3),"",IF(S11=1,(IF(COUNTIFS(S:S,"<="&S11)<=1,1,(1-COUNTIFS(S:S,"<"&S11))/COUNTIFS(S:S,S11)))*(1+VALUE(MID(V11,FIND(": ",V11)+2,FIND("/",V11)-FIND(":",V11)-2))-1)+(1+VALUE(MID(V11,FIND(": ",V11)+2,FIND("/",V11)-FIND(":",V11)-2))-1)/VALUE(RIGHT(V11,1)),IF(S11<=VALUE(MID(V11,FIND(", ",V11)+2,IF(MID(V11,FIND(", ",V11)+2,1)="1",2,1))),(IF(COUNTIFS(S:S,"<="&S11)<=VALUE(MID(V11,FIND(", ",V11)+2,IF(MID(V11,FIND(", ",V11)+2,1)="1",2,1))),1,(VALUE(MID(V11,FIND(", ",V11)+2,IF(MID(V11,FIND(", ",V11)+2,1)="1",2,1)))-COUNTIFS(S:S,"<"&S11))/COUNTIFS(S:S,S11)))*(1*(1+VALUE(MID(V11,FIND(": ",V11)+2,FIND("/",V11)-FIND(":",V11)-2))-1)/VALUE(RIGHT(V11,1))+1)-2,-2))) -> #REF! | U11: =IF(OR(Q11="",S11=""),"",IF(S11=1,(IF(COUNTIFS(S:S,"<="&S11)<=1,1,(1-COUNTIFS(S:S,"<"&S11))/COUNTIFS(S:S,S11)))*(1+VALUE(MID(V11,FIND(": ",V11)+2,FIND("/",V11)-FIND(":",V11)-2))-1)+(1+VALUE(MID(V11,FIND(": ",V11)+2,FIND("/",V11)-FIND(":",V11)-2))-1)/VALUE(RIGHT(V11,1)),IF(S11<=VALUE(MID(V11,FIND(", ",V11)+2,IF(MID(V11,FIND(", ",V11)+2,1)="1",2,1))),(IF(COUNTIFS(S:S,"<="&S11)<=VALUE(MID(V11,FIND(", ",V11)+2,IF(MID(V11,FIND(", ",V11)+2,1)="1",2,1))),1,(VALUE(MID(V11,FIND(", ",V11)+2,IF(MID(V11,FIND(", ",V11)+2,1)="1",2,1)))-COUNTIFS(S:S,"<"&S11))/COUNTIFS(S:S,S11)))*(1*(1+VALUE(MID(V11,FIND(": ",V11)+2,FIND("/",V11)-FIND(":",V11)-2))-1)/VALUE(RIGHT(V11,1))+1)-2,-2))) -> #REF! | V11: =IF(R11="","",#REF!) -> #REF!
