Workbook

Sheet Record
A1: Win | D1: Top3: Win
A2: Stakes | B2: Profit | D2: Stakes | E2: Profit
A3: {=SUM(IFERROR(100*SUMPRODUCT(('Rd1'!H:H<>"") * IFERROR(--'Rd1'!G:G, 0)),0),IFERROR(100*SUMPRODUCT(('Rd2'!H:H<>"") * IFERROR(--'Rd2'!G:G, 0)),0),IFERROR(100*SUMPRODUCT(('Rd3'!H:H<>"") * IFERROR(--'Rd3'!G:G, 0)),0),IFERROR(100*SUMPRODUCT(('Rd4'!H:H<>"") * IFERROR(--'Rd4'!G:G, 0)),0))} -> 274.4 | B3: =SUM(IF(AND(A3="",SUM('Rd1'!I:I)=0),"",SUM('Rd1'!I:I)),IF(AND(A3="",SUM('Rd2'!I:I)=0),"",SUM('Rd2'!I:I)),IF(AND(A3="",SUM('Rd3'!I:I)=0),"",SUM('Rd3'!I:I)),IF(AND(A3="",SUM('Rd4'!I:I)=0),"",SUM('Rd4'!I:I))) -> 69.4 | D3: =IF(T3Picks!C2="","",2*(12-COUNTBLANK(T3Picks!B2:B13))) -> 24 | E3: =IF(T3Picks!C2="","",SUM(T3Picks!I2:I13)) -> 7.4

Sheet Rd1
A1: Round | B1: Time | C1: Player | D1: Win % | E1: TT Odds | F1: Best Odds | G1: Kelly | H1: Score | I1: P/L
A2: =IF(B2="","",1) -> 1 | B2: 0.48958333 | C2: Alex Smalley | D2: 36.04% | E2: 2.8 | F2: 2.45 | H2: 72
A3: =IF(B3="","",1) -> 1 | B3: 0.48958333 | C3: Alex Noren | D3: 41.36% | E3: 2.4 | F3: 2.5 | G3: 1.10% | H3: 71 | I3: -1.1
A4: =IF(B4="","",1) -> 1 | B4: 0.48958333 | C4: Lanto Griffin | D4: 22.60% | E4: 4.4 | F4: 4 | H4: 67
A5: =IF(B5="","",1) -> 1 | B5: 0.48958333 | C5: Victor Perez | D5: 41.97% | E5: 2.4 | F5: 2.3 | H5: 66
A6: =IF(B6="","",1) -> 1 | B6: 0.48958333 | C6: Adam Hadwin | D6: 31.83% | E6: 3.1 | F6: 2.88 | H6: 67
A7: =IF(B7="","",1) -> 1 | B7: 0.48958333 | C7: David Skinns | D7: 26.20% | E7: 3.8 | F7: 3.6 | H7: 69
A8: =IF(B8="","",1) -> 1 | B8: 0.49722222 | C8: Patrick Fishburn | D8: 40.61% | E8: 2.5 | F8: 2.15 | H8: 68
A9: =IF(B9="","",1) -> 1 | B9: 0.49722222 | C9: Ben Silverman | D9: 38.40% | E9: 2.6 | F9: 2.63 | G9: 0.30% | H9: 73 | I9: -0.3
A10: =IF(B10="","",1) -> 1 | B10: 0.49722222 | C10: Aaron Baddeley | D10: 20.98% | E10: 4.8 | F10: 4.33 | H10: 71
A11: =IF(B11="","",1) -> 1 | B11: 0.49722222 | C11: Thorbjorn Olesen | D11: 43.80% | E11: 2.3 | F11: 2.2 | H11: 69
A12: =IF(B12="","",1) -> 1 | B12: 0.49722222 | C12: Carson Young | D12: 31.22% | E12: 3.2 | F12: 3 | H12: 71
A13: =IF(B13="","",1) -> 1 | B13: 0.49722222 | C13: Will Gordon | D13: 24.99% | E13: 4 | F13: 3.6 | H13: 69
A14: =IF(B14="","",1) -> 1 | B14: 0.50486111 | C14: Rico Hoey | D14: 39.57% | E14: 2.5 | F14: 2.45 | H14: 71
A15: =IF(B15="","",1) -> 1 | B15: 0.50486111 | C15: Trey Mullinax | D15: 30.35% | E15: 3.3 | F15: 2.88 | H15: 71
A16: =IF(B16="","",1) -> 1 | B16: 0.50486111 | C16: Chandler Phillips | D16: 30.09% | E16: 3.3 | F16: 3.4 | G16: 0.50% | H16: 70 | I16: 1.2
A17: =IF(B17="","",1) -> 1 | B17: 0.50486111 | C17: Andrew Putnam | D17: 47.35% | E17: 2.1 | F17: 2.3 | G17: 3.40% | H17: 64 | I17: 4.42
A18: =IF(B18="","",1) -> 1 | B18: 0.50486111 | C18: Danny Walker | D18: 31.58% | E18: 3.2 | F18: 2.7 | H18: 72
A19: =IF(B19="","",1) -> 1 | B19: 0.50486111 | C19: David Lipsky | D19: 21.07% | E19: 4.7 | F19: 3.9 | H19: 69
A20: =IF(B20="","",1) -> 1 | B20: 0.5125 | C20: Nico Echavarria | D20: 43.46% | E20: 2.3 | F20: 2.1 | H20: 66
A21: =IF(B21="","",1) -> 1 | B21: 0.5125 | C21: Patton Kizzire | D21: 32.75% | E21: 3.1 | F21: 3 | H21: 74
A22: =IF(B22="","",1) -> 1 | B22: 0.5125 | C22: Peter Malnati | D22: 23.79% | E22: 4.2 | F22: 4.2 | H22: 69
A23: =IF(B23="","",1) -> 1 | B23: 0.5125 | C23: Wyndham Clark | D23: 38.21% | E23: 2.6 | F23: 2.5 | H23: 66
A24: =IF(B24="","",1) -> 1 | B24: 0.5125 | C24: Min Woo Lee | D24: 35.24% | E24: 2.8 | F24: 2.75 | H24: 63
A25: =IF(B25="","",1) -> 1 | B25: 0.5125 | C25: Cam Davis | D25: 26.55% | E25: 3.8 | F25: 3.25 | H25: 74
A26: =IF(B26="","",1) -> 1 | B26: 0.52013889 | C26: Collin Morikawa | D26: 31.38% | E26: 3.2 | F26: 2.63 | H26: 69
A27: =IF(B27="","",1) -> 1 | B27: 0.52013889 | C27: Patrick Cantlay | D27: 35.03% | E27: 2.9 | F27: 2.8 | H27: 66
A28: =IF(B28="","",1) -> 1 | B28: 0.52013889 | C28: Keegan Bradley | D28: 33.59% | E28: 3 | F28: 3 | G28: 0.20% | H28: 68 | I28: -0.2
A29: =IF(B29="","",1) -> 1 | B29: 0.52013889 | C29: Lee Hodges | D29: 35.27% | E29: 2.8 | F29: 2.5 | H29: 65
A30: =IF(B30="","",1) -> 1 | B30: 0.52013889 | C30: Seamus Power | D30: 38.61% | E30: 2.6 | F30: 2.8 | G30: 2.30% | H30: 73 | I30: -2.3
A31: =IF(B31="","",1) -> 1 | B31: 0.52013889 | C31: Luke List | D31: 26.13% | E31: 3.8 | F31: 3.5 | H31: 68
A32: =IF(B32="","",1) -> 1 | B32: 0.52777778 | C32: Matt Fitzpatrick | D32: 32.58% | E32: 3.1 | F32: 2.75 | H32: 67
A33: =IF(B33="","",1) -> 1 | B33: 0.52777778 | C33: Akshay Bhatia | D33: 31.59% | E33: 3.2 | F33: 2.8 | H33: 68
A34: =IF(B34="","",1) -> 1 | B34: 0.52777778 | C34: Rickie Fowler | D34: 35.84% | E34: 2.8 | F34: 3 | G34: 1.90% | H34: 71 | I34: -1.9
A35: =IF(B35="","",1) -> 1 | B35: 0.52777778 | C35: Joe Highsmith | D35: 37.25% | E35: 2.7 | F35: 2.63 | H35: 71
A36: =IF(B36="","",1) -> 1 | B36: 0.52777778 | C36: Brice Garnett | D36: 35.51% | E36: 2.8 | F36: 2.9 | G36: 0.80% | H36: 72 | I36: -0.8
A37: =IF(B37="","",1) -> 1 | B37: 0.52777778 | C37: Francesco Molinari | D37: 27.23% | E37: 3.7 | F37: 3.4 | H37: 71
A38: =IF(B38="","",1) -> 1 | B38: 0.53541667 | C38: Kurt Kitayama | D38: 45.32% | E38: 2.2 | F38: 2.1 | H38: 70
A39: =IF(B39="","",1) -> 1 | B39: 0.53541667 | C39: Adam Schenk | D39: 28.65% | E39: 3.5 | F39: 2.9 | H39: 70
A40: =IF(B40="","",1) -> 1 | B40: 0.53541667 | C40: Nick Dunlap | D40: 26.04% | E40: 3.8 | F40: 3.9 | G40: 0.30% | H40: 70 | I40: 0.09
A41: =IF(B41="","",1) -> 1 | B41: 0.53541667 | C41: Byeong Hun An | D41: 42.19% | E41: 2.4 | F41: 2.2 | H41: 68
A42: =IF(B42="","",1) -> 1 | B42: 0.53541667 | C42: Webb Simpson | D42: 32.58% | E42: 3.1 | F42: 3 | H42: 70
A43: =IF(B43="","",1) -> 1 | B43: 0.53541667 | C43: Zach Johnson | D43: 25.23% | E43: 4 | F43: 3.6 | H43: 65
A44: =IF(B44="","",1) -> 1 | B44: 0.54305556 | C44: Erik van Rooyen | D44: 36.59% | E44: 2.7 | F44: 2.4 | H44: 69
A45: =IF(B45="","",1) -> 1 | B45: 0.54305556 | C45: Matt Kuchar | D45: 40.00% | E45: 2.5 | F45: 2.75 | G45: 2.90% | H45: 69 | I45: -2.9
A46: =IF(B46="","",1) -> 1 | B46: 0.54305556 | C46: Brandt Snedeker | D46: 23.41% | E46: 4.3 | F46: 3.5 | H46: 68
A47: =IF(B47="","",1) -> 1 | B47: 0.54305556 | C47: Matt Wallace | D47: 42.49% | E47: 2.4 | F47: 2.5 | G47: 2.10% | H47: 69 | I47: 3.15
A48: =IF(B48="","",1) -> 1 | B48: 0.54305556 | C48: Taylor Moore | D48: 35.95% | E48: 2.8 | F48: 2.63 | H48: 70
A49: =IF(B49="","",1) -> 1 | B49: 0.54305556 | C49: Karl Vilips | D49: 21.55% | E49: 4.6 | F49: 3.5 | H49: 71
A50: =IF(B50="","",1) -> 1 | B50: 0.55069444 | C50: Michael Kim | D50: 40.78% | E50: 2.5 | F50: 2.6 | G50: 1.90% | H50: 67 | I50: 3.04
A51: =IF(B51="","",1) -> 1 | B51: 0.55069444 | C51: Jacob Bridgeman | D51: 34.63% | E51: 2.9 | F51: 2.75 | H51: 68
A52: =IF(B52="","",1) -> 1 | B52: 0.55069444 | C52: Cameron Champ | D52: 24.59% | E52: 4.1 | F52: 3.4 | H52: 68
A53: =IF(B53="","",1) -> 1 | B53: 0.55069444 | C53: Rasmus Hojgaard | D53: 43.66% | E53: 2.3 | F53: 2.15 | H53: 69
A54: =IF(B54="","",1) -> 1 | B54: 0.55069444 | C54: Jeremy Paul | D54: 29.37% | E54: 3.4 | F54: 3.1 | H54: 70
A55: =IF(B55="","",1) -> 1 | B55: 0.55069444 | C55: Ben Martin | D55: 26.97% | E55: 3.7 | F55: 3.6 | H55: 69
A56: =IF(B56="","",1) -> 1 | B56: 0.55833333 | C56: Trevor Cone | D56: 35.61% | E56: 2.8 | F56: 2.5 | H56: 71
A57: =IF(B57="","",1) -> 1 | B57: 0.55833333 | C57: Noah Goodwin | D57: 38.02% | E57: 2.6 | F57: 2.62 | H57: 70
A58: =IF(B58="","",1) -> 1 | B58: 0.55833333 | C58: Paul Waring | D58: 26.38% | E58: 3.8 | F58: 3.75 | H58: 67
A59: =IF(B59="","",1) -> 1 | B59: 0.55833333 | C59: Max McGreevy | D59: 36.39% | E59: 2.7 | F59: 2.6 | H59: 67
A60: =IF(B60="","",1) -> 1 | B60: 0.55833333 | C60: Alejandro Tosti | D60: 29.84% | E60: 3.4 | F60: 2.88 | H60: 71
A61: =IF(B61="","",1) -> 1 | B61: 0.55833333 | C61: Sami Valimaki | D61: 33.77% | E61: 3 | F61: 3 | G61: 0.30% | H61: 68 | I61: -0.3
A62: =IF(B62="","",1) -> 1 | B62: 0.56597222 | C62: Antoine Rozner | D62: 41.68% | E62: 2.4 | F62: 2.5 | G62: 1.40% | H62: 69 | I62: 2.1
A63: =IF(B63="","",1) -> 1 | B63: 0.56597222 | C63: Quade Cummins | D63: 40.66% | E63: 2.5 | F63: 2.7 | G63: 2.90% | H63: 70 | I63: -2.9
A64: =IF(B64="","",1) -> 1 | B64: 0.56597222 | C64: David Ford | D64: 17.66% | E64: 5.7 | F64: 3.4 | H64: 71
A65: =IF(B65="","",1) -> 1 | B65: 0.56597222 | C65: Jesper Svensson | D65: 44.41% | E65: 2.3 | F65: 2.15 | H65: 70
A66: =IF(B66="","",1) -> 1 | B66: 0.56597222 | C66: Steven Fisk | D66: 42.80% | E66: 2.3 | F66: 2.4 | G66: 1.00% | H66: 69 | I66: 1.4
A67: =IF(B67="","",1) -> 1 | B67: 0.56597222 | C67: Evan Brown | D67: 12.79% | E67: 7.8 | F67: 6.5 | H67: 74
A68: =IF(B68="","",1) -> 1 | B68: 0.57361111 | C68: Matthew Riedel | D68: 44.56% | E68: 2.2 | F68: 2.05 | H68: 66
A69: =IF(B69="","",1) -> 1 | B69: 0.57361111 | C69: Will Chandler | D69: 44.76% | E69: 2.2 | F69: 2.05 | H69: 71
A70: =IF(B70="","",1) -> 1 | B70: 0.57361111 | C70: Otto Black | D70: 10.69% | E70: 9.4 | F70: 9.5 | G70: 0.10% | H70: 72 | I70: -0.1
A71: =IF(B71="","",1) -> 1 | B71: 0.57361111 | C71: Hayden Springer | D71: 38.09% | E71: 2.6 | F71: 2.3 | H71: 65
A72: =IF(B72="","",1) -> 1 | B72: 0.57361111 | C72: Kris Ventura | D72: 40.30% | E72: 2.5 | F72: 2.5 | G72: 0.30% | H72: 65 | I72: 0.08
A73: =IF(B73="","",1) -> 1 | B73: 0.57361111 | C73: Mason Andersen | D73: 21.60% | E73: 4.6 | F73: 4 | H73: 69
A74: =IF(B74="","",1) -> 1 | B74: 0.58125 | C74: John Pak | D74: 46.06% | E74: 2.2 | F74: 2.15 | H74: 69
A75: =IF(B75="","",1) -> 1 | B75: 0.58125 | C75: Taylor Dickson | D75: 35.02% | E75: 2.9 | F75: 2.75 | H75: 74
A76: =IF(B76="","",1) -> 1 | B76: 0.58125 | C76: Dominic Clemons | D76: 18.92% | E76: 5.3 | F76: 4.6 | H76: 72
A77: =IF(B77="","",1) -> 1 | B77: 0.58125 | C77: Michael Thorbjornsen | D77: 41.43% | E77: 2.4 | F77: 2.2 | H77: 65
A78: =IF(B78="","",1) -> 1 | B78: 0.58125 | C78: Michael La Sasso | D78: 32.15% | E78: 3.1 | F78: 3 | H78: 72
A79: =IF(B79="","",1) -> 1 | B79: 0.58125 | C79: Norman Xiong | D79: 26.41% | E79: 3.8 | F79: 3.5 | H79: 70
A80: =IF(B80="","",1) -> 1 | B80: 0.71527778 | C80: Keith Mitchell | D80: 41.42% | E80: 2.4 | F80: 2.3 | H80: 71
A81: =IF(B81="","",1) -> 1 | B81: 0.71527778 | C81: Kevin Roy | D81: 33.67% | E81: 3 | F81: 3 | G81: 0.30% | H81: 62 | I81: 0.6
A82: =IF(B82="","",1) -> 1 | B82: 0.71527778 | C82: Joel Dahmen | D82: 24.91% | E82: 4 | F82: 3.3 | H82: 74
A83: =IF(B83="","",1) -> 1 | B83: 0.71527778 | C83: Isaiah Salinda | D83: 32.56% | E83: 3.1 | F83: 2.5 | H83: 67
A84: =IF(B84="","",1) -> 1 | B84: 0.71527778 | C84: Mac Meissner | D84: 35.81% | E84: 2.8 | F84: 2.88 | G84: 0.80% | H84: 71 | I84: -0.8
A85: =IF(B85="","",1) -> 1 | B85: 0.71527778 | C85: Justin Lower | D85: 31.63% | E85: 3.2 | F85: 3.1 | H85: 70
A86: =IF(B86="","",1) -> 1 | B86: 0.72291667 | C86: Ryan Gerard | D86: 42.38% | E86: 2.4 | F86: 2.3 | H86: 67
A87: =IF(B87="","",1) -> 1 | B87: 0.72291667 | C87: Aldrich Potgieter | D87: 26.53% | E87: 3.8 | F87: 3.2 | H87: 62
A88: =IF(B88="","",1) -> 1 | B88: 0.72291667 | C88: Chan Kim | D88: 31.09% | E88: 3.2 | F88: 3.5 | G88: 1.80% | H88: 70 | I88: -1.8
A89: =IF(B89="","",1) -> 1 | B89: 0.72291667 | C89: Vince Whaley | D89: 37.23% | E89: 2.7 | F89: 2.5 | H89: 68
A90: =IF(B90="","",1) -> 1 | B90: 0.72291667 | C90: Patrick Rodgers | D90: 37.71% | E90: 2.7 | F90: 2.63 | H90: 70
A91: =IF(B91="","",1) -> 1 | B91: 0.72291667 | C91: Nate Lashley | D91: 25.06% | E91: 4 | F91: 3.4 | H91: 72
A92: =IF(B92="","",1) -> 1 | B92: 0.73055556 | C92: Greyson Sigg | D92: 43.86% | E92: 2.3 | F92: 2.25 | H92: 73
A93: =IF(B93="","",1) -> 1 | B93: 0.73055556 | C93: Hayden Buckley | D93: 35.31% | E93: 2.8 | F93: 2.6 | H93: 73
A94: =IF(B94="","",1) -> 1 | B94: 0.73055556 | C94: Ryan Brehm | D94: 20.83% | E94: 4.8 | F94: 4 | H94: 71
A95: =IF(B95="","",1) -> 1 | B95: 0.73055556 | C95: Ryo Hisatsune | D95: 36.38% | E95: 2.7 | F95: 2.4 | H95: 67
A96: =IF(B96="","",1) -> 1 | B96: 0.73055556 | C96: Henrik Norlander | D96: 34.03% | E96: 2.9 | F96: 2.8 | H96: 65
A97: =IF(B97="","",1) -> 1 | B97: 0.73055556 | C97: Danny Willett | D97: 29.59% | E97: 3.4 | F97: 3.5 | G97: 0.70% | H97: 70 | I97: -0.7
A98: =IF(B98="","",1) -> 1 | B98: 0.73819444 | C98: Stephan Jaeger | D98: 36.79% | E98: 2.7 | F98: 2.7 | H98: 70
A99: =IF(B99="","",1) -> 1 | B99: 0.73819444 | C99: Tom Kim | D99: 34.30% | E99: 2.9 | F99: 2.8 | H99: 67
A100: =IF(B100="","",1) -> 1 | B100: 0.73819444 | C100: Jake Knapp | D100: 28.91% | E100: 3.5 | F100: 3 | H100: 72
...

Sheet Rd2
A1: Round | B1: Time | C1: Player | D1: Win % | E1: TT Odds | F1: Best Odds | G1: Kelly | H1: Score | I1: P/L
A2: =IF(B2="","",2) -> 2 | B2: 0.48958333 | C2: Keith Mitchell | D2: 41.76% | E2: 2.4 | F2: 2.38 | H2: 78
A3: =IF(B3="","",2) -> 2 | B3: 0.48958333 | C3: Kevin Roy | D3: 36.32% | E3: 2.8 | F3: 2.88 | G3: 1.20% | H3: 71 | I3: 0.53
A4: =IF(B4="","",2) -> 2 | B4: 0.48958333 | C4: Joel Dahmen | D4: 21.92% | E4: 4.6 | F4: 3.6 | H4: 71
A5: =IF(B5="","",2) -> 2 | B5: 0.48958333 | C5: Isaiah Salinda | D5: 35.09% | E5: 2.8 | F5: 2.5 | H5: 71
A6: =IF(B6="","",2) -> 2 | B6: 0.48958333 | C6: Mac Meissner | D6: 32.49% | E6: 3.1 | F6: 3 | H6: 69
A7: =IF(B7="","",2) -> 2 | B7: 0.48958333 | C7: Justin Lower | D7: 32.42% | E7: 3.1 | F7: 3.1 | G7: 0.10% | H7: 67 | I7: 0.21
A8: =IF(B8="","",2) -> 2 | B8: 0.49722222 | C8: Ryan Gerard | D8: 38.47% | E8: 2.6 | F8: 2.3 | H8: 68
A9: =IF(B9="","",2) -> 2 | B9: 0.49722222 | C9: Aldrich Potgieter | D9: 32.66% | E9: 3.1 | F9: 2.88 | H9: 70
A10: =IF(B10="","",2) -> 2 | B10: 0.49722222 | C10: Chan Kim | D10: 28.87% | E10: 3.5 | F10: 4.2 | G10: 3.30% | H10: 65 | I10: 10.56
A11: =IF(B11="","",2) -> 2 | B11: 0.49722222 | C11: Vince Whaley | D11: 39.00% | E11: 2.6 | F11: 2.5 | H11: 69
A12: =IF(B12="","",2) -> 2 | B12: 0.49722222 | C12: Patrick Rodgers | D12: 37.71% | E12: 2.7 | F12: 2.63 | H12: 71
A13: =IF(B13="","",2) -> 2 | B13: 0.49722222 | C13: Nate Lashley | D13: 23.29% | E13: 4.3 | F13: 3.6 | H13: 67
A14: =IF(B14="","",2) -> 2 | B14: 0.50486111 | C14: Greyson Sigg | D14: 40.91% | E14: 2.4 | F14: 2.35 | H14: 70
A15: =IF(B15="","",2) -> 2 | B15: 0.50486111 | C15: Hayden Buckley | D15: 37.98% | E15: 2.6 | F15: 2.75 | G15: 1.30% | H15: 68 | I15: 2.28
A16: =IF(B16="","",2) -> 2 | B16: 0.50486111 | C16: Ryan Brehm | D16: 21.11% | E16: 4.7 | F16: 4 | H16: 71
A17: =IF(B17="","",2) -> 2 | B17: 0.50486111 | C17: Ryo Hisatsune | D17: 37.14% | E17: 2.7 | F17: 2.4 | H17: 67
A18: =IF(B18="","",2) -> 2 | B18: 0.50486111 | C18: Henrik Norlander | D18: 35.65% | E18: 2.8 | F18: 2.63 | H18: 72
A19: =IF(B19="","",2) -> 2 | B19: 0.50486111 | C19: Danny Willett | D19: 27.21% | E19: 3.7 | F19: 3.8 | G19: 0.60% | H19: 71 | I19: -0.6
A20: =IF(B20="","",2) -> 2 | B20: 0.5125 | C20: Stephan Jaeger | D20: 33.68% | E20: 3 | F20: 2.7 | H20: 72
A21: =IF(B21="","",2) -> 2 | B21: 0.5125 | C21: Tom Kim | D21: 37.93% | E21: 2.6 | F21: 2.8 | G21: 1.70% | H21: 76 | I21: -1.7
A22: =IF(B22="","",2) -> 2 | B22: 0.5125 | C22: Jake Knapp | D22: 28.40% | E22: 3.5 | F22: 3.1 | H22: 61
A23: =IF(B23="","",2) -> 2 | B23: 0.5125 | C23: Harry Hall | D23: 54.02% | E23: 1.85 | F23: 1.91 | G23: 1.70% | H23: 67 | I23: -0.08
A24: =IF(B24="","",2) -> 2 | B24: 0.5125 | C24: Joseph Bramlett | D24: 28.42% | E24: 3.5 | F24: 4 | G24: 2.30% | H24: 67 | I24: 2.3
A25: =IF(B25="","",2) -> 2 | B25: 0.5125 | C25: Aaron Wise | D25: 17.56% | E25: 5.7 | F25: 4.5 | H25: 68
A26: =IF(B26="","",2) -> 2 | B26: 0.52013889 | C26: Ben Griffin | D26: 41.43% | E26: 2.4 | F26: 2.4 | H26: 67
A27: =IF(B27="","",2) -> 2 | B27: 0.52013889 | C27: Hideki Matsuyama | D27: 36.52% | E27: 2.7 | F27: 2.7 | H27: 66
A28: =IF(B28="","",2) -> 2 | B28: 0.52013889 | C28: Max Homa | D28: 22.05% | E28: 4.5 | F28: 4.35 | H28: 70
A29: =IF(B29="","",2) -> 2 | B29: 0.52013889 | C29: Davis Thompson | D29: 32.01% | E29: 3.1 | F29: 2.6 | H29: 70
A30: =IF(B30="","",2) -> 2 | B30: 0.52013889 | C30: Si Woo Kim | D30: 37.13% | E30: 2.7 | F30: 2.75 | G30: 0.60% | H30: 68 | I30: -0.6
A31: =IF(B31="","",2) -> 2 | B31: 0.52013889 | C31: Chris Kirk | D31: 30.86% | E31: 3.2 | F31: 3.5 | G31: 1.60% | H31: 65 | I31: 4
A32: =IF(B32="","",2) -> 2 | B32: 0.52777778 | C32: Cameron Young | D32: 37.98% | E32: 2.6 | F32: 2.25 | H32: 69
A33: =IF(B33="","",2) -> 2 | B33: 0.52777778 | C33: Gary Woodland | D33: 32.15% | E33: 3.1 | F33: 3.1 | H33: 66
A34: =IF(B34="","",2) -> 2 | B34: 0.52777778 | C34: Austin Eckroat | D34: 29.87% | E34: 3.3 | F34: 3.5 | G34: 0.90% | H34: 67 | I34: -0.9
A35: =IF(B35="","",2) -> 2 | B35: 0.52777778 | C35: Matt McCarty | D35: 46.07% | E35: 2.2 | F35: 2.2 | G35: 0.60% | H35: 67 | I35: -0.6
A36: =IF(B36="","",2) -> 2 | B36: 0.52777778 | C36: Davis Riley | D36: 31.04% | E36: 3.2 | F36: 2.8 | H36: 63
A37: =IF(B37="","",2) -> 2 | B37: 0.52777778 | C37: Camilo Villegas | D37: 22.89% | E37: 4.4 | F37: 4 | H37: 68
A38: =IF(B38="","",2) -> 2 | B38: 0.53541667 | C38: Emiliano Grillo | D38: 43.31% | E38: 2.3 | F38: 2.63 | G38: 4.30% | H38: 67 | I38: -4.3
A39: =IF(B39="","",2) -> 2 | B39: 0.53541667 | C39: Chris Gotterup | D39: 32.50% | E39: 3.1 | F39: 2.75 | H39: 66
A40: =IF(B40="","",2) -> 2 | B40: 0.53541667 | C40: Adam Svensson | D40: 24.20% | E40: 4.1 | F40: 3.6 | H40: 70
A41: =IF(B41="","",2) -> 2 | B41: 0.53541667 | C41: Garrick Higgo | D41: 36.56% | E41: 2.7 | F41: 2.3 | H41: 70
A42: =IF(B42="","",2) -> 2 | B42: 0.53541667 | C42: Nick Hardy | D42: 38.68% | E42: 2.6 | F42: 2.63 | G42: 0.50% | H42: 66 | I42: 0.82
A43: =IF(B43="","",2) -> 2 | B43: 0.53541667 | C43: Rafael Campos | D43: 24.77% | E43: 4 | F43: 4.6 | G43: 1.90% | H43: 69 | I43: -1.9
A44: =IF(B44="","",2) -> 2 | B44: 0.54305556 | C44: Max Greyserman | D44: 40.76% | E44: 2.5 | F44: 2.4 | H44: 70
A45: =IF(B45="","",2) -> 2 | B45: 0.54305556 | C45: Mark Hubbard | D45: 34.41% | E45: 2.9 | F45: 3.1 | G45: 1.60% | H45: 69 | I45: -1.6
A46: =IF(B46="","",2) -> 2 | B46: 0.54305556 | C46: Nicolai Hojgaard | D46: 24.83% | E46: 4 | F46: 3.5 | H46: 65
A47: =IF(B47="","",2) -> 2 | B47: 0.54305556 | C47: Sam Ryder | D47: 38.27% | E47: 2.6 | F47: 2.6 | H47: 72
A48: =IF(B48="","",2) -> 2 | B48: 0.54305556 | C48: Chad Ramey | D48: 36.44% | E48: 2.7 | F48: 2.8 | G48: 0.60% | H48: 66 | I48: 1.08
A49: =IF(B49="","",2) -> 2 | B49: 0.54305556 | C49: Harry Higgs | D49: 25.29% | E49: 4 | F49: 3.25 | H49: 67
A50: =IF(B50="","",2) -> 2 | B50: 0.55069444 | C50: Doug Ghim | D50: 39.09% | E50: 2.6 | F50: 2.4 | H50: 66
A51: =IF(B51="","",2) -> 2 | B51: 0.55069444 | C51: Ricky Castillo | D51: 39.09% | E51: 2.6 | F51: 2.45 | H51: 73
A52: =IF(B52="","",2) -> 2 | B52: 0.55069444 | C52: Kevin Kisner | D52: 21.82% | E52: 4.6 | F52: 4.33 | H52: 71
A53: =IF(B53="","",2) -> 2 | B53: 0.55069444 | C53: Beau Hossler | D53: 45.23% | E53: 2.2 | F53: 2.05 | H53: 68
A54: =IF(B54="","",2) -> 2 | B54: 0.55069444 | C54: Ben Kohles | D54: 39.07% | E54: 2.6 | F54: 2.3 | H54: 70
A55: =IF(B55="","",2) -> 2 | B55: 0.55069444 | C55: Ryan Palmer | D55: 15.69% | E55: 6.4 | F55: 7 | G55: 0.80% | H55: 69 | I55: -0.8
A56: =IF(B56="","",2) -> 2 | B56: 0.55833333 | C56: Takumi Kanaya | D56: 42.56% | E56: 2.3 | F56: 2.5 | G56: 2.10% | H56: 68 | I56: -2.1
A57: =IF(B57="","",2) -> 2 | B57: 0.55833333 | C57: William Mouw | D57: 36.86% | E57: 2.7 | F57: 2.7 | H57: 69
A58: =IF(B58="","",2) -> 2 | B58: 0.55833333 | C58: Harrison Endycott | D58: 20.58% | E58: 4.9 | F58: 3.5 | H58: 66
A59: =IF(B59="","",2) -> 2 | B59: 0.55833333 | C59: Luke Clanton | D59: 57.28% | E59: 1.75 | F59: 1.85 | G59: 3.50% | H59: 67 | I59: 2.98
A60: =IF(B60="","",2) -> 2 | B60: 0.55833333 | C60: Kevin Velo | D60: 26.07% | E60: 3.8 | F60: 3.5 | H60: 68
A61: =IF(B61="","",2) -> 2 | B61: 0.55833333 | C61: Brett White | D61: 16.65% | E61: 6 | F61: 4 | H61: 69
A62: =IF(B62="","",2) -> 2 | B62: 0.56597222 | C62: James Piot | D62: 29.92% | E62: 3.3 | F62: 2.5 | H62: 68
A63: =IF(B63="","",2) -> 2 | B63: 0.56597222 | C63: Frankie Capan | D63: 36.69% | E63: 2.7 | F63: 2.88 | G63: 1.50% | H63: 73 | I63: -1.5
A64: =IF(B64="","",2) -> 2 | B64: 0.56597222 | C64: Braden Thornberry | D64: 33.39% | E64: 3 | F64: 2.9 | H64: 69
A65: =IF(B65="","",2) -> 2 | B65: 0.56597222 | C65: Paul Peterson | D65: 45.04% | E65: 2.2 | F65: 2.4 | G65: 2.90% | H65: 70 | I65: -2.9
A66: =IF(B66="","",2) -> 2 | B66: 0.56597222 | C66: Kaito Onishi | D66: 37.80% | E66: 2.6 | F66: 2.45 | H66: 69
A67: =IF(B67="","",2) -> 2 | B67: 0.56597222 | C67: Andi Xu | D67: 17.17% | E67: 5.8 | F67: 4 | H67: 75
A68: =IF(B68="","",2) -> 2 | B68: 0.57361111 | C68: Thomas Rosenmueller | D68: 47.04% | E68: 2.1 | F68: 1.73 | H68: 68
A69: =IF(B69="","",2) -> 2 | B69: 0.57361111 | C69: Philip Knowles | D69: 39.21% | E69: 2.6 | F69: 2.6 | G69: 0.60% | H69: 64 | I69: 0.96
A70: =IF(B70="","",2) -> 2 | B70: 0.57361111 | C70: Ben Cook | D70: 13.75% | E70: 7.3 | F70: 7.5 | G70: 0.20% | H70: 75 | I70: -0.2
A71: =IF(B71="","",2) -> 2 | B71: 0.58125 | C71: Cristobal Del Solar | D71: 40.56% | E71: 2.5 | F71: 2.3 | H71: 68
A72: =IF(B72="","",2) -> 2 | B72: 0.58125 | C72: Anders Albertson | D72: 39.95% | E72: 2.5 | F72: 2.5 | H72: 71
A73: =IF(B73="","",2) -> 2 | B73: 0.58125 | C73: Vince Covello | D73: 19.49% | E73: 5.1 | F73: 3.9 | H73: 70
A74: =IF(B74="","",2) -> 2 | B74: 0.58125 | C74: Rikuya Hoshino | D74: 45.57% | E74: 2.2 | F74: 1.91 | H74: 71
A75: =IF(B75="","",2) -> 2 | B75: 0.58125 | C75: Ashton McCulloch | D75: 24.35% | E75: 4.1 | F75: 3.4 | H75: 74
A76: =IF(B76="","",2) -> 2 | B76: 0.58125 | C76: Gordon Sargent | D76: 30.08% | E76: 3.3 | F76: 3.5 | G76: 1.10% | H76: 66 | I76: 2.75
A77: =IF(B77="","",2) -> 2 | B77: 0.71527778 | C77: Alex Noren | D77: 41.59% | E77: 2.4 | F77: 2.45 | G77: 0.70% | H77: 70 | I77: 1.02
A78: =IF(B78="","",2) -> 2 | B78: 0.71527778 | C78: Alex Smalley | D78: 33.08% | E78: 3 | F78: 2.75 | H78: 73
A79: =IF(B79="","",2) -> 2 | B79: 0.71527778 | C79: Lanto Griffin | D79: 25.34% | E79: 3.9 | F79: 3.75 | H79: 71
A80: =IF(B80="","",2) -> 2 | B80: 0.71527778 | C80: Victor Perez | D80: 40.52% | E80: 2.5 | F80: 2.3 | H80: 70
A81: =IF(B81="","",2) -> 2 | B81: 0.71527778 | C81: Adam Hadwin | D81: 31.02% | E81: 3.2 | F81: 2.88 | H81: 70
A82: =IF(B82="","",2) -> 2 | B82: 0.71527778 | C82: David Skinns | D82: 28.46% | E82: 3.5 | F82: 3.8 | G82: 1.50% | H82: 64 | I82: 4.2
A83: =IF(B83="","",2) -> 2 | B83: 0.72291667 | C83: Patrick Fishburn | D83: 44.64% | E83: 2.2 | F83: 2.1 | H83: 71
A84: =IF(B84="","",2) -> 2 | B84: 0.72291667 | C84: Ben Silverman | D84: 34.34% | E84: 2.9 | F84: 3 | G84: 0.80% | H84: 64 | I84: 1.6
A85: =IF(B85="","",2) -> 2 | B85: 0.72291667 | C85: Aaron Baddeley | D85: 21.02% | E85: 4.8 | F85: 4.33 | H85: 73
A86: =IF(B86="","",2) -> 2 | B86: 0.72291667 | C86: Thorbjorn Olesen | D86: 45.36% | E86: 2.2 | F86: 2.2 | H86: 67
A87: =IF(B87="","",2) -> 2 | B87: 0.72291667 | C87: Carson Young | D87: 27.26% | E87: 3.7 | F87: 3.1 | H87: 78
A88: =IF(B88="","",2) -> 2 | B88: 0.72291667 | C88: Will Gordon | D88: 27.38% | E88: 3.7 | F88: 3.5 | H88: 69
A89: =IF(B89="","",2) -> 2 | B89: 0.73055556 | C89: Rico Hoey | D89: 40.44% | E89: 2.5 | F89: 2.45 | H89: 72
A90: =IF(B90="","",2) -> 2 | B90: 0.73055556 | C90: Trey Mullinax | D90: 29.11% | E90: 3.4 | F90: 3 | H90: 72
A91: =IF(B91="","",2) -> 2 | B91: 0.73055556 | C91: Chandler Phillips | D91: 30.46% | E91: 3.3 | F91: 3.25 | H91: 68
A92: =IF(B92="","",2) -> 2 | B92: 0.73055556 | C92: Andrew Putnam | D92: 50.79% | E92: 1.97 | F92: 2.3 | G92: 6.50% | H92: 66 | I92: 8.45
A93: =IF(B93="","",2) -> 2 | B93: 0.73055556 | C93: Danny Walker | D93: 28.65% | E93: 3.5 | F93: 2.9 | H93: 71
A94: =IF(B94="","",2) -> 2 | B94: 0.73055556 | C94: David Lipsky | D94: 20.57% | E94: 4.9 | F94: 3.75 | H94: 73
A95: =IF(B95="","",2) -> 2 | B95: 0.73819444 | C95: Nico Echavarria | D95: 47.28% | E95: 2.1 | F95: 2.05 | H95: 67
A96: =IF(B96="","",2) -> 2 | B96: 0.73819444 | C96: Patton Kizzire | D96: 26.01% | E96: 3.8 | F96: 3.3 | H96: 72
A97: =IF(B97="","",2) -> 2 | B97: 0.73819444 | C97: Peter Malnati | D97: 26.71% | E97: 3.7 | F97: 3.75 | G97: 0.00% | H97: 67 | I97: 0
A98: =IF(B98="","",2) -> 2 | B98: 0.73819444 | C98: Wyndham Clark | D98: 40.40% | E98: 2.5 | F98: 2.5 | G98: 0.30% | H98: 74 | I98: -0.3
A99: =IF(B99="","",2) -> 2 | B99: 0.73819444 | C99: Min Woo Lee | D99: 35.69% | E99: 2.8 | F99: 2.7 | H99: 73
A100: =IF(B100="","",2) -> 2 | B100: 0.73819444 | C100: Cam Davis | D100: 23.91% | E100: 4.2 | F100: 4.2 | G100: 0.10% | H100: 70 | I100: 0.32
...

Sheet Rd3
A1: Round | B1: Time | C1: Player | D1: Win % | E1: TT Odds | F1: Best Odds | G1: Kelly | H1: Score | I1: P/L
A2: =IF(B2="","",3) -> 3 | B2: 0.49652778 | C2: Michael Kim | D2: 51.07% | E2: 1.96 | F2: 2 | G2: 1.10% | H2: 67 | I2: 1.1
A3: =IF(B3="","",3) -> 3 | B3: 0.49652778 | C3: Antoine Rozner | D3: 36.02% | E3: 2.8 | F3: 2.3 | H3: 71
A4: =IF(B4="","",3) -> 3 | B4: 0.49652778 | C4: Tie | D4: 12.91% | E4: 7.7 | F4: 8.5 | G4: 0.60% | H4: - | I4: -0.6
A5: =IF(B5="","",3) -> 3 | B5: 0.50347222 | C5: Erik van Rooyen | D5: 51.49% | E5: 1.94 | F5: 1.8 | H5: 74
A6: =IF(B6="","",3) -> 3 | B6: 0.50347222 | C6: Zach Johnson | D6: 36.17% | E6: 2.8 | F6: 2.5 | H6: 71
A7: =IF(B7="","",3) -> 3 | B7: 0.50347222 | C7: Tie | D7: 12.34% | E7: 8.1 | F7: 8.5 | G7: 0.30% | H7: - | I7: -0.3
A8: =IF(B8="","",3) -> 3 | B8: 0.51041667 | C8: Akshay Bhatia | D8: 48.66% | E8: 2.1 | F8: 2 | H8: 70
A9: =IF(B9="","",3) -> 3 | B9: 0.51041667 | C9: Kurt Kitayama | D9: 38.35% | E9: 2.6 | F9: 2.3 | H9: 68
A10: =IF(B10="","",3) -> 3 | B10: 0.51041667 | C10: Tie | D10: 12.98% | E10: 7.7 | F10: 9 | G10: 1.10% | H10: - | I10: -1.1
A11: =IF(B11="","",3) -> 3 | B11: 0.51736111 | C11: Patrick Cantlay | D11: 65.83% | E11: 1.52 | F11: 1.56 | G11: 2.40% | H11: 67 | I11: 1.34
A12: =IF(B12="","",3) -> 3 | B12: 0.51736111 | C12: Luke List | D12: 23.41% | E12: 4.3 | F12: 3.4 | H12: 68
A13: =IF(B13="","",3) -> 3 | B13: 0.51736111 | C13: Tie | D13: 10.76% | E13: 9.3 | F13: 9 | H13: -
A14: =IF(B14="","",3) -> 3 | B14: 0.52430556 | C14: Keegan Bradley | D14: 61.74% | E14: 1.62 | F14: 1.67 | G14: 2.30% | H14: 71 | I14: -2.3
A15: =IF(B15="","",3) -> 3 | B15: 0.52430556 | C15: Chandler Phillips | D15: 26.61% | E15: 3.8 | F15: 3 | H15: 65
A16: =IF(B16="","",3) -> 3 | B16: 0.52430556 | C16: Tie | D16: 11.65% | E16: 8.6 | F16: 9 | G16: 0.30% | H16: - | I16: -0.3
A17: =IF(B17="","",3) -> 3 | B17: 0.53125 | C17: Lanto Griffin | D17: 45.67% | E17: 2.2 | F17: 2.1 | H17: 71
A18: =IF(B18="","",3) -> 3 | B18: 0.53125 | C18: Will Gordon | D18: 41.07% | E18: 2.4 | F18: 2.1 | H18: 69
A19: =IF(B19="","",3) -> 3 | B19: 0.53125 | C19: Tie | D19: 13.25% | E19: 7.5 | F19: 8.5 | G19: 0.80% | H19: - | I19: -0.8
A20: =IF(B20="","",3) -> 3 | B20: 0.53819444 | C20: Paul Peterson | D20: 49.63% | E20: 2 | F20: 2.2 | G20: 3.80% | H20: 69 | I20: 4.56
A21: =IF(B21="","",3) -> 3 | B21: 0.53819444 | C21: James Piot | D21: 37.32% | E21: 2.7 | F21: 2.3 | H21: 72
A22: =IF(B22="","",3) -> 3 | B22: 0.53819444 | C22: Tie | D22: 13.04% | E22: 7.7 | F22: 8.5 | G22: 0.70% | H22: - | I22: -0.7
A23: =IF(B23="","",3) -> 3 | B23: 0.54513889 | C23: Beau Hossler | D23: 48.02% | E23: 2.1 | F23: 2 | H23: 70
A24: =IF(B24="","",3) -> 3 | B24: 0.54513889 | C24: Ben Kohles | D24: 39.01% | E24: 2.6 | F24: 2.3 | H24: 72
A25: =IF(B25="","",3) -> 3 | B25: 0.54513889 | C25: Tie | D25: 12.96% | E25: 7.7 | F25: 8.5 | G25: 0.70% | H25: - | I25: -0.7
A26: =IF(B26="","",3) -> 3 | B26: 0.55208333 | C26: Chris Gotterup | D26: 43.01% | E26: 2.3 | F26: 1.91 | H26: 65
A27: =IF(B27="","",3) -> 3 | B27: 0.55208333 | C27: Austin Eckroat | D27: 44.73% | E27: 2.2 | F27: 2.3 | G27: 1.10% | H27: 73 | I27: -1.1
A28: =IF(B28="","",3) -> 3 | B28: 0.55208333 | C28: Tie | D28: 12.25% | E28: 8.2 | F28: 8.5 | G28: 0.30% | H28: - | I28: -0.3
A29: =IF(B29="","",3) -> 3 | B29: 0.5625 | C29: Davis Riley | D29: 55.89% | E29: 1.79 | F29: 1.67 | H29: 74
A30: =IF(B30="","",3) -> 3 | B30: 0.5625 | C30: Aaron Wise | D30: 31.36% | E30: 3.2 | F30: 2.9 | H30: 70
A31: =IF(B31="","",3) -> 3 | B31: 0.5625 | C31: Tie | D31: 12.75% | E31: 7.8 | F31: 8.5 | G31: 0.60% | H31: - | I31: -0.6
A32: =IF(B32="","",3) -> 3 | B32: 0.56944444 | C32: Isaiah Salinda | D32: 44.13% | E32: 2.3 | F32: 1.95 | H32: 71
A33: =IF(B33="","",3) -> 3 | B33: 0.56944444 | C33: Kris Ventura | D33: 43.73% | E33: 2.3 | F33: 2.25 | H33: 70
A34: =IF(B34="","",3) -> 3 | B34: 0.56944444 | C34: Tie | D34: 12.13% | E34: 8.2 | F34: 8.5 | G34: 0.20% | H34: - | I34: -0.2
A35: =IF(B35="","",3) -> 3 | B35: 0.57638889 | C35: Cameron Champ | D35: 56.22% | E35: 1.78 | F35: 1.73 | H35: 66
A36: =IF(B36="","",3) -> 3 | B36: 0.57638889 | C36: Matthew Riedel | D36: 32.45% | E36: 3.1 | F36: 2.15 | H36: 67
A37: =IF(B37="","",3) -> 3 | B37: 0.57638889 | C37: Tie | D37: 11.33% | E37: 8.8 | F37: 8.5 | H37: -
A38: =IF(B38="","",3) -> 3 | B38: 0.58333333 | C38: Byeong Hun An | D38: 55.46% | E38: 1.8 | F38: 1.91 | G38: 3.30% | H38: 75 | I38: -3.3
A39: =IF(B39="","",3) -> 3 | B39: 0.58333333 | C39: Webb Simpson | D39: 32.63% | E39: 3.1 | F39: 2.6 | H39: 71
A40: =IF(B40="","",3) -> 3 | B40: 0.58333333 | C40: Tie | D40: 11.91% | E40: 8.4 | F40: 8.5 | G40: 0.10% | H40: - | I40: -0.1
A41: =IF(B41="","",3) -> 3 | B41: 0.59027778 | C41: Joe Highsmith | D41: 49.98% | E41: 2 | F41: 2.2 | G41: 4.10% | H41: 69 | I41: 4.92
A42: =IF(B42="","",3) -> 3 | B42: 0.59027778 | C42: Ben Silverman | D42: 37.69% | E42: 2.7 | F42: 2.3 | H42: 72
A43: =IF(B43="","",3) -> 3 | B43: 0.59027778 | C43: Tie | D43: 12.32% | E43: 8.1 | F43: 8.5 | G43: 0.30% | H43: - | I43: -0.3
A44: =IF(B44="","",3) -> 3 | B44: 0.59722222 | C44: Adam Hadwin | D44: 57.10% | E44: 1.75 | F44: 1.85 | G44: 3.30% | H44: 71 | I44: 2.81
A45: =IF(B45="","",3) -> 3 | B45: 0.59722222 | C45: Cristobal Del Solar | D45: 31.03% | E45: 3.2 | F45: 2.63 | H45: 76
A46: =IF(B46="","",3) -> 3 | B46: 0.59722222 | C46: Tie | D46: 11.87% | E46: 8.4 | F46: 8.5 | G46: 0.10% | H46: - | I46: -0.1
A47: =IF(B47="","",3) -> 3 | B47: 0.60416667 | C47: Gordon Sargent | D47: 39.04% | E47: 2.6 | F47: 2.3 | H47: 73
A48: =IF(B48="","",3) -> 3 | B48: 0.60416667 | C48: Kaito Onishi | D48: 48.41% | E48: 2.1 | F48: 2.3 | G48: 4.40% | H48: 71 | I48: 5.72
A49: =IF(B49="","",3) -> 3 | B49: 0.60416667 | C49: Tie | D49: 12.54% | E49: 8 | F49: 8.5 | G49: 0.40% | H49: - | I49: -0.4
A50: =IF(B50="","",3) -> 3 | B50: 0.61111111 | C50: Cameron Young | D50: 50.41% | E50: 1.98 | F50: 1.73 | H50: 69
A51: =IF(B51="","",3) -> 3 | B51: 0.61111111 | C51: Henrik Norlander | D51: 37.38% | E51: 2.7 | F51: 2.8 | G51: 1.30% | H51: 72 | I51: -1.3
A52: =IF(B52="","",3) -> 3 | B52: 0.61111111 | C52: Tie | D52: 12.21% | E52: 8.2 | F52: 8.5 | G52: 0.30% | H52: - | I52: -0.3
A53: =IF(B53="","",3) -> 3 | B53: 0.61805556 | C53: Vince Whaley | D53: 49.17% | E53: 2 | F53: 1.91 | H53: 69
A54: =IF(B54="","",3) -> 3 | B54: 0.61805556 | C54: Justin Lower | D54: 37.74% | E54: 2.6 | F54: 2.4 | H54: 68
A55: =IF(B55="","",3) -> 3 | B55: 0.61805556 | C55: Tie | D55: 13.08% | E55: 7.6 | F55: 8.5 | G55: 0.70% | H55: - | I55: -0.7
A56: =IF(B56="","",3) -> 3 | B56: 0.62847222 | C56: Matt Wallace | D56: 54.19% | E56: 1.85 | F56: 1.83 | H56: 73
A57: =IF(B57="","",3) -> 3 | B57: 0.62847222 | C57: Sami Valimaki | D57: 33.95% | E57: 2.9 | F57: 2.6 | H57: 68
A58: =IF(B58="","",3) -> 3 | B58: 0.62847222 | C58: Tie | D58: 11.86% | E58: 8.4 | F58: 8.5 | G58: 0.10% | H58: - | I58: -0.1
A59: =IF(B59="","",3) -> 3 | B59: 0.63541667 | C59: Min Woo Lee | D59: 68.15% | E59: 1.47 | F59: 1.57 | G59: 6.10% | H59: 68 | I59: -6.1
A60: =IF(B60="","",3) -> 3 | B60: 0.63541667 | C60: Peter Malnati | D60: 21.20% | E60: 4.7 | F60: 3 | H60: 67
A61: =IF(B61="","",3) -> 3 | B61: 0.63541667 | C61: Tie | D61: 10.65% | E61: 9.4 | F61: 9 | H61: -
A62: =IF(B62="","",3) -> 3 | B62: 0.64236111 | C62: Thorbjorn Olesen | D62: 49.56% | E62: 2 | F62: 2 | H62: 69
A63: =IF(B63="","",3) -> 3 | B63: 0.64236111 | C63: Victor Perez | D63: 37.07% | E63: 2.7 | F63: 2.15 | H63: 73
A64: =IF(B64="","",3) -> 3 | B64: 0.64236111 | C64: Tie | D64: 13.36% | E64: 7.5 | F64: 8.5 | G64: 0.90% | H64: - | I64: -0.9
A65: =IF(B65="","",3) -> 3 | B65: 0.64930556 | C65: William Mouw | D65: 50.03% | E65: 2 | F65: 1.91 | H65: 68
A66: =IF(B66="","",3) -> 3 | B66: 0.64930556 | C66: Brett White | D66: 37.33% | E66: 2.7 | F66: 2.88 | G66: 2.00% | H66: 71 | I66: -2
A67: =IF(B67="","",3) -> 3 | B67: 0.64930556 | C67: Tie | D67: 12.64% | E67: 7.9 | F67: 8.5 | G67: 0.50% | H67: - | I67: -0.5
A68: =IF(B68="","",3) -> 3 | B68: 0.65625 | C68: Emiliano Grillo | D68: 52.00% | E68: 1.92 | F68: 1.8 | H68: 70
A69: =IF(B69="","",3) -> 3 | B69: 0.65625 | C69: Takumi Kanaya | D69: 35.61% | E69: 2.8 | F69: 2.5 | H69: 71
A70: =IF(B70="","",3) -> 3 | B70: 0.65625 | C70: Tie | D70: 12.39% | E70: 8.1 | F70: 8.5 | G70: 0.40% | H70: - | I70: -0.4
A71: =IF(B71="","",3) -> 3 | B71: 0.66319444 | C71: Si Woo Kim | D71: 67.62% | E71: 1.48 | F71: 1.53 | G71: 3.30% | H71: 75 | I71: -3.3
A72: =IF(B72="","",3) -> 3 | B72: 0.66319444 | C72: Camilo Villegas | D72: 22.18% | E72: 4.5 | F72: 3.25 | H72: 74
A73: =IF(B73="","",3) -> 3 | B73: 0.66319444 | C73: Tie | D73: 10.20% | E73: 9.8 | F73: 9 | H73: -
A74: =IF(B74="","",3) -> 3 | B74: 0.67013889 | C74: Davis Thompson | D74: 58.05% | E74: 1.72 | F74: 1.73 | G74: 0.30% | H74: 66 | I74: 0.22
A75: =IF(B75="","",3) -> 3 | B75: 0.67013889 | C75: Hayden Springer | D75: 30.23% | E75: 3.3 | F75: 2.88 | H75: 70
A76: =IF(B76="","",3) -> 3 | B76: 0.67013889 | C76: Tie | D76: 11.72% | E76: 8.5 | F76: 8.5 | H76: -
A77: =IF(B77="","",3) -> 3 | B77: 0.67708333 | C77: Harry Higgs | D77: 40.93% | E77: 2.4 | F77: 2.05 | H77: 72
A78: =IF(B78="","",3) -> 3 | B78: 0.67708333 | C78: Thomas Rosenmueller | D78: 46.29% | E78: 2.2 | F78: 2.05 | H78: 72
A79: =IF(B79="","",3) -> 3 | B79: 0.67708333 | C79: Tie | D79: 12.77% | E79: 7.8 | F79: 8.5 | G79: 0.60% | H79: - | I79: 4.5
A80: =IF(B80="","",3) -> 3 | B80: 0.68402778 | C80: Chan Kim | D80: 48.63% | E80: 2.1 | F80: 1.73 | H80: 68
A81: =IF(B81="","",3) -> 3 | B81: 0.68402778 | C81: Nick Hardy | D81: 39.20% | E81: 2.6 | F81: 2.2 | H81: 74
A82: =IF(B82="","",3) -> 3 | B82: 0.68402778 | C82: Tie | D82: 12.16% | E82: 8.2 | F82: 8.5 | G82: 0.20% | H82: - | I82: -0.2
A83: =IF(B83="","",3) -> 3 | B83: 0.69444444 | C83: Matt Fitzpatrick | D83: 45.09% | E83: 2.2 | F83: 2.15 | H83: 68
A84: =IF(B84="","",3) -> 3 | B84: 0.69444444 | C84: Ryan Gerard | D84: 42.07% | E84: 2.4 | F84: 2.15 | H84: 68
A85: =IF(B85="","",3) -> 3 | B85: 0.69444444 | C85: Tie | D85: 12.83% | E85: 7.8 | F85: 8.5 | G85: 0.60% | H85: - | I85: 4.5
A86: =IF(B86="","",3) -> 3 | B86: 0.70138889 | C86: Doug Ghim | D86: 57.78% | E86: 1.73 | F86: 1.83 | G86: 3.50% | H86: 68 | I86: 2.91
A87: =IF(B87="","",3) -> 3 | B87: 0.70138889 | C87: Kevin Velo | D87: 29.99% | E87: 3.3 | F87: 2.6 | H87: 72
A88: =IF(B88="","",3) -> 3 | B88: 0.70138889 | C88: Tie | D88: 12.23% | E88: 8.2 | F88: 8.5 | G88: 0.30% | H88: - | I88: -0.3
A89: =IF(B89="","",3) -> 3 | B89: 0.70833333 | C89: Nicolai Hojgaard | D89: 47.35% | E89: 2.1 | F89: 1.83 | H89: 67
A90: =IF(B90="","",3) -> 3 | B90: 0.70833333 | C90: Chad Ramey | D90: 40.02% | E90: 2.5 | F90: 2.45 | H90: 68
A91: =IF(B91="","",3) -> 3 | B91: 0.70833333 | C91: Tie | D91: 12.62% | E91: 7.9 | F91: 8.5 | G91: 0.50% | H91: - | I91: -0.5
A92: =IF(B92="","",3) -> 3 | B92: 0.71527778 | C92: Ryo Hisatsune | D92: 48.87% | E92: 2 | F92: 1.67 | H92: 74
A93: =IF(B93="","",3) -> 3 | B93: 0.71527778 | C93: Matt McCarty | D93: 38.80% | E93: 2.6 | F93: 2.2 | H93: 69
A94: =IF(B94="","",3) -> 3 | B94: 0.71527778 | C94: Tie | D94: 12.32% | E94: 8.1 | F94: 8.5 | G94: 0.30% | H94: - | I94: -0.3
A95: =IF(B95="","",3) -> 3 | B95: 0.72222222 | C95: Jacob Bridgeman | D95: 45.76% | E95: 2.2 | F95: 2.1 | H95: 70
A96: =IF(B96="","",3) -> 3 | B96: 0.72222222 | C96: Lee Hodges | D96: 41.47% | E96: 2.4 | F96: 2.1 | H96: 72
A97: =IF(B97="","",3) -> 3 | B97: 0.72222222 | C97: Tie | D97: 12.76% | E97: 7.8 | F97: 8.5 | G97: 0.60% | H97: - | I97: -0.6
A98: =IF(B98="","",3) -> 3 | B98: 0.72916667 | C98: Collin Morikawa | D98: 65.24% | E98: 1.53 | F98: 1.48 | H98: 68
A99: =IF(B99="","",3) -> 3 | B99: 0.72916667 | C99: Nico Echavarria | D99: 23.57% | E99: 4.2 | F99: 3.75 | H99: 69
A100: =IF(B100="","",3) -> 3 | B100: 0.72916667 | C100: Tie | D100: 11.19% | E100: 8.9 | F100: 9 | G100: 0.00% | H100: - | I100: 0
...

Sheet Rd4
A1: Round | B1: Time | C1: Player | D1: Win % | E1: TT Odds | F1: Best Odds | G1: Kelly | H1: Score | I1: P/L
A2: =IF(B2="","",4) -> 4 | B2: 0.48611111 | C2: Quade Cummins | D2: 56.44% | E2: 1.77 | F2: 1.7 | H2: 69
A3: =IF(B3="","",4) -> 4 | B3: 0.48611111 | C3: Cristobal Del Solar | D3: 31.04% | E3: 3.2 | F3: 2.6 | H3: 73
A4: =IF(B4="","",4) -> 4 | B4: 0.48611111 | C4: Tie | D4: 12.52% | E4: 8 | F4: 8.5 | G4: 0.40% | H4: - | I4: -0.4
A5: =IF(B5="","",4) -> 4 | B5: 0.49236111 | C5: Byeong Hun An | D5: 59.88% | E5: 1.67 | F5: 1.91 | G5: 7.90% | H5: 67 | I5: 7.19
A6: =IF(B6="","",4) -> 4 | B6: 0.49236111 | C6: Davis Riley | D6: 28.18% | E6: 3.5 | F6: 2.5 | H6: 68
A7: =IF(B7="","",4) -> 4 | B7: 0.49236111 | C7: Tie | D7: 11.94% | E7: 8.4 | F7: 8.5 | G7: 0.10% | H7: - | I7: -0.1
A8: =IF(B8="","",4) -> 4 | B8: 0.49861111 | C8: Erik van Rooyen | D8: 66.02% | E8: 1.51 | F8: 1.67 | G8: 7.70% | H8: 70 | I8: 5.16
A9: =IF(B9="","",4) -> 4 | B9: 0.49861111 | C9: Harrison Endycott | D9: 22.66% | E9: 4.4 | F9: 2.75 | H9: 72
A10: =IF(B10="","",4) -> 4 | B10: 0.49861111 | C10: Tie | D10: 11.32% | E10: 8.8 | F10: 9 | G10: 0.10% | H10: - | I10: -0.1
A11: =IF(B11="","",4) -> 4 | B11: 0.50486111 | C11: Si Woo Kim | D11: 49.49% | E11: 2 | F11: 1.87 | H11: 73
A12: =IF(B12="","",4) -> 4 | B12: 0.50486111 | C12: Austin Eckroat | D12: 37.58% | E12: 2.7 | F12: 2.5 | H12: 68
A13: =IF(B13="","",4) -> 4 | B13: 0.50486111 | C13: Tie | D13: 12.92% | E13: 7.7 | F13: 8.5 | G13: 0.70% | H13: - | I13: -0.7
A14: =IF(B14="","",4) -> 4 | B14: 0.51111111 | C14: Luke Clanton | D14: 56.00% | E14: 1.79 | F14: 1.67 | H14: 69
A15: =IF(B15="","",4) -> 4 | B15: 0.51111111 | C15: David Skinns | D15: 31.34% | E15: 3.2 | F15: 2.75 | H15: 70
A16: =IF(B16="","",4) -> 4 | B16: 0.51111111 | C16: Tie | D16: 12.66% | E16: 7.9 | F16: 9 | G16: 0.90% | H16: - | I16: -0.9
A17: =IF(B17="","",4) -> 4 | B17: 0.51736111 | C17: Gordon Sargent | D17: 42.15% | E17: 2.4 | F17: 2.05 | H17: 70
A18: =IF(B18="","",4) -> 4 | B18: 0.51736111 | C18: Camilo Villegas | D18: 44.06% | E18: 2.3 | F18: 2.15 | H18: 70
A19: =IF(B19="","",4) -> 4 | B19: 0.51736111 | C19: Tie | D19: 13.78% | E19: 7.3 | F19: 9 | G19: 1.50% | H19: - | I19: 12
A20: =IF(B20="","",4) -> 4 | B20: 0.52361111 | C20: Ben Kohles | D20: 60.27% | E20: 1.66 | F20: 1.85 | G20: 6.80% | H20: 72 | I20: -6.8
A21: =IF(B21="","",4) -> 4 | B21: 0.52361111 | C21: James Piot | D21: 27.99% | E21: 3.6 | F21: 2.6 | H21: 71
A22: =IF(B22="","",4) -> 4 | B22: 0.52361111 | C22: Tie | D22: 11.74% | E22: 8.5 | F22: 9 | G22: 0.40% | H22: - | I22: -0.4
A23: =IF(B23="","",4) -> 4 | B23: 0.52986111 | C23: Victor Perez | D23: 47.85% | E23: 2.1 | F23: 1.8 | H23: 69
A24: =IF(B24="","",4) -> 4 | B24: 0.52986111 | C24: Nick Hardy | D24: 39.14% | E24: 2.6 | F24: 2.5 | H24: 69
A25: =IF(B25="","",4) -> 4 | B25: 0.52986111 | C25: Tie | D25: 13.00% | E25: 7.7 | F25: 8.5 | G25: 0.70% | H25: - | I25: 5.25
A26: =IF(B26="","",4) -> 4 | B26: 0.53958333 | C26: Matt Wallace | D26: 50.92% | E26: 1.96 | F26: 1.91 | H26: 68
A27: =IF(B27="","",4) -> 4 | B27: 0.53958333 | C27: Henrik Norlander | D27: 36.34% | E27: 2.8 | F27: 2.3 | H27: 69
A28: =IF(B28="","",4) -> 4 | B28: 0.53958333 | C28: Tie | D28: 12.74% | E28: 7.8 | F28: 8.5 | G28: 0.60% | H28: - | I28: -0.6
A29: =IF(B29="","",4) -> 4 | B29: 0.54583333 | C29: Isaiah Salinda | D29: 40.57% | E29: 2.5 | F29: 1.91 | H29: 70
A30: =IF(B30="","",4) -> 4 | B30: 0.54583333 | C30: Ben Silverman | D30: 45.93% | E30: 2.2 | F30: 2.3 | G30: 2.20% | H30: 71 | I30: -2.2
A31: =IF(B31="","",4) -> 4 | B31: 0.54583333 | C31: Tie | D31: 13.49% | E31: 7.4 | F31: 8.5 | G31: 1.00% | H31: - | I31: -1
A32: =IF(B32="","",4) -> 4 | B32: 0.55208333 | C32: Keegan Bradley | D32: 64.06% | E32: 1.56 | F32: 1.57 | G32: 0.50% | H32: 67 | I32: 0.29
A33: =IF(B33="","",4) -> 4 | B33: 0.55208333 | C33: Lanto Griffin | D33: 24.43% | E33: 4.1 | F33: 3.1 | H33: 69
A34: =IF(B34="","",4) -> 4 | B34: 0.55208333 | C34: Tie | D34: 11.51% | E34: 8.7 | F34: 8.5 | H34: -
A35: =IF(B35="","",4) -> 4 | B35: 0.55902778 | C35: Antoine Rozner | D35: 47.25% | E35: 2.1 | F35: 1.91 | H35: 72
A36: =IF(B36="","",4) -> 4 | B36: 0.55902778 | C36: Zach Johnson | D36: 40.29% | E36: 2.5 | F36: 2.15 | H36: 74
A37: =IF(B37="","",4) -> 4 | B37: 0.55902778 | C37: Tie | D37: 12.45% | E37: 8 | F37: 8.5 | G37: 0.40% | H37: - | I37: -0.4
A38: =IF(B38="","",4) -> 4 | B38: 0.56597222 | C38: Ryo Hisatsune | D38: 62.87% | E38: 1.59 | F38: 1.67 | G38: 3.70% | H38: 71 | I38: 2.48
A39: =IF(B39="","",4) -> 4 | B39: 0.56597222 | C39: Mason Andersen | D39: 25.71% | E39: 3.9 | F39: 2.8 | H39: 76
A40: =IF(B40="","",4) -> 4 | B40: 0.56597222 | C40: Tie | D40: 11.42% | E40: 8.8 | F40: 8.5 | H40: -
A41: =IF(B41="","",4) -> 4 | B41: 0.57291667 | C41: Adam Hadwin | D41: 56.23% | E41: 1.78 | F41: 1.85 | G41: 2.40% | H41: 74 | I41: -2.4
A42: =IF(B42="","",4) -> 4 | B42: 0.57291667 | C42: Kaito Onishi | D42: 30.61% | E42: 3.3 | F42: 2.38 | H42: 73
A43: =IF(B43="","",4) -> 4 | B43: 0.57291667 | C43: Tie | D43: 13.16% | E43: 7.6 | F43: 8.5 | G43: 0.80% | H43: - | I43: -0.8
A44: =IF(B44="","",4) -> 4 | B44: 0.57986111 | C44: Webb Simpson | D44: 62.13% | E44: 1.61 | F44: 1.77 | G44: 6.50% | H44: 70 | I44: -6.5
A45: =IF(B45="","",4) -> 4 | B45: 0.57986111 | C45: Aaron Wise | D45: 26.02% | E45: 3.8 | F45: 2.5 | H45: 70
A46: =IF(B46="","",4) -> 4 | B46: 0.57986111 | C46: Tie | D46: 11.85% | E46: 8.4 | F46: 8.5 | G46: 0.00% | H46: - | I46: 0
A47: =IF(B47="","",4) -> 4 | B47: 0.58680556 | C47: Akshay Bhatia | D47: 52.24% | E47: 1.91 | F47: 1.85 | H47: 65
A48: =IF(B48="","",4) -> 4 | B48: 0.58680556 | C48: Beau Hossler | D48: 35.16% | E48: 2.8 | F48: 2.5 | H48: 71
A49: =IF(B49="","",4) -> 4 | B49: 0.58680556 | C49: Tie | D49: 12.60% | E49: 7.9 | F49: 8.5 | G49: 0.50% | H49: - | I49: -0.5
A50: =IF(B50="","",4) -> 4 | B50: 0.59722222 | C50: Thomas Rosenmueller | D50: 45.99% | E50: 2.2 | F50: 2.05 | H50: 71
A51: =IF(B51="","",4) -> 4 | B51: 0.59722222 | C51: Harry Higgs | D51: 40.85% | E51: 2.4 | F51: 2.2 | H51: 65
A52: =IF(B52="","",4) -> 4 | B52: 0.59722222 | C52: Tie | D52: 13.15% | E52: 7.6 | F52: 8.5 | G52: 0.80% | H52: - | I52: -0.8
A53: =IF(B53="","",4) -> 4 | B53: 0.60416667 | C53: Takumi Kanaya | D53: 51.98% | E53: 1.92 | F53: 1.8 | H53: 70
A54: =IF(B54="","",4) -> 4 | B54: 0.60416667 | C54: Brett White | D54: 35.25% | E54: 2.8 | F54: 2.5 | H54: 73
A55: =IF(B55="","",4) -> 4 | B55: 0.60416667 | C55: Tie | D55: 12.77% | E55: 7.8 | F55: 8.5 | G55: 0.60% | H55: - | I55: -0.6
A56: =IF(B56="","",4) -> 4 | B56: 0.61111111 | C56: Kris Ventura | D56: 54.88% | E56: 1.82 | F56: 1.91 | G56: 2.60% | H56: 68 | I56: 2.37
A57: =IF(B57="","",4) -> 4 | B57: 0.61111111 | C57: Paul Peterson | D57: 32.66% | E57: 3.1 | F57: 2.4 | H57: 72
A58: =IF(B58="","",4) -> 4 | B58: 0.61111111 | C58: Tie | D58: 12.46% | E58: 8 | F58: 8.5 | G58: 0.40% | H58: - | I58: -0.4
A59: =IF(B59="","",4) -> 4 | B59: 0.61805556 | C59: Gary Woodland | D59: 53.56% | E59: 1.87 | F59: 1.91 | G59: 1.30% | H59: 71 | I59: -1.3
A60: =IF(B60="","",4) -> 4 | B60: 0.61805556 | C60: Will Gordon | D60: 33.88% | E60: 3 | F60: 2.25 | H60: 71
A61: =IF(B61="","",4) -> 4 | B61: 0.61805556 | C61: Tie | D61: 12.56% | E61: 8 | F61: 8.5 | G61: 0.50% | H61: - | I61: 3.75
A62: =IF(B62="","",4) -> 4 | B62: 0.625 | C62: Emiliano Grillo | D62: 60.58% | E62: 1.65 | F62: 1.6 | H62: 75
A63: =IF(B63="","",4) -> 4 | B63: 0.625 | C63: Kevin Velo | D63: 27.25% | E63: 3.7 | F63: 2.88 | H63: 75
A64: =IF(B64="","",4) -> 4 | B64: 0.625 | C64: Tie | D64: 12.17% | E64: 8.2 | F64: 8.5 | G64: 0.20% | H64: - | I64: 1.5
A65: =IF(B65="","",4) -> 4 | B65: 0.63194444 | C65: Cameron Young | D65: 53.34% | E65: 1.87 | F65: 1.85 | H65: 71
A66: =IF(B66="","",4) -> 4 | B66: 0.63194444 | C66: Vince Whaley | D66: 34.13% | E66: 2.9 | F66: 2.38 | H66: 68
A67: =IF(B67="","",4) -> 4 | B67: 0.63194444 | C67: Tie | D67: 12.53% | E67: 8 | F67: 8.5 | G67: 0.40% | H67: - | I67: -0.4
A68: =IF(B68="","",4) -> 4 | B68: 0.63888889 | C68: Joe Highsmith | D68: 44.41% | E68: 2.3 | F68: 1.95 | H68: 69
A69: =IF(B69="","",4) -> 4 | B69: 0.63888889 | C69: Luke List | D69: 41.88% | E69: 2.4 | F69: 2.25 | H69: 70
A70: =IF(B70="","",4) -> 4 | B70: 0.63888889 | C70: Tie | D70: 13.70% | E70: 7.3 | F70: 8.5 | G70: 1.10% | H70: - | I70: -1.1
A71: =IF(B71="","",4) -> 4 | B71: 0.64930556 | C71: Kurt Kitayama | D71: 64.68% | E71: 1.55 | F71: 1.5 | H71: 72
A72: =IF(B72="","",4) -> 4 | B72: 0.64930556 | C72: Philip Knowles | D72: 24.09% | E72: 4.2 | F72: 3.25 | H72: 70
A73: =IF(B73="","",4) -> 4 | B73: 0.64930556 | C73: Tie | D73: 11.23% | E73: 8.9 | F73: 9 | G73: 0.10% | H73: - | I73: -0.1
A74: =IF(B74="","",4) -> 4 | B74: 0.65625 | C74: Lee Hodges | D74: 49.56% | E74: 2 | F74: 1.95 | H74: 70
A75: =IF(B75="","",4) -> 4 | B75: 0.65625 | C75: Hayden Springer | D75: 37.23% | E75: 2.7 | F75: 2.4 | H75: 70
A76: =IF(B76="","",4) -> 4 | B76: 0.65625 | C76: Tie | D76: 13.20% | E76: 7.6 | F76: 8.5 | G76: 0.80% | H76: - | I76: 6
A77: =IF(B77="","",4) -> 4 | B77: 0.66319444 | C77: Thorbjorn Olesen | D77: 49.95% | E77: 2 | F77: 1.8 | H77: 71
A78: =IF(B78="","",4) -> 4 | B78: 0.66319444 | C78: Justin Lower | D78: 36.98% | E78: 2.7 | F78: 2.63 | H78: 72
A79: =IF(B79="","",4) -> 4 | B79: 0.66319444 | C79: Tie | D79: 13.06% | E79: 7.7 | F79: 8.5 | G79: 0.70% | H79: - | I79: -0.7
A80: =IF(B80="","",4) -> 4 | B80: 0.67013889 | C80: Patrick Cantlay | D80: 60.14% | E80: 1.66 | F80: 1.73 | G80: 2.80% | H80: 69 | I80: -2.8
A81: =IF(B81="","",4) -> 4 | B81: 0.67013889 | C81: Michael Kim | D81: 28.03% | E81: 3.6 | F81: 2.62 | H81: 68
A82: =IF(B82="","",4) -> 4 | B82: 0.67013889 | C82: Tie | D82: 11.83% | E82: 8.5 | F82: 8.5 | G82: 0.00% | H82: - | I82: 0
A83: =IF(B83="","",4) -> 4 | B83: 0.67708333 | C83: Min Woo Lee | D83: 58.54% | E83: 1.71 | F83: 1.67 | H83: 66
A84: =IF(B84="","",4) -> 4 | B84: 0.67708333 | C84: William Mouw | D84: 29.05% | E84: 3.4 | F84: 2.7 | H84: 71
A85: =IF(B85="","",4) -> 4 | B85: 0.67708333 | C85: Tie | D85: 12.41% | E85: 8.1 | F85: 8.5 | G85: 0.40% | H85: - | I85: -0.4
A86: =IF(B86="","",4) -> 4 | B86: 0.68402778 | C86: Sami Valimaki | D86: 53.93% | E86: 1.85 | F86: 1.75 | H86: 67
A87: =IF(B87="","",4) -> 4 | B87: 0.68402778 | C87: Matthew Riedel | D87: 32.86% | E87: 3 | F87: 2.63 | H87: 69
A88: =IF(B88="","",4) -> 4 | B88: 0.68402778 | C88: Tie | D88: 13.21% | E88: 7.6 | F88: 8.5 | G88: 0.80% | H88: - | I88: -0.8
A89: =IF(B89="","",4) -> 4 | B89: 0.69097222 | C89: Hideki Matsuyama | D89: 55.37% | E89: 1.81 | F89: 1.85 | G89: 1.40% | H89: 67 | I89: 1.19
A90: =IF(B90="","",4) -> 4 | B90: 0.69097222 | C90: Jacob Bridgeman | D90: 32.55% | E90: 3.1 | F90: 2.4 | H90: 70
A91: =IF(B91="","",4) -> 4 | B91: 0.69097222 | C91: Tie | D91: 12.08% | E91: 8.3 | F91: 8.5 | G91: 0.20% | H91: - | I91: -0.2
A92: =IF(B92="","",4) -> 4 | B92: 0.70138889 | C92: Ryan Gerard | D92: 50.78% | E92: 1.97 | F92: 1.67 | H92: 73
A93: =IF(B93="","",4) -> 4 | B93: 0.70138889 | C93: Matt McCarty | D93: 36.07% | E93: 2.8 | F93: 2.38 | H93: 68
A94: =IF(B94="","",4) -> 4 | B94: 0.70138889 | C94: Tie | D94: 13.15% | E94: 7.6 | F94: 8.5 | G94: 0.80% | H94: - | I94: -0.8
A95: =IF(B95="","",4) -> 4 | B95: 0.70833333 | C95: Chan Kim | D95: 55.71% | E95: 1.8 | F95: 1.83 | G95: 1.20% | H95: 68 | I95: 1
A96: =IF(B96="","",4) -> 4 | B96: 0.70833333 | C96: Peter Malnati | D96: 31.41% | E96: 3.2 | F96: 2.63 | H96: 73
A97: =IF(B97="","",4) -> 4 | B97: 0.70833333 | C97: Tie | D97: 12.88% | E97: 7.8 | F97: 8.5 | G97: 0.60% | H97: - | I97: -0.6
A98: =IF(B98="","",4) -> 4 | B98: 0.71527778 | C98: Chris Gotterup | D98: 53.33% | E98: 1.88 | F98: 1.48 | H98: 70
A99: =IF(B99="","",4) -> 4 | B99: 0.71527778 | C99: Cameron Champ | D99: 34.25% | E99: 2.9 | F99: 2.38 | H99: 68
A100: =IF(B100="","",4) -> 4 | B100: 0.71527778 | C100: Tie | D100: 12.42% | E100: 8.1 | F100: 8.5 | G100: 0.40% | H100: - | I100: -0.4
...

Sheet Picks
A1: Player | B1: TTWin | C1: TTOdds | D1: BestOdds | E1: Kelly | F1: Rank | G1: Result | H1: P/L | I1: Full P/L | J1: E/W Play | L1: FRL: | M1: Player | N1: TTWin | O1: TTOdds | P1: BestOdds | Q1: Kelly | R1: Rank | S1: Result | T1: P/L | U1: Full P/L | V1: E/W Play
A2: =IF('Rd1'!C2="","",'Rd1'!C2) -> Alex Smalley | B2: =IF('Rd1'!D2="","",VALUE('Rd1'!D2)) -> 0.3604 | C2: =IF('Rd1'!E2="","",'Rd1'!E2) -> 2.8 | D2: =IF('Rd1'!F2="","",'Rd1'!F2) -> 2.45 | E2: =IF(D2="","",IF(ROUND((B2*(D2-1)-(1-B2))/(D2-1),3)<=0,"",ROUND((B2*(D2-1)-(1-B2))/(D2-1),3))) | F2: {=IF(E2="","",RANK(E2, $E$2:$E$241) + COUNTIFS($E$2:$E$241, E2, $D$2:$D$241, "<"&D2) + COUNTIFS($E$2:$E$241, E2, $D$2:$D$241, D2, $A$2:$A$241, "<"&A2))} | G2: =IF('Rd1'!H2="","",'Rd1'!H2) -> 72 | H2: =IF(OR(F2="",G2="",F2>3),"",IF(G2=1,(IF(COUNTIFS(G:G,"<="&G2)<=1,1,(1-COUNTIFS(G:G,"<"&G2))/COUNTIFS(G:G,G2)))*(1+VALUE(MID(J2,FIND(": ",J2)+2,FIND("/",J2)-FIND(":",J2)-2))-1)+(1+VALUE(MID(J2,FIND(": ",J2)+2,FIND("/",J2)-FIND(":",J2)-2))-1)/VALUE(RIGHT(J2,1)),IF(G2<=VALUE(MID(J2,FIND(", ",J2)+2,IF(MID(J2,FIND(", ",J2)+2,1)="1",2,1))),(IF(COUNTIFS(G:G,"<="&G2)<=VALUE(MID(J2,FIND(", ",J2)+2,IF(MID(J2,FIND(", ",J2)+2,1)="1",2,1))),1,(VALUE(MID(J2,FIND(", ",J2)+2,IF(MID(J2,FIND(", ",J2)+2,1)="1",2,1)))-COUNTIFS(G:G,"<"&G2))/COUNTIFS(G:G,G2)))*(1*(1+VALUE(MID(J2,FIND(": ",J2)+2,FIND("/",J2)-FIND(":",J2)-2))-1)/VALUE(RIGHT(J2,1))+1)-2,-2))) | I2: =IF(OR(E2="",G2=""),"",IF(G2=1,(IF(COUNTIFS(G:G,"<="&G2)<=1,1,(1-COUNTIFS(G:G,"<"&G2))/COUNTIFS(G:G,G2)))*(1+VALUE(MID(J2,FIND(": ",J2)+2,FIND("/",J2)-FIND(":",J2)-2))-1)+(1+VALUE(MID(J2,FIND(": ",J2)+2,FIND("/",J2)-FIND(":",J2)-2))-1)/VALUE(RIGHT(J2,1)),IF(G2<=VALUE(MID(J2,FIND(", ",J2)+2,IF(MID(J2,FIND(", ",J2)+2,1)="1",2,1))),(IF(COUNTIFS(G:G,"<="&G2)<=VALUE(MID(J2,FIND(", ",J2)+2,IF(MID(J2,FIND(", ",J2)+2,1)="1",2,1))),1,(VALUE(MID(J2,FIND(", ",J2)+2,IF(MID(J2,FIND(", ",J2)+2,1)="1",2,1)))-COUNTIFS(G:G,"<"&G2))/COUNTIFS(G:G,G2)))*(1*(1+VALUE(MID(J2,FIND(": ",J2)+2,FIND("/",J2)-FIND(":",J2)-2))-1)/VALUE(RIGHT(J2,1))+1)-2,-2))) | J2: =IF(F2="","",'Rd1'!J2) | M2: =IF(#REF!="","",#REF!) -> #REF! | N2: =IF(#REF!="","",#REF!) -> #REF! | O2: =IF(#REF!="","",#REF!) -> #REF! | P2: =IF(#REF!="","",#REF!) -> #REF! | Q2: =IF(P2="","",IF(ROUND((N2*(P2-1)-(1-N2))/(P2-1),3)<=0,"",ROUND((N2*(P2-1)-(1-N2))/(P2-1),3))) -> #REF! | R2: {=IF(Q2="","",RANK(Q2, $Q$2:$Q$241) + COUNTIFS($Q$2:$Q$241, Q2, $P$2:$P$241, "<"&P2) + COUNTIFS($Q$2:$Q$241, Q2, $P$2:$P$241, P2, $M$2:$M$241, "<"&M2))} -> #REF! | S2: =IF(#REF!="","",#REF!) -> #REF! | T2: =IF(OR(R2="",S2="",R2>3),"",IF(S2=1,(IF(COUNTIFS(S:S,"<="&S2)<=1,1,(1-COUNTIFS(S:S,"<"&S2))/COUNTIFS(S:S,S2)))*(1+VALUE(MID(V2,FIND(": ",V2)+2,FIND("/",V2)-FIND(":",V2)-2))-1)+(1+VALUE(MID(V2,FIND(": ",V2)+2,FIND("/",V2)-FIND(":",V2)-2))-1)/VALUE(RIGHT(V2,1)),IF(S2<=VALUE(MID(V2,FIND(", ",V2)+2,IF(MID(V2,FIND(", ",V2)+2,1)="1",2,1))),(IF(COUNTIFS(S:S,"<="&S2)<=VALUE(MID(V2,FIND(", ",V2)+2,IF(MID(V2,FIND(", ",V2)+2,1)="1",2,1))),1,(VALUE(MID(V2,FIND(", ",V2)+2,IF(MID(V2,FIND(", ",V2)+2,1)="1",2,1)))-COUNTIFS(S:S,"<"&S2))/COUNTIFS(S:S,S2)))*(1*(1+VALUE(MID(V2,FIND(": ",V2)+2,FIND("/",V2)-FIND(":",V2)-2))-1)/VALUE(RIGHT(V2,1))+1)-2,-2))) -> #REF! | U2: =IF(OR(Q2="",S2=""),"",IF(S2=1,(IF(COUNTIFS(S:S,"<="&S2)<=1,1,(1-COUNTIFS(S:S,"<"&S2))/COUNTIFS(S:S,S2)))*(1+VALUE(MID(V2,FIND(": ",V2)+2,FIND("/",V2)-FIND(":",V2)-2))-1)+(1+VALUE(MID(V2,FIND(": ",V2)+2,FIND("/",V2)-FIND(":",V2)-2))-1)/VALUE(RIGHT(V2,1)),IF(S2<=VALUE(MID(V2,FIND(", ",V2)+2,IF(MID(V2,FIND(", ",V2)+2,1)="1",2,1))),(IF(COUNTIFS(S:S,"<="&S2)<=VALUE(MID(V2,FIND(", ",V2)+2,IF(MID(V2,FIND(", ",V2)+2,1)="1",2,1))),1,(VALUE(MID(V2,FIND(", ",V2)+2,IF(MID(V2,FIND(", ",V2)+2,1)="1",2,1)))-COUNTIFS(S:S,"<"&S2))/COUNTIFS(S:S,S2)))*(1*(1+VALUE(MID(V2,FIND(": ",V2)+2,FIND("/",V2)-FIND(":",V2)-2))-1)/VALUE(RIGHT(V2,1))+1)-2,-2))) -> #REF! | V2: =IF(R2="","",#REF!) -> #REF!
A3: =IF('Rd1'!C3="","",'Rd1'!C3) -> Alex Noren | B3: =IF('Rd1'!D3="","",VALUE('Rd1'!D3)) -> 0.4136 | C3: =IF('Rd1'!E3="","",'Rd1'!E3) -> 2.4 | D3: =IF('Rd1'!F3="","",'Rd1'!F3) -> 2.5 | E3: =IF(D3="","",IF(ROUND((B3*(D3-1)-(1-B3))/(D3-1),3)<=0,"",ROUND((B3*(D3-1)-(1-B3))/(D3-1),3))) -> 0.023 | F3: {=IF(E3="","",RANK(E3, $E$2:$E$241) + COUNTIFS($E$2:$E$241, E3, $D$2:$D$241, "<"&D3) + COUNTIFS($E$2:$E$241, E3, $D$2:$D$241, D3, $A$2:$A$241, "<"&A3))} -> 20 | G3: =IF('Rd1'!H3="","",'Rd1'!H3) -> 71 | H3: =IF(OR(F3="",G3="",F3>3),"",IF(G3=1,(IF(COUNTIFS(G:G,"<="&G3)<=1,1,(1-COUNTIFS(G:G,"<"&G3))/COUNTIFS(G:G,G3)))*(1+VALUE(MID(J3,FIND(": ",J3)+2,FIND("/",J3)-FIND(":",J3)-2))-1)+(1+VALUE(MID(J3,FIND(": ",J3)+2,FIND("/",J3)-FIND(":",J3)-2))-1)/VALUE(RIGHT(J3,1)),IF(G3<=VALUE(MID(J3,FIND(", ",J3)+2,IF(MID(J3,FIND(", ",J3)+2,1)="1",2,1))),(IF(COUNTIFS(G:G,"<="&G3)<=VALUE(MID(J3,FIND(", ",J3)+2,IF(MID(J3,FIND(", ",J3)+2,1)="1",2,1))),1,(VALUE(MID(J3,FIND(", ",J3)+2,IF(MID(J3,FIND(", ",J3)+2,1)="1",2,1)))-COUNTIFS(G:G,"<"&G3))/COUNTIFS(G:G,G3)))*(1*(1+VALUE(MID(J3,FIND(": ",J3)+2,FIND("/",J3)-FIND(":",J3)-2))-1)/VALUE(RIGHT(J3,1))+1)-2,-2))) | I3: =IF(OR(E3="",G3=""),"",IF(G3=1,(IF(COUNTIFS(G:G,"<="&G3)<=1,1,(1-COUNTIFS(G:G,"<"&G3))/COUNTIFS(G:G,G3)))*(1+VALUE(MID(J3,FIND(": ",J3)+2,FIND("/",J3)-FIND(":",J3)-2))-1)+(1+VALUE(MID(J3,FIND(": ",J3)+2,FIND("/",J3)-FIND(":",J3)-2))-1)/VALUE(RIGHT(J3,1)),IF(G3<=VALUE(MID(J3,FIND(", ",J3)+2,IF(MID(J3,FIND(", ",J3)+2,1)="1",2,1))),(IF(COUNTIFS(G:G,"<="&G3)<=VALUE(MID(J3,FIND(", ",J3)+2,IF(MID(J3,FIND(", ",J3)+2,1)="1",2,1))),1,(VALUE(MID(J3,FIND(", ",J3)+2,IF(MID(J3,FIND(", ",J3)+2,1)="1",2,1)))-COUNTIFS(G:G,"<"&G3))/COUNTIFS(G:G,G3)))*(1*(1+VALUE(MID(J3,FIND(": ",J3)+2,FIND("/",J3)-FIND(":",J3)-2))-1)/VALUE(RIGHT(J3,1))+1)-2,-2))) -> #VALUE! | J3: =IF(F3="","",'Rd1'!J3) -> 0 | M3: =IF(#REF!="","",#REF!) -> #REF! | N3: =IF(#REF!="","",#REF!) -> #REF! | O3: =IF(#REF!="","",#REF!) -> #REF! | P3: =IF(#REF!="","",#REF!) -> #REF! | Q3: =IF(P3="","",IF(ROUND((N3*(P3-1)-(1-N3))/(P3-1),3)<=0,"",ROUND((N3*(P3-1)-(1-N3))/(P3-1),3))) -> #REF! | R3: {=IF(Q3="","",RANK(Q3, $Q$2:$Q$241) + COUNTIFS($Q$2:$Q$241, Q3, $P$2:$P$241, "<"&P3) + COUNTIFS($Q$2:$Q$241, Q3, $P$2:$P$241, P3, $M$2:$M$241, "<"&M3))} -> #REF! | S3: =IF(#REF!="","",#REF!) -> #REF! | T3: =IF(OR(R3="",S3="",R3>3),"",IF(S3=1,(IF(COUNTIFS(S:S,"<="&S3)<=1,1,(1-COUNTIFS(S:S,"<"&S3))/COUNTIFS(S:S,S3)))*(1+VALUE(MID(V3,FIND(": ",V3)+2,FIND("/",V3)-FIND(":",V3)-2))-1)+(1+VALUE(MID(V3,FIND(": ",V3)+2,FIND("/",V3)-FIND(":",V3)-2))-1)/VALUE(RIGHT(V3,1)),IF(S3<=VALUE(MID(V3,FIND(", ",V3)+2,IF(MID(V3,FIND(", ",V3)+2,1)="1",2,1))),(IF(COUNTIFS(S:S,"<="&S3)<=VALUE(MID(V3,FIND(", ",V3)+2,IF(MID(V3,FIND(", ",V3)+2,1)="1",2,1))),1,(VALUE(MID(V3,FIND(", ",V3)+2,IF(MID(V3,FIND(", ",V3)+2,1)="1",2,1)))-COUNTIFS(S:S,"<"&S3))/COUNTIFS(S:S,S3)))*(1*(1+VALUE(MID(V3,FIND(": ",V3)+2,FIND("/",V3)-FIND(":",V3)-2))-1)/VALUE(RIGHT(V3,1))+1)-2,-2))) -> #REF! | U3: =IF(OR(Q3="",S3=""),"",IF(S3=1,(IF(COUNTIFS(S:S,"<="&S3)<=1,1,(1-COUNTIFS(S:S,"<"&S3))/COUNTIFS(S:S,S3)))*(1+VALUE(MID(V3,FIND(": ",V3)+2,FIND("/",V3)-FIND(":",V3)-2))-1)+(1+VALUE(MID(V3,FIND(": ",V3)+2,FIND("/",V3)-FIND(":",V3)-2))-1)/VALUE(RIGHT(V3,1)),IF(S3<=VALUE(MID(V3,FIND(", ",V3)+2,IF(MID(V3,FIND(", ",V3)+2,1)="1",2,1))),(IF(COUNTIFS(S:S,"<="&S3)<=VALUE(MID(V3,FIND(", ",V3)+2,IF(MID(V3,FIND(", ",V3)+2,1)="1",2,1))),1,(VALUE(MID(V3,FIND(", ",V3)+2,IF(MID(V3,FIND(", ",V3)+2,1)="1",2,1)))-COUNTIFS(S:S,"<"&S3))/COUNTIFS(S:S,S3)))*(1*(1+VALUE(MID(V3,FIND(": ",V3)+2,FIND("/",V3)-FIND(":",V3)-2))-1)/VALUE(RIGHT(V3,1))+1)-2,-2))) -> #REF! | V3: =IF(R3="","",#REF!) -> #REF!
A4: =IF('Rd1'!C4="","",'Rd1'!C4) -> Lanto Griffin | B4: =IF('Rd1'!D4="","",VALUE('Rd1'!D4)) -> 0.226 | C4: =IF('Rd1'!E4="","",'Rd1'!E4) -> 4.4 | D4: =IF('Rd1'!F4="","",'Rd1'!F4) -> 4 | E4: =IF(D4="","",IF(ROUND((B4*(D4-1)-(1-B4))/(D4-1),3)<=0,"",ROUND((B4*(D4-1)-(1-B4))/(D4-1),3))) | F4: {=IF(E4="","",RANK(E4, $E$2:$E$241) + COUNTIFS($E$2:$E$241, E4, $D$2:$D$241, "<"&D4) + COUNTIFS($E$2:$E$241, E4, $D$2:$D$241, D4, $A$2:$A$241, "<"&A4))} | G4: =IF('Rd1'!H4="","",'Rd1'!H4) -> 67 | H4: =IF(OR(F4="",G4="",F4>3),"",IF(G4=1,(IF(COUNTIFS(G:G,"<="&G4)<=1,1,(1-COUNTIFS(G:G,"<"&G4))/COUNTIFS(G:G,G4)))*(1+VALUE(MID(J4,FIND(": ",J4)+2,FIND("/",J4)-FIND(":",J4)-2))-1)+(1+VALUE(MID(J4,FIND(": ",J4)+2,FIND("/",J4)-FIND(":",J4)-2))-1)/VALUE(RIGHT(J4,1)),IF(G4<=VALUE(MID(J4,FIND(", ",J4)+2,IF(MID(J4,FIND(", ",J4)+2,1)="1",2,1))),(IF(COUNTIFS(G:G,"<="&G4)<=VALUE(MID(J4,FIND(", ",J4)+2,IF(MID(J4,FIND(", ",J4)+2,1)="1",2,1))),1,(VALUE(MID(J4,FIND(", ",J4)+2,IF(MID(J4,FIND(", ",J4)+2,1)="1",2,1)))-COUNTIFS(G:G,"<"&G4))/COUNTIFS(G:G,G4)))*(1*(1+VALUE(MID(J4,FIND(": ",J4)+2,FIND("/",J4)-FIND(":",J4)-2))-1)/VALUE(RIGHT(J4,1))+1)-2,-2))) | I4: =IF(OR(E4="",G4=""),"",IF(G4=1,(IF(COUNTIFS(G:G,"<="&G4)<=1,1,(1-COUNTIFS(G:G,"<"&G4))/COUNTIFS(G:G,G4)))*(1+VALUE(MID(J4,FIND(": ",J4)+2,FIND("/",J4)-FIND(":",J4)-2))-1)+(1+VALUE(MID(J4,FIND(": ",J4)+2,FIND("/",J4)-FIND(":",J4)-2))-1)/VALUE(RIGHT(J4,1)),IF(G4<=VALUE(MID(J4,FIND(", ",J4)+2,IF(MID(J4,FIND(", ",J4)+2,1)="1",2,1))),(IF(COUNTIFS(G:G,"<="&G4)<=VALUE(MID(J4,FIND(", ",J4)+2,IF(MID(J4,FIND(", ",J4)+2,1)="1",2,1))),1,(VALUE(MID(J4,FIND(", ",J4)+2,IF(MID(J4,FIND(", ",J4)+2,1)="1",2,1)))-COUNTIFS(G:G,"<"&G4))/COUNTIFS(G:G,G4)))*(1*(1+VALUE(MID(J4,FIND(": ",J4)+2,FIND("/",J4)-FIND(":",J4)-2))-1)/VALUE(RIGHT(J4,1))+1)-2,-2))) | J4: =IF(F4="","",'Rd1'!J4) | M4: =IF(#REF!="","",#REF!) -> #REF! | N4: =IF(#REF!="","",#REF!) -> #REF! | O4: =IF(#REF!="","",#REF!) -> #REF! | P4: =IF(#REF!="","",#REF!) -> #REF! | Q4: =IF(P4="","",IF(ROUND((N4*(P4-1)-(1-N4))/(P4-1),3)<=0,"",ROUND((N4*(P4-1)-(1-N4))/(P4-1),3))) -> #REF! | R4: {=IF(Q4="","",RANK(Q4, $Q$2:$Q$241) + COUNTIFS($Q$2:$Q$241, Q4, $P$2:$P$241, "<"&P4) + COUNTIFS($Q$2:$Q$241, Q4, $P$2:$P$241, P4, $M$2:$M$241, "<"&M4))} -> #REF! | S4: =IF(#REF!="","",#REF!) -> #REF! | T4: =IF(OR(R4="",S4="",R4>3),"",IF(S4=1,(IF(COUNTIFS(S:S,"<="&S4)<=1,1,(1-COUNTIFS(S:S,"<"&S4))/COUNTIFS(S:S,S4)))*(1+VALUE(MID(V4,FIND(": ",V4)+2,FIND("/",V4)-FIND(":",V4)-2))-1)+(1+VALUE(MID(V4,FIND(": ",V4)+2,FIND("/",V4)-FIND(":",V4)-2))-1)/VALUE(RIGHT(V4,1)),IF(S4<=VALUE(MID(V4,FIND(", ",V4)+2,IF(MID(V4,FIND(", ",V4)+2,1)="1",2,1))),(IF(COUNTIFS(S:S,"<="&S4)<=VALUE(MID(V4,FIND(", ",V4)+2,IF(MID(V4,FIND(", ",V4)+2,1)="1",2,1))),1,(VALUE(MID(V4,FIND(", ",V4)+2,IF(MID(V4,FIND(", ",V4)+2,1)="1",2,1)))-COUNTIFS(S:S,"<"&S4))/COUNTIFS(S:S,S4)))*(1*(1+VALUE(MID(V4,FIND(": ",V4)+2,FIND("/",V4)-FIND(":",V4)-2))-1)/VALUE(RIGHT(V4,1))+1)-2,-2))) -> #REF! | U4: =IF(OR(Q4="",S4=""),"",IF(S4=1,(IF(COUNTIFS(S:S,"<="&S4)<=1,1,(1-COUNTIFS(S:S,"<"&S4))/COUNTIFS(S:S,S4)))*(1+VALUE(MID(V4,FIND(": ",V4)+2,FIND("/",V4)-FIND(":",V4)-2))-1)+(1+VALUE(MID(V4,FIND(": ",V4)+2,FIND("/",V4)-FIND(":",V4)-2))-1)/VALUE(RIGHT(V4,1)),IF(S4<=VALUE(MID(V4,FIND(", ",V4)+2,IF(MID(V4,FIND(", ",V4)+2,1)="1",2,1))),(IF(COUNTIFS(S:S,"<="&S4)<=VALUE(MID(V4,FIND(", ",V4)+2,IF(MID(V4,FIND(", ",V4)+2,1)="1",2,1))),1,(VALUE(MID(V4,FIND(", ",V4)+2,IF(MID(V4,FIND(", ",V4)+2,1)="1",2,1)))-COUNTIFS(S:S,"<"&S4))/COUNTIFS(S:S,S4)))*(1*(1+VALUE(MID(V4,FIND(": ",V4)+2,FIND("/",V4)-FIND(":",V4)-2))-1)/VALUE(RIGHT(V4,1))+1)-2,-2))) -> #REF! | V4: =IF(R4="","",#REF!) -> #REF!
A5: =IF('Rd1'!C5="","",'Rd1'!C5) -> Victor Perez | B5: =IF('Rd1'!D5="","",VALUE('Rd1'!D5)) -> 0.4197 | C5: =IF('Rd1'!E5="","",'Rd1'!E5) -> 2.4 | D5: =IF('Rd1'!F5="","",'Rd1'!F5) -> 2.3 | E5: =IF(D5="","",IF(ROUND((B5*(D5-1)-(1-B5))/(D5-1),3)<=0,"",ROUND((B5*(D5-1)-(1-B5))/(D5-1),3))) | F5: {=IF(E5="","",RANK(E5, $E$2:$E$241) + COUNTIFS($E$2:$E$241, E5, $D$2:$D$241, "<"&D5) + COUNTIFS($E$2:$E$241, E5, $D$2:$D$241, D5, $A$2:$A$241, "<"&A5))} | G5: =IF('Rd1'!H5="","",'Rd1'!H5) -> 66 | H5: =IF(OR(F5="",G5="",F5>3),"",IF(G5=1,(IF(COUNTIFS(G:G,"<="&G5)<=1,1,(1-COUNTIFS(G:G,"<"&G5))/COUNTIFS(G:G,G5)))*(1+VALUE(MID(J5,FIND(": ",J5)+2,FIND("/",J5)-FIND(":",J5)-2))-1)+(1+VALUE(MID(J5,FIND(": ",J5)+2,FIND("/",J5)-FIND(":",J5)-2))-1)/VALUE(RIGHT(J5,1)),IF(G5<=VALUE(MID(J5,FIND(", ",J5)+2,IF(MID(J5,FIND(", ",J5)+2,1)="1",2,1))),(IF(COUNTIFS(G:G,"<="&G5)<=VALUE(MID(J5,FIND(", ",J5)+2,IF(MID(J5,FIND(", ",J5)+2,1)="1",2,1))),1,(VALUE(MID(J5,FIND(", ",J5)+2,IF(MID(J5,FIND(", ",J5)+2,1)="1",2,1)))-COUNTIFS(G:G,"<"&G5))/COUNTIFS(G:G,G5)))*(1*(1+VALUE(MID(J5,FIND(": ",J5)+2,FIND("/",J5)-FIND(":",J5)-2))-1)/VALUE(RIGHT(J5,1))+1)-2,-2))) | I5: =IF(OR(E5="",G5=""),"",IF(G5=1,(IF(COUNTIFS(G:G,"<="&G5)<=1,1,(1-COUNTIFS(G:G,"<"&G5))/COUNTIFS(G:G,G5)))*(1+VALUE(MID(J5,FIND(": ",J5)+2,FIND("/",J5)-FIND(":",J5)-2))-1)+(1+VALUE(MID(J5,FIND(": ",J5)+2,FIND("/",J5)-FIND(":",J5)-2))-1)/VALUE(RIGHT(J5,1)),IF(G5<=VALUE(MID(J5,FIND(", ",J5)+2,IF(MID(J5,FIND(", ",J5)+2,1)="1",2,1))),(IF(COUNTIFS(G:G,"<="&G5)<=VALUE(MID(J5,FIND(", ",J5)+2,IF(MID(J5,FIND(", ",J5)+2,1)="1",2,1))),1,(VALUE(MID(J5,FIND(", ",J5)+2,IF(MID(J5,FIND(", ",J5)+2,1)="1",2,1)))-COUNTIFS(G:G,"<"&G5))/COUNTIFS(G:G,G5)))*(1*(1+VALUE(MID(J5,FIND(": ",J5)+2,FIND("/",J5)-FIND(":",J5)-2))-1)/VALUE(RIGHT(J5,1))+1)-2,-2))) | J5: =IF(F5="","",'Rd1'!J5) | M5: =IF(#REF!="","",#REF!) -> #REF! | N5: =IF(#REF!="","",#REF!) -> #REF! | O5: =IF(#REF!="","",#REF!) -> #REF! | P5: =IF(#REF!="","",#REF!) -> #REF! | Q5: =IF(P5="","",IF(ROUND((N5*(P5-1)-(1-N5))/(P5-1),3)<=0,"",ROUND((N5*(P5-1)-(1-N5))/(P5-1),3))) -> #REF! | R5: {=IF(Q5="","",RANK(Q5, $Q$2:$Q$241) + COUNTIFS($Q$2:$Q$241, Q5, $P$2:$P$241, "<"&P5) + COUNTIFS($Q$2:$Q$241, Q5, $P$2:$P$241, P5, $M$2:$M$241, "<"&M5))} -> #REF! | S5: =IF(#REF!="","",#REF!) -> #REF! | T5: =IF(OR(R5="",S5="",R5>3),"",IF(S5=1,(IF(COUNTIFS(S:S,"<="&S5)<=1,1,(1-COUNTIFS(S:S,"<"&S5))/COUNTIFS(S:S,S5)))*(1+VALUE(MID(V5,FIND(": ",V5)+2,FIND("/",V5)-FIND(":",V5)-2))-1)+(1+VALUE(MID(V5,FIND(": ",V5)+2,FIND("/",V5)-FIND(":",V5)-2))-1)/VALUE(RIGHT(V5,1)),IF(S5<=VALUE(MID(V5,FIND(", ",V5)+2,IF(MID(V5,FIND(", ",V5)+2,1)="1",2,1))),(IF(COUNTIFS(S:S,"<="&S5)<=VALUE(MID(V5,FIND(", ",V5)+2,IF(MID(V5,FIND(", ",V5)+2,1)="1",2,1))),1,(VALUE(MID(V5,FIND(", ",V5)+2,IF(MID(V5,FIND(", ",V5)+2,1)="1",2,1)))-COUNTIFS(S:S,"<"&S5))/COUNTIFS(S:S,S5)))*(1*(1+VALUE(MID(V5,FIND(": ",V5)+2,FIND("/",V5)-FIND(":",V5)-2))-1)/VALUE(RIGHT(V5,1))+1)-2,-2))) -> #REF! | U5: =IF(OR(Q5="",S5=""),"",IF(S5=1,(IF(COUNTIFS(S:S,"<="&S5)<=1,1,(1-COUNTIFS(S:S,"<"&S5))/COUNTIFS(S:S,S5)))*(1+VALUE(MID(V5,FIND(": ",V5)+2,FIND("/",V5)-FIND(":",V5)-2))-1)+(1+VALUE(MID(V5,FIND(": ",V5)+2,FIND("/",V5)-FIND(":",V5)-2))-1)/VALUE(RIGHT(V5,1)),IF(S5<=VALUE(MID(V5,FIND(", ",V5)+2,IF(MID(V5,FIND(", ",V5)+2,1)="1",2,1))),(IF(COUNTIFS(S:S,"<="&S5)<=VALUE(MID(V5,FIND(", ",V5)+2,IF(MID(V5,FIND(", ",V5)+2,1)="1",2,1))),1,(VALUE(MID(V5,FIND(", ",V5)+2,IF(MID(V5,FIND(", ",V5)+2,1)="1",2,1)))-COUNTIFS(S:S,"<"&S5))/COUNTIFS(S:S,S5)))*(1*(1+VALUE(MID(V5,FIND(": ",V5)+2,FIND("/",V5)-FIND(":",V5)-2))-1)/VALUE(RIGHT(V5,1))+1)-2,-2))) -> #REF! | V5: =IF(R5="","",#REF!) -> #REF!
A6: =IF('Rd1'!C6="","",'Rd1'!C6) -> Adam Hadwin | B6: =IF('Rd1'!D6="","",VALUE('Rd1'!D6)) -> 0.3183 | C6: =IF('Rd1'!E6="","",'Rd1'!E6) -> 3.1 | D6: =IF('Rd1'!F6="","",'Rd1'!F6) -> 2.88 | E6: =IF(D6="","",IF(ROUND((B6*(D6-1)-(1-B6))/(D6-1),3)<=0,"",ROUND((B6*(D6-1)-(1-B6))/(D6-1),3))) | F6: {=IF(E6="","",RANK(E6, $E$2:$E$241) + COUNTIFS($E$2:$E$241, E6, $D$2:$D$241, "<"&D6) + COUNTIFS($E$2:$E$241, E6, $D$2:$D$241, D6, $A$2:$A$241, "<"&A6))} | G6: =IF('Rd1'!H6="","",'Rd1'!H6) -> 67 | H6: =IF(OR(F6="",G6="",F6>3),"",IF(G6=1,(IF(COUNTIFS(G:G,"<="&G6)<=1,1,(1-COUNTIFS(G:G,"<"&G6))/COUNTIFS(G:G,G6)))*(1+VALUE(MID(J6,FIND(": ",J6)+2,FIND("/",J6)-FIND(":",J6)-2))-1)+(1+VALUE(MID(J6,FIND(": ",J6)+2,FIND("/",J6)-FIND(":",J6)-2))-1)/VALUE(RIGHT(J6,1)),IF(G6<=VALUE(MID(J6,FIND(", ",J6)+2,IF(MID(J6,FIND(", ",J6)+2,1)="1",2,1))),(IF(COUNTIFS(G:G,"<="&G6)<=VALUE(MID(J6,FIND(", ",J6)+2,IF(MID(J6,FIND(", ",J6)+2,1)="1",2,1))),1,(VALUE(MID(J6,FIND(", ",J6)+2,IF(MID(J6,FIND(", ",J6)+2,1)="1",2,1)))-COUNTIFS(G:G,"<"&G6))/COUNTIFS(G:G,G6)))*(1*(1+VALUE(MID(J6,FIND(": ",J6)+2,FIND("/",J6)-FIND(":",J6)-2))-1)/VALUE(RIGHT(J6,1))+1)-2,-2))) | I6: =IF(OR(E6="",G6=""),"",IF(G6=1,(IF(COUNTIFS(G:G,"<="&G6)<=1,1,(1-COUNTIFS(G:G,"<"&G6))/COUNTIFS(G:G,G6)))*(1+VALUE(MID(J6,FIND(": ",J6)+2,FIND("/",J6)-FIND(":",J6)-2))-1)+(1+VALUE(MID(J6,FIND(": ",J6)+2,FIND("/",J6)-FIND(":",J6)-2))-1)/VALUE(RIGHT(J6,1)),IF(G6<=VALUE(MID(J6,FIND(", ",J6)+2,IF(MID(J6,FIND(", ",J6)+2,1)="1",2,1))),(IF(COUNTIFS(G:G,"<="&G6)<=VALUE(MID(J6,FIND(", ",J6)+2,IF(MID(J6,FIND(", ",J6)+2,1)="1",2,1))),1,(VALUE(MID(J6,FIND(", ",J6)+2,IF(MID(J6,FIND(", ",J6)+2,1)="1",2,1)))-COUNTIFS(G:G,"<"&G6))/COUNTIFS(G:G,G6)))*(1*(1+VALUE(MID(J6,FIND(": ",J6)+2,FIND("/",J6)-FIND(":",J6)-2))-1)/VALUE(RIGHT(J6,1))+1)-2,-2))) | J6: =IF(F6="","",'Rd1'!J6) | M6: =IF(#REF!="","",#REF!) -> #REF! | N6: =IF(#REF!="","",#REF!) -> #REF! | O6: =IF(#REF!="","",#REF!) -> #REF! | P6: =IF(#REF!="","",#REF!) -> #REF! | Q6: =IF(P6="","",IF(ROUND((N6*(P6-1)-(1-N6))/(P6-1),3)<=0,"",ROUND((N6*(P6-1)-(1-N6))/(P6-1),3))) -> #REF! | R6: {=IF(Q6="","",RANK(Q6, $Q$2:$Q$241) + COUNTIFS($Q$2:$Q$241, Q6, $P$2:$P$241, "<"&P6) + COUNTIFS($Q$2:$Q$241, Q6, $P$2:$P$241, P6, $M$2:$M$241, "<"&M6))} -> #REF! | S6: =IF(#REF!="","",#REF!) -> #REF! | T6: =IF(OR(R6="",S6="",R6>3),"",IF(S6=1,(IF(COUNTIFS(S:S,"<="&S6)<=1,1,(1-COUNTIFS(S:S,"<"&S6))/COUNTIFS(S:S,S6)))*(1+VALUE(MID(V6,FIND(": ",V6)+2,FIND("/",V6)-FIND(":",V6)-2))-1)+(1+VALUE(MID(V6,FIND(": ",V6)+2,FIND("/",V6)-FIND(":",V6)-2))-1)/VALUE(RIGHT(V6,1)),IF(S6<=VALUE(MID(V6,FIND(", ",V6)+2,IF(MID(V6,FIND(", ",V6)+2,1)="1",2,1))),(IF(COUNTIFS(S:S,"<="&S6)<=VALUE(MID(V6,FIND(", ",V6)+2,IF(MID(V6,FIND(", ",V6)+2,1)="1",2,1))),1,(VALUE(MID(V6,FIND(", ",V6)+2,IF(MID(V6,FIND(", ",V6)+2,1)="1",2,1)))-COUNTIFS(S:S,"<"&S6))/COUNTIFS(S:S,S6)))*(1*(1+VALUE(MID(V6,FIND(": ",V6)+2,FIND("/",V6)-FIND(":",V6)-2))-1)/VALUE(RIGHT(V6,1))+1)-2,-2))) -> #REF! | U6: =IF(OR(Q6="",S6=""),"",IF(S6=1,(IF(COUNTIFS(S:S,"<="&S6)<=1,1,(1-COUNTIFS(S:S,"<"&S6))/COUNTIFS(S:S,S6)))*(1+VALUE(MID(V6,FIND(": ",V6)+2,FIND("/",V6)-FIND(":",V6)-2))-1)+(1+VALUE(MID(V6,FIND(": ",V6)+2,FIND("/",V6)-FIND(":",V6)-2))-1)/VALUE(RIGHT(V6,1)),IF(S6<=VALUE(MID(V6,FIND(", ",V6)+2,IF(MID(V6,FIND(", ",V6)+2,1)="1",2,1))),(IF(COUNTIFS(S:S,"<="&S6)<=VALUE(MID(V6,FIND(", ",V6)+2,IF(MID(V6,FIND(", ",V6)+2,1)="1",2,1))),1,(VALUE(MID(V6,FIND(", ",V6)+2,IF(MID(V6,FIND(", ",V6)+2,1)="1",2,1)))-COUNTIFS(S:S,"<"&S6))/COUNTIFS(S:S,S6)))*(1*(1+VALUE(MID(V6,FIND(": ",V6)+2,FIND("/",V6)-FIND(":",V6)-2))-1)/VALUE(RIGHT(V6,1))+1)-2,-2))) -> #REF! | V6: =IF(R6="","",#REF!) -> #REF!
A7: =IF('Rd1'!C7="","",'Rd1'!C7) -> David Skinns | B7: =IF('Rd1'!D7="","",VALUE('Rd1'!D7)) -> 0.262 | C7: =IF('Rd1'!E7="","",'Rd1'!E7) -> 3.8 | D7: =IF('Rd1'!F7="","",'Rd1'!F7) -> 3.6 | E7: =IF(D7="","",IF(ROUND((B7*(D7-1)-(1-B7))/(D7-1),3)<=0,"",ROUND((B7*(D7-1)-(1-B7))/(D7-1),3))) | F7: {=IF(E7="","",RANK(E7, $E$2:$E$241) + COUNTIFS($E$2:$E$241, E7, $D$2:$D$241, "<"&D7) + COUNTIFS($E$2:$E$241, E7, $D$2:$D$241, D7, $A$2:$A$241, "<"&A7))} | G7: =IF('Rd1'!H7="","",'Rd1'!H7) -> 69 | H7: =IF(OR(F7="",G7="",F7>3),"",IF(G7=1,(IF(COUNTIFS(G:G,"<="&G7)<=1,1,(1-COUNTIFS(G:G,"<"&G7))/COUNTIFS(G:G,G7)))*(1+VALUE(MID(J7,FIND(": ",J7)+2,FIND("/",J7)-FIND(":",J7)-2))-1)+(1+VALUE(MID(J7,FIND(": ",J7)+2,FIND("/",J7)-FIND(":",J7)-2))-1)/VALUE(RIGHT(J7,1)),IF(G7<=VALUE(MID(J7,FIND(", ",J7)+2,IF(MID(J7,FIND(", ",J7)+2,1)="1",2,1))),(IF(COUNTIFS(G:G,"<="&G7)<=VALUE(MID(J7,FIND(", ",J7)+2,IF(MID(J7,FIND(", ",J7)+2,1)="1",2,1))),1,(VALUE(MID(J7,FIND(", ",J7)+2,IF(MID(J7,FIND(", ",J7)+2,1)="1",2,1)))-COUNTIFS(G:G,"<"&G7))/COUNTIFS(G:G,G7)))*(1*(1+VALUE(MID(J7,FIND(": ",J7)+2,FIND("/",J7)-FIND(":",J7)-2))-1)/VALUE(RIGHT(J7,1))+1)-2,-2))) | I7: =IF(OR(E7="",G7=""),"",IF(G7=1,(IF(COUNTIFS(G:G,"<="&G7)<=1,1,(1-COUNTIFS(G:G,"<"&G7))/COUNTIFS(G:G,G7)))*(1+VALUE(MID(J7,FIND(": ",J7)+2,FIND("/",J7)-FIND(":",J7)-2))-1)+(1+VALUE(MID(J7,FIND(": ",J7)+2,FIND("/",J7)-FIND(":",J7)-2))-1)/VALUE(RIGHT(J7,1)),IF(G7<=VALUE(MID(J7,FIND(", ",J7)+2,IF(MID(J7,FIND(", ",J7)+2,1)="1",2,1))),(IF(COUNTIFS(G:G,"<="&G7)<=VALUE(MID(J7,FIND(", ",J7)+2,IF(MID(J7,FIND(", ",J7)+2,1)="1",2,1))),1,(VALUE(MID(J7,FIND(", ",J7)+2,IF(MID(J7,FIND(", ",J7)+2,1)="1",2,1)))-COUNTIFS(G:G,"<"&G7))/COUNTIFS(G:G,G7)))*(1*(1+VALUE(MID(J7,FIND(": ",J7)+2,FIND("/",J7)-FIND(":",J7)-2))-1)/VALUE(RIGHT(J7,1))+1)-2,-2))) | J7: =IF(F7="","",'Rd1'!J7) | M7: =IF(#REF!="","",#REF!) -> #REF! | N7: =IF(#REF!="","",#REF!) -> #REF! | O7: =IF(#REF!="","",#REF!) -> #REF! | P7: =IF(#REF!="","",#REF!) -> #REF! | Q7: =IF(P7="","",IF(ROUND((N7*(P7-1)-(1-N7))/(P7-1),3)<=0,"",ROUND((N7*(P7-1)-(1-N7))/(P7-1),3))) -> #REF! | R7: {=IF(Q7="","",RANK(Q7, $Q$2:$Q$241) + COUNTIFS($Q$2:$Q$241, Q7, $P$2:$P$241, "<"&P7) + COUNTIFS($Q$2:$Q$241, Q7, $P$2:$P$241, P7, $M$2:$M$241, "<"&M7))} -> #REF! | S7: =IF(#REF!="","",#REF!) -> #REF! | T7: =IF(OR(R7="",S7="",R7>3),"",IF(S7=1,(IF(COUNTIFS(S:S,"<="&S7)<=1,1,(1-COUNTIFS(S:S,"<"&S7))/COUNTIFS(S:S,S7)))*(1+VALUE(MID(V7,FIND(": ",V7)+2,FIND("/",V7)-FIND(":",V7)-2))-1)+(1+VALUE(MID(V7,FIND(": ",V7)+2,FIND("/",V7)-FIND(":",V7)-2))-1)/VALUE(RIGHT(V7,1)),IF(S7<=VALUE(MID(V7,FIND(", ",V7)+2,IF(MID(V7,FIND(", ",V7)+2,1)="1",2,1))),(IF(COUNTIFS(S:S,"<="&S7)<=VALUE(MID(V7,FIND(", ",V7)+2,IF(MID(V7,FIND(", ",V7)+2,1)="1",2,1))),1,(VALUE(MID(V7,FIND(", ",V7)+2,IF(MID(V7,FIND(", ",V7)+2,1)="1",2,1)))-COUNTIFS(S:S,"<"&S7))/COUNTIFS(S:S,S7)))*(1*(1+VALUE(MID(V7,FIND(": ",V7)+2,FIND("/",V7)-FIND(":",V7)-2))-1)/VALUE(RIGHT(V7,1))+1)-2,-2))) -> #REF! | U7: =IF(OR(Q7="",S7=""),"",IF(S7=1,(IF(COUNTIFS(S:S,"<="&S7)<=1,1,(1-COUNTIFS(S:S,"<"&S7))/COUNTIFS(S:S,S7)))*(1+VALUE(MID(V7,FIND(": ",V7)+2,FIND("/",V7)-FIND(":",V7)-2))-1)+(1+VALUE(MID(V7,FIND(": ",V7)+2,FIND("/",V7)-FIND(":",V7)-2))-1)/VALUE(RIGHT(V7,1)),IF(S7<=VALUE(MID(V7,FIND(", ",V7)+2,IF(MID(V7,FIND(", ",V7)+2,1)="1",2,1))),(IF(COUNTIFS(S:S,"<="&S7)<=VALUE(MID(V7,FIND(", ",V7)+2,IF(MID(V7,FIND(", ",V7)+2,1)="1",2,1))),1,(VALUE(MID(V7,FIND(", ",V7)+2,IF(MID(V7,FIND(", ",V7)+2,1)="1",2,1)))-COUNTIFS(S:S,"<"&S7))/COUNTIFS(S:S,S7)))*(1*(1+VALUE(MID(V7,FIND(": ",V7)+2,FIND("/",V7)-FIND(":",V7)-2))-1)/VALUE(RIGHT(V7,1))+1)-2,-2))) -> #REF! | V7: =IF(R7="","",#REF!) -> #REF!
A8: =IF('Rd1'!C8="","",'Rd1'!C8) -> Patrick Fishburn | B8: =IF('Rd1'!D8="","",VALUE('Rd1'!D8)) -> 0.4061 | C8: =IF('Rd1'!E8="","",'Rd1'!E8) -> 2.5 | D8: =IF('Rd1'!F8="","",'Rd1'!F8) -> 2.15 | E8: =IF(D8="","",IF(ROUND((B8*(D8-1)-(1-B8))/(D8-1),3)<=0,"",ROUND((B8*(D8-1)-(1-B8))/(D8-1),3))) | F8: {=IF(E8="","",RANK(E8, $E$2:$E$241) + COUNTIFS($E$2:$E$241, E8, $D$2:$D$241, "<"&D8) + COUNTIFS($E$2:$E$241, E8, $D$2:$D$241, D8, $A$2:$A$241, "<"&A8))} | G8: =IF('Rd1'!H8="","",'Rd1'!H8) -> 68 | H8: =IF(OR(F8="",G8="",F8>3),"",IF(G8=1,(IF(COUNTIFS(G:G,"<="&G8)<=1,1,(1-COUNTIFS(G:G,"<"&G8))/COUNTIFS(G:G,G8)))*(1+VALUE(MID(J8,FIND(": ",J8)+2,FIND("/",J8)-FIND(":",J8)-2))-1)+(1+VALUE(MID(J8,FIND(": ",J8)+2,FIND("/",J8)-FIND(":",J8)-2))-1)/VALUE(RIGHT(J8,1)),IF(G8<=VALUE(MID(J8,FIND(", ",J8)+2,IF(MID(J8,FIND(", ",J8)+2,1)="1",2,1))),(IF(COUNTIFS(G:G,"<="&G8)<=VALUE(MID(J8,FIND(", ",J8)+2,IF(MID(J8,FIND(", ",J8)+2,1)="1",2,1))),1,(VALUE(MID(J8,FIND(", ",J8)+2,IF(MID(J8,FIND(", ",J8)+2,1)="1",2,1)))-COUNTIFS(G:G,"<"&G8))/COUNTIFS(G:G,G8)))*(1*(1+VALUE(MID(J8,FIND(": ",J8)+2,FIND("/",J8)-FIND(":",J8)-2))-1)/VALUE(RIGHT(J8,1))+1)-2,-2))) | I8: =IF(OR(E8="",G8=""),"",IF(G8=1,(IF(COUNTIFS(G:G,"<="&G8)<=1,1,(1-COUNTIFS(G:G,"<"&G8))/COUNTIFS(G:G,G8)))*(1+VALUE(MID(J8,FIND(": ",J8)+2,FIND("/",J8)-FIND(":",J8)-2))-1)+(1+VALUE(MID(J8,FIND(": ",J8)+2,FIND("/",J8)-FIND(":",J8)-2))-1)/VALUE(RIGHT(J8,1)),IF(G8<=VALUE(MID(J8,FIND(", ",J8)+2,IF(MID(J8,FIND(", ",J8)+2,1)="1",2,1))),(IF(COUNTIFS(G:G,"<="&G8)<=VALUE(MID(J8,FIND(", ",J8)+2,IF(MID(J8,FIND(", ",J8)+2,1)="1",2,1))),1,(VALUE(MID(J8,FIND(", ",J8)+2,IF(MID(J8,FIND(", ",J8)+2,1)="1",2,1)))-COUNTIFS(G:G,"<"&G8))/COUNTIFS(G:G,G8)))*(1*(1+VALUE(MID(J8,FIND(": ",J8)+2,FIND("/",J8)-FIND(":",J8)-2))-1)/VALUE(RIGHT(J8,1))+1)-2,-2))) | J8: =IF(F8="","",'Rd1'!J8) | M8: =IF(#REF!="","",#REF!) -> #REF! | N8: =IF(#REF!="","",#REF!) -> #REF! | O8: =IF(#REF!="","",#REF!) -> #REF! | P8: =IF(#REF!="","",#REF!) -> #REF! | Q8: =IF(P8="","",IF(ROUND((N8*(P8-1)-(1-N8))/(P8-1),3)<=0,"",ROUND((N8*(P8-1)-(1-N8))/(P8-1),3))) -> #REF! | R8: {=IF(Q8="","",RANK(Q8, $Q$2:$Q$241) + COUNTIFS($Q$2:$Q$241, Q8, $P$2:$P$241, "<"&P8) + COUNTIFS($Q$2:$Q$241, Q8, $P$2:$P$241, P8, $M$2:$M$241, "<"&M8))} -> #REF! | S8: =IF(#REF!="","",#REF!) -> #REF! | T8: =IF(OR(R8="",S8="",R8>3),"",IF(S8=1,(IF(COUNTIFS(S:S,"<="&S8)<=1,1,(1-COUNTIFS(S:S,"<"&S8))/COUNTIFS(S:S,S8)))*(1+VALUE(MID(V8,FIND(": ",V8)+2,FIND("/",V8)-FIND(":",V8)-2))-1)+(1+VALUE(MID(V8,FIND(": ",V8)+2,FIND("/",V8)-FIND(":",V8)-2))-1)/VALUE(RIGHT(V8,1)),IF(S8<=VALUE(MID(V8,FIND(", ",V8)+2,IF(MID(V8,FIND(", ",V8)+2,1)="1",2,1))),(IF(COUNTIFS(S:S,"<="&S8)<=VALUE(MID(V8,FIND(", ",V8)+2,IF(MID(V8,FIND(", ",V8)+2,1)="1",2,1))),1,(VALUE(MID(V8,FIND(", ",V8)+2,IF(MID(V8,FIND(", ",V8)+2,1)="1",2,1)))-COUNTIFS(S:S,"<"&S8))/COUNTIFS(S:S,S8)))*(1*(1+VALUE(MID(V8,FIND(": ",V8)+2,FIND("/",V8)-FIND(":",V8)-2))-1)/VALUE(RIGHT(V8,1))+1)-2,-2))) -> #REF! | U8: =IF(OR(Q8="",S8=""),"",IF(S8=1,(IF(COUNTIFS(S:S,"<="&S8)<=1,1,(1-COUNTIFS(S:S,"<"&S8))/COUNTIFS(S:S,S8)))*(1+VALUE(MID(V8,FIND(": ",V8)+2,FIND("/",V8)-FIND(":",V8)-2))-1)+(1+VALUE(MID(V8,FIND(": ",V8)+2,FIND("/",V8)-FIND(":",V8)-2))-1)/VALUE(RIGHT(V8,1)),IF(S8<=VALUE(MID(V8,FIND(", ",V8)+2,IF(MID(V8,FIND(", ",V8)+2,1)="1",2,1))),(IF(COUNTIFS(S:S,"<="&S8)<=VALUE(MID(V8,FIND(", ",V8)+2,IF(MID(V8,FIND(", ",V8)+2,1)="1",2,1))),1,(VALUE(MID(V8,FIND(", ",V8)+2,IF(MID(V8,FIND(", ",V8)+2,1)="1",2,1)))-COUNTIFS(S:S,"<"&S8))/COUNTIFS(S:S,S8)))*(1*(1+VALUE(MID(V8,FIND(": ",V8)+2,FIND("/",V8)-FIND(":",V8)-2))-1)/VALUE(RIGHT(V8,1))+1)-2,-2))) -> #REF! | V8: =IF(R8="","",#REF!) -> #REF!
A9: =IF('Rd1'!C9="","",'Rd1'!C9) -> Ben Silverman | B9: =IF('Rd1'!D9="","",VALUE('Rd1'!D9)) -> 0.384 | C9: =IF('Rd1'!E9="","",'Rd1'!E9) -> 2.6 | D9: =IF('Rd1'!F9="","",'Rd1'!F9) -> 2.63 | E9: =IF(D9="","",IF(ROUND((B9*(D9-1)-(1-B9))/(D9-1),3)<=0,"",ROUND((B9*(D9-1)-(1-B9))/(D9-1),3))) -> 0.006 | F9: {=IF(E9="","",RANK(E9, $E$2:$E$241) + COUNTIFS($E$2:$E$241, E9, $D$2:$D$241, "<"&D9) + COUNTIFS($E$2:$E$241, E9, $D$2:$D$241, D9, $A$2:$A$241, "<"&A9))} -> 33 | G9: =IF('Rd1'!H9="","",'Rd1'!H9) -> 73 | H9: =IF(OR(F9="",G9="",F9>3),"",IF(G9=1,(IF(COUNTIFS(G:G,"<="&G9)<=1,1,(1-COUNTIFS(G:G,"<"&G9))/COUNTIFS(G:G,G9)))*(1+VALUE(MID(J9,FIND(": ",J9)+2,FIND("/",J9)-FIND(":",J9)-2))-1)+(1+VALUE(MID(J9,FIND(": ",J9)+2,FIND("/",J9)-FIND(":",J9)-2))-1)/VALUE(RIGHT(J9,1)),IF(G9<=VALUE(MID(J9,FIND(", ",J9)+2,IF(MID(J9,FIND(", ",J9)+2,1)="1",2,1))),(IF(COUNTIFS(G:G,"<="&G9)<=VALUE(MID(J9,FIND(", ",J9)+2,IF(MID(J9,FIND(", ",J9)+2,1)="1",2,1))),1,(VALUE(MID(J9,FIND(", ",J9)+2,IF(MID(J9,FIND(", ",J9)+2,1)="1",2,1)))-COUNTIFS(G:G,"<"&G9))/COUNTIFS(G:G,G9)))*(1*(1+VALUE(MID(J9,FIND(": ",J9)+2,FIND("/",J9)-FIND(":",J9)-2))-1)/VALUE(RIGHT(J9,1))+1)-2,-2))) | I9: =IF(OR(E9="",G9=""),"",IF(G9=1,(IF(COUNTIFS(G:G,"<="&G9)<=1,1,(1-COUNTIFS(G:G,"<"&G9))/COUNTIFS(G:G,G9)))*(1+VALUE(MID(J9,FIND(": ",J9)+2,FIND("/",J9)-FIND(":",J9)-2))-1)+(1+VALUE(MID(J9,FIND(": ",J9)+2,FIND("/",J9)-FIND(":",J9)-2))-1)/VALUE(RIGHT(J9,1)),IF(G9<=VALUE(MID(J9,FIND(", ",J9)+2,IF(MID(J9,FIND(", ",J9)+2,1)="1",2,1))),(IF(COUNTIFS(G:G,"<="&G9)<=VALUE(MID(J9,FIND(", ",J9)+2,IF(MID(J9,FIND(", ",J9)+2,1)="1",2,1))),1,(VALUE(MID(J9,FIND(", ",J9)+2,IF(MID(J9,FIND(", ",J9)+2,1)="1",2,1)))-COUNTIFS(G:G,"<"&G9))/COUNTIFS(G:G,G9)))*(1*(1+VALUE(MID(J9,FIND(": ",J9)+2,FIND("/",J9)-FIND(":",J9)-2))-1)/VALUE(RIGHT(J9,1))+1)-2,-2))) -> #VALUE! | J9: =IF(F9="","",'Rd1'!J9) -> 0 | M9: =IF(#REF!="","",#REF!) -> #REF! | N9: =IF(#REF!="","",#REF!) -> #REF! | O9: =IF(#REF!="","",#REF!) -> #REF! | P9: =IF(#REF!="","",#REF!) -> #REF! | Q9: =IF(P9="","",IF(ROUND((N9*(P9-1)-(1-N9))/(P9-1),3)<=0,"",ROUND((N9*(P9-1)-(1-N9))/(P9-1),3))) -> #REF! | R9: {=IF(Q9="","",RANK(Q9, $Q$2:$Q$241) + COUNTIFS($Q$2:$Q$241, Q9, $P$2:$P$241, "<"&P9) + COUNTIFS($Q$2:$Q$241, Q9, $P$2:$P$241, P9, $M$2:$M$241, "<"&M9))} -> #REF! | S9: =IF(#REF!="","",#REF!) -> #REF! | T9: =IF(OR(R9="",S9="",R9>3),"",IF(S9=1,(IF(COUNTIFS(S:S,"<="&S9)<=1,1,(1-COUNTIFS(S:S,"<"&S9))/COUNTIFS(S:S,S9)))*(1+VALUE(MID(V9,FIND(": ",V9)+2,FIND("/",V9)-FIND(":",V9)-2))-1)+(1+VALUE(MID(V9,FIND(": ",V9)+2,FIND("/",V9)-FIND(":",V9)-2))-1)/VALUE(RIGHT(V9,1)),IF(S9<=VALUE(MID(V9,FIND(", ",V9)+2,IF(MID(V9,FIND(", ",V9)+2,1)="1",2,1))),(IF(COUNTIFS(S:S,"<="&S9)<=VALUE(MID(V9,FIND(", ",V9)+2,IF(MID(V9,FIND(", ",V9)+2,1)="1",2,1))),1,(VALUE(MID(V9,FIND(", ",V9)+2,IF(MID(V9,FIND(", ",V9)+2,1)="1",2,1)))-COUNTIFS(S:S,"<"&S9))/COUNTIFS(S:S,S9)))*(1*(1+VALUE(MID(V9,FIND(": ",V9)+2,FIND("/",V9)-FIND(":",V9)-2))-1)/VALUE(RIGHT(V9,1))+1)-2,-2))) -> #REF! | U9: =IF(OR(Q9="",S9=""),"",IF(S9=1,(IF(COUNTIFS(S:S,"<="&S9)<=1,1,(1-COUNTIFS(S:S,"<"&S9))/COUNTIFS(S:S,S9)))*(1+VALUE(MID(V9,FIND(": ",V9)+2,FIND("/",V9)-FIND(":",V9)-2))-1)+(1+VALUE(MID(V9,FIND(": ",V9)+2,FIND("/",V9)-FIND(":",V9)-2))-1)/VALUE(RIGHT(V9,1)),IF(S9<=VALUE(MID(V9,FIND(", ",V9)+2,IF(MID(V9,FIND(", ",V9)+2,1)="1",2,1))),(IF(COUNTIFS(S:S,"<="&S9)<=VALUE(MID(V9,FIND(", ",V9)+2,IF(MID(V9,FIND(", ",V9)+2,1)="1",2,1))),1,(VALUE(MID(V9,FIND(", ",V9)+2,IF(MID(V9,FIND(", ",V9)+2,1)="1",2,1)))-COUNTIFS(S:S,"<"&S9))/COUNTIFS(S:S,S9)))*(1*(1+VALUE(MID(V9,FIND(": ",V9)+2,FIND("/",V9)-FIND(":",V9)-2))-1)/VALUE(RIGHT(V9,1))+1)-2,-2))) -> #REF! | V9: =IF(R9="","",#REF!) -> #REF!
A10: =IF('Rd1'!C10="","",'Rd1'!C10) -> Aaron Baddeley | B10: =IF('Rd1'!D10="","",VALUE('Rd1'!D10)) -> 0.2098 | C10: =IF('Rd1'!E10="","",'Rd1'!E10) -> 4.8 | D10: =IF('Rd1'!F10="","",'Rd1'!F10) -> 4.33 | E10: =IF(D10="","",IF(ROUND((B10*(D10-1)-(1-B10))/(D10-1),3)<=0,"",ROUND((B10*(D10-1)-(1-B10))/(D10-1),3))) | F10: {=IF(E10="","",RANK(E10, $E$2:$E$241) + COUNTIFS($E$2:$E$241, E10, $D$2:$D$241, "<"&D10) + COUNTIFS($E$2:$E$241, E10, $D$2:$D$241, D10, $A$2:$A$241, "<"&A10))} | G10: =IF('Rd1'!H10="","",'Rd1'!H10) -> 71 | H10: =IF(OR(F10="",G10="",F10>3),"",IF(G10=1,(IF(COUNTIFS(G:G,"<="&G10)<=1,1,(1-COUNTIFS(G:G,"<"&G10))/COUNTIFS(G:G,G10)))*(1+VALUE(MID(J10,FIND(": ",J10)+2,FIND("/",J10)-FIND(":",J10)-2))-1)+(1+VALUE(MID(J10,FIND(": ",J10)+2,FIND("/",J10)-FIND(":",J10)-2))-1)/VALUE(RIGHT(J10,1)),IF(G10<=VALUE(MID(J10,FIND(", ",J10)+2,IF(MID(J10,FIND(", ",J10)+2,1)="1",2,1))),(IF(COUNTIFS(G:G,"<="&G10)<=VALUE(MID(J10,FIND(", ",J10)+2,IF(MID(J10,FIND(", ",J10)+2,1)="1",2,1))),1,(VALUE(MID(J10,FIND(", ",J10)+2,IF(MID(J10,FIND(", ",J10)+2,1)="1",2,1)))-COUNTIFS(G:G,"<"&G10))/COUNTIFS(G:G,G10)))*(1*(1+VALUE(MID(J10,FIND(": ",J10)+2,FIND("/",J10)-FIND(":",J10)-2))-1)/VALUE(RIGHT(J10,1))+1)-2,-2))) | I10: =IF(OR(E10="",G10=""),"",IF(G10=1,(IF(COUNTIFS(G:G,"<="&G10)<=1,1,(1-COUNTIFS(G:G,"<"&G10))/COUNTIFS(G:G,G10)))*(1+VALUE(MID(J10,FIND(": ",J10)+2,FIND("/",J10)-FIND(":",J10)-2))-1)+(1+VALUE(MID(J10,FIND(": ",J10)+2,FIND("/",J10)-FIND(":",J10)-2))-1)/VALUE(RIGHT(J10,1)),IF(G10<=VALUE(MID(J10,FIND(", ",J10)+2,IF(MID(J10,FIND(", ",J10)+2,1)="1",2,1))),(IF(COUNTIFS(G:G,"<="&G10)<=VALUE(MID(J10,FIND(", ",J10)+2,IF(MID(J10,FIND(", ",J10)+2,1)="1",2,1))),1,(VALUE(MID(J10,FIND(", ",J10)+2,IF(MID(J10,FIND(", ",J10)+2,1)="1",2,1)))-COUNTIFS(G:G,"<"&G10))/COUNTIFS(G:G,G10)))*(1*(1+VALUE(MID(J10,FIND(": ",J10)+2,FIND("/",J10)-FIND(":",J10)-2))-1)/VALUE(RIGHT(J10,1))+1)-2,-2))) | J10: =IF(F10="","",'Rd1'!J10) | M10: =IF(#REF!="","",#REF!) -> #REF! | N10: =IF(#REF!="","",#REF!) -> #REF! | O10: =IF(#REF!="","",#REF!) -> #REF! | P10: =IF(#REF!="","",#REF!) -> #REF! | Q10: =IF(P10="","",IF(ROUND((N10*(P10-1)-(1-N10))/(P10-1),3)<=0,"",ROUND((N10*(P10-1)-(1-N10))/(P10-1),3))) -> #REF! | R10: {=IF(Q10="","",RANK(Q10, $Q$2:$Q$241) + COUNTIFS($Q$2:$Q$241, Q10, $P$2:$P$241, "<"&P10) + COUNTIFS($Q$2:$Q$241, Q10, $P$2:$P$241, P10, $M$2:$M$241, "<"&M10))} -> #REF! | S10: =IF(#REF!="","",#REF!) -> #REF! | T10: =IF(OR(R10="",S10="",R10>3),"",IF(S10=1,(IF(COUNTIFS(S:S,"<="&S10)<=1,1,(1-COUNTIFS(S:S,"<"&S10))/COUNTIFS(S:S,S10)))*(1+VALUE(MID(V10,FIND(": ",V10)+2,FIND("/",V10)-FIND(":",V10)-2))-1)+(1+VALUE(MID(V10,FIND(": ",V10)+2,FIND("/",V10)-FIND(":",V10)-2))-1)/VALUE(RIGHT(V10,1)),IF(S10<=VALUE(MID(V10,FIND(", ",V10)+2,IF(MID(V10,FIND(", ",V10)+2,1)="1",2,1))),(IF(COUNTIFS(S:S,"<="&S10)<=VALUE(MID(V10,FIND(", ",V10)+2,IF(MID(V10,FIND(", ",V10)+2,1)="1",2,1))),1,(VALUE(MID(V10,FIND(", ",V10)+2,IF(MID(V10,FIND(", ",V10)+2,1)="1",2,1)))-COUNTIFS(S:S,"<"&S10))/COUNTIFS(S:S,S10)))*(1*(1+VALUE(MID(V10,FIND(": ",V10)+2,FIND("/",V10)-FIND(":",V10)-2))-1)/VALUE(RIGHT(V10,1))+1)-2,-2))) -> #REF! | U10: =IF(OR(Q10="",S10=""),"",IF(S10=1,(IF(COUNTIFS(S:S,"<="&S10)<=1,1,(1-COUNTIFS(S:S,"<"&S10))/COUNTIFS(S:S,S10)))*(1+VALUE(MID(V10,FIND(": ",V10)+2,FIND("/",V10)-FIND(":",V10)-2))-1)+(1+VALUE(MID(V10,FIND(": ",V10)+2,FIND("/",V10)-FIND(":",V10)-2))-1)/VALUE(RIGHT(V10,1)),IF(S10<=VALUE(MID(V10,FIND(", ",V10)+2,IF(MID(V10,FIND(", ",V10)+2,1)="1",2,1))),(IF(COUNTIFS(S:S,"<="&S10)<=VALUE(MID(V10,FIND(", ",V10)+2,IF(MID(V10,FIND(", ",V10)+2,1)="1",2,1))),1,(VALUE(MID(V10,FIND(", ",V10)+2,IF(MID(V10,FIND(", ",V10)+2,1)="1",2,1)))-COUNTIFS(S:S,"<"&S10))/COUNTIFS(S:S,S10)))*(1*(1+VALUE(MID(V10,FIND(": ",V10)+2,FIND("/",V10)-FIND(":",V10)-2))-1)/VALUE(RIGHT(V10,1))+1)-2,-2))) -> #REF! | V10: =IF(R10="","",#REF!) -> #REF!
A11: =IF('Rd1'!C11="","",'Rd1'!C11) -> Thorbjorn Olesen | B11: =IF('Rd1'!D11="","",VALUE('Rd1'!D11)) -> 0.438 | C11: =IF('Rd1'!E11="","",'Rd1'!E11) -> 2.3 | D11: =IF('Rd1'!F11="","",'Rd1'!F11) -> 2.2 | E11: =IF(D11="","",IF(ROUND((B11*(D11-1)-(1-B11))/(D11-1),3)<=0,"",ROUND((B11*(D11-1)-(1-B11))/(D11-1),3))) | F11: {=IF(E11="","",RANK(E11, $E$2:$E$241) + COUNTIFS($E$2:$E$241, E11, $D$2:$D$241, "<"&D11) + COUNTIFS($E$2:$E$241, E11, $D$2:$D$241, D11, $A$2:$A$241, "<"&A11))} | G11: =IF('Rd1'!H11="","",'Rd1'!H11) -> 69 | H11: =IF(OR(F11="",G11="",F11>3),"",IF(G11=1,(IF(COUNTIFS(G:G,"<="&G11)<=1,1,(1-COUNTIFS(G:G,"<"&G11))/COUNTIFS(G:G,G11)))*(1+VALUE(MID(J11,FIND(": ",J11)+2,FIND("/",J11)-FIND(":",J11)-2))-1)+(1+VALUE(MID(J11,FIND(": ",J11)+2,FIND("/",J11)-FIND(":",J11)-2))-1)/VALUE(RIGHT(J11,1)),IF(G11<=VALUE(MID(J11,FIND(", ",J11)+2,IF(MID(J11,FIND(", ",J11)+2,1)="1",2,1))),(IF(COUNTIFS(G:G,"<="&G11)<=VALUE(MID(J11,FIND(", ",J11)+2,IF(MID(J11,FIND(", ",J11)+2,1)="1",2,1))),1,(VALUE(MID(J11,FIND(", ",J11)+2,IF(MID(J11,FIND(", ",J11)+2,1)="1",2,1)))-COUNTIFS(G:G,"<"&G11))/COUNTIFS(G:G,G11)))*(1*(1+VALUE(MID(J11,FIND(": ",J11)+2,FIND("/",J11)-FIND(":",J11)-2))-1)/VALUE(RIGHT(J11,1))+1)-2,-2))) | I11: =IF(OR(E11="",G11=""),"",IF(G11=1,(IF(COUNTIFS(G:G,"<="&G11)<=1,1,(1-COUNTIFS(G:G,"<"&G11))/COUNTIFS(G:G,G11)))*(1+VALUE(MID(J11,FIND(": ",J11)+2,FIND("/",J11)-FIND(":",J11)-2))-1)+(1+VALUE(MID(J11,FIND(": ",J11)+2,FIND("/",J11)-FIND(":",J11)-2))-1)/VALUE(RIGHT(J11,1)),IF(G11<=VALUE(MID(J11,FIND(", ",J11)+2,IF(MID(J11,FIND(", ",J11)+2,1)="1",2,1))),(IF(COUNTIFS(G:G,"<="&G11)<=VALUE(MID(J11,FIND(", ",J11)+2,IF(MID(J11,FIND(", ",J11)+2,1)="1",2,1))),1,(VALUE(MID(J11,FIND(", ",J11)+2,IF(MID(J11,FIND(", ",J11)+2,1)="1",2,1)))-COUNTIFS(G:G,"<"&G11))/COUNTIFS(G:G,G11)))*(1*(1+VALUE(MID(J11,FIND(": ",J11)+2,FIND("/",J11)-FIND(":",J11)-2))-1)/VALUE(RIGHT(J11,1))+1)-2,-2))) | J11: =IF(F11="","",'Rd1'!J11) | M11: =IF(#REF!="","",#REF!) -> #REF! | N11: =IF(#REF!="","",#REF!) -> #REF! | O11: =IF(#REF!="","",#REF!) -> #REF! | P11: =IF(#REF!="","",#REF!) -> #REF! | Q11: =IF(P11="","",IF(ROUND((N11*(P11-1)-(1-N11))/(P11-1),3)<=0,"",ROUND((N11*(P11-1)-(1-N11))/(P11-1),3))) -> #REF! | R11: {=IF(Q11="","",RANK(Q11, $Q$2:$Q$241) + COUNTIFS($Q$2:$Q$241, Q11, $P$2:$P$241, "<"&P11) + COUNTIFS($Q$2:$Q$241, Q11, $P$2:$P$241, P11, $M$2:$M$241, "<"&M11))} -> #REF! | S11: =IF(#REF!="","",#REF!) -> #REF! | T11: =IF(OR(R11="",S11="",R11>3),"",IF(S11=1,(IF(COUNTIFS(S:S,"<="&S11)<=1,1,(1-COUNTIFS(S:S,"<"&S11))/COUNTIFS(S:S,S11)))*(1+VALUE(MID(V11,FIND(": ",V11)+2,FIND("/",V11)-FIND(":",V11)-2))-1)+(1+VALUE(MID(V11,FIND(": ",V11)+2,FIND("/",V11)-FIND(":",V11)-2))-1)/VALUE(RIGHT(V11,1)),IF(S11<=VALUE(MID(V11,FIND(", ",V11)+2,IF(MID(V11,FIND(", ",V11)+2,1)="1",2,1))),(IF(COUNTIFS(S:S,"<="&S11)<=VALUE(MID(V11,FIND(", ",V11)+2,IF(MID(V11,FIND(", ",V11)+2,1)="1",2,1))),1,(VALUE(MID(V11,FIND(", ",V11)+2,IF(MID(V11,FIND(", ",V11)+2,1)="1",2,1)))-COUNTIFS(S:S,"<"&S11))/COUNTIFS(S:S,S11)))*(1*(1+VALUE(MID(V11,FIND(": ",V11)+2,FIND("/",V11)-FIND(":",V11)-2))-1)/VALUE(RIGHT(V11,1))+1)-2,-2))) -> #REF! | U11: =IF(OR(Q11="",S11=""),"",IF(S11=1,(IF(COUNTIFS(S:S,"<="&S11)<=1,1,(1-COUNTIFS(S:S,"<"&S11))/COUNTIFS(S:S,S11)))*(1+VALUE(MID(V11,FIND(": ",V11)+2,FIND("/",V11)-FIND(":",V11)-2))-1)+(1+VALUE(MID(V11,FIND(": ",V11)+2,FIND("/",V11)-FIND(":",V11)-2))-1)/VALUE(RIGHT(V11,1)),IF(S11<=VALUE(MID(V11,FIND(", ",V11)+2,IF(MID(V11,FIND(", ",V11)+2,1)="1",2,1))),(IF(COUNTIFS(S:S,"<="&S11)<=VALUE(MID(V11,FIND(", ",V11)+2,IF(MID(V11,FIND(", ",V11)+2,1)="1",2,1))),1,(VALUE(MID(V11,FIND(", ",V11)+2,IF(MID(V11,FIND(", ",V11)+2,1)="1",2,1)))-COUNTIFS(S:S,"<"&S11))/COUNTIFS(S:S,S11)))*(1*(1+VALUE(MID(V11,FIND(": ",V11)+2,FIND("/",V11)-FIND(":",V11)-2))-1)/VALUE(RIGHT(V11,1))+1)-2,-2))) -> #REF! | V11: =IF(R11="","",#REF!) -> #REF!
A12: =IF('Rd1'!C12="","",'Rd1'!C12) -> Carson Young | B12: =IF('Rd1'!D12="","",VALUE('Rd1'!D12)) -> 0.3122 | C12: =IF('Rd1'!E12="","",'Rd1'!E12) -> 3.2 | D12: =IF('Rd1'!F12="","",'Rd1'!F12) -> 3 | E12: =IF(D12="","",IF(ROUND((B12*(D12-1)-(1-B12))/(D12-1),3)<=0,"",ROUND((B12*(D12-1)-(1-B12))/(D12-1),3))) | F12: {=IF(E12="","",RANK(E12, $E$2:$E$241) + COUNTIFS($E$2:$E$241, E12, $D$2:$D$241, "<"&D12) + COUNTIFS($E$2:$E$241, E12, $D$2:$D$241, D12, $A$2:$A$241, "<"&A12))} | G12: =IF('Rd1'!H12="","",'Rd1'!H12) -> 71 | H12: =IF(OR(F12="",G12="",F12>3),"",IF(G12=1,(IF(COUNTIFS(G:G,"<="&G12)<=1,1,(1-COUNTIFS(G:G,"<"&G12))/COUNTIFS(G:G,G12)))*(1+VALUE(MID(J12,FIND(": ",J12)+2,FIND("/",J12)-FIND(":",J12)-2))-1)+(1+VALUE(MID(J12,FIND(": ",J12)+2,FIND("/",J12)-FIND(":",J12)-2))-1)/VALUE(RIGHT(J12,1)),IF(G12<=VALUE(MID(J12,FIND(", ",J12)+2,IF(MID(J12,FIND(", ",J12)+2,1)="1",2,1))),(IF(COUNTIFS(G:G,"<="&G12)<=VALUE(MID(J12,FIND(", ",J12)+2,IF(MID(J12,FIND(", ",J12)+2,1)="1",2,1))),1,(VALUE(MID(J12,FIND(", ",J12)+2,IF(MID(J12,FIND(", ",J12)+2,1)="1",2,1)))-COUNTIFS(G:G,"<"&G12))/COUNTIFS(G:G,G12)))*(1*(1+VALUE(MID(J12,FIND(": ",J12)+2,FIND("/",J12)-FIND(":",J12)-2))-1)/VALUE(RIGHT(J12,1))+1)-2,-2))) | I12: =IF(OR(E12="",G12=""),"",IF(G12=1,(IF(COUNTIFS(G:G,"<="&G12)<=1,1,(1-COUNTIFS(G:G,"<"&G12))/COUNTIFS(G:G,G12)))*(1+VALUE(MID(J12,FIND(": ",J12)+2,FIND("/",J12)-FIND(":",J12)-2))-1)+(1+VALUE(MID(J12,FIND(": ",J12)+2,FIND("/",J12)-FIND(":",J12)-2))-1)/VALUE(RIGHT(J12,1)),IF(G12<=VALUE(MID(J12,FIND(", ",J12)+2,IF(MID(J12,FIND(", ",J12)+2,1)="1",2,1))),(IF(COUNTIFS(G:G,"<="&G12)<=VALUE(MID(J12,FIND(", ",J12)+2,IF(MID(J12,FIND(", ",J12)+2,1)="1",2,1))),1,(VALUE(MID(J12,FIND(", ",J12)+2,IF(MID(J12,FIND(", ",J12)+2,1)="1",2,1)))-COUNTIFS(G:G,"<"&G12))/COUNTIFS(G:G,G12)))*(1*(1+VALUE(MID(J12,FIND(": ",J12)+2,FIND("/",J12)-FIND(":",J12)-2))-1)/VALUE(RIGHT(J12,1))+1)-2,-2))) | J12: =IF(F12="","",'Rd1'!J12) | M12: =IF(#REF!="","",#REF!) -> #REF! | N12: =IF(#REF!="","",#REF!) -> #REF! | O12: =IF(#REF!="","",#REF!) -> #REF! | P12: =IF(#REF!="","",#REF!) -> #REF! | Q12: =IF(P12="","",IF(ROUND((N12*(P12-1)-(1-N12))/(P12-1),3)<=0,"",ROUND((N12*(P12-1)-(1-N12))/(P12-1),3))) -> #REF! | R12: {=IF(Q12="","",RANK(Q12, $Q$2:$Q$241) + COUNTIFS($Q$2:$Q$241, Q12, $P$2:$P$241, "<"&P12) + COUNTIFS($Q$2:$Q$241, Q12, $P$2:$P$241, P12, $M$2:$M$241, "<"&M12))} -> #REF! | S12: =IF(#REF!="","",#REF!) -> #REF! | T12: =IF(OR(R12="",S12="",R12>3),"",IF(S12=1,(IF(COUNTIFS(S:S,"<="&S12)<=1,1,(1-COUNTIFS(S:S,"<"&S12))/COUNTIFS(S:S,S12)))*(1+VALUE(MID(V12,FIND(": ",V12)+2,FIND("/",V12)-FIND(":",V12)-2))-1)+(1+VALUE(MID(V12,FIND(": ",V12)+2,FIND("/",V12)-FIND(":",V12)-2))-1)/VALUE(RIGHT(V12,1)),IF(S12<=VALUE(MID(V12,FIND(", ",V12)+2,IF(MID(V12,FIND(", ",V12)+2,1)="1",2,1))),(IF(COUNTIFS(S:S,"<="&S12)<=VALUE(MID(V12,FIND(", ",V12)+2,IF(MID(V12,FIND(", ",V12)+2,1)="1",2,1))),1,(VALUE(MID(V12,FIND(", ",V12)+2,IF(MID(V12,FIND(", ",V12)+2,1)="1",2,1)))-COUNTIFS(S:S,"<"&S12))/COUNTIFS(S:S,S12)))*(1*(1+VALUE(MID(V12,FIND(": ",V12)+2,FIND("/",V12)-FIND(":",V12)-2))-1)/VALUE(RIGHT(V12,1))+1)-2,-2))) -> #REF! | U12: =IF(OR(Q12="",S12=""),"",IF(S12=1,(IF(COUNTIFS(S:S,"<="&S12)<=1,1,(1-COUNTIFS(S:S,"<"&S12))/COUNTIFS(S:S,S12)))*(1+VALUE(MID(V12,FIND(": ",V12)+2,FIND("/",V12)-FIND(":",V12)-2))-1)+(1+VALUE(MID(V12,FIND(": ",V12)+2,FIND("/",V12)-FIND(":",V12)-2))-1)/VALUE(RIGHT(V12,1)),IF(S12<=VALUE(MID(V12,FIND(", ",V12)+2,IF(MID(V12,FIND(", ",V12)+2,1)="1",2,1))),(IF(COUNTIFS(S:S,"<="&S12)<=VALUE(MID(V12,FIND(", ",V12)+2,IF(MID(V12,FIND(", ",V12)+2,1)="1",2,1))),1,(VALUE(MID(V12,FIND(", ",V12)+2,IF(MID(V12,FIND(", ",V12)+2,1)="1",2,1)))-COUNTIFS(S:S,"<"&S12))/COUNTIFS(S:S,S12)))*(1*(1+VALUE(MID(V12,FIND(": ",V12)+2,FIND("/",V12)-FIND(":",V12)-2))-1)/VALUE(RIGHT(V12,1))+1)-2,-2))) -> #REF! | V12: =IF(R12="","",#REF!) -> #REF!
A13: =IF('Rd1'!C13="","",'Rd1'!C13) -> Will Gordon | B13: =IF('Rd1'!D13="","",VALUE('Rd1'!D13)) -> 0.2499 | C13: =IF('Rd1'!E13="","",'Rd1'!E13) -> 4 | D13: =IF('Rd1'!F13="","",'Rd1'!F13) -> 3.6 | E13: =IF(D13="","",IF(ROUND((B13*(D13-1)-(1-B13))/(D13-1),3)<=0,"",ROUND((B13*(D13-1)-(1-B13))/(D13-1),3))) | F13: {=IF(E13="","",RANK(E13, $E$2:$E$241) + COUNTIFS($E$2:$E$241, E13, $D$2:$D$241, "<"&D13) + COUNTIFS($E$2:$E$241, E13, $D$2:$D$241, D13, $A$2:$A$241, "<"&A13))} | G13: =IF('Rd1'!H13="","",'Rd1'!H13) -> 69 | H13: =IF(OR(F13="",G13="",F13>3),"",IF(G13=1,(IF(COUNTIFS(G:G,"<="&G13)<=1,1,(1-COUNTIFS(G:G,"<"&G13))/COUNTIFS(G:G,G13)))*(1+VALUE(MID(J13,FIND(": ",J13)+2,FIND("/",J13)-FIND(":",J13)-2))-1)+(1+VALUE(MID(J13,FIND(": ",J13)+2,FIND("/",J13)-FIND(":",J13)-2))-1)/VALUE(RIGHT(J13,1)),IF(G13<=VALUE(MID(J13,FIND(", ",J13)+2,IF(MID(J13,FIND(", ",J13)+2,1)="1",2,1))),(IF(COUNTIFS(G:G,"<="&G13)<=VALUE(MID(J13,FIND(", ",J13)+2,IF(MID(J13,FIND(", ",J13)+2,1)="1",2,1))),1,(VALUE(MID(J13,FIND(", ",J13)+2,IF(MID(J13,FIND(", ",J13)+2,1)="1",2,1)))-COUNTIFS(G:G,"<"&G13))/COUNTIFS(G:G,G13)))*(1*(1+VALUE(MID(J13,FIND(": ",J13)+2,FIND("/",J13)-FIND(":",J13)-2))-1)/VALUE(RIGHT(J13,1))+1)-2,-2))) | I13: =IF(OR(E13="",G13=""),"",IF(G13=1,(IF(COUNTIFS(G:G,"<="&G13)<=1,1,(1-COUNTIFS(G:G,"<"&G13))/COUNTIFS(G:G,G13)))*(1+VALUE(MID(J13,FIND(": ",J13)+2,FIND("/",J13)-FIND(":",J13)-2))-1)+(1+VALUE(MID(J13,FIND(": ",J13)+2,FIND("/",J13)-FIND(":",J13)-2))-1)/VALUE(RIGHT(J13,1)),IF(G13<=VALUE(MID(J13,FIND(", ",J13)+2,IF(MID(J13,FIND(", ",J13)+2,1)="1",2,1))),(IF(COUNTIFS(G:G,"<="&G13)<=VALUE(MID(J13,FIND(", ",J13)+2,IF(MID(J13,FIND(", ",J13)+2,1)="1",2,1))),1,(VALUE(MID(J13,FIND(", ",J13)+2,IF(MID(J13,FIND(", ",J13)+2,1)="1",2,1)))-COUNTIFS(G:G,"<"&G13))/COUNTIFS(G:G,G13)))*(1*(1+VALUE(MID(J13,FIND(": ",J13)+2,FIND("/",J13)-FIND(":",J13)-2))-1)/VALUE(RIGHT(J13,1))+1)-2,-2))) | J13: =IF(F13="","",'Rd1'!J13) | M13: =IF(#REF!="","",#REF!) -> #REF! | N13: =IF(#REF!="","",#REF!) -> #REF! | O13: =IF(#REF!="","",#REF!) -> #REF! | P13: =IF(#REF!="","",#REF!) -> #REF! | Q13: =IF(P13="","",IF(ROUND((N13*(P13-1)-(1-N13))/(P13-1),3)<=0,"",ROUND((N13*(P13-1)-(1-N13))/(P13-1),3))) -> #REF! | R13: {=IF(Q13="","",RANK(Q13, $Q$2:$Q$241) + COUNTIFS($Q$2:$Q$241, Q13, $P$2:$P$241, "<"&P13) + COUNTIFS($Q$2:$Q$241, Q13, $P$2:$P$241, P13, $M$2:$M$241, "<"&M13))} -> #REF! | S13: =IF(#REF!="","",#REF!) -> #REF! | T13: =IF(OR(R13="",S13="",R13>3),"",IF(S13=1,(IF(COUNTIFS(S:S,"<="&S13)<=1,1,(1-COUNTIFS(S:S,"<"&S13))/COUNTIFS(S:S,S13)))*(1+VALUE(MID(V13,FIND(": ",V13)+2,FIND("/",V13)-FIND(":",V13)-2))-1)+(1+VALUE(MID(V13,FIND(": ",V13)+2,FIND("/",V13)-FIND(":",V13)-2))-1)/VALUE(RIGHT(V13,1)),IF(S13<=VALUE(MID(V13,FIND(", ",V13)+2,IF(MID(V13,FIND(", ",V13)+2,1)="1",2,1))),(IF(COUNTIFS(S:S,"<="&S13)<=VALUE(MID(V13,FIND(", ",V13)+2,IF(MID(V13,FIND(", ",V13)+2,1)="1",2,1))),1,(VALUE(MID(V13,FIND(", ",V13)+2,IF(MID(V13,FIND(", ",V13)+2,1)="1",2,1)))-COUNTIFS(S:S,"<"&S13))/COUNTIFS(S:S,S13)))*(1*(1+VALUE(MID(V13,FIND(": ",V13)+2,FIND("/",V13)-FIND(":",V13)-2))-1)/VALUE(RIGHT(V13,1))+1)-2,-2))) -> #REF! | U13: =IF(OR(Q13="",S13=""),"",IF(S13=1,(IF(COUNTIFS(S:S,"<="&S13)<=1,1,(1-COUNTIFS(S:S,"<"&S13))/COUNTIFS(S:S,S13)))*(1+VALUE(MID(V13,FIND(": ",V13)+2,FIND("/",V13)-FIND(":",V13)-2))-1)+(1+VALUE(MID(V13,FIND(": ",V13)+2,FIND("/",V13)-FIND(":",V13)-2))-1)/VALUE(RIGHT(V13,1)),IF(S13<=VALUE(MID(V13,FIND(", ",V13)+2,IF(MID(V13,FIND(", ",V13)+2,1)="1",2,1))),(IF(COUNTIFS(S:S,"<="&S13)<=VALUE(MID(V13,FIND(", ",V13)+2,IF(MID(V13,FIND(", ",V13)+2,1)="1",2,1))),1,(VALUE(MID(V13,FIND(", ",V13)+2,IF(MID(V13,FIND(", ",V13)+2,1)="1",2,1)))-COUNTIFS(S:S,"<"&S13))/COUNTIFS(S:S,S13)))*(1*(1+VALUE(MID(V13,FIND(": ",V13)+2,FIND("/",V13)-FIND(":",V13)-2))-1)/VALUE(RIGHT(V13,1))+1)-2,-2))) -> #REF! | V13: =IF(R13="","",#REF!) -> #REF!
... A241: =IF('Rd1'!C241="","",'Rd1'!C241) | B241: =IF('Rd1'!D241="","",VALUE('Rd1'!D241)) | C241: =IF('Rd1'!E241="","",'Rd1'!E241) | D241: =IF('Rd1'!F241="","",'Rd1'!F241) | E241: =IF(D241="","",IF(ROUND((B241*(D241-1)-(1-B241))/(D241-1),3)<=0,"",ROUND((B241*(D241-1)-(1-B241))/(D241-1),3))) | F241: {=IF(E241="","",RANK(E241, $E$2:$E$241) + COUNTIFS($E$2:$E$241, E241, $D$2:$D$241, "<"&D241) + COUNTIFS($E$2:$E$241, E241, $D$2:$D$241, D241, $A$2:$A$241, "<"&A241))} | G241: =IF('Rd1'!H241="","",'Rd1'!H241) | H241: =IF(OR(F241="",G241="",F241>3),"",IF(G241=1,(IF(COUNTIFS(G:G,"<="&G241)<=1,1,(1-COUNTIFS(G:G,"<"&G241))/COUNTIFS(G:G,G241)))*(1+VALUE(MID(J241,FIND(": ",J241)+2,FIND("/",J241)-FIND(":",J241)-2))-1)+(1+VALUE(MID(J241,FIND(": ",J241)+2,FIND("/",J241)-FIND(":",J241)-2))-1)/VALUE(RIGHT(J241,1)),IF(G241<=VALUE(MID(J241,FIND(", ",J241)+2,IF(MID(J241,FIND(", ",J241)+2,1)="1",2,1))),(IF(COUNTIFS(G:G,"<="&G241)<=VALUE(MID(J241,FIND(", ",J241)+2,IF(MID(J241,FIND(", ",J241)+2,1)="1",2,1))),1,(VALUE(MID(J241,FIND(", ",J241)+2,IF(MID(J241,FIND(", ",J241)+2,1)="1",2,1)))-COUNTIFS(G:G,"<"&G241))/COUNTIFS(G:G,G241)))*(1*(1+VALUE(MID(J241,FIND(": ",J241)+2,FIND("/",J241)-FIND(":",J241)-2))-1)/VALUE(RIGHT(J241,1))+1)-2,-2))) | I241: =IF(OR(E241="",G241=""),"",IF(G241=1,(IF(COUNTIFS(G:G,"<="&G241)<=1,1,(1-COUNTIFS(G:G,"<"&G241))/COUNTIFS(G:G,G241)))*(1+VALUE(MID(J241,FIND(": ",J241)+2,FIND("/",J241)-FIND(":",J241)-2))-1)+(1+VALUE(MID(J241,FIND(": ",J241)+2,FIND("/",J241)-FIND(":",J241)-2))-1)/VALUE(RIGHT(J241,1)),IF(G241<=VALUE(MID(J241,FIND(", ",J241)+2,IF(MID(J241,FIND(", ",J241)+2,1)="1",2,1))),(IF(COUNTIFS(G:G,"<="&G241)<=VALUE(MID(J241,FIND(", ",J241)+2,IF(MID(J241,FIND(", ",J241)+2,1)="1",2,1))),1,(VALUE(MID(J241,FIND(", ",J241)+2,IF(MID(J241,FIND(", ",J241)+2,1)="1",2,1)))-COUNTIFS(G:G,"<"&G241))/COUNTIFS(G:G,G241)))*(1*(1+VALUE(MID(J241,FIND(": ",J241)+2,FIND("/",J241)-FIND(":",J241)-2))-1)/VALUE(RIGHT(J241,1))+1)-2,-2))) | J241: =IF(F241="","",'Rd1'!J241) | M241: =IF(#REF!="","",#REF!) -> #REF! | N241: =IF(#REF!="","",#REF!) -> #REF! | O241: =IF(#REF!="","",#REF!) -> #REF! | P241: =IF(#REF!="","",#REF!) -> #REF! | Q241: =IF(P241="","",IF(ROUND((N241*(P241-1)-(1-N241))/(P241-1),3)<=0,"",ROUND((N241*(P241-1)-(1-N241))/(P241-1),3))) -> #REF! | R241: {=IF(Q241="","",RANK(Q241, $Q$2:$Q$241) + COUNTIFS($Q$2:$Q$241, Q241, $P$2:$P$241, "<"&P241) + COUNTIFS($Q$2:$Q$241, Q241, $P$2:$P$241, P241, $M$2:$M$241, "<"&M241))} -> #REF! | S241: =IF(#REF!="","",#REF!) -> #REF! | T241: =IF(OR(R241="",S241="",R241>3),"",IF(S241=1,(IF(COUNTIFS(S:S,"<="&S241)<=1,1,(1-COUNTIFS(S:S,"<"&S241))/COUNTIFS(S:S,S241)))*(1+VALUE(MID(V241,FIND(": ",V241)+2,FIND("/",V241)-FIND(":",V241)-2))-1)+(1+VALUE(MID(V241,FIND(": ",V241)+2,FIND("/",V241)-FIND(":",V241)-2))-1)/VALUE(RIGHT(V241,1)),IF(S241<=VALUE(MID(V241,FIND(", ",V241)+2,IF(MID(V241,FIND(", ",V241)+2,1)="1",2,1))),(IF(COUNTIFS(S:S,"<="&S241)<=VALUE(MID(V241,FIND(", ",V241)+2,IF(MID(V241,FIND(", ",V241)+2,1)="1",2,1))),1,(VALUE(MID(V241,FIND(", ",V241)+2,IF(MID(V241,FIND(", ",V241)+2,1)="1",2,1)))-COUNTIFS(S:S,"<"&S241))/COUNTIFS(S:S,S241)))*(1*(1+VALUE(MID(V241,FIND(": ",V241)+2,FIND("/",V241)-FIND(":",V241)-2))-1)/VALUE(RIGHT(V241,1))+1)-2,-2))) -> #REF! | U241: =IF(OR(Q241="",S241=""),"",IF(S241=1,(IF(COUNTIFS(S:S,"<="&S241)<=1,1,(1-COUNTIFS(S:S,"<"&S241))/COUNTIFS(S:S,S241)))*(1+VALUE(MID(V241,FIND(": ",V241)+2,FIND("/",V241)-FIND(":",V241)-2))-1)+(1+VALUE(MID(V241,FIND(": ",V241)+2,FIND("/",V241)-FIND(":",V241)-2))-1)/VALUE(RIGHT(V241,1)),IF(S241<=VALUE(MID(V241,FIND(", ",V241)+2,IF(MID(V241,FIND(", ",V241)+2,1)="1",2,1))),(IF(COUNTIFS(S:S,"<="&S241)<=VALUE(MID(V241,FIND(", ",V241)+2,IF(MID(V241,FIND(", ",V241)+2,1)="1",2,1))),1,(VALUE(MID(V241,FIND(", ",V241)+2,IF(MID(V241,FIND(", ",V241)+2,1)="1",2,1)))-COUNTIFS(S:S,"<"&S241))/COUNTIFS(S:S,S241)))*(1*(1+VALUE(MID(V241,FIND(": ",V241)+2,FIND("/",V241)-FIND(":",V241)-2))-1)/VALUE(RIGHT(V241,1))+1)-2,-2))) -> #REF! | V241: =IF(R241="","",#REF!) -> #REF!

Sheet T3Picks
A1: Round | B1: Time | C1: Player | D1: Win % | E1: TT Odds | F1: Best Odds | G1: Kelly | H1: Score | I1: P/L
A2: 1 | B2: 0.79166667 | C2: Paul Peterson | D2: 45.68% | E2: 2.2 | F2: 2.7 | G2: 6.90% | H2: 68 | I2: 0.7
A3: 1 | B3: 0.80694444 | C3: Ashton McCulloch | D3: 30.03% | E3: 3.3 | F3: 4.8 | G3: 5.80% | H3: 78 | I3: -2
A4: 1 | B4: 0.80694444 | C4: Anders Albertson | D4: 41.15% | E4: 2.4 | F4: 2.75 | G4: 3.80% | H4: 68 | I4: 3.5
A5: 2 | B5: 0.73055556 | C5: Andrew Putnam | D5: 50.79% | E5: 1.97 | F5: 2.3 | G5: 6.50% | H5: 66 | I5: 2.6
A6: 2 | B6: 0.53541667 | C6: Emiliano Grillo | D6: 43.31% | E6: 2.3 | F6: 2.63 | G6: 4.30% | H6: 67 | I6: -2
A7: 2 | B7: 0.55833333 | C7: Luke Clanton | D7: 57.28% | E7: 1.75 | F7: 1.85 | G7: 3.50% | H7: 67 | I7: 1.7
A8: 3 | B8: 0.74305556 | C8: Luke Clanton | D8: 69.49% | E8: 1.44 | F8: 1.57 | G8: 8.00% | H8: 77 | I8: 1.14
A9: 3 | B9: 0.63541667 | C9: Min Woo Lee | D9: 68.15% | E9: 1.47 | F9: 1.57 | G9: 6.10% | H9: 68 | I9: -2
A10: 3 | B10: 0.60416667 | C10: Kaito Onishi | D10: 48.41% | E10: 2.1 | F10: 2.3 | G10: 4.40% | H10: 71 | I10: 2.6
A11: 4 | B11: 0.49236111 | C11: Byeong Hun An | D11: 59.88% | E11: 1.67 | F11: 1.91 | G11: 7.90% | H11: 67 | I11: 1.82
A12: 4 | B12: 0.49861111 | C12: Erik van Rooyen | D12: 66.02% | E12: 1.51 | F12: 1.67 | G12: 7.70% | H12: 70 | I12: 1.34
A13: 4 | B13: 0.52361111 | C13: Ben Kohles | D13: 60.27% | E13: 1.66 | F13: 1.85 | G13: 6.80% | H13: 72 | I13: -2
