Workbook

Sheet Results
A1: PLAYER
A2: =IF(J2="","",CONCATENATE(J2," ",I2))
A3: =IF(J3="","",CONCATENATE(J3," ",I3))
A4: =IF(J4="","",CONCATENATE(J4," ",I4))
A5: =IF(J5="","",CONCATENATE(J5," ",I5))
A6: =IF(J6="","",CONCATENATE(J6," ",I6))
A7: =IF(J7="","",CONCATENATE(J7," ",I7))
A8: =IF(J8="","",CONCATENATE(J8," ",I8))
A9: =IF(J9="","",CONCATENATE(J9," ",I9))
A10: =IF(J10="","",CONCATENATE(J10," ",I10))
A11: =IF(J11="","",CONCATENATE(J11," ",I11))
A12: =IF(J12="","",CONCATENATE(J12," ",I12))
A13: =IF(J13="","",CONCATENATE(J13," ",I13))
... A757: =IF(J757="","",CONCATENATE(J757," ",I757))
A758: =IF(J758="","",CONCATENATE(J758," ",I758)) | AK758: MU | AL758: Tee1 | AM758: Time1 | AN758: Tee2 | AO758: Time2 | AP758: Tee3 | AQ758: Time3 | AR758: Tee4 | AS758: Time4 | AT758: Tee5 | AU758: Time5 | AV758: dd | AW758: dd_rank | AX758: da | AY758: da_rank | AZ758: gir | BA758: gir_rank | BB758: ppr | BC758: ppr_rank | BD758: ppgir | BE758: ppgir_rank | BF758: sc | BG758: sc_rank | BH758: ss | BI758: ss_rank | BJ758: tdr_rank | BK758: acc_rank | BL758: bst_rank | BM758: putt_rank | BN758: all_rank | BO758: Par3 | BP758: Par3_rank | BQ758: Par4 | BR758: Par4_rank | BS758: Par5 | BT758: Par5_rank | BU758: Eagles | BV758: Birdies | BW758: Pars | BX758: Bogeys | BY758: Other | BZ758: s | CA758: p3 | CB758: p4 | CC758: p5 | CD758: field_dd | CE758: field_da | CF758: field_gir | CG758: field_sc | CH758: field_pa | CI758: field_ppr | CJ758: field_ss | CK758: field_par3 | CL758: field_par4 | CM758: field_par5 | CN758: field1_dd | CO758: field1_da | CP758: field1_gir | CQ758: field1_sc | CR758: field1_pa | CS758: field1_ppr | CT758: field1_ss | CU758: field1_par3 | CV758: field1_par4 | CW758: field1_par5 | CX758: Eagles_rank | CY758: Birdies_rank | CZ758: Pars_rank | DA758: Bogeys_rank | DB758: Other_rank | DC758: dd(r1) | DD758: dd(r1)_rank | DE758: dd(r2) | DF758: dd(r2)_rank | DG758: dd(r3) | DH758: dd(r3)_rank | DI758: dd(r4) | DJ758: dd(r4)_rank | DK758: dd(r5) | DL758: dd(r5)_rank | DM758: da(r1) | DN758: da(r1)_rank | DO758: da(r2) | DP758: da(r2)_rank | DQ758: da(r3) | DR758: da(r3)_rank | DS758: da(r4) | DT758: da(r4)_rank | DU758: da(r5) | DV758: da(r5)_rank | DW758: gir(r1) | DX758: gir(r1)_rank | DY758: gir(r2) | DZ758: gir(r2)_rank | EA758: gir(r3) | EB758: gir(r3)_rank | EC758: gir(r4) | ED758: gir(r4)_rank | EE758: gir(r5) | EF758: gir(r5)_rank | EG758: ppr(r1) | EH758: ppr(r1)_rank | EI758: ppr(r2) | EJ758: ppr(r2)_rank | EK758: ppr(r3) | EL758: ppr(r3)_rank | EM758: ppr(r4) | EN758: ppr(r4)_rank | EO758: ppr(r5) | EP758: ppr(r5)_rank | EQ758: ppgir(r1) | ER758: ppgir(r1)_rank | ES758: ppgir(r2) | ET758: ppgir(r2)_rank | EU758: ppgir(r3) | EV758: ppgir(r3)_rank | EW758: ppgir(r4) | EX758: ppgir(r4)_rank | EY758: ppgir(r5) | EZ758: ppgir(r5)_rank | FA758: sc(r1) | FB758: sc(r1)_rank | FC758: sc(r2) | FD758: sc(r2)_rank | FE758: sc(r3) | FF758: sc(r3)_rank | FG758: sc(r4) | FH758: sc(r4)_rank | FI758: sc(r5) | FJ758: sc(r5)_rank | FK758: ss(r1) | FL758: ss(r1)_rank | FM758: ss(r2) | FN758: ss(r2)_rank | FO758: ss(r3) | FP758: ss(r3)_rank | FQ758: ss(r4) | FR758: ss(r4)_rank | FS758: ss(r5) | FT758: ss(r5)_rank | FU758: par3(r1) | FV758: par3(r1)_rank | FW758: par3(r2) | FX758: par3(r2)_rank | FY758: par3(r3) | FZ758: par3(r3)_rank | GA758: par3(r4) | GB758: par3(r4)_rank | GC758: par3(r5) | GD758: par3(r5)_rank | GE758: par4(r1) | GF758: par4(r1)_rank | GG758: par4(r2) | GH758: par4(r2)_rank | GI758: par4(r3) | GJ758: par4(r3)_rank | GK758: par4(r4) | GL758: par4(r4)_rank | GM758: par4(r5) | GN758: par4(r5)_rank | GO758: par5(r1) | GP758: par5(r1)_rank | GQ758: par5(r2) | GR758: par5(r2)_rank | GS758: par5(r3) | GT758: par5(r3)_rank | GU758: par5(r4) | GV758: par5(r4)_rank | GW758: par5(r5) | GX758: par5(r5)_rank | GY758: eagles(r1) | GZ758: eagles(r1)_rank | HA758: eagles(r2) | HB758: eagles(r2)_rank | HC758: eagles(r3) | HD758: eagles(r3)_rank | HE758: eagles(r4) | HF758: eagles(r4)_rank | HG758: eagles(r5) | HH758: eagles(r5)_rank | HI758: birdies(r1) | HJ758: birdies(r1)_rank | HK758: birdies(r2) | HL758: birdies(r2)_rank | HM758: birdies(r3) | HN758: birdies(r3)_rank | HO758: birdies(r4) | HP758: birdies(r4)_rank | HQ758: birdies(r5) | HR758: birdies(r5)_rank | HS758: pars(r1) | HT758: pars(r1)_rank | HU758: pars(r2) | HV758: pars(r2)_rank | HW758: pars(r3) | HX758: pars(r3)_rank | HY758: pars(r4) | HZ758: pars(r4)_rank | IA758: pars(r5) | IB758: pars(r5)_rank | IC758: bogeys(r1) | ID758: bogeys(r1)_rank | IE758: bogeys(r2) | IF758: bogeys(r2)_rank | IG758: bogeys(r3) | IH758: bogeys(r3)_rank | II758: bogeys(r4) | IJ758: bogeys(r4)_rank | IK758: bogeys(r5) | IL758: bogeys(r5)_rank | IM758: other(r1) | IN758: other(r1)_rank | IO758: other(r2) | IP758: other(r2)_rank | IQ758: other(r3) | IR758: other(r3)_rank | IS758: other(r4) | IT758: other(r4)_rank | IU758: other(r5) | IV758: other(r5)_rank
A759: =IF(J759="","",CONCATENATE(J759," ",I759)) | AK759: 1 | AL759: 1 | AM759: 0.45 | AN759: 1 | AO759: 0.43194444 | AP759: 1 | AQ759: 0.47569444 | AR759: 10 | AS759: 0.42638889 | AV759: 253 | AW759: 10 | AX759: 75 | AY759: 19 | AZ759: 77.78 | BA759: 2 | BB759: 28.5 | BC759: 4 | BD759: 1.7 | BE759: 10 | BF759: 75 | BG759: 1 | BH759: 66.67 | BI759: 9 | BJ759: 12 | BK759: 8 | BL759: 4 | BM759: 7 | BN759: 1 | BO759: 1 | BP759: 14 | BQ759: -7 | BR759: 1 | BS759: -8 | BT759: 1 | BU759: 1 | BV759: 16 | BW759: 51 | BX759: 6 | BY759: 0 | BZ759: 6 | CA759: 16 | CB759: 40 | CC759: 16 | CD759: 254.43 | CE759: 72.82 | CF759: 69.12 | CG759: 52.59 | CH759: 1.7 | CI759: 29.34 | CJ759: 49.06 | CK759: 3.01 | CL759: 4.02 | CM759: 4.72 | CN759: 254.45 | CO759: 72.33 | CP759: 68.98 | CQ759: 52.6 | CR759: 1.7 | CS759: 29.31 | CT759: 48.86 | CU759: 3.01 | CV759: 4.02 | CW759: 4.72 | CX759: 1 | CY759: 4 | CZ759: 6 | DA759: 32 | DB759: 20 | DC759: 256 | DD759: 5 | DE759: 252 | DF759: 12 | DG759: 244 | DH759: 15 | DI759: 260 | DJ759: 4 | DM759: 57.14 | DN759: 28 | DO759: 85.71 | DP759: 9 | DQ759: 85.71 | DR759: 6 | DS759: 71.43 | DT759: 16 | DW759: 66.67 | DX759: 21 | DY759: 94.44 | DZ759: 1 | EA759: 83.33 | EB759: 2 | EC759: 66.67 | ED759: 13 | EG759: 27 | EH759: 3 | EI759: 31 | EJ759: 20 | EK759: 28 | EL759: 7 | EM759: 28 | EN759: 5 | EQ759: 1.58 | ER759: 6 | ES759: 1.76 | ET759: 18 | EU759: 1.73 | EV759: 17 | EW759: 1.67 | EX759: 14 | FA759: 66.67 | FB759: 7 | FC759: 100 | FD759: 1 | FE759: 100 | FF759: 1 | FG759: 66.67 | FH759: 3 | FK759: 66.67 | FL759: 6 | FM759: 0 | FN759: 8 | FO759: 100 | FP759: 1 | FQ759: 100 | FR759: 1 | FU759: 2 | FV759: 33 | FW759: 0 | FX759: 9 | FY759: 0 | FZ759: 13 | GA759: -1 | GB759: 1 | GE759: -3 | GF759: 2 | GG759: -2 | GH759: 3 | GI759: -2 | GJ759: 4 | GK759: 0 | GL759: 6 | GO759: -2 | GP759: 5 | GQ759: -3 | GR759: 2 | GS759: -2 | GT759: 1 | GU759: -1 | GV759: 16 | GY759: 0 | GZ759: 1 | HA759: 1 | HB759: 1 | HC759: 0 | HD759: 3 | HE759: 0 | HF759: 4 | HI759: 5 | HJ759: 7 | HK759: 3 | HL759: 15 | HM759: 4 | HN759: 7 | HO759: 4 | HP759: 6 | HS759: 11 | HT759: 19 | HU759: 14 | HV759: 4 | HW759: 14 | HX759: 2 | HY759: 12 | HZ759: 9 | IC759: 2 | ID759: 17 | IE759: 0 | IF759: 34 | IG759: 0 | IH759: 32 | II759: 4 | IJ759: 6 | IM759: 0 | IN759: 7 | IO759: 0 | IP759: 5 | IQ759: 0 | IR759: 8 | IS759: 0 | IT759: 12
A760: =IF(J760="","",CONCATENATE(J760," ",I760)) | AK760: 2 | AL760: 10 | AM760: 0.37361111 | AN760: 1 | AO760: 0.39375 | AP760: 1 | AQ760: 0.46041667 | AR760: 10 | AS760: 0.43402778 | AV760: 255.25 | AW760: 5 | AX760: 60.71 | AY760: 32 | AZ760: 66.67 | BA760: 21 | BB760: 27.25 | BC760: 1 | BD760: 1.6 | BE760: 1 | BF760: 70.83 | BG760: 2 | BH760: 83.33 | BI760: 4 | BJ760: 20 | BK760: 28 | BL760: 23 | BM760: 1 | BN760: 5 | BO760: 1 | BP760: 14 | BQ760: -6 | BR760: 3 | BS760: -7 | BT760: 4 | BU760: 0 | BV760: 19 | BW760: 46 | BX760: 9 | BY760: 0 | BZ760: 6 | CA760: 16 | CB760: 40 | CC760: 16 | CD760: 254.43 | CE760: 72.82 | CF760: 69.12 | CG760: 52.59 | CH760: 1.7 | CI760: 29.34 | CJ760: 49.06 | CK760: 3.01 | CL760: 4.02 | CM760: 4.72 | CN760: 254.45 | CO760: 72.33 | CP760: 68.98 | CQ760: 52.6 | CR760: 1.7 | CS760: 29.31 | CT760: 48.86 | CU760: 3.01 | CV760: 4.02 | CW760: 4.72 | CX760: 9 | CY760: 1 | CZ760: 21 | DA760: 20 | DB760: 20 | DC760: 253 | DD760: 11 | DE760: 263 | DF760: 2 | DG760: 253 | DH760: 4 | DI760: 252 | DJ760: 10 | DM760: 50 | DN760: 31 | DO760: 64.29 | DP760: 27 | DQ760: 57.14 | DR760: 33 | DS760: 71.43 | DT760: 16 | DW760: 72.22 | DX760: 16 | DY760: 66.67 | DZ760: 21 | EA760: 55.56 | EB760: 30 | EC760: 72.22 | ED760: 6 | EG760: 27 | EH760: 3 | EI760: 28 | EJ760: 5 | EK760: 24 | EL760: 1 | EM760: 30 | EN760: 18 | EQ760: 1.62 | ER760: 10 | ES760: 1.58 | ET760: 5 | EU760: 1.5 | EV760: 1 | EW760: 1.69 | EX760: 16 | FA760: 60 | FB760: 10 | FC760: 50 | FD760: 15 | FE760: 100 | FF760: 1 | FG760: 60 | FH760: 6 | FK760: 100 | FL760: 1 | FM760: 50 | FN760: 6 | FO760: 100 | FP760: 1 | FQ760: 100 | FR760: 1 | FU760: -1 | FV760: 5 | FW760: 1 | FX760: 18 | FY760: 0 | FZ760: 13 | GA760: 1 | GB760: 15 | GE760: 0 | GF760: 16 | GG760: -1 | GH760: 7 | GI760: -3 | GJ760: 2 | GK760: -2 | GL760: 2 | GO760: -2 | GP760: 5 | GQ760: -2 | GR760: 5 | GS760: -2 | GT760: 1 | GU760: -1 | GV760: 16 | GY760: 0 | GZ760: 1 | HA760: 0 | HB760: 4 | HC760: 0 | HD760: 3 | HE760: 0 | HF760: 4 | HI760: 5 | HJ760: 7 | HK760: 5 | HL760: 3 | HM760: 5 | HN760: 2 | HO760: 4 | HP760: 6 | HS760: 11 | HT760: 19 | HU760: 10 | HV760: 29 | HW760: 13 | HX760: 7 | HY760: 12 | HZ760: 9 | IC760: 2 | ID760: 17 | IE760: 3 | IF760: 8 | IG760: 0 | IH760: 32 | II760: 4 | IJ760: 6 | IM760: 0 | IN760: 7 | IO760: 0 | IP760: 5 | IQ760: 0 | IR760: 8 | IS760: 0 | IT760: 12
A761: =IF(J761="","",CONCATENATE(J761," ",I761)) | AK761: 3 | AL761: 1 | AM761: 0.42708333 | AN761: 1 | AO761: 0.43194444 | AP761: 1 | AQ761: 0.46041667 | AR761: 10 | AS761: 0.39583333 | AV761: 252.5 | AW761: 11 | AX761: 76.79 | AY761: 15 | AZ761: 76.39 | BA761: 5 | BB761: 28.75 | BC761: 6 | BD761: 1.71 | BE761: 13 | BF761: 64.71 | BG761: 7 | BH761: 50 | BI761: 12 | BJ761: 5 | BK761: 7 | BL761: 4 | BM761: 10 | BN761: 3 | BO761: 1 | BP761: 14 | BQ761: -7 | BR761: 1 | BS761: -4 | BT761: 12 | BU761: 1 | BV761: 15 | BW761: 49 | BX761: 11 | BY761: 0 | BZ761: 2 | CA761: 16 | CB761: 40 | CC761: 16 | CD761: 254.43 | CE761: 72.82 | CF761: 69.12 | CG761: 52.59 | CH761: 1.7 | CI761: 29.34 | CJ761: 49.06 | CK761: 3.01 | CL761: 4.02 | CM761: 4.72 | CN761: 254.45 | CO761: 72.33 | CP761: 68.98 | CQ761: 52.6 | CR761: 1.7 | CS761: 29.31 | CT761: 48.86 | CU761: 3.01 | CV761: 4.02 | CW761: 4.72 | CX761: 1 | CY761: 8 | CZ761: 8 | DA761: 12 | DB761: 20 | DC761: 255 | DD761: 6 | DE761: 261 | DF761: 6 | DG761: 237 | DH761: 26 | DI761: 257 | DJ761: 7 | DM761: 64.29 | DN761: 20 | DO761: 78.57 | DP761: 13 | DQ761: 78.57 | DR761: 16 | DS761: 85.71 | DT761: 3 | DW761: 94.44 | DX761: 2 | DY761: 61.11 | DZ761: 28 | EA761: 77.78 | EB761: 5 | EC761: 72.22 | ED761: 6 | EG761: 32 | EH761: 27 | EI761: 26 | EJ761: 1 | EK761: 30 | EL761: 17 | EM761: 27 | EN761: 2 | EQ761: 1.71 | ER761: 17 | ES761: 1.55 | ET761: 3 | EU761: 1.86 | EV761: 31 | EW761: 1.69 | EX761: 16 | FA761: 0 | FB761: 29 | FC761: 57.14 | FD761: 13 | FE761: 50 | FF761: 15 | FG761: 100 | FH761: 1 | FO761: 0 | FP761: 19 | FQ761: 100 | FR761: 1 | FU761: 0 | FV761: 15 | FW761: 0 | FX761: 9 | FY761: 1 | FZ761: 24 | GA761: 0 | GB761: 8 | GE761: -2 | GF761: 4 | GG761: 0 | GH761: 17 | GI761: -3 | GJ761: 2 | GK761: -2 | GL761: 2 | GO761: -1 | GP761: 15 | GQ761: -2 | GR761: 5 | GS761: 1 | GT761: 28 | GU761: -2 | GV761: 3 | GY761: 0 | GZ761: 1 | HA761: 0 | HB761: 4 | HC761: 1 | HD761: 1 | HE761: 0 | HF761: 4 | HI761: 5 | HJ761: 7 | HK761: 5 | HL761: 3 | HM761: 1 | HN761: 31 | HO761: 4 | HP761: 6 | HS761: 11 | HT761: 19 | HU761: 10 | HV761: 29 | HW761: 14 | HX761: 2 | HY761: 14 | HZ761: 2 | IC761: 2 | ID761: 17 | IE761: 3 | IF761: 8 | IG761: 2 | IH761: 15 | II761: 4 | IJ761: 6 | IM761: 0 | IN761: 7 | IO761: 0 | IP761: 5 | IQ761: 0 | IR761: 8 | IS761: 0 | IT761: 12
A762: =IF(J762="","",CONCATENATE(J762," ",I762)) | AK762: 5 | AL762: 1 | AM762: 0.45 | AN762: 1 | AO762: 0.44722222 | AP762: 1 | AQ762: 0.42222222 | AR762: 10 | AS762: 0.43402778 | AV762: 254.25 | AW762: 8 | AX762: 64.29 | AY762: 29 | AZ762: 72.22 | BA762: 13 | BB762: 28.5 | BC762: 4 | BD762: 1.69 | BE762: 9 | BF762: 55 | BG762: 12 | BH762: 50 | BI762: 12 | BJ762: 20 | BK762: 25 | BL762: 15 | BM762: 5 | BN762: 9 | BO762: 1 | BP762: 14 | BQ762: -1 | BR762: 9 | BS762: -8 | BT762: 1 | BU762: 1 | BV762: 15 | BW762: 47 | BX762: 7 | BY762: 0 | BZ762: 4 | CA762: 16 | CB762: 40 | CC762: 16 | CD762: 254.43 | CE762: 72.82 | CF762: 69.12 | CG762: 52.59 | CH762: 1.7 | CI762: 29.34 | CJ762: 49.06 | CK762: 3.01 | CL762: 4.02 | CM762: 4.72 | CN762: 254.45 | CO762: 72.33 | CP762: 68.98 | CQ762: 52.6 | CR762: 1.7 | CS762: 29.31 | CT762: 48.86 | CU762: 3.01 | CV762: 4.02 | CW762: 4.72 | CX762: 1 | CY762: 8 | CZ762: 17 | DA762: 27 | DB762: 20 | DC762: 260 | DD762: 3 | DE762: 262 | DF762: 3 | DG762: 249 | DH762: 9 | DI762: 246 | DJ762: 16 | DM762: 64.29 | DN762: 20 | DO762: 71.43 | DP762: 23 | DQ762: 64.29 | DR762: 30 | DS762: 57.14 | DT762: 32 | DW762: 77.78 | DX762: 10 | DY762: 77.78 | DZ762: 6 | EA762: 66.67 | EB762: 20 | EC762: 66.67 | ED762: 13 | EG762: 28 | EH762: 8 | EI762: 29 | EJ762: 11 | EK762: 26 | EL762: 3 | EM762: 31 | EN762: 24 | EQ762: 1.64 | ER762: 14 | ES762: 1.79 | ET762: 19 | EU762: 1.58 | EV762: 3 | EW762: 1.75 | EX762: 21 | FA762: 75 | FB762: 2 | FC762: 25 | FD762: 26 | FE762: 83.33 | FF762: 4 | FG762: 33.33 | FH762: 21 | FK762: 100 | FL762: 1 | FM762: 0 | FN762: 8 | FO762: 100 | FP762: 1 | FQ762: 0 | FR762: 16 | FU762: 0 | FV762: 15 | FW762: 2 | FX762: 30 | FY762: 0 | FZ762: 13 | GA762: -1 | GB762: 1 | GE762: -2 | GF762: 4 | GG762: 0 | GH762: 17 | GI762: -2 | GJ762: 4 | GK762: 3 | GL762: 25 | GO762: -2 | GP762: 5 | GQ762: -2 | GR762: 5 | GS762: -2 | GT762: 1 | GU762: -2 | GV762: 3 | GY762: 0 | GZ762: 1 | HA762: 0 | HB762: 4 | HC762: 0 | HD762: 3 | HE762: 1 | HF762: 1 | HI762: 5 | HJ762: 7 | HK762: 3 | HL762: 15 | HM762: 5 | HN762: 2 | HO762: 2 | HP762: 24 | HS762: 12 | HT762: 9 | HU762: 12 | HV762: 16 | HW762: 12 | HX762: 16 | HY762: 11 | HZ762: 13 | IC762: 1 | ID762: 29 | IE762: 3 | IF762: 8 | IG762: 1 | IH762: 27 | II762: 2 | IJ762: 24 | IM762: 0 | IN762: 7 | IO762: 0 | IP762: 5 | IQ762: 0 | IR762: 8 | IS762: 0 | IT762: 12
A763: =IF(J763="","",CONCATENATE(J763," ",I763)) | AK763: 5 | AL763: 1 | AM763: 0.40416667 | AN763: 1 | AO763: 0.45486111 | AP763: 1 | AQ763: 0.47569444 | AR763: 10 | AS763: 0.41875 | AV763: 237.75 | AW763: 24 | AX763: 92.86 | AY763: 1 | AZ763: 75 | BA763: 7 | BB763: 29.5 | BC763: 14 | BD763: 1.74 | BE763: 22 | BF763: 66.67 | BG763: 5 | BH763: 50 | BI763: 12 | BJ763: 4 | BK763: 2 | BL763: 6 | BM763: 18 | BN763: 4 | BO763: 0 | BP763: 8 | BQ763: -4 | BR763: 4 | BS763: -4 | BT763: 12 | BU763: 0 | BV763: 14 | BW763: 52 | BX763: 7 | BY763: 0 | BZ763: 2 | CA763: 16 | CB763: 40 | CC763: 16 | CD763: 254.43 | CE763: 72.82 | CF763: 69.12 | CG763: 52.59 | CH763: 1.7 | CI763: 29.34 | CJ763: 49.06 | CK763: 3.01 | CL763: 4.02 | CM763: 4.72 | CN763: 254.45 | CO763: 72.33 | CP763: 68.98 | CQ763: 52.6 | CR763: 1.7 | CS763: 29.31 | CT763: 48.86 | CU763: 3.01 | CV763: 4.02 | CW763: 4.72 | CX763: 9 | CY763: 13 | CZ763: 4 | DA763: 27 | DB763: 20 | DC763: 232 | DD763: 29 | DE763: 238 | DF763: 26 | DG763: 240 | DH763: 21 | DI763: 241 | DJ763: 23 | DM763: 100 | DN763: 1 | DO763: 92.86 | DP763: 5 | DQ763: 92.86 | DR763: 2 | DS763: 85.71 | DT763: 3 | DW763: 94.44 | DX763: 2 | DY763: 61.11 | DZ763: 28 | EA763: 83.33 | EB763: 2 | EC763: 61.11 | ED763: 19 | EG763: 28 | EH763: 8 | EI763: 28 | EJ763: 5 | EK763: 34 | EL763: 35 | EM763: 28 | EN763: 5 | EQ763: 1.59 | ER763: 8 | ES763: 1.82 | ET763: 26 | EU763: 1.93 | EV763: 35 | EW763: 1.64 | EX763: 9 | FA763: 100 | FB763: 1 | FC763: 85.71 | FD763: 4 | FE763: 33.33 | FF763: 29 | FG763: 57.14 | FH763: 7 | FO763: 100 | FP763: 1 | FQ763: 0 | FR763: 16 | FU763: -2 | FV763: 1 | FW763: 1 | FX763: 18 | FY763: 0 | FZ763: 13 | GA763: 1 | GB763: 15 | GE763: -4 | GF763: 1 | GG763: -1 | GH763: 7 | GI763: 1 | GJ763: 27 | GK763: 0 | GL763: 6 | GO763: -1 | GP763: 15 | GQ763: -1 | GR763: 16 | GS763: 0 | GT763: 19 | GU763: -2 | GV763: 3 | GY763: 0 | GZ763: 1 | HA763: 0 | HB763: 4 | HC763: 0 | HD763: 3 | HE763: 0 | HF763: 4 | HI763: 7 | HJ763: 2 | HK763: 2 | HL763: 24 | HM763: 1 | HN763: 31 | HO763: 4 | HP763: 6 | HS763: 11 | HT763: 19 | HU763: 15 | HV763: 3 | HW763: 15 | HX763: 1 | HY763: 11 | HZ763: 13 | IC763: 0 | ID763: 34 | IE763: 1 | IF763: 26 | IG763: 2 | IH763: 15 | II763: 4 | IJ763: 6 | IM763: 0 | IN763: 7 | IO763: 0 | IP763: 5 | IQ763: 0 | IR763: 8 | IS763: 0 | IT763: 12
A764: =IF(J764="","",CONCATENATE(J764," ",I764)) | AK764: 5 | AL764: 1 | AM764: 0.46527778 | AN764: 1 | AO764: 0.38611111 | AP764: 1 | AQ764: 0.45277778 | AR764: 1 | AS764: 0.37291667 | AV764: 232.25 | AW764: 30 | AX764: 83.93 | AY764: 8 | AZ764: 73.61 | BA764: 10 | BB764: 29 | BC764: 9 | BD764: 1.68 | BE764: 7 | BF764: 52.63 | BG764: 13 | BH764: 50 | BI764: 12 | BJ764: 24 | BK764: 5 | BL764: 14 | BM764: 8 | BN764: 6 | BO764: 1 | BP764: 14 | BQ764: -1 | BR764: 9 | BS764: -8 | BT764: 1 | BU764: 0 | BV764: 17 | BW764: 46 | BX764: 12 | BY764: 0 | BZ764: 4 | CA764: 16 | CB764: 40 | CC764: 16 | CD764: 254.43 | CE764: 72.82 | CF764: 69.12 | CG764: 52.59 | CH764: 1.7 | CI764: 29.34 | CJ764: 49.06 | CK764: 3.01 | CL764: 4.02 | CM764: 4.72 | CN764: 254.45 | CO764: 72.33 | CP764: 68.98 | CQ764: 52.6 | CR764: 1.7 | CS764: 29.31 | CT764: 48.86 | CU764: 3.01 | CV764: 4.02 | CW764: 4.72 | CX764: 9 | CY764: 3 | CZ764: 21 | DA764: 10 | DB764: 20 | DC764: 227 | DD764: 34 | DE764: 230 | DF764: 32 | DG764: 239 | DH764: 22 | DI764: 233 | DJ764: 31 | DM764: 78.57 | DN764: 15 | DO764: 78.57 | DP764: 13 | DQ764: 92.86 | DR764: 2 | DS764: 85.71 | DT764: 3 | DW764: 72.22 | DX764: 16 | DY764: 66.67 | DZ764: 21 | EA764: 77.78 | EB764: 5 | EC764: 77.78 | ED764: 3 | EG764: 29 | EH764: 15 | EI764: 28 | EJ764: 5 | EK764: 31 | EL764: 23 | EM764: 28 | EN764: 5 | EQ764: 1.69 | ER764: 16 | ES764: 1.58 | ET764: 5 | EU764: 1.79 | EV764: 23 | EW764: 1.64 | EX764: 12 | FA764: 60 | FB764: 10 | FC764: 50 | FD764: 15 | FE764: 50 | FF764: 15 | FG764: 50 | FH764: 9 | FK764: 50 | FL764: 7 | FQ764: 50 | FR764: 8 | FU764: -2 | FV764: 1 | FW764: 2 | FX764: 30 | FY764: 0 | FZ764: 13 | GA764: 1 | GB764: 15 | GE764: 2 | GF764: 25 | GG764: -1 | GH764: 7 | GI764: 0 | GJ764: 19 | GK764: -2 | GL764: 2 | GO764: -2 | GP764: 5 | GQ764: -3 | GR764: 2 | GS764: -1 | GT764: 9 | GU764: -2 | GV764: 3 | GY764: 0 | GZ764: 1 | HA764: 0 | HB764: 4 | HC764: 0 | HD764: 3 | HE764: 0 | HF764: 4 | HI764: 4 | HJ764: 13 | HK764: 5 | HL764: 3 | HM764: 3 | HN764: 18 | HO764: 5 | HP764: 2 | HS764: 12 | HT764: 9 | HU764: 10 | HV764: 29 | HW764: 13 | HX764: 7 | HY764: 11 | HZ764: 13 | IC764: 2 | ID764: 17 | IE764: 3 | IF764: 8 | IG764: 2 | IH764: 15 | II764: 5 | IJ764: 2 | IM764: 0 | IN764: 7 | IO764: 0 | IP764: 5 | IQ764: 0 | IR764: 8 | IS764: 0 | IT764: 12
A765: =IF(J765="","",CONCATENATE(J765," ",I765)) | AK765: 7.5 | AL765: 1 | AM765: 0.39652778 | AN765: 10 | AO765: 0.40902778 | AP765: 1 | AQ765: 0.4375 | AR765: 10 | AS765: 0.41111111 | AV765: 258 | AW765: 2 | AX765: 76.79 | AY765: 17 | AZ765: 76.39 | BA765: 5 | BB765: 30 | BC765: 20 | BD765: 1.71 | BE765: 13 | BF765: 58.82 | BG765: 8 | BH765: 50 | BI765: 12 | BJ765: 1 | BK765: 10 | BL765: 2 | BM765: 16 | BN765: 2 | BO765: 3 | BP765: 26 | BQ765: -3 | BR765: 6 | BS765: -7 | BT765: 4 | BU765: 0 | BV765: 16 | BW765: 48 | BX765: 8 | BY765: 1 | BZ765: 2 | CA765: 16 | CB765: 40 | CC765: 16 | CD765: 254.43 | CE765: 72.82 | CF765: 69.12 | CG765: 52.59 | CH765: 1.7 | CI765: 29.34 | CJ765: 49.06 | CK765: 3.01 | CL765: 4.02 | CM765: 4.72 | CN765: 254.45 | CO765: 72.33 | CP765: 68.98 | CQ765: 52.6 | CR765: 1.7 | CS765: 29.31 | CT765: 48.86 | CU765: 3.01 | CV765: 4.02 | CW765: 4.72 | CX765: 9 | CY765: 4 | CZ765: 12 | DA765: 23 | DB765: 8 | DC765: 254 | DD765: 8 | DE765: 262 | DF765: 3 | DG765: 268 | DH765: 1 | DI765: 248 | DJ765: 12 | DM765: 50 | DN765: 31 | DO765: 78.57 | DP765: 13 | DQ765: 100 | DR765: 1 | DS765: 78.57 | DT765: 10 | DW765: 61.11 | DX765: 26 | DY765: 77.78 | DZ765: 6 | EA765: 77.78 | EB765: 5 | EC765: 88.89 | ED765: 1 | EG765: 31 | EH765: 23 | EI765: 26 | EJ765: 1 | EK765: 30 | EL765: 17 | EM765: 33 | EN765: 30 | EQ765: 1.82 | ER765: 29 | ES765: 1.57 | ET765: 4 | EU765: 1.71 | EV765: 13 | EW765: 1.75 | EX765: 21 | FA765: 57.14 | FB765: 13 | FC765: 100 | FD765: 1 | FE765: 50 | FF765: 15 | FG765: 0 | FH765: 33 | FK765: 50 | FL765: 7 | FU765: 3 | FV765: 34 | FW765: -1 | FX765: 2 | FY765: 1 | FZ765: 24 | GA765: 0 | GB765: 8 | GE765: -1 | GF765: 9 | GG765: -1 | GH765: 7 | GI765: -2 | GJ765: 4 | GK765: 1 | GL765: 13 | GO765: 0 | GP765: 24 | GQ765: -4 | GR765: 1 | GS765: -1 | GT765: 9 | GU765: -2 | GV765: 3 | GY765: 0 | GZ765: 1 | HA765: 0 | HB765: 4 | HC765: 0 | HD765: 3 | HE765: 0 | HF765: 4 | HI765: 2 | HJ765: 28 | HK765: 6 | HL765: 2 | HM765: 4 | HN765: 7 | HO765: 4 | HP765: 6 | HS765: 13 | HT765: 6 | HU765: 12 | HV765: 16 | HW765: 12 | HX765: 16 | HY765: 11 | HZ765: 13 | IC765: 2 | ID765: 17 | IE765: 0 | IF765: 34 | IG765: 2 | IH765: 15 | II765: 4 | IJ765: 6 | IM765: 1 | IN765: 2 | IO765: 0 | IP765: 5 | IQ765: 0 | IR765: 8 | IS765: 0 | IT765: 12
A766: =IF(J766="","",CONCATENATE(J766," ",I766)) | AK766: 7.5 | AL766: 1 | AM766: 0.38888889 | AN766: 1 | AO766: 0.40902778 | AP766: 1 | AQ766: 0.44513889 | AR766: 10 | AS766: 0.40347222 | AV766: 243.25 | AW766: 18 | AX766: 89.29 | AY766: 3 | AZ766: 81.94 | BA766: 1 | BB766: 31 | BC766: 28 | BD766: 1.76 | BE766: 27 | BF766: 46.15 | BG766: 21 | BJ766: 2 | BK766: 1 | BL766: 1 | BM766: 29 | BN766: 8 | BO766: -3 | BP766: 2 | BQ766: -1 | BR766: 9 | BS766: -3 | BT766: 20 | BU766: 1 | BV766: 13 | BW766: 51 | BX766: 5 | BY766: 1 | BZ766: 0 | CA766: 16 | CB766: 40 | CC766: 16 | CD766: 254.43 | CE766: 72.82 | CF766: 69.12 | CG766: 52.59 | CH766: 1.7 | CI766: 29.34 | CJ766: 49.06 | CK766: 3.01 | CL766: 4.02 | CM766: 4.72 | CN766: 254.45 | CO766: 72.33 | CP766: 68.98 | CQ766: 52.6 | CR766: 1.7 | CS766: 29.31 | CT766: 48.86 | CU766: 3.01 | CV766: 4.02 | CW766: 4.72 | CX766: 1 | CY766: 21 | CZ766: 6 | DA766: 34 | DB766: 8 | DC766: 237 | DD766: 22 | DE766: 245 | DF766: 20 | DG766: 244 | DH766: 15 | DI766: 247 | DJ766: 13 | DM766: 92.86 | DN766: 3 | DO766: 85.71 | DP766: 9 | DQ766: 85.71 | DR766: 6 | DS766: 92.86 | DT766: 1 | DW766: 83.33 | DX766: 6 | DY766: 83.33 | DZ766: 3 | EA766: 77.78 | EB766: 5 | EC766: 83.33 | ED766: 2 | EG766: 30 | EH766: 18 | EI766: 33 | EJ766: 30 | EK766: 28 | EL766: 7 | EM766: 33 | EN766: 30 | EQ766: 1.67 | ER766: 15 | ES766: 1.8 | ET766: 24 | EU766: 1.71 | EV766: 13 | EW766: 1.87 | EX766: 29 | FA766: 33.33 | FB766: 23 | FC766: 33.33 | FD766: 24 | FE766: 75 | FF766: 6 | FG766: 33.33 | FH766: 21 | FU766: -2 | FV766: 1 | FW766: -1 | FX766: 2 | FY766: -1 | FZ766: 4 | GA766: 1 | GB766: 15 | GE766: -2 | GF766: 4 | GG766: 0 | GH766: 17 | GI766: 1 | GJ766: 27 | GK766: 0 | GL766: 6 | GO766: 1 | GP766: 32 | GQ766: 0 | GR766: 19 | GS766: -2 | GT766: 1 | GU766: -2 | GV766: 3 | GY766: 0 | GZ766: 1 | HA766: 0 | HB766: 4 | HC766: 0 | HD766: 3 | HE766: 1 | HF766: 1 | HI766: 5 | HJ766: 7 | HK766: 3 | HL766: 15 | HM766: 4 | HN766: 7 | HO766: 1 | HP766: 28 | HS766: 11 | HT766: 19 | HU766: 13 | HV766: 10 | HW766: 13 | HX766: 7 | HY766: 14 | HZ766: 2 | IC766: 2 | ID766: 17 | IE766: 2 | IF766: 18 | IG766: 0 | IH766: 32 | II766: 1 | IJ766: 28 | IM766: 0 | IN766: 7 | IO766: 0 | IP766: 5 | IQ766: 1 | IR766: 2 | IS766: 0 | IT766: 12
A767: =IF(J767="","",CONCATENATE(J767," ",I767)) | AK767: 9.5 | AL767: 10 | AM767: 0.41180556 | AN767: 1 | AO767: 0.34027778 | AP767: 1 | AQ767: 0.41458333 | AR767: 1 | AS767: 0.38055556 | AV767: 232 | AW767: 31 | AX767: 89.29 | AY767: 2 | AZ767: 75 | BA767: 7 | BB767: 30 | BC767: 20 | BD767: 1.72 | BE767: 20 | BF767: 50 | BG767: 15 | BH767: 60 | BI767: 10 | BJ767: 16 | BK767: 3 | BL767: 9 | BM767: 20 | BN767: 12 | BO767: -2 | BP767: 4 | BQ767: 0 | BR767: 14 | BS767: -4 | BT767: 12 | BU767: 0 | BV767: 15 | BW767: 48 | BX767: 10 | BY767: 0 | BZ767: 5 | CA767: 16 | CB767: 40 | CC767: 16 | CD767: 254.43 | CE767: 72.82 | CF767: 69.12 | CG767: 52.59 | CH767: 1.7 | CI767: 29.34 | CJ767: 49.06 | CK767: 3.01 | CL767: 4.02 | CM767: 4.72 | CN767: 254.45 | CO767: 72.33 | CP767: 68.98 | CQ767: 52.6 | CR767: 1.7 | CS767: 29.31 | CT767: 48.86 | CU767: 3.01 | CV767: 4.02 | CW767: 4.72 | CX767: 9 | CY767: 8 | CZ767: 12 | DA767: 17 | DB767: 20 | DC767: 231 | DD767: 30 | DE767: 224 | DF767: 35 | DG767: 241 | DH767: 20 | DI767: 232 | DJ767: 33 | DM767: 85.71 | DN767: 8 | DO767: 92.86 | DP767: 5 | DQ767: 92.86 | DR767: 2 | DS767: 85.71 | DT767: 3 | DW767: 72.22 | DX767: 16 | DY767: 77.78 | DZ767: 6 | EA767: 77.78 | EB767: 5 | EC767: 72.22 | ED767: 6 | EG767: 30 | EH767: 18 | EI767: 30 | EJ767: 16 | EK767: 30 | EL767: 17 | EM767: 30 | EN767: 18 | EQ767: 1.77 | ER767: 23 | ES767: 1.71 | ET767: 14 | EU767: 1.79 | EV767: 23 | EW767: 1.62 | EX767: 6 | FA767: 60 | FB767: 10 | FC767: 50 | FD767: 15 | FE767: 75 | FF767: 6 | FG767: 20 | FH767: 28 | FK767: 100 | FL767: 1 | FQ767: 33.33 | FR767: 14 | FU767: -1 | FV767: 5 | FW767: 0 | FX767: 9 | FY767: -1 | FZ767: 4 | GA767: 0 | GB767: 8 | GE767: 1 | GF767: 23 | GG767: 0 | GH767: 17 | GI767: 0 | GJ767: 19 | GK767: -1 | GL767: 5 | GO767: -1 | GP767: 15 | GQ767: -2 | GR767: 5 | GS767: -1 | GT767: 9 | GU767: 0 | GV767: 25 | GY767: 0 | GZ767: 1 | HA767: 0 | HB767: 4 | HC767: 0 | HD767: 3 | HE767: 0 | HF767: 4 | HI767: 3 | HJ767: 20 | HK767: 4 | HL767: 10 | HM767: 3 | HN767: 18 | HO767: 5 | HP767: 2 | HS767: 13 | HT767: 6 | HU767: 12 | HV767: 16 | HW767: 14 | HX767: 2 | HY767: 9 | HZ767: 26 | IC767: 2 | ID767: 17 | IE767: 2 | IF767: 18 | IG767: 1 | IH767: 27 | II767: 5 | IJ767: 2 | IM767: 0 | IN767: 7 | IO767: 0 | IP767: 5 | IQ767: 0 | IR767: 8 | IS767: 0 | IT767: 12
A768: =IF(J768="","",CONCATENATE(J768," ",I768)) | AK768: 9.5 | AL768: 10 | AM768: 0.36597222 | AN768: 1 | AO768: 0.37083333 | AP768: 1 | AQ768: 0.46805556 | AR768: 10 | AS768: 0.42638889 | AV768: 233.5 | AW768: 28 | AX768: 87.5 | AY768: 4 | AZ768: 73.61 | BA768: 10 | BB768: 29.25 | BC768: 13 | BD768: 1.72 | BE768: 18 | BF768: 52.63 | BG768: 13 | BH768: 50 | BI768: 12 | BJ768: 14 | BK768: 4 | BL768: 10 | BM768: 15 | BN768: 10 | BO768: 0 | BP768: 8 | BQ768: -1 | BR768: 9 | BS768: -5 | BT768: 7 | BU768: 0 | BV768: 15 | BW768: 48 | BX768: 8 | BY768: 0 | BZ768: 4 | CA768: 16 | CB768: 40 | CC768: 16 | CD768: 254.43 | CE768: 72.82 | CF768: 69.12 | CG768: 52.59 | CH768: 1.7 | CI768: 29.34 | CJ768: 49.06 | CK768: 3.01 | CL768: 4.02 | CM768: 4.72 | CN768: 254.45 | CO768: 72.33 | CP768: 68.98 | CQ768: 52.6 | CR768: 1.7 | CS768: 29.31 | CT768: 48.86 | CU768: 3.01 | CV768: 4.02 | CW768: 4.72 | CX768: 9 | CY768: 8 | CZ768: 12 | DA768: 23 | DB768: 20 | DC768: 233 | DD768: 27 | DE768: 237 | DF768: 29 | DG768: 231 | DH768: 29 | DI768: 233 | DJ768: 31 | DM768: 85.71 | DN768: 8 | DO768: 100 | DP768: 1 | DQ768: 92.86 | DR768: 2 | DS768: 71.43 | DT768: 16 | DW768: 61.11 | DX768: 26 | DY768: 83.33 | DZ768: 3 | EA768: 77.78 | EB768: 5 | EC768: 72.22 | ED768: 6 | EG768: 26 | EH768: 1 | EI768: 29 | EJ768: 11 | EK768: 31 | EL768: 23 | EM768: 31 | EN768: 24 | EQ768: 1.64 | ER768: 12 | ES768: 1.67 | ET768: 9 | EU768: 1.71 | EV768: 13 | EW768: 1.85 | EX768: 28 | FA768: 71.43 | FB768: 6 | FC768: 66.67 | FD768: 8 | FE768: 25 | FF768: 33 | FG768: 40 | FH768: 18 | FK768: 0 | FL768: 12 | FM768: 0 | FN768: 8 | FO768: 100 | FP768: 1 | FU768: 0 | FV768: 15 | FW768: 0 | FX768: 9 | FY768: 0 | FZ768: 13 | GA768: 0 | GB768: 8 | GE768: -2 | GF768: 4 | GG768: -2 | GH768: 3 | GI768: 1 | GJ768: 27 | GK768: 2 | GL768: 18 | GO768: 0 | GP768: 24 | GQ768: -2 | GR768: 5 | GS768: -2 | GT768: 1 | GU768: -1 | GV768: 16 | GY768: 0 | GZ768: 1 | HA768: 0 | HB768: 4 | HC768: 0 | HD768: 3 | HE768: 0 | HF768: 4 | HI768: 4 | HJ768: 13 | HK768: 5 | HL768: 3 | HM768: 4 | HN768: 7 | HO768: 2 | HP768: 24 | HS768: 12 | HT768: 9 | HU768: 12 | HV768: 16 | HW768: 11 | HX768: 28 | HY768: 13 | HZ768: 4 | IC768: 2 | ID768: 17 | IE768: 1 | IF768: 26 | IG768: 3 | IH768: 6 | II768: 2 | IJ768: 24 | IM768: 0 | IN768: 7 | IO768: 0 | IP768: 5 | IQ768: 0 | IR768: 8 | IS768: 0 | IT768: 12
A769: =IF(J769="","",CONCATENATE(J769," ",I769)) | AK769: 11 | AL769: 1 | AM769: 0.35833333 | AN769: 1 | AO769: 0.36319444 | AP769: 1 | AQ769: 0.39166667 | AR769: 1 | AS769: 0.38819444 | AV769: 240.75 | AW769: 21 | AX769: 82.14 | AY769: 11 | AZ769: 72.22 | BA769: 13 | BB769: 29.75 | BC769: 17 | BD769: 1.77 | BE769: 29 | BF769: 65 | BG769: 6 | BH769: 100 | BI769: 1 | BJ769: 14 | BK769: 11 | BL769: 12 | BM769: 24 | BN769: 15 | BO769: 0 | BP769: 8 | BQ769: -2 | BR769: 7 | BS769: -3 | BT769: 20 | BU769: 0 | BV769: 12 | BW769: 53 | BX769: 7 | BY769: 0 | BZ769: 1 | CA769: 16 | CB769: 40 | CC769: 16 | CD769: 254.43 | CE769: 72.82 | CF769: 69.12 | CG769: 52.59 | CH769: 1.7 | CI769: 29.34 | CJ769: 49.06 | CK769: 3.01 | CL769: 4.02 | CM769: 4.72 | CN769: 254.45 | CO769: 72.33 | CP769: 68.98 | CQ769: 52.6 | CR769: 1.7 | CS769: 29.31 | CT769: 48.86 | CU769: 3.01 | CV769: 4.02 | CW769: 4.72 | CX769: 9 | CY769: 23 | CZ769: 3 | DA769: 27 | DB769: 20 | DC769: 235 | DD769: 23 | DE769: 246 | DF769: 17 | DG769: 239 | DH769: 22 | DI769: 243 | DJ769: 21 | DM769: 85.71 | DN769: 8 | DO769: 78.57 | DP769: 13 | DQ769: 85.71 | DR769: 6 | DS769: 78.57 | DT769: 10 | DW769: 77.78 | DX769: 10 | DY769: 66.67 | DZ769: 21 | EA769: 88.89 | EB769: 1 | EC769: 55.56 | ED769: 25 | EG769: 31 | EH769: 23 | EI769: 29 | EJ769: 11 | EK769: 31 | EL769: 23 | EM769: 28 | EN769: 5 | EQ769: 1.79 | ER769: 24 | ES769: 1.83 | ET769: 27 | EU769: 1.75 | EV769: 18 | EW769: 1.7 | EX769: 18 | FA769: 75 | FB769: 2 | FC769: 66.67 | FD769: 8 | FE769: 50 | FF769: 15 | FG769: 62.5 | FH769: 5 | FM769: 100 | FN769: 1 | FU769: -1 | FV769: 5 | FW769: 0 | FX769: 9 | FY769: -1 | FZ769: 4 | GA769: 2 | GB769: 27 | GE769: 0 | GF769: 16 | GG769: 0 | GH769: 17 | GI769: -2 | GJ769: 4 | GK769: 0 | GL769: 6 | GO769: -1 | GP769: 15 | GQ769: 0 | GR769: 19 | GS769: 0 | GT769: 19 | GU769: -2 | GV769: 3 | GY769: 0 | GZ769: 1 | HA769: 0 | HB769: 4 | HC769: 0 | HD769: 3 | HE769: 0 | HF769: 4 | HI769: 3 | HJ769: 20 | HK769: 2 | HL769: 24 | HM769: 4 | HN769: 7 | HO769: 3 | HP769: 15 | HS769: 14 | HT769: 3 | HU769: 14 | HV769: 4 | HW769: 13 | HX769: 7 | HY769: 12 | HZ769: 9 | IC769: 1 | ID769: 29 | IE769: 2 | IF769: 18 | IG769: 1 | IH769: 27 | II769: 3 | IJ769: 15 | IM769: 0 | IN769: 7 | IO769: 0 | IP769: 5 | IQ769: 0 | IR769: 8 | IS769: 0 | IT769: 12
A770: =IF(J770="","",CONCATENATE(J770," ",I770)) | AK770: 13.5 | AL770: 10 | AM770: 0.35069444 | AN770: 10 | AO770: 0.41666667 | AP770: 10 | AQ770: 0.39930556 | AR770: 1 | AS770: 0.36527778 | AV770: 257.5 | AW770: 3 | AX770: 60.71 | AY770: 32 | AZ770: 61.11 | BA770: 30 | BB770: 27.75 | BC770: 2 | BD770: 1.68 | BE770: 8 | BF770: 67.86 | BG770: 4 | BH770: 40 | BI770: 20 | BJ770: 18 | BK770: 33 | BL770: 28 | BM770: 3 | BN770: 13 | BO770: -2 | BP770: 4 | BQ770: 2 | BR770: 20 | BS770: -4 | BT770: 12 | BU770: 0 | BV770: 14 | BW770: 49 | BX770: 10 | BY770: 1 | BZ770: 5 | CA770: 16 | CB770: 40 | CC770: 16 | CD770: 254.43 | CE770: 72.82 | CF770: 69.12 | CG770: 52.59 | CH770: 1.7 | CI770: 29.34 | CJ770: 49.06 | CK770: 3.01 | CL770: 4.02 | CM770: 4.72 | CN770: 254.45 | CO770: 72.33 | CP770: 68.98 | CQ770: 52.6 | CR770: 1.7 | CS770: 29.31 | CT770: 48.86 | CU770: 3.01 | CV770: 4.02 | CW770: 4.72 | CX770: 9 | CY770: 13 | CZ770: 8 | DA770: 17 | DB770: 8 | DC770: 251 | DD770: 14 | DE770: 266 | DF770: 1 | DG770: 251 | DH770: 5 | DI770: 262 | DJ770: 2 | DM770: 35.71 | DN770: 35 | DO770: 64.29 | DP770: 27 | DQ770: 71.43 | DR770: 23 | DS770: 71.43 | DT770: 16 | DW770: 38.89 | DX770: 35 | DY770: 55.56 | DZ770: 31 | EA770: 77.78 | EB770: 5 | EC770: 72.22 | ED770: 6 | EG770: 27 | EH770: 3 | EI770: 27 | EJ770: 3 | EK770: 28 | EL770: 7 | EM770: 29 | EN770: 12 | EQ770: 1.86 | ER770: 33 | ES770: 1.7 | ET770: 13 | EU770: 1.64 | EV770: 8 | EW770: 1.62 | EX770: 6 | FA770: 72.73 | FB770: 5 | FC770: 87.5 | FD770: 3 | FE770: 75 | FF770: 6 | FG770: 20 | FH770: 28 | FK770: 0 | FL770: 12 | FM770: 0 | FN770: 8 | FO770: 100 | FP770: 1 | FQ770: 100 | FR770: 1 | FU770: 0 | FV770: 15 | FW770: -1 | FX770: 2 | FY770: -1 | FZ770: 4 | GA770: 0 | GB770: 8 | GE770: 2 | GF770: 25 | GG770: 1 | GH770: 26 | GI770: -2 | GJ770: 4 | GK770: 1 | GL770: 13 | GO770: 0 | GP770: 24 | GQ770: -2 | GR770: 5 | GS770: -1 | GT770: 9 | GU770: -1 | GV770: 16 | GY770: 0 | GZ770: 1 | HA770: 0 | HB770: 4 | HC770: 0 | HD770: 3 | HE770: 0 | HF770: 4 | HI770: 1 | HJ770: 34 | HK770: 3 | HL770: 15 | HM770: 5 | HN770: 2 | HO770: 5 | HP770: 2 | HS770: 14 | HT770: 3 | HU770: 14 | HV770: 4 | HW770: 12 | HX770: 16 | HY770: 9 | HZ770: 26 | IC770: 3 | ID770: 10 | IE770: 1 | IF770: 26 | IG770: 1 | IH770: 27 | II770: 5 | IJ770: 2 | IM770: 0 | IN770: 7 | IO770: 0 | IP770: 5 | IQ770: 0 | IR770: 8 | IS770: 1 | IT770: 3
A771: =IF(J771="","",CONCATENATE(J771," ",I771)) | AK771: 13.5 | AL771: 10 | AM771: 0.38888889 | AN771: 1 | AO771: 0.44722222 | AP771: 1 | AQ771: 0.46805556 | AR771: 10 | AS771: 0.42638889 | AV771: 244.25 | AW771: 17 | AX771: 69.64 | AY771: 27 | AZ771: 77.78 | BA771: 2 | BB771: 31 | BC771: 28 | BD771: 1.68 | BE771: 6 | BF771: 31.25 | BG771: 33 | BH771: 75 | BI771: 6 | BJ771: 30 | BK771: 15 | BL771: 13 | BM771: 17 | BN771: 17 | BO771: -4 | BP771: 1 | BQ771: 4 | BR771: 27 | BS771: -4 | BT771: 12 | BU771: 0 | BV771: 18 | BW771: 41 | BX771: 11 | BY771: 1 | BZ771: 4 | CA771: 16 | CB771: 40 | CC771: 16 | CD771: 254.43 | CE771: 72.82 | CF771: 69.12 | CG771: 52.59 | CH771: 1.7 | CI771: 29.34 | CJ771: 49.06 | CK771: 3.01 | CL771: 4.02 | CM771: 4.72 | CN771: 254.45 | CO771: 72.33 | CP771: 68.98 | CQ771: 52.6 | CR771: 1.7 | CS771: 29.31 | CT771: 48.86 | CU771: 3.01 | CV771: 4.02 | CW771: 4.72 | CX771: 9 | CY771: 2 | CZ771: 30 | DA771: 12 | DB771: 8 | DC771: 235 | DD771: 23 | DE771: 246 | DF771: 17 | DG771: 249 | DH771: 9 | DI771: 247 | DJ771: 13 | DM771: 64.29 | DN771: 20 | DO771: 78.57 | DP771: 13 | DQ771: 71.43 | DR771: 23 | DS771: 64.29 | DT771: 27 | DW771: 94.44 | DX771: 2 | DY771: 77.78 | DZ771: 6 | EA771: 66.67 | EB771: 20 | EC771: 72.22 | ED771: 6 | EG771: 30 | EH771: 18 | EI771: 31 | EJ771: 20 | EK771: 29 | EL771: 12 | EM771: 34 | EN771: 32 | EQ771: 1.53 | ER771: 3 | ES771: 1.79 | ET771: 19 | EU771: 1.67 | EV771: 9 | EW771: 1.77 | EX771: 24 | FA771: 0 | FB771: 29 | FC771: 50 | FD771: 15 | FE771: 50 | FF771: 15 | FG771: 0 | FH771: 33 | FO771: 100 | FP771: 1 | FQ771: 50 | FR771: 8 | FU771: -1 | FV771: 5 | FW771: 0 | FX771: 9 | FY771: -2 | FZ771: 1 | GA771: -1 | GB771: 1 | GE771: -1 | GF771: 9 | GG771: -1 | GH771: 7 | GI771: 2 | GJ771: 30 | GK771: 4 | GL771: 28 | GO771: -3 | GP771: 1 | GQ771: 0 | GR771: 19 | GS771: -1 | GT771: 9 | GU771: 0 | GV771: 25 | GY771: 0 | GZ771: 1 | HA771: 0 | HB771: 4 | HC771: 0 | HD771: 3 | HE771: 0 | HF771: 4 | HI771: 8 | HJ771: 1 | HK771: 3 | HL771: 15 | HM771: 4 | HN771: 7 | HO771: 3 | HP771: 15 | HS771: 7 | HT771: 34 | HU771: 13 | HV771: 10 | HW771: 11 | HX771: 28 | HY771: 10 | HZ771: 22 | IC771: 3 | ID771: 10 | IE771: 2 | IF771: 18 | IG771: 3 | IH771: 6 | II771: 3 | IJ771: 15 | IM771: 0 | IN771: 7 | IO771: 0 | IP771: 5 | IQ771: 0 | IR771: 8 | IS771: 1 | IT771: 3
A772: =IF(J772="","",CONCATENATE(J772," ",I772)) | AK772: 13.5 | AL772: 1 | AM772: 0.45763889 | AN772: 10 | AO772: 0.34791667 | AP772: 10 | AQ772: 0.37638889 | AR772: 10 | AS772: 0.35763889 | AV772: 239.5 | AW772: 23 | AX772: 80.36 | AY772: 12 | AZ772: 68.06 | BA772: 20 | BB772: 29 | BC772: 9 | BD772: 1.71 | BE772: 16 | BF772: 56.52 | BG772: 9 | BH772: 0 | BI772: 26 | BJ772: 18 | BK772: 18 | BL772: 20 | BM772: 12 | BN772: 15 | BO772: 2 | BP772: 22 | BQ772: -4 | BR772: 4 | BS772: -2 | BT772: 23 | BU772: 0 | BV772: 14 | BW772: 48 | BX772: 14 | BY772: 0 | BZ772: 2 | CA772: 16 | CB772: 40 | CC772: 16 | CD772: 254.43 | CE772: 72.82 | CF772: 69.12 | CG772: 52.59 | CH772: 1.7 | CI772: 29.34 | CJ772: 49.06 | CK772: 3.01 | CL772: 4.02 | CM772: 4.72 | CN772: 254.45 | CO772: 72.33 | CP772: 68.98 | CQ772: 52.6 | CR772: 1.7 | CS772: 29.31 | CT772: 48.86 | CU772: 3.01 | CV772: 4.02 | CW772: 4.72 | CX772: 9 | CY772: 13 | CZ772: 12 | DA772: 1 | DB772: 20 | DC772: 240 | DD772: 18 | DE772: 241 | DF772: 24 | DG772: 238 | DH772: 24 | DI772: 239 | DJ772: 28 | DM772: 92.86 | DN772: 3 | DO772: 78.57 | DP772: 13 | DQ772: 71.43 | DR772: 23 | DS772: 78.57 | DT772: 10 | DW772: 61.11 | DX772: 26 | DY772: 66.67 | DZ772: 21 | EA772: 77.78 | EB772: 5 | EC772: 66.67 | ED772: 13 | EG772: 28 | EH772: 8 | EI772: 30 | EJ772: 16 | EK772: 32 | EL772: 33 | EM772: 26 | EN772: 1 | EQ772: 1.64 | ER772: 12 | ES772: 1.92 | ET772: 33 | EU772: 1.79 | EV772: 23 | EW772: 1.5 | EX772: 1 | FA772: 42.86 | FB772: 20 | FC772: 83.33 | FD772: 5 | FE772: 25 | FF772: 33 | FG772: 66.67 | FH772: 3 | FK772: 0 | FL772: 12 | FQ772: 0 | FR772: 16 | FU772: -1 | FV772: 5 | FW772: 1 | FX772: 18 | FY772: 1 | FZ772: 24 | GA772: 1 | GB772: 15 | GE772: 2 | GF772: 25 | GG772: -1 | GH772: 7 | GI772: -1 | GJ772: 10 | GK772: -4 | GL772: 1 | GO772: -1 | GP772: 15 | GQ772: 0 | GR772: 19 | GS772: 0 | GT772: 19 | GU772: -1 | GV772: 16 | GY772: 0 | GZ772: 1 | HA772: 0 | HB772: 4 | HC772: 0 | HD772: 3 | HE772: 0 | HF772: 4 | HI772: 4 | HJ772: 13 | HK772: 1 | HL772: 30 | HM772: 3 | HN772: 18 | HO772: 6 | HP772: 1 | HS772: 10 | HT772: 27 | HU772: 16 | HV772: 1 | HW772: 12 | HX772: 16 | HY772: 10 | HZ772: 22 | IC772: 4 | ID772: 3 | IE772: 1 | IF772: 26 | IG772: 3 | IH772: 6 | II772: 6 | IJ772: 1 | IM772: 0 | IN772: 7 | IO772: 0 | IP772: 5 | IQ772: 0 | IR772: 8 | IS772: 0 | IT772: 12
A773: =IF(J773="","",CONCATENATE(J773," ",I773)) | AK773: 13.5 | AL773: 1 | AM773: 0.38125 | AN773: 10 | AO773: 0.34027778 | AP773: 10 | AQ773: 0.36111111 | AR773: 10 | AS773: 0.32708333 | AV773: 253.75 | AW773: 9 | AX773: 76.79 | AY773: 17 | AZ773: 77.78 | BA773: 4 | BB773: 31 | BC773: 28 | BD773: 1.75 | BE773: 23 | BF773: 50 | BG773: 15 | BJ773: 5 | BK773: 8 | BL773: 3 | BM773: 27 | BN773: 6 | BO773: -3 | BP773: 2 | BQ773: 1 | BR773: 15 | BS773: -2 | BT773: 23 | BU773: 0 | BV773: 14 | BW773: 49 | BX773: 12 | BY773: 1 | BZ773: 0 | CA773: 16 | CB773: 40 | CC773: 16 | CD773: 254.43 | CE773: 72.82 | CF773: 69.12 | CG773: 52.59 | CH773: 1.7 | CI773: 29.34 | CJ773: 49.06 | CK773: 3.01 | CL773: 4.02 | CM773: 4.72 | CN773: 254.45 | CO773: 72.33 | CP773: 68.98 | CQ773: 52.6 | CR773: 1.7 | CS773: 29.31 | CT773: 48.86 | CU773: 3.01 | CV773: 4.02 | CW773: 4.72 | CX773: 9 | CY773: 13 | CZ773: 8 | DA773: 10 | DB773: 8 | DC773: 260 | DD773: 3 | DE773: 252 | DF773: 12 | DG773: 250 | DH773: 7 | DI773: 253 | DJ773: 8 | DM773: 78.57 | DN773: 15 | DO773: 64.29 | DP773: 27 | DQ773: 85.71 | DR773: 6 | DS773: 78.57 | DT773: 10 | DW773: 66.67 | DX773: 21 | DY773: 94.44 | DZ773: 1 | EA773: 72.22 | EB773: 15 | EC773: 77.78 | ED773: 3 | EG773: 29 | EH773: 15 | EI773: 34 | EJ773: 33 | EK773: 31 | EL773: 23 | EM773: 30 | EN773: 18 | EQ773: 1.75 | ER773: 21 | ES773: 1.88 | ET773: 29 | EU773: 1.69 | EV773: 11 | EW773: 1.64 | EX773: 12 | FA773: 66.67 | FB773: 7 | FC773: 0 | FD773: 32 | FE773: 40 | FF773: 23 | FG773: 50 | FH773: 9 | FU773: -1 | FV773: 5 | FW773: -1 | FX773: 2 | FY773: 0 | FZ773: 13 | GA773: -1 | GB773: 1 | GE773: 0 | GF773: 16 | GG773: 1 | GH773: 26 | GI773: -1 | GJ773: 10 | GK773: 1 | GL773: 13 | GO773: 0 | GP773: 24 | GQ773: 0 | GR773: 19 | GS773: 0 | GT773: 19 | GU773: -2 | GV773: 3 | GY773: 0 | GZ773: 1 | HA773: 0 | HB773: 4 | HC773: 0 | HD773: 3 | HE773: 0 | HF773: 4 | HI773: 3 | HJ773: 20 | HK773: 2 | HL773: 24 | HM773: 4 | HN773: 7 | HO773: 5 | HP773: 2 | HS773: 13 | HT773: 6 | HU773: 14 | HV773: 4 | HW773: 11 | HX773: 28 | HY773: 11 | HZ773: 13 | IC773: 2 | ID773: 17 | IE773: 2 | IF773: 18 | IG773: 3 | IH773: 6 | II773: 5 | IJ773: 2 | IM773: 0 | IN773: 7 | IO773: 0 | IP773: 5 | IQ773: 0 | IR773: 8 | IS773: 1 | IT773: 3
A774: =IF(J774="","",CONCATENATE(J774," ",I774)) | AK774: 16.5 | AL774: 1 | AM774: 0.43472222 | AN774: 1 | AO774: 0.34791667 | AP774: 1 | AQ774: 0.45277778 | AR774: 1 | AS774: 0.35763889 | AV774: 254.5 | AW774: 7 | AX774: 75 | AY774: 19 | AZ774: 75 | BA774: 7 | BB774: 30.5 | BC774: 24 | BD774: 1.81 | BE774: 33 | BF774: 55.56 | BG774: 11 | BH774: 20 | BI774: 24 | BJ774: 5 | BK774: 13 | BL774: 7 | BM774: 31 | BN774: 13 | BO774: -2 | BP774: 4 | BQ774: 1 | BR774: 15 | BS774: -1 | BT774: 27 | BU774: 0 | BV774: 10 | BW774: 54 | BX774: 6 | BY774: 0 | BZ774: 5 | CA774: 16 | CB774: 40 | CC774: 16 | CD774: 254.43 | CE774: 72.82 | CF774: 69.12 | CG774: 52.59 | CH774: 1.7 | CI774: 29.34 | CJ774: 49.06 | CK774: 3.01 | CL774: 4.02 | CM774: 4.72 | CN774: 254.45 | CO774: 72.33 | CP774: 68.98 | CQ774: 52.6 | CR774: 1.7 | CS774: 29.31 | CT774: 48.86 | CU774: 3.01 | CV774: 4.02 | CW774: 4.72 | CX774: 9 | CY774: 29 | CZ774: 2 | DA774: 32 | DB774: 20 | DC774: 245 | DD774: 15 | DE774: 260 | DF774: 7 | DG774: 266 | DH774: 2 | DI774: 247 | DJ774: 13 | DM774: 64.29 | DN774: 20 | DO774: 85.71 | DP774: 9 | DQ774: 78.57 | DR774: 16 | DS774: 71.43 | DT774: 16 | DW774: 94.44 | DX774: 2 | DY774: 72.22 | DZ774: 18 | EA774: 72.22 | EB774: 15 | EC774: 61.11 | ED774: 19 | EG774: 33 | EH774: 30 | EI774: 28 | EJ774: 5 | EK774: 31 | EL774: 23 | EM774: 30 | EN774: 18 | EQ774: 1.88 | ER774: 34 | ES774: 1.69 | ET774: 11 | EU774: 1.85 | EV774: 28 | EW774: 1.82 | EX774: 27 | FA774: 0 | FB774: 29 | FC774: 80 | FD774: 6 | FE774: 60 | FF774: 13 | FG774: 42.86 | FH774: 16 | FK774: 50 | FL774: 7 | FO774: 0 | FP774: 19 | FQ774: 0 | FR774: 16 | FU774: 0 | FV774: 15 | FW774: -3 | FX774: 1 | FY774: 1 | FZ774: 24 | GA774: 0 | GB774: 8 | GE774: 0 | GF774: 16 | GG774: -1 | GH774: 7 | GI774: 0 | GJ774: 19 | GK774: 2 | GL774: 18 | GO774: -1 | GP774: 15 | GQ774: 1 | GR774: 30 | GS774: -1 | GT774: 9 | GU774: 0 | GV774: 25 | GY774: 0 | GZ774: 1 | HA774: 0 | HB774: 4 | HC774: 0 | HD774: 3 | HE774: 0 | HF774: 4 | HI774: 2 | HJ774: 28 | HK774: 4 | HL774: 10 | HM774: 2 | HN774: 25 | HO774: 2 | HP774: 24 | HS774: 15 | HT774: 1 | HU774: 13 | HV774: 10 | HW774: 14 | HX774: 2 | HY774: 12 | HZ774: 9 | IC774: 1 | ID774: 29 | IE774: 1 | IF774: 26 | IG774: 2 | IH774: 15 | II774: 2 | IJ774: 24 | IM774: 0 | IN774: 7 | IO774: 0 | IP774: 5 | IQ774: 0 | IR774: 8 | IS774: 0 | IT774: 12
A775: =IF(J775="","",CONCATENATE(J775," ",I775)) | AK775: 16.5 | AL775: 10 | AM775: 0.45 | AN775: 1 | AO775: 0.43958333 | AP775: 10 | AQ775: 0.40694444 | AR775: 1 | AS775: 0.34236111 | AV775: 229.75 | AW775: 34 | AX775: 85.71 | AY775: 6 | AZ775: 66.67 | BA775: 23 | BB775: 29.5 | BC775: 14 | BD775: 1.71 | BE775: 12 | BF775: 50 | BG775: 15 | BH775: 0 | BI775: 26 | BJ775: 28 | BK775: 15 | BL775: 25 | BM775: 14 | BN775: 20 | BO775: 1 | BP775: 14 | BQ775: 2 | BR775: 20 | BS775: -5 | BT775: 7 | BU775: 0 | BV775: 14 | BW775: 46 | BX775: 11 | BY775: 0 | BZ775: 1 | CA775: 16 | CB775: 40 | CC775: 16 | CD775: 254.43 | CE775: 72.82 | CF775: 69.12 | CG775: 52.59 | CH775: 1.7 | CI775: 29.34 | CJ775: 49.06 | CK775: 3.01 | CL775: 4.02 | CM775: 4.72 | CN775: 254.45 | CO775: 72.33 | CP775: 68.98 | CQ775: 52.6 | CR775: 1.7 | CS775: 29.31 | CT775: 48.86 | CU775: 3.01 | CV775: 4.02 | CW775: 4.72 | CX775: 9 | CY775: 13 | CZ775: 21 | DA775: 12 | DB775: 20 | DC775: 230 | DD775: 31 | DE775: 231 | DF775: 31 | DG775: 227 | DH775: 33 | DI775: 231 | DJ775: 34 | DM775: 100 | DN775: 1 | DO775: 100 | DP775: 1 | DQ775: 85.71 | DR775: 6 | DS775: 57.14 | DT775: 32 | DW775: 100 | DX775: 1 | DY775: 38.89 | DZ775: 35 | EA775: 66.67 | EB775: 20 | EC775: 61.11 | ED775: 19 | EG775: 33 | EH775: 30 | EI775: 28 | EJ775: 5 | EK775: 27 | EL775: 5 | EM775: 30 | EN775: 18 | EQ775: 1.83 | ER775: 30 | ES775: 1.71 | ET775: 14 | EU775: 1.58 | EV775: 3 | EW775: 1.64 | EX775: 9 | FC775: 54.55 | FD775: 14 | FE775: 66.67 | FF775: 10 | FG775: 28.57 | FH775: 25 | FM775: 0 | FN775: 8 | FU775: 0 | FV775: 15 | FW775: 2 | FX775: 30 | FY775: 0 | FZ775: 13 | GA775: -1 | GB775: 1 | GE775: -1 | GF775: 9 | GG775: 1 | GH775: 26 | GI775: -2 | GJ775: 4 | GK775: 4 | GL775: 28 | GO775: -2 | GP775: 5 | GQ775: 0 | GR775: 19 | GS775: -1 | GT775: 9 | GU775: -2 | GV775: 3 | GY775: 0 | GZ775: 1 | HA775: 0 | HB775: 4 | HC775: 0 | HD775: 3 | HE775: 0 | HF775: 4 | HI775: 3 | HJ775: 20 | HK775: 2 | HL775: 24 | HM775: 5 | HN775: 2 | HO775: 4 | HP775: 6 | HS775: 15 | HT775: 1 | HU775: 11 | HV775: 24 | HW775: 11 | HX775: 28 | HY775: 9 | HZ775: 26 | IC775: 0 | ID775: 34 | IE775: 5 | IF775: 1 | IG775: 2 | IH775: 15 | II775: 4 | IJ775: 6 | IM775: 0 | IN775: 7 | IO775: 0 | IP775: 5 | IQ775: 0 | IR775: 8 | IS775: 0 | IT775: 12
A776: =IF(J776="","",CONCATENATE(J776," ",I776)) | AK776: 18 | AL776: 1 | AM776: 0.45763889 | AN776: 1 | AO776: 0.35555556 | AP776: 1 | AQ776: 0.39930556 | AR776: 10 | AS776: 0.36527778 | AV776: 248.75 | AW776: 15 | AX776: 71.43 | AY776: 23 | AZ776: 70.83 | BA776: 16 | BB776: 31 | BC776: 28 | BD776: 1.76 | BE776: 28 | BF776: 47.62 | BG776: 19 | BH776: 71.43 | BI776: 8 | BJ776: 24 | BK776: 21 | BL776: 18 | BM776: 30 | BN776: 26 | BO776: 0 | BP776: 8 | BQ776: 1 | BR776: 15 | BS776: -2 | BT776: 23 | BU776: 1 | BV776: 11 | BW776: 49 | BX776: 11 | BY776: 1 | BZ776: 7 | CA776: 16 | CB776: 40 | CC776: 16 | CD776: 254.43 | CE776: 72.82 | CF776: 69.12 | CG776: 52.59 | CH776: 1.7 | CI776: 29.34 | CJ776: 49.06 | CK776: 3.01 | CL776: 4.02 | CM776: 4.72 | CN776: 254.45 | CO776: 72.33 | CP776: 68.98 | CQ776: 52.6 | CR776: 1.7 | CS776: 29.31 | CT776: 48.86 | CU776: 3.01 | CV776: 4.02 | CW776: 4.72 | CX776: 1 | CY776: 27 | CZ776: 8 | DA776: 12 | DB776: 8 | DC776: 245 | DD776: 15 | DE776: 245 | DF776: 20 | DG776: 246 | DH776: 14 | DI776: 259 | DJ776: 6 | DM776: 78.57 | DN776: 15 | DO776: 78.57 | DP776: 13 | DQ776: 78.57 | DR776: 16 | DS776: 50 | DT776: 34 | DW776: 83.33 | DX776: 6 | DY776: 77.78 | DZ776: 6 | EA776: 61.11 | EB776: 26 | EC776: 61.11 | ED776: 19 | EG776: 33 | EH776: 30 | EI776: 32 | EJ776: 27 | EK776: 31 | EL776: 23 | EM776: 28 | EN776: 5 | EQ776: 1.73 | ER776: 18 | ES776: 1.79 | ET776: 19 | EU776: 1.91 | EV776: 33 | EW776: 1.64 | EX776: 9 | FA776: 33.33 | FB776: 23 | FC776: 25 | FD776: 26 | FE776: 57.14 | FF776: 14 | FG776: 57.14 | FH776: 7 | FM776: 50 | FN776: 6 | FO776: 100 | FP776: 1 | FQ776: 75 | FR776: 7 | FU776: 1 | FV776: 26 | FW776: 1 | FX776: 18 | FY776: -1 | FZ776: 4 | GA776: -1 | GB776: 1 | GE776: -1 | GF776: 9 | GG776: 0 | GH776: 17 | GI776: 2 | GJ776: 30 | GK776: 0 | GL776: 6 | GO776: -1 | GP776: 15 | GQ776: -2 | GR776: 5 | GS776: 1 | GT776: 28 | GU776: 0 | GV776: 25 | GY776: 0 | GZ776: 1 | HA776: 1 | HB776: 1 | HC776: 0 | HD776: 3 | HE776: 0 | HF776: 4 | HI776: 4 | HJ776: 13 | HK776: 2 | HL776: 24 | HM776: 1 | HN776: 31 | HO776: 4 | HP776: 6 | HS776: 12 | HT776: 9 | HU776: 12 | HV776: 16 | HW776: 14 | HX776: 2 | HY776: 11 | HZ776: 13 | IC776: 1 | ID776: 29 | IE776: 3 | IF776: 8 | IG776: 3 | IH776: 6 | II776: 4 | IJ776: 6 | IM776: 1 | IN776: 2 | IO776: 0 | IP776: 5 | IQ776: 0 | IR776: 8 | IS776: 0 | IT776: 12
A777: =IF(J777="","",CONCATENATE(J777," ",I777)) | AK777: 20 | AL777: 1 | AM777: 0.41180556 | AN777: 10 | AO777: 0.40138889 | AP777: 1 | AQ777: 0.36875 | AR777: 10 | AS777: 0.38819444 | AV777: 230.75 | AW777: 32 | AX777: 85.71 | AY777: 7 | AZ777: 69.44 | BA777: 18 | BB777: 30.5 | BC777: 24 | BD777: 1.74 | BE777: 21 | BF777: 36.36 | BG777: 30 | BH777: 0 | BI777: 26 | BJ777: 26 | BK777: 12 | BL777: 22 | BM777: 23 | BN777: 28 | BO777: 0 | BP777: 8 | BQ777: 4 | BR777: 27 | BS777: -4 | BT777: 12 | BU777: 1 | BV777: 12 | BW777: 45 | BX777: 14 | BY777: 0 | BZ777: 2 | CA777: 16 | CB777: 40 | CC777: 16 | CD777: 254.43 | CE777: 72.82 | CF777: 69.12 | CG777: 52.59 | CH777: 1.7 | CI777: 29.34 | CJ777: 49.06 | CK777: 3.01 | CL777: 4.02 | CM777: 4.72 | CN777: 254.45 | CO777: 72.33 | CP777: 68.98 | CQ777: 52.6 | CR777: 1.7 | CS777: 29.31 | CT777: 48.86 | CU777: 3.01 | CV777: 4.02 | CW777: 4.72 | CX777: 1 | CY777: 23 | CZ777: 24 | DA777: 1 | DB777: 20 | DC777: 229 | DD777: 32 | DE777: 230 | DF777: 32 | DG777: 226 | DH777: 34 | DI777: 238 | DJ777: 29 | DM777: 92.86 | DN777: 3 | DO777: 100 | DP777: 1 | DQ777: 85.71 | DR777: 6 | DS777: 64.29 | DT777: 27 | DW777: 72.22 | DX777: 16 | DY777: 77.78 | DZ777: 6 | EA777: 50 | EB777: 35 | EC777: 77.78 | ED777: 3 | EG777: 32 | EH777: 27 | EI777: 29 | EJ777: 11 | EK777: 31 | EL777: 23 | EM777: 30 | EN777: 18 | EQ777: 1.85 | ER777: 32 | ES777: 1.64 | ET777: 8 | EU777: 1.78 | EV777: 22 | EW777: 1.71 | EX777: 19 | FA777: 20 | FB777: 27 | FC777: 75 | FD777: 7 | FE777: 33.33 | FF777: 29 | FG777: 25 | FH777: 26 | FO777: 0 | FP777: 19 | FQ777: 0 | FR777: 16 | FU777: 0 | FV777: 15 | FW777: 1 | FX777: 18 | FY777: 0 | FZ777: 13 | GA777: -1 | GB777: 1 | GE777: 2 | GF777: 25 | GG777: -4 | GH777: 1 | GI777: 4 | GJ777: 35 | GK777: 2 | GL777: 18 | GO777: 0 | GP777: 24 | GQ777: -1 | GR777: 16 | GS777: 0 | GT777: 19 | GU777: -3 | GV777: 1 | GY777: 0 | GZ777: 1 | HA777: 0 | HB777: 4 | HC777: 0 | HD777: 3 | HE777: 1 | HF777: 1 | HI777: 2 | HJ777: 28 | HK777: 5 | HL777: 3 | HM777: 2 | HN777: 25 | HO777: 3 | HP777: 15 | HS777: 12 | HT777: 9 | HU777: 12 | HV777: 16 | HW777: 10 | HX777: 32 | HY777: 11 | HZ777: 13 | IC777: 4 | ID777: 3 | IE777: 1 | IF777: 26 | IG777: 6 | IH777: 1 | II777: 3 | IJ777: 15 | IM777: 0 | IN777: 7 | IO777: 0 | IP777: 5 | IQ777: 0 | IR777: 8 | IS777: 0 | IT777: 12
A778: =IF(J778="","",CONCATENATE(J778," ",I778)) | AK778: 20 | AL778: 10 | AM778: 0.44236111 | AN778: 10 | AO778: 0.42430556 | AP778: 10 | AQ778: 0.46041667 | AR778: 10 | AS778: 0.34236111 | AV778: 237.75 | AW778: 24 | AX778: 87.5 | AY778: 4 | AZ778: 63.89 | BA778: 26 | BB778: 29.5 | BC778: 14 | BD778: 1.83 | BE778: 34 | BF778: 69.23 | BG778: 3 | BH778: 100 | BI778: 1 | BJ778: 10 | BK778: 17 | BL778: 18 | BM778: 25 | BN778: 21 | BO778: -1 | BP778: 7 | BQ778: 2 | BR778: 20 | BS778: -1 | BT778: 27 | BU778: 1 | BV778: 7 | BW778: 56 | BX778: 7 | BY778: 1 | BZ778: 4 | CA778: 16 | CB778: 40 | CC778: 16 | CD778: 254.43 | CE778: 72.82 | CF778: 69.12 | CG778: 52.59 | CH778: 1.7 | CI778: 29.34 | CJ778: 49.06 | CK778: 3.01 | CL778: 4.02 | CM778: 4.72 | CN778: 254.45 | CO778: 72.33 | CP778: 68.98 | CQ778: 52.6 | CR778: 1.7 | CS778: 29.31 | CT778: 48.86 | CU778: 3.01 | CV778: 4.02 | CW778: 4.72 | CX778: 1 | CY778: 34 | CZ778: 1 | DA778: 27 | DB778: 8 | DC778: 235 | DD778: 23 | DE778: 246 | DF778: 17 | DG778: 232 | DH778: 28 | DI778: 238 | DJ778: 29 | DM778: 85.71 | DN778: 8 | DO778: 85.71 | DP778: 9 | DQ778: 85.71 | DR778: 6 | DS778: 92.86 | DT778: 1 | DW778: 55.56 | DX778: 30 | DY778: 55.56 | DZ778: 31 | EA778: 83.33 | EB778: 2 | EC778: 61.11 | ED778: 19 | EG778: 31 | EH778: 23 | EI778: 31 | EJ778: 20 | EK778: 27 | EL778: 5 | EM778: 29 | EN778: 12 | EQ778: 1.9 | ER778: 35 | ES778: 1.9 | ET778: 30 | EU778: 1.67 | EV778: 9 | EW778: 1.91 | EX778: 31 | FA778: 62.5 | FB778: 9 | FC778: 50 | FD778: 15 | FE778: 100 | FF778: 1 | FG778: 85.71 | FH778: 2 | FM778: 100 | FN778: 1 | FO778: 100 | FP778: 1 | FQ778: 100 | FR778: 1 | FU778: 1 | FV778: 26 | FW778: 0 | FX778: 9 | FY778: -2 | FZ778: 1 | GA778: 0 | GB778: 8 | GE778: 3 | GF778: 33 | GG778: 3 | GH778: 32 | GI778: -4 | GJ778: 1 | GK778: 0 | GL778: 6 | GO778: -1 | GP778: 15 | GQ778: 0 | GR778: 19 | GS778: 0 | GT778: 19 | GU778: 0 | GV778: 25 | GY778: 0 | GZ778: 1 | HA778: 0 | HB778: 4 | HC778: 1 | HD778: 1 | HE778: 0 | HF778: 4 | HI778: 1 | HJ778: 34 | HK778: 1 | HL778: 30 | HM778: 4 | HN778: 7 | HO778: 1 | HP778: 28 | HS778: 14 | HT778: 3 | HU778: 13 | HV778: 10 | HW778: 13 | HX778: 7 | HY778: 16 | HZ778: 1 | IC778: 2 | ID778: 17 | IE778: 4 | IF778: 3 | IG778: 0 | IH778: 32 | II778: 1 | IJ778: 28 | IM778: 1 | IN778: 2 | IO778: 0 | IP778: 5 | IQ778: 0 | IR778: 8 | IS778: 0 | IT778: 12
A779: =IF(J779="","",CONCATENATE(J779," ",I779)) | AK779: 20 | AL779: 1 | AM779: 0.41944444 | AN779: 10 | AO779: 0.43194444 | AP779: 10 | AQ779: 0.42222222 | AR779: 1 | AS779: 0.35 | AV779: 250.5 | AW779: 13 | AX779: 76.79 | AY779: 15 | AZ779: 65.28 | BA779: 24 | BB779: 28.75 | BC779: 6 | BD779: 1.7 | BE779: 11 | BF779: 56 | BG779: 10 | BH779: 0 | BI779: 26 | BJ779: 10 | BK779: 21 | BL779: 16 | BM779: 9 | BN779: 10 | BO779: 2 | BP779: 22 | BQ779: 3 | BR779: 24 | BS779: -5 | BT779: 7 | BU779: 0 | BV779: 14 | BW779: 47 | BX779: 9 | BY779: 3 | BZ779: 1 | CA779: 16 | CB779: 40 | CC779: 16 | CD779: 254.43 | CE779: 72.82 | CF779: 69.12 | CG779: 52.59 | CH779: 1.7 | CI779: 29.34 | CJ779: 49.06 | CK779: 3.01 | CL779: 4.02 | CM779: 4.72 | CN779: 254.45 | CO779: 72.33 | CP779: 68.98 | CQ779: 52.6 | CR779: 1.7 | CS779: 29.31 | CT779: 48.86 | CU779: 3.01 | CV779: 4.02 | CW779: 4.72 | CX779: 9 | CY779: 13 | CZ779: 17 | DA779: 20 | DB779: 2 | DC779: 255 | DD779: 6 | DE779: 256 | DF779: 8 | DG779: 250 | DH779: 7 | DI779: 241 | DJ779: 23 | DM779: 57.14 | DN779: 28 | DO779: 92.86 | DP779: 5 | DQ779: 85.71 | DR779: 6 | DS779: 71.43 | DT779: 16 | DW779: 66.67 | DX779: 21 | DY779: 66.67 | DZ779: 21 | EA779: 66.67 | EB779: 20 | EC779: 61.11 | ED779: 19 | EG779: 32 | EH779: 27 | EI779: 29 | EJ779: 11 | EK779: 25 | EL779: 2 | EM779: 29 | EN779: 12 | EQ779: 1.83 | ER779: 30 | ES779: 1.67 | ET779: 9 | EU779: 1.58 | EV779: 3 | EW779: 1.73 | EX779: 20 | FA779: 33.33 | FB779: 23 | FC779: 66.67 | FD779: 8 | FE779: 83.33 | FF779: 4 | FG779: 42.86 | FH779: 16 | FQ779: 0 | FR779: 16 | FU779: 1 | FV779: 26 | FW779: -1 | FX779: 2 | FY779: -1 | FZ779: 4 | GA779: 3 | GB779: 32 | GE779: 2 | GF779: 25 | GG779: -1 | GH779: 7 | GI779: -1 | GJ779: 10 | GK779: 3 | GL779: 25 | GO779: 0 | GP779: 24 | GQ779: 0 | GR779: 19 | GS779: -2 | GT779: 1 | GU779: -3 | GV779: 1 | GY779: 0 | GZ779: 1 | HA779: 0 | HB779: 4 | HC779: 0 | HD779: 3 | HE779: 0 | HF779: 4 | HI779: 2 | HJ779: 28 | HK779: 4 | HL779: 10 | HM779: 5 | HN779: 2 | HO779: 3 | HP779: 15 | HS779: 12 | HT779: 9 | HU779: 12 | HV779: 16 | HW779: 12 | HX779: 16 | HY779: 11 | HZ779: 13 | IC779: 3 | ID779: 10 | IE779: 2 | IF779: 18 | IG779: 1 | IH779: 27 | II779: 3 | IJ779: 15 | IM779: 1 | IN779: 2 | IO779: 0 | IP779: 5 | IQ779: 0 | IR779: 8 | IS779: 2 | IT779: 2
A780: =IF(J780="","",CONCATENATE(J780," ",I780)) | AK780: 23.5 | AL780: 10 | AM780: 0.38125 | AN780: 1 | AO780: 0.40138889 | AP780: 1 | AQ780: 0.37638889 | AR780: 1 | AS780: 0.33472222 | AV780: 234.25 | AW780: 27 | AX780: 82.14 | AY780: 10 | AZ780: 63.89 | BA780: 26 | BB780: 29 | BC780: 9 | BD780: 1.65 | BE780: 4 | BF780: 38.46 | BG780: 27 | BH780: 100 | BI780: 1 | BJ780: 20 | BK780: 19 | BL780: 25 | BM780: 5 | BN780: 24 | BO780: 3 | BP780: 26 | BQ780: 4 | BR780: 27 | BS780: -6 | BT780: 6 | BU780: 0 | BV780: 16 | BW780: 40 | BX780: 13 | BY780: 1 | BZ780: 3 | CA780: 16 | CB780: 40 | CC780: 16 | CD780: 254.43 | CE780: 72.82 | CF780: 69.12 | CG780: 52.59 | CH780: 1.7 | CI780: 29.34 | CJ780: 49.06 | CK780: 3.01 | CL780: 4.02 | CM780: 4.72 | CN780: 254.45 | CO780: 72.33 | CP780: 68.98 | CQ780: 52.6 | CR780: 1.7 | CS780: 29.31 | CT780: 48.86 | CU780: 3.01 | CV780: 4.02 | CW780: 4.72 | CX780: 9 | CY780: 4 | CZ780: 32 | DA780: 7 | DB780: 8 | DC780: 238 | DD780: 20 | DE780: 227 | DF780: 34 | DG780: 231 | DH780: 29 | DI780: 241 | DJ780: 23 | DM780: 92.86 | DN780: 3 | DO780: 64.29 | DP780: 27 | DQ780: 85.71 | DR780: 6 | DS780: 85.71 | DT780: 3 | DW780: 72.22 | DX780: 16 | DY780: 77.78 | DZ780: 6 | EA780: 66.67 | EB780: 20 | EC780: 38.89 | ED780: 32 | EG780: 27 | EH780: 3 | EI780: 33 | EJ780: 30 | EK780: 28 | EL780: 7 | EM780: 28 | EN780: 5 | EQ780: 1.46 | ER780: 2 | ES780: 1.79 | ET780: 19 | EU780: 1.75 | EV780: 18 | EW780: 1.57 | EX780: 2 | FA780: 20 | FB780: 27 | FC780: 0 | FD780: 32 | FE780: 66.67 | FF780: 10 | FG780: 45.45 | FH780: 13 | FM780: 100 | FN780: 1 | FO780: 100 | FP780: 1 | FU780: -2 | FV780: 1 | FW780: 1 | FX780: 18 | FY780: 2 | FZ780: 31 | GA780: 2 | GB780: 27 | GE780: 1 | GF780: 23 | GG780: 2 | GH780: 31 | GI780: -1 | GJ780: 10 | GK780: 2 | GL780: 18 | GO780: -2 | GP780: 5 | GQ780: -2 | GR780: 5 | GS780: -2 | GT780: 1 | GU780: 0 | GV780: 25 | GY780: 0 | GZ780: 1 | HA780: 0 | HB780: 4 | HC780: 0 | HD780: 3 | HE780: 0 | HF780: 4 | HI780: 7 | HJ780: 2 | HK780: 3 | HL780: 15 | HM780: 3 | HN780: 18 | HO780: 3 | HP780: 15 | HS780: 7 | HT780: 34 | HU780: 11 | HV780: 24 | HW780: 13 | HX780: 7 | HY780: 9 | HZ780: 26 | IC780: 4 | ID780: 3 | IE780: 4 | IF780: 3 | IG780: 2 | IH780: 15 | II780: 3 | IJ780: 15 | IM780: 0 | IN780: 7 | IO780: 0 | IP780: 5 | IQ780: 0 | IR780: 8 | IS780: 1 | IT780: 3
A781: =IF(J781="","",CONCATENATE(J781," ",I781)) | AK781: 23.5 | AL781: 1 | AM781: 0.38888889 | AN781: 1 | AO781: 0.42430556 | AP781: 1 | AQ781: 0.42986111 | AR781: 1 | AS781: 0.31944444 | AV781: 243 | AW781: 19 | AX781: 83.93 | AY781: 8 | AZ781: 73.61 | BA781: 10 | BB781: 31.25 | BC781: 32 | BD781: 1.81 | BE781: 32 | BF781: 47.37 | BG781: 20 | BH781: 0 | BI781: 26 | BJ781: 8 | BK781: 5 | BL781: 8 | BM781: 33 | BN781: 18 | BO781: 0 | BP781: 8 | BQ781: 5 | BR781: 31 | BS781: -4 | BT781: 12 | BU781: 0 | BV781: 10 | BW781: 52 | BX781: 7 | BY781: 1 | BZ781: 6 | CA781: 16 | CB781: 40 | CC781: 16 | CD781: 254.43 | CE781: 72.82 | CF781: 69.12 | CG781: 52.59 | CH781: 1.7 | CI781: 29.34 | CJ781: 49.06 | CK781: 3.01 | CL781: 4.02 | CM781: 4.72 | CN781: 254.45 | CO781: 72.33 | CP781: 68.98 | CQ781: 52.6 | CR781: 1.7 | CS781: 29.31 | CT781: 48.86 | CU781: 3.01 | CV781: 4.02 | CW781: 4.72 | CX781: 9 | CY781: 29 | CZ781: 4 | DA781: 27 | DB781: 8 | DC781: 239 | DD781: 19 | DE781: 238 | DF781: 26 | DG781: 251 | DH781: 5 | DI781: 244 | DJ781: 18 | DM781: 92.86 | DN781: 3 | DO781: 78.57 | DP781: 13 | DQ781: 78.57 | DR781: 16 | DS781: 85.71 | DT781: 3 | DW781: 83.33 | DX781: 6 | DY781: 83.33 | DZ781: 3 | EA781: 72.22 | EB781: 15 | EC781: 55.56 | ED781: 25 | EG781: 31 | EH781: 23 | EI781: 31 | EJ781: 20 | EK781: 31 | EL781: 23 | EM781: 32 | EN781: 27 | EQ781: 1.73 | ER781: 18 | ES781: 1.8 | ET781: 24 | EU781: 1.85 | EV781: 28 | EW781: 1.9 | EX781: 30 | FA781: 33.33 | FB781: 23 | FC781: 66.67 | FD781: 8 | FE781: 40 | FF781: 23 | FG781: 50 | FH781: 9 | FK781: 0 | FL781: 12 | FO781: 0 | FP781: 19 | FQ781: 0 | FR781: 16 | FU781: 0 | FV781: 15 | FW781: 0 | FX781: 9 | FY781: -1 | FZ781: 4 | GA781: 1 | GB781: 15 | GE781: 0 | GF781: 16 | GG781: -2 | GH781: 3 | GI781: 3 | GJ781: 33 | GK781: 4 | GL781: 28 | GO781: -2 | GP781: 5 | GQ781: 0 | GR781: 19 | GS781: -1 | GT781: 9 | GU781: -1 | GV781: 16 | GY781: 0 | GZ781: 1 | HA781: 0 | HB781: 4 | HC781: 0 | HD781: 3 | HE781: 0 | HF781: 4 | HI781: 4 | HJ781: 13 | HK781: 3 | HL781: 15 | HM781: 2 | HN781: 25 | HO781: 1 | HP781: 28 | HS781: 12 | HT781: 9 | HU781: 14 | HV781: 4 | HW781: 13 | HX781: 7 | HY781: 13 | HZ781: 4 | IC781: 2 | ID781: 17 | IE781: 1 | IF781: 26 | IG781: 3 | IH781: 6 | II781: 1 | IJ781: 28 | IM781: 0 | IN781: 7 | IO781: 0 | IP781: 5 | IQ781: 0 | IR781: 8 | IS781: 1 | IT781: 3
