Workbook

Sheet Results
A1: PLAYER
A2: =IF(J2="","",CONCATENATE(J2," ",I2))
A3: =IF(J3="","",CONCATENATE(J3," ",I3))
A4: =IF(J4="","",CONCATENATE(J4," ",I4))
A5: =IF(J5="","",CONCATENATE(J5," ",I5))
A6: =IF(J6="","",CONCATENATE(J6," ",I6))
A7: =IF(J7="","",CONCATENATE(J7," ",I7))
A8: =IF(J8="","",CONCATENATE(J8," ",I8))
A9: =IF(J9="","",CONCATENATE(J9," ",I9))
A10: =IF(J10="","",CONCATENATE(J10," ",I10))
A11: =IF(J11="","",CONCATENATE(J11," ",I11))
A12: =IF(J12="","",CONCATENATE(J12," ",I12))
A13: =IF(J13="","",CONCATENATE(J13," ",I13))
... A757: =IF(J757="","",CONCATENATE(J757," ",I757))
A758: =IF(J758="","",CONCATENATE(J758," ",I758)) | AK758: MU | AL758: Tee1 | AM758: Time1 | AN758: Tee2 | AO758: Time2 | AP758: Tee3 | AQ758: Time3 | AR758: Tee4 | AS758: Time4 | AT758: Tee5 | AU758: Time5 | AV758: dd | AW758: dd_rank | AX758: da | AY758: da_rank | AZ758: gir | BA758: gir_rank | BB758: ppr | BC758: ppr_rank | BD758: ppgir | BE758: ppgir_rank | BF758: sc | BG758: sc_rank | BH758: ss | BI758: ss_rank | BJ758: tdr_rank | BK758: acc_rank | BL758: bst_rank | BM758: putt_rank | BN758: all_rank | BO758: Par3 | BP758: Par3_rank | BQ758: Par4 | BR758: Par4_rank | BS758: Par5 | BT758: Par5_rank | BU758: Eagles | BV758: Birdies | BW758: Pars | BX758: Bogeys | BY758: Other | BZ758: s | CA758: p3 | CB758: p4 | CC758: p5 | CD758: field_dd | CE758: field_da | CF758: field_gir | CG758: field_sc | CH758: field_pa | CI758: field_ppr | CJ758: field_ss | CK758: field_par3 | CL758: field_par4 | CM758: field_par5 | CN758: field1_dd | CO758: field1_da | CP758: field1_gir | CQ758: field1_sc | CR758: field1_pa | CS758: field1_ppr | CT758: field1_ss | CU758: field1_par3 | CV758: field1_par4 | CW758: field1_par5 | CX758: Eagles_rank | CY758: Birdies_rank | CZ758: Pars_rank | DA758: Bogeys_rank | DB758: Other_rank | DC758: dd(r1) | DD758: dd(r1)_rank | DE758: dd(r2) | DF758: dd(r2)_rank | DG758: dd(r3) | DH758: dd(r3)_rank | DI758: dd(r4) | DJ758: dd(r4)_rank | DK758: dd(r5) | DL758: dd(r5)_rank | DM758: da(r1) | DN758: da(r1)_rank | DO758: da(r2) | DP758: da(r2)_rank | DQ758: da(r3) | DR758: da(r3)_rank | DS758: da(r4) | DT758: da(r4)_rank | DU758: da(r5) | DV758: da(r5)_rank | DW758: gir(r1) | DX758: gir(r1)_rank | DY758: gir(r2) | DZ758: gir(r2)_rank | EA758: gir(r3) | EB758: gir(r3)_rank | EC758: gir(r4) | ED758: gir(r4)_rank | EE758: gir(r5) | EF758: gir(r5)_rank | EG758: ppr(r1) | EH758: ppr(r1)_rank | EI758: ppr(r2) | EJ758: ppr(r2)_rank | EK758: ppr(r3) | EL758: ppr(r3)_rank | EM758: ppr(r4) | EN758: ppr(r4)_rank | EO758: ppr(r5) | EP758: ppr(r5)_rank | EQ758: ppgir(r1) | ER758: ppgir(r1)_rank | ES758: ppgir(r2) | ET758: ppgir(r2)_rank | EU758: ppgir(r3) | EV758: ppgir(r3)_rank | EW758: ppgir(r4) | EX758: ppgir(r4)_rank | EY758: ppgir(r5) | EZ758: ppgir(r5)_rank | FA758: sc(r1) | FB758: sc(r1)_rank | FC758: sc(r2) | FD758: sc(r2)_rank | FE758: sc(r3) | FF758: sc(r3)_rank | FG758: sc(r4) | FH758: sc(r4)_rank | FI758: sc(r5) | FJ758: sc(r5)_rank | FK758: ss(r1) | FL758: ss(r1)_rank | FM758: ss(r2) | FN758: ss(r2)_rank | FO758: ss(r3) | FP758: ss(r3)_rank | FQ758: ss(r4) | FR758: ss(r4)_rank | FS758: ss(r5) | FT758: ss(r5)_rank | FU758: par3(r1) | FV758: par3(r1)_rank | FW758: par3(r2) | FX758: par3(r2)_rank | FY758: par3(r3) | FZ758: par3(r3)_rank | GA758: par3(r4) | GB758: par3(r4)_rank | GC758: par3(r5) | GD758: par3(r5)_rank | GE758: par4(r1) | GF758: par4(r1)_rank | GG758: par4(r2) | GH758: par4(r2)_rank | GI758: par4(r3) | GJ758: par4(r3)_rank | GK758: par4(r4) | GL758: par4(r4)_rank | GM758: par4(r5) | GN758: par4(r5)_rank | GO758: par5(r1) | GP758: par5(r1)_rank | GQ758: par5(r2) | GR758: par5(r2)_rank | GS758: par5(r3) | GT758: par5(r3)_rank | GU758: par5(r4) | GV758: par5(r4)_rank | GW758: par5(r5) | GX758: par5(r5)_rank | GY758: eagles(r1) | GZ758: eagles(r1)_rank | HA758: eagles(r2) | HB758: eagles(r2)_rank | HC758: eagles(r3) | HD758: eagles(r3)_rank | HE758: eagles(r4) | HF758: eagles(r4)_rank | HG758: eagles(r5) | HH758: eagles(r5)_rank | HI758: birdies(r1) | HJ758: birdies(r1)_rank | HK758: birdies(r2) | HL758: birdies(r2)_rank | HM758: birdies(r3) | HN758: birdies(r3)_rank | HO758: birdies(r4) | HP758: birdies(r4)_rank | HQ758: birdies(r5) | HR758: birdies(r5)_rank | HS758: pars(r1) | HT758: pars(r1)_rank | HU758: pars(r2) | HV758: pars(r2)_rank | HW758: pars(r3) | HX758: pars(r3)_rank | HY758: pars(r4) | HZ758: pars(r4)_rank | IA758: pars(r5) | IB758: pars(r5)_rank | IC758: bogeys(r1) | ID758: bogeys(r1)_rank | IE758: bogeys(r2) | IF758: bogeys(r2)_rank | IG758: bogeys(r3) | IH758: bogeys(r3)_rank | II758: bogeys(r4) | IJ758: bogeys(r4)_rank | IK758: bogeys(r5) | IL758: bogeys(r5)_rank | IM758: other(r1) | IN758: other(r1)_rank | IO758: other(r2) | IP758: other(r2)_rank | IQ758: other(r3) | IR758: other(r3)_rank | IS758: other(r4) | IT758: other(r4)_rank | IU758: other(r5) | IV758: other(r5)_rank
A759: =IF(J759="","",CONCATENATE(J759," ",I759)) | AK759: 1 | AL759: 1 | AM759: 0.45 | AN759: 1 | AO759: 0.43194444 | AP759: 1 | AQ759: 0.47569444 | AR759: 10 | AS759: 0.42638889 | AV759: 253 | AW759: 10 | AX759: 75 | AY759: 19 | AZ759: 77.78 | BA759: 2 | BB759: 28.5 | BC759: 4 | BD759: 1.7 | BE759: 10 | BF759: 75 | BG759: 1 | BH759: 66.67 | BI759: 9 | BJ759: 12 | BK759: 8 | BL759: 4 | BM759: 7 | BN759: 1 | BO759: 1 | BP759: 14 | BQ759: -7 | BR759: 1 | BS759: -8 | BT759: 1 | BU759: 1 | BV759: 16 | BW759: 51 | BX759: 6 | BY759: 0 | BZ759: 6 | CA759: 16 | CB759: 40 | CC759: 16 | CD759: 254.43 | CE759: 72.82 | CF759: 69.12 | CG759: 52.59 | CH759: 1.7 | CI759: 29.34 | CJ759: 49.06 | CK759: 3.01 | CL759: 4.02 | CM759: 4.72 | CN759: 254.45 | CO759: 72.33 | CP759: 68.98 | CQ759: 52.6 | CR759: 1.7 | CS759: 29.31 | CT759: 48.86 | CU759: 3.01 | CV759: 4.02 | CW759: 4.72 | CX759: 1 | CY759: 4 | CZ759: 6 | DA759: 32 | DB759: 20 | DC759: 256 | DD759: 5 | DE759: 252 | DF759: 12 | DG759: 244 | DH759: 15 | DI759: 260 | DJ759: 4 | DM759: 57.14 | DN759: 28 | DO759: 85.71 | DP759: 9 | DQ759: 85.71 | DR759: 6 | DS759: 71.43 | DT759: 16 | DW759: 66.67 | DX759: 21 | DY759: 94.44 | DZ759: 1 | EA759: 83.33 | EB759: 2 | EC759: 66.67 | ED759: 13 | EG759: 27 | EH759: 3 | EI759: 31 | EJ759: 20 | EK759: 28 | EL759: 7 | EM759: 28 | EN759: 5 | EQ759: 1.58 | ER759: 6 | ES759: 1.76 | ET759: 18 | EU759: 1.73 | EV759: 17 | EW759: 1.67 | EX759: 14 | FA759: 66.67 | FB759: 7 | FC759: 100 | FD759: 1 | FE759: 100 | FF759: 1 | FG759: 66.67 | FH759: 3 | FK759: 66.67 | FL759: 6 | FM759: 0 | FN759: 8 | FO759: 100 | FP759: 1 | FQ759: 100 | FR759: 1 | FU759: 2 | FV759: 33 | FW759: 0 | FX759: 9 | FY759: 0 | FZ759: 13 | GA759: -1 | GB759: 1 | GE759: -3 | GF759: 2 | GG759: -2 | GH759: 3 | GI759: -2 | GJ759: 4 | GK759: 0 | GL759: 6 | GO759: -2 | GP759: 5 | GQ759: -3 | GR759: 2 | GS759: -2 | GT759: 1 | GU759: -1 | GV759: 16 | GY759: 0 | GZ759: 1 | HA759: 1 | HB759: 1 | HC759: 0 | HD759: 3 | HE759: 0 | HF759: 4 | HI759: 5 | HJ759: 7 | HK759: 3 | HL759: 15 | HM759: 4 | HN759: 7 | HO759: 4 | HP759: 6 | HS759: 11 | HT759: 19 | HU759: 14 | HV759: 4 | HW759: 14 | HX759: 2 | HY759: 12 | HZ759: 9 | IC759: 2 | ID759: 17 | IE759: 0 | IF759: 34 | IG759: 0 | IH759: 32 | II759: 4 | IJ759: 6 | IM759: 0 | IN759: 7 | IO759: 0 | IP759: 5 | IQ759: 0 | IR759: 8 | IS759: 0 | IT759: 12
A760: =IF(J760="","",CONCATENATE(J760," ",I760)) | AK760: 2 | AL760: 10 | AM760: 0.37361111 | AN760: 1 | AO760: 0.39375 | AP760: 1 | AQ760: 0.46041667 | AR760: 10 | AS760: 0.43402778 | AV760: 255.25 | AW760: 5 | AX760: 60.71 | AY760: 32 | AZ760: 66.67 | BA760: 21 | BB760: 27.25 | BC760: 1 | BD760: 1.6 | BE760: 1 | BF760: 70.83 | BG760: 2 | BH760: 83.33 | BI760: 4 | BJ760: 20 | BK760: 28 | BL760: 23 | BM760: 1 | BN760: 5 | BO760: 1 | BP760: 14 | BQ760: -6 | BR760: 3 | BS760: -7 | BT760: 4 | BU760: 0 | BV760: 19 | BW760: 46 | BX760: 9 | BY760: 0 | BZ760: 6 | CA760: 16 | CB760: 40 | CC760: 16 | CD760: 254.43 | CE760: 72.82 | CF760: 69.12 | CG760: 52.59 | CH760: 1.7 | CI760: 29.34 | CJ760: 49.06 | CK760: 3.01 | CL760: 4.02 | CM760: 4.72 | CN760: 254.45 | CO760: 72.33 | CP760: 68.98 | CQ760: 52.6 | CR760: 1.7 | CS760: 29.31 | CT760: 48.86 | CU760: 3.01 | CV760: 4.02 | CW760: 4.72 | CX760: 9 | CY760: 1 | CZ760: 21 | DA760: 20 | DB760: 20 | DC760: 253 | DD760: 11 | DE760: 263 | DF760: 2 | DG760: 253 | DH760: 4 | DI760: 252 | DJ760: 10 | DM760: 50 | DN760: 31 | DO760: 64.29 | DP760: 27 | DQ760: 57.14 | DR760: 33 | DS760: 71.43 | DT760: 16 | DW760: 72.22 | DX760: 16 | DY760: 66.67 | DZ760: 21 | EA760: 55.56 | EB760: 30 | EC760: 72.22 | ED760: 6 | EG760: 27 | EH760: 3 | EI760: 28 | EJ760: 5 | EK760: 24 | EL760: 1 | EM760: 30 | EN760: 18 | EQ760: 1.62 | ER760: 10 | ES760: 1.58 | ET760: 5 | EU760: 1.5 | EV760: 1 | EW760: 1.69 | EX760: 16 | FA760: 60 | FB760: 10 | FC760: 50 | FD760: 15 | FE760: 100 | FF760: 1 | FG760: 60 | FH760: 6 | FK760: 100 | FL760: 1 | FM760: 50 | FN760: 6 | FO760: 100 | FP760: 1 | FQ760: 100 | FR760: 1 | FU760: -1 | FV760: 5 | FW760: 1 | FX760: 18 | FY760: 0 | FZ760: 13 | GA760: 1 | GB760: 15 | GE760: 0 | GF760: 16 | GG760: -1 | GH760: 7 | GI760: -3 | GJ760: 2 | GK760: -2 | GL760: 2 | GO760: -2 | GP760: 5 | GQ760: -2 | GR760: 5 | GS760: -2 | GT760: 1 | GU760: -1 | GV760: 16 | GY760: 0 | GZ760: 1 | HA760: 0 | HB760: 4 | HC760: 0 | HD760: 3 | HE760: 0 | HF760: 4 | HI760: 5 | HJ760: 7 | HK760: 5 | HL760: 3 | HM760: 5 | HN760: 2 | HO760: 4 | HP760: 6 | HS760: 11 | HT760: 19 | HU760: 10 | HV760: 29 | HW760: 13 | HX760: 7 | HY760: 12 | HZ760: 9 | IC760: 2 | ID760: 17 | IE760: 3 | IF760: 8 | IG760: 0 | IH760: 32 | II760: 4 | IJ760: 6 | IM760: 0 | IN760: 7 | IO760: 0 | IP760: 5 | IQ760: 0 | IR760: 8 | IS760: 0 | IT760: 12
A761: =IF(J761="","",CONCATENATE(J761," ",I761)) | AK761: 3 | AL761: 1 | AM761: 0.42708333 | AN761: 1 | AO761: 0.43194444 | AP761: 1 | AQ761: 0.46041667 | AR761: 10 | AS761: 0.39583333 | AV761: 252.5 | AW761: 11 | AX761: 76.79 | AY761: 15 | AZ761: 76.39 | BA761: 5 | BB761: 28.75 | BC761: 6 | BD761: 1.71 | BE761: 13 | BF761: 64.71 | BG761: 7 | BH761: 50 | BI761: 12 | BJ761: 5 | BK761: 7 | BL761: 4 | BM761: 10 | BN761: 3 | BO761: 1 | BP761: 14 | BQ761: -7 | BR761: 1 | BS761: -4 | BT761: 12 | BU761: 1 | BV761: 15 | BW761: 49 | BX761: 11 | BY761: 0 | BZ761: 2 | CA761: 16 | CB761: 40 | CC761: 16 | CD761: 254.43 | CE761: 72.82 | CF761: 69.12 | CG761: 52.59 | CH761: 1.7 | CI761: 29.34 | CJ761: 49.06 | CK761: 3.01 | CL761: 4.02 | CM761: 4.72 | CN761: 254.45 | CO761: 72.33 | CP761: 68.98 | CQ761: 52.6 | CR761: 1.7 | CS761: 29.31 | CT761: 48.86 | CU761: 3.01 | CV761: 4.02 | CW761: 4.72 | CX761: 1 | CY761: 8 | CZ761: 8 | DA761: 12 | DB761: 20 | DC761: 255 | DD761: 6 | DE761: 261 | DF761: 6 | DG761: 237 | DH761: 26 | DI761: 257 | DJ761: 7 | DM761: 64.29 | DN761: 20 | DO761: 78.57 | DP761: 13 | DQ761: 78.57 | DR761: 16 | DS761: 85.71 | DT761: 3 | DW761: 94.44 | DX761: 2 | DY761: 61.11 | DZ761: 28 | EA761: 77.78 | EB761: 5 | EC761: 72.22 | ED761: 6 | EG761: 32 | EH761: 27 | EI761: 26 | EJ761: 1 | EK761: 30 | EL761: 17 | EM761: 27 | EN761: 2 | EQ761: 1.71 | ER761: 17 | ES761: 1.55 | ET761: 3 | EU761: 1.86 | EV761: 31 | EW761: 1.69 | EX761: 16 | FA761: 0 | FB761: 29 | FC761: 57.14 | FD761: 13 | FE761: 50 | FF761: 15 | FG761: 100 | FH761: 1 | FO761: 0 | FP761: 19 | FQ761: 100 | FR761: 1 | FU761: 0 | FV761: 15 | FW761: 0 | FX761: 9 | FY761: 1 | FZ761: 24 | GA761: 0 | GB761: 8 | GE761: -2 | GF761: 4 | GG761: 0 | GH761: 17 | GI761: -3 | GJ761: 2 | GK761: -2 | GL761: 2 | GO761: -1 | GP761: 15 | GQ761: -2 | GR761: 5 | GS761: 1 | GT761: 28 | GU761: -2 | GV761: 3 | GY761: 0 | GZ761: 1 | HA761: 0 | HB761: 4 | HC761: 1 | HD761: 1 | HE761: 0 | HF761: 4 | HI761: 5 | HJ761: 7 | HK761: 5 | HL761: 3 | HM761: 1 | HN761: 31 | HO761: 4 | HP761: 6 | HS761: 11 | HT761: 19 | HU761: 10 | HV761: 29 | HW761: 14 | HX761: 2 | HY761: 14 | HZ761: 2 | IC761: 2 | ID761: 17 | IE761: 3 | IF761: 8 | IG761: 2 | IH761: 15 | II761: 4 | IJ761: 6 | IM761: 0 | IN761: 7 | IO761: 0 | IP761: 5 | IQ761: 0 | IR761: 8 | IS761: 0 | IT761: 12
A762: =IF(J762="","",CONCATENATE(J762," ",I762)) | AK762: 5 | AL762: 1 | AM762: 0.45 | AN762: 1 | AO762: 0.44722222 | AP762: 1 | AQ762: 0.42222222 | AR762: 10 | AS762: 0.43402778 | AV762: 254.25 | AW762: 8 | AX762: 64.29 | AY762: 29 | AZ762: 72.22 | BA762: 13 | BB762: 28.5 | BC762: 4 | BD762: 1.69 | BE762: 9 | BF762: 55 | BG762: 12 | BH762: 50 | BI762: 12 | BJ762: 20 | BK762: 25 | BL762: 15 | BM762: 5 | BN762: 9 | BO762: 1 | BP762: 14 | BQ762: -1 | BR762: 9 | BS762: -8 | BT762: 1 | BU762: 1 | BV762: 15 | BW762: 47 | BX762: 7 | BY762: 0 | BZ762: 4 | CA762: 16 | CB762: 40 | CC762: 16 | CD762: 254.43 | CE762: 72.82 | CF762: 69.12 | CG762: 52.59 | CH762: 1.7 | CI762: 29.34 | CJ762: 49.06 | CK762: 3.01 | CL762: 4.02 | CM762: 4.72 | CN762: 254.45 | CO762: 72.33 | CP762: 68.98 | CQ762: 52.6 | CR762: 1.7 | CS762: 29.31 | CT762: 48.86 | CU762: 3.01 | CV762: 4.02 | CW762: 4.72 | CX762: 1 | CY762: 8 | CZ762: 17 | DA762: 27 | DB762: 20 | DC762: 260 | DD762: 3 | DE762: 262 | DF762: 3 | DG762: 249 | DH762: 9 | DI762: 246 | DJ762: 16 | DM762: 64.29 | DN762: 20 | DO762: 71.43 | DP762: 23 | DQ762: 64.29 | DR762: 30 | DS762: 57.14 | DT762: 32 | DW762: 77.78 | DX762: 10 | DY762: 77.78 | DZ762: 6 | EA762: 66.67 | EB762: 20 | EC762: 66.67 | ED762: 13 | EG762: 28 | EH762: 8 | EI762: 29 | EJ762: 11 | EK762: 26 | EL762: 3 | EM762: 31 | EN762: 24 | EQ762: 1.64 | ER762: 14 | ES762: 1.79 | ET762: 19 | EU762: 1.58 | EV762: 3 | EW762: 1.75 | EX762: 21 | FA762: 75 | FB762: 2 | FC762: 25 | FD762: 26 | FE762: 83.33 | FF762: 4 | FG762: 33.33 | FH762: 21 | FK762: 100 | FL762: 1 | FM762: 0 | FN762: 8 | FO762: 100 | FP762: 1 | FQ762: 0 | FR762: 16 | FU762: 0 | FV762: 15 | FW762: 2 | FX762: 30 | FY762: 0 | FZ762: 13 | GA762: -1 | GB762: 1 | GE762: -2 | GF762: 4 | GG762: 0 | GH762: 17 | GI762: -2 | GJ762: 4 | GK762: 3 | GL762: 25 | GO762: -2 | GP762: 5 | GQ762: -2 | GR762: 5 | GS762: -2 | GT762: 1 | GU762: -2 | GV762: 3 | GY762: 0 | GZ762: 1 | HA762: 0 | HB762: 4 | HC762: 0 | HD762: 3 | HE762: 1 | HF762: 1 | HI762: 5 | HJ762: 7 | HK762: 3 | HL762: 15 | HM762: 5 | HN762: 2 | HO762: 2 | HP762: 24 | HS762: 12 | HT762: 9 | HU762: 12 | HV762: 16 | HW762: 12 | HX762: 16 | HY762: 11 | HZ762: 13 | IC762: 1 | ID762: 29 | IE762: 3 | IF762: 8 | IG762: 1 | IH762: 27 | II762: 2 | IJ762: 24 | IM762: 0 | IN762: 7 | IO762: 0 | IP762: 5 | IQ762: 0 | IR762: 8 | IS762: 0 | IT762: 12
A763: =IF(J763="","",CONCATENATE(J763," ",I763)) | AK763: 5 | AL763: 1 | AM763: 0.40416667 | AN763: 1 | AO763: 0.45486111 | AP763: 1 | AQ763: 0.47569444 | AR763: 10 | AS763: 0.41875 | AV763: 237.75 | AW763: 24 | AX763: 92.86 | AY763: 1 | AZ763: 75 | BA763: 7 | BB763: 29.5 | BC763: 14 | BD763: 1.74 | BE763: 22 | BF763: 66.67 | BG763: 5 | BH763: 50 | BI763: 12 | BJ763: 4 | BK763: 2 | BL763: 6 | BM763: 18 | BN763: 4 | BO763: 0 | BP763: 8 | BQ763: -4 | BR763: 4 | BS763: -4 | BT763: 12 | BU763: 0 | BV763: 14 | BW763: 52 | BX763: 7 | BY763: 0 | BZ763: 2 | CA763: 16 | CB763: 40 | CC763: 16 | CD763: 254.43 | CE763: 72.82 | CF763: 69.12 | CG763: 52.59 | CH763: 1.7 | CI763: 29.34 | CJ763: 49.06 | CK763: 3.01 | CL763: 4.02 | CM763: 4.72 | CN763: 254.45 | CO763: 72.33 | CP763: 68.98 | CQ763: 52.6 | CR763: 1.7 | CS763: 29.31 | CT763: 48.86 | CU763: 3.01 | CV763: 4.02 | CW763: 4.72 | CX763: 9 | CY763: 13 | CZ763: 4 | DA763: 27 | DB763: 20 | DC763: 232 | DD763: 29 | DE763: 238 | DF763: 26 | DG763: 240 | DH763: 21 | DI763: 241 | DJ763: 23 | DM763: 100 | DN763: 1 | DO763: 92.86 | DP763: 5 | DQ763: 92.86 | DR763: 2 | DS763: 85.71 | DT763: 3 | DW763: 94.44 | DX763: 2 | DY763: 61.11 | DZ763: 28 | EA763: 83.33 | EB763: 2 | EC763: 61.11 | ED763: 19 | EG763: 28 | EH763: 8 | EI763: 28 | EJ763: 5 | EK763: 34 | EL763: 35 | EM763: 28 | EN763: 5 | EQ763: 1.59 | ER763: 8 | ES763: 1.82 | ET763: 26 | EU763: 1.93 | EV763: 35 | EW763: 1.64 | EX763: 9 | FA763: 100 | FB763: 1 | FC763: 85.71 | FD763: 4 | FE763: 33.33 | FF763: 29 | FG763: 57.14 | FH763: 7 | FO763: 100 | FP763: 1 | FQ763: 0 | FR763: 16 | FU763: -2 | FV763: 1 | FW763: 1 | FX763: 18 | FY763: 0 | FZ763: 13 | GA763: 1 | GB763: 15 | GE763: -4 | GF763: 1 | GG763: -1 | GH763: 7 | GI763: 1 | GJ763: 27 | GK763: 0 | GL763: 6 | GO763: -1 | GP763: 15 | GQ763: -1 | GR763: 16 | GS763: 0 | GT763: 19 | GU763: -2 | GV763: 3 | GY763: 0 | GZ763: 1 | HA763: 0 | HB763: 4 | HC763: 0 | HD763: 3 | HE763: 0 | HF763: 4 | HI763: 7 | HJ763: 2 | HK763: 2 | HL763: 24 | HM763: 1 | HN763: 31 | HO763: 4 | HP763: 6 | HS763: 11 | HT763: 19 | HU763: 15 | HV763: 3 | HW763: 15 | HX763: 1 | HY763: 11 | HZ763: 13 | IC763: 0 | ID763: 34 | IE763: 1 | IF763: 26 | IG763: 2 | IH763: 15 | II763: 4 | IJ763: 6 | IM763: 0 | IN763: 7 | IO763: 0 | IP763: 5 | IQ763: 0 | IR763: 8 | IS763: 0 | IT763: 12
A764: =IF(J764="","",CONCATENATE(J764," ",I764)) | AK764: 5 | AL764: 1 | AM764: 0.46527778 | AN764: 1 | AO764: 0.38611111 | AP764: 1 | AQ764: 0.45277778 | AR764: 1 | AS764: 0.37291667 | AV764: 232.25 | AW764: 30 | AX764: 83.93 | AY764: 8 | AZ764: 73.61 | BA764: 10 | BB764: 29 | BC764: 9 | BD764: 1.68 | BE764: 7 | BF764: 52.63 | BG764: 13 | BH764: 50 | BI764: 12 | BJ764: 24 | BK764: 5 | BL764: 14 | BM764: 8 | BN764: 6 | BO764: 1 | BP764: 14 | BQ764: -1 | BR764: 9 | BS764: -8 | BT764: 1 | BU764: 0 | BV764: 17 | BW764: 46 | BX764: 12 | BY764: 0 | BZ764: 4 | CA764: 16 | CB764: 40 | CC764: 16 | CD764: 254.43 | CE764: 72.82 | CF764: 69.12 | CG764: 52.59 | CH764: 1.7 | CI764: 29.34 | CJ764: 49.06 | CK764: 3.01 | CL764: 4.02 | CM764: 4.72 | CN764: 254.45 | CO764: 72.33 | CP764: 68.98 | CQ764: 52.6 | CR764: 1.7 | CS764: 29.31 | CT764: 48.86 | CU764: 3.01 | CV764: 4.02 | CW764: 4.72 | CX764: 9 | CY764: 3 | CZ764: 21 | DA764: 10 | DB764: 20 | DC764: 227 | DD764: 34 | DE764: 230 | DF764: 32 | DG764: 239 | DH764: 22 | DI764: 233 | DJ764: 31 | DM764: 78.57 | DN764: 15 | DO764: 78.57 | DP764: 13 | DQ764: 92.86 | DR764: 2 | DS764: 85.71 | DT764: 3 | DW764: 72.22 | DX764: 16 | DY764: 66.67 | DZ764: 21 | EA764: 77.78 | EB764: 5 | EC764: 77.78 | ED764: 3 | EG764: 29 | EH764: 15 | EI764: 28 | EJ764: 5 | EK764: 31 | EL764: 23 | EM764: 28 | EN764: 5 | EQ764: 1.69 | ER764: 16 | ES764: 1.58 | ET764: 5 | EU764: 1.79 | EV764: 23 | EW764: 1.64 | EX764: 12 | FA764: 60 | FB764: 10 | FC764: 50 | FD764: 15 | FE764: 50 | FF764: 15 | FG764: 50 | FH764: 9 | FK764: 50 | FL764: 7 | FQ764: 50 | FR764: 8 | FU764: -2 | FV764: 1 | FW764: 2 | FX764: 30 | FY764: 0 | FZ764: 13 | GA764: 1 | GB764: 15 | GE764: 2 | GF764: 25 | GG764: -1 | GH764: 7 | GI764: 0 | GJ764: 19 | GK764: -2 | GL764: 2 | GO764: -2 | GP764: 5 | GQ764: -3 | GR764: 2 | GS764: -1 | GT764: 9 | GU764: -2 | GV764: 3 | GY764: 0 | GZ764: 1 | HA764: 0 | HB764: 4 | HC764: 0 | HD764: 3 | HE764: 0 | HF764: 4 | HI764: 4 | HJ764: 13 | HK764: 5 | HL764: 3 | HM764: 3 | HN764: 18 | HO764: 5 | HP764: 2 | HS764: 12 | HT764: 9 | HU764: 10 | HV764: 29 | HW764: 13 | HX764: 7 | HY764: 11 | HZ764: 13 | IC764: 2 | ID764: 17 | IE764: 3 | IF764: 8 | IG764: 2 | IH764: 15 | II764: 5 | IJ764: 2 | IM764: 0 | IN764: 7 | IO764: 0 | IP764: 5 | IQ764: 0 | IR764: 8 | IS764: 0 | IT764: 12
A765: =IF(J765="","",CONCATENATE(J765," ",I765)) | AK765: 7.5 | AL765: 1 | AM765: 0.39652778 | AN765: 10 | AO765: 0.40902778 | AP765: 1 | AQ765: 0.4375 | AR765: 10 | AS765: 0.41111111 | AV765: 258 | AW765: 2 | AX765: 76.79 | AY765: 17 | AZ765: 76.39 | BA765: 5 | BB765: 30 | BC765: 20 | BD765: 1.71 | BE765: 13 | BF765: 58.82 | BG765: 8 | BH765: 50 | BI765: 12 | BJ765: 1 | BK765: 10 | BL765: 2 | BM765: 16 | BN765: 2 | BO765: 3 | BP765: 26 | BQ765: -3 | BR765: 6 | BS765: -7 | BT765: 4 | BU765: 0 | BV765: 16 | BW765: 48 | BX765: 8 | BY765: 1 | BZ765: 2 | CA765: 16 | CB765: 40 | CC765: 16 | CD765: 254.43 | CE765: 72.82 | CF765: 69.12 | CG765: 52.59 | CH765: 1.7 | CI765: 29.34 | CJ765: 49.06 | CK765: 3.01 | CL765: 4.02 | CM765: 4.72 | CN765: 254.45 | CO765: 72.33 | CP765: 68.98 | CQ765: 52.6 | CR765: 1.7 | CS765: 29.31 | CT765: 48.86 | CU765: 3.01 | CV765: 4.02 | CW765: 4.72 | CX765: 9 | CY765: 4 | CZ765: 12 | DA765: 23 | DB765: 8 | DC765: 254 | DD765: 8 | DE765: 262 | DF765: 3 | DG765: 268 | DH765: 1 | DI765: 248 | DJ765: 12 | DM765: 50 | DN765: 31 | DO765: 78.57 | DP765: 13 | DQ765: 100 | DR765: 1 | DS765: 78.57 | DT765: 10 | DW765: 61.11 | DX765: 26 | DY765: 77.78 | DZ765: 6 | EA765: 77.78 | EB765: 5 | EC765: 88.89 | ED765: 1 | EG765: 31 | EH765: 23 | EI765: 26 | EJ765: 1 | EK765: 30 | EL765: 17 | EM765: 33 | EN765: 30 | EQ765: 1.82 | ER765: 29 | ES765: 1.57 | ET765: 4 | EU765: 1.71 | EV765: 13 | EW765: 1.75 | EX765: 21 | FA765: 57.14 | FB765: 13 | FC765: 100 | FD765: 1 | FE765: 50 | FF765: 15 | FG765: 0 | FH765: 33 | FK765: 50 | FL765: 7 | FU765: 3 | FV765: 34 | FW765: -1 | FX765: 2 | FY765: 1 | FZ765: 24 | GA765: 0 | GB765: 8 | GE765: -1 | GF765: 9 | GG765: -1 | GH765: 7 | GI765: -2 | GJ765: 4 | GK765: 1 | GL765: 13 | GO765: 0 | GP765: 24 | GQ765: -4 | GR765: 1 | GS765: -1 | GT765: 9 | GU765: -2 | GV765: 3 | GY765: 0 | GZ765: 1 | HA765: 0 | HB765: 4 | HC765: 0 | HD765: 3 | HE765: 0 | HF765: 4 | HI765: 2 | HJ765: 28 | HK765: 6 | HL765: 2 | HM765: 4 | HN765: 7 | HO765: 4 | HP765: 6 | HS765: 13 | HT765: 6 | HU765: 12 | HV765: 16 | HW765: 12 | HX765: 16 | HY765: 11 | HZ765: 13 | IC765: 2 | ID765: 17 | IE765: 0 | IF765: 34 | IG765: 2 | IH765: 15 | II765: 4 | IJ765: 6 | IM765: 1 | IN765: 2 | IO765: 0 | IP765: 5 | IQ765: 0 | IR765: 8 | IS765: 0 | IT765: 12
A766: =IF(J766="","",CONCATENATE(J766," ",I766)) | AK766: 7.5 | AL766: 1 | AM766: 0.38888889 | AN766: 1 | AO766: 0.40902778 | AP766: 1 | AQ766: 0.44513889 | AR766: 10 | AS766: 0.40347222 | AV766: 243.25 | AW766: 18 | AX766: 89.29 | AY766: 3 | AZ766: 81.94 | BA766: 1 | BB766: 31 | BC766: 28 | BD766: 1.76 | BE766: 27 | BF766: 46.15 | BG766: 21 | BJ766: 2 | BK766: 1 | BL766: 1 | BM766: 29 | BN766: 8 | BO766: -3 | BP766: 2 | BQ766: -1 | BR766: 9 | BS766: -3 | BT766: 20 | BU766: 1 | BV766: 13 | BW766: 51 | BX766: 5 | BY766: 1 | BZ766: 0 | CA766: 16 | CB766: 40 | CC766: 16 | CD766: 254.43 | CE766: 72.82 | CF766: 69.12 | CG766: 52.59 | CH766: 1.7 | CI766: 29.34 | CJ766: 49.06 | CK766: 3.01 | CL766: 4.02 | CM766: 4.72 | CN766: 254.45 | CO766: 72.33 | CP766: 68.98 | CQ766: 52.6 | CR766: 1.7 | CS766: 29.31 | CT766: 48.86 | CU766: 3.01 | CV766: 4.02 | CW766: 4.72 | CX766: 1 | CY766: 21 | CZ766: 6 | DA766: 34 | DB766: 8 | DC766: 237 | DD766: 22 | DE766: 245 | DF766: 20 | DG766: 244 | DH766: 15 | DI766: 247 | DJ766: 13 | DM766: 92.86 | DN766: 3 | DO766: 85.71 | DP766: 9 | DQ766: 85.71 | DR766: 6 | DS766: 92.86 | DT766: 1 | DW766: 83.33 | DX766: 6 | DY766: 83.33 | DZ766: 3 | EA766: 77.78 | EB766: 5 | EC766: 83.33 | ED766: 2 | EG766: 30 | EH766: 18 | EI766: 33 | EJ766: 30 | EK766: 28 | EL766: 7 | EM766: 33 | EN766: 30 | EQ766: 1.67 | ER766: 15 | ES766: 1.8 | ET766: 24 | EU766: 1.71 | EV766: 13 | EW766: 1.87 | EX766: 29 | FA766: 33.33 | FB766: 23 | FC766: 33.33 | FD766: 24 | FE766: 75 | FF766: 6 | FG766: 33.33 | FH766: 21 | FU766: -2 | FV766: 1 | FW766: -1 | FX766: 2 | FY766: -1 | FZ766: 4 | GA766: 1 | GB766: 15 | GE766: -2 | GF766: 4 | GG766: 0 | GH766: 17 | GI766: 1 | GJ766: 27 | GK766: 0 | GL766: 6 | GO766: 1 | GP766: 32 | GQ766: 0 | GR766: 19 | GS766: -2 | GT766: 1 | GU766: -2 | GV766: 3 | GY766: 0 | GZ766: 1 | HA766: 0 | HB766: 4 | HC766: 0 | HD766: 3 | HE766: 1 | HF766: 1 | HI766: 5 | HJ766: 7 | HK766: 3 | HL766: 15 | HM766: 4 | HN766: 7 | HO766: 1 | HP766: 28 | HS766: 11 | HT766: 19 | HU766: 13 | HV766: 10 | HW766: 13 | HX766: 7 | HY766: 14 | HZ766: 2 | IC766: 2 | ID766: 17 | IE766: 2 | IF766: 18 | IG766: 0 | IH766: 32 | II766: 1 | IJ766: 28 | IM766: 0 | IN766: 7 | IO766: 0 | IP766: 5 | IQ766: 1 | IR766: 2 | IS766: 0 | IT766: 12
A767: =IF(J767="","",CONCATENATE(J767," ",I767)) | AK767: 9.5 | AL767: 10 | AM767: 0.41180556 | AN767: 1 | AO767: 0.34027778 | AP767: 1 | AQ767: 0.41458333 | AR767: 1 | AS767: 0.38055556 | AV767: 232 | AW767: 31 | AX767: 89.29 | AY767: 2 | AZ767: 75 | BA767: 7 | BB767: 30 | BC767: 20 | BD767: 1.72 | BE767: 20 | BF767: 50 | BG767: 15 | BH767: 60 | BI767: 10 | BJ767: 16 | BK767: 3 | BL767: 9 | BM767: 20 | BN767: 12 | BO767: -2 | BP767: 4 | BQ767: 0 | BR767: 14 | BS767: -4 | BT767: 12 | BU767: 0 | BV767: 15 | BW767: 48 | BX767: 10 | BY767: 0 | BZ767: 5 | CA767: 16 | CB767: 40 | CC767: 16 | CD767: 254.43 | CE767: 72.82 | CF767: 69.12 | CG767: 52.59 | CH767: 1.7 | CI767: 29.34 | CJ767: 49.06 | CK767: 3.01 | CL767: 4.02 | CM767: 4.72 | CN767: 254.45 | CO767: 72.33 | CP767: 68.98 | CQ767: 52.6 | CR767: 1.7 | CS767: 29.31 | CT767: 48.86 | CU767: 3.01 | CV767: 4.02 | CW767: 4.72 | CX767: 9 | CY767: 8 | CZ767: 12 | DA767: 17 | DB767: 20 | DC767: 231 | DD767: 30 | DE767: 224 | DF767: 35 | DG767: 241 | DH767: 20 | DI767: 232 | DJ767: 33 | DM767: 85.71 | DN767: 8 | DO767: 92.86 | DP767: 5 | DQ767: 92.86 | DR767: 2 | DS767: 85.71 | DT767: 3 | DW767: 72.22 | DX767: 16 | DY767: 77.78 | DZ767: 6 | EA767: 77.78 | EB767: 5 | EC767: 72.22 | ED767: 6 | EG767: 30 | EH767: 18 | EI767: 30 | EJ767: 16 | EK767: 30 | EL767: 17 | EM767: 30 | EN767: 18 | EQ767: 1.77 | ER767: 23 | ES767: 1.71 | ET767: 14 | EU767: 1.79 | EV767: 23 | EW767: 1.62 | EX767: 6 | FA767: 60 | FB767: 10 | FC767: 50 | FD767: 15 | FE767: 75 | FF767: 6 | FG767: 20 | FH767: 28 | FK767: 100 | FL767: 1 | FQ767: 33.33 | FR767: 14 | FU767: -1 | FV767: 5 | FW767: 0 | FX767: 9 | FY767: -1 | FZ767: 4 | GA767: 0 | GB767: 8 | GE767: 1 | GF767: 23 | GG767: 0 | GH767: 17 | GI767: 0 | GJ767: 19 | GK767: -1 | GL767: 5 | GO767: -1 | GP767: 15 | GQ767: -2 | GR767: 5 | GS767: -1 | GT767: 9 | GU767: 0 | GV767: 25 | GY767: 0 | GZ767: 1 | HA767: 0 | HB767: 4 | HC767: 0 | HD767: 3 | HE767: 0 | HF767: 4 | HI767: 3 | HJ767: 20 | HK767: 4 | HL767: 10 | HM767: 3 | HN767: 18 | HO767: 5 | HP767: 2 | HS767: 13 | HT767: 6 | HU767: 12 | HV767: 16 | HW767: 14 | HX767: 2 | HY767: 9 | HZ767: 26 | IC767: 2 | ID767: 17 | IE767: 2 | IF767: 18 | IG767: 1 | IH767: 27 | II767: 5 | IJ767: 2 | IM767: 0 | IN767: 7 | IO767: 0 | IP767: 5 | IQ767: 0 | IR767: 8 | IS767: 0 | IT767: 12
A768: =IF(J768="","",CONCATENATE(J768," ",I768)) | AK768: 9.5 | AL768: 10 | AM768: 0.36597222 | AN768: 1 | AO768: 0.37083333 | AP768: 1 | AQ768: 0.46805556 | AR768: 10 | AS768: 0.42638889 | AV768: 233.5 | AW768: 28 | AX768: 87.5 | AY768: 4 | AZ768: 73.61 | BA768: 10 | BB768: 29.25 | BC768: 13 | BD768: 1.72 | BE768: 18 | BF768: 52.63 | BG768: 13 | BH768: 50 | BI768: 12 | BJ768: 14 | BK768: 4 | BL768: 10 | BM768: 15 | BN768: 10 | BO768: 0 | BP768: 8 | BQ768: -1 | BR768: 9 | BS768: -5 | BT768: 7 | BU768: 0 | BV768: 15 | BW768: 48 | BX768: 8 | BY768: 0 | BZ768: 4 | CA768: 16 | CB768: 40 | CC768: 16 | CD768: 254.43 | CE768: 72.82 | CF768: 69.12 | CG768: 52.59 | CH768: 1.7 | CI768: 29.34 | CJ768: 49.06 | CK768: 3.01 | CL768: 4.02 | CM768: 4.72 | CN768: 254.45 | CO768: 72.33 | CP768: 68.98 | CQ768: 52.6 | CR768: 1.7 | CS768: 29.31 | CT768: 48.86 | CU768: 3.01 | CV768: 4.02 | CW768: 4.72 | CX768: 9 | CY768: 8 | CZ768: 12 | DA768: 23 | DB768: 20 | DC768: 233 | DD768: 27 | DE768: 237 | DF768: 29 | DG768: 231 | DH768: 29 | DI768: 233 | DJ768: 31 | DM768: 85.71 | DN768: 8 | DO768: 100 | DP768: 1 | DQ768: 92.86 | DR768: 2 | DS768: 71.43 | DT768: 16 | DW768: 61.11 | DX768: 26 | DY768: 83.33 | DZ768: 3 | EA768: 77.78 | EB768: 5 | EC768: 72.22 | ED768: 6 | EG768: 26 | EH768: 1 | EI768: 29 | EJ768: 11 | EK768: 31 | EL768: 23 | EM768: 31 | EN768: 24 | EQ768: 1.64 | ER768: 12 | ES768: 1.67 | ET768: 9 | EU768: 1.71 | EV768: 13 | EW768: 1.85 | EX768: 28 | FA768: 71.43 | FB768: 6 | FC768: 66.67 | FD768: 8 | FE768: 25 | FF768: 33 | FG768: 40 | FH768: 18 | FK768: 0 | FL768: 12 | FM768: 0 | FN768: 8 | FO768: 100 | FP768: 1 | FU768: 0 | FV768: 15 | FW768: 0 | FX768: 9 | FY768: 0 | FZ768: 13 | GA768: 0 | GB768: 8 | GE768: -2 | GF768: 4 | GG768: -2 | GH768: 3 | GI768: 1 | GJ768: 27 | GK768: 2 | GL768: 18 | GO768: 0 | GP768: 24 | GQ768: -2 | GR768: 5 | GS768: -2 | GT768: 1 | GU768: -1 | GV768: 16 | GY768: 0 | GZ768: 1 | HA768: 0 | HB768: 4 | HC768: 0 | HD768: 3 | HE768: 0 | HF768: 4 | HI768: 4 | HJ768: 13 | HK768: 5 | HL768: 3 | HM768: 4 | HN768: 7 | HO768: 2 | HP768: 24 | HS768: 12 | HT768: 9 | HU768: 12 | HV768: 16 | HW768: 11 | HX768: 28 | HY768: 13 | HZ768: 4 | IC768: 2 | ID768: 17 | IE768: 1 | IF768: 26 | IG768: 3 | IH768: 6 | II768: 2 | IJ768: 24 | IM768: 0 | IN768: 7 | IO768: 0 | IP768: 5 | IQ768: 0 | IR768: 8 | IS768: 0 | IT768: 12
A769: =IF(J769="","",CONCATENATE(J769," ",I769)) | AK769: 11 | AL769: 1 | AM769: 0.35833333 | AN769: 1 | AO769: 0.36319444 | AP769: 1 | AQ769: 0.39166667 | AR769: 1 | AS769: 0.38819444 | AV769: 240.75 | AW769: 21 | AX769: 82.14 | AY769: 11 | AZ769: 72.22 | BA769: 13 | BB769: 29.75 | BC769: 17 | BD769: 1.77 | BE769: 29 | BF769: 65 | BG769: 6 | BH769: 100 | BI769: 1 | BJ769: 14 | BK769: 11 | BL769: 12 | BM769: 24 | BN769: 15 | BO769: 0 | BP769: 8 | BQ769: -2 | BR769: 7 | BS769: -3 | BT769: 20 | BU769: 0 | BV769: 12 | BW769: 53 | BX769: 7 | BY769: 0 | BZ769: 1 | CA769: 16 | CB769: 40 | CC769: 16 | CD769: 254.43 | CE769: 72.82 | CF769: 69.12 | CG769: 52.59 | CH769: 1.7 | CI769: 29.34 | CJ769: 49.06 | CK769: 3.01 | CL769: 4.02 | CM769: 4.72 | CN769: 254.45 | CO769: 72.33 | CP769: 68.98 | CQ769: 52.6 | CR769: 1.7 | CS769: 29.31 | CT769: 48.86 | CU769: 3.01 | CV769: 4.02 | CW769: 4.72 | CX769: 9 | CY769: 23 | CZ769: 3 | DA769: 27 | DB769: 20 | DC769: 235 | DD769: 23 | DE769: 246 | DF769: 17 | DG769: 239 | DH769: 22 | DI769: 243 | DJ769: 21 | DM769: 85.71 | DN769: 8 | DO769: 78.57 | DP769: 13 | DQ769: 85.71 | DR769: 6 | DS769: 78.57 | DT769: 10 | DW769: 77.78 | DX769: 10 | DY769: 66.67 | DZ769: 21 | EA769: 88.89 | EB769: 1 | EC769: 55.56 | ED769: 25 | EG769: 31 | EH769: 23 | EI769: 29 | EJ769: 11 | EK769: 31 | EL769: 23 | EM769: 28 | EN769: 5 | EQ769: 1.79 | ER769: 24 | ES769: 1.83 | ET769: 27 | EU769: 1.75 | EV769: 18 | EW769: 1.7 | EX769: 18 | FA769: 75 | FB769: 2 | FC769: 66.67 | FD769: 8 | FE769: 50 | FF769: 15 | FG769: 62.5 | FH769: 5 | FM769: 100 | FN769: 1 | FU769: -1 | FV769: 5 | FW769: 0 | FX769: 9 | FY769: -1 | FZ769: 4 | GA769: 2 | GB769: 27 | GE769: 0 | GF769: 16 | GG769: 0 | GH769: 17 | GI769: -2 | GJ769: 4 | GK769: 0 | GL769: 6 | GO769: -1 | GP769: 15 | GQ769: 0 | GR769: 19 | GS769: 0 | GT769: 19 | GU769: -2 | GV769: 3 | GY769: 0 | GZ769: 1 | HA769: 0 | HB769: 4 | HC769: 0 | HD769: 3 | HE769: 0 | HF769: 4 | HI769: 3 | HJ769: 20 | HK769: 2 | HL769: 24 | HM769: 4 | HN769: 7 | HO769: 3 | HP769: 15 | HS769: 14 | HT769: 3 | HU769: 14 | HV769: 4 | HW769: 13 | HX769: 7 | HY769: 12 | HZ769: 9 | IC769: 1 | ID769: 29 | IE769: 2 | IF769: 18 | IG769: 1 | IH769: 27 | II769: 3 | IJ769: 15 | IM769: 0 | IN769: 7 | IO769: 0 | IP769: 5 | IQ769: 0 | IR769: 8 | IS769: 0 | IT769: 12
A770: =IF(J770="","",CONCATENATE(J770," ",I770)) | AK770: 13.5 | AL770: 10 | AM770: 0.35069444 | AN770: 10 | AO770: 0.41666667 | AP770: 10 | AQ770: 0.39930556 | AR770: 1 | AS770: 0.36527778 | AV770: 257.5 | AW770: 3 | AX770: 60.71 | AY770: 32 | AZ770: 61.11 | BA770: 30 | BB770: 27.75 | BC770: 2 | BD770: 1.68 | BE770: 8 | BF770: 67.86 | BG770: 4 | BH770: 40 | BI770: 20 | BJ770: 18 | BK770: 33 | BL770: 28 | BM770: 3 | BN770: 13 | BO770: -2 | BP770: 4 | BQ770: 2 | BR770: 20 | BS770: -4 | BT770: 12 | BU770: 0 | BV770: 14 | BW770: 49 | BX770: 10 | BY770: 1 | BZ770: 5 | CA770: 16 | CB770: 40 | CC770: 16 | CD770: 254.43 | CE770: 72.82 | CF770: 69.12 | CG770: 52.59 | CH770: 1.7 | CI770: 29.34 | CJ770: 49.06 | CK770: 3.01 | CL770: 4.02 | CM770: 4.72 | CN770: 254.45 | CO770: 72.33 | CP770: 68.98 | CQ770: 52.6 | CR770: 1.7 | CS770: 29.31 | CT770: 48.86 | CU770: 3.01 | CV770: 4.02 | CW770: 4.72 | CX770: 9 | CY770: 13 | CZ770: 8 | DA770: 17 | DB770: 8 | DC770: 251 | DD770: 14 | DE770: 266 | DF770: 1 | DG770: 251 | DH770: 5 | DI770: 262 | DJ770: 2 | DM770: 35.71 | DN770: 35 | DO770: 64.29 | DP770: 27 | DQ770: 71.43 | DR770: 23 | DS770: 71.43 | DT770: 16 | DW770: 38.89 | DX770: 35 | DY770: 55.56 | DZ770: 31 | EA770: 77.78 | EB770: 5 | EC770: 72.22 | ED770: 6 | EG770: 27 | EH770: 3 | EI770: 27 | EJ770: 3 | EK770: 28 | EL770: 7 | EM770: 29 | EN770: 12 | EQ770: 1.86 | ER770: 33 | ES770: 1.7 | ET770: 13 | EU770: 1.64 | EV770: 8 | EW770: 1.62 | EX770: 6 | FA770: 72.73 | FB770: 5 | FC770: 87.5 | FD770: 3 | FE770: 75 | FF770: 6 | FG770: 20 | FH770: 28 | FK770: 0 | FL770: 12 | FM770: 0 | FN770: 8 | FO770: 100 | FP770: 1 | FQ770: 100 | FR770: 1 | FU770: 0 | FV770: 15 | FW770: -1 | FX770: 2 | FY770: -1 | FZ770: 4 | GA770: 0 | GB770: 8 | GE770: 2 | GF770: 25 | GG770: 1 | GH770: 26 | GI770: -2 | GJ770: 4 | GK770: 1 | GL770: 13 | GO770: 0 | GP770: 24 | GQ770: -2 | GR770: 5 | GS770: -1 | GT770: 9 | GU770: -1 | GV770: 16 | GY770: 0 | GZ770: 1 | HA770: 0 | HB770: 4 | HC770: 0 | HD770: 3 | HE770: 0 | HF770: 4 | HI770: 1 | HJ770: 34 | HK770: 3 | HL770: 15 | HM770: 5 | HN770: 2 | HO770: 5 | HP770: 2 | HS770: 14 | HT770: 3 | HU770: 14 | HV770: 4 | HW770: 12 | HX770: 16 | HY770: 9 | HZ770: 26 | IC770: 3 | ID770: 10 | IE770: 1 | IF770: 26 | IG770: 1 | IH770: 27 | II770: 5 | IJ770: 2 | IM770: 0 | IN770: 7 | IO770: 0 | IP770: 5 | IQ770: 0 | IR770: 8 | IS770: 1 | IT770: 3
A771: =IF(J771="","",CONCATENATE(J771," ",I771)) | AK771: 13.5 | AL771: 10 | AM771: 0.38888889 | AN771: 1 | AO771: 0.44722222 | AP771: 1 | AQ771: 0.46805556 | AR771: 10 | AS771: 0.42638889 | AV771: 244.25 | AW771: 17 | AX771: 69.64 | AY771: 27 | AZ771: 77.78 | BA771: 2 | BB771: 31 | BC771: 28 | BD771: 1.68 | BE771: 6 | BF771: 31.25 | BG771: 33 | BH771: 75 | BI771: 6 | BJ771: 30 | BK771: 15 | BL771: 13 | BM771: 17 | BN771: 17 | BO771: -4 | BP771: 1 | BQ771: 4 | BR771: 27 | BS771: -4 | BT771: 12 | BU771: 0 | BV771: 18 | BW771: 41 | BX771: 11 | BY771: 1 | BZ771: 4 | CA771: 16 | CB771: 40 | CC771: 16 | CD771: 254.43 | CE771: 72.82 | CF771: 69.12 | CG771: 52.59 | CH771: 1.7 | CI771: 29.34 | CJ771: 49.06 | CK771: 3.01 | CL771: 4.02 | CM771: 4.72 | CN771: 254.45 | CO771: 72.33 | CP771: 68.98 | CQ771: 52.6 | CR771: 1.7 | CS771: 29.31 | CT771: 48.86 | CU771: 3.01 | CV771: 4.02 | CW771: 4.72 | CX771: 9 | CY771: 2 | CZ771: 30 | DA771: 12 | DB771: 8 | DC771: 235 | DD771: 23 | DE771: 246 | DF771: 17 | DG771: 249 | DH771: 9 | DI771: 247 | DJ771: 13 | DM771: 64.29 | DN771: 20 | DO771: 78.57 | DP771: 13 | DQ771: 71.43 | DR771: 23 | DS771: 64.29 | DT771: 27 | DW771: 94.44 | DX771: 2 | DY771: 77.78 | DZ771: 6 | EA771: 66.67 | EB771: 20 | EC771: 72.22 | ED771: 6 | EG771: 30 | EH771: 18 | EI771: 31 | EJ771: 20 | EK771: 29 | EL771: 12 | EM771: 34 | EN771: 32 | EQ771: 1.53 | ER771: 3 | ES771: 1.79 | ET771: 19 | EU771: 1.67 | EV771: 9 | EW771: 1.77 | EX771: 24 | FA771: 0 | FB771: 29 | FC771: 50 | FD771: 15 | FE771: 50 | FF771: 15 | FG771: 0 | FH771: 33 | FO771: 100 | FP771: 1 | FQ771: 50 | FR771: 8 | FU771: -1 | FV771: 5 | FW771: 0 | FX771: 9 | FY771: -2 | FZ771: 1 | GA771: -1 | GB771: 1 | GE771: -1 | GF771: 9 | GG771: -1 | GH771: 7 | GI771: 2 | GJ771: 30 | GK771: 4 | GL771: 28 | GO771: -3 | GP771: 1 | GQ771: 0 | GR771: 19 | GS771: -1 | GT771: 9 | GU771: 0 | GV771: 25 | GY771: 0 | GZ771: 1 | HA771: 0 | HB771: 4 | HC771: 0 | HD771: 3 | HE771: 0 | HF771: 4 | HI771: 8 | HJ771: 1 | HK771: 3 | HL771: 15 | HM771: 4 | HN771: 7 | HO771: 3 | HP771: 15 | HS771: 7 | HT771: 34 | HU771: 13 | HV771: 10 | HW771: 11 | HX771: 28 | HY771: 10 | HZ771: 22 | IC771: 3 | ID771: 10 | IE771: 2 | IF771: 18 | IG771: 3 | IH771: 6 | II771: 3 | IJ771: 15 | IM771: 0 | IN771: 7 | IO771: 0 | IP771: 5 | IQ771: 0 | IR771: 8 | IS771: 1 | IT771: 3
A772: =IF(J772="","",CONCATENATE(J772," ",I772)) | AK772: 13.5 | AL772: 1 | AM772: 0.45763889 | AN772: 10 | AO772: 0.34791667 | AP772: 10 | AQ772: 0.37638889 | AR772: 10 | AS772: 0.35763889 | AV772: 239.5 | AW772: 23 | AX772: 80.36 | AY772: 12 | AZ772: 68.06 | BA772: 20 | BB772: 29 | BC772: 9 | BD772: 1.71 | BE772: 16 | BF772: 56.52 | BG772: 9 | BH772: 0 | BI772: 26 | BJ772: 18 | BK772: 18 | BL772: 20 | BM772: 12 | BN772: 15 | BO772: 2 | BP772: 22 | BQ772: -4 | BR772: 4 | BS772: -2 | BT772: 23 | BU772: 0 | BV772: 14 | BW772: 48 | BX772: 14 | BY772: 0 | BZ772: 2 | CA772: 16 | CB772: 40 | CC772: 16 | CD772: 254.43 | CE772: 72.82 | CF772: 69.12 | CG772: 52.59 | CH772: 1.7 | CI772: 29.34 | CJ772: 49.06 | CK772: 3.01 | CL772: 4.02 | CM772: 4.72 | CN772: 254.45 | CO772: 72.33 | CP772: 68.98 | CQ772: 52.6 | CR772: 1.7 | CS772: 29.31 | CT772: 48.86 | CU772: 3.01 | CV772: 4.02 | CW772: 4.72 | CX772: 9 | CY772: 13 | CZ772: 12 | DA772: 1 | DB772: 20 | DC772: 240 | DD772: 18 | DE772: 241 | DF772: 24 | DG772: 238 | DH772: 24 | DI772: 239 | DJ772: 28 | DM772: 92.86 | DN772: 3 | DO772: 78.57 | DP772: 13 | DQ772: 71.43 | DR772: 23 | DS772: 78.57 | DT772: 10 | DW772: 61.11 | DX772: 26 | DY772: 66.67 | DZ772: 21 | EA772: 77.78 | EB772: 5 | EC772: 66.67 | ED772: 13 | EG772: 28 | EH772: 8 | EI772: 30 | EJ772: 16 | EK772: 32 | EL772: 33 | EM772: 26 | EN772: 1 | EQ772: 1.64 | ER772: 12 | ES772: 1.92 | ET772: 33 | EU772: 1.79 | EV772: 23 | EW772: 1.5 | EX772: 1 | FA772: 42.86 | FB772: 20 | FC772: 83.33 | FD772: 5 | FE772: 25 | FF772: 33 | FG772: 66.67 | FH772: 3 | FK772: 0 | FL772: 12 | FQ772: 0 | FR772: 16 | FU772: -1 | FV772: 5 | FW772: 1 | FX772: 18 | FY772: 1 | FZ772: 24 | GA772: 1 | GB772: 15 | GE772: 2 | GF772: 25 | GG772: -1 | GH772: 7 | GI772: -1 | GJ772: 10 | GK772: -4 | GL772: 1 | GO772: -1 | GP772: 15 | GQ772: 0 | GR772: 19 | GS772: 0 | GT772: 19 | GU772: -1 | GV772: 16 | GY772: 0 | GZ772: 1 | HA772: 0 | HB772: 4 | HC772: 0 | HD772: 3 | HE772: 0 | HF772: 4 | HI772: 4 | HJ772: 13 | HK772: 1 | HL772: 30 | HM772: 3 | HN772: 18 | HO772: 6 | HP772: 1 | HS772: 10 | HT772: 27 | HU772: 16 | HV772: 1 | HW772: 12 | HX772: 16 | HY772: 10 | HZ772: 22 | IC772: 4 | ID772: 3 | IE772: 1 | IF772: 26 | IG772: 3 | IH772: 6 | II772: 6 | IJ772: 1 | IM772: 0 | IN772: 7 | IO772: 0 | IP772: 5 | IQ772: 0 | IR772: 8 | IS772: 0 | IT772: 12
A773: =IF(J773="","",CONCATENATE(J773," ",I773)) | AK773: 13.5 | AL773: 1 | AM773: 0.38125 | AN773: 10 | AO773: 0.34027778 | AP773: 10 | AQ773: 0.36111111 | AR773: 10 | AS773: 0.32708333 | AV773: 253.75 | AW773: 9 | AX773: 76.79 | AY773: 17 | AZ773: 77.78 | BA773: 4 | BB773: 31 | BC773: 28 | BD773: 1.75 | BE773: 23 | BF773: 50 | BG773: 15 | BJ773: 5 | BK773: 8 | BL773: 3 | BM773: 27 | BN773: 6 | BO773: -3 | BP773: 2 | BQ773: 1 | BR773: 15 | BS773: -2 | BT773: 23 | BU773: 0 | BV773: 14 | BW773: 49 | BX773: 12 | BY773: 1 | BZ773: 0 | CA773: 16 | CB773: 40 | CC773: 16 | CD773: 254.43 | CE773: 72.82 | CF773: 69.12 | CG773: 52.59 | CH773: 1.7 | CI773: 29.34 | CJ773: 49.06 | CK773: 3.01 | CL773: 4.02 | CM773: 4.72 | CN773: 254.45 | CO773: 72.33 | CP773: 68.98 | CQ773: 52.6 | CR773: 1.7 | CS773: 29.31 | CT773: 48.86 | CU773: 3.01 | CV773: 4.02 | CW773: 4.72 | CX773: 9 | CY773: 13 | CZ773: 8 | DA773: 10 | DB773: 8 | DC773: 260 | DD773: 3 | DE773: 252 | DF773: 12 | DG773: 250 | DH773: 7 | DI773: 253 | DJ773: 8 | DM773: 78.57 | DN773: 15 | DO773: 64.29 | DP773: 27 | DQ773: 85.71 | DR773: 6 | DS773: 78.57 | DT773: 10 | DW773: 66.67 | DX773: 21 | DY773: 94.44 | DZ773: 1 | EA773: 72.22 | EB773: 15 | EC773: 77.78 | ED773: 3 | EG773: 29 | EH773: 15 | EI773: 34 | EJ773: 33 | EK773: 31 | EL773: 23 | EM773: 30 | EN773: 18 | EQ773: 1.75 | ER773: 21 | ES773: 1.88 | ET773: 29 | EU773: 1.69 | EV773: 11 | EW773: 1.64 | EX773: 12 | FA773: 66.67 | FB773: 7 | FC773: 0 | FD773: 32 | FE773: 40 | FF773: 23 | FG773: 50 | FH773: 9 | FU773: -1 | FV773: 5 | FW773: -1 | FX773: 2 | FY773: 0 | FZ773: 13 | GA773: -1 | GB773: 1 | GE773: 0 | GF773: 16 | GG773: 1 | GH773: 26 | GI773: -1 | GJ773: 10 | GK773: 1 | GL773: 13 | GO773: 0 | GP773: 24 | GQ773: 0 | GR773: 19 | GS773: 0 | GT773: 19 | GU773: -2 | GV773: 3 | GY773: 0 | GZ773: 1 | HA773: 0 | HB773: 4 | HC773: 0 | HD773: 3 | HE773: 0 | HF773: 4 | HI773: 3 | HJ773: 20 | HK773: 2 | HL773: 24 | HM773: 4 | HN773: 7 | HO773: 5 | HP773: 2 | HS773: 13 | HT773: 6 | HU773: 14 | HV773: 4 | HW773: 11 | HX773: 28 | HY773: 11 | HZ773: 13 | IC773: 2 | ID773: 17 | IE773: 2 | IF773: 18 | IG773: 3 | IH773: 6 | II773: 5 | IJ773: 2 | IM773: 0 | IN773: 7 | IO773: 0 | IP773: 5 | IQ773: 0 | IR773: 8 | IS773: 1 | IT773: 3
A774: =IF(J774="","",CONCATENATE(J774," ",I774)) | AK774: 16.5 | AL774: 1 | AM774: 0.43472222 | AN774: 1 | AO774: 0.34791667 | AP774: 1 | AQ774: 0.45277778 | AR774: 1 | AS774: 0.35763889 | AV774: 254.5 | AW774: 7 | AX774: 75 | AY774: 19 | AZ774: 75 | BA774: 7 | BB774: 30.5 | BC774: 24 | BD774: 1.81 | BE774: 33 | BF774: 55.56 | BG774: 11 | BH774: 20 | BI774: 24 | BJ774: 5 | BK774: 13 | BL774: 7 | BM774: 31 | BN774: 13 | BO774: -2 | BP774: 4 | BQ774: 1 | BR774: 15 | BS774: -1 | BT774: 27 | BU774: 0 | BV774: 10 | BW774: 54 | BX774: 6 | BY774: 0 | BZ774: 5 | CA774: 16 | CB774: 40 | CC774: 16 | CD774: 254.43 | CE774: 72.82 | CF774: 69.12 | CG774: 52.59 | CH774: 1.7 | CI774: 29.34 | CJ774: 49.06 | CK774: 3.01 | CL774: 4.02 | CM774: 4.72 | CN774: 254.45 | CO774: 72.33 | CP774: 68.98 | CQ774: 52.6 | CR774: 1.7 | CS774: 29.31 | CT774: 48.86 | CU774: 3.01 | CV774: 4.02 | CW774: 4.72 | CX774: 9 | CY774: 29 | CZ774: 2 | DA774: 32 | DB774: 20 | DC774: 245 | DD774: 15 | DE774: 260 | DF774: 7 | DG774: 266 | DH774: 2 | DI774: 247 | DJ774: 13 | DM774: 64.29 | DN774: 20 | DO774: 85.71 | DP774: 9 | DQ774: 78.57 | DR774: 16 | DS774: 71.43 | DT774: 16 | DW774: 94.44 | DX774: 2 | DY774: 72.22 | DZ774: 18 | EA774: 72.22 | EB774: 15 | EC774: 61.11 | ED774: 19 | EG774: 33 | EH774: 30 | EI774: 28 | EJ774: 5 | EK774: 31 | EL774: 23 | EM774: 30 | EN774: 18 | EQ774: 1.88 | ER774: 34 | ES774: 1.69 | ET774: 11 | EU774: 1.85 | EV774: 28 | EW774: 1.82 | EX774: 27 | FA774: 0 | FB774: 29 | FC774: 80 | FD774: 6 | FE774: 60 | FF774: 13 | FG774: 42.86 | FH774: 16 | FK774: 50 | FL774: 7 | FO774: 0 | FP774: 19 | FQ774: 0 | FR774: 16 | FU774: 0 | FV774: 15 | FW774: -3 | FX774: 1 | FY774: 1 | FZ774: 24 | GA774: 0 | GB774: 8 | GE774: 0 | GF774: 16 | GG774: -1 | GH774: 7 | GI774: 0 | GJ774: 19 | GK774: 2 | GL774: 18 | GO774: -1 | GP774: 15 | GQ774: 1 | GR774: 30 | GS774: -1 | GT774: 9 | GU774: 0 | GV774: 25 | GY774: 0 | GZ774: 1 | HA774: 0 | HB774: 4 | HC774: 0 | HD774: 3 | HE774: 0 | HF774: 4 | HI774: 2 | HJ774: 28 | HK774: 4 | HL774: 10 | HM774: 2 | HN774: 25 | HO774: 2 | HP774: 24 | HS774: 15 | HT774: 1 | HU774: 13 | HV774: 10 | HW774: 14 | HX774: 2 | HY774: 12 | HZ774: 9 | IC774: 1 | ID774: 29 | IE774: 1 | IF774: 26 | IG774: 2 | IH774: 15 | II774: 2 | IJ774: 24 | IM774: 0 | IN774: 7 | IO774: 0 | IP774: 5 | IQ774: 0 | IR774: 8 | IS774: 0 | IT774: 12
A775: =IF(J775="","",CONCATENATE(J775," ",I775)) | AK775: 16.5 | AL775: 10 | AM775: 0.45 | AN775: 1 | AO775: 0.43958333 | AP775: 10 | AQ775: 0.40694444 | AR775: 1 | AS775: 0.34236111 | AV775: 229.75 | AW775: 34 | AX775: 85.71 | AY775: 6 | AZ775: 66.67 | BA775: 23 | BB775: 29.5 | BC775: 14 | BD775: 1.71 | BE775: 12 | BF775: 50 | BG775: 15 | BH775: 0 | BI775: 26 | BJ775: 28 | BK775: 15 | BL775: 25 | BM775: 14 | BN775: 20 | BO775: 1 | BP775: 14 | BQ775: 2 | BR775: 20 | BS775: -5 | BT775: 7 | BU775: 0 | BV775: 14 | BW775: 46 | BX775: 11 | BY775: 0 | BZ775: 1 | CA775: 16 | CB775: 40 | CC775: 16 | CD775: 254.43 | CE775: 72.82 | CF775: 69.12 | CG775: 52.59 | CH775: 1.7 | CI775: 29.34 | CJ775: 49.06 | CK775: 3.01 | CL775: 4.02 | CM775: 4.72 | CN775: 254.45 | CO775: 72.33 | CP775: 68.98 | CQ775: 52.6 | CR775: 1.7 | CS775: 29.31 | CT775: 48.86 | CU775: 3.01 | CV775: 4.02 | CW775: 4.72 | CX775: 9 | CY775: 13 | CZ775: 21 | DA775: 12 | DB775: 20 | DC775: 230 | DD775: 31 | DE775: 231 | DF775: 31 | DG775: 227 | DH775: 33 | DI775: 231 | DJ775: 34 | DM775: 100 | DN775: 1 | DO775: 100 | DP775: 1 | DQ775: 85.71 | DR775: 6 | DS775: 57.14 | DT775: 32 | DW775: 100 | DX775: 1 | DY775: 38.89 | DZ775: 35 | EA775: 66.67 | EB775: 20 | EC775: 61.11 | ED775: 19 | EG775: 33 | EH775: 30 | EI775: 28 | EJ775: 5 | EK775: 27 | EL775: 5 | EM775: 30 | EN775: 18 | EQ775: 1.83 | ER775: 30 | ES775: 1.71 | ET775: 14 | EU775: 1.58 | EV775: 3 | EW775: 1.64 | EX775: 9 | FC775: 54.55 | FD775: 14 | FE775: 66.67 | FF775: 10 | FG775: 28.57 | FH775: 25 | FM775: 0 | FN775: 8 | FU775: 0 | FV775: 15 | FW775: 2 | FX775: 30 | FY775: 0 | FZ775: 13 | GA775: -1 | GB775: 1 | GE775: -1 | GF775: 9 | GG775: 1 | GH775: 26 | GI775: -2 | GJ775: 4 | GK775: 4 | GL775: 28 | GO775: -2 | GP775: 5 | GQ775: 0 | GR775: 19 | GS775: -1 | GT775: 9 | GU775: -2 | GV775: 3 | GY775: 0 | GZ775: 1 | HA775: 0 | HB775: 4 | HC775: 0 | HD775: 3 | HE775: 0 | HF775: 4 | HI775: 3 | HJ775: 20 | HK775: 2 | HL775: 24 | HM775: 5 | HN775: 2 | HO775: 4 | HP775: 6 | HS775: 15 | HT775: 1 | HU775: 11 | HV775: 24 | HW775: 11 | HX775: 28 | HY775: 9 | HZ775: 26 | IC775: 0 | ID775: 34 | IE775: 5 | IF775: 1 | IG775: 2 | IH775: 15 | II775: 4 | IJ775: 6 | IM775: 0 | IN775: 7 | IO775: 0 | IP775: 5 | IQ775: 0 | IR775: 8 | IS775: 0 | IT775: 12
A776: =IF(J776="","",CONCATENATE(J776," ",I776)) | AK776: 18 | AL776: 1 | AM776: 0.45763889 | AN776: 1 | AO776: 0.35555556 | AP776: 1 | AQ776: 0.39930556 | AR776: 10 | AS776: 0.36527778 | AV776: 248.75 | AW776: 15 | AX776: 71.43 | AY776: 23 | AZ776: 70.83 | BA776: 16 | BB776: 31 | BC776: 28 | BD776: 1.76 | BE776: 28 | BF776: 47.62 | BG776: 19 | BH776: 71.43 | BI776: 8 | BJ776: 24 | BK776: 21 | BL776: 18 | BM776: 30 | BN776: 26 | BO776: 0 | BP776: 8 | BQ776: 1 | BR776: 15 | BS776: -2 | BT776: 23 | BU776: 1 | BV776: 11 | BW776: 49 | BX776: 11 | BY776: 1 | BZ776: 7 | CA776: 16 | CB776: 40 | CC776: 16 | CD776: 254.43 | CE776: 72.82 | CF776: 69.12 | CG776: 52.59 | CH776: 1.7 | CI776: 29.34 | CJ776: 49.06 | CK776: 3.01 | CL776: 4.02 | CM776: 4.72 | CN776: 254.45 | CO776: 72.33 | CP776: 68.98 | CQ776: 52.6 | CR776: 1.7 | CS776: 29.31 | CT776: 48.86 | CU776: 3.01 | CV776: 4.02 | CW776: 4.72 | CX776: 1 | CY776: 27 | CZ776: 8 | DA776: 12 | DB776: 8 | DC776: 245 | DD776: 15 | DE776: 245 | DF776: 20 | DG776: 246 | DH776: 14 | DI776: 259 | DJ776: 6 | DM776: 78.57 | DN776: 15 | DO776: 78.57 | DP776: 13 | DQ776: 78.57 | DR776: 16 | DS776: 50 | DT776: 34 | DW776: 83.33 | DX776: 6 | DY776: 77.78 | DZ776: 6 | EA776: 61.11 | EB776: 26 | EC776: 61.11 | ED776: 19 | EG776: 33 | EH776: 30 | EI776: 32 | EJ776: 27 | EK776: 31 | EL776: 23 | EM776: 28 | EN776: 5 | EQ776: 1.73 | ER776: 18 | ES776: 1.79 | ET776: 19 | EU776: 1.91 | EV776: 33 | EW776: 1.64 | EX776: 9 | FA776: 33.33 | FB776: 23 | FC776: 25 | FD776: 26 | FE776: 57.14 | FF776: 14 | FG776: 57.14 | FH776: 7 | FM776: 50 | FN776: 6 | FO776: 100 | FP776: 1 | FQ776: 75 | FR776: 7 | FU776: 1 | FV776: 26 | FW776: 1 | FX776: 18 | FY776: -1 | FZ776: 4 | GA776: -1 | GB776: 1 | GE776: -1 | GF776: 9 | GG776: 0 | GH776: 17 | GI776: 2 | GJ776: 30 | GK776: 0 | GL776: 6 | GO776: -1 | GP776: 15 | GQ776: -2 | GR776: 5 | GS776: 1 | GT776: 28 | GU776: 0 | GV776: 25 | GY776: 0 | GZ776: 1 | HA776: 1 | HB776: 1 | HC776: 0 | HD776: 3 | HE776: 0 | HF776: 4 | HI776: 4 | HJ776: 13 | HK776: 2 | HL776: 24 | HM776: 1 | HN776: 31 | HO776: 4 | HP776: 6 | HS776: 12 | HT776: 9 | HU776: 12 | HV776: 16 | HW776: 14 | HX776: 2 | HY776: 11 | HZ776: 13 | IC776: 1 | ID776: 29 | IE776: 3 | IF776: 8 | IG776: 3 | IH776: 6 | II776: 4 | IJ776: 6 | IM776: 1 | IN776: 2 | IO776: 0 | IP776: 5 | IQ776: 0 | IR776: 8 | IS776: 0 | IT776: 12
A777: =IF(J777="","",CONCATENATE(J777," ",I777)) | AK777: 20 | AL777: 1 | AM777: 0.41180556 | AN777: 10 | AO777: 0.40138889 | AP777: 1 | AQ777: 0.36875 | AR777: 10 | AS777: 0.38819444 | AV777: 230.75 | AW777: 32 | AX777: 85.71 | AY777: 7 | AZ777: 69.44 | BA777: 18 | BB777: 30.5 | BC777: 24 | BD777: 1.74 | BE777: 21 | BF777: 36.36 | BG777: 30 | BH777: 0 | BI777: 26 | BJ777: 26 | BK777: 12 | BL777: 22 | BM777: 23 | BN777: 28 | BO777: 0 | BP777: 8 | BQ777: 4 | BR777: 27 | BS777: -4 | BT777: 12 | BU777: 1 | BV777: 12 | BW777: 45 | BX777: 14 | BY777: 0 | BZ777: 2 | CA777: 16 | CB777: 40 | CC777: 16 | CD777: 254.43 | CE777: 72.82 | CF777: 69.12 | CG777: 52.59 | CH777: 1.7 | CI777: 29.34 | CJ777: 49.06 | CK777: 3.01 | CL777: 4.02 | CM777: 4.72 | CN777: 254.45 | CO777: 72.33 | CP777: 68.98 | CQ777: 52.6 | CR777: 1.7 | CS777: 29.31 | CT777: 48.86 | CU777: 3.01 | CV777: 4.02 | CW777: 4.72 | CX777: 1 | CY777: 23 | CZ777: 24 | DA777: 1 | DB777: 20 | DC777: 229 | DD777: 32 | DE777: 230 | DF777: 32 | DG777: 226 | DH777: 34 | DI777: 238 | DJ777: 29 | DM777: 92.86 | DN777: 3 | DO777: 100 | DP777: 1 | DQ777: 85.71 | DR777: 6 | DS777: 64.29 | DT777: 27 | DW777: 72.22 | DX777: 16 | DY777: 77.78 | DZ777: 6 | EA777: 50 | EB777: 35 | EC777: 77.78 | ED777: 3 | EG777: 32 | EH777: 27 | EI777: 29 | EJ777: 11 | EK777: 31 | EL777: 23 | EM777: 30 | EN777: 18 | EQ777: 1.85 | ER777: 32 | ES777: 1.64 | ET777: 8 | EU777: 1.78 | EV777: 22 | EW777: 1.71 | EX777: 19 | FA777: 20 | FB777: 27 | FC777: 75 | FD777: 7 | FE777: 33.33 | FF777: 29 | FG777: 25 | FH777: 26 | FO777: 0 | FP777: 19 | FQ777: 0 | FR777: 16 | FU777: 0 | FV777: 15 | FW777: 1 | FX777: 18 | FY777: 0 | FZ777: 13 | GA777: -1 | GB777: 1 | GE777: 2 | GF777: 25 | GG777: -4 | GH777: 1 | GI777: 4 | GJ777: 35 | GK777: 2 | GL777: 18 | GO777: 0 | GP777: 24 | GQ777: -1 | GR777: 16 | GS777: 0 | GT777: 19 | GU777: -3 | GV777: 1 | GY777: 0 | GZ777: 1 | HA777: 0 | HB777: 4 | HC777: 0 | HD777: 3 | HE777: 1 | HF777: 1 | HI777: 2 | HJ777: 28 | HK777: 5 | HL777: 3 | HM777: 2 | HN777: 25 | HO777: 3 | HP777: 15 | HS777: 12 | HT777: 9 | HU777: 12 | HV777: 16 | HW777: 10 | HX777: 32 | HY777: 11 | HZ777: 13 | IC777: 4 | ID777: 3 | IE777: 1 | IF777: 26 | IG777: 6 | IH777: 1 | II777: 3 | IJ777: 15 | IM777: 0 | IN777: 7 | IO777: 0 | IP777: 5 | IQ777: 0 | IR777: 8 | IS777: 0 | IT777: 12
A778: =IF(J778="","",CONCATENATE(J778," ",I778)) | AK778: 20 | AL778: 10 | AM778: 0.44236111 | AN778: 10 | AO778: 0.42430556 | AP778: 10 | AQ778: 0.46041667 | AR778: 10 | AS778: 0.34236111 | AV778: 237.75 | AW778: 24 | AX778: 87.5 | AY778: 4 | AZ778: 63.89 | BA778: 26 | BB778: 29.5 | BC778: 14 | BD778: 1.83 | BE778: 34 | BF778: 69.23 | BG778: 3 | BH778: 100 | BI778: 1 | BJ778: 10 | BK778: 17 | BL778: 18 | BM778: 25 | BN778: 21 | BO778: -1 | BP778: 7 | BQ778: 2 | BR778: 20 | BS778: -1 | BT778: 27 | BU778: 1 | BV778: 7 | BW778: 56 | BX778: 7 | BY778: 1 | BZ778: 4 | CA778: 16 | CB778: 40 | CC778: 16 | CD778: 254.43 | CE778: 72.82 | CF778: 69.12 | CG778: 52.59 | CH778: 1.7 | CI778: 29.34 | CJ778: 49.06 | CK778: 3.01 | CL778: 4.02 | CM778: 4.72 | CN778: 254.45 | CO778: 72.33 | CP778: 68.98 | CQ778: 52.6 | CR778: 1.7 | CS778: 29.31 | CT778: 48.86 | CU778: 3.01 | CV778: 4.02 | CW778: 4.72 | CX778: 1 | CY778: 34 | CZ778: 1 | DA778: 27 | DB778: 8 | DC778: 235 | DD778: 23 | DE778: 246 | DF778: 17 | DG778: 232 | DH778: 28 | DI778: 238 | DJ778: 29 | DM778: 85.71 | DN778: 8 | DO778: 85.71 | DP778: 9 | DQ778: 85.71 | DR778: 6 | DS778: 92.86 | DT778: 1 | DW778: 55.56 | DX778: 30 | DY778: 55.56 | DZ778: 31 | EA778: 83.33 | EB778: 2 | EC778: 61.11 | ED778: 19 | EG778: 31 | EH778: 23 | EI778: 31 | EJ778: 20 | EK778: 27 | EL778: 5 | EM778: 29 | EN778: 12 | EQ778: 1.9 | ER778: 35 | ES778: 1.9 | ET778: 30 | EU778: 1.67 | EV778: 9 | EW778: 1.91 | EX778: 31 | FA778: 62.5 | FB778: 9 | FC778: 50 | FD778: 15 | FE778: 100 | FF778: 1 | FG778: 85.71 | FH778: 2 | FM778: 100 | FN778: 1 | FO778: 100 | FP778: 1 | FQ778: 100 | FR778: 1 | FU778: 1 | FV778: 26 | FW778: 0 | FX778: 9 | FY778: -2 | FZ778: 1 | GA778: 0 | GB778: 8 | GE778: 3 | GF778: 33 | GG778: 3 | GH778: 32 | GI778: -4 | GJ778: 1 | GK778: 0 | GL778: 6 | GO778: -1 | GP778: 15 | GQ778: 0 | GR778: 19 | GS778: 0 | GT778: 19 | GU778: 0 | GV778: 25 | GY778: 0 | GZ778: 1 | HA778: 0 | HB778: 4 | HC778: 1 | HD778: 1 | HE778: 0 | HF778: 4 | HI778: 1 | HJ778: 34 | HK778: 1 | HL778: 30 | HM778: 4 | HN778: 7 | HO778: 1 | HP778: 28 | HS778: 14 | HT778: 3 | HU778: 13 | HV778: 10 | HW778: 13 | HX778: 7 | HY778: 16 | HZ778: 1 | IC778: 2 | ID778: 17 | IE778: 4 | IF778: 3 | IG778: 0 | IH778: 32 | II778: 1 | IJ778: 28 | IM778: 1 | IN778: 2 | IO778: 0 | IP778: 5 | IQ778: 0 | IR778: 8 | IS778: 0 | IT778: 12
A779: =IF(J779="","",CONCATENATE(J779," ",I779)) | AK779: 20 | AL779: 1 | AM779: 0.41944444 | AN779: 10 | AO779: 0.43194444 | AP779: 10 | AQ779: 0.42222222 | AR779: 1 | AS779: 0.35 | AV779: 250.5 | AW779: 13 | AX779: 76.79 | AY779: 15 | AZ779: 65.28 | BA779: 24 | BB779: 28.75 | BC779: 6 | BD779: 1.7 | BE779: 11 | BF779: 56 | BG779: 10 | BH779: 0 | BI779: 26 | BJ779: 10 | BK779: 21 | BL779: 16 | BM779: 9 | BN779: 10 | BO779: 2 | BP779: 22 | BQ779: 3 | BR779: 24 | BS779: -5 | BT779: 7 | BU779: 0 | BV779: 14 | BW779: 47 | BX779: 9 | BY779: 3 | BZ779: 1 | CA779: 16 | CB779: 40 | CC779: 16 | CD779: 254.43 | CE779: 72.82 | CF779: 69.12 | CG779: 52.59 | CH779: 1.7 | CI779: 29.34 | CJ779: 49.06 | CK779: 3.01 | CL779: 4.02 | CM779: 4.72 | CN779: 254.45 | CO779: 72.33 | CP779: 68.98 | CQ779: 52.6 | CR779: 1.7 | CS779: 29.31 | CT779: 48.86 | CU779: 3.01 | CV779: 4.02 | CW779: 4.72 | CX779: 9 | CY779: 13 | CZ779: 17 | DA779: 20 | DB779: 2 | DC779: 255 | DD779: 6 | DE779: 256 | DF779: 8 | DG779: 250 | DH779: 7 | DI779: 241 | DJ779: 23 | DM779: 57.14 | DN779: 28 | DO779: 92.86 | DP779: 5 | DQ779: 85.71 | DR779: 6 | DS779: 71.43 | DT779: 16 | DW779: 66.67 | DX779: 21 | DY779: 66.67 | DZ779: 21 | EA779: 66.67 | EB779: 20 | EC779: 61.11 | ED779: 19 | EG779: 32 | EH779: 27 | EI779: 29 | EJ779: 11 | EK779: 25 | EL779: 2 | EM779: 29 | EN779: 12 | EQ779: 1.83 | ER779: 30 | ES779: 1.67 | ET779: 9 | EU779: 1.58 | EV779: 3 | EW779: 1.73 | EX779: 20 | FA779: 33.33 | FB779: 23 | FC779: 66.67 | FD779: 8 | FE779: 83.33 | FF779: 4 | FG779: 42.86 | FH779: 16 | FQ779: 0 | FR779: 16 | FU779: 1 | FV779: 26 | FW779: -1 | FX779: 2 | FY779: -1 | FZ779: 4 | GA779: 3 | GB779: 32 | GE779: 2 | GF779: 25 | GG779: -1 | GH779: 7 | GI779: -1 | GJ779: 10 | GK779: 3 | GL779: 25 | GO779: 0 | GP779: 24 | GQ779: 0 | GR779: 19 | GS779: -2 | GT779: 1 | GU779: -3 | GV779: 1 | GY779: 0 | GZ779: 1 | HA779: 0 | HB779: 4 | HC779: 0 | HD779: 3 | HE779: 0 | HF779: 4 | HI779: 2 | HJ779: 28 | HK779: 4 | HL779: 10 | HM779: 5 | HN779: 2 | HO779: 3 | HP779: 15 | HS779: 12 | HT779: 9 | HU779: 12 | HV779: 16 | HW779: 12 | HX779: 16 | HY779: 11 | HZ779: 13 | IC779: 3 | ID779: 10 | IE779: 2 | IF779: 18 | IG779: 1 | IH779: 27 | II779: 3 | IJ779: 15 | IM779: 1 | IN779: 2 | IO779: 0 | IP779: 5 | IQ779: 0 | IR779: 8 | IS779: 2 | IT779: 2
A780: =IF(J780="","",CONCATENATE(J780," ",I780)) | AK780: 23.5 | AL780: 10 | AM780: 0.38125 | AN780: 1 | AO780: 0.40138889 | AP780: 1 | AQ780: 0.37638889 | AR780: 1 | AS780: 0.33472222 | AV780: 234.25 | AW780: 27 | AX780: 82.14 | AY780: 10 | AZ780: 63.89 | BA780: 26 | BB780: 29 | BC780: 9 | BD780: 1.65 | BE780: 4 | BF780: 38.46 | BG780: 27 | BH780: 100 | BI780: 1 | BJ780: 20 | BK780: 19 | BL780: 25 | BM780: 5 | BN780: 24 | BO780: 3 | BP780: 26 | BQ780: 4 | BR780: 27 | BS780: -6 | BT780: 6 | BU780: 0 | BV780: 16 | BW780: 40 | BX780: 13 | BY780: 1 | BZ780: 3 | CA780: 16 | CB780: 40 | CC780: 16 | CD780: 254.43 | CE780: 72.82 | CF780: 69.12 | CG780: 52.59 | CH780: 1.7 | CI780: 29.34 | CJ780: 49.06 | CK780: 3.01 | CL780: 4.02 | CM780: 4.72 | CN780: 254.45 | CO780: 72.33 | CP780: 68.98 | CQ780: 52.6 | CR780: 1.7 | CS780: 29.31 | CT780: 48.86 | CU780: 3.01 | CV780: 4.02 | CW780: 4.72 | CX780: 9 | CY780: 4 | CZ780: 32 | DA780: 7 | DB780: 8 | DC780: 238 | DD780: 20 | DE780: 227 | DF780: 34 | DG780: 231 | DH780: 29 | DI780: 241 | DJ780: 23 | DM780: 92.86 | DN780: 3 | DO780: 64.29 | DP780: 27 | DQ780: 85.71 | DR780: 6 | DS780: 85.71 | DT780: 3 | DW780: 72.22 | DX780: 16 | DY780: 77.78 | DZ780: 6 | EA780: 66.67 | EB780: 20 | EC780: 38.89 | ED780: 32 | EG780: 27 | EH780: 3 | EI780: 33 | EJ780: 30 | EK780: 28 | EL780: 7 | EM780: 28 | EN780: 5 | EQ780: 1.46 | ER780: 2 | ES780: 1.79 | ET780: 19 | EU780: 1.75 | EV780: 18 | EW780: 1.57 | EX780: 2 | FA780: 20 | FB780: 27 | FC780: 0 | FD780: 32 | FE780: 66.67 | FF780: 10 | FG780: 45.45 | FH780: 13 | FM780: 100 | FN780: 1 | FO780: 100 | FP780: 1 | FU780: -2 | FV780: 1 | FW780: 1 | FX780: 18 | FY780: 2 | FZ780: 31 | GA780: 2 | GB780: 27 | GE780: 1 | GF780: 23 | GG780: 2 | GH780: 31 | GI780: -1 | GJ780: 10 | GK780: 2 | GL780: 18 | GO780: -2 | GP780: 5 | GQ780: -2 | GR780: 5 | GS780: -2 | GT780: 1 | GU780: 0 | GV780: 25 | GY780: 0 | GZ780: 1 | HA780: 0 | HB780: 4 | HC780: 0 | HD780: 3 | HE780: 0 | HF780: 4 | HI780: 7 | HJ780: 2 | HK780: 3 | HL780: 15 | HM780: 3 | HN780: 18 | HO780: 3 | HP780: 15 | HS780: 7 | HT780: 34 | HU780: 11 | HV780: 24 | HW780: 13 | HX780: 7 | HY780: 9 | HZ780: 26 | IC780: 4 | ID780: 3 | IE780: 4 | IF780: 3 | IG780: 2 | IH780: 15 | II780: 3 | IJ780: 15 | IM780: 0 | IN780: 7 | IO780: 0 | IP780: 5 | IQ780: 0 | IR780: 8 | IS780: 1 | IT780: 3
A781: =IF(J781="","",CONCATENATE(J781," ",I781)) | AK781: 23.5 | AL781: 1 | AM781: 0.38888889 | AN781: 1 | AO781: 0.42430556 | AP781: 1 | AQ781: 0.42986111 | AR781: 1 | AS781: 0.31944444 | AV781: 243 | AW781: 19 | AX781: 83.93 | AY781: 8 | AZ781: 73.61 | BA781: 10 | BB781: 31.25 | BC781: 32 | BD781: 1.81 | BE781: 32 | BF781: 47.37 | BG781: 20 | BH781: 0 | BI781: 26 | BJ781: 8 | BK781: 5 | BL781: 8 | BM781: 33 | BN781: 18 | BO781: 0 | BP781: 8 | BQ781: 5 | BR781: 31 | BS781: -4 | BT781: 12 | BU781: 0 | BV781: 10 | BW781: 52 | BX781: 7 | BY781: 1 | BZ781: 6 | CA781: 16 | CB781: 40 | CC781: 16 | CD781: 254.43 | CE781: 72.82 | CF781: 69.12 | CG781: 52.59 | CH781: 1.7 | CI781: 29.34 | CJ781: 49.06 | CK781: 3.01 | CL781: 4.02 | CM781: 4.72 | CN781: 254.45 | CO781: 72.33 | CP781: 68.98 | CQ781: 52.6 | CR781: 1.7 | CS781: 29.31 | CT781: 48.86 | CU781: 3.01 | CV781: 4.02 | CW781: 4.72 | CX781: 9 | CY781: 29 | CZ781: 4 | DA781: 27 | DB781: 8 | DC781: 239 | DD781: 19 | DE781: 238 | DF781: 26 | DG781: 251 | DH781: 5 | DI781: 244 | DJ781: 18 | DM781: 92.86 | DN781: 3 | DO781: 78.57 | DP781: 13 | DQ781: 78.57 | DR781: 16 | DS781: 85.71 | DT781: 3 | DW781: 83.33 | DX781: 6 | DY781: 83.33 | DZ781: 3 | EA781: 72.22 | EB781: 15 | EC781: 55.56 | ED781: 25 | EG781: 31 | EH781: 23 | EI781: 31 | EJ781: 20 | EK781: 31 | EL781: 23 | EM781: 32 | EN781: 27 | EQ781: 1.73 | ER781: 18 | ES781: 1.8 | ET781: 24 | EU781: 1.85 | EV781: 28 | EW781: 1.9 | EX781: 30 | FA781: 33.33 | FB781: 23 | FC781: 66.67 | FD781: 8 | FE781: 40 | FF781: 23 | FG781: 50 | FH781: 9 | FK781: 0 | FL781: 12 | FO781: 0 | FP781: 19 | FQ781: 0 | FR781: 16 | FU781: 0 | FV781: 15 | FW781: 0 | FX781: 9 | FY781: -1 | FZ781: 4 | GA781: 1 | GB781: 15 | GE781: 0 | GF781: 16 | GG781: -2 | GH781: 3 | GI781: 3 | GJ781: 33 | GK781: 4 | GL781: 28 | GO781: -2 | GP781: 5 | GQ781: 0 | GR781: 19 | GS781: -1 | GT781: 9 | GU781: -1 | GV781: 16 | GY781: 0 | GZ781: 1 | HA781: 0 | HB781: 4 | HC781: 0 | HD781: 3 | HE781: 0 | HF781: 4 | HI781: 4 | HJ781: 13 | HK781: 3 | HL781: 15 | HM781: 2 | HN781: 25 | HO781: 1 | HP781: 28 | HS781: 12 | HT781: 9 | HU781: 14 | HV781: 4 | HW781: 13 | HX781: 7 | HY781: 13 | HZ781: 4 | IC781: 2 | ID781: 17 | IE781: 1 | IF781: 26 | IG781: 3 | IH781: 6 | II781: 1 | IJ781: 28 | IM781: 0 | IN781: 7 | IO781: 0 | IP781: 5 | IQ781: 0 | IR781: 8 | IS781: 1 | IT781: 3
A782: =IF(J782="","",CONCATENATE(J782," ",I782)) | AK782: 23.5 | AL782: 10 | AM782: 0.42708333 | AN782: 1 | AO782: 0.45486111 | AP782: 1 | AQ782: 0.36111111 | AR782: 1 | AS782: 0.32708333 | AV782: 244.75 | AW782: 16 | AX782: 58.93 | AY782: 34 | AZ782: 69.44 | BA782: 17 | BB782: 29.75 | BC782: 17 | BD782: 1.76 | BE782: 26 | BF782: 45.45 | BG782: 22 | BH782: 57.14 | BI782: 11 | BJ782: 32 | BK782: 26 | BL782: 30 | BM782: 22 | BN782: 31 | BO782: 1 | BP782: 14 | BQ782: 3 | BR782: 24 | BS782: -3 | BT782: 20 | BU782: 0 | BV782: 12 | BW782: 48 | BX782: 9 | BY782: 1 | BZ782: 7 | CA782: 16 | CB782: 40 | CC782: 16 | CD782: 254.43 | CE782: 72.82 | CF782: 69.12 | CG782: 52.59 | CH782: 1.7 | CI782: 29.34 | CJ782: 49.06 | CK782: 3.01 | CL782: 4.02 | CM782: 4.72 | CN782: 254.45 | CO782: 72.33 | CP782: 68.98 | CQ782: 52.6 | CR782: 1.7 | CS782: 29.31 | CT782: 48.86 | CU782: 3.01 | CV782: 4.02 | CW782: 4.72 | CX782: 9 | CY782: 23 | CZ782: 12 | DA782: 20 | DB782: 8 | DC782: 254 | DD782: 8 | DE782: 239 | DF782: 25 | DG782: 243 | DH782: 17 | DI782: 243 | DJ782: 21 | DM782: 64.29 | DN782: 20 | DO782: 35.71 | DP782: 35 | DQ782: 71.43 | DR782: 23 | DS782: 64.29 | DT782: 27 | DW782: 77.78 | DX782: 10 | DY782: 66.67 | DZ782: 21 | EA782: 66.67 | EB782: 20 | EC782: 66.67 | ED782: 13 | EG782: 27 | EH782: 3 | EI782: 32 | EJ782: 27 | EK782: 28 | EL782: 7 | EM782: 32 | EN782: 27 | EQ782: 1.57 | ER782: 4 | ES782: 1.83 | ET782: 27 | EU782: 1.75 | EV782: 18 | EW782: 1.92 | EX782: 32 | FA782: 75 | FB782: 2 | FC782: 16.67 | FD782: 31 | FE782: 66.67 | FF782: 10 | FG782: 33.33 | FH782: 21 | FM782: 0 | FN782: 8 | FO782: 100 | FP782: 1 | FQ782: 50 | FR782: 8 | FU782: -1 | FV782: 5 | FW782: -1 | FX782: 2 | FY782: 1 | FZ782: 24 | GA782: 2 | GB782: 27 | GE782: -1 | GF782: 9 | GG782: 3 | GH782: 32 | GI782: -1 | GJ782: 10 | GK782: 2 | GL782: 18 | GO782: -3 | GP782: 1 | GQ782: 1 | GR782: 30 | GS782: -1 | GT782: 9 | GU782: 0 | GV782: 25 | GY782: 0 | GZ782: 1 | HA782: 0 | HB782: 4 | HC782: 0 | HD782: 3 | HE782: 0 | HF782: 4 | HI782: 6 | HJ782: 4 | HK782: 2 | HL782: 24 | HM782: 3 | HN782: 18 | HO782: 1 | HP782: 28 | HS782: 11 | HT782: 19 | HU782: 11 | HV782: 24 | HW782: 13 | HX782: 7 | HY782: 13 | HZ782: 4 | IC782: 1 | ID782: 29 | IE782: 5 | IF782: 1 | IG782: 2 | IH782: 15 | II782: 1 | IJ782: 28 | IM782: 0 | IN782: 7 | IO782: 0 | IP782: 5 | IQ782: 0 | IR782: 8 | IS782: 1 | IT782: 3
A783: =IF(J783="","",CONCATENATE(J783," ",I783)) | AK783: 23.5 | AL783: 1 | AM783: 0.37361111 | AN783: 10 | AO783: 0.37083333 | AP783: 10 | AQ783: 0.38402778 | AR783: 10 | AS783: 0.31944444 | AV783: 240.75 | AW783: 21 | AX783: 64.29 | AY783: 31 | AZ783: 63.89 | BA783: 28 | BB783: 30 | BC783: 20 | BD783: 1.67 | BE783: 5 | BF783: 38.46 | BG783: 27 | BH783: 33.33 | BI783: 21 | BJ783: 33 | BK783: 31 | BL783: 33 | BM783: 12 | BN783: 29 | BO783: 4 | BP783: 29 | BQ783: 1 | BR783: 15 | BS783: -4 | BT783: 12 | BU783: 0 | BV783: 15 | BW783: 41 | BX783: 13 | BY783: 0 | BZ783: 3 | CA783: 16 | CB783: 40 | CC783: 16 | CD783: 254.43 | CE783: 72.82 | CF783: 69.12 | CG783: 52.59 | CH783: 1.7 | CI783: 29.34 | CJ783: 49.06 | CK783: 3.01 | CL783: 4.02 | CM783: 4.72 | CN783: 254.45 | CO783: 72.33 | CP783: 68.98 | CQ783: 52.6 | CR783: 1.7 | CS783: 29.31 | CT783: 48.86 | CU783: 3.01 | CV783: 4.02 | CW783: 4.72 | CX783: 9 | CY783: 8 | CZ783: 30 | DA783: 7 | DB783: 20 | DC783: 238 | DD783: 20 | DE783: 243 | DF783: 23 | DG783: 238 | DH783: 24 | DI783: 244 | DJ783: 18 | DM783: 50 | DN783: 31 | DO783: 78.57 | DP783: 13 | DQ783: 57.14 | DR783: 33 | DS783: 71.43 | DT783: 16 | DW783: 77.78 | DX783: 10 | DY783: 72.22 | DZ783: 18 | EA783: 55.56 | EB783: 30 | EC783: 50 | ED783: 29 | EG783: 35 | EH783: 33 | EI783: 30 | EJ783: 16 | EK783: 26 | EL783: 3 | EM783: 29 | EN783: 12 | EQ783: 1.79 | ER783: 24 | ES783: 1.62 | ET783: 7 | EU783: 1.6 | EV783: 6 | EW783: 1.67 | EX783: 14 | FA783: 0 | FB783: 29 | FC783: 20 | FD783: 30 | FE783: 75 | FF783: 6 | FG783: 33.33 | FH783: 21 | FO783: 50 | FP783: 14 | FQ783: 0 | FR783: 16 | FU783: 1 | FV783: 26 | FW783: -1 | FX783: 2 | FY783: 1 | FZ783: 24 | GA783: 3 | GB783: 32 | GE783: 0 | GF783: 16 | GG783: 1 | GH783: 26 | GI783: -1 | GJ783: 10 | GK783: 1 | GL783: 13 | GO783: 0 | GP783: 24 | GQ783: -1 | GR783: 16 | GS783: -2 | GT783: 1 | GU783: -1 | GV783: 16 | GY783: 0 | GZ783: 1 | HA783: 0 | HB783: 4 | HC783: 0 | HD783: 3 | HE783: 0 | HF783: 4 | HI783: 3 | HJ783: 20 | HK783: 5 | HL783: 3 | HM783: 4 | HN783: 7 | HO783: 3 | HP783: 15 | HS783: 11 | HT783: 19 | HU783: 9 | HV783: 33 | HW783: 12 | HX783: 16 | HY783: 9 | HZ783: 26 | IC783: 4 | ID783: 3 | IE783: 4 | IF783: 3 | IG783: 2 | IH783: 15 | II783: 3 | IJ783: 15 | IM783: 0 | IN783: 7 | IO783: 0 | IP783: 5 | IQ783: 0 | IR783: 8 | IS783: 0 | IT783: 12
A784: =IF(J784="","",CONCATENATE(J784," ",I784)) | AK784: 26 | AL784: 10 | AM784: 0.41180556 | AN784: 1 | AO784: 0.37847222 | AP784: 1 | AQ784: 0.38402778 | AR784: 10 | AS784: 0.39583333 | AV784: 256 | AW784: 4 | AX784: 71.43 | AY784: 23 | AZ784: 62.5 | BA784: 29 | BB784: 28.75 | BC784: 6 | BD784: 1.71 | BE784: 15 | BF784: 48.15 | BG784: 18 | BH784: 80 | BI784: 5 | BJ784: 8 | BK784: 27 | BL784: 21 | BM784: 11 | BN784: 18 | BO784: 6 | BP784: 33 | BQ784: -2 | BR784: 7 | BS784: -2 | BT784: 23 | BU784: 0 | BV784: 13 | BW784: 45 | BX784: 13 | BY784: 1 | BZ784: 5 | CA784: 16 | CB784: 40 | CC784: 16 | CD784: 254.43 | CE784: 72.82 | CF784: 69.12 | CG784: 52.59 | CH784: 1.7 | CI784: 29.34 | CJ784: 49.06 | CK784: 3.01 | CL784: 4.02 | CM784: 4.72 | CN784: 254.45 | CO784: 72.33 | CP784: 68.98 | CQ784: 52.6 | CR784: 1.7 | CS784: 29.31 | CT784: 48.86 | CU784: 3.01 | CV784: 4.02 | CW784: 4.72 | CX784: 9 | CY784: 21 | CZ784: 24 | DA784: 7 | DB784: 8 | DC784: 252 | DD784: 12 | DE784: 262 | DF784: 3 | DG784: 249 | DH784: 9 | DI784: 261 | DJ784: 3 | DM784: 71.43 | DN784: 18 | DO784: 71.43 | DP784: 23 | DQ784: 78.57 | DR784: 16 | DS784: 64.29 | DT784: 27 | DW784: 66.67 | DX784: 21 | DY784: 66.67 | DZ784: 21 | EA784: 61.11 | EB784: 26 | EC784: 55.56 | ED784: 25 | EG784: 28 | EH784: 8 | EI784: 30 | EJ784: 16 | EK784: 29 | EL784: 12 | EM784: 28 | EN784: 5 | EQ784: 1.58 | ER784: 6 | ES784: 1.75 | ET784: 17 | EU784: 1.91 | EV784: 33 | EW784: 1.6 | EX784: 4 | FA784: 50 | FB784: 15 | FC784: 66.67 | FD784: 8 | FE784: 28.57 | FF784: 31 | FG784: 50 | FH784: 9 | FM784: 100 | FN784: 1 | FO784: 50 | FP784: 14 | FQ784: 100 | FR784: 1 | FU784: 1 | FV784: 26 | FW784: 2 | FX784: 30 | FY784: 2 | FZ784: 31 | GA784: 1 | GB784: 15 | GE784: -3 | GF784: 2 | GG784: 0 | GH784: 17 | GI784: 0 | GJ784: 19 | GK784: 1 | GL784: 13 | GO784: 0 | GP784: 24 | GQ784: -2 | GR784: 5 | GS784: 2 | GT784: 32 | GU784: -2 | GV784: 3 | GY784: 0 | GZ784: 1 | HA784: 0 | HB784: 4 | HC784: 0 | HD784: 3 | HE784: 0 | HF784: 4 | HI784: 5 | HJ784: 7 | HK784: 3 | HL784: 15 | HM784: 1 | HN784: 31 | HO784: 4 | HP784: 6 | HS784: 10 | HT784: 27 | HU784: 13 | HV784: 10 | HW784: 12 | HX784: 16 | HY784: 10 | HZ784: 22 | IC784: 3 | ID784: 10 | IE784: 1 | IF784: 26 | IG784: 5 | IH784: 2 | II784: 4 | IJ784: 6 | IM784: 0 | IN784: 7 | IO784: 1 | IP784: 2 | IQ784: 0 | IR784: 8 | IS784: 0 | IT784: 12
A785: =IF(J785="","",CONCATENATE(J785," ",I785)) | AK785: 27.5 | AL785: 1 | AM785: 0.35069444 | AN785: 10 | AO785: 0.38611111 | AP785: 1 | AQ785: 0.40694444 | AR785: 10 | AS785: 0.33472222 | AV785: 262.25 | AW785: 1 | AX785: 71.43 | AY785: 23 | AZ785: 69.44 | BA785: 18 | BB785: 31.5 | BC785: 33 | BD785: 1.72 | BE785: 19 | BF785: 31.82 | BG785: 32 | BH785: 14.29 | BI785: 25 | BJ785: 3 | BK785: 24 | BL785: 10 | BM785: 28 | BN785: 23 | BO785: 4 | BP785: 29 | BQ785: 4 | BR785: 27 | BS785: -5 | BT785: 7 | BU785: 0 | BV785: 14 | BW785: 43 | BX785: 11 | BY785: 2 | BZ785: 7 | CA785: 16 | CB785: 40 | CC785: 16 | CD785: 254.43 | CE785: 72.82 | CF785: 69.12 | CG785: 52.59 | CH785: 1.7 | CI785: 29.34 | CJ785: 49.06 | CK785: 3.01 | CL785: 4.02 | CM785: 4.72 | CN785: 254.45 | CO785: 72.33 | CP785: 68.98 | CQ785: 52.6 | CR785: 1.7 | CS785: 29.31 | CT785: 48.86 | CU785: 3.01 | CV785: 4.02 | CW785: 4.72 | CX785: 9 | CY785: 13 | CZ785: 27 | DA785: 12 | DB785: 5 | DC785: 267 | DD785: 1 | DE785: 255 | DF785: 9 | DG785: 258 | DH785: 3 | DI785: 269 | DJ785: 1 | DM785: 64.29 | DN785: 20 | DO785: 71.43 | DP785: 23 | DQ785: 71.43 | DR785: 23 | DS785: 78.57 | DT785: 10 | DW785: 77.78 | DX785: 10 | DY785: 77.78 | DZ785: 6 | EA785: 72.22 | EB785: 15 | EC785: 50 | ED785: 29 | EG785: 36 | EH785: 35 | EI785: 28 | EJ785: 5 | EK785: 33 | EL785: 34 | EM785: 29 | EN785: 12 | EQ785: 1.79 | ER785: 24 | ES785: 1.5 | ET785: 1 | EU785: 1.85 | EV785: 28 | EW785: 1.78 | EX785: 25 | FA785: 0 | FB785: 29 | FC785: 25 | FD785: 26 | FE785: 40 | FF785: 23 | FG785: 44.44 | FH785: 15 | FM785: 0 | FN785: 8 | FO785: 0 | FP785: 19 | FQ785: 33.33 | FR785: 14 | FU785: 1 | FV785: 26 | FW785: 2 | FX785: 30 | FY785: 0 | FZ785: 13 | GA785: 1 | GB785: 15 | GE785: 3 | GF785: 33 | GG785: -3 | GH785: 2 | GI785: 0 | GJ785: 19 | GK785: 4 | GL785: 28 | GO785: -3 | GP785: 1 | GQ785: -3 | GR785: 2 | GS785: 2 | GT785: 32 | GU785: -1 | GV785: 16 | GY785: 0 | GZ785: 1 | HA785: 0 | HB785: 4 | HC785: 0 | HD785: 3 | HE785: 0 | HF785: 4 | HI785: 3 | HJ785: 20 | HK785: 7 | HL785: 1 | HM785: 2 | HN785: 25 | HO785: 2 | HP785: 24 | HS785: 11 | HT785: 19 | HU785: 8 | HV785: 35 | HW785: 13 | HX785: 7 | HY785: 11 | HZ785: 13 | IC785: 4 | ID785: 3 | IE785: 3 | IF785: 8 | IG785: 2 | IH785: 15 | II785: 2 | IJ785: 24 | IM785: 0 | IN785: 7 | IO785: 0 | IP785: 5 | IQ785: 1 | IR785: 2 | IS785: 1 | IT785: 3
A786: =IF(J786="","",CONCATENATE(J786," ",I786)) | AK786: 27.5 | AL786: 1 | AM786: 0.36597222 | AN786: 10 | AO786: 0.43958333 | AP786: 10 | AQ786: 0.42986111 | AR786: 10 | AS786: 0.35 | AV786: 249.25 | AW786: 14 | AX786: 69.64 | AY786: 26 | AZ786: 58.33 | BA786: 31 | BB786: 28.25 | BC786: 3 | BD786: 1.62 | BE786: 2 | BF786: 40 | BG786: 24 | BH786: 0 | BI786: 26 | BJ786: 28 | BK786: 30 | BL786: 32 | BM786: 2 | BN786: 25 | BO786: 2 | BP786: 22 | BQ786: 2 | BR786: 20 | BS786: -1 | BT786: 27 | BU786: 0 | BV786: 16 | BW786: 38 | BX786: 14 | BY786: 1 | BZ786: 2 | CA786: 16 | CB786: 40 | CC786: 16 | CD786: 254.43 | CE786: 72.82 | CF786: 69.12 | CG786: 52.59 | CH786: 1.7 | CI786: 29.34 | CJ786: 49.06 | CK786: 3.01 | CL786: 4.02 | CM786: 4.72 | CN786: 254.45 | CO786: 72.33 | CP786: 68.98 | CQ786: 52.6 | CR786: 1.7 | CS786: 29.31 | CT786: 48.86 | CU786: 3.01 | CV786: 4.02 | CW786: 4.72 | CX786: 9 | CY786: 4 | CZ786: 34 | DA786: 1 | DB786: 8 | DC786: 254 | DD786: 8 | DE786: 247 | DF786: 16 | DG786: 247 | DH786: 13 | DI786: 249 | DJ786: 11 | DM786: 71.43 | DN786: 18 | DO786: 57.14 | DP786: 34 | DQ786: 78.57 | DR786: 16 | DS786: 71.43 | DT786: 16 | DW786: 55.56 | DX786: 30 | DY786: 55.56 | DZ786: 31 | EA786: 77.78 | EB786: 5 | EC786: 44.44 | ED786: 31 | EG786: 30 | EH786: 18 | EI786: 27 | EJ786: 3 | EK786: 29 | EL786: 12 | EM786: 27 | EN786: 2 | EQ786: 1.8 | ER786: 27 | ES786: 1.5 | ET786: 1 | EU786: 1.57 | EV786: 2 | EW786: 1.63 | EX786: 8 | FA786: 50 | FB786: 15 | FC786: 50 | FD786: 15 | FE786: 0 | FF786: 35 | FG786: 40 | FH786: 18 | FQ786: 0 | FR786: 16 | FU786: 3 | FV786: 34 | FW786: 0 | FX786: 9 | FY786: -2 | FZ786: 1 | GA786: 1 | GB786: 15 | GE786: -1 | GF786: 9 | GG786: -1 | GH786: 7 | GI786: 0 | GJ786: 19 | GK786: 4 | GL786: 28 | GO786: 1 | GP786: 32 | GQ786: 0 | GR786: 19 | GS786: 0 | GT786: 19 | GU786: -2 | GV786: 3 | GY786: 0 | GZ786: 1 | HA786: 0 | HB786: 4 | HC786: 0 | HD786: 3 | HE786: 0 | HF786: 4 | HI786: 2 | HJ786: 28 | HK786: 5 | HL786: 3 | HM786: 6 | HN786: 1 | HO786: 3 | HP786: 15 | HS786: 12 | HT786: 9 | HU786: 9 | HV786: 33 | HW786: 8 | HX786: 35 | HY786: 9 | HZ786: 26 | IC786: 3 | ID786: 10 | IE786: 4 | IF786: 3 | IG786: 4 | IH786: 4 | II786: 3 | IJ786: 15 | IM786: 1 | IN786: 2 | IO786: 0 | IP786: 5 | IQ786: 0 | IR786: 8 | IS786: 0 | IT786: 12
A787: =IF(J787="","",CONCATENATE(J787," ",I787)) | AK787: 29 | AL787: 10 | AM787: 0.41944444 | AN787: 1 | AO787: 0.41666667 | AP787: 10 | AQ787: 0.36875 | AR787: 10 | AS787: 0.38055556 | AV787: 241 | AW787: 20 | AX787: 75 | AY787: 19 | AZ787: 66.67 | BA787: 21 | BB787: 30.75 | BC787: 26 | BD787: 1.75 | BE787: 23 | BF787: 37.5 | BG787: 29 | BH787: 50 | BI787: 12 | BJ787: 26 | BK787: 23 | BL787: 24 | BM787: 26 | BN787: 29 | BO787: 6 | BP787: 33 | BQ787: -1 | BR787: 9 | BS787: 0 | BT787: 30 | BU787: 0 | BV787: 12 | BW787: 45 | BX787: 10 | BY787: 2 | BZ787: 4 | CA787: 16 | CB787: 40 | CC787: 16 | CD787: 254.43 | CE787: 72.82 | CF787: 69.12 | CG787: 52.59 | CH787: 1.7 | CI787: 29.34 | CJ787: 49.06 | CK787: 3.01 | CL787: 4.02 | CM787: 4.72 | CN787: 254.45 | CO787: 72.33 | CP787: 68.98 | CQ787: 52.6 | CR787: 1.7 | CS787: 29.31 | CT787: 48.86 | CU787: 3.01 | CV787: 4.02 | CW787: 4.72 | CX787: 9 | CY787: 23 | CZ787: 24 | DA787: 17 | DB787: 5 | DC787: 233 | DD787: 27 | DE787: 252 | DF787: 12 | DG787: 234 | DH787: 27 | DI787: 245 | DJ787: 17 | DM787: 64.29 | DN787: 20 | DO787: 71.43 | DP787: 23 | DQ787: 78.57 | DR787: 16 | DS787: 85.71 | DT787: 3 | DW787: 61.11 | DX787: 26 | DY787: 77.78 | DZ787: 6 | EA787: 55.56 | EB787: 30 | EC787: 72.22 | ED787: 6 | EG787: 26 | EH787: 1 | EI787: 33 | EJ787: 30 | EK787: 30 | EL787: 17 | EM787: 34 | EN787: 32 | EQ787: 1.45 | ER787: 1 | ES787: 1.79 | ET787: 19 | EU787: 1.8 | EV787: 26 | EW787: 1.92 | EX787: 33 | FA787: 57.14 | FB787: 13 | FC787: 0 | FD787: 32 | FE787: 50 | FF787: 15 | FG787: 20 | FH787: 28 | FO787: 66.67 | FP787: 13 | FQ787: 0 | FR787: 16 | FU787: 0 | FV787: 15 | FW787: 1 | FX787: 18 | FY787: 3 | FZ787: 33 | GA787: 2 | GB787: 27 | GE787: -1 | GF787: 9 | GG787: 0 | GH787: 17 | GI787: 0 | GJ787: 19 | GK787: 0 | GL787: 6 | GO787: -2 | GP787: 5 | GQ787: 1 | GR787: 30 | GS787: 0 | GT787: 19 | GU787: 1 | GV787: 32 | GY787: 0 | GZ787: 1 | HA787: 0 | HB787: 4 | HC787: 0 | HD787: 3 | HE787: 0 | HF787: 4 | HI787: 6 | HJ787: 4 | HK787: 3 | HL787: 15 | HM787: 2 | HN787: 25 | HO787: 1 | HP787: 28 | HS787: 9 | HT787: 30 | HU787: 11 | HV787: 24 | HW787: 12 | HX787: 16 | HY787: 13 | HZ787: 4 | IC787: 3 | ID787: 10 | IE787: 3 | IF787: 8 | IG787: 3 | IH787: 6 | II787: 1 | IJ787: 28 | IM787: 0 | IN787: 7 | IO787: 1 | IP787: 2 | IQ787: 1 | IR787: 2 | IS787: 0 | IT787: 12
A788: =IF(J788="","",CONCATENATE(J788," ",I788)) | AK788: 30.5 | AL788: 10 | AM788: 0.43472222 | AN788: 10 | AO788: 0.39375 | AP788: 10 | AQ788: 0.45277778 | AR788: 10 | AS788: 0.41875 | AV788: 230.75 | AW788: 32 | AX788: 78.57 | AY788: 13 | AZ788: 65.28 | BA788: 24 | BB788: 30.75 | BC788: 26 | BD788: 1.81 | BE788: 31 | BF788: 36 | BG788: 31 | BH788: 33.33 | BI788: 21 | BJ788: 31 | BK788: 20 | BL788: 31 | BM788: 31 | BN788: 33 | BO788: 3 | BP788: 26 | BQ788: 9 | BR788: 33 | BS788: -5 | BT788: 7 | BU788: 0 | BV788: 9 | BW788: 47 | BX788: 14 | BY788: 0 | BZ788: 6 | CA788: 16 | CB788: 40 | CC788: 16 | CD788: 254.43 | CE788: 72.82 | CF788: 69.12 | CG788: 52.59 | CH788: 1.7 | CI788: 29.34 | CJ788: 49.06 | CK788: 3.01 | CL788: 4.02 | CM788: 4.72 | CN788: 254.45 | CO788: 72.33 | CP788: 68.98 | CQ788: 52.6 | CR788: 1.7 | CS788: 29.31 | CT788: 48.86 | CU788: 3.01 | CV788: 4.02 | CW788: 4.72 | CX788: 9 | CY788: 33 | CZ788: 17 | DA788: 1 | DB788: 20 | DC788: 219 | DD788: 35 | DE788: 238 | DF788: 26 | DG788: 222 | DH788: 35 | DI788: 244 | DJ788: 18 | DM788: 50 | DN788: 31 | DO788: 100 | DP788: 1 | DQ788: 85.71 | DR788: 6 | DS788: 78.57 | DT788: 10 | DW788: 55.56 | DX788: 30 | DY788: 77.78 | DZ788: 6 | EA788: 61.11 | EB788: 26 | EC788: 66.67 | ED788: 13 | EG788: 28 | EH788: 8 | EI788: 34 | EJ788: 33 | EK788: 29 | EL788: 12 | EM788: 32 | EN788: 27 | EQ788: 1.8 | ER788: 27 | ES788: 2 | ET788: 35 | EU788: 1.64 | EV788: 7 | EW788: 1.75 | EX788: 21 | FA788: 50 | FB788: 15 | FC788: 50 | FD788: 15 | FE788: 28.57 | FF788: 31 | FG788: 16.67 | FH788: 31 | FM788: 0 | FN788: 8 | FO788: 33.33 | FP788: 18 | FQ788: 50 | FR788: 8 | FU788: 0 | FV788: 15 | FW788: 1 | FX788: 18 | FY788: 0 | FZ788: 13 | GA788: 2 | GB788: 27 | GE788: 4 | GF788: 35 | GG788: 1 | GH788: 26 | GI788: 2 | GJ788: 30 | GK788: 2 | GL788: 18 | GO788: -2 | GP788: 5 | GQ788: 0 | GR788: 19 | GS788: -1 | GT788: 9 | GU788: -2 | GV788: 3 | GY788: 0 | GZ788: 1 | HA788: 0 | HB788: 4 | HC788: 0 | HD788: 3 | HE788: 0 | HF788: 4 | HI788: 2 | HJ788: 28 | HK788: 0 | HL788: 34 | HM788: 4 | HN788: 7 | HO788: 3 | HP788: 15 | HS788: 12 | HT788: 9 | HU788: 16 | HV788: 1 | HW788: 9 | HX788: 34 | HY788: 10 | HZ788: 22 | IC788: 4 | ID788: 3 | IE788: 2 | IF788: 18 | IG788: 5 | IH788: 2 | II788: 3 | IJ788: 15 | IM788: 0 | IN788: 7 | IO788: 0 | IP788: 5 | IQ788: 0 | IR788: 8 | IS788: 0 | IT788: 12
A789: =IF(J789="","",CONCATENATE(J789," ",I789)) | AK789: 30.5 | AL789: 10 | AM789: 0.45763889 | AN789: 10 | AO789: 0.44722222 | AP789: 10 | AQ789: 0.46805556 | AR789: 10 | AS789: 0.41111111 | AV789: 255.25 | AW789: 5 | AX789: 66.07 | AY789: 28 | AZ789: 58.33 | BA789: 31 | BB789: 30 | BC789: 20 | BD789: 1.71 | BE789: 16 | BF789: 40 | BG789: 24 | BH789: 33.33 | BI789: 21 | BJ789: 16 | BK789: 31 | BL789: 27 | BM789: 18 | BN789: 27 | BO789: 1 | BP789: 14 | BQ789: 6 | BR789: 32 | BS789: 0 | BT789: 30 | BU789: 1 | BV789: 11 | BW789: 42 | BX789: 14 | BY789: 2 | BZ789: 3 | CA789: 16 | CB789: 40 | CC789: 16 | CD789: 254.43 | CE789: 72.82 | CF789: 69.12 | CG789: 52.59 | CH789: 1.7 | CI789: 29.34 | CJ789: 49.06 | CK789: 3.01 | CL789: 4.02 | CM789: 4.72 | CN789: 254.45 | CO789: 72.33 | CP789: 68.98 | CQ789: 52.6 | CR789: 1.7 | CS789: 29.31 | CT789: 48.86 | CU789: 3.01 | CV789: 4.02 | CW789: 4.72 | CX789: 1 | CY789: 27 | CZ789: 29 | DA789: 1 | DB789: 5 | DC789: 264 | DD789: 2 | DE789: 254 | DF789: 10 | DG789: 243 | DH789: 17 | DI789: 260 | DJ789: 4 | DM789: 57.14 | DN789: 28 | DO789: 64.29 | DP789: 27 | DQ789: 71.43 | DR789: 23 | DS789: 71.43 | DT789: 16 | DW789: 44.44 | DX789: 34 | DY789: 55.56 | DZ789: 31 | EA789: 77.78 | EB789: 5 | EC789: 55.56 | ED789: 25 | EG789: 29 | EH789: 15 | EI789: 31 | EJ789: 20 | EK789: 29 | EL789: 12 | EM789: 31 | EN789: 24 | EQ789: 1.63 | ER789: 11 | ES789: 1.9 | ET789: 30 | EU789: 1.71 | EV789: 13 | EW789: 1.6 | EX789: 4 | FA789: 40 | FB789: 21 | FC789: 50 | FD789: 15 | FE789: 50 | FF789: 15 | FG789: 25 | FH789: 26 | FK789: 50 | FL789: 7 | FM789: 0 | FN789: 8 | FU789: 0 | FV789: 15 | FW789: 1 | FX789: 18 | FY789: -1 | FZ789: 4 | GA789: 1 | GB789: 15 | GE789: 2 | GF789: 25 | GG789: 3 | GH789: 32 | GI789: -1 | GJ789: 10 | GK789: 2 | GL789: 18 | GO789: 3 | GP789: 34 | GQ789: -2 | GR789: 5 | GS789: 0 | GT789: 19 | GU789: -1 | GV789: 16 | GY789: 0 | GZ789: 1 | HA789: 1 | HB789: 1 | HC789: 0 | HD789: 3 | HE789: 0 | HF789: 4 | HI789: 3 | HJ789: 20 | HK789: 0 | HL789: 34 | HM789: 4 | HN789: 7 | HO789: 4 | HP789: 6 | HS789: 9 | HT789: 30 | HU789: 13 | HV789: 10 | HW789: 12 | HX789: 16 | HY789: 8 | HZ789: 34 | IC789: 4 | ID789: 3 | IE789: 4 | IF789: 3 | IG789: 2 | IH789: 15 | II789: 4 | IJ789: 6 | IM789: 2 | IN789: 1 | IO789: 0 | IP789: 5 | IQ789: 0 | IR789: 8 | IS789: 0 | IT789: 12
A790: =IF(J790="","",CONCATENATE(J790," ",I790)) | AK790: 32.5 | AL790: 10 | AM790: 0.39652778 | AN790: 10 | AO790: 0.35555556 | AP790: 10 | AQ790: 0.41458333 | AR790: 10 | AS790: 0.37291667 | AV790: 237.75 | AW790: 24 | AX790: 78.57 | AY790: 13 | AZ790: 70.83 | BA790: 15 | BB790: 31.75 | BC790: 34 | BD790: 1.8 | BE790: 30 | BF790: 28.57 | BG790: 34 | BH790: 75 | BI790: 6 | BJ790: 20 | BK790: 14 | BL790: 16 | BM790: 33 | BN790: 32 | BO790: 2 | BP790: 22 | BQ790: 3 | BR790: 24 | BS790: 3 | BT790: 34 | BU790: 0 | BV790: 10 | BW790: 47 | BX790: 8 | BY790: 3 | BZ790: 4 | CA790: 16 | CB790: 40 | CC790: 16 | CD790: 254.43 | CE790: 72.82 | CF790: 69.12 | CG790: 52.59 | CH790: 1.7 | CI790: 29.34 | CJ790: 49.06 | CK790: 3.01 | CL790: 4.02 | CM790: 4.72 | CN790: 254.45 | CO790: 72.33 | CP790: 68.98 | CQ790: 52.6 | CR790: 1.7 | CS790: 29.31 | CT790: 48.86 | CU790: 3.01 | CV790: 4.02 | CW790: 4.72 | CX790: 9 | CY790: 29 | CZ790: 17 | DA790: 23 | DB790: 2 | DC790: 234 | DD790: 26 | DE790: 248 | DF790: 15 | DG790: 229 | DH790: 32 | DI790: 240 | DJ790: 26 | DM790: 85.71 | DN790: 8 | DO790: 92.86 | DP790: 5 | DQ790: 71.43 | DR790: 23 | DS790: 64.29 | DT790: 27 | DW790: 66.67 | DX790: 21 | DY790: 77.78 | DZ790: 6 | EA790: 72.22 | EB790: 15 | EC790: 66.67 | ED790: 13 | EG790: 30 | EH790: 18 | EI790: 31 | EJ790: 20 | EK790: 31 | EL790: 23 | EM790: 35 | EN790: 34 | EQ790: 1.75 | ER790: 21 | ES790: 1.71 | ET790: 14 | EU790: 1.77 | EV790: 21 | EW790: 2 | EX790: 34 | FA790: 50 | FB790: 15 | FC790: 0 | FD790: 32 | FE790: 40 | FF790: 23 | FG790: 16.67 | FH790: 31 | FK790: 100 | FL790: 1 | FO790: 100 | FP790: 1 | FQ790: 50 | FR790: 8 | FU790: -1 | FV790: 5 | FW790: 1 | FX790: 18 | FY790: 1 | FZ790: 24 | GA790: 1 | GB790: 15 | GE790: 2 | GF790: 25 | GG790: -2 | GH790: 3 | GI790: -1 | GJ790: 10 | GK790: 4 | GL790: 28 | GO790: -1 | GP790: 15 | GQ790: 2 | GR790: 35 | GS790: 1 | GT790: 28 | GU790: 1 | GV790: 32 | GY790: 0 | GZ790: 1 | HA790: 0 | HB790: 4 | HC790: 0 | HD790: 3 | HE790: 0 | HF790: 4 | HI790: 3 | HJ790: 20 | HK790: 4 | HL790: 10 | HM790: 3 | HN790: 18 | HO790: 0 | HP790: 34 | HS790: 12 | HT790: 9 | HU790: 10 | HV790: 29 | HW790: 12 | HX790: 16 | HY790: 13 | HZ790: 4 | IC790: 3 | ID790: 10 | IE790: 3 | IF790: 8 | IG790: 2 | IH790: 15 | II790: 0 | IJ790: 34 | IM790: 0 | IN790: 7 | IO790: 1 | IP790: 2 | IQ790: 1 | IR790: 2 | IS790: 1 | IT790: 3
A791: =IF(J791="","",CONCATENATE(J791," ",I791)) | AK791: 32.5 | AL791: 10 | AM791: 0.35833333 | AN791: 10 | AO791: 0.37847222 | AP791: 10 | AQ791: 0.39166667 | AR791: 10 | AS791: 0.40347222 | AV791: 251.75 | AW791: 12 | AX791: 75 | AY791: 19 | AZ791: 55.56 | BA791: 34 | BB791: 29 | BC791: 9 | BD791: 1.65 | BE791: 3 | BF791: 40.63 | BG791: 23 | BH791: 42.86 | BI791: 19 | BJ791: 13 | BK791: 28 | BL791: 28 | BM791: 4 | BN791: 21 | BO791: 5 | BP791: 32 | BQ791: 1 | BR791: 15 | BS791: 2 | BT791: 33 | BU791: 0 | BV791: 14 | BW791: 39 | BX791: 14 | BY791: 3 | BZ791: 7 | CA791: 16 | CB791: 40 | CC791: 16 | CD791: 254.43 | CE791: 72.82 | CF791: 69.12 | CG791: 52.59 | CH791: 1.7 | CI791: 29.34 | CJ791: 49.06 | CK791: 3.01 | CL791: 4.02 | CM791: 4.72 | CN791: 254.45 | CO791: 72.33 | CP791: 68.98 | CQ791: 52.6 | CR791: 1.7 | CS791: 29.31 | CT791: 48.86 | CU791: 3.01 | CV791: 4.02 | CW791: 4.72 | CX791: 9 | CY791: 13 | CZ791: 33 | DA791: 1 | DB791: 2 | DC791: 252 | DD791: 12 | DE791: 253 | DF791: 11 | DG791: 249 | DH791: 9 | DI791: 253 | DJ791: 8 | DM791: 85.71 | DN791: 8 | DO791: 78.57 | DP791: 13 | DQ791: 64.29 | DR791: 30 | DS791: 71.43 | DT791: 16 | DW791: 55.56 | DX791: 30 | DY791: 72.22 | DZ791: 18 | EA791: 55.56 | EB791: 30 | EC791: 38.89 | ED791: 32 | EG791: 28 | EH791: 8 | EI791: 31 | EJ791: 20 | EK791: 30 | EL791: 17 | EM791: 27 | EN791: 2 | EQ791: 1.6 | ER791: 9 | ES791: 1.69 | ET791: 11 | EU791: 1.7 | EV791: 12 | EW791: 1.57 | EX791: 2 | FA791: 37.5 | FB791: 22 | FC791: 40 | FD791: 23 | FE791: 37.5 | FF791: 27 | FG791: 45.45 | FH791: 13 | FK791: 50 | FL791: 7 | FM791: 0 | FN791: 8 | FO791: 50 | FP791: 14 | FQ791: 50 | FR791: 8 | FU791: -1 | FV791: 5 | FW791: 2 | FX791: 30 | FY791: 3 | FZ791: 33 | GA791: 1 | GB791: 15 | GE791: -2 | GF791: 4 | GG791: -1 | GH791: 7 | GI791: -1 | GJ791: 10 | GK791: 5 | GL791: 34 | GO791: 4 | GP791: 35 | GQ791: -2 | GR791: 5 | GS791: 2 | GT791: 32 | GU791: -2 | GV791: 3 | GY791: 0 | GZ791: 1 | HA791: 0 | HB791: 4 | HC791: 0 | HD791: 3 | HE791: 0 | HF791: 4 | HI791: 4 | HJ791: 13 | HK791: 4 | HL791: 10 | HM791: 3 | HN791: 18 | HO791: 3 | HP791: 15 | HS791: 9 | HT791: 30 | HU791: 11 | HV791: 24 | HW791: 10 | HX791: 32 | HY791: 9 | HZ791: 26 | IC791: 5 | ID791: 1 | IE791: 3 | IF791: 8 | IG791: 3 | IH791: 6 | II791: 3 | IJ791: 15 | IM791: 0 | IN791: 7 | IO791: 0 | IP791: 5 | IQ791: 2 | IR791: 1 | IS791: 1 | IT791: 3
A792: =IF(J792="","",CONCATENATE(J792," ",I792)) | AK792: 34 | AL792: 1 | AM792: 0.44236111 | AN792: 1 | AO792: 0.43958333 | AP792: 10 | AQ792: 0.44513889 | AR792: 10 | AS792: 0.41875 | AV792: 232.75 | AW792: 29 | AX792: 64.29 | AY792: 29 | AZ792: 56.94 | BA792: 33 | BB792: 29.75 | BC792: 17 | BD792: 1.76 | BE792: 25 | BF792: 38.71 | BG792: 26 | BH792: 0 | BI792: 26 | BJ792: 34 | BK792: 33 | BL792: 34 | BM792: 21 | BN792: 34 | BO792: 4 | BP792: 29 | BQ792: 11 | BR792: 34 | BS792: 1 | BT792: 32 | BU792: 0 | BV792: 10 | BW792: 43 | BX792: 8 | BY792: 7 | BZ792: 7 | CA792: 16 | CB792: 40 | CC792: 16 | CD792: 254.43 | CE792: 72.82 | CF792: 69.12 | CG792: 52.59 | CH792: 1.7 | CI792: 29.34 | CJ792: 49.06 | CK792: 3.01 | CL792: 4.02 | CM792: 4.72 | CN792: 254.45 | CO792: 72.33 | CP792: 68.98 | CQ792: 52.6 | CR792: 1.7 | CS792: 29.31 | CT792: 48.86 | CU792: 3.01 | CV792: 4.02 | CW792: 4.72 | CX792: 9 | CY792: 29 | CZ792: 27 | DA792: 23 | DB792: 1 | DC792: 229 | DD792: 32 | DE792: 232 | DF792: 30 | DG792: 230 | DH792: 31 | DI792: 240 | DJ792: 26 | DM792: 64.29 | DN792: 20 | DO792: 64.29 | DP792: 27 | DQ792: 57.14 | DR792: 33 | DS792: 71.43 | DT792: 16 | DW792: 77.78 | DX792: 10 | DY792: 61.11 | DZ792: 28 | EA792: 61.11 | EB792: 26 | EC792: 27.78 | ED792: 34 | EG792: 28 | EH792: 8 | EI792: 32 | EJ792: 27 | EK792: 30 | EL792: 17 | EM792: 29 | EN792: 12 | EQ792: 1.57 | ER792: 4 | ES792: 1.91 | ET792: 32 | EU792: 1.82 | EV792: 27 | EW792: 1.8 | EX792: 26 | FA792: 50 | FB792: 15 | FC792: 28.57 | FD792: 25 | FE792: 42.86 | FF792: 22 | FG792: 38.46 | FH792: 20 | FM792: 0 | FN792: 8 | FO792: 0 | FP792: 19 | FQ792: 0 | FR792: 16 | FU792: -1 | FV792: 5 | FW792: 1 | FX792: 18 | FY792: -1 | FZ792: 4 | GA792: 5 | GB792: 34 | GE792: 0 | GF792: 16 | GG792: 5 | GH792: 35 | GI792: 3 | GJ792: 33 | GK792: 3 | GL792: 25 | GO792: -3 | GP792: 1 | GQ792: 1 | GR792: 30 | GS792: 1 | GT792: 28 | GU792: 2 | GV792: 34 | GY792: 0 | GZ792: 1 | HA792: 0 | HB792: 4 | HC792: 0 | HD792: 3 | HE792: 0 | HF792: 4 | HI792: 6 | HJ792: 4 | HK792: 1 | HL792: 30 | HM792: 2 | HN792: 25 | HO792: 1 | HP792: 28 | HS792: 10 | HT792: 27 | HU792: 12 | HV792: 16 | HW792: 12 | HX792: 16 | HY792: 9 | HZ792: 26 | IC792: 2 | ID792: 17 | IE792: 2 | IF792: 18 | IG792: 3 | IH792: 6 | II792: 1 | IJ792: 28 | IM792: 0 | IN792: 7 | IO792: 3 | IP792: 1 | IQ792: 1 | IR792: 2 | IS792: 3 | IT792: 1
A793: =IF(J793="","",CONCATENATE(J793," ",I793)) | AK793: 35 | AL793: 10 | AM793: 0.40416667 | AN793: 10 | AO793: 0.36319444 | AP793: 10 | AQ793: 0.4375 | AV793: 243 | AX793: 71.43 | AZ793: 72.22 | BB793: 33.33 | BD793: 1.85 | BF793: 26.67 | BH793: 75 | BJ793: w | BK793: w | BL793: w | BM793: w | BN793: w | BO793: 5 | BQ793: 2 | BS793: 1 | BU793: 0 | BV793: 6 | BW793: 35 | BX793: 12 | BY793: 1 | BZ793: 4 | CA793: 12 | CB793: 30 | CC793: 12 | CD793: 254.43 | CE793: 72.82 | CF793: 69.12 | CG793: 52.59 | CH793: 1.7 | CI793: 29.34 | CJ793: 49.06 | CK793: 3.01 | CL793: 4.02 | CM793: 4.72 | CN793: 254.45 | CO793: 72.33 | CP793: 68.98 | CQ793: 52.6 | CR793: 1.7 | CS793: 29.31 | CT793: 48.86 | CU793: 3.01 | CV793: 4.02 | CW793: 4.72 | DC793: 241 | DD793: 17 | DE793: 245 | DF793: 20 | DG793: 243 | DH793: 17 | DM793: 85.71 | DN793: 8 | DO793: 64.29 | DP793: 27 | DQ793: 64.29 | DR793: 30 | DW793: 83.33 | DX793: 6 | DY793: 77.78 | DZ793: 6 | EA793: 55.56 | EB793: 30 | EG793: 35 | EH793: 33 | EI793: 34 | EJ793: 33 | EK793: 31 | EL793: 23 | EQ793: 1.73 | ER793: 18 | ES793: 1.93 | ET793: 34 | EU793: 1.9 | EV793: 32 | FA793: 0 | FB793: 29 | FC793: 25 | FD793: 26 | FE793: 37.5 | FF793: 27 | FK793: 100 | FL793: 1 | FM793: 100 | FN793: 1 | FO793: 50 | FP793: 14 | FU793: 1 | FV793: 26 | FW793: 1 | FX793: 18 | FY793: 3 | FZ793: 33 | GE793: 2 | GF793: 25 | GG793: 0 | GH793: 17 | GI793: 0 | GJ793: 19 | GO793: -2 | GP793: 5 | GQ793: 1 | GR793: 30 | GS793: 2 | GT793: 32 | GY793: 0 | GZ793: 1 | HA793: 0 | HB793: 4 | HC793: 0 | HD793: 3 | HI793: 4 | HJ793: 13 | HK793: 1 | HL793: 30 | HM793: 1 | HN793: 31 | HS793: 9 | HT793: 30 | HU793: 14 | HV793: 4 | HW793: 12 | HX793: 16 | IC793: 5 | ID793: 1 | IE793: 3 | IF793: 8 | IG793: 4 | IH793: 4 | IM793: 0 | IN793: 7 | IO793: 0 | IP793: 5 | IQ793: 1 | IR793: 2
A794: =IF(J794="","",CONCATENATE(J794," ",I794))
A795: =IF(J795="","",CONCATENATE(J795," ",I795))
A796: =IF(J796="","",CONCATENATE(J796," ",I796))
A797: =IF(J797="","",CONCATENATE(J797," ",I797))
A798: =IF(J798="","",CONCATENATE(J798," ",I798))
A799: =IF(J799="","",CONCATENATE(J799," ",I799))
A800: =IF(J800="","",CONCATENATE(J800," ",I800))
A801: =IF(J801="","",CONCATENATE(J801," ",I801))
A802: =IF(J802="","",CONCATENATE(J802," ",I802))
A803: =IF(J803="","",CONCATENATE(J803," ",I803))
A804: =IF(J804="","",CONCATENATE(J804," ",I804))
A805: =IF(J805="","",CONCATENATE(J805," ",I805))
... A2001: =IF(J2001="","",CONCATENATE(J2001," ",I2001))

Sheet Record
A1: Win | D1: Top3: Win
A2: Stakes | B2: Profit | D2: Stakes | E2: Profit
A3: {=SUM(IF(100*SUMPRODUCT(('Rd1'!H:H<>"") * IFERROR(--'Rd1'!G:G, 0))=0,"",100*SUMPRODUCT(('Rd1'!H:H<>"") * IFERROR(--'Rd1'!G:G, 0))),IF(100*SUMPRODUCT(('Rd2'!H:H<>"") * IFERROR(--'Rd2'!G:G, 0))=0,"",100*SUMPRODUCT(('Rd2'!H:H<>"") * IFERROR(--'Rd2'!G:G, 0))),IF(100*SUMPRODUCT(('Rd3'!H:H<>"") * IFERROR(--'Rd3'!G:G, 0))=0,"",100*SUMPRODUCT(('Rd3'!H:H<>"") * IFERROR(--'Rd3'!G:G, 0))),IF(100*SUMPRODUCT(('Rd4'!H:H<>"") * IFERROR(--'Rd4'!G:G, 0))=0,"",100*SUMPRODUCT(('Rd4'!H:H<>"") * IFERROR(--'Rd4'!G:G, 0))))} -> 107.2 | B3: =SUM(IF(AND(A3="",SUM('Rd1'!I:I)=0),"",SUM('Rd1'!I:I)),IF(AND(A3="",SUM('Rd2'!I:I)=0),"",SUM('Rd2'!I:I)),IF(AND(A3="",SUM('Rd3'!I:I)=0),"",SUM('Rd3'!I:I)),IF(AND(A3="",SUM('Rd4'!I:I)=0),"",SUM('Rd4'!I:I))) -> -6.59 | D3: =IF(T3Picks!C2="","",2*(12-COUNTBLANK(T3Picks!B2:B13))) -> 24 | E3: =IF(T3Picks!C2="","",SUM(T3Picks!I2:I13)) -> -7.04

Sheet Rd1
A1: Round | B1: Time | C1: Player | D1: Win % | E1: TT Odds | F1: Best Odds | G1: Kelly | H1: Score | I1: P/L
A2: =IF(B2="","",1) -> 1 | B2: 0.54166667 | C2: Bud Cauley | D2: 46.01% | E2: 2.2 | F2: 1.95 | H2: 69
A3: =IF(B3="","",1) -> 1 | B3: 0.54166667 | C3: Nick Taylor | D3: 44.56% | E3: 2.2 | F3: 2.25 | G3: 0.10% | H3: 70 | I3: -0.1
A4: =IF(B4="","",1) -> 1 | B4: 0.54166667 | C4: Tie | D4: 9.42% | E4: 11 | F4: 9 | H4: -
A5: =IF(B5="","",1) -> 1 | B5: 0.54861111 | C5: Brian Campbell | D5: 45.46% | E5: 2.2 | F5: 2.1 | H5: 66
A6: =IF(B6="","",1) -> 1 | B6: 0.54861111 | C6: Sami Valimaki | D6: 45.40% | E6: 2.2 | F6: 2.1 | H6: 67
A7: =IF(B7="","",1) -> 1 | B7: 0.54861111 | C7: Tie | D7: 9.13% | E7: 11 | F7: 9 | H7: -
A8: =IF(B8="","",1) -> 1 | B8: 0.55555556 | C8: Matt Kuchar | D8: 46.79% | E8: 2.1 | F8: 2.1 | H8: 67
A9: =IF(B9="","",1) -> 1 | B9: 0.55555556 | C9: Sam Stevens | D9: 43.58% | E9: 2.3 | F9: 2.1 | H9: 70
A10: =IF(B10="","",1) -> 1 | B10: 0.55555556 | C10: Tie | D10: 9.62% | E10: 10 | F10: 9 | H10: -
A11: =IF(B11="","",1) -> 1 | B11: 0.5625 | C11: Denny McCarthy | D11: 53.11% | E11: 1.88 | F11: 1.91 | G11: 0.80% | H11: 68 | I11: 0.73
A12: =IF(B12="","",1) -> 1 | B12: 0.5625 | C12: Max Homa | D12: 37.29% | E12: 2.7 | F12: 2.5 | H12: 70
A13: =IF(B13="","",1) -> 1 | B13: 0.5625 | C13: Tie | D13: 9.60% | E13: 10 | F13: 9 | H13: -
A14: =IF(B14="","",1) -> 1 | B14: 0.56944444 | C14: Sam Burns | D14: 47.80% | E14: 2.1 | F14: 1.91 | H14: 69
A15: =IF(B15="","",1) -> 1 | B15: 0.56944444 | C15: Christiaan Bezuidenhout | D15: 42.73% | E15: 2.3 | F15: 2.3 | H15: 70
A16: =IF(B16="","",1) -> 1 | B16: 0.56944444 | C16: Tie | D16: 9.46% | E16: 11 | F16: 9 | H16: -
A17: =IF(B17="","",1) -> 1 | B17: 0.57638889 | C17: Taylor Pendrith | D17: 52.89% | E17: 1.89 | F17: 1.8 | H17: 73
A18: =IF(B18="","",1) -> 1 | B18: 0.57638889 | C18: Adam Hadwin | D18: 37.31% | E18: 2.7 | F18: 2.5 | H18: 72
A19: =IF(B19="","",1) -> 1 | B19: 0.57638889 | C19: Tie | D19: 9.80% | E19: 10 | F19: 9 | H19: -
A20: =IF(B20="","",1) -> 1 | B20: 0.58333333 | C20: Sepp Straka | D20: 49.21% | E20: 2 | F20: 1.95 | H20: 70
A21: =IF(B21="","",1) -> 1 | B21: 0.58333333 | C21: Davis Thompson | D21: 41.49% | E21: 2.4 | F21: 2.3 | H21: 71
A22: =IF(B22="","",1) -> 1 | B22: 0.58333333 | C22: Tie | D22: 9.29% | E22: 11 | F22: 9 | H22: -
A23: =IF(B23="","",1) -> 1 | B23: 0.59027778 | C23: Akshay Bhatia | D23: 44.19% | E23: 2.3 | F23: 2.1 | H23: 68
A24: =IF(B24="","",1) -> 1 | B24: 0.59027778 | C24: Keegan Bradley | D24: 46.74% | E24: 2.1 | F24: 2.1 | H24: 67
A25: =IF(B25="","",1) -> 1 | B25: 0.59027778 | C25: Tie | D25: 9.06% | E25: 11 | F25: 9 | H25: -
A26: =IF(B26="","",1) -> 1 | B26: 0.60763889 | C26: Matt Fitzpatrick | D26: 47.37% | E26: 2.1 | F26: 2.05 | H26: 66
A27: =IF(B27="","",1) -> 1 | B27: 0.60763889 | C27: Eric Cole | D27: 43.38% | E27: 2.3 | F27: 2.38 | G27: 1.20% | H27: 67 | I27: -1.2
A28: =IF(B28="","",1) -> 1 | B28: 0.60763889 | C28: Tie | D28: 9.24% | E28: 11 | F28: 9 | H28: -
A29: =IF(B29="","",1) -> 1 | B29: 0.61458333 | C29: Patrick Cantlay | D29: 53.48% | E29: 1.87 | F29: 1.75 | H29: 67
A30: =IF(B30="","",1) -> 1 | B30: 0.61458333 | C30: Si Woo Kim | D30: 37.48% | E30: 2.7 | F30: 2.63 | H30: 68
A31: =IF(B31="","",1) -> 1 | B31: 0.61458333 | C31: Tie | D31: 9.04% | E31: 11 | F31: 9 | H31: -
A32: =IF(B32="","",1) -> 1 | B32: 0.62152778 | C32: Russell Henley | D32: 54.06% | E32: 1.85 | F32: 1.75 | H32: 64
A33: =IF(B33="","",1) -> 1 | B33: 0.62152778 | C33: Tom Hoge | D33: 36.85% | E33: 2.7 | F33: 2.6 | H33: 70
A34: =IF(B34="","",1) -> 1 | B34: 0.62152778 | C34: Tie | D34: 9.09% | E34: 11 | F34: 9 | H34: -
A35: =IF(B35="","",1) -> 1 | B35: 0.62847222 | C35: Tommy Fleetwood | D35: 45.39% | E35: 2.2 | F35: 2.1 | H35: 67
A36: =IF(B36="","",1) -> 1 | B36: 0.62847222 | C36: Sungjae Im | D36: 45.16% | E36: 2.2 | F36: 2.2 | H36: 69
A37: =IF(B37="","",1) -> 1 | B37: 0.62847222 | C37: Tie | D37: 9.44% | E37: 11 | F37: 9 | H37: -
A38: =IF(B38="","",1) -> 1 | B38: 0.63541667 | C38: Scottie Scheffler | D38: 61.80% | E38: 1.62 | F38: 1.59 | H38: 64
A39: =IF(B39="","",1) -> 1 | B39: 0.63541667 | C39: Viktor Hovland | D39: 29.54% | E39: 3.4 | F39: 3.2 | H39: 69
A40: =IF(B40="","",1) -> 1 | B40: 0.63541667 | C40: Tie | D40: 8.66% | E40: 12 | F40: 9 | H40: -
A41: =IF(B41="","",1) -> 1 | B41: 0.64236111 | C41: Justin Thomas | D41: 42.93% | E41: 2.3 | F41: 2.05 | H41: 61
A42: =IF(B42="","",1) -> 1 | B42: 0.64236111 | C42: Corey Conners | D42: 47.97% | E42: 2.1 | F42: 2.15 | G42: 1.40% | H42: 70 | I42: -1.4
A43: =IF(B43="","",1) -> 1 | B43: 0.64236111 | C43: Tie | D43: 9.09% | E43: 11 | F43: 9 | H43: -
A44: =IF(B44="","",1) -> 1 | B44: 0.65277778 | C44: Shane Lowry | D44: 48.17% | E44: 2.1 | F44: 2 | H44: 68
A45: =IF(B45="","",1) -> 1 | B45: 0.65277778 | C45: Jordan Spieth | D45: 42.50% | E45: 2.4 | F45: 2.25 | H45: 67
A46: =IF(B46="","",1) -> 1 | B46: 0.65277778 | C46: Tie | D46: 9.32% | E46: 11 | F46: 9 | H46: -
A47: =IF(B47="","",1) -> 1 | B47: 0.65972222 | C47: J.J. Spaun | D47: 46.80% | E47: 2.1 | F47: 2 | H47: 66
A48: =IF(B48="","",1) -> 1 | B48: 0.65972222 | C48: Lucas Glover | D48: 43.60% | E48: 2.3 | F48: 2.15 | H48: 68
A49: =IF(B49="","",1) -> 1 | B49: 0.65972222 | C49: Tie | D49: 9.59% | E49: 10 | F49: 9 | H49: -
A50: =IF(B50="","",1) -> 1 | B50: 0.66666667 | C50: Daniel Berger | D50: 49.09% | E50: 2 | F50: 1.83 | H50: 70
A51: =IF(B51="","",1) -> 1 | B51: 0.66666667 | C51: Gary Woodland | D51: 41.09% | E51: 2.4 | F51: 2.5 | G51: 0.90% | H51: 66 | I51: 1.35
A52: =IF(B52="","",1) -> 1 | B52: 0.66666667 | C52: Tie | D52: 9.81% | E52: 10 | F52: 9 | H52: -
A53: =IF(B53="","",1) -> 1 | B53: 0.67361111 | C53: Rickie Fowler | D53: 57.23% | E53: 1.75 | F53: 1.8 | G53: 1.90% | H53: 72 | I53: -1.9
A54: =IF(B54="","",1) -> 1 | B54: 0.67361111 | C54: Karl Vilips | D54: 33.31% | E54: 3 | F54: 2.5 | H54: 71
A55: =IF(B55="","",1) -> 1 | B55: 0.67361111 | C55: Tie | D55: 9.46% | E55: 11 | F55: 9 | H55: -
A56: =IF(B56="","",1) -> 1 | B56: 0.68055556 | C56: Harris English | D56: 51.27% | E56: 1.95 | F56: 2 | G56: 1.30% | H56: 70 | I56: 1.3
A57: =IF(B57="","",1) -> 1 | B57: 0.68055556 | C57: Jacob Bridgeman | D57: 39.47% | E57: 2.5 | F57: 2.2 | H57: 71
A58: =IF(B58="","",1) -> 1 | B58: 0.68055556 | C58: Tie | D58: 9.26% | E58: 11 | F58: 9 | H58: -
A59: =IF(B59="","",1) -> 1 | B59: 0.6875 | C59: Patrick Rodgers | D59: 46.39% | E59: 2.2 | F59: 2.1 | H59: 75
A60: =IF(B60="","",1) -> 1 | B60: 0.6875 | C60: Ryo Hisatsune | D60: 43.89% | E60: 2.3 | F60: 2.15 | H60: 71
A61: =IF(B61="","",1) -> 1 | B61: 0.6875 | C61: Tie | D61: 9.71% | E61: 10 | F61: 9 | H61: -
A62: =IF(B62="","",1) -> 1 | B62: 0.69444444 | C62: Ryan Gerard | D62: 46.76% | E62: 2.1 | F62: 2.05 | H62: 67
A63: =IF(B63="","",1) -> 1 | B63: 0.69444444 | C63: Mackenzie Hughes | D63: 43.59% | E63: 2.3 | F63: 2.2 | H63: 68
A64: =IF(B64="","",1) -> 1 | B64: 0.69444444 | C64: Tie | D64: 9.64% | E64: 10 | F64: 9 | H64: -
A65: =IF(B65="","",1) -> 1 | B65: 0.70486111 | C65: Thomas Detry | D65: 57.68% | E65: 1.73 | F65: 1.83 | G65: 3.30% | H65: 73 | I65: 2.74
A66: =IF(B66="","",1) -> 1 | B66: 0.70486111 | C66: Nick Dunlap | D66: 33.51% | E66: 3 | F66: 2.75 | H66: 78
A67: =IF(B67="","",1) -> 1 | B67: 0.70486111 | C67: Tie | D67: 8.81% | E67: 11 | F67: 9 | H67: -
A68: =IF(B68="","",1) -> 1 | B68: 0.71180556 | C68: Wyndham Clark | D68: 48.83% | E68: 2 | F68: 2 | H68: 65
A69: =IF(B69="","",1) -> 1 | B69: 0.71180556 | C69: Will Zalatoris | D69: 41.93% | E69: 2.4 | F69: 2.2 | H69: 72
A70: =IF(B70="","",1) -> 1 | B70: 0.71180556 | C70: Tie | D70: 9.23% | E70: 11 | F70: 9 | H70: -
A71: =IF(B71="","",1) -> 1 | B71: 0.71875 | C71: Robert MacIntyre | D71: 45.43% | E71: 2.2 | F71: 2.05 | H71: 71
A72: =IF(B72="","",1) -> 1 | B72: 0.71875 | C72: J.T. Poston | D72: 45.20% | E72: 2.2 | F72: 2.2 | H72: 68
A73: =IF(B73="","",1) -> 1 | B73: 0.71875 | C73: Tie | D73: 9.36% | E73: 11 | F73: 9 | H73: -
A74: =IF(B74="","",1) -> 1 | B74: 0.72569444 | C74: Jason Day | D74: 45.68% | E74: 2.2 | F74: 1.91 | H74: 68
A75: =IF(B75="","",1) -> 1 | B75: 0.72569444 | C75: Tony Finau | D75: 44.57% | E75: 2.2 | F75: 2.4 | G75: 2.50% | H75: 72 | I75: -2.5
A76: =IF(B76="","",1) -> 1 | B76: 0.72569444 | C76: Tie | D76: 9.74% | E76: 10 | F76: 9 | H76: -
A77: =IF(B77="","",1) -> 1 | B77: 0.73263889 | C77: Cameron Young | D77: 42.97% | E77: 2.3 | F77: 2.1 | H77: 70
A78: =IF(B78="","",1) -> 1 | B78: 0.73263889 | C78: Chris Kirk | D78: 47.70% | E78: 2.1 | F78: 2.1 | G78: 0.10% | H78: 71 | I78: -0.1
A79: =IF(B79="","",1) -> 1 | B79: 0.73263889 | C79: Tie | D79: 9.32% | E79: 11 | F79: 9 | H79: -
A80: =IF(B80="","",1) -> 1 | B80: 0.73958333 | C80: Aaron Rai | D80: 48.66% | E80: 2.1 | F80: 1.83 | H80: 70
A81: =IF(B81="","",1) -> 1 | B81: 0.73958333 | C81: Stephan Jaeger | D81: 41.89% | E81: 2.4 | F81: 2.5 | G81: 1.60% | H81: 67 | I81: 2.4
A82: =IF(B82="","",1) -> 1 | B82: 0.73958333 | C82: Tie | D82: 9.44% | E82: 11 | F82: 9 | H82: -
A83: =IF(B83="","",1) -> 1 | B83: 0.74652778 | C83: Max Greyserman | D83: 53.56% | E83: 1.87 | F83: 1.95 | G83: 2.30% | H83: 67 | I83: 2.19
A84: =IF(B84="","",1) -> 1 | B84: 0.74652778 | C84: Cam Davis | D84: 37.36% | E84: 2.7 | F84: 2.5 | H84: 70
A85: =IF(B85="","",1) -> 1 | B85: 0.74652778 | C85: Tie | D85: 9.08% | E85: 11 | F85: 9 | H85: -
A86: =IF(B86="","",1) -> 1 | B86: 0.75694444 | C86: Brian Harman | D86: 47.78% | E86: 2.1 | F86: 2.05 | H86: 66
A87: =IF(B87="","",1) -> 1 | B87: 0.75694444 | C87: Byeong Hun An | D87: 43.10% | E87: 2.3 | F87: 2.1 | H87: 74
A88: =IF(B88="","",1) -> 1 | B88: 0.75694444 | C88: Tie | D88: 9.11% | E88: 11 | F88: 9 | H88: -
A89: =IF(B89="","",1) -> 1 | B89: 0.76388889 | C89: Billy Horschel | D89: 46.40% | E89: 2.2 | F89: 2 | H89: 71
A90: =IF(B90="","",1) -> 1 | B90: 0.76388889 | C90: Austin Eckroat | D90: 44.03% | E90: 2.3 | F90: 2.3 | G90: 0.50% | H90: 71 | I90: -0.5
A91: =IF(B91="","",1) -> 1 | B91: 0.76388889 | C91: Tie | D91: 9.56% | E91: 10 | F91: 9 | H91: -
A92: =IF(B92="","",1) -> 1 | B92: 0.77083333 | C92: Xander Schauffele | D92: 47.60% | E92: 2.1 | F92: 2.1 | H92: 69
A93: =IF(B93="","",1) -> 1 | B93: 0.77083333 | C93: Ludvig Aberg | D93: 42.92% | E93: 2.3 | F93: 2.2 | H93: 69
A94: =IF(B94="","",1) -> 1 | B94: 0.77083333 | C94: Tie | D94: 9.47% | E94: 11 | F94: 9 | H94: -
A95: =IF(B95="","",1) -> 1 | B95: 0.77777778 | C95: Collin Morikawa | D95: 57.91% | E95: 1.73 | F95: 1.62 | H95: 69
A96: =IF(B96="","",1) -> 1 | B96: 0.77777778 | C96: Sahith Theegala | D96: 32.78% | E96: 3.1 | F96: 3 | H96: 75
A97: =IF(B97="","",1) -> 1 | B97: 0.77777778 | C97: Tie | D97: 9.31% | E97: 11 | F97: 9 | H97: -
A98: =IF(B98="","",1) -> 1 | B98: 0.78472222 | C98: Min Woo Lee | D98: 45.88% | E98: 2.2 | F98: 2 | H98: 72
A99: =IF(B99="","",1) -> 1 | B99: 0.78472222 | C99: Justin Rose | D99: 44.85% | E99: 2.2 | F99: 2.2 | H99: 67
A100: =IF(B100="","",1) -> 1 | B100: 0.78472222 | C100: Tie | D100: 9.26% | E100: 11 | F100: 8.5 | H100: -
...

Sheet Rd2
A1: Round | B1: Time | C1: Player | D1: Win % | E1: TT Odds | F1: Best Odds | G1: Kelly | H1: Score | I1: P/L
A2: =IF(B2="","",2) -> 2 | B2: 0.54166667 | C2: Rickie Fowler | D2: 55.29% | E2: 1.81 | F2: 2 | G2: 5.30% | H2: 67 | I2: -5.3
A3: =IF(B3="","",2) -> 2 | B3: 0.54166667 | C3: Karl Vilips | D3: 35.29% | E3: 2.8 | F3: 2.45 | H3: 65
A4: =IF(B4="","",2) -> 2 | B4: 0.54166667 | C4: Tie | D4: 9.42% | E4: 11 | F4: 8.5 | H4: -
A5: =IF(B5="","",2) -> 2 | B5: 0.54861111 | C5: Harris English | D5: 49.51% | E5: 2 | F5: 2 | H5: 69
A6: =IF(B6="","",2) -> 2 | B6: 0.54861111 | C6: Jacob Bridgeman | D6: 41.52% | E6: 2.4 | F6: 2.2 | H6: 69
A7: =IF(B7="","",2) -> 2 | B7: 0.54861111 | C7: Tie | D7: 8.96% | E7: 11 | F7: 8.5 | H7: -
A8: =IF(B8="","",2) -> 2 | B8: 0.55555556 | C8: Ryo Hisatsune | D8: 45.68% | E8: 2.2 | F8: 2.05 | H8: 67
A9: =IF(B9="","",2) -> 2 | B9: 0.55555556 | C9: Patrick Rodgers | D9: 44.40% | E9: 2.3 | F9: 2.2 | H9: 69
A10: =IF(B10="","",2) -> 2 | B10: 0.55555556 | C10: Tie | D10: 9.91% | E10: 10 | F10: 8.5 | H10: -
A11: =IF(B11="","",2) -> 2 | B11: 0.5625 | C11: Ryan Gerard | D11: 45.13% | E11: 2.2 | F11: 2.1 | H11: 69
A12: =IF(B12="","",2) -> 2 | B12: 0.5625 | C12: Mackenzie Hughes | D12: 45.83% | E12: 2.2 | F12: 2.2 | G12: 0.30% | H12: 66 | I12: 0.36
A13: =IF(B13="","",2) -> 2 | B13: 0.5625 | C13: Tie | D13: 9.03% | E13: 11 | F13: 8.5 | H13: -
A14: =IF(B14="","",2) -> 2 | B14: 0.56944444 | C14: Thomas Detry | D14: 59.61% | E14: 1.68 | F14: 1.67 | H14: 65
A15: =IF(B15="","",2) -> 2 | B15: 0.56944444 | C15: Nick Dunlap | D15: 31.64% | E15: 3.2 | F15: 3 | H15: 71
A16: =IF(B16="","",2) -> 2 | B16: 0.56944444 | C16: Tie | D16: 8.75% | E16: 11 | F16: 9 | H16: -
A17: =IF(B17="","",2) -> 2 | B17: 0.57638889 | C17: Wyndham Clark | D17: 51.50% | E17: 1.94 | F17: 1.95 | G17: 0.20% | H17: 70 | I17: 0.19
A18: =IF(B18="","",2) -> 2 | B18: 0.57638889 | C18: Will Zalatoris | D18: 39.23% | E18: 2.5 | F18: 2.25 | H18: 73
A19: =IF(B19="","",2) -> 2 | B19: 0.57638889 | C19: Tie | D19: 9.27% | E19: 11 | F19: 9 | H19: -
A20: =IF(B20="","",2) -> 2 | B20: 0.58333333 | C20: Robert MacIntyre | D20: 46.90% | E20: 2.1 | F20: 2.05 | H20: 68
A21: =IF(B21="","",2) -> 2 | B21: 0.58333333 | C21: J.T. Poston | D21: 43.73% | E21: 2.3 | F21: 2.2 | H21: 67
A22: =IF(B22="","",2) -> 2 | B22: 0.58333333 | C22: Tie | D22: 9.36% | E22: 11 | F22: 8.5 | H22: -
A23: =IF(B23="","",2) -> 2 | B23: 0.59027778 | C23: Jason Day | D23: 45.54% | E23: 2.2 | F23: 1.87 | H23: 69
A24: =IF(B24="","",2) -> 2 | B24: 0.59027778 | C24: Tony Finau | D24: 44.78% | E24: 2.2 | F24: 2.4 | G24: 2.70% | H24: 70 | I24: -2.7
A25: =IF(B25="","",2) -> 2 | B25: 0.59027778 | C25: Tie | D25: 9.67% | E25: 10 | F25: 8.5 | H25: -
A26: =IF(B26="","",2) -> 2 | B26: 0.60069444 | C26: Cameron Young | D26: 44.45% | E26: 2.2 | F26: 2.1 | H26: 70
A27: =IF(B27="","",2) -> 2 | B27: 0.60069444 | C27: Chris Kirk | D27: 46.70% | E27: 2.1 | F27: 2.1 | H27: 67
A28: =IF(B28="","",2) -> 2 | B28: 0.60069444 | C28: Tie | D28: 8.84% | E28: 11 | F28: 8.5 | H28: -
A29: =IF(B29="","",2) -> 2 | B29: 0.60763889 | C29: Aaron Rai | D29: 47.53% | E29: 2.1 | F29: 1.95 | H29: 68
A30: =IF(B30="","",2) -> 2 | B30: 0.60763889 | C30: Stephan Jaeger | D30: 43.13% | E30: 2.3 | F30: 2.45 | G30: 2.00% | H30: 70 | I30: -2
A31: =IF(B31="","",2) -> 2 | B31: 0.60763889 | C31: Tie | D31: 9.33% | E31: 11 | F31: 8.5 | H31: -
A32: =IF(B32="","",2) -> 2 | B32: 0.61458333 | C32: Max Greyserman | D32: 54.68% | E32: 1.83 | F32: 1.91 | G32: 2.40% | H32: 70 | I32: -2.4
A33: =IF(B33="","",2) -> 2 | B33: 0.61458333 | C33: Cam Davis | D33: 35.70% | E33: 2.8 | F33: 2.63 | H33: 66
A34: =IF(B34="","",2) -> 2 | B34: 0.61458333 | C34: Tie | D34: 9.62% | E34: 10 | F34: 8.5 | H34: -
A35: =IF(B35="","",2) -> 2 | B35: 0.62152778 | C35: Brian Harman | D35: 49.61% | E35: 2 | F35: 2.05 | G35: 0.80% | H35: 69 | I35: -0.8
A36: =IF(B36="","",2) -> 2 | B36: 0.62152778 | C36: Byeong Hun An | D36: 40.94% | E36: 2.4 | F36: 2.3 | H36: 68
A37: =IF(B37="","",2) -> 2 | B37: 0.62152778 | C37: Tie | D37: 9.44% | E37: 11 | F37: 8.5 | H37: -
A38: =IF(B38="","",2) -> 2 | B38: 0.62847222 | C38: Billy Horschel | D38: 50.33% | E38: 1.99 | F38: 2 | G38: 0.30% | H38: 66 | I38: 0.3
A39: =IF(B39="","",2) -> 2 | B39: 0.62847222 | C39: Austin Eckroat | D39: 40.28% | E39: 2.5 | F39: 2.3 | H39: 71
A40: =IF(B40="","",2) -> 2 | B40: 0.62847222 | C40: Tie | D40: 9.39% | E40: 11 | F40: 8.5 | H40: -
A41: =IF(B41="","",2) -> 2 | B41: 0.63541667 | C41: Xander Schauffele | D41: 48.74% | E41: 2.1 | F41: 2.1 | G41: 1.10% | H41: 68 | I41: 1.21
A42: =IF(B42="","",2) -> 2 | B42: 0.63541667 | C42: Ludvig Aberg | D42: 41.90% | E42: 2.4 | F42: 2.15 | H42: 71
A43: =IF(B43="","",2) -> 2 | B43: 0.63541667 | C43: Tie | D43: 9.35% | E43: 11 | F43: 9 | H43: -
A44: =IF(B44="","",2) -> 2 | B44: 0.64236111 | C44: Collin Morikawa | D44: 59.41% | E44: 1.68 | F44: 1.57 | H44: 66
A45: =IF(B45="","",2) -> 2 | B45: 0.64236111 | C45: Sahith Theegala | D45: 31.98% | E45: 3.1 | F45: 3.2 | G45: 0.50% | H45: 68 | I45: -0.5
A46: =IF(B46="","",2) -> 2 | B46: 0.64236111 | C46: Tie | D46: 8.61% | E46: 12 | F46: 9 | H46: -
A47: =IF(B47="","",2) -> 2 | B47: 0.65277778 | C47: Justin Rose | D47: 46.77% | E47: 2.1 | F47: 2.1 | H47: 72
A48: =IF(B48="","",2) -> 2 | B48: 0.65277778 | C48: Min Woo Lee | D48: 43.84% | E48: 2.3 | F48: 2.1 | H48: 71
A49: =IF(B49="","",2) -> 2 | B49: 0.65277778 | C49: Tie | D49: 9.38% | E49: 11 | F49: 9 | H49: -
A50: =IF(B50="","",2) -> 2 | B50: 0.65972222 | C50: Michael Kim | D50: 46.97% | E50: 2.1 | F50: 2 | H50: 71
A51: =IF(B51="","",2) -> 2 | B51: 0.65972222 | C51: Andrew Novak | D51: 43.18% | E51: 2.3 | F51: 2.25 | H51: 65
A52: =IF(B52="","",2) -> 2 | B52: 0.65972222 | C52: Tie | D52: 9.84% | E52: 10 | F52: 8.5 | H52: -
A53: =IF(B53="","",2) -> 2 | B53: 0.66666667 | C53: Maverick McNealy | D53: 51.53% | E53: 1.94 | F53: 1.83 | H53: 65
A54: =IF(B54="","",2) -> 2 | B54: 0.66666667 | C54: Joe Highsmith | D54: 38.92% | E54: 2.6 | F54: 2.5 | H54: 71
A55: =IF(B55="","",2) -> 2 | B55: 0.66666667 | C55: Tie | D55: 9.55% | E55: 10 | F55: 8.5 | H55: -
A56: =IF(B56="","",2) -> 2 | B56: 0.67361111 | C56: Bud Cauley | D56: 46.82% | E56: 2.1 | F56: 2 | H56: 74
A57: =IF(B57="","",2) -> 2 | B57: 0.67361111 | C57: Nick Taylor | D57: 43.86% | E57: 2.3 | F57: 2.38 | G57: 1.60% | H57: 70 | I57: 2.21
A58: =IF(B58="","",2) -> 2 | B58: 0.67361111 | C58: Tie | D58: 9.31% | E58: 11 | F58: 8.5 | H58: -
A59: =IF(B59="","",2) -> 2 | B59: 0.68055556 | C59: Brian Campbell | D59: 45.50% | E59: 2.2 | F59: 2.1 | H59: 70
A60: =IF(B60="","",2) -> 2 | B60: 0.68055556 | C60: Sami Valimaki | D60: 45.15% | E60: 2.2 | F60: 2.15 | H60: 69
A61: =IF(B61="","",2) -> 2 | B61: 0.68055556 | C61: Tie | D61: 9.34% | E61: 11 | F61: 8.5 | H61: -
A62: =IF(B62="","",2) -> 2 | B62: 0.6875 | C62: Matt Kuchar | D62: 49.12% | E62: 2 | F62: 2.1 | G62: 1.40% | H62: 70 | I62: 1.54
A63: =IF(B63="","",2) -> 2 | B63: 0.6875 | C63: Sam Stevens | D63: 41.93% | E63: 2.4 | F63: 2.1 | H63: 73
A64: =IF(B64="","",2) -> 2 | B64: 0.6875 | C64: Tie | D64: 8.94% | E64: 11 | F64: 8.5 | H64: -
A65: =IF(B65="","",2) -> 2 | B65: 0.69444444 | C65: Denny McCarthy | D65: 53.31% | E65: 1.88 | F65: 1.83 | H65: 69
A66: =IF(B66="","",2) -> 2 | B66: 0.69444444 | C66: Max Homa | D66: 37.55% | E66: 2.7 | F66: 2.6 | H66: 72
A67: =IF(B67="","",2) -> 2 | B67: 0.69444444 | C67: Tie | D67: 9.14% | E67: 11 | F67: 8.5 | H67: -
A68: =IF(B68="","",2) -> 2 | B68: 0.70486111 | C68: Sam Burns | D68: 49.03% | E68: 2 | F68: 1.95 | H68: 69
A69: =IF(B69="","",2) -> 2 | B69: 0.70486111 | C69: Christiaan Bezuidenhout | D69: 41.47% | E69: 2.4 | F69: 2.25 | H69: 70
A70: =IF(B70="","",2) -> 2 | B70: 0.70486111 | C70: Tie | D70: 9.49% | E70: 11 | F70: 8.5 | H70: -
A71: =IF(B71="","",2) -> 2 | B71: 0.71180556 | C71: Taylor Pendrith | D71: 53.41% | E71: 1.87 | F71: 1.95 | G71: 2.20% | H71: 71 | I71: 2.09
A72: =IF(B72="","",2) -> 2 | B72: 0.71180556 | C72: Adam Hadwin | D72: 37.51% | E72: 2.7 | F72: 2.5 | H72: 74
A73: =IF(B73="","",2) -> 2 | B73: 0.71180556 | C73: Tie | D73: 9.08% | E73: 11 | F73: 8.5 | H73: -
A74: =IF(B74="","",2) -> 2 | B74: 0.71875 | C74: Sepp Straka | D74: 46.90% | E74: 2.1 | F74: 1.91 | H74: 70
A75: =IF(B75="","",2) -> 2 | B75: 0.71875 | C75: Davis Thompson | D75: 43.74% | E75: 2.3 | F75: 2.38 | G75: 1.50% | H75: 69 | I75: 2.07
A76: =IF(B76="","",2) -> 2 | B76: 0.71875 | C76: Tie | D76: 9.35% | E76: 11 | F76: 8.5 | H76: -
A77: =IF(B77="","",2) -> 2 | B77: 0.72569444 | C77: Akshay Bhatia | D77: 42.91% | E77: 2.3 | F77: 2.1 | H77: 70
A78: =IF(B78="","",2) -> 2 | B78: 0.72569444 | C78: Keegan Bradley | D78: 48.12% | E78: 2.1 | F78: 2.1 | G78: 0.50% | H78: 69 | I78: 0.55
A79: =IF(B79="","",2) -> 2 | B79: 0.72569444 | C79: Tie | D79: 8.96% | E79: 11 | F79: 8.5 | H79: -
A80: =IF(B80="","",2) -> 2 | B80: 0.73263889 | C80: Adam Scott | D80: 54.76% | E80: 1.83 | F80: 1.73 | H80: 70
A81: =IF(B81="","",2) -> 2 | B81: 0.73263889 | C81: Matthieu Pavon | D81: 36.39% | E81: 2.7 | F81: 2.63 | H81: 74
A82: =IF(B82="","",2) -> 2 | B82: 0.73263889 | C82: Tie | D82: 8.85% | E82: 11 | F82: 9 | H82: -
A83: =IF(B83="","",2) -> 2 | B83: 0.73958333 | C83: Matt Fitzpatrick | D83: 47.11% | E83: 2.1 | F83: 1.95 | H83: 70
A84: =IF(B84="","",2) -> 2 | B84: 0.73958333 | C84: Eric Cole | D84: 43.80% | E84: 2.3 | F84: 2.38 | G84: 1.50% | H84: 73 | I84: -1.5
A85: =IF(B85="","",2) -> 2 | B85: 0.73958333 | C85: Tie | D85: 9.08% | E85: 11 | F85: 8.5 | H85: -
A86: =IF(B86="","",2) -> 2 | B86: 0.74652778 | C86: Patrick Cantlay | D86: 54.89% | E86: 1.82 | F86: 1.73 | H86: 69
A87: =IF(B87="","",2) -> 2 | B87: 0.74652778 | C87: Si Woo Kim | D87: 36.08% | E87: 2.8 | F87: 2.63 | H87: 64
A88: =IF(B88="","",2) -> 2 | B88: 0.74652778 | C88: Tie | D88: 9.03% | E88: 11 | F88: 9 | H88: -
A89: =IF(B89="","",2) -> 2 | B89: 0.75694444 | C89: Russell Henley | D89: 55.23% | E89: 1.81 | F89: 1.73 | H89: 68
A90: =IF(B90="","",2) -> 2 | B90: 0.75694444 | C90: Tom Hoge | D90: 35.58% | E90: 2.8 | F90: 2.75 | H90: 70
A91: =IF(B91="","",2) -> 2 | B91: 0.75694444 | C91: Tie | D91: 9.19% | E91: 11 | F91: 9 | H91: -
A92: =IF(B92="","",2) -> 2 | B92: 0.76388889 | C92: Tommy Fleetwood | D92: 45.88% | E92: 2.2 | F92: 2 | H92: 66
A93: =IF(B93="","",2) -> 2 | B93: 0.76388889 | C93: Sungjae Im | D93: 44.91% | E93: 2.2 | F93: 2.2 | H93: 69
A94: =IF(B94="","",2) -> 2 | B94: 0.76388889 | C94: Tie | D94: 9.20% | E94: 11 | F94: 9 | H94: -
A95: =IF(B95="","",2) -> 2 | B95: 0.77083333 | C95: Scottie Scheffler | D95: 63.33% | E95: 1.58 | F95: 1.54 | H95: 70
A96: =IF(B96="","",2) -> 2 | B96: 0.77083333 | C96: Viktor Hovland | D96: 28.08% | E96: 3.6 | F96: 3.4 | H96: 68
A97: =IF(B97="","",2) -> 2 | B97: 0.77083333 | C97: Tie | D97: 8.59% | E97: 12 | F97: 9 | H97: -
A98: =IF(B98="","",2) -> 2 | B98: 0.77777778 | C98: Justin Thomas | D98: 46.18% | E98: 2.2 | F98: 2 | H98: 69
A99: =IF(B99="","",2) -> 2 | B99: 0.77777778 | C99: Corey Conners | D99: 44.56% | E99: 2.2 | F99: 2.3 | G99: 1.00% | H99: 71 | I99: -1
A100: =IF(B100="","",2) -> 2 | B100: 0.77777778 | C100: Tie | D100: 9.25% | E100: 11 | F100: 9 | H100: -
...

Sheet Rd3
A1: Round | B1: Time | C1: Player | D1: Win % | E1: TT Odds | F1: Best Odds | G1: Kelly | H1: Score | I1: P/L
A2: =IF(B2="","",3) -> 3 | B2: 0.53472222 | C2: Joe Highsmith | D2: 53.30% | E2: 1.88 | F2: 1.73 | H2: 69
A3: =IF(B3="","",3) -> 3 | B3: 0.53472222 | C3: Nick Dunlap | D3: 37.62% | E3: 2.7 | F3: 2.8 | G3: 1.50% | H3: 72 | I3: -1.5
A4: =IF(B4="","",3) -> 3 | B4: 0.53472222 | C4: Tie | D4: 9.08% | E4: 11 | F4: 8.5 | H4: -
A5: =IF(B5="","",3) -> 3 | B5: 0.54166667 | C5: Adam Hadwin | D5: 45.07% | E5: 2.2 | F5: 1.91 | H5: 68
A6: =IF(B6="","",3) -> 3 | B6: 0.54166667 | C6: Matthieu Pavon | D6: 45.56% | E6: 2.2 | F6: 2.38 | G6: 3.10% | H6: 68 | I6: -3.1
A7: =IF(B7="","",3) -> 3 | B7: 0.54166667 | C7: Tie | D7: 9.36% | E7: 11 | F7: 8.5 | H7: -
A8: =IF(B8="","",3) -> 3 | B8: 0.54861111 | C8: Taylor Pendrith | D8: 47.82% | E8: 2.1 | F8: 2.1 | G8: 0.20% | H8: 67 | I8: -0.2
A9: =IF(B9="","",3) -> 3 | B9: 0.54861111 | C9: Will Zalatoris | D9: 43.32% | E9: 2.3 | F9: 2.2 | H9: 64
A10: =IF(B10="","",3) -> 3 | B10: 0.54861111 | C10: Tie | D10: 8.85% | E10: 11 | F10: 8.5 | H10: -
A11: =IF(B11="","",3) -> 3 | B11: 0.55555556 | C11: Sam Stevens | D11: 44.01% | E11: 2.3 | F11: 2.1 | H11: 67
A12: =IF(B12="","",3) -> 3 | B12: 0.55555556 | C12: Patrick Rodgers | D12: 47.33% | E12: 2.1 | F12: 2.15 | G12: 0.80% | H12: 70 | I12: -0.8
A13: =IF(B13="","",3) -> 3 | B13: 0.55555556 | C13: Tie | D13: 8.65% | E13: 12 | F13: 8.5 | H13: -
A14: =IF(B14="","",3) -> 3 | B14: 0.5625 | C14: Min Woo Lee | D14: 48.32% | E14: 2.1 | F14: 2 | H14: 71
A15: =IF(B15="","",3) -> 3 | B15: 0.5625 | C15: Bud Cauley | D15: 42.80% | E15: 2.3 | F15: 2.2 | H15: 70
A16: =IF(B16="","",3) -> 3 | B16: 0.5625 | C16: Tie | D16: 8.87% | E16: 11 | F16: 8.5 | H16: -
A17: =IF(B17="","",3) -> 3 | B17: 0.56944444 | C17: Sahith Theegala | D17: 47.70% | E17: 2.1 | F17: 1.95 | H17: 73
A18: =IF(B18="","",3) -> 3 | B18: 0.56944444 | C18: Max Homa | D18: 43.44% | E18: 2.3 | F18: 2.3 | H18: 69
A19: =IF(B19="","",3) -> 3 | B19: 0.56944444 | C19: Tie | D19: 8.85% | E19: 11 | F19: 8.5 | H19: -
A20: =IF(B20="","",3) -> 3 | B20: 0.57638889 | C20: Michael Kim | D20: 47.78% | E20: 2.1 | F20: 1.85 | H20: 70
A21: =IF(B21="","",3) -> 3 | B21: 0.57638889 | C21: Austin Eckroat | D21: 43.41% | E21: 2.3 | F21: 2.4 | G21: 1.50% | H21: 67 | I21: 2.1
A22: =IF(B22="","",3) -> 3 | B22: 0.57638889 | C22: Tie | D22: 8.80% | E22: 11 | F22: 8.5 | H22: -
A23: =IF(B23="","",3) -> 3 | B23: 0.58333333 | C23: Byeong Hun An | D23: 41.65% | E23: 2.4 | F23: 2.15 | H23: 63
A24: =IF(B24="","",3) -> 3 | B24: 0.58333333 | C24: Tony Finau | D24: 48.97% | E24: 2 | F24: 2.2 | G24: 3.20% | H24: 68 | I24: -3.2
A25: =IF(B25="","",3) -> 3 | B25: 0.58333333 | C25: Tie | D25: 9.37% | E25: 11 | F25: 8.5 | H25: -
A26: =IF(B26="","",3) -> 3 | B26: 0.59375 | C26: Corey Conners | D26: 52.77% | E26: 1.9 | F26: 1.87 | H26: 71
A27: =IF(B27="","",3) -> 3 | B27: 0.59375 | C27: J.J. Spaun | D27: 38.15% | E27: 2.6 | F27: 2.38 | H27: 71
A28: =IF(B28="","",3) -> 3 | B28: 0.59375 | C28: Tie | D28: 9.08% | E28: 11 | F28: 8.5 | H28: -
A29: =IF(B29="","",3) -> 3 | B29: 0.60069444 | C29: Tom Hoge | D29: 46.25% | E29: 2.2 | F29: 1.95 | H29: 66
A30: =IF(B30="","",3) -> 3 | B30: 0.60069444 | C30: Eric Cole | D30: 44.62% | E30: 2.2 | F30: 2.45 | G30: 3.20% | H30: 67 | I30: -3.2
A31: =IF(B31="","",3) -> 3 | B31: 0.60069444 | C31: Tie | D31: 9.12% | E31: 11 | F31: 8.5 | H31: -
A32: =IF(B32="","",3) -> 3 | B32: 0.60763889 | C32: Sepp Straka | D32: 46.92% | E32: 2.1 | F32: 1.91 | H32: 67
A33: =IF(B33="","",3) -> 3 | B33: 0.60763889 | C33: Davis Thompson | D33: 43.84% | E33: 2.3 | F33: 2.38 | G33: 1.60% | H33: 68 | I33: -1.6
A34: =IF(B34="","",3) -> 3 | B34: 0.60763889 | C34: Tie | D34: 9.23% | E34: 11 | F34: 8.5 | H34: -
A35: =IF(B35="","",3) -> 3 | B35: 0.61458333 | C35: Nick Taylor | D35: 43.94% | E35: 2.3 | F35: 2.05 | H35: 68
A36: =IF(B36="","",3) -> 3 | B36: 0.61458333 | C36: Christiaan Bezuidenhout | D36: 46.89% | E36: 2.1 | F36: 2.15 | G36: 0.40% | H36: 74 | I36: -0.4
A37: =IF(B37="","",3) -> 3 | B37: 0.61458333 | C37: Tie | D37: 9.16% | E37: 11 | F37: 8.5 | H37: -
A38: =IF(B38="","",3) -> 3 | B38: 0.62152778 | C38: Ludvig Aberg | D38: 57.91% | E38: 1.73 | F38: 1.54 | H38: 71
A39: =IF(B39="","",3) -> 3 | B39: 0.62152778 | C39: Cameron Young | D39: 33.42% | E39: 3 | F39: 3.1 | G39: 0.90% | H39: 68 | I39: 1.89
A40: =IF(B40="","",3) -> 3 | B40: 0.62152778 | C40: Tie | D40: 8.67% | E40: 12 | F40: 9 | H40: -
A41: =IF(B41="","",3) -> 3 | B41: 0.62847222 | C41: Jacob Bridgeman | D41: 44.14% | E41: 2.3 | F41: 2 | H41: 69
A42: =IF(B42="","",3) -> 3 | B42: 0.62847222 | C42: Gary Woodland | D42: 46.71% | E42: 2.1 | F42: 2.3 | G42: 2.90% | H42: 72 | I42: -2.9
A43: =IF(B43="","",3) -> 3 | B43: 0.62847222 | C43: Tie | D43: 9.14% | E43: 11 | F43: 8.5 | H43: -
A44: =IF(B44="","",3) -> 3 | B44: 0.63541667 | C44: Robert MacIntyre | D44: 45.57% | E44: 2.2 | F44: 2 | H44: 73
A45: =IF(B45="","",3) -> 3 | B45: 0.63541667 | C45: Justin Rose | D45: 45.42% | E45: 2.2 | F45: 2.25 | G45: 0.90% | H45: 68 | I45: 1.13
A46: =IF(B46="","",3) -> 3 | B46: 0.63541667 | C46: Tie | D46: 9.00% | E46: 11 | F46: 8.5 | H46: -
A47: =IF(B47="","",3) -> 3 | B47: 0.64583333 | C47: Harris English | D47: 47.15% | E47: 2.1 | F47: 2.2 | G47: 1.60% | H47: 72 | I47: -1.6
A48: =IF(B48="","",3) -> 3 | B48: 0.64583333 | C48: Rickie Fowler | D48: 43.68% | E48: 2.3 | F48: 2.3 | G48: 0.20% | H48: 72 | I48: -0.2
A49: =IF(B49="","",3) -> 3 | B49: 0.64583333 | C49: Tie | D49: 9.16% | E49: 11 | F49: 8.5 | H49: -
A50: =IF(B50="","",3) -> 3 | B50: 0.65277778 | C50: Shane Lowry | D50: 50.27% | E50: 1.99 | F50: 1.85 | H50: 67
A51: =IF(B51="","",3) -> 3 | B51: 0.65277778 | C51: Lucas Glover | D51: 40.64% | E51: 2.5 | F51: 2.4 | H51: 72
A52: =IF(B52="","",3) -> 3 | B52: 0.65277778 | C52: Tie | D52: 9.09% | E52: 11 | F52: 8.5 | H52: -
A53: =IF(B53="","",3) -> 3 | B53: 0.65972222 | C53: Sungjae Im | D53: 50.64% | E53: 1.97 | F53: 1.73 | H53: 68
A54: =IF(B54="","",3) -> 3 | B54: 0.65972222 | C54: Adam Scott | D54: 40.06% | E54: 2.5 | F54: 2.63 | G54: 1.60% | H54: 69 | I54: -1.6
A55: =IF(B55="","",3) -> 3 | B55: 0.65972222 | C55: Tie | D55: 9.30% | E55: 11 | F55: 8.5 | H55: -
A56: =IF(B56="","",3) -> 3 | B56: 0.66666667 | C56: Akshay Bhatia | D56: 44.28% | E56: 2.3 | F56: 2 | H56: 70
A57: =IF(B57="","",3) -> 3 | B57: 0.66666667 | C57: Sam Burns | D57: 46.30% | E57: 2.2 | F57: 2.5 | G57: 5.30% | H57: 69 | I57: 7.95
A58: =IF(B58="","",3) -> 3 | B58: 0.66666667 | C58: Tie | D58: 9.41% | E58: 11 | F58: 8.5 | H58: -
A59: =IF(B59="","",3) -> 3 | B59: 0.67361111 | C59: Aaron Rai | D59: 51.15% | E59: 1.96 | F59: 1.91 | H59: 71
A60: =IF(B60="","",3) -> 3 | B60: 0.67361111 | C60: Chris Kirk | D60: 40.10% | E60: 2.5 | F60: 2.75 | G60: 2.90% | H60: 69 | I60: 5.08
A61: =IF(B61="","",3) -> 3 | B61: 0.67361111 | C61: Tie | D61: 8.75% | E61: 11 | F61: 8.5 | H61: -
A62: =IF(B62="","",3) -> 3 | B62: 0.68055556 | C62: Thomas Detry | D62: 48.15% | E62: 2.1 | F62: 2.1 | G62: 0.50% | H62: 69 | I62: -0.5
A63: =IF(B63="","",3) -> 3 | B63: 0.68055556 | C63: Ryo Hisatsune | D63: 42.49% | E63: 2.4 | F63: 2.15 | H63: 68
A64: =IF(B64="","",3) -> 3 | B64: 0.68055556 | C64: Tie | D64: 9.35% | E64: 11 | F64: 8.5 | H64: -
A65: =IF(B65="","",3) -> 3 | B65: 0.6875 | C65: Daniel Berger | D65: 42.40% | E65: 2.4 | F65: 2.1 | H65: 68
A66: =IF(B66="","",3) -> 3 | B66: 0.6875 | C66: Jordan Spieth | D66: 48.67% | E66: 2.1 | F66: 2.15 | G66: 2.00% | H66: 69 | I66: -2
A67: =IF(B67="","",3) -> 3 | B67: 0.6875 | C67: Tie | D67: 8.92% | E67: 11 | F67: 8.5 | H67: -
A68: =IF(B68="","",3) -> 3 | B68: 0.69791667 | C68: Viktor Hovland | D68: 45.02% | E68: 2.2 | F68: 2.05 | H68: 68
A69: =IF(B69="","",3) -> 3 | B69: 0.69791667 | C69: Denny McCarthy | D69: 45.55% | E69: 2.2 | F69: 2.2 | G69: 0.10% | H69: 72 | I69: -0.1
A70: =IF(B70="","",3) -> 3 | B70: 0.69791667 | C70: Tie | D70: 9.42% | E70: 11 | F70: 8.5 | H70: -
A71: =IF(B71="","",3) -> 3 | B71: 0.70486111 | C71: Xander Schauffele | D71: 55.75% | E71: 1.79 | F71: 1.62 | H71: 71
A72: =IF(B72="","",3) -> 3 | B72: 0.70486111 | C72: Matt Kuchar | D72: 35.45% | E72: 2.8 | F72: 3 | G72: 1.60% | H72: 71 | I72: -1.6
A73: =IF(B73="","",3) -> 3 | B73: 0.70486111 | C73: Tie | D73: 8.80% | E73: 11 | F73: 9 | H73: -
A74: =IF(B74="","",3) -> 3 | B74: 0.71180556 | C74: Max Greyserman | D74: 46.48% | E74: 2.2 | F74: 2.25 | G74: 1.80% | H74: 69 | I74: -1.8
A75: =IF(B75="","",3) -> 3 | B75: 0.71180556 | C75: Billy Horschel | D75: 44.49% | E75: 2.2 | F75: 2.2 | H75: 69
A76: =IF(B76="","",3) -> 3 | B76: 0.71180556 | C76: Tie | D76: 9.02% | E76: 11 | F76: 9 | H76: -
A77: =IF(B77="","",3) -> 3 | B77: 0.71875 | C77: Jason Day | D77: 48.69% | E77: 2.1 | F77: 1.83 | H77: 70
A78: =IF(B78="","",3) -> 3 | B78: 0.71875 | C78: Stephan Jaeger | D78: 42.06% | E78: 2.4 | F78: 2.5 | G78: 1.70% | H78: 69 | I78: 2.55
A79: =IF(B79="","",3) -> 3 | B79: 0.71875 | C79: Tie | D79: 9.24% | E79: 11 | F79: 8.5 | H79: -
A80: =IF(B80="","",3) -> 3 | B80: 0.72569444 | C80: Patrick Cantlay | D80: 54.41% | E80: 1.84 | F80: 1.73 | H80: 67
A81: =IF(B81="","",3) -> 3 | B81: 0.72569444 | C81: Matt Fitzpatrick | D81: 36.48% | E81: 2.7 | F81: 2.63 | H81: 68
A82: =IF(B82="","",3) -> 3 | B82: 0.72569444 | C82: Tie | D82: 9.11% | E82: 11 | F82: 8.5 | H82: -
A83: =IF(B83="","",3) -> 3 | B83: 0.73263889 | C83: Keegan Bradley | D83: 54.15% | E83: 1.85 | F83: 1.8 | H83: 67
A84: =IF(B84="","",3) -> 3 | B84: 0.73263889 | C84: Sami Valimaki | D84: 36.41% | E84: 2.7 | F84: 2.5 | H84: 71
A85: =IF(B85="","",3) -> 3 | B85: 0.73263889 | C85: Tie | D85: 9.44% | E85: 11 | F85: 8.5 | H85: -
A86: =IF(B86="","",3) -> 3 | B86: 0.73958333 | C86: Brian Campbell | D86: 46.46% | E86: 2.2 | F86: 2.1 | H86: 68
A87: =IF(B87="","",3) -> 3 | B87: 0.73958333 | C87: Cam Davis | D87: 44.37% | E87: 2.3 | F87: 2.2 | H87: 67
A88: =IF(B88="","",3) -> 3 | B88: 0.73958333 | C88: Tie | D88: 9.16% | E88: 11 | F88: 8.5 | H88: -
A89: =IF(B89="","",3) -> 3 | B89: 0.75 | C89: Ryan Gerard | D89: 55.80% | E89: 1.79 | F89: 1.85 | G89: 1.90% | H89: 71 | I89: -1.9
A90: =IF(B90="","",3) -> 3 | B90: 0.75 | C90: Karl Vilips | D90: 35.32% | E90: 2.8 | F90: 2.75 | H90: 71
A91: =IF(B91="","",3) -> 3 | B91: 0.75 | C91: Tie | D91: 8.88% | E91: 11 | F91: 8.5 | H91: -
A92: =IF(B92="","",3) -> 3 | B92: 0.75694444 | C92: Collin Morikawa | D92: 54.43% | E92: 1.84 | F92: 1.67 | H92: 77
A93: =IF(B93="","",3) -> 3 | B93: 0.75694444 | C93: Maverick McNealy | D93: 36.29% | E93: 2.8 | F93: 2.75 | H93: 65
A94: =IF(B94="","",3) -> 3 | B94: 0.75694444 | C94: Tie | D94: 9.28% | E94: 11 | F94: 8.5 | H94: -
A95: =IF(B95="","",3) -> 3 | B95: 0.76388889 | C95: J.T. Poston | D95: 44.66% | E95: 2.2 | F95: 2.05 | H95: 71
A96: =IF(B96="","",3) -> 3 | B96: 0.76388889 | C96: Brian Harman | D96: 45.92% | E96: 2.2 | F96: 2.2 | G96: 0.40% | H96: 66 | I96: 0.48
A97: =IF(B97="","",3) -> 3 | B97: 0.76388889 | C97: Tie | D97: 9.41% | E97: 11 | F97: 8.5 | H97: -
A98: =IF(B98="","",3) -> 3 | B98: 0.77083333 | C98: Scottie Scheffler | D98: 61.71% | E98: 1.62 | F98: 1.48 | H98: 68
A99: =IF(B99="","",3) -> 3 | B99: 0.77083333 | C99: Wyndham Clark | D99: 29.62% | E99: 3.4 | F99: 3.5 | G99: 0.70% | H99: 69 | I99: -0.7
A100: =IF(B100="","",3) -> 3 | B100: 0.77083333 | C100: Tie | D100: 8.67% | E100: 12 | F100: 9 | H100: -
...

Sheet Rd4
A1: Round | B1: Time | C1: Player | D1: Win % | E1: TT Odds | F1: Best Odds | G1: Kelly | H1: Score | I1: P/L
A2: =IF(B2="","",4) -> 4 | B2: 0.53125 | C2: Joe Highsmith | D2: 52.82% | E2: 1.89 | F2: 1.67 | H2: 74
A3: =IF(B3="","",4) -> 4 | B3: 0.53125 | C3: Nick Dunlap | D3: 37.78% | E3: 2.6 | F3: 2.8 | G3: 1.60% | H3: 69 | I3: 2.88
A4: =IF(B4="","",4) -> 4 | B4: 0.53125 | C4: Tie | D4: 9.40% | E4: 11 | F4: 8.5 | H4: -
A5: =IF(B5="","",4) -> 4 | B5: 0.53819444 | C5: Sahith Theegala | D5: 46.83% | E5: 2.1 | F5: 1.95 | H5: 69
A6: =IF(B6="","",4) -> 4 | B6: 0.53819444 | C6: Christiaan Bezuidenhout | D6: 43.60% | E6: 2.3 | F6: 2.3 | G6: 0.10% | H6: 65 | I6: 0.13
A7: =IF(B7="","",4) -> 4 | B7: 0.53819444 | C7: Tie | D7: 9.56% | E7: 10 | F7: 8.5 | H7: -
A8: =IF(B8="","",4) -> 4 | B8: 0.54513889 | C8: Min Woo Lee | D8: 49.87% | E8: 2 | F8: 1.85 | H8: 68
A9: =IF(B9="","",4) -> 4 | B9: 0.54513889 | C9: Patrick Rodgers | D9: 40.48% | E9: 2.5 | F9: 2.4 | H9: 65
A10: =IF(B10="","",4) -> 4 | B10: 0.54513889 | C10: Tie | D10: 9.64% | E10: 10 | F10: 8.5 | H10: -
A11: =IF(B11="","",4) -> 4 | B11: 0.55208333 | C11: Bud Cauley | D11: 50.20% | E11: 1.99 | F11: 1.8 | H11: 64
A12: =IF(B12="","",4) -> 4 | B12: 0.55208333 | C12: Adam Hadwin | D12: 40.73% | E12: 2.5 | F12: 2.7 | G12: 2.90% | H12: 68 | I12: -2.9
A13: =IF(B13="","",4) -> 4 | B13: 0.55208333 | C13: Tie | D13: 9.07% | E13: 11 | F13: 8.5 | H13: -
A14: =IF(B14="","",4) -> 4 | B14: 0.55902778 | C14: Collin Morikawa | D14: 63.93% | E14: 1.56 | F14: 1.45 | H14: 69
A15: =IF(B15="","",4) -> 4 | B15: 0.55902778 | C15: Matthieu Pavon | D15: 27.47% | E15: 3.6 | F15: 4 | G15: 1.60% | H15: 66 | I15: 4.8
A16: =IF(B16="","",4) -> 4 | B16: 0.55902778 | C16: Tie | D16: 8.60% | E16: 12 | F16: 9.5 | H16: -
A17: =IF(B17="","",4) -> 4 | B17: 0.56597222 | C17: Robert MacIntyre | D17: 45.74% | E17: 2.2 | F17: 2 | H17: 71
A18: =IF(B18="","",4) -> 4 | B18: 0.56597222 | C18: J.J. Spaun | D18: 44.69% | E18: 2.2 | F18: 2.15 | H18: 67
A19: =IF(B19="","",4) -> 4 | B19: 0.56597222 | C19: Tie | D19: 9.56% | E19: 10 | F19: 8.5 | H19: -
A20: =IF(B20="","",4) -> 4 | B20: 0.57291667 | C20: Corey Conners | D20: 51.62% | E20: 1.94 | F20: 1.83 | H20: 68
A21: =IF(B21="","",4) -> 4 | B21: 0.57291667 | C21: Michael Kim | D21: 38.72% | E21: 2.6 | F21: 2.4 | H21: 69
A22: =IF(B22="","",4) -> 4 | B22: 0.57291667 | C22: Tie | D22: 9.66% | E22: 10 | F22: 8.5 | H22: -
A23: =IF(B23="","",4) -> 4 | B23: 0.57986111 | C23: Harris English | D23: 47.28% | E23: 2.1 | F23: 2 | H23: 72
A24: =IF(B24="","",4) -> 4 | B24: 0.57986111 | C24: Rickie Fowler | D24: 43.64% | E24: 2.3 | F24: 2.3 | G24: 0.10% | H24: 73 | I24: -0.1
A25: =IF(B25="","",4) -> 4 | B25: 0.57986111 | C25: Tie | D25: 9.07% | E25: 11 | F25: 8.5 | H25: -
A26: =IF(B26="","",4) -> 4 | B26: 0.58680556 | C26: Ludvig Aberg | D26: 57.03% | E26: 1.75 | F26: 1.62 | H26: 70
A27: =IF(B27="","",4) -> 4 | B27: 0.58680556 | C27: Gary Woodland | D27: 33.57% | E27: 3 | F27: 3 | G27: 0.20% | H27: 71 | I27: -0.2
A28: =IF(B28="","",4) -> 4 | B28: 0.58680556 | C28: Tie | D28: 9.40% | E28: 11 | F28: 9 | H28: -
A29: =IF(B29="","",4) -> 4 | B29: 0.59722222 | C29: Taylor Pendrith | D29: 50.59% | E29: 1.98 | F29: 2.05 | G29: 1.80% | H29: 68 | I29: 1.89
A30: =IF(B30="","",4) -> 4 | B30: 0.59722222 | C30: Max Homa | D30: 40.49% | E30: 2.5 | F30: 2.25 | H30: 75
A31: =IF(B31="","",4) -> 4 | B31: 0.59722222 | C31: Tie | D31: 8.92% | E31: 11 | F31: 8.5 | H31: -
A32: =IF(B32="","",4) -> 4 | B32: 0.60416667 | C32: Lucas Glover | D32: 40.71% | E32: 2.5 | F32: 2.1 | H32: 72
A33: =IF(B33="","",4) -> 4 | B33: 0.60416667 | C33: Tony Finau | D33: 49.99% | E33: 2 | F33: 2.2 | G33: 4.20% | H33: 68 | I33: 5.04
A34: =IF(B34="","",4) -> 4 | B34: 0.60416667 | C34: Tie | D34: 9.29% | E34: 11 | F34: 8.5 | H34: -
A35: =IF(B35="","",4) -> 4 | B35: 0.61111111 | C35: Denny McCarthy | D35: 51.01% | E35: 1.96 | F35: 1.83 | H35: 71
A36: =IF(B36="","",4) -> 4 | B36: 0.61111111 | C36: Sam Stevens | D36: 39.63% | E36: 2.5 | F36: 2.15 | H36: 71
A37: =IF(B37="","",4) -> 4 | B37: 0.61111111 | C37: Tie | D37: 9.36% | E37: 11 | F37: 8.5 | H37: -
A38: =IF(B38="","",4) -> 4 | B38: 0.61805556 | C38: Aaron Rai | D38: 50.49% | E38: 1.98 | F38: 1.85 | H38: 69
A39: =IF(B39="","",4) -> 4 | B39: 0.61805556 | C39: Jacob Bridgeman | D39: 40.12% | E39: 2.5 | F39: 2.3 | H39: 73
A40: =IF(B40="","",4) -> 4 | B40: 0.61805556 | C40: Tie | D40: 9.39% | E40: 11 | F40: 8.5 | H40: -
A41: =IF(B41="","",4) -> 4 | B41: 0.625 | C41: Will Zalatoris | D41: 49.36% | E41: 2 | F41: 1.91 | H41: 72
A42: =IF(B42="","",4) -> 4 | B42: 0.625 | C42: Austin Eckroat | D42: 41.40% | E42: 2.4 | F42: 2.38 | H42: 68
A43: =IF(B43="","",4) -> 4 | B43: 0.625 | C43: Tie | D43: 9.23% | E43: 11 | F43: 8.5 | H43: -
A44: =IF(B44="","",4) -> 4 | B44: 0.63194444 | C44: Xander Schauffele | D44: 58.84% | E44: 1.7 | F44: 1.67 | H44: 67
A45: =IF(B45="","",4) -> 4 | B45: 0.63194444 | C45: Matt Kuchar | D45: 32.34% | E45: 3.1 | F45: 2.88 | H45: 69
A46: =IF(B46="","",4) -> 4 | B46: 0.63194444 | C46: Tie | D46: 8.82% | E46: 11 | F46: 9 | H46: -
A47: =IF(B47="","",4) -> 4 | B47: 0.63888889 | C47: Akshay Bhatia | D47: 51.51% | E47: 1.94 | F47: 1.8 | H47: 71
A48: =IF(B48="","",4) -> 4 | B48: 0.63888889 | C48: Cameron Young | D48: 39.47% | E48: 2.5 | F48: 2.6 | G48: 0.80% | H48: 73 | I48: -0.8
A49: =IF(B49="","",4) -> 4 | B49: 0.63888889 | C49: Tie | D49: 9.02% | E49: 11 | F49: 8.5 | H49: -
A50: =IF(B50="","",4) -> 4 | B50: 0.64930556 | C50: Davis Thompson | D50: 48.11% | E50: 2.1 | F50: 1.95 | H50: 68
A51: =IF(B51="","",4) -> 4 | B51: 0.64930556 | C51: Nick Taylor | D51: 42.35% | E51: 2.4 | F51: 2.25 | H51: 72
A52: =IF(B52="","",4) -> 4 | B52: 0.64930556 | C52: Tie | D52: 9.53% | E52: 10 | F52: 8.5 | H52: -
A53: =IF(B53="","",4) -> 4 | B53: 0.65625 | C53: Ryan Gerard | D53: 49.60% | E53: 2 | F53: 1.83 | H53: 69
A54: =IF(B54="","",4) -> 4 | B54: 0.65625 | C54: Karl Vilips | D54: 40.98% | E54: 2.4 | F54: 2.63 | G54: 2.40% | H54: 74 | I54: -2.4
A55: =IF(B55="","",4) -> 4 | B55: 0.65625 | C55: Tie | D55: 9.41% | E55: 11 | F55: 8.5 | H55: -
A56: =IF(B56="","",4) -> 4 | B56: 0.66319444 | C56: Jason Day | D56: 55.85% | E56: 1.79 | F56: 1.73 | H56: 73
A57: =IF(B57="","",4) -> 4 | B57: 0.66319444 | C57: Sami Valimaki | D57: 35.39% | E57: 2.8 | F57: 2.63 | H57: 68
A58: =IF(B58="","",4) -> 4 | B58: 0.66319444 | C58: Tie | D58: 8.76% | E58: 11 | F58: 8.5 | H58: -
A59: =IF(B59="","",4) -> 4 | B59: 0.67013889 | C59: Thomas Detry | D59: 46.91% | E59: 2.1 | F59: 1.95 | H59: 70
A60: =IF(B60="","",4) -> 4 | B60: 0.67013889 | C60: Chris Kirk | D60: 43.47% | E60: 2.3 | F60: 2.25 | H60: 68
A61: =IF(B61="","",4) -> 4 | B61: 0.67013889 | C61: Tie | D61: 9.61% | E61: 10 | F61: 8.5 | H61: -
A62: =IF(B62="","",4) -> 4 | B62: 0.67708333 | C62: Sam Burns | D62: 46.49% | E62: 2.2 | F62: 2 | H62: 67
A63: =IF(B63="","",4) -> 4 | B63: 0.67708333 | C63: Adam Scott | D63: 43.97% | E63: 2.3 | F63: 2.2 | H63: 73
A64: =IF(B64="","",4) -> 4 | B64: 0.67708333 | C64: Tie | D64: 9.53% | E64: 10 | F64: 8.5 | H64: -
A65: =IF(B65="","",4) -> 4 | B65: 0.68402778 | C65: Sepp Straka | D65: 46.93% | E65: 2.1 | F65: 1.91 | H65: 67
A66: =IF(B66="","",4) -> 4 | B66: 0.68402778 | C66: Justin Rose | D66: 43.30% | E66: 2.3 | F66: 2.38 | G66: 1.10% | H66: 72 | I66: -1.1
A67: =IF(B67="","",4) -> 4 | B67: 0.68402778 | C67: Tie | D67: 9.76% | E67: 10 | F67: 8.5 | H67: -
A68: =IF(B68="","",4) -> 4 | B68: 0.69097222 | C68: J.T. Poston | D68: 44.77% | E68: 2.2 | F68: 1.87 | H68: 67
A69: =IF(B69="","",4) -> 4 | B69: 0.69097222 | C69: Eric Cole | D69: 46.16% | E69: 2.2 | F69: 2.38 | G69: 3.60% | H69: 68 | I69: -3.6
A70: =IF(B70="","",4) -> 4 | B70: 0.69097222 | C70: Tie | D70: 9.06% | E70: 11 | F70: 8.5 | H70: -
A71: =IF(B71="","",4) -> 4 | B71: 0.70138889 | C71: Billy Horschel | D71: 45.55% | E71: 2.2 | F71: 2.2 | G71: 0.10% | H71: 70 | I71: 0.12
A72: =IF(B72="","",4) -> 4 | B72: 0.70138889 | C72: Stephan Jaeger | D72: 44.85% | E72: 2.2 | F72: 2.25 | G72: 0.40% | H72: 71 | I72: -0.4
A73: =IF(B73="","",4) -> 4 | B73: 0.70138889 | C73: Tie | D73: 9.59% | E73: 10 | F73: 8.5 | H73: -
A74: =IF(B74="","",4) -> 4 | B74: 0.70833333 | C74: Jordan Spieth | D74: 52.78% | E74: 1.89 | F74: 1.83 | H74: 69
A75: =IF(B75="","",4) -> 4 | B75: 0.70833333 | C75: Max Greyserman | D75: 37.90% | E75: 2.6 | F75: 2.5 | H75: 70
A76: =IF(B76="","",4) -> 4 | B76: 0.70833333 | C76: Tie | D76: 9.32% | E76: 11 | F76: 8.5 | H76: -
A77: =IF(B77="","",4) -> 4 | B77: 0.71527778 | C77: Sungjae Im | D77: 55.34% | E77: 1.81 | F77: 1.73 | H77: 67
A78: =IF(B78="","",4) -> 4 | B78: 0.71527778 | C78: Ryo Hisatsune | D78: 35.24% | E78: 2.8 | F78: 2.6 | H78: 69
A79: =IF(B79="","",4) -> 4 | B79: 0.71527778 | C79: Tie | D79: 9.42% | E79: 11 | F79: 8.5 | H79: -
A80: =IF(B80="","",4) -> 4 | B80: 0.72222222 | C80: Viktor Hovland | D80: 48.84% | E80: 2 | F80: 1.73 | H80: 69
A81: =IF(B81="","",4) -> 4 | B81: 0.72222222 | C81: Tom Hoge | D81: 41.88% | E81: 2.4 | F81: 2.4 | G81: 0.20% | H81: 69 | I81: -0.2
A82: =IF(B82="","",4) -> 4 | B82: 0.72222222 | C82: Tie | D82: 9.27% | E82: 11 | F82: 8.5 | H82: -
A83: =IF(B83="","",4) -> 4 | B83: 0.72916667 | C83: Shane Lowry | D83: 45.91% | E83: 2.2 | F83: 2 | H83: 70
A84: =IF(B84="","",4) -> 4 | B84: 0.72916667 | C84: Daniel Berger | D84: 44.44% | E84: 2.3 | F84: 2.2 | H84: 65
A85: =IF(B85="","",4) -> 4 | B85: 0.72916667 | C85: Tie | D85: 9.64% | E85: 10 | F85: 8.5 | H85: -
A86: =IF(B86="","",4) -> 4 | B86: 0.73611111 | C86: Wyndham Clark | D86: 48.18% | E86: 2.1 | F86: 2 | H86: 72
A87: =IF(B87="","",4) -> 4 | B87: 0.73611111 | C87: Byeong Hun An | D87: 42.73% | E87: 2.3 | F87: 2.1 | H87: 73
A88: =IF(B88="","",4) -> 4 | B88: 0.73611111 | C88: Tie | D88: 9.08% | E88: 11 | F88: 8.5 | H88: -
A89: =IF(B89="","",4) -> 4 | B89: 0.74305556 | C89: Matt Fitzpatrick | D89: 49.92% | E89: 2 | F89: 1.85 | H89: 74
A90: =IF(B90="","",4) -> 4 | B90: 0.74305556 | C90: Brian Campbell | D90: 40.59% | E90: 2.5 | F90: 2.38 | H90: 73
A91: =IF(B91="","",4) -> 4 | B91: 0.74305556 | C91: Tie | D91: 9.48% | E91: 11 | F91: 8.5 | H91: -
A92: =IF(B92="","",4) -> 4 | B92: 0.75347222 | C92: Mackenzie Hughes | D92: 51.87% | E92: 1.93 | F92: 1.67 | H92: 67
A93: =IF(B93="","",4) -> 4 | B93: 0.75347222 | C93: Cam Davis | D93: 38.40% | E93: 2.6 | F93: 2.3 | H93: 71
A94: =IF(B94="","",4) -> 4 | B94: 0.75347222 | C94: Tie | D94: 9.73% | E94: 10 | F94: 8.5 | H94: -
A95: =IF(B95="","",4) -> 4 | B95: 0.76041667 | C95: Patrick Cantlay | D95: 50.97% | E95: 1.96 | F95: 1.75 | H95: 71
A96: =IF(B96="","",4) -> 4 | B96: 0.76041667 | C96: Keegan Bradley | D96: 39.92% | E96: 2.5 | F96: 2.5 | H96: 72
A97: =IF(B97="","",4) -> 4 | B97: 0.76041667 | C97: Tie | D97: 9.11% | E97: 11 | F97: 8.5 | H97: -
A98: =IF(B98="","",4) -> 4 | B98: 0.76736111 | C98: Scottie Scheffler | D98: 58.77% | E98: 1.7 | F98: 1.48 | H98: 70
A99: =IF(B99="","",4) -> 4 | B99: 0.76736111 | C99: Russell Henley | D99: 32.33% | E99: 3.1 | F99: 2.88 | H99: 70
A100: =IF(B100="","",4) -> 4 | B100: 0.76736111 | C100: Tie | D100: 8.90% | E100: 11 | F100: 8.5 | H100: -
...

Sheet Picks
A1: Player | B1: TTWin | C1: TTOdds | D1: BestOdds | E1: Kelly | F1: Rank | G1: Result | H1: P/L | I1: Full P/L | J1: E/W Play | L1: FRL: | M1: Player | N1: TTWin | O1: TTOdds | P1: BestOdds | Q1: Kelly | R1: Rank | S1: Result | T1: P/L | U1: Full P/L | V1: E/W Play
A2: =IF('Rd1'!C2="","",'Rd1'!C2) -> Bud Cauley | B2: =IF('Rd1'!D2="","",VALUE('Rd1'!D2)) -> 0.4601 | C2: =IF('Rd1'!E2="","",'Rd1'!E2) -> 2.2 | D2: =IF('Rd1'!F2="","",'Rd1'!F2) -> 1.95 | E2: =IF(D2="","",IF(ROUND((B2*(D2-1)-(1-B2))/(D2-1),3)<=0,"",ROUND((B2*(D2-1)-(1-B2))/(D2-1),3))) | F2: {=IF(E2="","",RANK(E2, $E$2:$E$241) + COUNTIFS($E$2:$E$241, E2, $D$2:$D$241, "<"&D2) + COUNTIFS($E$2:$E$241, E2, $D$2:$D$241, D2, $A$2:$A$241, "<"&A2))} | G2: =IF('Rd1'!H2="","",'Rd1'!H2) -> 69 | H2: =IF(OR(F2="",G2="",F2>3),"",IF(G2=1,(IF(COUNTIFS(G:G,"<="&G2)<=1,1,(1-COUNTIFS(G:G,"<"&G2))/COUNTIFS(G:G,G2)))*(1+VALUE(MID(J2,FIND(": ",J2)+2,FIND("/",J2)-FIND(":",J2)-2))-1)+(1+VALUE(MID(J2,FIND(": ",J2)+2,FIND("/",J2)-FIND(":",J2)-2))-1)/VALUE(RIGHT(J2,1)),IF(G2<=VALUE(MID(J2,FIND(", ",J2)+2,IF(MID(J2,FIND(", ",J2)+2,1)="1",2,1))),(IF(COUNTIFS(G:G,"<="&G2)<=VALUE(MID(J2,FIND(", ",J2)+2,IF(MID(J2,FIND(", ",J2)+2,1)="1",2,1))),1,(VALUE(MID(J2,FIND(", ",J2)+2,IF(MID(J2,FIND(", ",J2)+2,1)="1",2,1)))-COUNTIFS(G:G,"<"&G2))/COUNTIFS(G:G,G2)))*(1*(1+VALUE(MID(J2,FIND(": ",J2)+2,FIND("/",J2)-FIND(":",J2)-2))-1)/VALUE(RIGHT(J2,1))+1)-2,-2))) | I2: =IF(OR(E2="",G2=""),"",IF(G2=1,(IF(COUNTIFS(G:G,"<="&G2)<=1,1,(1-COUNTIFS(G:G,"<"&G2))/COUNTIFS(G:G,G2)))*(1+VALUE(MID(J2,FIND(": ",J2)+2,FIND("/",J2)-FIND(":",J2)-2))-1)+(1+VALUE(MID(J2,FIND(": ",J2)+2,FIND("/",J2)-FIND(":",J2)-2))-1)/VALUE(RIGHT(J2,1)),IF(G2<=VALUE(MID(J2,FIND(", ",J2)+2,IF(MID(J2,FIND(", ",J2)+2,1)="1",2,1))),(IF(COUNTIFS(G:G,"<="&G2)<=VALUE(MID(J2,FIND(", ",J2)+2,IF(MID(J2,FIND(", ",J2)+2,1)="1",2,1))),1,(VALUE(MID(J2,FIND(", ",J2)+2,IF(MID(J2,FIND(", ",J2)+2,1)="1",2,1)))-COUNTIFS(G:G,"<"&G2))/COUNTIFS(G:G,G2)))*(1*(1+VALUE(MID(J2,FIND(": ",J2)+2,FIND("/",J2)-FIND(":",J2)-2))-1)/VALUE(RIGHT(J2,1))+1)-2,-2))) | J2: =IF(F2="","",'Rd1'!J2) | M2: =IF(#REF!="","",#REF!) -> #REF! | N2: =IF(#REF!="","",#REF!) -> #REF! | O2: =IF(#REF!="","",#REF!) -> #REF! | P2: =IF(#REF!="","",#REF!) -> #REF! | Q2: =IF(P2="","",IF(ROUND((N2*(P2-1)-(1-N2))/(P2-1),3)<=0,"",ROUND((N2*(P2-1)-(1-N2))/(P2-1),3))) -> #REF! | R2: {=IF(Q2="","",RANK(Q2, $Q$2:$Q$241) + COUNTIFS($Q$2:$Q$241, Q2, $P$2:$P$241, "<"&P2) + COUNTIFS($Q$2:$Q$241, Q2, $P$2:$P$241, P2, $M$2:$M$241, "<"&M2))} -> #REF! | S2: =IF(#REF!="","",#REF!) -> #REF! | T2: =IF(OR(R2="",S2="",R2>3),"",IF(S2=1,(IF(COUNTIFS(S:S,"<="&S2)<=1,1,(1-COUNTIFS(S:S,"<"&S2))/COUNTIFS(S:S,S2)))*(1+VALUE(MID(V2,FIND(": ",V2)+2,FIND("/",V2)-FIND(":",V2)-2))-1)+(1+VALUE(MID(V2,FIND(": ",V2)+2,FIND("/",V2)-FIND(":",V2)-2))-1)/VALUE(RIGHT(V2,1)),IF(S2<=VALUE(MID(V2,FIND(", ",V2)+2,IF(MID(V2,FIND(", ",V2)+2,1)="1",2,1))),(IF(COUNTIFS(S:S,"<="&S2)<=VALUE(MID(V2,FIND(", ",V2)+2,IF(MID(V2,FIND(", ",V2)+2,1)="1",2,1))),1,(VALUE(MID(V2,FIND(", ",V2)+2,IF(MID(V2,FIND(", ",V2)+2,1)="1",2,1)))-COUNTIFS(S:S,"<"&S2))/COUNTIFS(S:S,S2)))*(1*(1+VALUE(MID(V2,FIND(": ",V2)+2,FIND("/",V2)-FIND(":",V2)-2))-1)/VALUE(RIGHT(V2,1))+1)-2,-2))) -> #REF! | U2: =IF(OR(Q2="",S2=""),"",IF(S2=1,(IF(COUNTIFS(S:S,"<="&S2)<=1,1,(1-COUNTIFS(S:S,"<"&S2))/COUNTIFS(S:S,S2)))*(1+VALUE(MID(V2,FIND(": ",V2)+2,FIND("/",V2)-FIND(":",V2)-2))-1)+(1+VALUE(MID(V2,FIND(": ",V2)+2,FIND("/",V2)-FIND(":",V2)-2))-1)/VALUE(RIGHT(V2,1)),IF(S2<=VALUE(MID(V2,FIND(", ",V2)+2,IF(MID(V2,FIND(", ",V2)+2,1)="1",2,1))),(IF(COUNTIFS(S:S,"<="&S2)<=VALUE(MID(V2,FIND(", ",V2)+2,IF(MID(V2,FIND(", ",V2)+2,1)="1",2,1))),1,(VALUE(MID(V2,FIND(", ",V2)+2,IF(MID(V2,FIND(", ",V2)+2,1)="1",2,1)))-COUNTIFS(S:S,"<"&S2))/COUNTIFS(S:S,S2)))*(1*(1+VALUE(MID(V2,FIND(": ",V2)+2,FIND("/",V2)-FIND(":",V2)-2))-1)/VALUE(RIGHT(V2,1))+1)-2,-2))) -> #REF! | V2: =IF(R2="","",#REF!) -> #REF!
A3: =IF('Rd1'!C3="","",'Rd1'!C3) -> Nick Taylor | B3: =IF('Rd1'!D3="","",VALUE('Rd1'!D3)) -> 0.4456 | C3: =IF('Rd1'!E3="","",'Rd1'!E3) -> 2.2 | D3: =IF('Rd1'!F3="","",'Rd1'!F3) -> 2.25 | E3: =IF(D3="","",IF(ROUND((B3*(D3-1)-(1-B3))/(D3-1),3)<=0,"",ROUND((B3*(D3-1)-(1-B3))/(D3-1),3))) -> 0.002 | F3: {=IF(E3="","",RANK(E3, $E$2:$E$241) + COUNTIFS($E$2:$E$241, E3, $D$2:$D$241, "<"&D3) + COUNTIFS($E$2:$E$241, E3, $D$2:$D$241, D3, $A$2:$A$241, "<"&A3))} -> 13 | G3: =IF('Rd1'!H3="","",'Rd1'!H3) -> 70 | H3: =IF(OR(F3="",G3="",F3>3),"",IF(G3=1,(IF(COUNTIFS(G:G,"<="&G3)<=1,1,(1-COUNTIFS(G:G,"<"&G3))/COUNTIFS(G:G,G3)))*(1+VALUE(MID(J3,FIND(": ",J3)+2,FIND("/",J3)-FIND(":",J3)-2))-1)+(1+VALUE(MID(J3,FIND(": ",J3)+2,FIND("/",J3)-FIND(":",J3)-2))-1)/VALUE(RIGHT(J3,1)),IF(G3<=VALUE(MID(J3,FIND(", ",J3)+2,IF(MID(J3,FIND(", ",J3)+2,1)="1",2,1))),(IF(COUNTIFS(G:G,"<="&G3)<=VALUE(MID(J3,FIND(", ",J3)+2,IF(MID(J3,FIND(", ",J3)+2,1)="1",2,1))),1,(VALUE(MID(J3,FIND(", ",J3)+2,IF(MID(J3,FIND(", ",J3)+2,1)="1",2,1)))-COUNTIFS(G:G,"<"&G3))/COUNTIFS(G:G,G3)))*(1*(1+VALUE(MID(J3,FIND(": ",J3)+2,FIND("/",J3)-FIND(":",J3)-2))-1)/VALUE(RIGHT(J3,1))+1)-2,-2))) | I3: =IF(OR(E3="",G3=""),"",IF(G3=1,(IF(COUNTIFS(G:G,"<="&G3)<=1,1,(1-COUNTIFS(G:G,"<"&G3))/COUNTIFS(G:G,G3)))*(1+VALUE(MID(J3,FIND(": ",J3)+2,FIND("/",J3)-FIND(":",J3)-2))-1)+(1+VALUE(MID(J3,FIND(": ",J3)+2,FIND("/",J3)-FIND(":",J3)-2))-1)/VALUE(RIGHT(J3,1)),IF(G3<=VALUE(MID(J3,FIND(", ",J3)+2,IF(MID(J3,FIND(", ",J3)+2,1)="1",2,1))),(IF(COUNTIFS(G:G,"<="&G3)<=VALUE(MID(J3,FIND(", ",J3)+2,IF(MID(J3,FIND(", ",J3)+2,1)="1",2,1))),1,(VALUE(MID(J3,FIND(", ",J3)+2,IF(MID(J3,FIND(", ",J3)+2,1)="1",2,1)))-COUNTIFS(G:G,"<"&G3))/COUNTIFS(G:G,G3)))*(1*(1+VALUE(MID(J3,FIND(": ",J3)+2,FIND("/",J3)-FIND(":",J3)-2))-1)/VALUE(RIGHT(J3,1))+1)-2,-2))) -> #VALUE! | J3: =IF(F3="","",'Rd1'!J3) -> 0 | M3: =IF(#REF!="","",#REF!) -> #REF! | N3: =IF(#REF!="","",#REF!) -> #REF! | O3: =IF(#REF!="","",#REF!) -> #REF! | P3: =IF(#REF!="","",#REF!) -> #REF! | Q3: =IF(P3="","",IF(ROUND((N3*(P3-1)-(1-N3))/(P3-1),3)<=0,"",ROUND((N3*(P3-1)-(1-N3))/(P3-1),3))) -> #REF! | R3: {=IF(Q3="","",RANK(Q3, $Q$2:$Q$241) + COUNTIFS($Q$2:$Q$241, Q3, $P$2:$P$241, "<"&P3) + COUNTIFS($Q$2:$Q$241, Q3, $P$2:$P$241, P3, $M$2:$M$241, "<"&M3))} -> #REF! | S3: =IF(#REF!="","",#REF!) -> #REF! | T3: =IF(OR(R3="",S3="",R3>3),"",IF(S3=1,(IF(COUNTIFS(S:S,"<="&S3)<=1,1,(1-COUNTIFS(S:S,"<"&S3))/COUNTIFS(S:S,S3)))*(1+VALUE(MID(V3,FIND(": ",V3)+2,FIND("/",V3)-FIND(":",V3)-2))-1)+(1+VALUE(MID(V3,FIND(": ",V3)+2,FIND("/",V3)-FIND(":",V3)-2))-1)/VALUE(RIGHT(V3,1)),IF(S3<=VALUE(MID(V3,FIND(", ",V3)+2,IF(MID(V3,FIND(", ",V3)+2,1)="1",2,1))),(IF(COUNTIFS(S:S,"<="&S3)<=VALUE(MID(V3,FIND(", ",V3)+2,IF(MID(V3,FIND(", ",V3)+2,1)="1",2,1))),1,(VALUE(MID(V3,FIND(", ",V3)+2,IF(MID(V3,FIND(", ",V3)+2,1)="1",2,1)))-COUNTIFS(S:S,"<"&S3))/COUNTIFS(S:S,S3)))*(1*(1+VALUE(MID(V3,FIND(": ",V3)+2,FIND("/",V3)-FIND(":",V3)-2))-1)/VALUE(RIGHT(V3,1))+1)-2,-2))) -> #REF! | U3: =IF(OR(Q3="",S3=""),"",IF(S3=1,(IF(COUNTIFS(S:S,"<="&S3)<=1,1,(1-COUNTIFS(S:S,"<"&S3))/COUNTIFS(S:S,S3)))*(1+VALUE(MID(V3,FIND(": ",V3)+2,FIND("/",V3)-FIND(":",V3)-2))-1)+(1+VALUE(MID(V3,FIND(": ",V3)+2,FIND("/",V3)-FIND(":",V3)-2))-1)/VALUE(RIGHT(V3,1)),IF(S3<=VALUE(MID(V3,FIND(", ",V3)+2,IF(MID(V3,FIND(", ",V3)+2,1)="1",2,1))),(IF(COUNTIFS(S:S,"<="&S3)<=VALUE(MID(V3,FIND(", ",V3)+2,IF(MID(V3,FIND(", ",V3)+2,1)="1",2,1))),1,(VALUE(MID(V3,FIND(", ",V3)+2,IF(MID(V3,FIND(", ",V3)+2,1)="1",2,1)))-COUNTIFS(S:S,"<"&S3))/COUNTIFS(S:S,S3)))*(1*(1+VALUE(MID(V3,FIND(": ",V3)+2,FIND("/",V3)-FIND(":",V3)-2))-1)/VALUE(RIGHT(V3,1))+1)-2,-2))) -> #REF! | V3: =IF(R3="","",#REF!) -> #REF!
A4: =IF('Rd1'!C4="","",'Rd1'!C4) -> Tie | B4: =IF('Rd1'!D4="","",VALUE('Rd1'!D4)) -> 0.0942 | C4: =IF('Rd1'!E4="","",'Rd1'!E4) -> 11 | D4: =IF('Rd1'!F4="","",'Rd1'!F4) -> 9 | E4: =IF(D4="","",IF(ROUND((B4*(D4-1)-(1-B4))/(D4-1),3)<=0,"",ROUND((B4*(D4-1)-(1-B4))/(D4-1),3))) | F4: {=IF(E4="","",RANK(E4, $E$2:$E$241) + COUNTIFS($E$2:$E$241, E4, $D$2:$D$241, "<"&D4) + COUNTIFS($E$2:$E$241, E4, $D$2:$D$241, D4, $A$2:$A$241, "<"&A4))} | G4: =IF('Rd1'!H4="","",'Rd1'!H4) -> - | H4: =IF(OR(F4="",G4="",F4>3),"",IF(G4=1,(IF(COUNTIFS(G:G,"<="&G4)<=1,1,(1-COUNTIFS(G:G,"<"&G4))/COUNTIFS(G:G,G4)))*(1+VALUE(MID(J4,FIND(": ",J4)+2,FIND("/",J4)-FIND(":",J4)-2))-1)+(1+VALUE(MID(J4,FIND(": ",J4)+2,FIND("/",J4)-FIND(":",J4)-2))-1)/VALUE(RIGHT(J4,1)),IF(G4<=VALUE(MID(J4,FIND(", ",J4)+2,IF(MID(J4,FIND(", ",J4)+2,1)="1",2,1))),(IF(COUNTIFS(G:G,"<="&G4)<=VALUE(MID(J4,FIND(", ",J4)+2,IF(MID(J4,FIND(", ",J4)+2,1)="1",2,1))),1,(VALUE(MID(J4,FIND(", ",J4)+2,IF(MID(J4,FIND(", ",J4)+2,1)="1",2,1)))-COUNTIFS(G:G,"<"&G4))/COUNTIFS(G:G,G4)))*(1*(1+VALUE(MID(J4,FIND(": ",J4)+2,FIND("/",J4)-FIND(":",J4)-2))-1)/VALUE(RIGHT(J4,1))+1)-2,-2))) | I4: =IF(OR(E4="",G4=""),"",IF(G4=1,(IF(COUNTIFS(G:G,"<="&G4)<=1,1,(1-COUNTIFS(G:G,"<"&G4))/COUNTIFS(G:G,G4)))*(1+VALUE(MID(J4,FIND(": ",J4)+2,FIND("/",J4)-FIND(":",J4)-2))-1)+(1+VALUE(MID(J4,FIND(": ",J4)+2,FIND("/",J4)-FIND(":",J4)-2))-1)/VALUE(RIGHT(J4,1)),IF(G4<=VALUE(MID(J4,FIND(", ",J4)+2,IF(MID(J4,FIND(", ",J4)+2,1)="1",2,1))),(IF(COUNTIFS(G:G,"<="&G4)<=VALUE(MID(J4,FIND(", ",J4)+2,IF(MID(J4,FIND(", ",J4)+2,1)="1",2,1))),1,(VALUE(MID(J4,FIND(", ",J4)+2,IF(MID(J4,FIND(", ",J4)+2,1)="1",2,1)))-COUNTIFS(G:G,"<"&G4))/COUNTIFS(G:G,G4)))*(1*(1+VALUE(MID(J4,FIND(": ",J4)+2,FIND("/",J4)-FIND(":",J4)-2))-1)/VALUE(RIGHT(J4,1))+1)-2,-2))) | J4: =IF(F4="","",'Rd1'!J4) | M4: =IF(#REF!="","",#REF!) -> #REF! | N4: =IF(#REF!="","",#REF!) -> #REF! | O4: =IF(#REF!="","",#REF!) -> #REF! | P4: =IF(#REF!="","",#REF!) -> #REF! | Q4: =IF(P4="","",IF(ROUND((N4*(P4-1)-(1-N4))/(P4-1),3)<=0,"",ROUND((N4*(P4-1)-(1-N4))/(P4-1),3))) -> #REF! | R4: {=IF(Q4="","",RANK(Q4, $Q$2:$Q$241) + COUNTIFS($Q$2:$Q$241, Q4, $P$2:$P$241, "<"&P4) + COUNTIFS($Q$2:$Q$241, Q4, $P$2:$P$241, P4, $M$2:$M$241, "<"&M4))} -> #REF! | S4: =IF(#REF!="","",#REF!) -> #REF! | T4: =IF(OR(R4="",S4="",R4>3),"",IF(S4=1,(IF(COUNTIFS(S:S,"<="&S4)<=1,1,(1-COUNTIFS(S:S,"<"&S4))/COUNTIFS(S:S,S4)))*(1+VALUE(MID(V4,FIND(": ",V4)+2,FIND("/",V4)-FIND(":",V4)-2))-1)+(1+VALUE(MID(V4,FIND(": ",V4)+2,FIND("/",V4)-FIND(":",V4)-2))-1)/VALUE(RIGHT(V4,1)),IF(S4<=VALUE(MID(V4,FIND(", ",V4)+2,IF(MID(V4,FIND(", ",V4)+2,1)="1",2,1))),(IF(COUNTIFS(S:S,"<="&S4)<=VALUE(MID(V4,FIND(", ",V4)+2,IF(MID(V4,FIND(", ",V4)+2,1)="1",2,1))),1,(VALUE(MID(V4,FIND(", ",V4)+2,IF(MID(V4,FIND(", ",V4)+2,1)="1",2,1)))-COUNTIFS(S:S,"<"&S4))/COUNTIFS(S:S,S4)))*(1*(1+VALUE(MID(V4,FIND(": ",V4)+2,FIND("/",V4)-FIND(":",V4)-2))-1)/VALUE(RIGHT(V4,1))+1)-2,-2))) -> #REF! | U4: =IF(OR(Q4="",S4=""),"",IF(S4=1,(IF(COUNTIFS(S:S,"<="&S4)<=1,1,(1-COUNTIFS(S:S,"<"&S4))/COUNTIFS(S:S,S4)))*(1+VALUE(MID(V4,FIND(": ",V4)+2,FIND("/",V4)-FIND(":",V4)-2))-1)+(1+VALUE(MID(V4,FIND(": ",V4)+2,FIND("/",V4)-FIND(":",V4)-2))-1)/VALUE(RIGHT(V4,1)),IF(S4<=VALUE(MID(V4,FIND(", ",V4)+2,IF(MID(V4,FIND(", ",V4)+2,1)="1",2,1))),(IF(COUNTIFS(S:S,"<="&S4)<=VALUE(MID(V4,FIND(", ",V4)+2,IF(MID(V4,FIND(", ",V4)+2,1)="1",2,1))),1,(VALUE(MID(V4,FIND(", ",V4)+2,IF(MID(V4,FIND(", ",V4)+2,1)="1",2,1)))-COUNTIFS(S:S,"<"&S4))/COUNTIFS(S:S,S4)))*(1*(1+VALUE(MID(V4,FIND(": ",V4)+2,FIND("/",V4)-FIND(":",V4)-2))-1)/VALUE(RIGHT(V4,1))+1)-2,-2))) -> #REF! | V4: =IF(R4="","",#REF!) -> #REF!
A5: =IF('Rd1'!C5="","",'Rd1'!C5) -> Brian Campbell | B5: =IF('Rd1'!D5="","",VALUE('Rd1'!D5)) -> 0.4546 | C5: =IF('Rd1'!E5="","",'Rd1'!E5) -> 2.2 | D5: =IF('Rd1'!F5="","",'Rd1'!F5) -> 2.1 | E5: =IF(D5="","",IF(ROUND((B5*(D5-1)-(1-B5))/(D5-1),3)<=0,"",ROUND((B5*(D5-1)-(1-B5))/(D5-1),3))) | F5: {=IF(E5="","",RANK(E5, $E$2:$E$241) + COUNTIFS($E$2:$E$241, E5, $D$2:$D$241, "<"&D5) + COUNTIFS($E$2:$E$241, E5, $D$2:$D$241, D5, $A$2:$A$241, "<"&A5))} | G5: =IF('Rd1'!H5="","",'Rd1'!H5) -> 66 | H5: =IF(OR(F5="",G5="",F5>3),"",IF(G5=1,(IF(COUNTIFS(G:G,"<="&G5)<=1,1,(1-COUNTIFS(G:G,"<"&G5))/COUNTIFS(G:G,G5)))*(1+VALUE(MID(J5,FIND(": ",J5)+2,FIND("/",J5)-FIND(":",J5)-2))-1)+(1+VALUE(MID(J5,FIND(": ",J5)+2,FIND("/",J5)-FIND(":",J5)-2))-1)/VALUE(RIGHT(J5,1)),IF(G5<=VALUE(MID(J5,FIND(", ",J5)+2,IF(MID(J5,FIND(", ",J5)+2,1)="1",2,1))),(IF(COUNTIFS(G:G,"<="&G5)<=VALUE(MID(J5,FIND(", ",J5)+2,IF(MID(J5,FIND(", ",J5)+2,1)="1",2,1))),1,(VALUE(MID(J5,FIND(", ",J5)+2,IF(MID(J5,FIND(", ",J5)+2,1)="1",2,1)))-COUNTIFS(G:G,"<"&G5))/COUNTIFS(G:G,G5)))*(1*(1+VALUE(MID(J5,FIND(": ",J5)+2,FIND("/",J5)-FIND(":",J5)-2))-1)/VALUE(RIGHT(J5,1))+1)-2,-2))) | I5: =IF(OR(E5="",G5=""),"",IF(G5=1,(IF(COUNTIFS(G:G,"<="&G5)<=1,1,(1-COUNTIFS(G:G,"<"&G5))/COUNTIFS(G:G,G5)))*(1+VALUE(MID(J5,FIND(": ",J5)+2,FIND("/",J5)-FIND(":",J5)-2))-1)+(1+VALUE(MID(J5,FIND(": ",J5)+2,FIND("/",J5)-FIND(":",J5)-2))-1)/VALUE(RIGHT(J5,1)),IF(G5<=VALUE(MID(J5,FIND(", ",J5)+2,IF(MID(J5,FIND(", ",J5)+2,1)="1",2,1))),(IF(COUNTIFS(G:G,"<="&G5)<=VALUE(MID(J5,FIND(", ",J5)+2,IF(MID(J5,FIND(", ",J5)+2,1)="1",2,1))),1,(VALUE(MID(J5,FIND(", ",J5)+2,IF(MID(J5,FIND(", ",J5)+2,1)="1",2,1)))-COUNTIFS(G:G,"<"&G5))/COUNTIFS(G:G,G5)))*(1*(1+VALUE(MID(J5,FIND(": ",J5)+2,FIND("/",J5)-FIND(":",J5)-2))-1)/VALUE(RIGHT(J5,1))+1)-2,-2))) | J5: =IF(F5="","",'Rd1'!J5) | M5: =IF(#REF!="","",#REF!) -> #REF! | N5: =IF(#REF!="","",#REF!) -> #REF! | O5: =IF(#REF!="","",#REF!) -> #REF! | P5: =IF(#REF!="","",#REF!) -> #REF! | Q5: =IF(P5="","",IF(ROUND((N5*(P5-1)-(1-N5))/(P5-1),3)<=0,"",ROUND((N5*(P5-1)-(1-N5))/(P5-1),3))) -> #REF! | R5: {=IF(Q5="","",RANK(Q5, $Q$2:$Q$241) + COUNTIFS($Q$2:$Q$241, Q5, $P$2:$P$241, "<"&P5) + COUNTIFS($Q$2:$Q$241, Q5, $P$2:$P$241, P5, $M$2:$M$241, "<"&M5))} -> #REF! | S5: =IF(#REF!="","",#REF!) -> #REF! | T5: =IF(OR(R5="",S5="",R5>3),"",IF(S5=1,(IF(COUNTIFS(S:S,"<="&S5)<=1,1,(1-COUNTIFS(S:S,"<"&S5))/COUNTIFS(S:S,S5)))*(1+VALUE(MID(V5,FIND(": ",V5)+2,FIND("/",V5)-FIND(":",V5)-2))-1)+(1+VALUE(MID(V5,FIND(": ",V5)+2,FIND("/",V5)-FIND(":",V5)-2))-1)/VALUE(RIGHT(V5,1)),IF(S5<=VALUE(MID(V5,FIND(", ",V5)+2,IF(MID(V5,FIND(", ",V5)+2,1)="1",2,1))),(IF(COUNTIFS(S:S,"<="&S5)<=VALUE(MID(V5,FIND(", ",V5)+2,IF(MID(V5,FIND(", ",V5)+2,1)="1",2,1))),1,(VALUE(MID(V5,FIND(", ",V5)+2,IF(MID(V5,FIND(", ",V5)+2,1)="1",2,1)))-COUNTIFS(S:S,"<"&S5))/COUNTIFS(S:S,S5)))*(1*(1+VALUE(MID(V5,FIND(": ",V5)+2,FIND("/",V5)-FIND(":",V5)-2))-1)/VALUE(RIGHT(V5,1))+1)-2,-2))) -> #REF! | U5: =IF(OR(Q5="",S5=""),"",IF(S5=1,(IF(COUNTIFS(S:S,"<="&S5)<=1,1,(1-COUNTIFS(S:S,"<"&S5))/COUNTIFS(S:S,S5)))*(1+VALUE(MID(V5,FIND(": ",V5)+2,FIND("/",V5)-FIND(":",V5)-2))-1)+(1+VALUE(MID(V5,FIND(": ",V5)+2,FIND("/",V5)-FIND(":",V5)-2))-1)/VALUE(RIGHT(V5,1)),IF(S5<=VALUE(MID(V5,FIND(", ",V5)+2,IF(MID(V5,FIND(", ",V5)+2,1)="1",2,1))),(IF(COUNTIFS(S:S,"<="&S5)<=VALUE(MID(V5,FIND(", ",V5)+2,IF(MID(V5,FIND(", ",V5)+2,1)="1",2,1))),1,(VALUE(MID(V5,FIND(", ",V5)+2,IF(MID(V5,FIND(", ",V5)+2,1)="1",2,1)))-COUNTIFS(S:S,"<"&S5))/COUNTIFS(S:S,S5)))*(1*(1+VALUE(MID(V5,FIND(": ",V5)+2,FIND("/",V5)-FIND(":",V5)-2))-1)/VALUE(RIGHT(V5,1))+1)-2,-2))) -> #REF! | V5: =IF(R5="","",#REF!) -> #REF!
A6: =IF('Rd1'!C6="","",'Rd1'!C6) -> Sami Valimaki | B6: =IF('Rd1'!D6="","",VALUE('Rd1'!D6)) -> 0.454 | C6: =IF('Rd1'!E6="","",'Rd1'!E6) -> 2.2 | D6: =IF('Rd1'!F6="","",'Rd1'!F6) -> 2.1 | E6: =IF(D6="","",IF(ROUND((B6*(D6-1)-(1-B6))/(D6-1),3)<=0,"",ROUND((B6*(D6-1)-(1-B6))/(D6-1),3))) | F6: {=IF(E6="","",RANK(E6, $E$2:$E$241) + COUNTIFS($E$2:$E$241, E6, $D$2:$D$241, "<"&D6) + COUNTIFS($E$2:$E$241, E6, $D$2:$D$241, D6, $A$2:$A$241, "<"&A6))} | G6: =IF('Rd1'!H6="","",'Rd1'!H6) -> 67 | H6: =IF(OR(F6="",G6="",F6>3),"",IF(G6=1,(IF(COUNTIFS(G:G,"<="&G6)<=1,1,(1-COUNTIFS(G:G,"<"&G6))/COUNTIFS(G:G,G6)))*(1+VALUE(MID(J6,FIND(": ",J6)+2,FIND("/",J6)-FIND(":",J6)-2))-1)+(1+VALUE(MID(J6,FIND(": ",J6)+2,FIND("/",J6)-FIND(":",J6)-2))-1)/VALUE(RIGHT(J6,1)),IF(G6<=VALUE(MID(J6,FIND(", ",J6)+2,IF(MID(J6,FIND(", ",J6)+2,1)="1",2,1))),(IF(COUNTIFS(G:G,"<="&G6)<=VALUE(MID(J6,FIND(", ",J6)+2,IF(MID(J6,FIND(", ",J6)+2,1)="1",2,1))),1,(VALUE(MID(J6,FIND(", ",J6)+2,IF(MID(J6,FIND(", ",J6)+2,1)="1",2,1)))-COUNTIFS(G:G,"<"&G6))/COUNTIFS(G:G,G6)))*(1*(1+VALUE(MID(J6,FIND(": ",J6)+2,FIND("/",J6)-FIND(":",J6)-2))-1)/VALUE(RIGHT(J6,1))+1)-2,-2))) | I6: =IF(OR(E6="",G6=""),"",IF(G6=1,(IF(COUNTIFS(G:G,"<="&G6)<=1,1,(1-COUNTIFS(G:G,"<"&G6))/COUNTIFS(G:G,G6)))*(1+VALUE(MID(J6,FIND(": ",J6)+2,FIND("/",J6)-FIND(":",J6)-2))-1)+(1+VALUE(MID(J6,FIND(": ",J6)+2,FIND("/",J6)-FIND(":",J6)-2))-1)/VALUE(RIGHT(J6,1)),IF(G6<=VALUE(MID(J6,FIND(", ",J6)+2,IF(MID(J6,FIND(", ",J6)+2,1)="1",2,1))),(IF(COUNTIFS(G:G,"<="&G6)<=VALUE(MID(J6,FIND(", ",J6)+2,IF(MID(J6,FIND(", ",J6)+2,1)="1",2,1))),1,(VALUE(MID(J6,FIND(", ",J6)+2,IF(MID(J6,FIND(", ",J6)+2,1)="1",2,1)))-COUNTIFS(G:G,"<"&G6))/COUNTIFS(G:G,G6)))*(1*(1+VALUE(MID(J6,FIND(": ",J6)+2,FIND("/",J6)-FIND(":",J6)-2))-1)/VALUE(RIGHT(J6,1))+1)-2,-2))) | J6: =IF(F6="","",'Rd1'!J6) | M6: =IF(#REF!="","",#REF!) -> #REF! | N6: =IF(#REF!="","",#REF!) -> #REF! | O6: =IF(#REF!="","",#REF!) -> #REF! | P6: =IF(#REF!="","",#REF!) -> #REF! | Q6: =IF(P6="","",IF(ROUND((N6*(P6-1)-(1-N6))/(P6-1),3)<=0,"",ROUND((N6*(P6-1)-(1-N6))/(P6-1),3))) -> #REF! | R6: {=IF(Q6="","",RANK(Q6, $Q$2:$Q$241) + COUNTIFS($Q$2:$Q$241, Q6, $P$2:$P$241, "<"&P6) + COUNTIFS($Q$2:$Q$241, Q6, $P$2:$P$241, P6, $M$2:$M$241, "<"&M6))} -> #REF! | S6: =IF(#REF!="","",#REF!) -> #REF! | T6: =IF(OR(R6="",S6="",R6>3),"",IF(S6=1,(IF(COUNTIFS(S:S,"<="&S6)<=1,1,(1-COUNTIFS(S:S,"<"&S6))/COUNTIFS(S:S,S6)))*(1+VALUE(MID(V6,FIND(": ",V6)+2,FIND("/",V6)-FIND(":",V6)-2))-1)+(1+VALUE(MID(V6,FIND(": ",V6)+2,FIND("/",V6)-FIND(":",V6)-2))-1)/VALUE(RIGHT(V6,1)),IF(S6<=VALUE(MID(V6,FIND(", ",V6)+2,IF(MID(V6,FIND(", ",V6)+2,1)="1",2,1))),(IF(COUNTIFS(S:S,"<="&S6)<=VALUE(MID(V6,FIND(", ",V6)+2,IF(MID(V6,FIND(", ",V6)+2,1)="1",2,1))),1,(VALUE(MID(V6,FIND(", ",V6)+2,IF(MID(V6,FIND(", ",V6)+2,1)="1",2,1)))-COUNTIFS(S:S,"<"&S6))/COUNTIFS(S:S,S6)))*(1*(1+VALUE(MID(V6,FIND(": ",V6)+2,FIND("/",V6)-FIND(":",V6)-2))-1)/VALUE(RIGHT(V6,1))+1)-2,-2))) -> #REF! | U6: =IF(OR(Q6="",S6=""),"",IF(S6=1,(IF(COUNTIFS(S:S,"<="&S6)<=1,1,(1-COUNTIFS(S:S,"<"&S6))/COUNTIFS(S:S,S6)))*(1+VALUE(MID(V6,FIND(": ",V6)+2,FIND("/",V6)-FIND(":",V6)-2))-1)+(1+VALUE(MID(V6,FIND(": ",V6)+2,FIND("/",V6)-FIND(":",V6)-2))-1)/VALUE(RIGHT(V6,1)),IF(S6<=VALUE(MID(V6,FIND(", ",V6)+2,IF(MID(V6,FIND(", ",V6)+2,1)="1",2,1))),(IF(COUNTIFS(S:S,"<="&S6)<=VALUE(MID(V6,FIND(", ",V6)+2,IF(MID(V6,FIND(", ",V6)+2,1)="1",2,1))),1,(VALUE(MID(V6,FIND(", ",V6)+2,IF(MID(V6,FIND(", ",V6)+2,1)="1",2,1)))-COUNTIFS(S:S,"<"&S6))/COUNTIFS(S:S,S6)))*(1*(1+VALUE(MID(V6,FIND(": ",V6)+2,FIND("/",V6)-FIND(":",V6)-2))-1)/VALUE(RIGHT(V6,1))+1)-2,-2))) -> #REF! | V6: =IF(R6="","",#REF!) -> #REF!
A7: =IF('Rd1'!C7="","",'Rd1'!C7) -> Tie | B7: =IF('Rd1'!D7="","",VALUE('Rd1'!D7)) -> 0.0913 | C7: =IF('Rd1'!E7="","",'Rd1'!E7) -> 11 | D7: =IF('Rd1'!F7="","",'Rd1'!F7) -> 9 | E7: =IF(D7="","",IF(ROUND((B7*(D7-1)-(1-B7))/(D7-1),3)<=0,"",ROUND((B7*(D7-1)-(1-B7))/(D7-1),3))) | F7: {=IF(E7="","",RANK(E7, $E$2:$E$241) + COUNTIFS($E$2:$E$241, E7, $D$2:$D$241, "<"&D7) + COUNTIFS($E$2:$E$241, E7, $D$2:$D$241, D7, $A$2:$A$241, "<"&A7))} | G7: =IF('Rd1'!H7="","",'Rd1'!H7) -> - | H7: =IF(OR(F7="",G7="",F7>3),"",IF(G7=1,(IF(COUNTIFS(G:G,"<="&G7)<=1,1,(1-COUNTIFS(G:G,"<"&G7))/COUNTIFS(G:G,G7)))*(1+VALUE(MID(J7,FIND(": ",J7)+2,FIND("/",J7)-FIND(":",J7)-2))-1)+(1+VALUE(MID(J7,FIND(": ",J7)+2,FIND("/",J7)-FIND(":",J7)-2))-1)/VALUE(RIGHT(J7,1)),IF(G7<=VALUE(MID(J7,FIND(", ",J7)+2,IF(MID(J7,FIND(", ",J7)+2,1)="1",2,1))),(IF(COUNTIFS(G:G,"<="&G7)<=VALUE(MID(J7,FIND(", ",J7)+2,IF(MID(J7,FIND(", ",J7)+2,1)="1",2,1))),1,(VALUE(MID(J7,FIND(", ",J7)+2,IF(MID(J7,FIND(", ",J7)+2,1)="1",2,1)))-COUNTIFS(G:G,"<"&G7))/COUNTIFS(G:G,G7)))*(1*(1+VALUE(MID(J7,FIND(": ",J7)+2,FIND("/",J7)-FIND(":",J7)-2))-1)/VALUE(RIGHT(J7,1))+1)-2,-2))) | I7: =IF(OR(E7="",G7=""),"",IF(G7=1,(IF(COUNTIFS(G:G,"<="&G7)<=1,1,(1-COUNTIFS(G:G,"<"&G7))/COUNTIFS(G:G,G7)))*(1+VALUE(MID(J7,FIND(": ",J7)+2,FIND("/",J7)-FIND(":",J7)-2))-1)+(1+VALUE(MID(J7,FIND(": ",J7)+2,FIND("/",J7)-FIND(":",J7)-2))-1)/VALUE(RIGHT(J7,1)),IF(G7<=VALUE(MID(J7,FIND(", ",J7)+2,IF(MID(J7,FIND(", ",J7)+2,1)="1",2,1))),(IF(COUNTIFS(G:G,"<="&G7)<=VALUE(MID(J7,FIND(", ",J7)+2,IF(MID(J7,FIND(", ",J7)+2,1)="1",2,1))),1,(VALUE(MID(J7,FIND(", ",J7)+2,IF(MID(J7,FIND(", ",J7)+2,1)="1",2,1)))-COUNTIFS(G:G,"<"&G7))/COUNTIFS(G:G,G7)))*(1*(1+VALUE(MID(J7,FIND(": ",J7)+2,FIND("/",J7)-FIND(":",J7)-2))-1)/VALUE(RIGHT(J7,1))+1)-2,-2))) | J7: =IF(F7="","",'Rd1'!J7) | M7: =IF(#REF!="","",#REF!) -> #REF! | N7: =IF(#REF!="","",#REF!) -> #REF! | O7: =IF(#REF!="","",#REF!) -> #REF! | P7: =IF(#REF!="","",#REF!) -> #REF! | Q7: =IF(P7="","",IF(ROUND((N7*(P7-1)-(1-N7))/(P7-1),3)<=0,"",ROUND((N7*(P7-1)-(1-N7))/(P7-1),3))) -> #REF! | R7: {=IF(Q7="","",RANK(Q7, $Q$2:$Q$241) + COUNTIFS($Q$2:$Q$241, Q7, $P$2:$P$241, "<"&P7) + COUNTIFS($Q$2:$Q$241, Q7, $P$2:$P$241, P7, $M$2:$M$241, "<"&M7))} -> #REF! | S7: =IF(#REF!="","",#REF!) -> #REF! | T7: =IF(OR(R7="",S7="",R7>3),"",IF(S7=1,(IF(COUNTIFS(S:S,"<="&S7)<=1,1,(1-COUNTIFS(S:S,"<"&S7))/COUNTIFS(S:S,S7)))*(1+VALUE(MID(V7,FIND(": ",V7)+2,FIND("/",V7)-FIND(":",V7)-2))-1)+(1+VALUE(MID(V7,FIND(": ",V7)+2,FIND("/",V7)-FIND(":",V7)-2))-1)/VALUE(RIGHT(V7,1)),IF(S7<=VALUE(MID(V7,FIND(", ",V7)+2,IF(MID(V7,FIND(", ",V7)+2,1)="1",2,1))),(IF(COUNTIFS(S:S,"<="&S7)<=VALUE(MID(V7,FIND(", ",V7)+2,IF(MID(V7,FIND(", ",V7)+2,1)="1",2,1))),1,(VALUE(MID(V7,FIND(", ",V7)+2,IF(MID(V7,FIND(", ",V7)+2,1)="1",2,1)))-COUNTIFS(S:S,"<"&S7))/COUNTIFS(S:S,S7)))*(1*(1+VALUE(MID(V7,FIND(": ",V7)+2,FIND("/",V7)-FIND(":",V7)-2))-1)/VALUE(RIGHT(V7,1))+1)-2,-2))) -> #REF! | U7: =IF(OR(Q7="",S7=""),"",IF(S7=1,(IF(COUNTIFS(S:S,"<="&S7)<=1,1,(1-COUNTIFS(S:S,"<"&S7))/COUNTIFS(S:S,S7)))*(1+VALUE(MID(V7,FIND(": ",V7)+2,FIND("/",V7)-FIND(":",V7)-2))-1)+(1+VALUE(MID(V7,FIND(": ",V7)+2,FIND("/",V7)-FIND(":",V7)-2))-1)/VALUE(RIGHT(V7,1)),IF(S7<=VALUE(MID(V7,FIND(", ",V7)+2,IF(MID(V7,FIND(", ",V7)+2,1)="1",2,1))),(IF(COUNTIFS(S:S,"<="&S7)<=VALUE(MID(V7,FIND(", ",V7)+2,IF(MID(V7,FIND(", ",V7)+2,1)="1",2,1))),1,(VALUE(MID(V7,FIND(", ",V7)+2,IF(MID(V7,FIND(", ",V7)+2,1)="1",2,1)))-COUNTIFS(S:S,"<"&S7))/COUNTIFS(S:S,S7)))*(1*(1+VALUE(MID(V7,FIND(": ",V7)+2,FIND("/",V7)-FIND(":",V7)-2))-1)/VALUE(RIGHT(V7,1))+1)-2,-2))) -> #REF! | V7: =IF(R7="","",#REF!) -> #REF!
A8: =IF('Rd1'!C8="","",'Rd1'!C8) -> Matt Kuchar | B8: =IF('Rd1'!D8="","",VALUE('Rd1'!D8)) -> 0.4679 | C8: =IF('Rd1'!E8="","",'Rd1'!E8) -> 2.1 | D8: =IF('Rd1'!F8="","",'Rd1'!F8) -> 2.1 | E8: =IF(D8="","",IF(ROUND((B8*(D8-1)-(1-B8))/(D8-1),3)<=0,"",ROUND((B8*(D8-1)-(1-B8))/(D8-1),3))) | F8: {=IF(E8="","",RANK(E8, $E$2:$E$241) + COUNTIFS($E$2:$E$241, E8, $D$2:$D$241, "<"&D8) + COUNTIFS($E$2:$E$241, E8, $D$2:$D$241, D8, $A$2:$A$241, "<"&A8))} | G8: =IF('Rd1'!H8="","",'Rd1'!H8) -> 67 | H8: =IF(OR(F8="",G8="",F8>3),"",IF(G8=1,(IF(COUNTIFS(G:G,"<="&G8)<=1,1,(1-COUNTIFS(G:G,"<"&G8))/COUNTIFS(G:G,G8)))*(1+VALUE(MID(J8,FIND(": ",J8)+2,FIND("/",J8)-FIND(":",J8)-2))-1)+(1+VALUE(MID(J8,FIND(": ",J8)+2,FIND("/",J8)-FIND(":",J8)-2))-1)/VALUE(RIGHT(J8,1)),IF(G8<=VALUE(MID(J8,FIND(", ",J8)+2,IF(MID(J8,FIND(", ",J8)+2,1)="1",2,1))),(IF(COUNTIFS(G:G,"<="&G8)<=VALUE(MID(J8,FIND(", ",J8)+2,IF(MID(J8,FIND(", ",J8)+2,1)="1",2,1))),1,(VALUE(MID(J8,FIND(", ",J8)+2,IF(MID(J8,FIND(", ",J8)+2,1)="1",2,1)))-COUNTIFS(G:G,"<"&G8))/COUNTIFS(G:G,G8)))*(1*(1+VALUE(MID(J8,FIND(": ",J8)+2,FIND("/",J8)-FIND(":",J8)-2))-1)/VALUE(RIGHT(J8,1))+1)-2,-2))) | I8: =IF(OR(E8="",G8=""),"",IF(G8=1,(IF(COUNTIFS(G:G,"<="&G8)<=1,1,(1-COUNTIFS(G:G,"<"&G8))/COUNTIFS(G:G,G8)))*(1+VALUE(MID(J8,FIND(": ",J8)+2,FIND("/",J8)-FIND(":",J8)-2))-1)+(1+VALUE(MID(J8,FIND(": ",J8)+2,FIND("/",J8)-FIND(":",J8)-2))-1)/VALUE(RIGHT(J8,1)),IF(G8<=VALUE(MID(J8,FIND(", ",J8)+2,IF(MID(J8,FIND(", ",J8)+2,1)="1",2,1))),(IF(COUNTIFS(G:G,"<="&G8)<=VALUE(MID(J8,FIND(", ",J8)+2,IF(MID(J8,FIND(", ",J8)+2,1)="1",2,1))),1,(VALUE(MID(J8,FIND(", ",J8)+2,IF(MID(J8,FIND(", ",J8)+2,1)="1",2,1)))-COUNTIFS(G:G,"<"&G8))/COUNTIFS(G:G,G8)))*(1*(1+VALUE(MID(J8,FIND(": ",J8)+2,FIND("/",J8)-FIND(":",J8)-2))-1)/VALUE(RIGHT(J8,1))+1)-2,-2))) | J8: =IF(F8="","",'Rd1'!J8) | M8: =IF(#REF!="","",#REF!) -> #REF! | N8: =IF(#REF!="","",#REF!) -> #REF! | O8: =IF(#REF!="","",#REF!) -> #REF! | P8: =IF(#REF!="","",#REF!) -> #REF! | Q8: =IF(P8="","",IF(ROUND((N8*(P8-1)-(1-N8))/(P8-1),3)<=0,"",ROUND((N8*(P8-1)-(1-N8))/(P8-1),3))) -> #REF! | R8: {=IF(Q8="","",RANK(Q8, $Q$2:$Q$241) + COUNTIFS($Q$2:$Q$241, Q8, $P$2:$P$241, "<"&P8) + COUNTIFS($Q$2:$Q$241, Q8, $P$2:$P$241, P8, $M$2:$M$241, "<"&M8))} -> #REF! | S8: =IF(#REF!="","",#REF!) -> #REF! | T8: =IF(OR(R8="",S8="",R8>3),"",IF(S8=1,(IF(COUNTIFS(S:S,"<="&S8)<=1,1,(1-COUNTIFS(S:S,"<"&S8))/COUNTIFS(S:S,S8)))*(1+VALUE(MID(V8,FIND(": ",V8)+2,FIND("/",V8)-FIND(":",V8)-2))-1)+(1+VALUE(MID(V8,FIND(": ",V8)+2,FIND("/",V8)-FIND(":",V8)-2))-1)/VALUE(RIGHT(V8,1)),IF(S8<=VALUE(MID(V8,FIND(", ",V8)+2,IF(MID(V8,FIND(", ",V8)+2,1)="1",2,1))),(IF(COUNTIFS(S:S,"<="&S8)<=VALUE(MID(V8,FIND(", ",V8)+2,IF(MID(V8,FIND(", ",V8)+2,1)="1",2,1))),1,(VALUE(MID(V8,FIND(", ",V8)+2,IF(MID(V8,FIND(", ",V8)+2,1)="1",2,1)))-COUNTIFS(S:S,"<"&S8))/COUNTIFS(S:S,S8)))*(1*(1+VALUE(MID(V8,FIND(": ",V8)+2,FIND("/",V8)-FIND(":",V8)-2))-1)/VALUE(RIGHT(V8,1))+1)-2,-2))) -> #REF! | U8: =IF(OR(Q8="",S8=""),"",IF(S8=1,(IF(COUNTIFS(S:S,"<="&S8)<=1,1,(1-COUNTIFS(S:S,"<"&S8))/COUNTIFS(S:S,S8)))*(1+VALUE(MID(V8,FIND(": ",V8)+2,FIND("/",V8)-FIND(":",V8)-2))-1)+(1+VALUE(MID(V8,FIND(": ",V8)+2,FIND("/",V8)-FIND(":",V8)-2))-1)/VALUE(RIGHT(V8,1)),IF(S8<=VALUE(MID(V8,FIND(", ",V8)+2,IF(MID(V8,FIND(", ",V8)+2,1)="1",2,1))),(IF(COUNTIFS(S:S,"<="&S8)<=VALUE(MID(V8,FIND(", ",V8)+2,IF(MID(V8,FIND(", ",V8)+2,1)="1",2,1))),1,(VALUE(MID(V8,FIND(", ",V8)+2,IF(MID(V8,FIND(", ",V8)+2,1)="1",2,1)))-COUNTIFS(S:S,"<"&S8))/COUNTIFS(S:S,S8)))*(1*(1+VALUE(MID(V8,FIND(": ",V8)+2,FIND("/",V8)-FIND(":",V8)-2))-1)/VALUE(RIGHT(V8,1))+1)-2,-2))) -> #REF! | V8: =IF(R8="","",#REF!) -> #REF!
A9: =IF('Rd1'!C9="","",'Rd1'!C9) -> Sam Stevens | B9: =IF('Rd1'!D9="","",VALUE('Rd1'!D9)) -> 0.4358 | C9: =IF('Rd1'!E9="","",'Rd1'!E9) -> 2.3 | D9: =IF('Rd1'!F9="","",'Rd1'!F9) -> 2.1 | E9: =IF(D9="","",IF(ROUND((B9*(D9-1)-(1-B9))/(D9-1),3)<=0,"",ROUND((B9*(D9-1)-(1-B9))/(D9-1),3))) | F9: {=IF(E9="","",RANK(E9, $E$2:$E$241) + COUNTIFS($E$2:$E$241, E9, $D$2:$D$241, "<"&D9) + COUNTIFS($E$2:$E$241, E9, $D$2:$D$241, D9, $A$2:$A$241, "<"&A9))} | G9: =IF('Rd1'!H9="","",'Rd1'!H9) -> 70 | H9: =IF(OR(F9="",G9="",F9>3),"",IF(G9=1,(IF(COUNTIFS(G:G,"<="&G9)<=1,1,(1-COUNTIFS(G:G,"<"&G9))/COUNTIFS(G:G,G9)))*(1+VALUE(MID(J9,FIND(": ",J9)+2,FIND("/",J9)-FIND(":",J9)-2))-1)+(1+VALUE(MID(J9,FIND(": ",J9)+2,FIND("/",J9)-FIND(":",J9)-2))-1)/VALUE(RIGHT(J9,1)),IF(G9<=VALUE(MID(J9,FIND(", ",J9)+2,IF(MID(J9,FIND(", ",J9)+2,1)="1",2,1))),(IF(COUNTIFS(G:G,"<="&G9)<=VALUE(MID(J9,FIND(", ",J9)+2,IF(MID(J9,FIND(", ",J9)+2,1)="1",2,1))),1,(VALUE(MID(J9,FIND(", ",J9)+2,IF(MID(J9,FIND(", ",J9)+2,1)="1",2,1)))-COUNTIFS(G:G,"<"&G9))/COUNTIFS(G:G,G9)))*(1*(1+VALUE(MID(J9,FIND(": ",J9)+2,FIND("/",J9)-FIND(":",J9)-2))-1)/VALUE(RIGHT(J9,1))+1)-2,-2))) | I9: =IF(OR(E9="",G9=""),"",IF(G9=1,(IF(COUNTIFS(G:G,"<="&G9)<=1,1,(1-COUNTIFS(G:G,"<"&G9))/COUNTIFS(G:G,G9)))*(1+VALUE(MID(J9,FIND(": ",J9)+2,FIND("/",J9)-FIND(":",J9)-2))-1)+(1+VALUE(MID(J9,FIND(": ",J9)+2,FIND("/",J9)-FIND(":",J9)-2))-1)/VALUE(RIGHT(J9,1)),IF(G9<=VALUE(MID(J9,FIND(", ",J9)+2,IF(MID(J9,FIND(", ",J9)+2,1)="1",2,1))),(IF(COUNTIFS(G:G,"<="&G9)<=VALUE(MID(J9,FIND(", ",J9)+2,IF(MID(J9,FIND(", ",J9)+2,1)="1",2,1))),1,(VALUE(MID(J9,FIND(", ",J9)+2,IF(MID(J9,FIND(", ",J9)+2,1)="1",2,1)))-COUNTIFS(G:G,"<"&G9))/COUNTIFS(G:G,G9)))*(1*(1+VALUE(MID(J9,FIND(": ",J9)+2,FIND("/",J9)-FIND(":",J9)-2))-1)/VALUE(RIGHT(J9,1))+1)-2,-2))) | J9: =IF(F9="","",'Rd1'!J9) | M9: =IF(#REF!="","",#REF!) -> #REF! | N9: =IF(#REF!="","",#REF!) -> #REF! | O9: =IF(#REF!="","",#REF!) -> #REF! | P9: =IF(#REF!="","",#REF!) -> #REF! | Q9: =IF(P9="","",IF(ROUND((N9*(P9-1)-(1-N9))/(P9-1),3)<=0,"",ROUND((N9*(P9-1)-(1-N9))/(P9-1),3))) -> #REF! | R9: {=IF(Q9="","",RANK(Q9, $Q$2:$Q$241) + COUNTIFS($Q$2:$Q$241, Q9, $P$2:$P$241, "<"&P9) + COUNTIFS($Q$2:$Q$241, Q9, $P$2:$P$241, P9, $M$2:$M$241, "<"&M9))} -> #REF! | S9: =IF(#REF!="","",#REF!) -> #REF! | T9: =IF(OR(R9="",S9="",R9>3),"",IF(S9=1,(IF(COUNTIFS(S:S,"<="&S9)<=1,1,(1-COUNTIFS(S:S,"<"&S9))/COUNTIFS(S:S,S9)))*(1+VALUE(MID(V9,FIND(": ",V9)+2,FIND("/",V9)-FIND(":",V9)-2))-1)+(1+VALUE(MID(V9,FIND(": ",V9)+2,FIND("/",V9)-FIND(":",V9)-2))-1)/VALUE(RIGHT(V9,1)),IF(S9<=VALUE(MID(V9,FIND(", ",V9)+2,IF(MID(V9,FIND(", ",V9)+2,1)="1",2,1))),(IF(COUNTIFS(S:S,"<="&S9)<=VALUE(MID(V9,FIND(", ",V9)+2,IF(MID(V9,FIND(", ",V9)+2,1)="1",2,1))),1,(VALUE(MID(V9,FIND(", ",V9)+2,IF(MID(V9,FIND(", ",V9)+2,1)="1",2,1)))-COUNTIFS(S:S,"<"&S9))/COUNTIFS(S:S,S9)))*(1*(1+VALUE(MID(V9,FIND(": ",V9)+2,FIND("/",V9)-FIND(":",V9)-2))-1)/VALUE(RIGHT(V9,1))+1)-2,-2))) -> #REF! | U9: =IF(OR(Q9="",S9=""),"",IF(S9=1,(IF(COUNTIFS(S:S,"<="&S9)<=1,1,(1-COUNTIFS(S:S,"<"&S9))/COUNTIFS(S:S,S9)))*(1+VALUE(MID(V9,FIND(": ",V9)+2,FIND("/",V9)-FIND(":",V9)-2))-1)+(1+VALUE(MID(V9,FIND(": ",V9)+2,FIND("/",V9)-FIND(":",V9)-2))-1)/VALUE(RIGHT(V9,1)),IF(S9<=VALUE(MID(V9,FIND(", ",V9)+2,IF(MID(V9,FIND(", ",V9)+2,1)="1",2,1))),(IF(COUNTIFS(S:S,"<="&S9)<=VALUE(MID(V9,FIND(", ",V9)+2,IF(MID(V9,FIND(", ",V9)+2,1)="1",2,1))),1,(VALUE(MID(V9,FIND(", ",V9)+2,IF(MID(V9,FIND(", ",V9)+2,1)="1",2,1)))-COUNTIFS(S:S,"<"&S9))/COUNTIFS(S:S,S9)))*(1*(1+VALUE(MID(V9,FIND(": ",V9)+2,FIND("/",V9)-FIND(":",V9)-2))-1)/VALUE(RIGHT(V9,1))+1)-2,-2))) -> #REF! | V9: =IF(R9="","",#REF!) -> #REF!
A10: =IF('Rd1'!C10="","",'Rd1'!C10) -> Tie | B10: =IF('Rd1'!D10="","",VALUE('Rd1'!D10)) -> 0.0962 | C10: =IF('Rd1'!E10="","",'Rd1'!E10) -> 10 | D10: =IF('Rd1'!F10="","",'Rd1'!F10) -> 9 | E10: =IF(D10="","",IF(ROUND((B10*(D10-1)-(1-B10))/(D10-1),3)<=0,"",ROUND((B10*(D10-1)-(1-B10))/(D10-1),3))) | F10: {=IF(E10="","",RANK(E10, $E$2:$E$241) + COUNTIFS($E$2:$E$241, E10, $D$2:$D$241, "<"&D10) + COUNTIFS($E$2:$E$241, E10, $D$2:$D$241, D10, $A$2:$A$241, "<"&A10))} | G10: =IF('Rd1'!H10="","",'Rd1'!H10) -> - | H10: =IF(OR(F10="",G10="",F10>3),"",IF(G10=1,(IF(COUNTIFS(G:G,"<="&G10)<=1,1,(1-COUNTIFS(G:G,"<"&G10))/COUNTIFS(G:G,G10)))*(1+VALUE(MID(J10,FIND(": ",J10)+2,FIND("/",J10)-FIND(":",J10)-2))-1)+(1+VALUE(MID(J10,FIND(": ",J10)+2,FIND("/",J10)-FIND(":",J10)-2))-1)/VALUE(RIGHT(J10,1)),IF(G10<=VALUE(MID(J10,FIND(", ",J10)+2,IF(MID(J10,FIND(", ",J10)+2,1)="1",2,1))),(IF(COUNTIFS(G:G,"<="&G10)<=VALUE(MID(J10,FIND(", ",J10)+2,IF(MID(J10,FIND(", ",J10)+2,1)="1",2,1))),1,(VALUE(MID(J10,FIND(", ",J10)+2,IF(MID(J10,FIND(", ",J10)+2,1)="1",2,1)))-COUNTIFS(G:G,"<"&G10))/COUNTIFS(G:G,G10)))*(1*(1+VALUE(MID(J10,FIND(": ",J10)+2,FIND("/",J10)-FIND(":",J10)-2))-1)/VALUE(RIGHT(J10,1))+1)-2,-2))) | I10: =IF(OR(E10="",G10=""),"",IF(G10=1,(IF(COUNTIFS(G:G,"<="&G10)<=1,1,(1-COUNTIFS(G:G,"<"&G10))/COUNTIFS(G:G,G10)))*(1+VALUE(MID(J10,FIND(": ",J10)+2,FIND("/",J10)-FIND(":",J10)-2))-1)+(1+VALUE(MID(J10,FIND(": ",J10)+2,FIND("/",J10)-FIND(":",J10)-2))-1)/VALUE(RIGHT(J10,1)),IF(G10<=VALUE(MID(J10,FIND(", ",J10)+2,IF(MID(J10,FIND(", ",J10)+2,1)="1",2,1))),(IF(COUNTIFS(G:G,"<="&G10)<=VALUE(MID(J10,FIND(", ",J10)+2,IF(MID(J10,FIND(", ",J10)+2,1)="1",2,1))),1,(VALUE(MID(J10,FIND(", ",J10)+2,IF(MID(J10,FIND(", ",J10)+2,1)="1",2,1)))-COUNTIFS(G:G,"<"&G10))/COUNTIFS(G:G,G10)))*(1*(1+VALUE(MID(J10,FIND(": ",J10)+2,FIND("/",J10)-FIND(":",J10)-2))-1)/VALUE(RIGHT(J10,1))+1)-2,-2))) | J10: =IF(F10="","",'Rd1'!J10) | M10: =IF(#REF!="","",#REF!) -> #REF! | N10: =IF(#REF!="","",#REF!) -> #REF! | O10: =IF(#REF!="","",#REF!) -> #REF! | P10: =IF(#REF!="","",#REF!) -> #REF! | Q10: =IF(P10="","",IF(ROUND((N10*(P10-1)-(1-N10))/(P10-1),3)<=0,"",ROUND((N10*(P10-1)-(1-N10))/(P10-1),3))) -> #REF! | R10: {=IF(Q10="","",RANK(Q10, $Q$2:$Q$241) + COUNTIFS($Q$2:$Q$241, Q10, $P$2:$P$241, "<"&P10) + COUNTIFS($Q$2:$Q$241, Q10, $P$2:$P$241, P10, $M$2:$M$241, "<"&M10))} -> #REF! | S10: =IF(#REF!="","",#REF!) -> #REF! | T10: =IF(OR(R10="",S10="",R10>3),"",IF(S10=1,(IF(COUNTIFS(S:S,"<="&S10)<=1,1,(1-COUNTIFS(S:S,"<"&S10))/COUNTIFS(S:S,S10)))*(1+VALUE(MID(V10,FIND(": ",V10)+2,FIND("/",V10)-FIND(":",V10)-2))-1)+(1+VALUE(MID(V10,FIND(": ",V10)+2,FIND("/",V10)-FIND(":",V10)-2))-1)/VALUE(RIGHT(V10,1)),IF(S10<=VALUE(MID(V10,FIND(", ",V10)+2,IF(MID(V10,FIND(", ",V10)+2,1)="1",2,1))),(IF(COUNTIFS(S:S,"<="&S10)<=VALUE(MID(V10,FIND(", ",V10)+2,IF(MID(V10,FIND(", ",V10)+2,1)="1",2,1))),1,(VALUE(MID(V10,FIND(", ",V10)+2,IF(MID(V10,FIND(", ",V10)+2,1)="1",2,1)))-COUNTIFS(S:S,"<"&S10))/COUNTIFS(S:S,S10)))*(1*(1+VALUE(MID(V10,FIND(": ",V10)+2,FIND("/",V10)-FIND(":",V10)-2))-1)/VALUE(RIGHT(V10,1))+1)-2,-2))) -> #REF! | U10: =IF(OR(Q10="",S10=""),"",IF(S10=1,(IF(COUNTIFS(S:S,"<="&S10)<=1,1,(1-COUNTIFS(S:S,"<"&S10))/COUNTIFS(S:S,S10)))*(1+VALUE(MID(V10,FIND(": ",V10)+2,FIND("/",V10)-FIND(":",V10)-2))-1)+(1+VALUE(MID(V10,FIND(": ",V10)+2,FIND("/",V10)-FIND(":",V10)-2))-1)/VALUE(RIGHT(V10,1)),IF(S10<=VALUE(MID(V10,FIND(", ",V10)+2,IF(MID(V10,FIND(", ",V10)+2,1)="1",2,1))),(IF(COUNTIFS(S:S,"<="&S10)<=VALUE(MID(V10,FIND(", ",V10)+2,IF(MID(V10,FIND(", ",V10)+2,1)="1",2,1))),1,(VALUE(MID(V10,FIND(", ",V10)+2,IF(MID(V10,FIND(", ",V10)+2,1)="1",2,1)))-COUNTIFS(S:S,"<"&S10))/COUNTIFS(S:S,S10)))*(1*(1+VALUE(MID(V10,FIND(": ",V10)+2,FIND("/",V10)-FIND(":",V10)-2))-1)/VALUE(RIGHT(V10,1))+1)-2,-2))) -> #REF! | V10: =IF(R10="","",#REF!) -> #REF!
A11: =IF('Rd1'!C11="","",'Rd1'!C11) -> Denny McCarthy | B11: =IF('Rd1'!D11="","",VALUE('Rd1'!D11)) -> 0.5311 | C11: =IF('Rd1'!E11="","",'Rd1'!E11) -> 1.88 | D11: =IF('Rd1'!F11="","",'Rd1'!F11) -> 1.91 | E11: =IF(D11="","",IF(ROUND((B11*(D11-1)-(1-B11))/(D11-1),3)<=0,"",ROUND((B11*(D11-1)-(1-B11))/(D11-1),3))) -> 0.016 | F11: {=IF(E11="","",RANK(E11, $E$2:$E$241) + COUNTIFS($E$2:$E$241, E11, $D$2:$D$241, "<"&D11) + COUNTIFS($E$2:$E$241, E11, $D$2:$D$241, D11, $A$2:$A$241, "<"&A11))} -> 10 | G11: =IF('Rd1'!H11="","",'Rd1'!H11) -> 68 | H11: =IF(OR(F11="",G11="",F11>3),"",IF(G11=1,(IF(COUNTIFS(G:G,"<="&G11)<=1,1,(1-COUNTIFS(G:G,"<"&G11))/COUNTIFS(G:G,G11)))*(1+VALUE(MID(J11,FIND(": ",J11)+2,FIND("/",J11)-FIND(":",J11)-2))-1)+(1+VALUE(MID(J11,FIND(": ",J11)+2,FIND("/",J11)-FIND(":",J11)-2))-1)/VALUE(RIGHT(J11,1)),IF(G11<=VALUE(MID(J11,FIND(", ",J11)+2,IF(MID(J11,FIND(", ",J11)+2,1)="1",2,1))),(IF(COUNTIFS(G:G,"<="&G11)<=VALUE(MID(J11,FIND(", ",J11)+2,IF(MID(J11,FIND(", ",J11)+2,1)="1",2,1))),1,(VALUE(MID(J11,FIND(", ",J11)+2,IF(MID(J11,FIND(", ",J11)+2,1)="1",2,1)))-COUNTIFS(G:G,"<"&G11))/COUNTIFS(G:G,G11)))*(1*(1+VALUE(MID(J11,FIND(": ",J11)+2,FIND("/",J11)-FIND(":",J11)-2))-1)/VALUE(RIGHT(J11,1))+1)-2,-2))) | I11: =IF(OR(E11="",G11=""),"",IF(G11=1,(IF(COUNTIFS(G:G,"<="&G11)<=1,1,(1-COUNTIFS(G:G,"<"&G11))/COUNTIFS(G:G,G11)))*(1+VALUE(MID(J11,FIND(": ",J11)+2,FIND("/",J11)-FIND(":",J11)-2))-1)+(1+VALUE(MID(J11,FIND(": ",J11)+2,FIND("/",J11)-FIND(":",J11)-2))-1)/VALUE(RIGHT(J11,1)),IF(G11<=VALUE(MID(J11,FIND(", ",J11)+2,IF(MID(J11,FIND(", ",J11)+2,1)="1",2,1))),(IF(COUNTIFS(G:G,"<="&G11)<=VALUE(MID(J11,FIND(", ",J11)+2,IF(MID(J11,FIND(", ",J11)+2,1)="1",2,1))),1,(VALUE(MID(J11,FIND(", ",J11)+2,IF(MID(J11,FIND(", ",J11)+2,1)="1",2,1)))-COUNTIFS(G:G,"<"&G11))/COUNTIFS(G:G,G11)))*(1*(1+VALUE(MID(J11,FIND(": ",J11)+2,FIND("/",J11)-FIND(":",J11)-2))-1)/VALUE(RIGHT(J11,1))+1)-2,-2))) -> #VALUE! | J11: =IF(F11="","",'Rd1'!J11) -> 0 | M11: =IF(#REF!="","",#REF!) -> #REF! | N11: =IF(#REF!="","",#REF!) -> #REF! | O11: =IF(#REF!="","",#REF!) -> #REF! | P11: =IF(#REF!="","",#REF!) -> #REF! | Q11: =IF(P11="","",IF(ROUND((N11*(P11-1)-(1-N11))/(P11-1),3)<=0,"",ROUND((N11*(P11-1)-(1-N11))/(P11-1),3))) -> #REF! | R11: {=IF(Q11="","",RANK(Q11, $Q$2:$Q$241) + COUNTIFS($Q$2:$Q$241, Q11, $P$2:$P$241, "<"&P11) + COUNTIFS($Q$2:$Q$241, Q11, $P$2:$P$241, P11, $M$2:$M$241, "<"&M11))} -> #REF! | S11: =IF(#REF!="","",#REF!) -> #REF! | T11: =IF(OR(R11="",S11="",R11>3),"",IF(S11=1,(IF(COUNTIFS(S:S,"<="&S11)<=1,1,(1-COUNTIFS(S:S,"<"&S11))/COUNTIFS(S:S,S11)))*(1+VALUE(MID(V11,FIND(": ",V11)+2,FIND("/",V11)-FIND(":",V11)-2))-1)+(1+VALUE(MID(V11,FIND(": ",V11)+2,FIND("/",V11)-FIND(":",V11)-2))-1)/VALUE(RIGHT(V11,1)),IF(S11<=VALUE(MID(V11,FIND(", ",V11)+2,IF(MID(V11,FIND(", ",V11)+2,1)="1",2,1))),(IF(COUNTIFS(S:S,"<="&S11)<=VALUE(MID(V11,FIND(", ",V11)+2,IF(MID(V11,FIND(", ",V11)+2,1)="1",2,1))),1,(VALUE(MID(V11,FIND(", ",V11)+2,IF(MID(V11,FIND(", ",V11)+2,1)="1",2,1)))-COUNTIFS(S:S,"<"&S11))/COUNTIFS(S:S,S11)))*(1*(1+VALUE(MID(V11,FIND(": ",V11)+2,FIND("/",V11)-FIND(":",V11)-2))-1)/VALUE(RIGHT(V11,1))+1)-2,-2))) -> #REF! | U11: =IF(OR(Q11="",S11=""),"",IF(S11=1,(IF(COUNTIFS(S:S,"<="&S11)<=1,1,(1-COUNTIFS(S:S,"<"&S11))/COUNTIFS(S:S,S11)))*(1+VALUE(MID(V11,FIND(": ",V11)+2,FIND("/",V11)-FIND(":",V11)-2))-1)+(1+VALUE(MID(V11,FIND(": ",V11)+2,FIND("/",V11)-FIND(":",V11)-2))-1)/VALUE(RIGHT(V11,1)),IF(S11<=VALUE(MID(V11,FIND(", ",V11)+2,IF(MID(V11,FIND(", ",V11)+2,1)="1",2,1))),(IF(COUNTIFS(S:S,"<="&S11)<=VALUE(MID(V11,FIND(", ",V11)+2,IF(MID(V11,FIND(", ",V11)+2,1)="1",2,1))),1,(VALUE(MID(V11,FIND(", ",V11)+2,IF(MID(V11,FIND(", ",V11)+2,1)="1",2,1)))-COUNTIFS(S:S,"<"&S11))/COUNTIFS(S:S,S11)))*(1*(1+VALUE(MID(V11,FIND(": ",V11)+2,FIND("/",V11)-FIND(":",V11)-2))-1)/VALUE(RIGHT(V11,1))+1)-2,-2))) -> #REF! | V11: =IF(R11="","",#REF!) -> #REF!
A12: =IF('Rd1'!C12="","",'Rd1'!C12) -> Max Homa | B12: =IF('Rd1'!D12="","",VALUE('Rd1'!D12)) -> 0.3729 | C12: =IF('Rd1'!E12="","",'Rd1'!E12) -> 2.7 | D12: =IF('Rd1'!F12="","",'Rd1'!F12) -> 2.5 | E12: =IF(D12="","",IF(ROUND((B12*(D12-1)-(1-B12))/(D12-1),3)<=0,"",ROUND((B12*(D12-1)-(1-B12))/(D12-1),3))) | F12: {=IF(E12="","",RANK(E12, $E$2:$E$241) + COUNTIFS($E$2:$E$241, E12, $D$2:$D$241, "<"&D12) + COUNTIFS($E$2:$E$241, E12, $D$2:$D$241, D12, $A$2:$A$241, "<"&A12))} | G12: =IF('Rd1'!H12="","",'Rd1'!H12) -> 70 | H12: =IF(OR(F12="",G12="",F12>3),"",IF(G12=1,(IF(COUNTIFS(G:G,"<="&G12)<=1,1,(1-COUNTIFS(G:G,"<"&G12))/COUNTIFS(G:G,G12)))*(1+VALUE(MID(J12,FIND(": ",J12)+2,FIND("/",J12)-FIND(":",J12)-2))-1)+(1+VALUE(MID(J12,FIND(": ",J12)+2,FIND("/",J12)-FIND(":",J12)-2))-1)/VALUE(RIGHT(J12,1)),IF(G12<=VALUE(MID(J12,FIND(", ",J12)+2,IF(MID(J12,FIND(", ",J12)+2,1)="1",2,1))),(IF(COUNTIFS(G:G,"<="&G12)<=VALUE(MID(J12,FIND(", ",J12)+2,IF(MID(J12,FIND(", ",J12)+2,1)="1",2,1))),1,(VALUE(MID(J12,FIND(", ",J12)+2,IF(MID(J12,FIND(", ",J12)+2,1)="1",2,1)))-COUNTIFS(G:G,"<"&G12))/COUNTIFS(G:G,G12)))*(1*(1+VALUE(MID(J12,FIND(": ",J12)+2,FIND("/",J12)-FIND(":",J12)-2))-1)/VALUE(RIGHT(J12,1))+1)-2,-2))) | I12: =IF(OR(E12="",G12=""),"",IF(G12=1,(IF(COUNTIFS(G:G,"<="&G12)<=1,1,(1-COUNTIFS(G:G,"<"&G12))/COUNTIFS(G:G,G12)))*(1+VALUE(MID(J12,FIND(": ",J12)+2,FIND("/",J12)-FIND(":",J12)-2))-1)+(1+VALUE(MID(J12,FIND(": ",J12)+2,FIND("/",J12)-FIND(":",J12)-2))-1)/VALUE(RIGHT(J12,1)),IF(G12<=VALUE(MID(J12,FIND(", ",J12)+2,IF(MID(J12,FIND(", ",J12)+2,1)="1",2,1))),(IF(COUNTIFS(G:G,"<="&G12)<=VALUE(MID(J12,FIND(", ",J12)+2,IF(MID(J12,FIND(", ",J12)+2,1)="1",2,1))),1,(VALUE(MID(J12,FIND(", ",J12)+2,IF(MID(J12,FIND(", ",J12)+2,1)="1",2,1)))-COUNTIFS(G:G,"<"&G12))/COUNTIFS(G:G,G12)))*(1*(1+VALUE(MID(J12,FIND(": ",J12)+2,FIND("/",J12)-FIND(":",J12)-2))-1)/VALUE(RIGHT(J12,1))+1)-2,-2))) | J12: =IF(F12="","",'Rd1'!J12) | M12: =IF(#REF!="","",#REF!) -> #REF! | N12: =IF(#REF!="","",#REF!) -> #REF! | O12: =IF(#REF!="","",#REF!) -> #REF! | P12: =IF(#REF!="","",#REF!) -> #REF! | Q12: =IF(P12="","",IF(ROUND((N12*(P12-1)-(1-N12))/(P12-1),3)<=0,"",ROUND((N12*(P12-1)-(1-N12))/(P12-1),3))) -> #REF! | R12: {=IF(Q12="","",RANK(Q12, $Q$2:$Q$241) + COUNTIFS($Q$2:$Q$241, Q12, $P$2:$P$241, "<"&P12) + COUNTIFS($Q$2:$Q$241, Q12, $P$2:$P$241, P12, $M$2:$M$241, "<"&M12))} -> #REF! | S12: =IF(#REF!="","",#REF!) -> #REF! | T12: =IF(OR(R12="",S12="",R12>3),"",IF(S12=1,(IF(COUNTIFS(S:S,"<="&S12)<=1,1,(1-COUNTIFS(S:S,"<"&S12))/COUNTIFS(S:S,S12)))*(1+VALUE(MID(V12,FIND(": ",V12)+2,FIND("/",V12)-FIND(":",V12)-2))-1)+(1+VALUE(MID(V12,FIND(": ",V12)+2,FIND("/",V12)-FIND(":",V12)-2))-1)/VALUE(RIGHT(V12,1)),IF(S12<=VALUE(MID(V12,FIND(", ",V12)+2,IF(MID(V12,FIND(", ",V12)+2,1)="1",2,1))),(IF(COUNTIFS(S:S,"<="&S12)<=VALUE(MID(V12,FIND(", ",V12)+2,IF(MID(V12,FIND(", ",V12)+2,1)="1",2,1))),1,(VALUE(MID(V12,FIND(", ",V12)+2,IF(MID(V12,FIND(", ",V12)+2,1)="1",2,1)))-COUNTIFS(S:S,"<"&S12))/COUNTIFS(S:S,S12)))*(1*(1+VALUE(MID(V12,FIND(": ",V12)+2,FIND("/",V12)-FIND(":",V12)-2))-1)/VALUE(RIGHT(V12,1))+1)-2,-2))) -> #REF! | U12: =IF(OR(Q12="",S12=""),"",IF(S12=1,(IF(COUNTIFS(S:S,"<="&S12)<=1,1,(1-COUNTIFS(S:S,"<"&S12))/COUNTIFS(S:S,S12)))*(1+VALUE(MID(V12,FIND(": ",V12)+2,FIND("/",V12)-FIND(":",V12)-2))-1)+(1+VALUE(MID(V12,FIND(": ",V12)+2,FIND("/",V12)-FIND(":",V12)-2))-1)/VALUE(RIGHT(V12,1)),IF(S12<=VALUE(MID(V12,FIND(", ",V12)+2,IF(MID(V12,FIND(", ",V12)+2,1)="1",2,1))),(IF(COUNTIFS(S:S,"<="&S12)<=VALUE(MID(V12,FIND(", ",V12)+2,IF(MID(V12,FIND(", ",V12)+2,1)="1",2,1))),1,(VALUE(MID(V12,FIND(", ",V12)+2,IF(MID(V12,FIND(", ",V12)+2,1)="1",2,1)))-COUNTIFS(S:S,"<"&S12))/COUNTIFS(S:S,S12)))*(1*(1+VALUE(MID(V12,FIND(": ",V12)+2,FIND("/",V12)-FIND(":",V12)-2))-1)/VALUE(RIGHT(V12,1))+1)-2,-2))) -> #REF! | V12: =IF(R12="","",#REF!) -> #REF!
A13: =IF('Rd1'!C13="","",'Rd1'!C13) -> Tie | B13: =IF('Rd1'!D13="","",VALUE('Rd1'!D13)) -> 0.096 | C13: =IF('Rd1'!E13="","",'Rd1'!E13) -> 10 | D13: =IF('Rd1'!F13="","",'Rd1'!F13) -> 9 | E13: =IF(D13="","",IF(ROUND((B13*(D13-1)-(1-B13))/(D13-1),3)<=0,"",ROUND((B13*(D13-1)-(1-B13))/(D13-1),3))) | F13: {=IF(E13="","",RANK(E13, $E$2:$E$241) + COUNTIFS($E$2:$E$241, E13, $D$2:$D$241, "<"&D13) + COUNTIFS($E$2:$E$241, E13, $D$2:$D$241, D13, $A$2:$A$241, "<"&A13))} | G13: =IF('Rd1'!H13="","",'Rd1'!H13) -> - | H13: =IF(OR(F13="",G13="",F13>3),"",IF(G13=1,(IF(COUNTIFS(G:G,"<="&G13)<=1,1,(1-COUNTIFS(G:G,"<"&G13))/COUNTIFS(G:G,G13)))*(1+VALUE(MID(J13,FIND(": ",J13)+2,FIND("/",J13)-FIND(":",J13)-2))-1)+(1+VALUE(MID(J13,FIND(": ",J13)+2,FIND("/",J13)-FIND(":",J13)-2))-1)/VALUE(RIGHT(J13,1)),IF(G13<=VALUE(MID(J13,FIND(", ",J13)+2,IF(MID(J13,FIND(", ",J13)+2,1)="1",2,1))),(IF(COUNTIFS(G:G,"<="&G13)<=VALUE(MID(J13,FIND(", ",J13)+2,IF(MID(J13,FIND(", ",J13)+2,1)="1",2,1))),1,(VALUE(MID(J13,FIND(", ",J13)+2,IF(MID(J13,FIND(", ",J13)+2,1)="1",2,1)))-COUNTIFS(G:G,"<"&G13))/COUNTIFS(G:G,G13)))*(1*(1+VALUE(MID(J13,FIND(": ",J13)+2,FIND("/",J13)-FIND(":",J13)-2))-1)/VALUE(RIGHT(J13,1))+1)-2,-2))) | I13: =IF(OR(E13="",G13=""),"",IF(G13=1,(IF(COUNTIFS(G:G,"<="&G13)<=1,1,(1-COUNTIFS(G:G,"<"&G13))/COUNTIFS(G:G,G13)))*(1+VALUE(MID(J13,FIND(": ",J13)+2,FIND("/",J13)-FIND(":",J13)-2))-1)+(1+VALUE(MID(J13,FIND(": ",J13)+2,FIND("/",J13)-FIND(":",J13)-2))-1)/VALUE(RIGHT(J13,1)),IF(G13<=VALUE(MID(J13,FIND(", ",J13)+2,IF(MID(J13,FIND(", ",J13)+2,1)="1",2,1))),(IF(COUNTIFS(G:G,"<="&G13)<=VALUE(MID(J13,FIND(", ",J13)+2,IF(MID(J13,FIND(", ",J13)+2,1)="1",2,1))),1,(VALUE(MID(J13,FIND(", ",J13)+2,IF(MID(J13,FIND(", ",J13)+2,1)="1",2,1)))-COUNTIFS(G:G,"<"&G13))/COUNTIFS(G:G,G13)))*(1*(1+VALUE(MID(J13,FIND(": ",J13)+2,FIND("/",J13)-FIND(":",J13)-2))-1)/VALUE(RIGHT(J13,1))+1)-2,-2))) | J13: =IF(F13="","",'Rd1'!J13) | M13: =IF(#REF!="","",#REF!) -> #REF! | N13: =IF(#REF!="","",#REF!) -> #REF! | O13: =IF(#REF!="","",#REF!) -> #REF! | P13: =IF(#REF!="","",#REF!) -> #REF! | Q13: =IF(P13="","",IF(ROUND((N13*(P13-1)-(1-N13))/(P13-1),3)<=0,"",ROUND((N13*(P13-1)-(1-N13))/(P13-1),3))) -> #REF! | R13: {=IF(Q13="","",RANK(Q13, $Q$2:$Q$241) + COUNTIFS($Q$2:$Q$241, Q13, $P$2:$P$241, "<"&P13) + COUNTIFS($Q$2:$Q$241, Q13, $P$2:$P$241, P13, $M$2:$M$241, "<"&M13))} -> #REF! | S13: =IF(#REF!="","",#REF!) -> #REF! | T13: =IF(OR(R13="",S13="",R13>3),"",IF(S13=1,(IF(COUNTIFS(S:S,"<="&S13)<=1,1,(1-COUNTIFS(S:S,"<"&S13))/COUNTIFS(S:S,S13)))*(1+VALUE(MID(V13,FIND(": ",V13)+2,FIND("/",V13)-FIND(":",V13)-2))-1)+(1+VALUE(MID(V13,FIND(": ",V13)+2,FIND("/",V13)-FIND(":",V13)-2))-1)/VALUE(RIGHT(V13,1)),IF(S13<=VALUE(MID(V13,FIND(", ",V13)+2,IF(MID(V13,FIND(", ",V13)+2,1)="1",2,1))),(IF(COUNTIFS(S:S,"<="&S13)<=VALUE(MID(V13,FIND(", ",V13)+2,IF(MID(V13,FIND(", ",V13)+2,1)="1",2,1))),1,(VALUE(MID(V13,FIND(", ",V13)+2,IF(MID(V13,FIND(", ",V13)+2,1)="1",2,1)))-COUNTIFS(S:S,"<"&S13))/COUNTIFS(S:S,S13)))*(1*(1+VALUE(MID(V13,FIND(": ",V13)+2,FIND("/",V13)-FIND(":",V13)-2))-1)/VALUE(RIGHT(V13,1))+1)-2,-2))) -> #REF! | U13: =IF(OR(Q13="",S13=""),"",IF(S13=1,(IF(COUNTIFS(S:S,"<="&S13)<=1,1,(1-COUNTIFS(S:S,"<"&S13))/COUNTIFS(S:S,S13)))*(1+VALUE(MID(V13,FIND(": ",V13)+2,FIND("/",V13)-FIND(":",V13)-2))-1)+(1+VALUE(MID(V13,FIND(": ",V13)+2,FIND("/",V13)-FIND(":",V13)-2))-1)/VALUE(RIGHT(V13,1)),IF(S13<=VALUE(MID(V13,FIND(", ",V13)+2,IF(MID(V13,FIND(", ",V13)+2,1)="1",2,1))),(IF(COUNTIFS(S:S,"<="&S13)<=VALUE(MID(V13,FIND(", ",V13)+2,IF(MID(V13,FIND(", ",V13)+2,1)="1",2,1))),1,(VALUE(MID(V13,FIND(", ",V13)+2,IF(MID(V13,FIND(", ",V13)+2,1)="1",2,1)))-COUNTIFS(S:S,"<"&S13))/COUNTIFS(S:S,S13)))*(1*(1+VALUE(MID(V13,FIND(": ",V13)+2,FIND("/",V13)-FIND(":",V13)-2))-1)/VALUE(RIGHT(V13,1))+1)-2,-2))) -> #REF! | V13: =IF(R13="","",#REF!) -> #REF!
... A241: =IF('Rd1'!C241="","",'Rd1'!C241) | B241: =IF('Rd1'!D241="","",VALUE('Rd1'!D241)) | C241: =IF('Rd1'!E241="","",'Rd1'!E241) | D241: =IF('Rd1'!F241="","",'Rd1'!F241) | E241: =IF(D241="","",IF(ROUND((B241*(D241-1)-(1-B241))/(D241-1),3)<=0,"",ROUND((B241*(D241-1)-(1-B241))/(D241-1),3))) | F241: {=IF(E241="","",RANK(E241, $E$2:$E$241) + COUNTIFS($E$2:$E$241, E241, $D$2:$D$241, "<"&D241) + COUNTIFS($E$2:$E$241, E241, $D$2:$D$241, D241, $A$2:$A$241, "<"&A241))} | G241: =IF('Rd1'!H241="","",'Rd1'!H241) | H241: =IF(OR(F241="",G241="",F241>3),"",IF(G241=1,(IF(COUNTIFS(G:G,"<="&G241)<=1,1,(1-COUNTIFS(G:G,"<"&G241))/COUNTIFS(G:G,G241)))*(1+VALUE(MID(J241,FIND(": ",J241)+2,FIND("/",J241)-FIND(":",J241)-2))-1)+(1+VALUE(MID(J241,FIND(": ",J241)+2,FIND("/",J241)-FIND(":",J241)-2))-1)/VALUE(RIGHT(J241,1)),IF(G241<=VALUE(MID(J241,FIND(", ",J241)+2,IF(MID(J241,FIND(", ",J241)+2,1)="1",2,1))),(IF(COUNTIFS(G:G,"<="&G241)<=VALUE(MID(J241,FIND(", ",J241)+2,IF(MID(J241,FIND(", ",J241)+2,1)="1",2,1))),1,(VALUE(MID(J241,FIND(", ",J241)+2,IF(MID(J241,FIND(", ",J241)+2,1)="1",2,1)))-COUNTIFS(G:G,"<"&G241))/COUNTIFS(G:G,G241)))*(1*(1+VALUE(MID(J241,FIND(": ",J241)+2,FIND("/",J241)-FIND(":",J241)-2))-1)/VALUE(RIGHT(J241,1))+1)-2,-2))) | I241: =IF(OR(E241="",G241=""),"",IF(G241=1,(IF(COUNTIFS(G:G,"<="&G241)<=1,1,(1-COUNTIFS(G:G,"<"&G241))/COUNTIFS(G:G,G241)))*(1+VALUE(MID(J241,FIND(": ",J241)+2,FIND("/",J241)-FIND(":",J241)-2))-1)+(1+VALUE(MID(J241,FIND(": ",J241)+2,FIND("/",J241)-FIND(":",J241)-2))-1)/VALUE(RIGHT(J241,1)),IF(G241<=VALUE(MID(J241,FIND(", ",J241)+2,IF(MID(J241,FIND(", ",J241)+2,1)="1",2,1))),(IF(COUNTIFS(G:G,"<="&G241)<=VALUE(MID(J241,FIND(", ",J241)+2,IF(MID(J241,FIND(", ",J241)+2,1)="1",2,1))),1,(VALUE(MID(J241,FIND(", ",J241)+2,IF(MID(J241,FIND(", ",J241)+2,1)="1",2,1)))-COUNTIFS(G:G,"<"&G241))/COUNTIFS(G:G,G241)))*(1*(1+VALUE(MID(J241,FIND(": ",J241)+2,FIND("/",J241)-FIND(":",J241)-2))-1)/VALUE(RIGHT(J241,1))+1)-2,-2))) | J241: =IF(F241="","",'Rd1'!J241) | M241: =IF(#REF!="","",#REF!) -> #REF! | N241: =IF(#REF!="","",#REF!) -> #REF! | O241: =IF(#REF!="","",#REF!) -> #REF! | P241: =IF(#REF!="","",#REF!) -> #REF! | Q241: =IF(P241="","",IF(ROUND((N241*(P241-1)-(1-N241))/(P241-1),3)<=0,"",ROUND((N241*(P241-1)-(1-N241))/(P241-1),3))) -> #REF! | R241: {=IF(Q241="","",RANK(Q241, $Q$2:$Q$241) + COUNTIFS($Q$2:$Q$241, Q241, $P$2:$P$241, "<"&P241) + COUNTIFS($Q$2:$Q$241, Q241, $P$2:$P$241, P241, $M$2:$M$241, "<"&M241))} -> #REF! | S241: =IF(#REF!="","",#REF!) -> #REF! | T241: =IF(OR(R241="",S241="",R241>3),"",IF(S241=1,(IF(COUNTIFS(S:S,"<="&S241)<=1,1,(1-COUNTIFS(S:S,"<"&S241))/COUNTIFS(S:S,S241)))*(1+VALUE(MID(V241,FIND(": ",V241)+2,FIND("/",V241)-FIND(":",V241)-2))-1)+(1+VALUE(MID(V241,FIND(": ",V241)+2,FIND("/",V241)-FIND(":",V241)-2))-1)/VALUE(RIGHT(V241,1)),IF(S241<=VALUE(MID(V241,FIND(", ",V241)+2,IF(MID(V241,FIND(", ",V241)+2,1)="1",2,1))),(IF(COUNTIFS(S:S,"<="&S241)<=VALUE(MID(V241,FIND(", ",V241)+2,IF(MID(V241,FIND(", ",V241)+2,1)="1",2,1))),1,(VALUE(MID(V241,FIND(", ",V241)+2,IF(MID(V241,FIND(", ",V241)+2,1)="1",2,1)))-COUNTIFS(S:S,"<"&S241))/COUNTIFS(S:S,S241)))*(1*(1+VALUE(MID(V241,FIND(": ",V241)+2,FIND("/",V241)-FIND(":",V241)-2))-1)/VALUE(RIGHT(V241,1))+1)-2,-2))) -> #REF! | U241: =IF(OR(Q241="",S241=""),"",IF(S241=1,(IF(COUNTIFS(S:S,"<="&S241)<=1,1,(1-COUNTIFS(S:S,"<"&S241))/COUNTIFS(S:S,S241)))*(1+VALUE(MID(V241,FIND(": ",V241)+2,FIND("/",V241)-FIND(":",V241)-2))-1)+(1+VALUE(MID(V241,FIND(": ",V241)+2,FIND("/",V241)-FIND(":",V241)-2))-1)/VALUE(RIGHT(V241,1)),IF(S241<=VALUE(MID(V241,FIND(", ",V241)+2,IF(MID(V241,FIND(", ",V241)+2,1)="1",2,1))),(IF(COUNTIFS(S:S,"<="&S241)<=VALUE(MID(V241,FIND(", ",V241)+2,IF(MID(V241,FIND(", ",V241)+2,1)="1",2,1))),1,(VALUE(MID(V241,FIND(", ",V241)+2,IF(MID(V241,FIND(", ",V241)+2,1)="1",2,1)))-COUNTIFS(S:S,"<"&S241))/COUNTIFS(S:S,S241)))*(1*(1+VALUE(MID(V241,FIND(": ",V241)+2,FIND("/",V241)-FIND(":",V241)-2))-1)/VALUE(RIGHT(V241,1))+1)-2,-2))) -> #REF! | V241: =IF(R241="","",#REF!) -> #REF!

Sheet T3Picks
A1: Round | B1: Time | C1: Player | D1: Win % | E1: TT Odds | F1: Best Odds | G1: Kelly | H1: Score | I1: P/L
A2: 1 | B2: 0.70486111 | C2: Thomas Detry | D2: 57.68% | E2: 1.73 | F2: 1.83 | G2: 3.30% | H2: 73 | I2: 1.66
A3: 1 | B3: 0.72569444 | C3: Tony Finau | D3: 44.57% | E3: 2.2 | F3: 2.4 | G3: 2.50% | H3: 72 | I3: -2
A4: 1 | B4: 0.74652778 | C4: Max Greyserman | D4: 53.56% | E4: 1.87 | F4: 1.95 | G4: 2.30% | H4: 67 | I4: 1.9
A5: 2 | B5: 0.54166667 | C5: Rickie Fowler | D5: 55.29% | E5: 1.81 | F5: 2 | G5: 5.30% | H5: 67 | I5: -2
A6: 2 | B6: 0.59027778 | C6: Tony Finau | D6: 44.78% | E6: 2.2 | F6: 2.4 | G6: 2.70% | H6: 70 | I6: -2
A7: 2 | B7: 0.61458333 | C7: Max Greyserman | D7: 54.68% | E7: 1.83 | F7: 1.91 | G7: 2.40% | H7: 70 | I7: -2
A8: 3 | B8: 0.66666667 | C8: Sam Burns | D8: 46.30% | E8: 2.2 | F8: 2.5 | G8: 5.30% | H8: 69 | I8: 3
A9: 3 | B9: 0.58333333 | C9: Tony Finau | D9: 48.97% | E9: 2 | F9: 2.2 | G9: 3.20% | H9: 68 | I9: -2
A10: 3 | B10: 0.60069444 | C10: Eric Cole | D10: 44.62% | E10: 2.2 | F10: 2.45 | G10: 3.20% | H10: 67 | I10: -2
A11: 4 | B11: 0.60416667 | C11: Tony Finau | D11: 49.99% | E11: 2 | F11: 2.2 | G11: 4.20% | H11: 68 | I11: 2.4
A12: 4 | B12: 0.69097222 | C12: Eric Cole | D12: 46.16% | E12: 2.2 | F12: 2.38 | G12: 3.60% | H12: 68 | I12: -2
A13: 4 | B13: 0.55208333 | C13: Adam Hadwin | D13: 40.73% | E13: 2.5 | F13: 2.7 | G13: 2.90% | H13: 68 | I13: -2
