Workbook

Sheet Results
A1: PLAYER | B1: Date | C1: Event | D1: Course | E1: Location | F1: Tour | G1: Tour2 | H1: Tour3 | I1: Surname | J1: FirstName | K1: Posn | L1: Rd1 | M1: Rd2 | N1: Rd3 | O1: Rd4 | P1: Rd5 | Q1: Total | R1: Field | S1: Field1 | T1: AdjRd1 | U1: AdjRd2 | V1: AdjRd3 | W1: AdjRd4 | X1: AdjRd5 | Y1: AdjAve | Z1: Rd1Pos | AA1: Rd2Pos | AB1: Rd3Pos | AC1: Rd4Pos | AD1: Rd5Pos | AE1: Rd1Lead | AF1: Rd2Lead | AG1: Rd3Lead | AH1: Rd4Lead | AI1: Rd5Lead | AJ1: Posn2
A2: =IF(J2="","",CONCATENATE(J2," ",I2)) -> Jeeno Thitikul | B2: 46075 | C2: Honda LPGA Thailand | D2: Siam | E2: Thailand | F2: LPGA | I2: Thitikul | J2: Jeeno | K2: 1 | L2: 67 | M2: 63 | N2: 66 | O2: 68 | Q2: 264 | R2: 71.26 | S2: 71.26 | T2: 68.22 | U2: 64.9 | V2: 67.02 | W2: 68.72 | Y2: 67.21 | Z2: 6 | AA2: 2 | AB2: 1 | AC2: 1 | AE2: 2 | AF2: 3 | AG2: -2 | AH2: -1 | AJ2: 1
A3: =IF(J3="","",CONCATENATE(J3," ",I3)) -> Chisato Iwai | B3: 46075 | C3: Honda LPGA Thailand | D3: Siam | E3: Thailand | F3: LPGA | I3: Iwai | J3: Chisato | K3: 2 | L3: 69 | M3: 62 | N3: 68 | O3: 66 | Q3: 265 | R3: 71.26 | S3: 71.26 | T3: 70.22 | U3: 63.9 | V3: 69.02 | W3: 66.72 | Y3: 67.46 | Z3: 25 | AA3: 3 | AB3: 3 | AC3: 2 | AE3: 4 | AF3: 4 | AG3: 3 | AH3: 1 | AJ3: 2
A4: =IF(J4="","",CONCATENATE(J4," ",I4)) -> Hyo Joo Kim | B4: 46075 | C4: Honda LPGA Thailand | D4: Siam | E4: Thailand | F4: LPGA | I4: Kim | J4: Hyo Joo | K4: 3 | L4: 68 | M4: 65 | N4: 65 | O4: 68 | Q4: 266 | R4: 71.26 | S4: 71.26 | T4: 69.22 | U4: 66.9 | V4: 66.02 | W4: 68.72 | Y4: 67.71 | Z4: 16 | AA4: 8 | AB4: 2 | AC4: 3 | AE4: 3 | AF4: 6 | AG4: 2 | AH4: 2 | AJ4: 3
A5: =IF(J5="","",CONCATENATE(J5," ",I5)) -> Somi Lee | B5: 46075 | C5: Honda LPGA Thailand | D5: Siam | E5: Thailand | F5: LPGA | I5: Lee | J5: Somi | K5: 4 | L5: 66 | M5: 61 | N5: 72 | O5: 68 | Q5: 267 | R5: 71.26 | S5: 71.26 | T5: 67.22 | U5: 62.9 | V5: 73.02 | W5: 68.72 | Y5: 67.96 | Z5: 3 | AA5: 1 | AB5: 3 | AC5: 4 | AE5: 1 | AF5: -3 | AG5: 3 | AH5: 3 | AJ5: 4
A6: =IF(J6="","",CONCATENATE(J6," ",I6)) -> Lydia Ko | B6: 46075 | C6: Honda LPGA Thailand | D6: Siam | E6: Thailand | F6: LPGA | I6: Ko | J6: Lydia | K6: 5 | L6: 67 | M6: 64 | N6: 69 | O6: 68 | Q6: 268 | R6: 71.26 | S6: 71.26 | T6: 68.22 | U6: 65.9 | V6: 70.02 | W6: 68.72 | Y6: 68.21 | Z6: 6 | AA6: 3 | AB6: 6 | AC6: 5 | AE6: 2 | AF6: 4 | AG6: 4 | AH6: 4 | AJ6: 5
A7: =IF(J7="","",CONCATENATE(J7," ",I7)) -> Nanna Koerstz Madsen | B7: 46075 | C7: Honda LPGA Thailand | D7: Siam | E7: Thailand | F7: LPGA | I7: Koerstz Madsen | J7: Nanna | K7: 5 | L7: 69 | M7: 67 | N7: 69 | O7: 63 | Q7: 268 | R7: 71.26 | S7: 71.26 | T7: 70.22 | U7: 68.9 | V7: 70.02 | W7: 63.72 | Y7: 68.21 | Z7: 25 | AA7: 13 | AB7: 18 | AC7: 5 | AE7: 4 | AF7: 9 | AG7: 9 | AH7: 4 | AJ7: 5
A8: =IF(J8="","",CONCATENATE(J8," ",I8)) -> Hannah Green | B8: 46075 | C8: Honda LPGA Thailand | D8: Siam | E8: Thailand | F8: LPGA | I8: Green | J8: Hannah | K8: 7 | L8: 67 | M8: 65 | N8: 69 | O8: 68 | Q8: 269 | R8: 71.26 | S8: 71.26 | T8: 68.22 | U8: 66.9 | V8: 70.02 | W8: 68.72 | Y8: 68.46 | Z8: 6 | AA8: 5 | AB8: 7 | AC8: 7 | AE8: 2 | AF8: 5 | AG8: 5 | AH8: 5 | AJ8: 7
A9: =IF(J9="","",CONCATENATE(J9," ",I9)) -> Hye-Jin Choi | B9: 46075 | C9: Honda LPGA Thailand | D9: Siam | E9: Thailand | F9: LPGA | I9: Choi | J9: Hye-Jin | K9: 8 | L9: 66 | M9: 70 | N9: 67 | O9: 67 | Q9: 270 | R9: 71.26 | S9: 71.26 | T9: 67.22 | U9: 71.9 | V9: 68.02 | W9: 67.72 | Y9: 68.71 | Z9: 3 | AA9: 13 | AB9: 10 | AC9: 8 | AE9: 1 | AF9: 9 | AG9: 7 | AH9: 6 | AJ9: 8
A10: =IF(J10="","",CONCATENATE(J10," ",I10)) -> Ariya Jutanugarn | B10: 46075 | C10: Honda LPGA Thailand | D10: Siam | E10: Thailand | F10: LPGA | I10: Jutanugarn | J10: Ariya | K10: 8 | L10: 67 | M10: 71 | N10: 67 | O10: 65 | Q10: 270 | R10: 71.26 | S10: 71.26 | T10: 68.22 | U10: 72.9 | V10: 68.02 | W10: 65.72 | Y10: 68.71 | Z10: 6 | AA10: 27 | AB10: 18 | AC10: 8 | AE10: 2 | AF10: 11 | AG10: 9 | AH10: 6 | AJ10: 8
A11: =IF(J11="","",CONCATENATE(J11," ",I11)) -> Allisen Corpuz | B11: 46075 | C11: Honda LPGA Thailand | D11: Siam | E11: Thailand | F11: LPGA | I11: Corpuz | J11: Allisen | K11: 10 | L11: 67 | M11: 65 | N11: 67 | O11: 72 | Q11: 271 | R11: 71.26 | S11: 71.26 | T11: 68.22 | U11: 66.9 | V11: 68.02 | W11: 72.72 | Y11: 68.96 | Z11: 6 | AA11: 5 | AB11: 3 | AC11: 10 | AE11: 2 | AF11: 5 | AG11: 3 | AH11: 7 | AJ11: 10
A12: =IF(J12="","",CONCATENATE(J12," ",I12)) -> A Lim Kim | B12: 46075 | C12: Honda LPGA Thailand | D12: Siam | E12: Thailand | F12: LPGA | I12: Kim | J12: A Lim | K12: 10 | L12: 74 | M12: 68 | N12: 64 | O12: 65 | Q12: 271 | R12: 71.26 | S12: 71.26 | T12: 75.22 | U12: 69.9 | V12: 65.02 | W12: 65.72 | Y12: 68.96 | Z12: 62 | AA12: 50 | AB12: 22 | AC12: 10 | AE12: 9 | AF12: 15 | AG12: 10 | AH12: 7 | AJ12: 10
A13: =IF(J13="","",CONCATENATE(J13," ",I13)) -> Sei Young Kim | B13: 46075 | C13: Honda LPGA Thailand | D13: Siam | E13: Thailand | F13: LPGA | I13: Kim | J13: Sei Young | K13: 10 | L13: 73 | M13: 65 | N13: 66 | O13: 67 | Q13: 271 | R13: 71.26 | S13: 71.26 | T13: 74.22 | U13: 66.9 | V13: 67.02 | W13: 67.72 | Y13: 68.96 | Z13: 58 | AA13: 27 | AB13: 11 | AC13: 10 | AE13: 8 | AF13: 11 | AG13: 8 | AH13: 7 | AJ13: 10
... A73: =IF(J73="","",CONCATENATE(J73," ",I73)) -> Moriya Jutanugarn | B73: 46075 | C73: Honda LPGA Thailand | D73: Siam | E73: Thailand | F73: LPGA | I73: Jutanugarn | J73: Moriya | K73: 72 | L73: 73 | M73: 75 | N73: 77 | O73: 79 | Q73: 304 | R73: 71.26 | S73: 71.26 | T73: 74.22 | U73: 76.9 | V73: 78.02 | W73: 79.72 | Y73: 77.21 | Z73: 58 | AA73: 68 | AB73: 71 | AC73: 72 | AE73: 8 | AF73: 21 | AG73: 29 | AH73: 40 | AJ73: 72
A74: =IF(J74="","",CONCATENATE(J74," ",I74))
A75: =IF(J75="","",CONCATENATE(J75," ",I75))
A76: =IF(J76="","",CONCATENATE(J76," ",I76))
A77: =IF(J77="","",CONCATENATE(J77," ",I77))
A78: =IF(J78="","",CONCATENATE(J78," ",I78))
A79: =IF(J79="","",CONCATENATE(J79," ",I79))
A80: =IF(J80="","",CONCATENATE(J80," ",I80))
A81: =IF(J81="","",CONCATENATE(J81," ",I81))
A82: =IF(J82="","",CONCATENATE(J82," ",I82))
A83: =IF(J83="","",CONCATENATE(J83," ",I83))
A84: =IF(J84="","",CONCATENATE(J84," ",I84))
A85: =IF(J85="","",CONCATENATE(J85," ",I85))
... A2001: =IF(J2001="","",CONCATENATE(J2001," ",I2001))

Sheet Record
A1: Win | D1: FRL | G1: Top3: Win | J1: Top3: FRL | N1: WIN | O1: Rank | P1: Player | Q1: P/L | R1: E/W Play | U1: FRL | V1: Rank | W1: Player | X1: P/L | Y1: E/W Play
A2: Stakes | B2: Profit | D2: Stakes | E2: Profit | G2: Stakes | H2: Profit | J2: Stakes | K2: Profit | O2: 1 | P2: =IFERROR(OFFSET(Picks!A$1,MATCH($O2,Picks!$F:$F,0)-1,0),"") -> Chisato Iwai | Q2: =IFERROR(OFFSET(Picks!I$1,MATCH($O2,Picks!$F:$F,0)-1,0),"") -> 7.75 | R2: =IFERROR(OFFSET(Picks!J$1,MATCH($O2,Picks!$F:$F,0)-1,0),"") -> Betfred: 35/1, 5pl, 1/4 | V2: 1 | W2: =IFERROR(OFFSET(Picks!M$1,MATCH($O2,Picks!$R:$R,0)-1,0),"") | X2: =IFERROR(OFFSET(Picks!U$1,MATCH($O2,Picks!$R:$R,0)-1,0),"") | Y2: =IFERROR(OFFSET(Picks!V$1,MATCH($O2,Picks!$R:$R,0)-1,0),"")
A3: {=IF(100*SUMPRODUCT((Win!F:F<>"") * IFERROR(--Win!E:E, 0))=0,"",100*SUMPRODUCT((Win!F:F<>"") * IFERROR(--Win!E:E, 0)))} -> 5.1 | B3: =IF(AND(A3="",SUM(Win!G:G)=0),"",SUM(Win!G:G)) -> 4.63125 | D3: {=IF(100*SUMPRODUCT((FRL!F:F<>"") * IFERROR(--FRL!E:E, 0))=0,"",100*SUMPRODUCT((FRL!F:F<>"") * IFERROR(--FRL!E:E, 0)))} | E3: =IF(AND(D3="",SUM(FRL!G:G)=0),"",SUM(FRL!G:G)) | G3: =IF(T3Picks!B2="","",2*(3-COUNTBLANK(T3Picks!A2:A4))) -> 6 | H3: =IF(T3Picks!B2="","",SUM(T3Picks!G2:G4)) -> 3.75 | J3: =IF(T3Picks!B5="","",2*(3-COUNTBLANK(T3Picks!A5:A7))) | K3: =IF(T3Picks!B5="","",SUM(T3Picks!G5:G7)) | O3: 2 | P3: =IFERROR(OFFSET(Picks!A$1,MATCH($O3,Picks!$F:$F,0)-1,0),"") -> Hye-Jin Choi | Q3: =IFERROR(OFFSET(Picks!I$1,MATCH($O3,Picks!$F:$F,0)-1,0),"") -> -2 | R3: =IFERROR(OFFSET(Picks!J$1,MATCH($O3,Picks!$F:$F,0)-1,0),"") -> Unibet: 18/1, 5pl, 1/4 | V3: 2 | W3: =IFERROR(OFFSET(Picks!M$1,MATCH($O3,Picks!$R:$R,0)-1,0),"") | X3: =IFERROR(OFFSET(Picks!U$1,MATCH($O3,Picks!$R:$R,0)-1,0),"") | Y3: =IFERROR(OFFSET(Picks!V$1,MATCH($O3,Picks!$R:$R,0)-1,0),"")
O4: 3 | P4: =IFERROR(OFFSET(Picks!A$1,MATCH($O4,Picks!$F:$F,0)-1,0),"") -> Brooke M. Henderson | Q4: =IFERROR(OFFSET(Picks!I$1,MATCH($O4,Picks!$F:$F,0)-1,0),"") -> -2 | R4: =IFERROR(OFFSET(Picks!J$1,MATCH($O4,Picks!$F:$F,0)-1,0),"") -> Unibet: 22/1, 5pl, 1/4 | V4: 3 | W4: =IFERROR(OFFSET(Picks!M$1,MATCH($O4,Picks!$R:$R,0)-1,0),"") | X4: =IFERROR(OFFSET(Picks!U$1,MATCH($O4,Picks!$R:$R,0)-1,0),"") | Y4: =IFERROR(OFFSET(Picks!V$1,MATCH($O4,Picks!$R:$R,0)-1,0),"")
O5: 4 | P5: =IFERROR(OFFSET(Picks!A$1,MATCH($O5,Picks!$F:$F,0)-1,0),"") -> Haeran Ryu | Q5: =IFERROR(OFFSET(Picks!I$1,MATCH($O5,Picks!$F:$F,0)-1,0),"") -> -2 | R5: =IFERROR(OFFSET(Picks!J$1,MATCH($O5,Picks!$F:$F,0)-1,0),"") -> Bet365: 22/1, 5pl, 1/4 | V5: 4 | W5: =IFERROR(OFFSET(Picks!M$1,MATCH($O5,Picks!$R:$R,0)-1,0),"") | X5: =IFERROR(OFFSET(Picks!U$1,MATCH($O5,Picks!$R:$R,0)-1,0),"") | Y5: =IFERROR(OFFSET(Picks!V$1,MATCH($O5,Picks!$R:$R,0)-1,0),"")
O6: 5 | P6: =IFERROR(OFFSET(Picks!A$1,MATCH($O6,Picks!$F:$F,0)-1,0),"") -> Nasa Hataoka | Q6: =IFERROR(OFFSET(Picks!I$1,MATCH($O6,Picks!$F:$F,0)-1,0),"") -> -2 | R6: =IFERROR(OFFSET(Picks!J$1,MATCH($O6,Picks!$F:$F,0)-1,0),"") -> Unibet: 17/1, 5pl, 1/4 | V6: 5 | W6: =IFERROR(OFFSET(Picks!M$1,MATCH($O6,Picks!$R:$R,0)-1,0),"") | X6: =IFERROR(OFFSET(Picks!U$1,MATCH($O6,Picks!$R:$R,0)-1,0),"") | Y6: =IFERROR(OFFSET(Picks!V$1,MATCH($O6,Picks!$R:$R,0)-1,0),"")
O7: 6 | P7: =IFERROR(OFFSET(Picks!A$1,MATCH($O7,Picks!$F:$F,0)-1,0),"") -> Jeeno Thitikul | Q7: =IFERROR(OFFSET(Picks!I$1,MATCH($O7,Picks!$F:$F,0)-1,0),"") -> 4.375 | R7: =IFERROR(OFFSET(Picks!J$1,MATCH($O7,Picks!$F:$F,0)-1,0),"") -> Bet365: 3.5/1, 5pl, 1/4 | V7: 6 | W7: =IFERROR(OFFSET(Picks!M$1,MATCH($O7,Picks!$R:$R,0)-1,0),"") | X7: =IFERROR(OFFSET(Picks!U$1,MATCH($O7,Picks!$R:$R,0)-1,0),"") | Y7: =IFERROR(OFFSET(Picks!V$1,MATCH($O7,Picks!$R:$R,0)-1,0),"")
O8: 7 | P8: =IFERROR(OFFSET(Picks!A$1,MATCH($O8,Picks!$F:$F,0)-1,0),"") -> Gaby Lopez | Q8: =IFERROR(OFFSET(Picks!I$1,MATCH($O8,Picks!$F:$F,0)-1,0),"") -> -2 | R8: =IFERROR(OFFSET(Picks!J$1,MATCH($O8,Picks!$F:$F,0)-1,0),"") -> Ladbrokes: 40/1, 5pl, 1/4 | V8: 7 | W8: =IFERROR(OFFSET(Picks!M$1,MATCH($O8,Picks!$R:$R,0)-1,0),"") | X8: =IFERROR(OFFSET(Picks!U$1,MATCH($O8,Picks!$R:$R,0)-1,0),"") | Y8: =IFERROR(OFFSET(Picks!V$1,MATCH($O8,Picks!$R:$R,0)-1,0),"")
O9: 8 | P9: =IFERROR(OFFSET(Picks!A$1,MATCH($O9,Picks!$F:$F,0)-1,0),"") | Q9: =IFERROR(OFFSET(Picks!I$1,MATCH($O9,Picks!$F:$F,0)-1,0),"") | R9: =IFERROR(OFFSET(Picks!J$1,MATCH($O9,Picks!$F:$F,0)-1,0),"") | V9: 8 | W9: =IFERROR(OFFSET(Picks!M$1,MATCH($O9,Picks!$R:$R,0)-1,0),"") | X9: =IFERROR(OFFSET(Picks!U$1,MATCH($O9,Picks!$R:$R,0)-1,0),"") | Y9: =IFERROR(OFFSET(Picks!V$1,MATCH($O9,Picks!$R:$R,0)-1,0),"")
O10: 9 | P10: =IFERROR(OFFSET(Picks!A$1,MATCH($O10,Picks!$F:$F,0)-1,0),"") | Q10: =IFERROR(OFFSET(Picks!I$1,MATCH($O10,Picks!$F:$F,0)-1,0),"") | R10: =IFERROR(OFFSET(Picks!J$1,MATCH($O10,Picks!$F:$F,0)-1,0),"") | V10: 9 | W10: =IFERROR(OFFSET(Picks!M$1,MATCH($O10,Picks!$R:$R,0)-1,0),"") | X10: =IFERROR(OFFSET(Picks!U$1,MATCH($O10,Picks!$R:$R,0)-1,0),"") | Y10: =IFERROR(OFFSET(Picks!V$1,MATCH($O10,Picks!$R:$R,0)-1,0),"")
O11: 10 | P11: =IFERROR(OFFSET(Picks!A$1,MATCH($O11,Picks!$F:$F,0)-1,0),"") | Q11: =IFERROR(OFFSET(Picks!I$1,MATCH($O11,Picks!$F:$F,0)-1,0),"") | R11: =IFERROR(OFFSET(Picks!J$1,MATCH($O11,Picks!$F:$F,0)-1,0),"") | V11: 10 | W11: =IFERROR(OFFSET(Picks!M$1,MATCH($O11,Picks!$R:$R,0)-1,0),"") | X11: =IFERROR(OFFSET(Picks!U$1,MATCH($O11,Picks!$R:$R,0)-1,0),"") | Y11: =IFERROR(OFFSET(Picks!V$1,MATCH($O11,Picks!$R:$R,0)-1,0),"")
O12: 11 | P12: =IFERROR(OFFSET(Picks!A$1,MATCH($O12,Picks!$F:$F,0)-1,0),"") | Q12: =IFERROR(OFFSET(Picks!I$1,MATCH($O12,Picks!$F:$F,0)-1,0),"") | R12: =IFERROR(OFFSET(Picks!J$1,MATCH($O12,Picks!$F:$F,0)-1,0),"") | V12: 11 | W12: =IFERROR(OFFSET(Picks!M$1,MATCH($O12,Picks!$R:$R,0)-1,0),"") | X12: =IFERROR(OFFSET(Picks!U$1,MATCH($O12,Picks!$R:$R,0)-1,0),"") | Y12: =IFERROR(OFFSET(Picks!V$1,MATCH($O12,Picks!$R:$R,0)-1,0),"")
O13: 12 | P13: =IFERROR(OFFSET(Picks!A$1,MATCH($O13,Picks!$F:$F,0)-1,0),"") | Q13: =IFERROR(OFFSET(Picks!I$1,MATCH($O13,Picks!$F:$F,0)-1,0),"") | R13: =IFERROR(OFFSET(Picks!J$1,MATCH($O13,Picks!$F:$F,0)-1,0),"") | V13: 12 | W13: =IFERROR(OFFSET(Picks!M$1,MATCH($O13,Picks!$R:$R,0)-1,0),"") | X13: =IFERROR(OFFSET(Picks!U$1,MATCH($O13,Picks!$R:$R,0)-1,0),"") | Y13: =IFERROR(OFFSET(Picks!V$1,MATCH($O13,Picks!$R:$R,0)-1,0),"")
A27: WIN | B27: 1 | C27: 2 | D27: 3 | E27: 4 | F27: 5 | G27: 6 | H27: 7 | I27: 8 | J27: 9 | K27: 10 | L27: 11 | M27: 12 | N27: FRL | O27: 1 | P27: 2 | Q27: 3 | R27: 4 | S27: 5 | T27: 6 | U27: 7 | V27: 8 | W27: 9 | X27: 10 | Y27: 11 | Z27: 12
B28: =Q2*3 -> 23.25 | C28: =SUM(Q2:Q3)*1.5 -> 8.625 | D28: =SUM(Q2:Q4) -> 3.75 | E28: =SUM(Q2:Q5)*3/4 -> 1.3125 | F28: =SUM(Q2:Q6)*3/5 -> -0.15 | G28: =SUM(Q2:Q7)*3/6 -> 2.0625 | H28: =SUM(Q2:Q8)*3/7 -> 0.91071429 | I28: =SUM(Q2:Q9)*3/8 -> 0.796875 | J28: =SUM(Q2:Q10)*3/9 -> 0.70833333 | K28: =SUM(Q2:Q11)*3/10 -> 0.6375 | L28: =SUM(Q2:Q12)*3/11 -> 0.57954545 | M28: =SUM(Q2:Q13)*3/12 -> 0.53125 | O28: =X2*3 -> #VALUE! | P28: =SUM(X2:X3)*1.5 -> 0 | Q28: =SUM(X2:X4) -> 0 | R28: =SUM(X2:X5)*3/4 -> 0 | S28: =SUM(X2:X6)*3/5 -> 0 | T28: =SUM(X2:X7)*3/6 -> 0 | U28: =SUM(X2:X8)*3/7 -> 0 | V28: =SUM(X2:X9)*3/9 -> 0 | W28: =SUM(X2:X10)*3/9 -> 0 | X28: =SUM(X2:X11)*3/10 -> 0 | Y28: =SUM(X2:X12)*3/11 -> 0 | Z28: =SUM(X2:X13)*3/12 -> 0

Sheet Win
A1: Player | B1: Win % | C1: TT Odds | D1: Best Odds | E1: Kelly | F1: Result | G1: P/L | H1: E/W Play
A2: A Lim Kim | B2: 1.99% | C2: 50 | D2: 26 | F2: =IFERROR(IF(A2="","",OFFSET(Results!$AJ$1,MATCH(A2,Results!$A:$A,0)-1,0)),"") -> 10 | G2: =IF(OR(E2="",F2=""),"",IF(F2=1,(IF(COUNTIFS(F:F,"<="&F2)<=1,1,(1-COUNTIFS(F:F,"<"&F2))/COUNTIFS(F:F,F2)))*50*E2*(1+VALUE(MID(H2,FIND(": ",H2)+2,FIND("/",H2)-FIND(":",H2)-2))-1)+50*E2*(1+VALUE(MID(H2,FIND(": ",H2)+2,FIND("/",H2)-FIND(":",H2)-2))-1)/VALUE(RIGHT(H2,1)),IF(F2<=VALUE(MID(H2,FIND(", ",H2)+2,IF(MID(H2,FIND(", ",H2)+2,1)="1",2,1))),(IF(COUNTIFS(F:F,"<="&F2)<=VALUE(MID(H2,FIND(", ",H2)+2,IF(MID(H2,FIND(", ",H2)+2,1)="1",2,1))),1,(VALUE(MID(H2,FIND(", ",H2)+2,IF(MID(H2,FIND(", ",H2)+2,1)="1",2,1)))-COUNTIFS(F:F,"<"&F2))/COUNTIFS(F:F,F2)))*(50*E2*(1+VALUE(MID(H2,FIND(": ",H2)+2,FIND("/",H2)-FIND(":",H2)-2))-1)/VALUE(RIGHT(H2,1))+50*E2)-(100*E2),-E2*100))) | H2: =IF(E2="","",OFFSET([1]LPGA!$AL$1,MATCH(A2,[1]LPGA!$E$1:$E$500,0)-1,0))
A3: Akie Iwai | B3: 5.21% | C3: 19 | D3: 17 | F3: =IFERROR(IF(A3="","",OFFSET(Results!$AJ$1,MATCH(A3,Results!$A:$A,0)-1,0)),"") -> 48 | G3: =IF(OR(E3="",F3=""),"",IF(F3=1,(IF(COUNTIFS(F:F,"<="&F3)<=1,1,(1-COUNTIFS(F:F,"<"&F3))/COUNTIFS(F:F,F3)))*50*E3*(1+VALUE(MID(H3,FIND(": ",H3)+2,FIND("/",H3)-FIND(":",H3)-2))-1)+50*E3*(1+VALUE(MID(H3,FIND(": ",H3)+2,FIND("/",H3)-FIND(":",H3)-2))-1)/VALUE(RIGHT(H3,1)),IF(F3<=VALUE(MID(H3,FIND(", ",H3)+2,IF(MID(H3,FIND(", ",H3)+2,1)="1",2,1))),(IF(COUNTIFS(F:F,"<="&F3)<=VALUE(MID(H3,FIND(", ",H3)+2,IF(MID(H3,FIND(", ",H3)+2,1)="1",2,1))),1,(VALUE(MID(H3,FIND(", ",H3)+2,IF(MID(H3,FIND(", ",H3)+2,1)="1",2,1)))-COUNTIFS(F:F,"<"&F3))/COUNTIFS(F:F,F3)))*(50*E3*(1+VALUE(MID(H3,FIND(": ",H3)+2,FIND("/",H3)-FIND(":",H3)-2))-1)/VALUE(RIGHT(H3,1))+50*E3)-(100*E3),-E3*100))) | H3: =IF(E3="","",OFFSET([1]LPGA!$AL$1,MATCH(A3,[1]LPGA!$E$1:$E$500,0)-1,0))
A4: Allisen Corpuz | B4: 0.42% | C4: 238 | D4: 111 | F4: =IFERROR(IF(A4="","",OFFSET(Results!$AJ$1,MATCH(A4,Results!$A:$A,0)-1,0)),"") -> 10 | G4: =IF(OR(E4="",F4=""),"",IF(F4=1,(IF(COUNTIFS(F:F,"<="&F4)<=1,1,(1-COUNTIFS(F:F,"<"&F4))/COUNTIFS(F:F,F4)))*50*E4*(1+VALUE(MID(H4,FIND(": ",H4)+2,FIND("/",H4)-FIND(":",H4)-2))-1)+50*E4*(1+VALUE(MID(H4,FIND(": ",H4)+2,FIND("/",H4)-FIND(":",H4)-2))-1)/VALUE(RIGHT(H4,1)),IF(F4<=VALUE(MID(H4,FIND(", ",H4)+2,IF(MID(H4,FIND(", ",H4)+2,1)="1",2,1))),(IF(COUNTIFS(F:F,"<="&F4)<=VALUE(MID(H4,FIND(", ",H4)+2,IF(MID(H4,FIND(", ",H4)+2,1)="1",2,1))),1,(VALUE(MID(H4,FIND(", ",H4)+2,IF(MID(H4,FIND(", ",H4)+2,1)="1",2,1)))-COUNTIFS(F:F,"<"&F4))/COUNTIFS(F:F,F4)))*(50*E4*(1+VALUE(MID(H4,FIND(": ",H4)+2,FIND("/",H4)-FIND(":",H4)-2))-1)/VALUE(RIGHT(H4,1))+50*E4)-(100*E4),-E4*100))) | H4: =IF(E4="","",OFFSET([1]LPGA!$AL$1,MATCH(A4,[1]LPGA!$E$1:$E$500,0)-1,0))
A5: Andrea Lee | B5: 0.61% | C5: 164 | D5: 81 | F5: =IFERROR(IF(A5="","",OFFSET(Results!$AJ$1,MATCH(A5,Results!$A:$A,0)-1,0)),"") -> 14 | G5: =IF(OR(E5="",F5=""),"",IF(F5=1,(IF(COUNTIFS(F:F,"<="&F5)<=1,1,(1-COUNTIFS(F:F,"<"&F5))/COUNTIFS(F:F,F5)))*50*E5*(1+VALUE(MID(H5,FIND(": ",H5)+2,FIND("/",H5)-FIND(":",H5)-2))-1)+50*E5*(1+VALUE(MID(H5,FIND(": ",H5)+2,FIND("/",H5)-FIND(":",H5)-2))-1)/VALUE(RIGHT(H5,1)),IF(F5<=VALUE(MID(H5,FIND(", ",H5)+2,IF(MID(H5,FIND(", ",H5)+2,1)="1",2,1))),(IF(COUNTIFS(F:F,"<="&F5)<=VALUE(MID(H5,FIND(", ",H5)+2,IF(MID(H5,FIND(", ",H5)+2,1)="1",2,1))),1,(VALUE(MID(H5,FIND(", ",H5)+2,IF(MID(H5,FIND(", ",H5)+2,1)="1",2,1)))-COUNTIFS(F:F,"<"&F5))/COUNTIFS(F:F,F5)))*(50*E5*(1+VALUE(MID(H5,FIND(": ",H5)+2,FIND("/",H5)-FIND(":",H5)-2))-1)/VALUE(RIGHT(H5,1))+50*E5)-(100*E5),-E5*100))) | H5: =IF(E5="","",OFFSET([1]LPGA!$AL$1,MATCH(A5,[1]LPGA!$E$1:$E$500,0)-1,0))
A6: Angel Yin | B6: 0.02% | C6: 5000 | D6: 86 | F6: =IFERROR(IF(A6="","",OFFSET(Results!$AJ$1,MATCH(A6,Results!$A:$A,0)-1,0)),"") -> 48 | G6: =IF(OR(E6="",F6=""),"",IF(F6=1,(IF(COUNTIFS(F:F,"<="&F6)<=1,1,(1-COUNTIFS(F:F,"<"&F6))/COUNTIFS(F:F,F6)))*50*E6*(1+VALUE(MID(H6,FIND(": ",H6)+2,FIND("/",H6)-FIND(":",H6)-2))-1)+50*E6*(1+VALUE(MID(H6,FIND(": ",H6)+2,FIND("/",H6)-FIND(":",H6)-2))-1)/VALUE(RIGHT(H6,1)),IF(F6<=VALUE(MID(H6,FIND(", ",H6)+2,IF(MID(H6,FIND(", ",H6)+2,1)="1",2,1))),(IF(COUNTIFS(F:F,"<="&F6)<=VALUE(MID(H6,FIND(", ",H6)+2,IF(MID(H6,FIND(", ",H6)+2,1)="1",2,1))),1,(VALUE(MID(H6,FIND(", ",H6)+2,IF(MID(H6,FIND(", ",H6)+2,1)="1",2,1)))-COUNTIFS(F:F,"<"&F6))/COUNTIFS(F:F,F6)))*(50*E6*(1+VALUE(MID(H6,FIND(": ",H6)+2,FIND("/",H6)-FIND(":",H6)-2))-1)/VALUE(RIGHT(H6,1))+50*E6)-(100*E6),-E6*100))) | H6: =IF(E6="","",OFFSET([1]LPGA!$AL$1,MATCH(A6,[1]LPGA!$E$1:$E$500,0)-1,0))
A7: April Angurasaranee | B7: 0.00% | C7: 10000 | D7: 1501 | F7: =IFERROR(IF(A7="","",OFFSET(Results!$AJ$1,MATCH(A7,Results!$A:$A,0)-1,0)),"") -> 23 | G7: =IF(OR(E7="",F7=""),"",IF(F7=1,(IF(COUNTIFS(F:F,"<="&F7)<=1,1,(1-COUNTIFS(F:F,"<"&F7))/COUNTIFS(F:F,F7)))*50*E7*(1+VALUE(MID(H7,FIND(": ",H7)+2,FIND("/",H7)-FIND(":",H7)-2))-1)+50*E7*(1+VALUE(MID(H7,FIND(": ",H7)+2,FIND("/",H7)-FIND(":",H7)-2))-1)/VALUE(RIGHT(H7,1)),IF(F7<=VALUE(MID(H7,FIND(", ",H7)+2,IF(MID(H7,FIND(", ",H7)+2,1)="1",2,1))),(IF(COUNTIFS(F:F,"<="&F7)<=VALUE(MID(H7,FIND(", ",H7)+2,IF(MID(H7,FIND(", ",H7)+2,1)="1",2,1))),1,(VALUE(MID(H7,FIND(", ",H7)+2,IF(MID(H7,FIND(", ",H7)+2,1)="1",2,1)))-COUNTIFS(F:F,"<"&F7))/COUNTIFS(F:F,F7)))*(50*E7*(1+VALUE(MID(H7,FIND(": ",H7)+2,FIND("/",H7)-FIND(":",H7)-2))-1)/VALUE(RIGHT(H7,1))+50*E7)-(100*E7),-E7*100))) | H7: =IF(E7="","",OFFSET([1]LPGA!$AL$1,MATCH(A7,[1]LPGA!$E$1:$E$500,0)-1,0))
A8: Ariya Jutanugarn | B8: 0.46% | C8: 217 | D8: 67 | F8: =IFERROR(IF(A8="","",OFFSET(Results!$AJ$1,MATCH(A8,Results!$A:$A,0)-1,0)),"") -> 8 | G8: =IF(OR(E8="",F8=""),"",IF(F8=1,(IF(COUNTIFS(F:F,"<="&F8)<=1,1,(1-COUNTIFS(F:F,"<"&F8))/COUNTIFS(F:F,F8)))*50*E8*(1+VALUE(MID(H8,FIND(": ",H8)+2,FIND("/",H8)-FIND(":",H8)-2))-1)+50*E8*(1+VALUE(MID(H8,FIND(": ",H8)+2,FIND("/",H8)-FIND(":",H8)-2))-1)/VALUE(RIGHT(H8,1)),IF(F8<=VALUE(MID(H8,FIND(", ",H8)+2,IF(MID(H8,FIND(", ",H8)+2,1)="1",2,1))),(IF(COUNTIFS(F:F,"<="&F8)<=VALUE(MID(H8,FIND(", ",H8)+2,IF(MID(H8,FIND(", ",H8)+2,1)="1",2,1))),1,(VALUE(MID(H8,FIND(", ",H8)+2,IF(MID(H8,FIND(", ",H8)+2,1)="1",2,1)))-COUNTIFS(F:F,"<"&F8))/COUNTIFS(F:F,F8)))*(50*E8*(1+VALUE(MID(H8,FIND(": ",H8)+2,FIND("/",H8)-FIND(":",H8)-2))-1)/VALUE(RIGHT(H8,1))+50*E8)-(100*E8),-E8*100))) | H8: =IF(E8="","",OFFSET([1]LPGA!$AL$1,MATCH(A8,[1]LPGA!$E$1:$E$500,0)-1,0))
A9: Auston Kim | B9: 0.76% | C9: 132 | D9: 67 | F9: =IFERROR(IF(A9="","",OFFSET(Results!$AJ$1,MATCH(A9,Results!$A:$A,0)-1,0)),"") -> 18 | G9: =IF(OR(E9="",F9=""),"",IF(F9=1,(IF(COUNTIFS(F:F,"<="&F9)<=1,1,(1-COUNTIFS(F:F,"<"&F9))/COUNTIFS(F:F,F9)))*50*E9*(1+VALUE(MID(H9,FIND(": ",H9)+2,FIND("/",H9)-FIND(":",H9)-2))-1)+50*E9*(1+VALUE(MID(H9,FIND(": ",H9)+2,FIND("/",H9)-FIND(":",H9)-2))-1)/VALUE(RIGHT(H9,1)),IF(F9<=VALUE(MID(H9,FIND(", ",H9)+2,IF(MID(H9,FIND(", ",H9)+2,1)="1",2,1))),(IF(COUNTIFS(F:F,"<="&F9)<=VALUE(MID(H9,FIND(", ",H9)+2,IF(MID(H9,FIND(", ",H9)+2,1)="1",2,1))),1,(VALUE(MID(H9,FIND(", ",H9)+2,IF(MID(H9,FIND(", ",H9)+2,1)="1",2,1)))-COUNTIFS(F:F,"<"&F9))/COUNTIFS(F:F,F9)))*(50*E9*(1+VALUE(MID(H9,FIND(": ",H9)+2,FIND("/",H9)-FIND(":",H9)-2))-1)/VALUE(RIGHT(H9,1))+50*E9)-(100*E9),-E9*100))) | H9: =IF(E9="","",OFFSET([1]LPGA!$AL$1,MATCH(A9,[1]LPGA!$E$1:$E$500,0)-1,0))
A10: Ayaka Furue | B10: 2.18% | C10: 46 | D10: 36 | F10: =IFERROR(IF(A10="","",OFFSET(Results!$AJ$1,MATCH(A10,Results!$A:$A,0)-1,0)),"") -> 23 | G10: =IF(OR(E10="",F10=""),"",IF(F10=1,(IF(COUNTIFS(F:F,"<="&F10)<=1,1,(1-COUNTIFS(F:F,"<"&F10))/COUNTIFS(F:F,F10)))*50*E10*(1+VALUE(MID(H10,FIND(": ",H10)+2,FIND("/",H10)-FIND(":",H10)-2))-1)+50*E10*(1+VALUE(MID(H10,FIND(": ",H10)+2,FIND("/",H10)-FIND(":",H10)-2))-1)/VALUE(RIGHT(H10,1)),IF(F10<=VALUE(MID(H10,FIND(", ",H10)+2,IF(MID(H10,FIND(", ",H10)+2,1)="1",2,1))),(IF(COUNTIFS(F:F,"<="&F10)<=VALUE(MID(H10,FIND(", ",H10)+2,IF(MID(H10,FIND(", ",H10)+2,1)="1",2,1))),1,(VALUE(MID(H10,FIND(", ",H10)+2,IF(MID(H10,FIND(", ",H10)+2,1)="1",2,1)))-COUNTIFS(F:F,"<"&F10))/COUNTIFS(F:F,F10)))*(50*E10*(1+VALUE(MID(H10,FIND(": ",H10)+2,FIND("/",H10)-FIND(":",H10)-2))-1)/VALUE(RIGHT(H10,1))+50*E10)-(100*E10),-E10*100))) | H10: =IF(E10="","",OFFSET([1]LPGA!$AL$1,MATCH(A10,[1]LPGA!$E$1:$E$500,0)-1,0))
A11: Benedetta Moresco | B11: 0.00% | C11: 10000 | D11: 801 | F11: =IFERROR(IF(A11="","",OFFSET(Results!$AJ$1,MATCH(A11,Results!$A:$A,0)-1,0)),"") -> 65 | G11: =IF(OR(E11="",F11=""),"",IF(F11=1,(IF(COUNTIFS(F:F,"<="&F11)<=1,1,(1-COUNTIFS(F:F,"<"&F11))/COUNTIFS(F:F,F11)))*50*E11*(1+VALUE(MID(H11,FIND(": ",H11)+2,FIND("/",H11)-FIND(":",H11)-2))-1)+50*E11*(1+VALUE(MID(H11,FIND(": ",H11)+2,FIND("/",H11)-FIND(":",H11)-2))-1)/VALUE(RIGHT(H11,1)),IF(F11<=VALUE(MID(H11,FIND(", ",H11)+2,IF(MID(H11,FIND(", ",H11)+2,1)="1",2,1))),(IF(COUNTIFS(F:F,"<="&F11)<=VALUE(MID(H11,FIND(", ",H11)+2,IF(MID(H11,FIND(", ",H11)+2,1)="1",2,1))),1,(VALUE(MID(H11,FIND(", ",H11)+2,IF(MID(H11,FIND(", ",H11)+2,1)="1",2,1)))-COUNTIFS(F:F,"<"&F11))/COUNTIFS(F:F,F11)))*(50*E11*(1+VALUE(MID(H11,FIND(": ",H11)+2,FIND("/",H11)-FIND(":",H11)-2))-1)/VALUE(RIGHT(H11,1))+50*E11)-(100*E11),-E11*100))) | H11: =IF(E11="","",OFFSET([1]LPGA!$AL$1,MATCH(A11,[1]LPGA!$E$1:$E$500,0)-1,0))
A12: Brooke M. Henderson | B12: 5.13% | C12: 19 | D12: 23 | E12: 0.80% | F12: =IFERROR(IF(A12="","",OFFSET(Results!$AJ$1,MATCH(A12,Results!$A:$A,0)-1,0)),"") -> 38 | G12: =IF(OR(E12="",F12=""),"",IF(F12=1,(IF(COUNTIFS(F:F,"<="&F12)<=1,1,(1-COUNTIFS(F:F,"<"&F12))/COUNTIFS(F:F,F12)))*50*E12*(1+VALUE(MID(H12,FIND(": ",H12)+2,FIND("/",H12)-FIND(":",H12)-2))-1)+50*E12*(1+VALUE(MID(H12,FIND(": ",H12)+2,FIND("/",H12)-FIND(":",H12)-2))-1)/VALUE(RIGHT(H12,1)),IF(F12<=VALUE(MID(H12,FIND(", ",H12)+2,IF(MID(H12,FIND(", ",H12)+2,1)="1",2,1))),(IF(COUNTIFS(F:F,"<="&F12)<=VALUE(MID(H12,FIND(", ",H12)+2,IF(MID(H12,FIND(", ",H12)+2,1)="1",2,1))),1,(VALUE(MID(H12,FIND(", ",H12)+2,IF(MID(H12,FIND(", ",H12)+2,1)="1",2,1)))-COUNTIFS(F:F,"<"&F12))/COUNTIFS(F:F,F12)))*(50*E12*(1+VALUE(MID(H12,FIND(": ",H12)+2,FIND("/",H12)-FIND(":",H12)-2))-1)/VALUE(RIGHT(H12,1))+50*E12)-(100*E12),-E12*100))) -> -0.8 | H12: =IF(E12="","",OFFSET([1]LPGA!$AL$1,MATCH(A12,[1]LPGA!$E$1:$E$500,0)-1,0)) -> Unibet: 22/1, 5pl, 1/4
A13: Brooke Matthews | B13: 0.06% | C13: 1667 | D13: 131 | F13: =IFERROR(IF(A13="","",OFFSET(Results!$AJ$1,MATCH(A13,Results!$A:$A,0)-1,0)),"") -> 15 | G13: =IF(OR(E13="",F13=""),"",IF(F13=1,(IF(COUNTIFS(F:F,"<="&F13)<=1,1,(1-COUNTIFS(F:F,"<"&F13))/COUNTIFS(F:F,F13)))*50*E13*(1+VALUE(MID(H13,FIND(": ",H13)+2,FIND("/",H13)-FIND(":",H13)-2))-1)+50*E13*(1+VALUE(MID(H13,FIND(": ",H13)+2,FIND("/",H13)-FIND(":",H13)-2))-1)/VALUE(RIGHT(H13,1)),IF(F13<=VALUE(MID(H13,FIND(", ",H13)+2,IF(MID(H13,FIND(", ",H13)+2,1)="1",2,1))),(IF(COUNTIFS(F:F,"<="&F13)<=VALUE(MID(H13,FIND(", ",H13)+2,IF(MID(H13,FIND(", ",H13)+2,1)="1",2,1))),1,(VALUE(MID(H13,FIND(", ",H13)+2,IF(MID(H13,FIND(", ",H13)+2,1)="1",2,1)))-COUNTIFS(F:F,"<"&F13))/COUNTIFS(F:F,F13)))*(50*E13*(1+VALUE(MID(H13,FIND(": ",H13)+2,FIND("/",H13)-FIND(":",H13)-2))-1)/VALUE(RIGHT(H13,1))+50*E13)-(100*E13),-E13*100))) | H13: =IF(E13="","",OFFSET([1]LPGA!$AL$1,MATCH(A13,[1]LPGA!$E$1:$E$500,0)-1,0))
A14: Carlota Ciganda | B14: 1.05% | C14: 95 | D14: 81 | F14: =IFERROR(IF(A14="","",OFFSET(Results!$AJ$1,MATCH(A14,Results!$A:$A,0)-1,0)),"") -> 63 | G14: =IF(OR(E14="",F14=""),"",IF(F14=1,(IF(COUNTIFS(F:F,"<="&F14)<=1,1,(1-COUNTIFS(F:F,"<"&F14))/COUNTIFS(F:F,F14)))*50*E14*(1+VALUE(MID(H14,FIND(": ",H14)+2,FIND("/",H14)-FIND(":",H14)-2))-1)+50*E14*(1+VALUE(MID(H14,FIND(": ",H14)+2,FIND("/",H14)-FIND(":",H14)-2))-1)/VALUE(RIGHT(H14,1)),IF(F14<=VALUE(MID(H14,FIND(", ",H14)+2,IF(MID(H14,FIND(", ",H14)+2,1)="1",2,1))),(IF(COUNTIFS(F:F,"<="&F14)<=VALUE(MID(H14,FIND(", ",H14)+2,IF(MID(H14,FIND(", ",H14)+2,1)="1",2,1))),1,(VALUE(MID(H14,FIND(", ",H14)+2,IF(MID(H14,FIND(", ",H14)+2,1)="1",2,1)))-COUNTIFS(F:F,"<"&F14))/COUNTIFS(F:F,F14)))*(50*E14*(1+VALUE(MID(H14,FIND(": ",H14)+2,FIND("/",H14)-FIND(":",H14)-2))-1)/VALUE(RIGHT(H14,1))+50*E14)-(100*E14),-E14*100))) | H14: =IF(E14="","",OFFSET([1]LPGA!$AL$1,MATCH(A14,[1]LPGA!$E$1:$E$500,0)-1,0))
A15: Cassie Porter | B15: 0.01% | C15: 10000 | D15: 501 | F15: =IFERROR(IF(A15="","",OFFSET(Results!$AJ$1,MATCH(A15,Results!$A:$A,0)-1,0)),"") -> 35 | G15: =IF(OR(E15="",F15=""),"",IF(F15=1,(IF(COUNTIFS(F:F,"<="&F15)<=1,1,(1-COUNTIFS(F:F,"<"&F15))/COUNTIFS(F:F,F15)))*50*E15*(1+VALUE(MID(H15,FIND(": ",H15)+2,FIND("/",H15)-FIND(":",H15)-2))-1)+50*E15*(1+VALUE(MID(H15,FIND(": ",H15)+2,FIND("/",H15)-FIND(":",H15)-2))-1)/VALUE(RIGHT(H15,1)),IF(F15<=VALUE(MID(H15,FIND(", ",H15)+2,IF(MID(H15,FIND(", ",H15)+2,1)="1",2,1))),(IF(COUNTIFS(F:F,"<="&F15)<=VALUE(MID(H15,FIND(", ",H15)+2,IF(MID(H15,FIND(", ",H15)+2,1)="1",2,1))),1,(VALUE(MID(H15,FIND(", ",H15)+2,IF(MID(H15,FIND(", ",H15)+2,1)="1",2,1)))-COUNTIFS(F:F,"<"&F15))/COUNTIFS(F:F,F15)))*(50*E15*(1+VALUE(MID(H15,FIND(": ",H15)+2,FIND("/",H15)-FIND(":",H15)-2))-1)/VALUE(RIGHT(H15,1))+50*E15)-(100*E15),-E15*100))) | H15: =IF(E15="","",OFFSET([1]LPGA!$AL$1,MATCH(A15,[1]LPGA!$E$1:$E$500,0)-1,0))
A16: Celine Boutier | B16: 1.54% | C16: 65 | D16: 51 | F16: =IFERROR(IF(A16="","",OFFSET(Results!$AJ$1,MATCH(A16,Results!$A:$A,0)-1,0)),"") -> 42 | G16: =IF(OR(E16="",F16=""),"",IF(F16=1,(IF(COUNTIFS(F:F,"<="&F16)<=1,1,(1-COUNTIFS(F:F,"<"&F16))/COUNTIFS(F:F,F16)))*50*E16*(1+VALUE(MID(H16,FIND(": ",H16)+2,FIND("/",H16)-FIND(":",H16)-2))-1)+50*E16*(1+VALUE(MID(H16,FIND(": ",H16)+2,FIND("/",H16)-FIND(":",H16)-2))-1)/VALUE(RIGHT(H16,1)),IF(F16<=VALUE(MID(H16,FIND(", ",H16)+2,IF(MID(H16,FIND(", ",H16)+2,1)="1",2,1))),(IF(COUNTIFS(F:F,"<="&F16)<=VALUE(MID(H16,FIND(", ",H16)+2,IF(MID(H16,FIND(", ",H16)+2,1)="1",2,1))),1,(VALUE(MID(H16,FIND(", ",H16)+2,IF(MID(H16,FIND(", ",H16)+2,1)="1",2,1)))-COUNTIFS(F:F,"<"&F16))/COUNTIFS(F:F,F16)))*(50*E16*(1+VALUE(MID(H16,FIND(": ",H16)+2,FIND("/",H16)-FIND(":",H16)-2))-1)/VALUE(RIGHT(H16,1))+50*E16)-(100*E16),-E16*100))) | H16: =IF(E16="","",OFFSET([1]LPGA!$AL$1,MATCH(A16,[1]LPGA!$E$1:$E$500,0)-1,0))
A17: Chanettee Wannasaen | B17: 0.03% | C17: 3333 | D17: 351 | F17: =IFERROR(IF(A17="","",OFFSET(Results!$AJ$1,MATCH(A17,Results!$A:$A,0)-1,0)),"") -> 18 | G17: =IF(OR(E17="",F17=""),"",IF(F17=1,(IF(COUNTIFS(F:F,"<="&F17)<=1,1,(1-COUNTIFS(F:F,"<"&F17))/COUNTIFS(F:F,F17)))*50*E17*(1+VALUE(MID(H17,FIND(": ",H17)+2,FIND("/",H17)-FIND(":",H17)-2))-1)+50*E17*(1+VALUE(MID(H17,FIND(": ",H17)+2,FIND("/",H17)-FIND(":",H17)-2))-1)/VALUE(RIGHT(H17,1)),IF(F17<=VALUE(MID(H17,FIND(", ",H17)+2,IF(MID(H17,FIND(", ",H17)+2,1)="1",2,1))),(IF(COUNTIFS(F:F,"<="&F17)<=VALUE(MID(H17,FIND(", ",H17)+2,IF(MID(H17,FIND(", ",H17)+2,1)="1",2,1))),1,(VALUE(MID(H17,FIND(", ",H17)+2,IF(MID(H17,FIND(", ",H17)+2,1)="1",2,1)))-COUNTIFS(F:F,"<"&F17))/COUNTIFS(F:F,F17)))*(50*E17*(1+VALUE(MID(H17,FIND(": ",H17)+2,FIND("/",H17)-FIND(":",H17)-2))-1)/VALUE(RIGHT(H17,1))+50*E17)-(100*E17),-E17*100))) | H17: =IF(E17="","",OFFSET([1]LPGA!$AL$1,MATCH(A17,[1]LPGA!$E$1:$E$500,0)-1,0))
A18: Chisato Iwai | B18: 4.54% | C18: 22 | D18: 36 | E18: 1.80% | F18: =IFERROR(IF(A18="","",OFFSET(Results!$AJ$1,MATCH(A18,Results!$A:$A,0)-1,0)),"") -> 2 | G18: =IF(OR(E18="",F18=""),"",IF(F18=1,(IF(COUNTIFS(F:F,"<="&F18)<=1,1,(1-COUNTIFS(F:F,"<"&F18))/COUNTIFS(F:F,F18)))*50*E18*(1+VALUE(MID(H18,FIND(": ",H18)+2,FIND("/",H18)-FIND(":",H18)-2))-1)+50*E18*(1+VALUE(MID(H18,FIND(": ",H18)+2,FIND("/",H18)-FIND(":",H18)-2))-1)/VALUE(RIGHT(H18,1)),IF(F18<=VALUE(MID(H18,FIND(", ",H18)+2,IF(MID(H18,FIND(", ",H18)+2,1)="1",2,1))),(IF(COUNTIFS(F:F,"<="&F18)<=VALUE(MID(H18,FIND(", ",H18)+2,IF(MID(H18,FIND(", ",H18)+2,1)="1",2,1))),1,(VALUE(MID(H18,FIND(", ",H18)+2,IF(MID(H18,FIND(", ",H18)+2,1)="1",2,1)))-COUNTIFS(F:F,"<"&F18))/COUNTIFS(F:F,F18)))*(50*E18*(1+VALUE(MID(H18,FIND(": ",H18)+2,FIND("/",H18)-FIND(":",H18)-2))-1)/VALUE(RIGHT(H18,1))+50*E18)-(100*E18),-E18*100))) -> 6.975 | H18: =IF(E18="","",OFFSET([1]LPGA!$AL$1,MATCH(A18,[1]LPGA!$E$1:$E$500,0)-1,0)) -> Betfred: 35/1, 5pl, 1/4
A19: Danielle Kang | B19: 0.00% | C19: 10000 | D19: 1001 | F19: =IFERROR(IF(A19="","",OFFSET(Results!$AJ$1,MATCH(A19,Results!$A:$A,0)-1,0)),"") -> 71 | G19: =IF(OR(E19="",F19=""),"",IF(F19=1,(IF(COUNTIFS(F:F,"<="&F19)<=1,1,(1-COUNTIFS(F:F,"<"&F19))/COUNTIFS(F:F,F19)))*50*E19*(1+VALUE(MID(H19,FIND(": ",H19)+2,FIND("/",H19)-FIND(":",H19)-2))-1)+50*E19*(1+VALUE(MID(H19,FIND(": ",H19)+2,FIND("/",H19)-FIND(":",H19)-2))-1)/VALUE(RIGHT(H19,1)),IF(F19<=VALUE(MID(H19,FIND(", ",H19)+2,IF(MID(H19,FIND(", ",H19)+2,1)="1",2,1))),(IF(COUNTIFS(F:F,"<="&F19)<=VALUE(MID(H19,FIND(", ",H19)+2,IF(MID(H19,FIND(", ",H19)+2,1)="1",2,1))),1,(VALUE(MID(H19,FIND(", ",H19)+2,IF(MID(H19,FIND(", ",H19)+2,1)="1",2,1)))-COUNTIFS(F:F,"<"&F19))/COUNTIFS(F:F,F19)))*(50*E19*(1+VALUE(MID(H19,FIND(": ",H19)+2,FIND("/",H19)-FIND(":",H19)-2))-1)/VALUE(RIGHT(H19,1))+50*E19)-(100*E19),-E19*100))) | H19: =IF(E19="","",OFFSET([1]LPGA!$AL$1,MATCH(A19,[1]LPGA!$E$1:$E$500,0)-1,0))
A20: Esther Henseleit | B20: 0.41% | C20: 244 | D20: 126 | F20: =IFERROR(IF(A20="","",OFFSET(Results!$AJ$1,MATCH(A20,Results!$A:$A,0)-1,0)),"") -> 62 | G20: =IF(OR(E20="",F20=""),"",IF(F20=1,(IF(COUNTIFS(F:F,"<="&F20)<=1,1,(1-COUNTIFS(F:F,"<"&F20))/COUNTIFS(F:F,F20)))*50*E20*(1+VALUE(MID(H20,FIND(": ",H20)+2,FIND("/",H20)-FIND(":",H20)-2))-1)+50*E20*(1+VALUE(MID(H20,FIND(": ",H20)+2,FIND("/",H20)-FIND(":",H20)-2))-1)/VALUE(RIGHT(H20,1)),IF(F20<=VALUE(MID(H20,FIND(", ",H20)+2,IF(MID(H20,FIND(", ",H20)+2,1)="1",2,1))),(IF(COUNTIFS(F:F,"<="&F20)<=VALUE(MID(H20,FIND(", ",H20)+2,IF(MID(H20,FIND(", ",H20)+2,1)="1",2,1))),1,(VALUE(MID(H20,FIND(", ",H20)+2,IF(MID(H20,FIND(", ",H20)+2,1)="1",2,1)))-COUNTIFS(F:F,"<"&F20))/COUNTIFS(F:F,F20)))*(50*E20*(1+VALUE(MID(H20,FIND(": ",H20)+2,FIND("/",H20)-FIND(":",H20)-2))-1)/VALUE(RIGHT(H20,1))+50*E20)-(100*E20),-E20*100))) | H20: =IF(E20="","",OFFSET([1]LPGA!$AL$1,MATCH(A20,[1]LPGA!$E$1:$E$500,0)-1,0))
A21: Gaby Lopez | B21: 2.65% | C21: 38 | D21: 41 | E21: 0.20% | F21: =IFERROR(IF(A21="","",OFFSET(Results!$AJ$1,MATCH(A21,Results!$A:$A,0)-1,0)),"") -> 38 | G21: =IF(OR(E21="",F21=""),"",IF(F21=1,(IF(COUNTIFS(F:F,"<="&F21)<=1,1,(1-COUNTIFS(F:F,"<"&F21))/COUNTIFS(F:F,F21)))*50*E21*(1+VALUE(MID(H21,FIND(": ",H21)+2,FIND("/",H21)-FIND(":",H21)-2))-1)+50*E21*(1+VALUE(MID(H21,FIND(": ",H21)+2,FIND("/",H21)-FIND(":",H21)-2))-1)/VALUE(RIGHT(H21,1)),IF(F21<=VALUE(MID(H21,FIND(", ",H21)+2,IF(MID(H21,FIND(", ",H21)+2,1)="1",2,1))),(IF(COUNTIFS(F:F,"<="&F21)<=VALUE(MID(H21,FIND(", ",H21)+2,IF(MID(H21,FIND(", ",H21)+2,1)="1",2,1))),1,(VALUE(MID(H21,FIND(", ",H21)+2,IF(MID(H21,FIND(", ",H21)+2,1)="1",2,1)))-COUNTIFS(F:F,"<"&F21))/COUNTIFS(F:F,F21)))*(50*E21*(1+VALUE(MID(H21,FIND(": ",H21)+2,FIND("/",H21)-FIND(":",H21)-2))-1)/VALUE(RIGHT(H21,1))+50*E21)-(100*E21),-E21*100))) -> -0.2 | H21: =IF(E21="","",OFFSET([1]LPGA!$AL$1,MATCH(A21,[1]LPGA!$E$1:$E$500,0)-1,0)) -> Ladbrokes: 40/1, 5pl, 1/4
A22: Gemma Dryburgh | B22: 0.06% | C22: 1667 | D22: 181 | F22: =IFERROR(IF(A22="","",OFFSET(Results!$AJ$1,MATCH(A22,Results!$A:$A,0)-1,0)),"") -> 59 | G22: =IF(OR(E22="",F22=""),"",IF(F22=1,(IF(COUNTIFS(F:F,"<="&F22)<=1,1,(1-COUNTIFS(F:F,"<"&F22))/COUNTIFS(F:F,F22)))*50*E22*(1+VALUE(MID(H22,FIND(": ",H22)+2,FIND("/",H22)-FIND(":",H22)-2))-1)+50*E22*(1+VALUE(MID(H22,FIND(": ",H22)+2,FIND("/",H22)-FIND(":",H22)-2))-1)/VALUE(RIGHT(H22,1)),IF(F22<=VALUE(MID(H22,FIND(", ",H22)+2,IF(MID(H22,FIND(", ",H22)+2,1)="1",2,1))),(IF(COUNTIFS(F:F,"<="&F22)<=VALUE(MID(H22,FIND(", ",H22)+2,IF(MID(H22,FIND(", ",H22)+2,1)="1",2,1))),1,(VALUE(MID(H22,FIND(", ",H22)+2,IF(MID(H22,FIND(", ",H22)+2,1)="1",2,1)))-COUNTIFS(F:F,"<"&F22))/COUNTIFS(F:F,F22)))*(50*E22*(1+VALUE(MID(H22,FIND(": ",H22)+2,FIND("/",H22)-FIND(":",H22)-2))-1)/VALUE(RIGHT(H22,1))+50*E22)-(100*E22),-E22*100))) | H22: =IF(E22="","",OFFSET([1]LPGA!$AL$1,MATCH(A22,[1]LPGA!$E$1:$E$500,0)-1,0))
A23: Gianna Clemente | B23: 0.03% | C23: 3333 | D23: 301 | F23: =IFERROR(IF(A23="","",OFFSET(Results!$AJ$1,MATCH(A23,Results!$A:$A,0)-1,0)),"") -> 53 | G23: =IF(OR(E23="",F23=""),"",IF(F23=1,(IF(COUNTIFS(F:F,"<="&F23)<=1,1,(1-COUNTIFS(F:F,"<"&F23))/COUNTIFS(F:F,F23)))*50*E23*(1+VALUE(MID(H23,FIND(": ",H23)+2,FIND("/",H23)-FIND(":",H23)-2))-1)+50*E23*(1+VALUE(MID(H23,FIND(": ",H23)+2,FIND("/",H23)-FIND(":",H23)-2))-1)/VALUE(RIGHT(H23,1)),IF(F23<=VALUE(MID(H23,FIND(", ",H23)+2,IF(MID(H23,FIND(", ",H23)+2,1)="1",2,1))),(IF(COUNTIFS(F:F,"<="&F23)<=VALUE(MID(H23,FIND(", ",H23)+2,IF(MID(H23,FIND(", ",H23)+2,1)="1",2,1))),1,(VALUE(MID(H23,FIND(", ",H23)+2,IF(MID(H23,FIND(", ",H23)+2,1)="1",2,1)))-COUNTIFS(F:F,"<"&F23))/COUNTIFS(F:F,F23)))*(50*E23*(1+VALUE(MID(H23,FIND(": ",H23)+2,FIND("/",H23)-FIND(":",H23)-2))-1)/VALUE(RIGHT(H23,1))+50*E23)-(100*E23),-E23*100))) | H23: =IF(E23="","",OFFSET([1]LPGA!$AL$1,MATCH(A23,[1]LPGA!$E$1:$E$500,0)-1,0))
A24: Grace Kim | B24: 0.43% | C24: 233 | D24: 91 | F24: =IFERROR(IF(A24="","",OFFSET(Results!$AJ$1,MATCH(A24,Results!$A:$A,0)-1,0)),"") -> 38 | G24: =IF(OR(E24="",F24=""),"",IF(F24=1,(IF(COUNTIFS(F:F,"<="&F24)<=1,1,(1-COUNTIFS(F:F,"<"&F24))/COUNTIFS(F:F,F24)))*50*E24*(1+VALUE(MID(H24,FIND(": ",H24)+2,FIND("/",H24)-FIND(":",H24)-2))-1)+50*E24*(1+VALUE(MID(H24,FIND(": ",H24)+2,FIND("/",H24)-FIND(":",H24)-2))-1)/VALUE(RIGHT(H24,1)),IF(F24<=VALUE(MID(H24,FIND(", ",H24)+2,IF(MID(H24,FIND(", ",H24)+2,1)="1",2,1))),(IF(COUNTIFS(F:F,"<="&F24)<=VALUE(MID(H24,FIND(", ",H24)+2,IF(MID(H24,FIND(", ",H24)+2,1)="1",2,1))),1,(VALUE(MID(H24,FIND(", ",H24)+2,IF(MID(H24,FIND(", ",H24)+2,1)="1",2,1)))-COUNTIFS(F:F,"<"&F24))/COUNTIFS(F:F,F24)))*(50*E24*(1+VALUE(MID(H24,FIND(": ",H24)+2,FIND("/",H24)-FIND(":",H24)-2))-1)/VALUE(RIGHT(H24,1))+50*E24)-(100*E24),-E24*100))) | H24: =IF(E24="","",OFFSET([1]LPGA!$AL$1,MATCH(A24,[1]LPGA!$E$1:$E$500,0)-1,0))
A25: Gurleen Kaur | B25: 0.01% | C25: 10000 | D25: 501 | F25: =IFERROR(IF(A25="","",OFFSET(Results!$AJ$1,MATCH(A25,Results!$A:$A,0)-1,0)),"") -> 59 | G25: =IF(OR(E25="",F25=""),"",IF(F25=1,(IF(COUNTIFS(F:F,"<="&F25)<=1,1,(1-COUNTIFS(F:F,"<"&F25))/COUNTIFS(F:F,F25)))*50*E25*(1+VALUE(MID(H25,FIND(": ",H25)+2,FIND("/",H25)-FIND(":",H25)-2))-1)+50*E25*(1+VALUE(MID(H25,FIND(": ",H25)+2,FIND("/",H25)-FIND(":",H25)-2))-1)/VALUE(RIGHT(H25,1)),IF(F25<=VALUE(MID(H25,FIND(", ",H25)+2,IF(MID(H25,FIND(", ",H25)+2,1)="1",2,1))),(IF(COUNTIFS(F:F,"<="&F25)<=VALUE(MID(H25,FIND(", ",H25)+2,IF(MID(H25,FIND(", ",H25)+2,1)="1",2,1))),1,(VALUE(MID(H25,FIND(", ",H25)+2,IF(MID(H25,FIND(", ",H25)+2,1)="1",2,1)))-COUNTIFS(F:F,"<"&F25))/COUNTIFS(F:F,F25)))*(50*E25*(1+VALUE(MID(H25,FIND(": ",H25)+2,FIND("/",H25)-FIND(":",H25)-2))-1)/VALUE(RIGHT(H25,1))+50*E25)-(100*E25),-E25*100))) | H25: =IF(E25="","",OFFSET([1]LPGA!$AL$1,MATCH(A25,[1]LPGA!$E$1:$E$500,0)-1,0))
A26: Haeran Ryu | B26: 5.12% | C26: 20 | D26: 23 | E26: 0.80% | F26: =IFERROR(IF(A26="","",OFFSET(Results!$AJ$1,MATCH(A26,Results!$A:$A,0)-1,0)),"") -> 10 | G26: =IF(OR(E26="",F26=""),"",IF(F26=1,(IF(COUNTIFS(F:F,"<="&F26)<=1,1,(1-COUNTIFS(F:F,"<"&F26))/COUNTIFS(F:F,F26)))*50*E26*(1+VALUE(MID(H26,FIND(": ",H26)+2,FIND("/",H26)-FIND(":",H26)-2))-1)+50*E26*(1+VALUE(MID(H26,FIND(": ",H26)+2,FIND("/",H26)-FIND(":",H26)-2))-1)/VALUE(RIGHT(H26,1)),IF(F26<=VALUE(MID(H26,FIND(", ",H26)+2,IF(MID(H26,FIND(", ",H26)+2,1)="1",2,1))),(IF(COUNTIFS(F:F,"<="&F26)<=VALUE(MID(H26,FIND(", ",H26)+2,IF(MID(H26,FIND(", ",H26)+2,1)="1",2,1))),1,(VALUE(MID(H26,FIND(", ",H26)+2,IF(MID(H26,FIND(", ",H26)+2,1)="1",2,1)))-COUNTIFS(F:F,"<"&F26))/COUNTIFS(F:F,F26)))*(50*E26*(1+VALUE(MID(H26,FIND(": ",H26)+2,FIND("/",H26)-FIND(":",H26)-2))-1)/VALUE(RIGHT(H26,1))+50*E26)-(100*E26),-E26*100))) -> -0.8 | H26: =IF(E26="","",OFFSET([1]LPGA!$AL$1,MATCH(A26,[1]LPGA!$E$1:$E$500,0)-1,0)) -> Bet365: 22/1, 5pl, 1/4
A27: Hannah Green | B27: 0.48% | C27: 208 | D27: 67 | F27: =IFERROR(IF(A27="","",OFFSET(Results!$AJ$1,MATCH(A27,Results!$A:$A,0)-1,0)),"") -> 7 | G27: =IF(OR(E27="",F27=""),"",IF(F27=1,(IF(COUNTIFS(F:F,"<="&F27)<=1,1,(1-COUNTIFS(F:F,"<"&F27))/COUNTIFS(F:F,F27)))*50*E27*(1+VALUE(MID(H27,FIND(": ",H27)+2,FIND("/",H27)-FIND(":",H27)-2))-1)+50*E27*(1+VALUE(MID(H27,FIND(": ",H27)+2,FIND("/",H27)-FIND(":",H27)-2))-1)/VALUE(RIGHT(H27,1)),IF(F27<=VALUE(MID(H27,FIND(", ",H27)+2,IF(MID(H27,FIND(", ",H27)+2,1)="1",2,1))),(IF(COUNTIFS(F:F,"<="&F27)<=VALUE(MID(H27,FIND(", ",H27)+2,IF(MID(H27,FIND(", ",H27)+2,1)="1",2,1))),1,(VALUE(MID(H27,FIND(", ",H27)+2,IF(MID(H27,FIND(", ",H27)+2,1)="1",2,1)))-COUNTIFS(F:F,"<"&F27))/COUNTIFS(F:F,F27)))*(50*E27*(1+VALUE(MID(H27,FIND(": ",H27)+2,FIND("/",H27)-FIND(":",H27)-2))-1)/VALUE(RIGHT(H27,1))+50*E27)-(100*E27),-E27*100))) | H27: =IF(E27="","",OFFSET([1]LPGA!$AL$1,MATCH(A27,[1]LPGA!$E$1:$E$500,0)-1,0))
A28: Hye-Jin Choi | B28: 5.99% | C28: 17 | D28: 19 | E28: 0.80% | F28: =IFERROR(IF(A28="","",OFFSET(Results!$AJ$1,MATCH(A28,Results!$A:$A,0)-1,0)),"") -> 8 | G28: =IF(OR(E28="",F28=""),"",IF(F28=1,(IF(COUNTIFS(F:F,"<="&F28)<=1,1,(1-COUNTIFS(F:F,"<"&F28))/COUNTIFS(F:F,F28)))*50*E28*(1+VALUE(MID(H28,FIND(": ",H28)+2,FIND("/",H28)-FIND(":",H28)-2))-1)+50*E28*(1+VALUE(MID(H28,FIND(": ",H28)+2,FIND("/",H28)-FIND(":",H28)-2))-1)/VALUE(RIGHT(H28,1)),IF(F28<=VALUE(MID(H28,FIND(", ",H28)+2,IF(MID(H28,FIND(", ",H28)+2,1)="1",2,1))),(IF(COUNTIFS(F:F,"<="&F28)<=VALUE(MID(H28,FIND(", ",H28)+2,IF(MID(H28,FIND(", ",H28)+2,1)="1",2,1))),1,(VALUE(MID(H28,FIND(", ",H28)+2,IF(MID(H28,FIND(", ",H28)+2,1)="1",2,1)))-COUNTIFS(F:F,"<"&F28))/COUNTIFS(F:F,F28)))*(50*E28*(1+VALUE(MID(H28,FIND(": ",H28)+2,FIND("/",H28)-FIND(":",H28)-2))-1)/VALUE(RIGHT(H28,1))+50*E28)-(100*E28),-E28*100))) -> -0.8 | H28: =IF(E28="","",OFFSET([1]LPGA!$AL$1,MATCH(A28,[1]LPGA!$E$1:$E$500,0)-1,0)) -> Unibet: 18/1, 5pl, 1/4
A29: Hyo Joo Kim | B29: 1.79% | C29: 56 | D29: 26 | F29: =IFERROR(IF(A29="","",OFFSET(Results!$AJ$1,MATCH(A29,Results!$A:$A,0)-1,0)),"") -> 3 | G29: =IF(OR(E29="",F29=""),"",IF(F29=1,(IF(COUNTIFS(F:F,"<="&F29)<=1,1,(1-COUNTIFS(F:F,"<"&F29))/COUNTIFS(F:F,F29)))*50*E29*(1+VALUE(MID(H29,FIND(": ",H29)+2,FIND("/",H29)-FIND(":",H29)-2))-1)+50*E29*(1+VALUE(MID(H29,FIND(": ",H29)+2,FIND("/",H29)-FIND(":",H29)-2))-1)/VALUE(RIGHT(H29,1)),IF(F29<=VALUE(MID(H29,FIND(", ",H29)+2,IF(MID(H29,FIND(", ",H29)+2,1)="1",2,1))),(IF(COUNTIFS(F:F,"<="&F29)<=VALUE(MID(H29,FIND(", ",H29)+2,IF(MID(H29,FIND(", ",H29)+2,1)="1",2,1))),1,(VALUE(MID(H29,FIND(", ",H29)+2,IF(MID(H29,FIND(", ",H29)+2,1)="1",2,1)))-COUNTIFS(F:F,"<"&F29))/COUNTIFS(F:F,F29)))*(50*E29*(1+VALUE(MID(H29,FIND(": ",H29)+2,FIND("/",H29)-FIND(":",H29)-2))-1)/VALUE(RIGHT(H29,1))+50*E29)-(100*E29),-E29*100))) | H29: =IF(E29="","",OFFSET([1]LPGA!$AL$1,MATCH(A29,[1]LPGA!$E$1:$E$500,0)-1,0))
A30: Ina Yoon | B30: 1.06% | C30: 94 | D30: 51 | F30: =IFERROR(IF(A30="","",OFFSET(Results!$AJ$1,MATCH(A30,Results!$A:$A,0)-1,0)),"") -> 50 | G30: =IF(OR(E30="",F30=""),"",IF(F30=1,(IF(COUNTIFS(F:F,"<="&F30)<=1,1,(1-COUNTIFS(F:F,"<"&F30))/COUNTIFS(F:F,F30)))*50*E30*(1+VALUE(MID(H30,FIND(": ",H30)+2,FIND("/",H30)-FIND(":",H30)-2))-1)+50*E30*(1+VALUE(MID(H30,FIND(": ",H30)+2,FIND("/",H30)-FIND(":",H30)-2))-1)/VALUE(RIGHT(H30,1)),IF(F30<=VALUE(MID(H30,FIND(", ",H30)+2,IF(MID(H30,FIND(", ",H30)+2,1)="1",2,1))),(IF(COUNTIFS(F:F,"<="&F30)<=VALUE(MID(H30,FIND(", ",H30)+2,IF(MID(H30,FIND(", ",H30)+2,1)="1",2,1))),1,(VALUE(MID(H30,FIND(", ",H30)+2,IF(MID(H30,FIND(", ",H30)+2,1)="1",2,1)))-COUNTIFS(F:F,"<"&F30))/COUNTIFS(F:F,F30)))*(50*E30*(1+VALUE(MID(H30,FIND(": ",H30)+2,FIND("/",H30)-FIND(":",H30)-2))-1)/VALUE(RIGHT(H30,1))+50*E30)-(100*E30),-E30*100))) | H30: =IF(E30="","",OFFSET([1]LPGA!$AL$1,MATCH(A30,[1]LPGA!$E$1:$E$500,0)-1,0))
A31: Ingrid Lindblad | B31: 0.02% | C31: 5000 | D31: 276 | F31: =IFERROR(IF(A31="","",OFFSET(Results!$AJ$1,MATCH(A31,Results!$A:$A,0)-1,0)),"") -> 53 | G31: =IF(OR(E31="",F31=""),"",IF(F31=1,(IF(COUNTIFS(F:F,"<="&F31)<=1,1,(1-COUNTIFS(F:F,"<"&F31))/COUNTIFS(F:F,F31)))*50*E31*(1+VALUE(MID(H31,FIND(": ",H31)+2,FIND("/",H31)-FIND(":",H31)-2))-1)+50*E31*(1+VALUE(MID(H31,FIND(": ",H31)+2,FIND("/",H31)-FIND(":",H31)-2))-1)/VALUE(RIGHT(H31,1)),IF(F31<=VALUE(MID(H31,FIND(", ",H31)+2,IF(MID(H31,FIND(", ",H31)+2,1)="1",2,1))),(IF(COUNTIFS(F:F,"<="&F31)<=VALUE(MID(H31,FIND(", ",H31)+2,IF(MID(H31,FIND(", ",H31)+2,1)="1",2,1))),1,(VALUE(MID(H31,FIND(", ",H31)+2,IF(MID(H31,FIND(", ",H31)+2,1)="1",2,1)))-COUNTIFS(F:F,"<"&F31))/COUNTIFS(F:F,F31)))*(50*E31*(1+VALUE(MID(H31,FIND(": ",H31)+2,FIND("/",H31)-FIND(":",H31)-2))-1)/VALUE(RIGHT(H31,1))+50*E31)-(100*E31),-E31*100))) | H31: =IF(E31="","",OFFSET([1]LPGA!$AL$1,MATCH(A31,[1]LPGA!$E$1:$E$500,0)-1,0))
A32: Jeeno Thitikul | B32: 22.47% | C32: 4.5 | D32: 4.5 | E32: 0.30% | F32: =IFERROR(IF(A32="","",OFFSET(Results!$AJ$1,MATCH(A32,Results!$A:$A,0)-1,0)),"") -> 1 | G32: =IF(OR(E32="",F32=""),"",IF(F32=1,(IF(COUNTIFS(F:F,"<="&F32)<=1,1,(1-COUNTIFS(F:F,"<"&F32))/COUNTIFS(F:F,F32)))*50*E32*(1+VALUE(MID(H32,FIND(": ",H32)+2,FIND("/",H32)-FIND(":",H32)-2))-1)+50*E32*(1+VALUE(MID(H32,FIND(": ",H32)+2,FIND("/",H32)-FIND(":",H32)-2))-1)/VALUE(RIGHT(H32,1)),IF(F32<=VALUE(MID(H32,FIND(", ",H32)+2,IF(MID(H32,FIND(", ",H32)+2,1)="1",2,1))),(IF(COUNTIFS(F:F,"<="&F32)<=VALUE(MID(H32,FIND(", ",H32)+2,IF(MID(H32,FIND(", ",H32)+2,1)="1",2,1))),1,(VALUE(MID(H32,FIND(", ",H32)+2,IF(MID(H32,FIND(", ",H32)+2,1)="1",2,1)))-COUNTIFS(F:F,"<"&F32))/COUNTIFS(F:F,F32)))*(50*E32*(1+VALUE(MID(H32,FIND(": ",H32)+2,FIND("/",H32)-FIND(":",H32)-2))-1)/VALUE(RIGHT(H32,1))+50*E32)-(100*E32),-E32*100))) -> 0.65625 | H32: =IF(E32="","",OFFSET([1]LPGA!$AL$1,MATCH(A32,[1]LPGA!$E$1:$E$500,0)-1,0)) -> Bet365: 3.5/1, 5pl, 1/4
A33: Jennifer Kupcho | B33: 0.48% | C33: 208 | D33: 67 | F33: =IFERROR(IF(A33="","",OFFSET(Results!$AJ$1,MATCH(A33,Results!$A:$A,0)-1,0)),"") -> 46 | G33: =IF(OR(E33="",F33=""),"",IF(F33=1,(IF(COUNTIFS(F:F,"<="&F33)<=1,1,(1-COUNTIFS(F:F,"<"&F33))/COUNTIFS(F:F,F33)))*50*E33*(1+VALUE(MID(H33,FIND(": ",H33)+2,FIND("/",H33)-FIND(":",H33)-2))-1)+50*E33*(1+VALUE(MID(H33,FIND(": ",H33)+2,FIND("/",H33)-FIND(":",H33)-2))-1)/VALUE(RIGHT(H33,1)),IF(F33<=VALUE(MID(H33,FIND(", ",H33)+2,IF(MID(H33,FIND(", ",H33)+2,1)="1",2,1))),(IF(COUNTIFS(F:F,"<="&F33)<=VALUE(MID(H33,FIND(", ",H33)+2,IF(MID(H33,FIND(", ",H33)+2,1)="1",2,1))),1,(VALUE(MID(H33,FIND(", ",H33)+2,IF(MID(H33,FIND(", ",H33)+2,1)="1",2,1)))-COUNTIFS(F:F,"<"&F33))/COUNTIFS(F:F,F33)))*(50*E33*(1+VALUE(MID(H33,FIND(": ",H33)+2,FIND("/",H33)-FIND(":",H33)-2))-1)/VALUE(RIGHT(H33,1))+50*E33)-(100*E33),-E33*100))) | H33: =IF(E33="","",OFFSET([1]LPGA!$AL$1,MATCH(A33,[1]LPGA!$E$1:$E$500,0)-1,0))
A34: Jenny Bae | B34: 0.11% | C34: 909 | D34: 201 | F34: =IFERROR(IF(A34="","",OFFSET(Results!$AJ$1,MATCH(A34,Results!$A:$A,0)-1,0)),"") -> 18 | G34: =IF(OR(E34="",F34=""),"",IF(F34=1,(IF(COUNTIFS(F:F,"<="&F34)<=1,1,(1-COUNTIFS(F:F,"<"&F34))/COUNTIFS(F:F,F34)))*50*E34*(1+VALUE(MID(H34,FIND(": ",H34)+2,FIND("/",H34)-FIND(":",H34)-2))-1)+50*E34*(1+VALUE(MID(H34,FIND(": ",H34)+2,FIND("/",H34)-FIND(":",H34)-2))-1)/VALUE(RIGHT(H34,1)),IF(F34<=VALUE(MID(H34,FIND(", ",H34)+2,IF(MID(H34,FIND(", ",H34)+2,1)="1",2,1))),(IF(COUNTIFS(F:F,"<="&F34)<=VALUE(MID(H34,FIND(", ",H34)+2,IF(MID(H34,FIND(", ",H34)+2,1)="1",2,1))),1,(VALUE(MID(H34,FIND(", ",H34)+2,IF(MID(H34,FIND(", ",H34)+2,1)="1",2,1)))-COUNTIFS(F:F,"<"&F34))/COUNTIFS(F:F,F34)))*(50*E34*(1+VALUE(MID(H34,FIND(": ",H34)+2,FIND("/",H34)-FIND(":",H34)-2))-1)/VALUE(RIGHT(H34,1))+50*E34)-(100*E34),-E34*100))) | H34: =IF(E34="","",OFFSET([1]LPGA!$AL$1,MATCH(A34,[1]LPGA!$E$1:$E$500,0)-1,0))
A35: Jin Hee Im | B35: 0.58% | C35: 172 | D35: 81 | F35: =IFERROR(IF(A35="","",OFFSET(Results!$AJ$1,MATCH(A35,Results!$A:$A,0)-1,0)),"") -> 53 | G35: =IF(OR(E35="",F35=""),"",IF(F35=1,(IF(COUNTIFS(F:F,"<="&F35)<=1,1,(1-COUNTIFS(F:F,"<"&F35))/COUNTIFS(F:F,F35)))*50*E35*(1+VALUE(MID(H35,FIND(": ",H35)+2,FIND("/",H35)-FIND(":",H35)-2))-1)+50*E35*(1+VALUE(MID(H35,FIND(": ",H35)+2,FIND("/",H35)-FIND(":",H35)-2))-1)/VALUE(RIGHT(H35,1)),IF(F35<=VALUE(MID(H35,FIND(", ",H35)+2,IF(MID(H35,FIND(", ",H35)+2,1)="1",2,1))),(IF(COUNTIFS(F:F,"<="&F35)<=VALUE(MID(H35,FIND(", ",H35)+2,IF(MID(H35,FIND(", ",H35)+2,1)="1",2,1))),1,(VALUE(MID(H35,FIND(", ",H35)+2,IF(MID(H35,FIND(", ",H35)+2,1)="1",2,1)))-COUNTIFS(F:F,"<"&F35))/COUNTIFS(F:F,F35)))*(50*E35*(1+VALUE(MID(H35,FIND(": ",H35)+2,FIND("/",H35)-FIND(":",H35)-2))-1)/VALUE(RIGHT(H35,1))+50*E35)-(100*E35),-E35*100))) | H35: =IF(E35="","",OFFSET([1]LPGA!$AL$1,MATCH(A35,[1]LPGA!$E$1:$E$500,0)-1,0))
A36: Jin Young Ko | B36: 0.33% | C36: 303 | D36: 71 | F36: =IFERROR(IF(A36="","",OFFSET(Results!$AJ$1,MATCH(A36,Results!$A:$A,0)-1,0)),"") -> 53 | G36: =IF(OR(E36="",F36=""),"",IF(F36=1,(IF(COUNTIFS(F:F,"<="&F36)<=1,1,(1-COUNTIFS(F:F,"<"&F36))/COUNTIFS(F:F,F36)))*50*E36*(1+VALUE(MID(H36,FIND(": ",H36)+2,FIND("/",H36)-FIND(":",H36)-2))-1)+50*E36*(1+VALUE(MID(H36,FIND(": ",H36)+2,FIND("/",H36)-FIND(":",H36)-2))-1)/VALUE(RIGHT(H36,1)),IF(F36<=VALUE(MID(H36,FIND(", ",H36)+2,IF(MID(H36,FIND(", ",H36)+2,1)="1",2,1))),(IF(COUNTIFS(F:F,"<="&F36)<=VALUE(MID(H36,FIND(", ",H36)+2,IF(MID(H36,FIND(", ",H36)+2,1)="1",2,1))),1,(VALUE(MID(H36,FIND(", ",H36)+2,IF(MID(H36,FIND(", ",H36)+2,1)="1",2,1)))-COUNTIFS(F:F,"<"&F36))/COUNTIFS(F:F,F36)))*(50*E36*(1+VALUE(MID(H36,FIND(": ",H36)+2,FIND("/",H36)-FIND(":",H36)-2))-1)/VALUE(RIGHT(H36,1))+50*E36)-(100*E36),-E36*100))) | H36: =IF(E36="","",OFFSET([1]LPGA!$AL$1,MATCH(A36,[1]LPGA!$E$1:$E$500,0)-1,0))
A37: Julia Lopez Ramirez | B37: 0.01% | C37: 10000 | D37: 351 | F37: =IFERROR(IF(A37="","",OFFSET(Results!$AJ$1,MATCH(A37,Results!$A:$A,0)-1,0)),"") -> 23 | G37: =IF(OR(E37="",F37=""),"",IF(F37=1,(IF(COUNTIFS(F:F,"<="&F37)<=1,1,(1-COUNTIFS(F:F,"<"&F37))/COUNTIFS(F:F,F37)))*50*E37*(1+VALUE(MID(H37,FIND(": ",H37)+2,FIND("/",H37)-FIND(":",H37)-2))-1)+50*E37*(1+VALUE(MID(H37,FIND(": ",H37)+2,FIND("/",H37)-FIND(":",H37)-2))-1)/VALUE(RIGHT(H37,1)),IF(F37<=VALUE(MID(H37,FIND(", ",H37)+2,IF(MID(H37,FIND(", ",H37)+2,1)="1",2,1))),(IF(COUNTIFS(F:F,"<="&F37)<=VALUE(MID(H37,FIND(", ",H37)+2,IF(MID(H37,FIND(", ",H37)+2,1)="1",2,1))),1,(VALUE(MID(H37,FIND(", ",H37)+2,IF(MID(H37,FIND(", ",H37)+2,1)="1",2,1)))-COUNTIFS(F:F,"<"&F37))/COUNTIFS(F:F,F37)))*(50*E37*(1+VALUE(MID(H37,FIND(": ",H37)+2,FIND("/",H37)-FIND(":",H37)-2))-1)/VALUE(RIGHT(H37,1))+50*E37)-(100*E37),-E37*100))) | H37: =IF(E37="","",OFFSET([1]LPGA!$AL$1,MATCH(A37,[1]LPGA!$E$1:$E$500,0)-1,0))
A38: Karis Davidson | B38: 0.02% | C38: 5000 | D38: 401 | F38: =IFERROR(IF(A38="","",OFFSET(Results!$AJ$1,MATCH(A38,Results!$A:$A,0)-1,0)),"") -> 35 | G38: =IF(OR(E38="",F38=""),"",IF(F38=1,(IF(COUNTIFS(F:F,"<="&F38)<=1,1,(1-COUNTIFS(F:F,"<"&F38))/COUNTIFS(F:F,F38)))*50*E38*(1+VALUE(MID(H38,FIND(": ",H38)+2,FIND("/",H38)-FIND(":",H38)-2))-1)+50*E38*(1+VALUE(MID(H38,FIND(": ",H38)+2,FIND("/",H38)-FIND(":",H38)-2))-1)/VALUE(RIGHT(H38,1)),IF(F38<=VALUE(MID(H38,FIND(", ",H38)+2,IF(MID(H38,FIND(", ",H38)+2,1)="1",2,1))),(IF(COUNTIFS(F:F,"<="&F38)<=VALUE(MID(H38,FIND(", ",H38)+2,IF(MID(H38,FIND(", ",H38)+2,1)="1",2,1))),1,(VALUE(MID(H38,FIND(", ",H38)+2,IF(MID(H38,FIND(", ",H38)+2,1)="1",2,1)))-COUNTIFS(F:F,"<"&F38))/COUNTIFS(F:F,F38)))*(50*E38*(1+VALUE(MID(H38,FIND(": ",H38)+2,FIND("/",H38)-FIND(":",H38)-2))-1)/VALUE(RIGHT(H38,1))+50*E38)-(100*E38),-E38*100))) | H38: =IF(E38="","",OFFSET([1]LPGA!$AL$1,MATCH(A38,[1]LPGA!$E$1:$E$500,0)-1,0))
A39: Leona Maguire | B39: 0.02% | C39: 5000 | D39: 351 | F39: =IFERROR(IF(A39="","",OFFSET(Results!$AJ$1,MATCH(A39,Results!$A:$A,0)-1,0)),"") -> 32 | G39: =IF(OR(E39="",F39=""),"",IF(F39=1,(IF(COUNTIFS(F:F,"<="&F39)<=1,1,(1-COUNTIFS(F:F,"<"&F39))/COUNTIFS(F:F,F39)))*50*E39*(1+VALUE(MID(H39,FIND(": ",H39)+2,FIND("/",H39)-FIND(":",H39)-2))-1)+50*E39*(1+VALUE(MID(H39,FIND(": ",H39)+2,FIND("/",H39)-FIND(":",H39)-2))-1)/VALUE(RIGHT(H39,1)),IF(F39<=VALUE(MID(H39,FIND(", ",H39)+2,IF(MID(H39,FIND(", ",H39)+2,1)="1",2,1))),(IF(COUNTIFS(F:F,"<="&F39)<=VALUE(MID(H39,FIND(", ",H39)+2,IF(MID(H39,FIND(", ",H39)+2,1)="1",2,1))),1,(VALUE(MID(H39,FIND(", ",H39)+2,IF(MID(H39,FIND(", ",H39)+2,1)="1",2,1)))-COUNTIFS(F:F,"<"&F39))/COUNTIFS(F:F,F39)))*(50*E39*(1+VALUE(MID(H39,FIND(": ",H39)+2,FIND("/",H39)-FIND(":",H39)-2))-1)/VALUE(RIGHT(H39,1))+50*E39)-(100*E39),-E39*100))) | H39: =IF(E39="","",OFFSET([1]LPGA!$AL$1,MATCH(A39,[1]LPGA!$E$1:$E$500,0)-1,0))
A40: Lindy Duncan | B40: 0.43% | C40: 233 | D40: 81 | F40: =IFERROR(IF(A40="","",OFFSET(Results!$AJ$1,MATCH(A40,Results!$A:$A,0)-1,0)),"") -> 42 | G40: =IF(OR(E40="",F40=""),"",IF(F40=1,(IF(COUNTIFS(F:F,"<="&F40)<=1,1,(1-COUNTIFS(F:F,"<"&F40))/COUNTIFS(F:F,F40)))*50*E40*(1+VALUE(MID(H40,FIND(": ",H40)+2,FIND("/",H40)-FIND(":",H40)-2))-1)+50*E40*(1+VALUE(MID(H40,FIND(": ",H40)+2,FIND("/",H40)-FIND(":",H40)-2))-1)/VALUE(RIGHT(H40,1)),IF(F40<=VALUE(MID(H40,FIND(", ",H40)+2,IF(MID(H40,FIND(", ",H40)+2,1)="1",2,1))),(IF(COUNTIFS(F:F,"<="&F40)<=VALUE(MID(H40,FIND(", ",H40)+2,IF(MID(H40,FIND(", ",H40)+2,1)="1",2,1))),1,(VALUE(MID(H40,FIND(", ",H40)+2,IF(MID(H40,FIND(", ",H40)+2,1)="1",2,1)))-COUNTIFS(F:F,"<"&F40))/COUNTIFS(F:F,F40)))*(50*E40*(1+VALUE(MID(H40,FIND(": ",H40)+2,FIND("/",H40)-FIND(":",H40)-2))-1)/VALUE(RIGHT(H40,1))+50*E40)-(100*E40),-E40*100))) | H40: =IF(E40="","",OFFSET([1]LPGA!$AL$1,MATCH(A40,[1]LPGA!$E$1:$E$500,0)-1,0))
A41: Linn Grant | B41: 1.39% | C41: 72 | D41: 41 | F41: =IFERROR(IF(A41="","",OFFSET(Results!$AJ$1,MATCH(A41,Results!$A:$A,0)-1,0)),"") -> 32 | G41: =IF(OR(E41="",F41=""),"",IF(F41=1,(IF(COUNTIFS(F:F,"<="&F41)<=1,1,(1-COUNTIFS(F:F,"<"&F41))/COUNTIFS(F:F,F41)))*50*E41*(1+VALUE(MID(H41,FIND(": ",H41)+2,FIND("/",H41)-FIND(":",H41)-2))-1)+50*E41*(1+VALUE(MID(H41,FIND(": ",H41)+2,FIND("/",H41)-FIND(":",H41)-2))-1)/VALUE(RIGHT(H41,1)),IF(F41<=VALUE(MID(H41,FIND(", ",H41)+2,IF(MID(H41,FIND(", ",H41)+2,1)="1",2,1))),(IF(COUNTIFS(F:F,"<="&F41)<=VALUE(MID(H41,FIND(", ",H41)+2,IF(MID(H41,FIND(", ",H41)+2,1)="1",2,1))),1,(VALUE(MID(H41,FIND(", ",H41)+2,IF(MID(H41,FIND(", ",H41)+2,1)="1",2,1)))-COUNTIFS(F:F,"<"&F41))/COUNTIFS(F:F,F41)))*(50*E41*(1+VALUE(MID(H41,FIND(": ",H41)+2,FIND("/",H41)-FIND(":",H41)-2))-1)/VALUE(RIGHT(H41,1))+50*E41)-(100*E41),-E41*100))) | H41: =IF(E41="","",OFFSET([1]LPGA!$AL$1,MATCH(A41,[1]LPGA!$E$1:$E$500,0)-1,0))
A42: Lottie Woad | B42: 3.69% | C42: 27 | D42: 23 | F42: =IFERROR(IF(A42="","",OFFSET(Results!$AJ$1,MATCH(A42,Results!$A:$A,0)-1,0)),"") -> 15 | G42: =IF(OR(E42="",F42=""),"",IF(F42=1,(IF(COUNTIFS(F:F,"<="&F42)<=1,1,(1-COUNTIFS(F:F,"<"&F42))/COUNTIFS(F:F,F42)))*50*E42*(1+VALUE(MID(H42,FIND(": ",H42)+2,FIND("/",H42)-FIND(":",H42)-2))-1)+50*E42*(1+VALUE(MID(H42,FIND(": ",H42)+2,FIND("/",H42)-FIND(":",H42)-2))-1)/VALUE(RIGHT(H42,1)),IF(F42<=VALUE(MID(H42,FIND(", ",H42)+2,IF(MID(H42,FIND(", ",H42)+2,1)="1",2,1))),(IF(COUNTIFS(F:F,"<="&F42)<=VALUE(MID(H42,FIND(", ",H42)+2,IF(MID(H42,FIND(", ",H42)+2,1)="1",2,1))),1,(VALUE(MID(H42,FIND(", ",H42)+2,IF(MID(H42,FIND(", ",H42)+2,1)="1",2,1)))-COUNTIFS(F:F,"<"&F42))/COUNTIFS(F:F,F42)))*(50*E42*(1+VALUE(MID(H42,FIND(": ",H42)+2,FIND("/",H42)-FIND(":",H42)-2))-1)/VALUE(RIGHT(H42,1))+50*E42)-(100*E42),-E42*100))) | H42: =IF(E42="","",OFFSET([1]LPGA!$AL$1,MATCH(A42,[1]LPGA!$E$1:$E$500,0)-1,0))
A43: Lucy Li | B43: 0.05% | C43: 2000 | D43: 161 | F43: =IFERROR(IF(A43="","",OFFSET(Results!$AJ$1,MATCH(A43,Results!$A:$A,0)-1,0)),"") -> 23 | G43: =IF(OR(E43="",F43=""),"",IF(F43=1,(IF(COUNTIFS(F:F,"<="&F43)<=1,1,(1-COUNTIFS(F:F,"<"&F43))/COUNTIFS(F:F,F43)))*50*E43*(1+VALUE(MID(H43,FIND(": ",H43)+2,FIND("/",H43)-FIND(":",H43)-2))-1)+50*E43*(1+VALUE(MID(H43,FIND(": ",H43)+2,FIND("/",H43)-FIND(":",H43)-2))-1)/VALUE(RIGHT(H43,1)),IF(F43<=VALUE(MID(H43,FIND(", ",H43)+2,IF(MID(H43,FIND(", ",H43)+2,1)="1",2,1))),(IF(COUNTIFS(F:F,"<="&F43)<=VALUE(MID(H43,FIND(", ",H43)+2,IF(MID(H43,FIND(", ",H43)+2,1)="1",2,1))),1,(VALUE(MID(H43,FIND(", ",H43)+2,IF(MID(H43,FIND(", ",H43)+2,1)="1",2,1)))-COUNTIFS(F:F,"<"&F43))/COUNTIFS(F:F,F43)))*(50*E43*(1+VALUE(MID(H43,FIND(": ",H43)+2,FIND("/",H43)-FIND(":",H43)-2))-1)/VALUE(RIGHT(H43,1))+50*E43)-(100*E43),-E43*100))) | H43: =IF(E43="","",OFFSET([1]LPGA!$AL$1,MATCH(A43,[1]LPGA!$E$1:$E$500,0)-1,0))
A44: Lydia Ko | B44: 4.32% | C44: 23 | D44: 17 | F44: =IFERROR(IF(A44="","",OFFSET(Results!$AJ$1,MATCH(A44,Results!$A:$A,0)-1,0)),"") -> 5 | G44: =IF(OR(E44="",F44=""),"",IF(F44=1,(IF(COUNTIFS(F:F,"<="&F44)<=1,1,(1-COUNTIFS(F:F,"<"&F44))/COUNTIFS(F:F,F44)))*50*E44*(1+VALUE(MID(H44,FIND(": ",H44)+2,FIND("/",H44)-FIND(":",H44)-2))-1)+50*E44*(1+VALUE(MID(H44,FIND(": ",H44)+2,FIND("/",H44)-FIND(":",H44)-2))-1)/VALUE(RIGHT(H44,1)),IF(F44<=VALUE(MID(H44,FIND(", ",H44)+2,IF(MID(H44,FIND(", ",H44)+2,1)="1",2,1))),(IF(COUNTIFS(F:F,"<="&F44)<=VALUE(MID(H44,FIND(", ",H44)+2,IF(MID(H44,FIND(", ",H44)+2,1)="1",2,1))),1,(VALUE(MID(H44,FIND(", ",H44)+2,IF(MID(H44,FIND(", ",H44)+2,1)="1",2,1)))-COUNTIFS(F:F,"<"&F44))/COUNTIFS(F:F,F44)))*(50*E44*(1+VALUE(MID(H44,FIND(": ",H44)+2,FIND("/",H44)-FIND(":",H44)-2))-1)/VALUE(RIGHT(H44,1))+50*E44)-(100*E44),-E44*100))) | H44: =IF(E44="","",OFFSET([1]LPGA!$AL$1,MATCH(A44,[1]LPGA!$E$1:$E$500,0)-1,0))
... A54: Naruha Miyata | B54: 0.00% | C54: 10000 | D54: 1251 | F54: =IFERROR(IF(A54="","",OFFSET(Results!$AJ$1,MATCH(A54,Results!$A:$A,0)-1,0)),"") -> 65 | G54: =IF(OR(E54="",F54=""),"",IF(F54=1,(IF(COUNTIFS(F:F,"<="&F54)<=1,1,(1-COUNTIFS(F:F,"<"&F54))/COUNTIFS(F:F,F54)))*50*E54*(1+VALUE(MID(H54,FIND(": ",H54)+2,FIND("/",H54)-FIND(":",H54)-2))-1)+50*E54*(1+VALUE(MID(H54,FIND(": ",H54)+2,FIND("/",H54)-FIND(":",H54)-2))-1)/VALUE(RIGHT(H54,1)),IF(F54<=VALUE(MID(H54,FIND(", ",H54)+2,IF(MID(H54,FIND(", ",H54)+2,1)="1",2,1))),(IF(COUNTIFS(F:F,"<="&F54)<=VALUE(MID(H54,FIND(", ",H54)+2,IF(MID(H54,FIND(", ",H54)+2,1)="1",2,1))),1,(VALUE(MID(H54,FIND(", ",H54)+2,IF(MID(H54,FIND(", ",H54)+2,1)="1",2,1)))-COUNTIFS(F:F,"<"&F54))/COUNTIFS(F:F,F54)))*(50*E54*(1+VALUE(MID(H54,FIND(": ",H54)+2,FIND("/",H54)-FIND(":",H54)-2))-1)/VALUE(RIGHT(H54,1))+50*E54)-(100*E54),-E54*100))) | H54: =IF(E54="","",OFFSET([1]LPGA!$AL$1,MATCH(A54,[1]LPGA!$E$1:$E$500,0)-1,0))
A55: Nasa Hataoka | B55: 5.91% | C55: 17 | D55: 18 | E55: 0.40% | F55: =IFERROR(IF(A55="","",OFFSET(Results!$AJ$1,MATCH(A55,Results!$A:$A,0)-1,0)),"") -> 18 | G55: =IF(OR(E55="",F55=""),"",IF(F55=1,(IF(COUNTIFS(F:F,"<="&F55)<=1,1,(1-COUNTIFS(F:F,"<"&F55))/COUNTIFS(F:F,F55)))*50*E55*(1+VALUE(MID(H55,FIND(": ",H55)+2,FIND("/",H55)-FIND(":",H55)-2))-1)+50*E55*(1+VALUE(MID(H55,FIND(": ",H55)+2,FIND("/",H55)-FIND(":",H55)-2))-1)/VALUE(RIGHT(H55,1)),IF(F55<=VALUE(MID(H55,FIND(", ",H55)+2,IF(MID(H55,FIND(", ",H55)+2,1)="1",2,1))),(IF(COUNTIFS(F:F,"<="&F55)<=VALUE(MID(H55,FIND(", ",H55)+2,IF(MID(H55,FIND(", ",H55)+2,1)="1",2,1))),1,(VALUE(MID(H55,FIND(", ",H55)+2,IF(MID(H55,FIND(", ",H55)+2,1)="1",2,1)))-COUNTIFS(F:F,"<"&F55))/COUNTIFS(F:F,F55)))*(50*E55*(1+VALUE(MID(H55,FIND(": ",H55)+2,FIND("/",H55)-FIND(":",H55)-2))-1)/VALUE(RIGHT(H55,1))+50*E55)-(100*E55),-E55*100))) -> -0.4 | H55: =IF(E55="","",OFFSET([1]LPGA!$AL$1,MATCH(A55,[1]LPGA!$E$1:$E$500,0)-1,0)) -> Unibet: 17/1, 5pl, 1/4
A56: Nataliya Guseva | B56: 0.06% | C56: 1667 | D56: 141 | F56: =IFERROR(IF(A56="","",OFFSET(Results!$AJ$1,MATCH(A56,Results!$A:$A,0)-1,0)),"") -> 50 | G56: =IF(OR(E56="",F56=""),"",IF(F56=1,(IF(COUNTIFS(F:F,"<="&F56)<=1,1,(1-COUNTIFS(F:F,"<"&F56))/COUNTIFS(F:F,F56)))*50*E56*(1+VALUE(MID(H56,FIND(": ",H56)+2,FIND("/",H56)-FIND(":",H56)-2))-1)+50*E56*(1+VALUE(MID(H56,FIND(": ",H56)+2,FIND("/",H56)-FIND(":",H56)-2))-1)/VALUE(RIGHT(H56,1)),IF(F56<=VALUE(MID(H56,FIND(", ",H56)+2,IF(MID(H56,FIND(", ",H56)+2,1)="1",2,1))),(IF(COUNTIFS(F:F,"<="&F56)<=VALUE(MID(H56,FIND(", ",H56)+2,IF(MID(H56,FIND(", ",H56)+2,1)="1",2,1))),1,(VALUE(MID(H56,FIND(", ",H56)+2,IF(MID(H56,FIND(", ",H56)+2,1)="1",2,1)))-COUNTIFS(F:F,"<"&F56))/COUNTIFS(F:F,F56)))*(50*E56*(1+VALUE(MID(H56,FIND(": ",H56)+2,FIND("/",H56)-FIND(":",H56)-2))-1)/VALUE(RIGHT(H56,1))+50*E56)-(100*E56),-E56*100))) | H56: =IF(E56="","",OFFSET([1]LPGA!$AL$1,MATCH(A56,[1]LPGA!$E$1:$E$500,0)-1,0))
A57: Pajaree Anannarukarn | B57: 0.36% | C57: 278 | D57: 101 | F57: =IFERROR(IF(A57="","",OFFSET(Results!$AJ$1,MATCH(A57,Results!$A:$A,0)-1,0)),"") -> 23 | G57: =IF(OR(E57="",F57=""),"",IF(F57=1,(IF(COUNTIFS(F:F,"<="&F57)<=1,1,(1-COUNTIFS(F:F,"<"&F57))/COUNTIFS(F:F,F57)))*50*E57*(1+VALUE(MID(H57,FIND(": ",H57)+2,FIND("/",H57)-FIND(":",H57)-2))-1)+50*E57*(1+VALUE(MID(H57,FIND(": ",H57)+2,FIND("/",H57)-FIND(":",H57)-2))-1)/VALUE(RIGHT(H57,1)),IF(F57<=VALUE(MID(H57,FIND(", ",H57)+2,IF(MID(H57,FIND(", ",H57)+2,1)="1",2,1))),(IF(COUNTIFS(F:F,"<="&F57)<=VALUE(MID(H57,FIND(", ",H57)+2,IF(MID(H57,FIND(", ",H57)+2,1)="1",2,1))),1,(VALUE(MID(H57,FIND(", ",H57)+2,IF(MID(H57,FIND(", ",H57)+2,1)="1",2,1)))-COUNTIFS(F:F,"<"&F57))/COUNTIFS(F:F,F57)))*(50*E57*(1+VALUE(MID(H57,FIND(": ",H57)+2,FIND("/",H57)-FIND(":",H57)-2))-1)/VALUE(RIGHT(H57,1))+50*E57)-(100*E57),-E57*100))) | H57: =IF(E57="","",OFFSET([1]LPGA!$AL$1,MATCH(A57,[1]LPGA!$E$1:$E$500,0)-1,0))
A58: Pauline Roussin-Bouchard | B58: 0.01% | C58: 10000 | D58: 501 | F58: =IFERROR(IF(A58="","",OFFSET(Results!$AJ$1,MATCH(A58,Results!$A:$A,0)-1,0)),"") -> 46 | G58: =IF(OR(E58="",F58=""),"",IF(F58=1,(IF(COUNTIFS(F:F,"<="&F58)<=1,1,(1-COUNTIFS(F:F,"<"&F58))/COUNTIFS(F:F,F58)))*50*E58*(1+VALUE(MID(H58,FIND(": ",H58)+2,FIND("/",H58)-FIND(":",H58)-2))-1)+50*E58*(1+VALUE(MID(H58,FIND(": ",H58)+2,FIND("/",H58)-FIND(":",H58)-2))-1)/VALUE(RIGHT(H58,1)),IF(F58<=VALUE(MID(H58,FIND(", ",H58)+2,IF(MID(H58,FIND(", ",H58)+2,1)="1",2,1))),(IF(COUNTIFS(F:F,"<="&F58)<=VALUE(MID(H58,FIND(", ",H58)+2,IF(MID(H58,FIND(", ",H58)+2,1)="1",2,1))),1,(VALUE(MID(H58,FIND(", ",H58)+2,IF(MID(H58,FIND(", ",H58)+2,1)="1",2,1)))-COUNTIFS(F:F,"<"&F58))/COUNTIFS(F:F,F58)))*(50*E58*(1+VALUE(MID(H58,FIND(": ",H58)+2,FIND("/",H58)-FIND(":",H58)-2))-1)/VALUE(RIGHT(H58,1))+50*E58)-(100*E58),-E58*100))) | H58: =IF(E58="","",OFFSET([1]LPGA!$AL$1,MATCH(A58,[1]LPGA!$E$1:$E$500,0)-1,0))
A59: Pornanong Phatlum | B59: 0.01% | C59: 10000 | D59: 401 | F59: =IFERROR(IF(A59="","",OFFSET(Results!$AJ$1,MATCH(A59,Results!$A:$A,0)-1,0)),"") -> 42 | G59: =IF(OR(E59="",F59=""),"",IF(F59=1,(IF(COUNTIFS(F:F,"<="&F59)<=1,1,(1-COUNTIFS(F:F,"<"&F59))/COUNTIFS(F:F,F59)))*50*E59*(1+VALUE(MID(H59,FIND(": ",H59)+2,FIND("/",H59)-FIND(":",H59)-2))-1)+50*E59*(1+VALUE(MID(H59,FIND(": ",H59)+2,FIND("/",H59)-FIND(":",H59)-2))-1)/VALUE(RIGHT(H59,1)),IF(F59<=VALUE(MID(H59,FIND(", ",H59)+2,IF(MID(H59,FIND(", ",H59)+2,1)="1",2,1))),(IF(COUNTIFS(F:F,"<="&F59)<=VALUE(MID(H59,FIND(", ",H59)+2,IF(MID(H59,FIND(", ",H59)+2,1)="1",2,1))),1,(VALUE(MID(H59,FIND(", ",H59)+2,IF(MID(H59,FIND(", ",H59)+2,1)="1",2,1)))-COUNTIFS(F:F,"<"&F59))/COUNTIFS(F:F,F59)))*(50*E59*(1+VALUE(MID(H59,FIND(": ",H59)+2,FIND("/",H59)-FIND(":",H59)-2))-1)/VALUE(RIGHT(H59,1))+50*E59)-(100*E59),-E59*100))) | H59: =IF(E59="","",OFFSET([1]LPGA!$AL$1,MATCH(A59,[1]LPGA!$E$1:$E$500,0)-1,0))
A60: Prim Prachnakorn | B60: 0.00% | C60: 10000 | D60: 301 | F60: =IFERROR(IF(A60="","",OFFSET(Results!$AJ$1,MATCH(A60,Results!$A:$A,0)-1,0)),"") -> 65 | G60: =IF(OR(E60="",F60=""),"",IF(F60=1,(IF(COUNTIFS(F:F,"<="&F60)<=1,1,(1-COUNTIFS(F:F,"<"&F60))/COUNTIFS(F:F,F60)))*50*E60*(1+VALUE(MID(H60,FIND(": ",H60)+2,FIND("/",H60)-FIND(":",H60)-2))-1)+50*E60*(1+VALUE(MID(H60,FIND(": ",H60)+2,FIND("/",H60)-FIND(":",H60)-2))-1)/VALUE(RIGHT(H60,1)),IF(F60<=VALUE(MID(H60,FIND(", ",H60)+2,IF(MID(H60,FIND(", ",H60)+2,1)="1",2,1))),(IF(COUNTIFS(F:F,"<="&F60)<=VALUE(MID(H60,FIND(", ",H60)+2,IF(MID(H60,FIND(", ",H60)+2,1)="1",2,1))),1,(VALUE(MID(H60,FIND(", ",H60)+2,IF(MID(H60,FIND(", ",H60)+2,1)="1",2,1)))-COUNTIFS(F:F,"<"&F60))/COUNTIFS(F:F,F60)))*(50*E60*(1+VALUE(MID(H60,FIND(": ",H60)+2,FIND("/",H60)-FIND(":",H60)-2))-1)/VALUE(RIGHT(H60,1))+50*E60)-(100*E60),-E60*100))) | H60: =IF(E60="","",OFFSET([1]LPGA!$AL$1,MATCH(A60,[1]LPGA!$E$1:$E$500,0)-1,0))
A61: Rin Yoshida | B61: 0.00% | C61: 10000 | D61: 301 | F61: =IFERROR(IF(A61="","",OFFSET(Results!$AJ$1,MATCH(A61,Results!$A:$A,0)-1,0)),"") -> 61 | G61: =IF(OR(E61="",F61=""),"",IF(F61=1,(IF(COUNTIFS(F:F,"<="&F61)<=1,1,(1-COUNTIFS(F:F,"<"&F61))/COUNTIFS(F:F,F61)))*50*E61*(1+VALUE(MID(H61,FIND(": ",H61)+2,FIND("/",H61)-FIND(":",H61)-2))-1)+50*E61*(1+VALUE(MID(H61,FIND(": ",H61)+2,FIND("/",H61)-FIND(":",H61)-2))-1)/VALUE(RIGHT(H61,1)),IF(F61<=VALUE(MID(H61,FIND(", ",H61)+2,IF(MID(H61,FIND(", ",H61)+2,1)="1",2,1))),(IF(COUNTIFS(F:F,"<="&F61)<=VALUE(MID(H61,FIND(", ",H61)+2,IF(MID(H61,FIND(", ",H61)+2,1)="1",2,1))),1,(VALUE(MID(H61,FIND(", ",H61)+2,IF(MID(H61,FIND(", ",H61)+2,1)="1",2,1)))-COUNTIFS(F:F,"<"&F61))/COUNTIFS(F:F,F61)))*(50*E61*(1+VALUE(MID(H61,FIND(": ",H61)+2,FIND("/",H61)-FIND(":",H61)-2))-1)/VALUE(RIGHT(H61,1))+50*E61)-(100*E61),-E61*100))) | H61: =IF(E61="","",OFFSET([1]LPGA!$AL$1,MATCH(A61,[1]LPGA!$E$1:$E$500,0)-1,0))
A62: Rio Takeda | B62: 2.08% | C62: 48 | D62: 36 | F62: =IFERROR(IF(A62="","",OFFSET(Results!$AJ$1,MATCH(A62,Results!$A:$A,0)-1,0)),"") -> 31 | G62: =IF(OR(E62="",F62=""),"",IF(F62=1,(IF(COUNTIFS(F:F,"<="&F62)<=1,1,(1-COUNTIFS(F:F,"<"&F62))/COUNTIFS(F:F,F62)))*50*E62*(1+VALUE(MID(H62,FIND(": ",H62)+2,FIND("/",H62)-FIND(":",H62)-2))-1)+50*E62*(1+VALUE(MID(H62,FIND(": ",H62)+2,FIND("/",H62)-FIND(":",H62)-2))-1)/VALUE(RIGHT(H62,1)),IF(F62<=VALUE(MID(H62,FIND(", ",H62)+2,IF(MID(H62,FIND(", ",H62)+2,1)="1",2,1))),(IF(COUNTIFS(F:F,"<="&F62)<=VALUE(MID(H62,FIND(", ",H62)+2,IF(MID(H62,FIND(", ",H62)+2,1)="1",2,1))),1,(VALUE(MID(H62,FIND(", ",H62)+2,IF(MID(H62,FIND(", ",H62)+2,1)="1",2,1)))-COUNTIFS(F:F,"<"&F62))/COUNTIFS(F:F,F62)))*(50*E62*(1+VALUE(MID(H62,FIND(": ",H62)+2,FIND("/",H62)-FIND(":",H62)-2))-1)/VALUE(RIGHT(H62,1))+50*E62)-(100*E62),-E62*100))) | H62: =IF(E62="","",OFFSET([1]LPGA!$AL$1,MATCH(A62,[1]LPGA!$E$1:$E$500,0)-1,0))
A63: Robyn Choi | B63: 0.02% | C63: 5000 | D63: 251 | F63: =IFERROR(IF(A63="","",OFFSET(Results!$AJ$1,MATCH(A63,Results!$A:$A,0)-1,0)),"") -> 65 | G63: =IF(OR(E63="",F63=""),"",IF(F63=1,(IF(COUNTIFS(F:F,"<="&F63)<=1,1,(1-COUNTIFS(F:F,"<"&F63))/COUNTIFS(F:F,F63)))*50*E63*(1+VALUE(MID(H63,FIND(": ",H63)+2,FIND("/",H63)-FIND(":",H63)-2))-1)+50*E63*(1+VALUE(MID(H63,FIND(": ",H63)+2,FIND("/",H63)-FIND(":",H63)-2))-1)/VALUE(RIGHT(H63,1)),IF(F63<=VALUE(MID(H63,FIND(", ",H63)+2,IF(MID(H63,FIND(", ",H63)+2,1)="1",2,1))),(IF(COUNTIFS(F:F,"<="&F63)<=VALUE(MID(H63,FIND(", ",H63)+2,IF(MID(H63,FIND(", ",H63)+2,1)="1",2,1))),1,(VALUE(MID(H63,FIND(", ",H63)+2,IF(MID(H63,FIND(", ",H63)+2,1)="1",2,1)))-COUNTIFS(F:F,"<"&F63))/COUNTIFS(F:F,F63)))*(50*E63*(1+VALUE(MID(H63,FIND(": ",H63)+2,FIND("/",H63)-FIND(":",H63)-2))-1)/VALUE(RIGHT(H63,1))+50*E63)-(100*E63),-E63*100))) | H63: =IF(E63="","",OFFSET([1]LPGA!$AL$1,MATCH(A63,[1]LPGA!$E$1:$E$500,0)-1,0))
A64: Ruoning Yin | B64: 2.00% | C64: 50 | D64: 34 | F64: =IFERROR(IF(A64="","",OFFSET(Results!$AJ$1,MATCH(A64,Results!$A:$A,0)-1,0)),"") -> 15 | G64: =IF(OR(E64="",F64=""),"",IF(F64=1,(IF(COUNTIFS(F:F,"<="&F64)<=1,1,(1-COUNTIFS(F:F,"<"&F64))/COUNTIFS(F:F,F64)))*50*E64*(1+VALUE(MID(H64,FIND(": ",H64)+2,FIND("/",H64)-FIND(":",H64)-2))-1)+50*E64*(1+VALUE(MID(H64,FIND(": ",H64)+2,FIND("/",H64)-FIND(":",H64)-2))-1)/VALUE(RIGHT(H64,1)),IF(F64<=VALUE(MID(H64,FIND(", ",H64)+2,IF(MID(H64,FIND(", ",H64)+2,1)="1",2,1))),(IF(COUNTIFS(F:F,"<="&F64)<=VALUE(MID(H64,FIND(", ",H64)+2,IF(MID(H64,FIND(", ",H64)+2,1)="1",2,1))),1,(VALUE(MID(H64,FIND(", ",H64)+2,IF(MID(H64,FIND(", ",H64)+2,1)="1",2,1)))-COUNTIFS(F:F,"<"&F64))/COUNTIFS(F:F,F64)))*(50*E64*(1+VALUE(MID(H64,FIND(": ",H64)+2,FIND("/",H64)-FIND(":",H64)-2))-1)/VALUE(RIGHT(H64,1))+50*E64)-(100*E64),-E64*100))) | H64: =IF(E64="","",OFFSET([1]LPGA!$AL$1,MATCH(A64,[1]LPGA!$E$1:$E$500,0)-1,0))
A65: Saki Baba | B65: 0.01% | C65: 10000 | D65: 201 | F65: =IFERROR(IF(A65="","",OFFSET(Results!$AJ$1,MATCH(A65,Results!$A:$A,0)-1,0)),"") -> 53 | G65: =IF(OR(E65="",F65=""),"",IF(F65=1,(IF(COUNTIFS(F:F,"<="&F65)<=1,1,(1-COUNTIFS(F:F,"<"&F65))/COUNTIFS(F:F,F65)))*50*E65*(1+VALUE(MID(H65,FIND(": ",H65)+2,FIND("/",H65)-FIND(":",H65)-2))-1)+50*E65*(1+VALUE(MID(H65,FIND(": ",H65)+2,FIND("/",H65)-FIND(":",H65)-2))-1)/VALUE(RIGHT(H65,1)),IF(F65<=VALUE(MID(H65,FIND(", ",H65)+2,IF(MID(H65,FIND(", ",H65)+2,1)="1",2,1))),(IF(COUNTIFS(F:F,"<="&F65)<=VALUE(MID(H65,FIND(", ",H65)+2,IF(MID(H65,FIND(", ",H65)+2,1)="1",2,1))),1,(VALUE(MID(H65,FIND(", ",H65)+2,IF(MID(H65,FIND(", ",H65)+2,1)="1",2,1)))-COUNTIFS(F:F,"<"&F65))/COUNTIFS(F:F,F65)))*(50*E65*(1+VALUE(MID(H65,FIND(": ",H65)+2,FIND("/",H65)-FIND(":",H65)-2))-1)/VALUE(RIGHT(H65,1))+50*E65)-(100*E65),-E65*100))) | H65: =IF(E65="","",OFFSET([1]LPGA!$AL$1,MATCH(A65,[1]LPGA!$E$1:$E$500,0)-1,0))
A66: Sei Young Kim | B66: 5.16% | C66: 19 | D66: 15 | F66: =IFERROR(IF(A66="","",OFFSET(Results!$AJ$1,MATCH(A66,Results!$A:$A,0)-1,0)),"") -> 10 | G66: =IF(OR(E66="",F66=""),"",IF(F66=1,(IF(COUNTIFS(F:F,"<="&F66)<=1,1,(1-COUNTIFS(F:F,"<"&F66))/COUNTIFS(F:F,F66)))*50*E66*(1+VALUE(MID(H66,FIND(": ",H66)+2,FIND("/",H66)-FIND(":",H66)-2))-1)+50*E66*(1+VALUE(MID(H66,FIND(": ",H66)+2,FIND("/",H66)-FIND(":",H66)-2))-1)/VALUE(RIGHT(H66,1)),IF(F66<=VALUE(MID(H66,FIND(", ",H66)+2,IF(MID(H66,FIND(", ",H66)+2,1)="1",2,1))),(IF(COUNTIFS(F:F,"<="&F66)<=VALUE(MID(H66,FIND(", ",H66)+2,IF(MID(H66,FIND(", ",H66)+2,1)="1",2,1))),1,(VALUE(MID(H66,FIND(", ",H66)+2,IF(MID(H66,FIND(", ",H66)+2,1)="1",2,1)))-COUNTIFS(F:F,"<"&F66))/COUNTIFS(F:F,F66)))*(50*E66*(1+VALUE(MID(H66,FIND(": ",H66)+2,FIND("/",H66)-FIND(":",H66)-2))-1)/VALUE(RIGHT(H66,1))+50*E66)-(100*E66),-E66*100))) | H66: =IF(E66="","",OFFSET([1]LPGA!$AL$1,MATCH(A66,[1]LPGA!$E$1:$E$500,0)-1,0))
A67: Somi Lee | B67: 1.57% | C67: 64 | D67: 41 | F67: =IFERROR(IF(A67="","",OFFSET(Results!$AJ$1,MATCH(A67,Results!$A:$A,0)-1,0)),"") -> 4 | G67: =IF(OR(E67="",F67=""),"",IF(F67=1,(IF(COUNTIFS(F:F,"<="&F67)<=1,1,(1-COUNTIFS(F:F,"<"&F67))/COUNTIFS(F:F,F67)))*50*E67*(1+VALUE(MID(H67,FIND(": ",H67)+2,FIND("/",H67)-FIND(":",H67)-2))-1)+50*E67*(1+VALUE(MID(H67,FIND(": ",H67)+2,FIND("/",H67)-FIND(":",H67)-2))-1)/VALUE(RIGHT(H67,1)),IF(F67<=VALUE(MID(H67,FIND(", ",H67)+2,IF(MID(H67,FIND(", ",H67)+2,1)="1",2,1))),(IF(COUNTIFS(F:F,"<="&F67)<=VALUE(MID(H67,FIND(", ",H67)+2,IF(MID(H67,FIND(", ",H67)+2,1)="1",2,1))),1,(VALUE(MID(H67,FIND(", ",H67)+2,IF(MID(H67,FIND(", ",H67)+2,1)="1",2,1)))-COUNTIFS(F:F,"<"&F67))/COUNTIFS(F:F,F67)))*(50*E67*(1+VALUE(MID(H67,FIND(": ",H67)+2,FIND("/",H67)-FIND(":",H67)-2))-1)/VALUE(RIGHT(H67,1))+50*E67)-(100*E67),-E67*100))) | H67: =IF(E67="","",OFFSET([1]LPGA!$AL$1,MATCH(A67,[1]LPGA!$E$1:$E$500,0)-1,0))
... A73: Yuri Yoshida | B73: 0.03% | C73: 3333 | D73: 301 | F73: =IFERROR(IF(A73="","",OFFSET(Results!$AJ$1,MATCH(A73,Results!$A:$A,0)-1,0)),"") -> 23 | G73: =IF(OR(E73="",F73=""),"",IF(F73=1,(IF(COUNTIFS(F:F,"<="&F73)<=1,1,(1-COUNTIFS(F:F,"<"&F73))/COUNTIFS(F:F,F73)))*50*E73*(1+VALUE(MID(H73,FIND(": ",H73)+2,FIND("/",H73)-FIND(":",H73)-2))-1)+50*E73*(1+VALUE(MID(H73,FIND(": ",H73)+2,FIND("/",H73)-FIND(":",H73)-2))-1)/VALUE(RIGHT(H73,1)),IF(F73<=VALUE(MID(H73,FIND(", ",H73)+2,IF(MID(H73,FIND(", ",H73)+2,1)="1",2,1))),(IF(COUNTIFS(F:F,"<="&F73)<=VALUE(MID(H73,FIND(", ",H73)+2,IF(MID(H73,FIND(", ",H73)+2,1)="1",2,1))),1,(VALUE(MID(H73,FIND(", ",H73)+2,IF(MID(H73,FIND(", ",H73)+2,1)="1",2,1)))-COUNTIFS(F:F,"<"&F73))/COUNTIFS(F:F,F73)))*(50*E73*(1+VALUE(MID(H73,FIND(": ",H73)+2,FIND("/",H73)-FIND(":",H73)-2))-1)/VALUE(RIGHT(H73,1))+50*E73)-(100*E73),-E73*100))) | H73: =IF(E73="","",OFFSET([1]LPGA!$AL$1,MATCH(A73,[1]LPGA!$E$1:$E$500,0)-1,0))
F74: =IFERROR(IF(A74="","",OFFSET(Results!$AJ$1,MATCH(A74,Results!$A:$A,0)-1,0)),"") | G74: =IF(OR(E74="",F74=""),"",IF(F74=1,(IF(COUNTIFS(F:F,"<="&F74)<=1,1,(1-COUNTIFS(F:F,"<"&F74))/COUNTIFS(F:F,F74)))*50*E74*(1+VALUE(MID(H74,FIND(": ",H74)+2,FIND("/",H74)-FIND(":",H74)-2))-1)+50*E74*(1+VALUE(MID(H74,FIND(": ",H74)+2,FIND("/",H74)-FIND(":",H74)-2))-1)/VALUE(RIGHT(H74,1)),IF(F74<=VALUE(MID(H74,FIND(", ",H74)+2,IF(MID(H74,FIND(", ",H74)+2,1)="1",2,1))),(IF(COUNTIFS(F:F,"<="&F74)<=VALUE(MID(H74,FIND(", ",H74)+2,IF(MID(H74,FIND(", ",H74)+2,1)="1",2,1))),1,(VALUE(MID(H74,FIND(", ",H74)+2,IF(MID(H74,FIND(", ",H74)+2,1)="1",2,1)))-COUNTIFS(F:F,"<"&F74))/COUNTIFS(F:F,F74)))*(50*E74*(1+VALUE(MID(H74,FIND(": ",H74)+2,FIND("/",H74)-FIND(":",H74)-2))-1)/VALUE(RIGHT(H74,1))+50*E74)-(100*E74),-E74*100))) | H74: =IF(E74="","",OFFSET([1]LPGA!$AL$1,MATCH(A74,[1]LPGA!$E$1:$E$500,0)-1,0))
F75: =IFERROR(IF(A75="","",OFFSET(Results!$AJ$1,MATCH(A75,Results!$A:$A,0)-1,0)),"") | G75: =IF(OR(E75="",F75=""),"",IF(F75=1,(IF(COUNTIFS(F:F,"<="&F75)<=1,1,(1-COUNTIFS(F:F,"<"&F75))/COUNTIFS(F:F,F75)))*50*E75*(1+VALUE(MID(H75,FIND(": ",H75)+2,FIND("/",H75)-FIND(":",H75)-2))-1)+50*E75*(1+VALUE(MID(H75,FIND(": ",H75)+2,FIND("/",H75)-FIND(":",H75)-2))-1)/VALUE(RIGHT(H75,1)),IF(F75<=VALUE(MID(H75,FIND(", ",H75)+2,IF(MID(H75,FIND(", ",H75)+2,1)="1",2,1))),(IF(COUNTIFS(F:F,"<="&F75)<=VALUE(MID(H75,FIND(", ",H75)+2,IF(MID(H75,FIND(", ",H75)+2,1)="1",2,1))),1,(VALUE(MID(H75,FIND(", ",H75)+2,IF(MID(H75,FIND(", ",H75)+2,1)="1",2,1)))-COUNTIFS(F:F,"<"&F75))/COUNTIFS(F:F,F75)))*(50*E75*(1+VALUE(MID(H75,FIND(": ",H75)+2,FIND("/",H75)-FIND(":",H75)-2))-1)/VALUE(RIGHT(H75,1))+50*E75)-(100*E75),-E75*100))) | H75: =IF(E75="","",OFFSET([1]LPGA!$AL$1,MATCH(A75,[1]LPGA!$E$1:$E$500,0)-1,0))
F76: =IFERROR(IF(A76="","",OFFSET(Results!$AJ$1,MATCH(A76,Results!$A:$A,0)-1,0)),"") | G76: =IF(OR(E76="",F76=""),"",IF(F76=1,(IF(COUNTIFS(F:F,"<="&F76)<=1,1,(1-COUNTIFS(F:F,"<"&F76))/COUNTIFS(F:F,F76)))*50*E76*(1+VALUE(MID(H76,FIND(": ",H76)+2,FIND("/",H76)-FIND(":",H76)-2))-1)+50*E76*(1+VALUE(MID(H76,FIND(": ",H76)+2,FIND("/",H76)-FIND(":",H76)-2))-1)/VALUE(RIGHT(H76,1)),IF(F76<=VALUE(MID(H76,FIND(", ",H76)+2,IF(MID(H76,FIND(", ",H76)+2,1)="1",2,1))),(IF(COUNTIFS(F:F,"<="&F76)<=VALUE(MID(H76,FIND(", ",H76)+2,IF(MID(H76,FIND(", ",H76)+2,1)="1",2,1))),1,(VALUE(MID(H76,FIND(", ",H76)+2,IF(MID(H76,FIND(", ",H76)+2,1)="1",2,1)))-COUNTIFS(F:F,"<"&F76))/COUNTIFS(F:F,F76)))*(50*E76*(1+VALUE(MID(H76,FIND(": ",H76)+2,FIND("/",H76)-FIND(":",H76)-2))-1)/VALUE(RIGHT(H76,1))+50*E76)-(100*E76),-E76*100))) | H76: =IF(E76="","",OFFSET([1]LPGA!$AL$1,MATCH(A76,[1]LPGA!$E$1:$E$500,0)-1,0))
F77: =IFERROR(IF(A77="","",OFFSET(Results!$AJ$1,MATCH(A77,Results!$A:$A,0)-1,0)),"") | G77: =IF(OR(E77="",F77=""),"",IF(F77=1,(IF(COUNTIFS(F:F,"<="&F77)<=1,1,(1-COUNTIFS(F:F,"<"&F77))/COUNTIFS(F:F,F77)))*50*E77*(1+VALUE(MID(H77,FIND(": ",H77)+2,FIND("/",H77)-FIND(":",H77)-2))-1)+50*E77*(1+VALUE(MID(H77,FIND(": ",H77)+2,FIND("/",H77)-FIND(":",H77)-2))-1)/VALUE(RIGHT(H77,1)),IF(F77<=VALUE(MID(H77,FIND(", ",H77)+2,IF(MID(H77,FIND(", ",H77)+2,1)="1",2,1))),(IF(COUNTIFS(F:F,"<="&F77)<=VALUE(MID(H77,FIND(", ",H77)+2,IF(MID(H77,FIND(", ",H77)+2,1)="1",2,1))),1,(VALUE(MID(H77,FIND(", ",H77)+2,IF(MID(H77,FIND(", ",H77)+2,1)="1",2,1)))-COUNTIFS(F:F,"<"&F77))/COUNTIFS(F:F,F77)))*(50*E77*(1+VALUE(MID(H77,FIND(": ",H77)+2,FIND("/",H77)-FIND(":",H77)-2))-1)/VALUE(RIGHT(H77,1))+50*E77)-(100*E77),-E77*100))) | H77: =IF(E77="","",OFFSET([1]LPGA!$AL$1,MATCH(A77,[1]LPGA!$E$1:$E$500,0)-1,0))
F78: =IFERROR(IF(A78="","",OFFSET(Results!$AJ$1,MATCH(A78,Results!$A:$A,0)-1,0)),"") | G78: =IF(OR(E78="",F78=""),"",IF(F78=1,(IF(COUNTIFS(F:F,"<="&F78)<=1,1,(1-COUNTIFS(F:F,"<"&F78))/COUNTIFS(F:F,F78)))*50*E78*(1+VALUE(MID(H78,FIND(": ",H78)+2,FIND("/",H78)-FIND(":",H78)-2))-1)+50*E78*(1+VALUE(MID(H78,FIND(": ",H78)+2,FIND("/",H78)-FIND(":",H78)-2))-1)/VALUE(RIGHT(H78,1)),IF(F78<=VALUE(MID(H78,FIND(", ",H78)+2,IF(MID(H78,FIND(", ",H78)+2,1)="1",2,1))),(IF(COUNTIFS(F:F,"<="&F78)<=VALUE(MID(H78,FIND(", ",H78)+2,IF(MID(H78,FIND(", ",H78)+2,1)="1",2,1))),1,(VALUE(MID(H78,FIND(", ",H78)+2,IF(MID(H78,FIND(", ",H78)+2,1)="1",2,1)))-COUNTIFS(F:F,"<"&F78))/COUNTIFS(F:F,F78)))*(50*E78*(1+VALUE(MID(H78,FIND(": ",H78)+2,FIND("/",H78)-FIND(":",H78)-2))-1)/VALUE(RIGHT(H78,1))+50*E78)-(100*E78),-E78*100))) | H78: =IF(E78="","",OFFSET([1]LPGA!$AL$1,MATCH(A78,[1]LPGA!$E$1:$E$500,0)-1,0))
F79: =IFERROR(IF(A79="","",OFFSET(Results!$AJ$1,MATCH(A79,Results!$A:$A,0)-1,0)),"") | G79: =IF(OR(E79="",F79=""),"",IF(F79=1,(IF(COUNTIFS(F:F,"<="&F79)<=1,1,(1-COUNTIFS(F:F,"<"&F79))/COUNTIFS(F:F,F79)))*50*E79*(1+VALUE(MID(H79,FIND(": ",H79)+2,FIND("/",H79)-FIND(":",H79)-2))-1)+50*E79*(1+VALUE(MID(H79,FIND(": ",H79)+2,FIND("/",H79)-FIND(":",H79)-2))-1)/VALUE(RIGHT(H79,1)),IF(F79<=VALUE(MID(H79,FIND(", ",H79)+2,IF(MID(H79,FIND(", ",H79)+2,1)="1",2,1))),(IF(COUNTIFS(F:F,"<="&F79)<=VALUE(MID(H79,FIND(", ",H79)+2,IF(MID(H79,FIND(", ",H79)+2,1)="1",2,1))),1,(VALUE(MID(H79,FIND(", ",H79)+2,IF(MID(H79,FIND(", ",H79)+2,1)="1",2,1)))-COUNTIFS(F:F,"<"&F79))/COUNTIFS(F:F,F79)))*(50*E79*(1+VALUE(MID(H79,FIND(": ",H79)+2,FIND("/",H79)-FIND(":",H79)-2))-1)/VALUE(RIGHT(H79,1))+50*E79)-(100*E79),-E79*100))) | H79: =IF(E79="","",OFFSET([1]LPGA!$AL$1,MATCH(A79,[1]LPGA!$E$1:$E$500,0)-1,0))
F80: =IFERROR(IF(A80="","",OFFSET(Results!$AJ$1,MATCH(A80,Results!$A:$A,0)-1,0)),"") | G80: =IF(OR(E80="",F80=""),"",IF(F80=1,(IF(COUNTIFS(F:F,"<="&F80)<=1,1,(1-COUNTIFS(F:F,"<"&F80))/COUNTIFS(F:F,F80)))*50*E80*(1+VALUE(MID(H80,FIND(": ",H80)+2,FIND("/",H80)-FIND(":",H80)-2))-1)+50*E80*(1+VALUE(MID(H80,FIND(": ",H80)+2,FIND("/",H80)-FIND(":",H80)-2))-1)/VALUE(RIGHT(H80,1)),IF(F80<=VALUE(MID(H80,FIND(", ",H80)+2,IF(MID(H80,FIND(", ",H80)+2,1)="1",2,1))),(IF(COUNTIFS(F:F,"<="&F80)<=VALUE(MID(H80,FIND(", ",H80)+2,IF(MID(H80,FIND(", ",H80)+2,1)="1",2,1))),1,(VALUE(MID(H80,FIND(", ",H80)+2,IF(MID(H80,FIND(", ",H80)+2,1)="1",2,1)))-COUNTIFS(F:F,"<"&F80))/COUNTIFS(F:F,F80)))*(50*E80*(1+VALUE(MID(H80,FIND(": ",H80)+2,FIND("/",H80)-FIND(":",H80)-2))-1)/VALUE(RIGHT(H80,1))+50*E80)-(100*E80),-E80*100))) | H80: =IF(E80="","",OFFSET([1]LPGA!$AL$1,MATCH(A80,[1]LPGA!$E$1:$E$500,0)-1,0))
F81: =IFERROR(IF(A81="","",OFFSET(Results!$AJ$1,MATCH(A81,Results!$A:$A,0)-1,0)),"") | G81: =IF(OR(E81="",F81=""),"",IF(F81=1,(IF(COUNTIFS(F:F,"<="&F81)<=1,1,(1-COUNTIFS(F:F,"<"&F81))/COUNTIFS(F:F,F81)))*50*E81*(1+VALUE(MID(H81,FIND(": ",H81)+2,FIND("/",H81)-FIND(":",H81)-2))-1)+50*E81*(1+VALUE(MID(H81,FIND(": ",H81)+2,FIND("/",H81)-FIND(":",H81)-2))-1)/VALUE(RIGHT(H81,1)),IF(F81<=VALUE(MID(H81,FIND(", ",H81)+2,IF(MID(H81,FIND(", ",H81)+2,1)="1",2,1))),(IF(COUNTIFS(F:F,"<="&F81)<=VALUE(MID(H81,FIND(", ",H81)+2,IF(MID(H81,FIND(", ",H81)+2,1)="1",2,1))),1,(VALUE(MID(H81,FIND(", ",H81)+2,IF(MID(H81,FIND(", ",H81)+2,1)="1",2,1)))-COUNTIFS(F:F,"<"&F81))/COUNTIFS(F:F,F81)))*(50*E81*(1+VALUE(MID(H81,FIND(": ",H81)+2,FIND("/",H81)-FIND(":",H81)-2))-1)/VALUE(RIGHT(H81,1))+50*E81)-(100*E81),-E81*100))) | H81: =IF(E81="","",OFFSET([1]LPGA!$AL$1,MATCH(A81,[1]LPGA!$E$1:$E$500,0)-1,0))
F82: =IFERROR(IF(A82="","",OFFSET(Results!$AJ$1,MATCH(A82,Results!$A:$A,0)-1,0)),"") | G82: =IF(OR(E82="",F82=""),"",IF(F82=1,(IF(COUNTIFS(F:F,"<="&F82)<=1,1,(1-COUNTIFS(F:F,"<"&F82))/COUNTIFS(F:F,F82)))*50*E82*(1+VALUE(MID(H82,FIND(": ",H82)+2,FIND("/",H82)-FIND(":",H82)-2))-1)+50*E82*(1+VALUE(MID(H82,FIND(": ",H82)+2,FIND("/",H82)-FIND(":",H82)-2))-1)/VALUE(RIGHT(H82,1)),IF(F82<=VALUE(MID(H82,FIND(", ",H82)+2,IF(MID(H82,FIND(", ",H82)+2,1)="1",2,1))),(IF(COUNTIFS(F:F,"<="&F82)<=VALUE(MID(H82,FIND(", ",H82)+2,IF(MID(H82,FIND(", ",H82)+2,1)="1",2,1))),1,(VALUE(MID(H82,FIND(", ",H82)+2,IF(MID(H82,FIND(", ",H82)+2,1)="1",2,1)))-COUNTIFS(F:F,"<"&F82))/COUNTIFS(F:F,F82)))*(50*E82*(1+VALUE(MID(H82,FIND(": ",H82)+2,FIND("/",H82)-FIND(":",H82)-2))-1)/VALUE(RIGHT(H82,1))+50*E82)-(100*E82),-E82*100))) | H82: =IF(E82="","",OFFSET([1]LPGA!$AL$1,MATCH(A82,[1]LPGA!$E$1:$E$500,0)-1,0))
F83: =IFERROR(IF(A83="","",OFFSET(Results!$AJ$1,MATCH(A83,Results!$A:$A,0)-1,0)),"") | G83: =IF(OR(E83="",F83=""),"",IF(F83=1,(IF(COUNTIFS(F:F,"<="&F83)<=1,1,(1-COUNTIFS(F:F,"<"&F83))/COUNTIFS(F:F,F83)))*50*E83*(1+VALUE(MID(H83,FIND(": ",H83)+2,FIND("/",H83)-FIND(":",H83)-2))-1)+50*E83*(1+VALUE(MID(H83,FIND(": ",H83)+2,FIND("/",H83)-FIND(":",H83)-2))-1)/VALUE(RIGHT(H83,1)),IF(F83<=VALUE(MID(H83,FIND(", ",H83)+2,IF(MID(H83,FIND(", ",H83)+2,1)="1",2,1))),(IF(COUNTIFS(F:F,"<="&F83)<=VALUE(MID(H83,FIND(", ",H83)+2,IF(MID(H83,FIND(", ",H83)+2,1)="1",2,1))),1,(VALUE(MID(H83,FIND(", ",H83)+2,IF(MID(H83,FIND(", ",H83)+2,1)="1",2,1)))-COUNTIFS(F:F,"<"&F83))/COUNTIFS(F:F,F83)))*(50*E83*(1+VALUE(MID(H83,FIND(": ",H83)+2,FIND("/",H83)-FIND(":",H83)-2))-1)/VALUE(RIGHT(H83,1))+50*E83)-(100*E83),-E83*100))) | H83: =IF(E83="","",OFFSET([1]LPGA!$AL$1,MATCH(A83,[1]LPGA!$E$1:$E$500,0)-1,0))
F84: =IFERROR(IF(A84="","",OFFSET(Results!$AJ$1,MATCH(A84,Results!$A:$A,0)-1,0)),"") | G84: =IF(OR(E84="",F84=""),"",IF(F84=1,(IF(COUNTIFS(F:F,"<="&F84)<=1,1,(1-COUNTIFS(F:F,"<"&F84))/COUNTIFS(F:F,F84)))*50*E84*(1+VALUE(MID(H84,FIND(": ",H84)+2,FIND("/",H84)-FIND(":",H84)-2))-1)+50*E84*(1+VALUE(MID(H84,FIND(": ",H84)+2,FIND("/",H84)-FIND(":",H84)-2))-1)/VALUE(RIGHT(H84,1)),IF(F84<=VALUE(MID(H84,FIND(", ",H84)+2,IF(MID(H84,FIND(", ",H84)+2,1)="1",2,1))),(IF(COUNTIFS(F:F,"<="&F84)<=VALUE(MID(H84,FIND(", ",H84)+2,IF(MID(H84,FIND(", ",H84)+2,1)="1",2,1))),1,(VALUE(MID(H84,FIND(", ",H84)+2,IF(MID(H84,FIND(", ",H84)+2,1)="1",2,1)))-COUNTIFS(F:F,"<"&F84))/COUNTIFS(F:F,F84)))*(50*E84*(1+VALUE(MID(H84,FIND(": ",H84)+2,FIND("/",H84)-FIND(":",H84)-2))-1)/VALUE(RIGHT(H84,1))+50*E84)-(100*E84),-E84*100))) | H84: =IF(E84="","",OFFSET([1]LPGA!$AL$1,MATCH(A84,[1]LPGA!$E$1:$E$500,0)-1,0))
F85: =IFERROR(IF(A85="","",OFFSET(Results!$AJ$1,MATCH(A85,Results!$A:$A,0)-1,0)),"") | G85: =IF(OR(E85="",F85=""),"",IF(F85=1,(IF(COUNTIFS(F:F,"<="&F85)<=1,1,(1-COUNTIFS(F:F,"<"&F85))/COUNTIFS(F:F,F85)))*50*E85*(1+VALUE(MID(H85,FIND(": ",H85)+2,FIND("/",H85)-FIND(":",H85)-2))-1)+50*E85*(1+VALUE(MID(H85,FIND(": ",H85)+2,FIND("/",H85)-FIND(":",H85)-2))-1)/VALUE(RIGHT(H85,1)),IF(F85<=VALUE(MID(H85,FIND(", ",H85)+2,IF(MID(H85,FIND(", ",H85)+2,1)="1",2,1))),(IF(COUNTIFS(F:F,"<="&F85)<=VALUE(MID(H85,FIND(", ",H85)+2,IF(MID(H85,FIND(", ",H85)+2,1)="1",2,1))),1,(VALUE(MID(H85,FIND(", ",H85)+2,IF(MID(H85,FIND(", ",H85)+2,1)="1",2,1)))-COUNTIFS(F:F,"<"&F85))/COUNTIFS(F:F,F85)))*(50*E85*(1+VALUE(MID(H85,FIND(": ",H85)+2,FIND("/",H85)-FIND(":",H85)-2))-1)/VALUE(RIGHT(H85,1))+50*E85)-(100*E85),-E85*100))) | H85: =IF(E85="","",OFFSET([1]LPGA!$AL$1,MATCH(A85,[1]LPGA!$E$1:$E$500,0)-1,0))
... F169: =IFERROR(IF(A169="","",OFFSET(Results!$AJ$1,MATCH(A169,Results!$A:$A,0)-1,0)),"") | G169: =IF(OR(E169="",F169=""),"",IF(F169=1,(IF(COUNTIFS(F:F,"<="&F169)<=1,1,(1-COUNTIFS(F:F,"<"&F169))/COUNTIFS(F:F,F169)))*50*E169*(1+VALUE(MID(H169,FIND(": ",H169)+2,FIND("/",H169)-FIND(":",H169)-2))-1)+50*E169*(1+VALUE(MID(H169,FIND(": ",H169)+2,FIND("/",H169)-FIND(":",H169)-2))-1)/VALUE(RIGHT(H169,1)),IF(F169<=VALUE(MID(H169,FIND(", ",H169)+2,IF(MID(H169,FIND(", ",H169)+2,1)="1",2,1))),(IF(COUNTIFS(F:F,"<="&F169)<=VALUE(MID(H169,FIND(", ",H169)+2,IF(MID(H169,FIND(", ",H169)+2,1)="1",2,1))),1,(VALUE(MID(H169,FIND(", ",H169)+2,IF(MID(H169,FIND(", ",H169)+2,1)="1",2,1)))-COUNTIFS(F:F,"<"&F169))/COUNTIFS(F:F,F169)))*(50*E169*(1+VALUE(MID(H169,FIND(": ",H169)+2,FIND("/",H169)-FIND(":",H169)-2))-1)/VALUE(RIGHT(H169,1))+50*E169)-(100*E169),-E169*100))) | H169: =IF(E169="","",OFFSET([1]LPGA!$AL$1,MATCH(A169,[1]LPGA!$E$1:$E$500,0)-1,0))

Sheet Picks
A1: Player | B1: TTWin | C1: TTOdds | D1: BestOdds | E1: Kelly | F1: Rank | G1: Result | H1: P/L | I1: Full P/L | J1: E/W Play | L1: FRL: | M1: Player | N1: TTWin | O1: TTOdds | P1: BestOdds | Q1: Kelly | R1: Rank | S1: Result | T1: P/L | U1: Full P/L | V1: E/W Play
A2: =IF(Win!A2="","",Win!A2) -> A Lim Kim | B2: =IF(Win!B2="","",VALUE(Win!B2)) -> 0.0199 | C2: =IF(Win!C2="","",Win!C2) -> 50 | D2: =IF(Win!D2="","",Win!D2) -> 26 | E2: =IF(D2="","",IF(ROUND((B2*(D2-1)-(1-B2))/(D2-1),3)<=0,"",ROUND((B2*(D2-1)-(1-B2))/(D2-1),3))) | F2: {=IF(E2="","",RANK(E2, $E$2:$E$241) + COUNTIFS($E$2:$E$241, E2, $D$2:$D$241, "<"&D2) + COUNTIFS($E$2:$E$241, E2, $D$2:$D$241, D2, $A$2:$A$241, "<"&A2))} | G2: =IF(Win!F2="","",Win!F2) -> 10 | H2: =IF(OR(F2="",G2="",F2>3),"",IF(G2=1,(IF(COUNTIFS(G:G,"<="&G2)<=1,1,(1-COUNTIFS(G:G,"<"&G2))/COUNTIFS(G:G,G2)))*(1+VALUE(MID(J2,FIND(": ",J2)+2,FIND("/",J2)-FIND(":",J2)-2))-1)+(1+VALUE(MID(J2,FIND(": ",J2)+2,FIND("/",J2)-FIND(":",J2)-2))-1)/VALUE(RIGHT(J2,1)),IF(G2<=VALUE(MID(J2,FIND(", ",J2)+2,IF(MID(J2,FIND(", ",J2)+2,1)="1",2,1))),(IF(COUNTIFS(G:G,"<="&G2)<=VALUE(MID(J2,FIND(", ",J2)+2,IF(MID(J2,FIND(", ",J2)+2,1)="1",2,1))),1,(VALUE(MID(J2,FIND(", ",J2)+2,IF(MID(J2,FIND(", ",J2)+2,1)="1",2,1)))-COUNTIFS(G:G,"<"&G2))/COUNTIFS(G:G,G2)))*(1*(1+VALUE(MID(J2,FIND(": ",J2)+2,FIND("/",J2)-FIND(":",J2)-2))-1)/VALUE(RIGHT(J2,1))+1)-2,-2))) | I2: =IF(OR(E2="",G2=""),"",IF(G2=1,(IF(COUNTIFS(G:G,"<="&G2)<=1,1,(1-COUNTIFS(G:G,"<"&G2))/COUNTIFS(G:G,G2)))*(1+VALUE(MID(J2,FIND(": ",J2)+2,FIND("/",J2)-FIND(":",J2)-2))-1)+(1+VALUE(MID(J2,FIND(": ",J2)+2,FIND("/",J2)-FIND(":",J2)-2))-1)/VALUE(RIGHT(J2,1)),IF(G2<=VALUE(MID(J2,FIND(", ",J2)+2,IF(MID(J2,FIND(", ",J2)+2,1)="1",2,1))),(IF(COUNTIFS(G:G,"<="&G2)<=VALUE(MID(J2,FIND(", ",J2)+2,IF(MID(J2,FIND(", ",J2)+2,1)="1",2,1))),1,(VALUE(MID(J2,FIND(", ",J2)+2,IF(MID(J2,FIND(", ",J2)+2,1)="1",2,1)))-COUNTIFS(G:G,"<"&G2))/COUNTIFS(G:G,G2)))*(1*(1+VALUE(MID(J2,FIND(": ",J2)+2,FIND("/",J2)-FIND(":",J2)-2))-1)/VALUE(RIGHT(J2,1))+1)-2,-2))) | J2: =IF(F2="","",Win!H2) | M2: =IF(FRL!A2="","",FRL!A2) -> A Lim Kim | N2: =IF(FRL!B2="","",FRL!B2) -> 2.24% | O2: =IF(FRL!C2="","",FRL!C2) -> 45 | P2: =IF(FRL!D2="","",FRL!D2) -> 34 | Q2: =IF(P2="","",IF(ROUND((N2*(P2-1)-(1-N2))/(P2-1),3)<=0,"",ROUND((N2*(P2-1)-(1-N2))/(P2-1),3))) | R2: {=IF(Q2="","",RANK(Q2, $Q$2:$Q$241) + COUNTIFS($Q$2:$Q$241, Q2, $P$2:$P$241, "<"&P2) + COUNTIFS($Q$2:$Q$241, Q2, $P$2:$P$241, P2, $M$2:$M$241, "<"&M2))} | S2: =IF(FRL!F2="","",FRL!F2) -> 62 | T2: =IF(OR(R2="",S2="",R2>3),"",0.5*IF(S2=1,(IF(COUNTIFS(S:S,"<="&S2)<=1,1,(1-COUNTIFS(S:S,"<"&S2))/COUNTIFS(S:S,S2)))*(1+VALUE(MID(V2,FIND(": ",V2)+2,FIND("/",V2)-FIND(":",V2)-2))-1)+(1+VALUE(MID(V2,FIND(": ",V2)+2,FIND("/",V2)-FIND(":",V2)-2))-1)/VALUE(RIGHT(V2,1)),IF(S2<=VALUE(MID(V2,FIND(", ",V2)+2,IF(MID(V2,FIND(", ",V2)+2,1)="1",2,1))),(IF(COUNTIFS(S:S,"<="&S2)<=VALUE(MID(V2,FIND(", ",V2)+2,IF(MID(V2,FIND(", ",V2)+2,1)="1",2,1))),1,(VALUE(MID(V2,FIND(", ",V2)+2,IF(MID(V2,FIND(", ",V2)+2,1)="1",2,1)))-COUNTIFS(S:S,"<"&S2))/COUNTIFS(S:S,S2)))*(1*(1+VALUE(MID(V2,FIND(": ",V2)+2,FIND("/",V2)-FIND(":",V2)-2))-1)/VALUE(RIGHT(V2,1))+1)-2,-2))) | U2: =IF(OR(Q2="",S2=""),"",0.5*IF(S2=1,(IF(COUNTIFS(S:S,"<="&S2)<=1,1,(1-COUNTIFS(S:S,"<"&S2))/COUNTIFS(S:S,S2)))*(1+VALUE(MID(V2,FIND(": ",V2)+2,FIND("/",V2)-FIND(":",V2)-2))-1)+(1+VALUE(MID(V2,FIND(": ",V2)+2,FIND("/",V2)-FIND(":",V2)-2))-1)/VALUE(RIGHT(V2,1)),IF(S2<=VALUE(MID(V2,FIND(", ",V2)+2,IF(MID(V2,FIND(", ",V2)+2,1)="1",2,1))),(IF(COUNTIFS(S:S,"<="&S2)<=VALUE(MID(V2,FIND(", ",V2)+2,IF(MID(V2,FIND(", ",V2)+2,1)="1",2,1))),1,(VALUE(MID(V2,FIND(", ",V2)+2,IF(MID(V2,FIND(", ",V2)+2,1)="1",2,1)))-COUNTIFS(S:S,"<"&S2))/COUNTIFS(S:S,S2)))*(1*(1+VALUE(MID(V2,FIND(": ",V2)+2,FIND("/",V2)-FIND(":",V2)-2))-1)/VALUE(RIGHT(V2,1))+1)-2,-2))) | V2: =IF(R2="","",FRL!H2)
A3: =IF(Win!A3="","",Win!A3) -> Akie Iwai | B3: =IF(Win!B3="","",VALUE(Win!B3)) -> 0.0521 | C3: =IF(Win!C3="","",Win!C3) -> 19 | D3: =IF(Win!D3="","",Win!D3) -> 17 | E3: =IF(D3="","",IF(ROUND((B3*(D3-1)-(1-B3))/(D3-1),3)<=0,"",ROUND((B3*(D3-1)-(1-B3))/(D3-1),3))) | F3: {=IF(E3="","",RANK(E3, $E$2:$E$241) + COUNTIFS($E$2:$E$241, E3, $D$2:$D$241, "<"&D3) + COUNTIFS($E$2:$E$241, E3, $D$2:$D$241, D3, $A$2:$A$241, "<"&A3))} | G3: =IF(Win!F3="","",Win!F3) -> 48 | H3: =IF(OR(F3="",G3="",F3>3),"",IF(G3=1,(IF(COUNTIFS(G:G,"<="&G3)<=1,1,(1-COUNTIFS(G:G,"<"&G3))/COUNTIFS(G:G,G3)))*(1+VALUE(MID(J3,FIND(": ",J3)+2,FIND("/",J3)-FIND(":",J3)-2))-1)+(1+VALUE(MID(J3,FIND(": ",J3)+2,FIND("/",J3)-FIND(":",J3)-2))-1)/VALUE(RIGHT(J3,1)),IF(G3<=VALUE(MID(J3,FIND(", ",J3)+2,IF(MID(J3,FIND(", ",J3)+2,1)="1",2,1))),(IF(COUNTIFS(G:G,"<="&G3)<=VALUE(MID(J3,FIND(", ",J3)+2,IF(MID(J3,FIND(", ",J3)+2,1)="1",2,1))),1,(VALUE(MID(J3,FIND(", ",J3)+2,IF(MID(J3,FIND(", ",J3)+2,1)="1",2,1)))-COUNTIFS(G:G,"<"&G3))/COUNTIFS(G:G,G3)))*(1*(1+VALUE(MID(J3,FIND(": ",J3)+2,FIND("/",J3)-FIND(":",J3)-2))-1)/VALUE(RIGHT(J3,1))+1)-2,-2))) | I3: =IF(OR(E3="",G3=""),"",IF(G3=1,(IF(COUNTIFS(G:G,"<="&G3)<=1,1,(1-COUNTIFS(G:G,"<"&G3))/COUNTIFS(G:G,G3)))*(1+VALUE(MID(J3,FIND(": ",J3)+2,FIND("/",J3)-FIND(":",J3)-2))-1)+(1+VALUE(MID(J3,FIND(": ",J3)+2,FIND("/",J3)-FIND(":",J3)-2))-1)/VALUE(RIGHT(J3,1)),IF(G3<=VALUE(MID(J3,FIND(", ",J3)+2,IF(MID(J3,FIND(", ",J3)+2,1)="1",2,1))),(IF(COUNTIFS(G:G,"<="&G3)<=VALUE(MID(J3,FIND(", ",J3)+2,IF(MID(J3,FIND(", ",J3)+2,1)="1",2,1))),1,(VALUE(MID(J3,FIND(", ",J3)+2,IF(MID(J3,FIND(", ",J3)+2,1)="1",2,1)))-COUNTIFS(G:G,"<"&G3))/COUNTIFS(G:G,G3)))*(1*(1+VALUE(MID(J3,FIND(": ",J3)+2,FIND("/",J3)-FIND(":",J3)-2))-1)/VALUE(RIGHT(J3,1))+1)-2,-2))) | J3: =IF(F3="","",Win!H3) | M3: =IF(FRL!A3="","",FRL!A3) -> Akie Iwai | N3: =IF(FRL!B3="","",FRL!B3) -> 2.95% | O3: =IF(FRL!C3="","",FRL!C3) -> 34 | P3: =IF(FRL!D3="","",FRL!D3) -> 26 | Q3: =IF(P3="","",IF(ROUND((N3*(P3-1)-(1-N3))/(P3-1),3)<=0,"",ROUND((N3*(P3-1)-(1-N3))/(P3-1),3))) | R3: {=IF(Q3="","",RANK(Q3, $Q$2:$Q$241) + COUNTIFS($Q$2:$Q$241, Q3, $P$2:$P$241, "<"&P3) + COUNTIFS($Q$2:$Q$241, Q3, $P$2:$P$241, P3, $M$2:$M$241, "<"&M3))} | S3: =IF(FRL!F3="","",FRL!F3) -> 44 | T3: =IF(OR(R3="",S3="",R3>3),"",0.5*IF(S3=1,(IF(COUNTIFS(S:S,"<="&S3)<=1,1,(1-COUNTIFS(S:S,"<"&S3))/COUNTIFS(S:S,S3)))*(1+VALUE(MID(V3,FIND(": ",V3)+2,FIND("/",V3)-FIND(":",V3)-2))-1)+(1+VALUE(MID(V3,FIND(": ",V3)+2,FIND("/",V3)-FIND(":",V3)-2))-1)/VALUE(RIGHT(V3,1)),IF(S3<=VALUE(MID(V3,FIND(", ",V3)+2,IF(MID(V3,FIND(", ",V3)+2,1)="1",2,1))),(IF(COUNTIFS(S:S,"<="&S3)<=VALUE(MID(V3,FIND(", ",V3)+2,IF(MID(V3,FIND(", ",V3)+2,1)="1",2,1))),1,(VALUE(MID(V3,FIND(", ",V3)+2,IF(MID(V3,FIND(", ",V3)+2,1)="1",2,1)))-COUNTIFS(S:S,"<"&S3))/COUNTIFS(S:S,S3)))*(1*(1+VALUE(MID(V3,FIND(": ",V3)+2,FIND("/",V3)-FIND(":",V3)-2))-1)/VALUE(RIGHT(V3,1))+1)-2,-2))) | U3: =IF(OR(Q3="",S3=""),"",0.5*IF(S3=1,(IF(COUNTIFS(S:S,"<="&S3)<=1,1,(1-COUNTIFS(S:S,"<"&S3))/COUNTIFS(S:S,S3)))*(1+VALUE(MID(V3,FIND(": ",V3)+2,FIND("/",V3)-FIND(":",V3)-2))-1)+(1+VALUE(MID(V3,FIND(": ",V3)+2,FIND("/",V3)-FIND(":",V3)-2))-1)/VALUE(RIGHT(V3,1)),IF(S3<=VALUE(MID(V3,FIND(", ",V3)+2,IF(MID(V3,FIND(", ",V3)+2,1)="1",2,1))),(IF(COUNTIFS(S:S,"<="&S3)<=VALUE(MID(V3,FIND(", ",V3)+2,IF(MID(V3,FIND(", ",V3)+2,1)="1",2,1))),1,(VALUE(MID(V3,FIND(", ",V3)+2,IF(MID(V3,FIND(", ",V3)+2,1)="1",2,1)))-COUNTIFS(S:S,"<"&S3))/COUNTIFS(S:S,S3)))*(1*(1+VALUE(MID(V3,FIND(": ",V3)+2,FIND("/",V3)-FIND(":",V3)-2))-1)/VALUE(RIGHT(V3,1))+1)-2,-2))) | V3: =IF(R3="","",FRL!H3)
A4: =IF(Win!A4="","",Win!A4) -> Allisen Corpuz | B4: =IF(Win!B4="","",VALUE(Win!B4)) -> 0.0042 | C4: =IF(Win!C4="","",Win!C4) -> 238 | D4: =IF(Win!D4="","",Win!D4) -> 111 | E4: =IF(D4="","",IF(ROUND((B4*(D4-1)-(1-B4))/(D4-1),3)<=0,"",ROUND((B4*(D4-1)-(1-B4))/(D4-1),3))) | F4: {=IF(E4="","",RANK(E4, $E$2:$E$241) + COUNTIFS($E$2:$E$241, E4, $D$2:$D$241, "<"&D4) + COUNTIFS($E$2:$E$241, E4, $D$2:$D$241, D4, $A$2:$A$241, "<"&A4))} | G4: =IF(Win!F4="","",Win!F4) -> 10 | H4: =IF(OR(F4="",G4="",F4>3),"",IF(G4=1,(IF(COUNTIFS(G:G,"<="&G4)<=1,1,(1-COUNTIFS(G:G,"<"&G4))/COUNTIFS(G:G,G4)))*(1+VALUE(MID(J4,FIND(": ",J4)+2,FIND("/",J4)-FIND(":",J4)-2))-1)+(1+VALUE(MID(J4,FIND(": ",J4)+2,FIND("/",J4)-FIND(":",J4)-2))-1)/VALUE(RIGHT(J4,1)),IF(G4<=VALUE(MID(J4,FIND(", ",J4)+2,IF(MID(J4,FIND(", ",J4)+2,1)="1",2,1))),(IF(COUNTIFS(G:G,"<="&G4)<=VALUE(MID(J4,FIND(", ",J4)+2,IF(MID(J4,FIND(", ",J4)+2,1)="1",2,1))),1,(VALUE(MID(J4,FIND(", ",J4)+2,IF(MID(J4,FIND(", ",J4)+2,1)="1",2,1)))-COUNTIFS(G:G,"<"&G4))/COUNTIFS(G:G,G4)))*(1*(1+VALUE(MID(J4,FIND(": ",J4)+2,FIND("/",J4)-FIND(":",J4)-2))-1)/VALUE(RIGHT(J4,1))+1)-2,-2))) | I4: =IF(OR(E4="",G4=""),"",IF(G4=1,(IF(COUNTIFS(G:G,"<="&G4)<=1,1,(1-COUNTIFS(G:G,"<"&G4))/COUNTIFS(G:G,G4)))*(1+VALUE(MID(J4,FIND(": ",J4)+2,FIND("/",J4)-FIND(":",J4)-2))-1)+(1+VALUE(MID(J4,FIND(": ",J4)+2,FIND("/",J4)-FIND(":",J4)-2))-1)/VALUE(RIGHT(J4,1)),IF(G4<=VALUE(MID(J4,FIND(", ",J4)+2,IF(MID(J4,FIND(", ",J4)+2,1)="1",2,1))),(IF(COUNTIFS(G:G,"<="&G4)<=VALUE(MID(J4,FIND(", ",J4)+2,IF(MID(J4,FIND(", ",J4)+2,1)="1",2,1))),1,(VALUE(MID(J4,FIND(", ",J4)+2,IF(MID(J4,FIND(", ",J4)+2,1)="1",2,1)))-COUNTIFS(G:G,"<"&G4))/COUNTIFS(G:G,G4)))*(1*(1+VALUE(MID(J4,FIND(": ",J4)+2,FIND("/",J4)-FIND(":",J4)-2))-1)/VALUE(RIGHT(J4,1))+1)-2,-2))) | J4: =IF(F4="","",Win!H4) | M4: =IF(FRL!A4="","",FRL!A4) -> Allisen Corpuz | N4: =IF(FRL!B4="","",FRL!B4) -> 1.40% | O4: =IF(FRL!C4="","",FRL!C4) -> 71 | P4: =IF(FRL!D4="","",FRL!D4) -> 61 | Q4: =IF(P4="","",IF(ROUND((N4*(P4-1)-(1-N4))/(P4-1),3)<=0,"",ROUND((N4*(P4-1)-(1-N4))/(P4-1),3))) | R4: {=IF(Q4="","",RANK(Q4, $Q$2:$Q$241) + COUNTIFS($Q$2:$Q$241, Q4, $P$2:$P$241, "<"&P4) + COUNTIFS($Q$2:$Q$241, Q4, $P$2:$P$241, P4, $M$2:$M$241, "<"&M4))} | S4: =IF(FRL!F4="","",FRL!F4) -> 6 | T4: =IF(OR(R4="",S4="",R4>3),"",0.5*IF(S4=1,(IF(COUNTIFS(S:S,"<="&S4)<=1,1,(1-COUNTIFS(S:S,"<"&S4))/COUNTIFS(S:S,S4)))*(1+VALUE(MID(V4,FIND(": ",V4)+2,FIND("/",V4)-FIND(":",V4)-2))-1)+(1+VALUE(MID(V4,FIND(": ",V4)+2,FIND("/",V4)-FIND(":",V4)-2))-1)/VALUE(RIGHT(V4,1)),IF(S4<=VALUE(MID(V4,FIND(", ",V4)+2,IF(MID(V4,FIND(", ",V4)+2,1)="1",2,1))),(IF(COUNTIFS(S:S,"<="&S4)<=VALUE(MID(V4,FIND(", ",V4)+2,IF(MID(V4,FIND(", ",V4)+2,1)="1",2,1))),1,(VALUE(MID(V4,FIND(", ",V4)+2,IF(MID(V4,FIND(", ",V4)+2,1)="1",2,1)))-COUNTIFS(S:S,"<"&S4))/COUNTIFS(S:S,S4)))*(1*(1+VALUE(MID(V4,FIND(": ",V4)+2,FIND("/",V4)-FIND(":",V4)-2))-1)/VALUE(RIGHT(V4,1))+1)-2,-2))) | U4: =IF(OR(Q4="",S4=""),"",0.5*IF(S4=1,(IF(COUNTIFS(S:S,"<="&S4)<=1,1,(1-COUNTIFS(S:S,"<"&S4))/COUNTIFS(S:S,S4)))*(1+VALUE(MID(V4,FIND(": ",V4)+2,FIND("/",V4)-FIND(":",V4)-2))-1)+(1+VALUE(MID(V4,FIND(": ",V4)+2,FIND("/",V4)-FIND(":",V4)-2))-1)/VALUE(RIGHT(V4,1)),IF(S4<=VALUE(MID(V4,FIND(", ",V4)+2,IF(MID(V4,FIND(", ",V4)+2,1)="1",2,1))),(IF(COUNTIFS(S:S,"<="&S4)<=VALUE(MID(V4,FIND(", ",V4)+2,IF(MID(V4,FIND(", ",V4)+2,1)="1",2,1))),1,(VALUE(MID(V4,FIND(", ",V4)+2,IF(MID(V4,FIND(", ",V4)+2,1)="1",2,1)))-COUNTIFS(S:S,"<"&S4))/COUNTIFS(S:S,S4)))*(1*(1+VALUE(MID(V4,FIND(": ",V4)+2,FIND("/",V4)-FIND(":",V4)-2))-1)/VALUE(RIGHT(V4,1))+1)-2,-2))) | V4: =IF(R4="","",FRL!H4)
A5: =IF(Win!A5="","",Win!A5) -> Andrea Lee | B5: =IF(Win!B5="","",VALUE(Win!B5)) -> 0.0061 | C5: =IF(Win!C5="","",Win!C5) -> 164 | D5: =IF(Win!D5="","",Win!D5) -> 81 | E5: =IF(D5="","",IF(ROUND((B5*(D5-1)-(1-B5))/(D5-1),3)<=0,"",ROUND((B5*(D5-1)-(1-B5))/(D5-1),3))) | F5: {=IF(E5="","",RANK(E5, $E$2:$E$241) + COUNTIFS($E$2:$E$241, E5, $D$2:$D$241, "<"&D5) + COUNTIFS($E$2:$E$241, E5, $D$2:$D$241, D5, $A$2:$A$241, "<"&A5))} | G5: =IF(Win!F5="","",Win!F5) -> 14 | H5: =IF(OR(F5="",G5="",F5>3),"",IF(G5=1,(IF(COUNTIFS(G:G,"<="&G5)<=1,1,(1-COUNTIFS(G:G,"<"&G5))/COUNTIFS(G:G,G5)))*(1+VALUE(MID(J5,FIND(": ",J5)+2,FIND("/",J5)-FIND(":",J5)-2))-1)+(1+VALUE(MID(J5,FIND(": ",J5)+2,FIND("/",J5)-FIND(":",J5)-2))-1)/VALUE(RIGHT(J5,1)),IF(G5<=VALUE(MID(J5,FIND(", ",J5)+2,IF(MID(J5,FIND(", ",J5)+2,1)="1",2,1))),(IF(COUNTIFS(G:G,"<="&G5)<=VALUE(MID(J5,FIND(", ",J5)+2,IF(MID(J5,FIND(", ",J5)+2,1)="1",2,1))),1,(VALUE(MID(J5,FIND(", ",J5)+2,IF(MID(J5,FIND(", ",J5)+2,1)="1",2,1)))-COUNTIFS(G:G,"<"&G5))/COUNTIFS(G:G,G5)))*(1*(1+VALUE(MID(J5,FIND(": ",J5)+2,FIND("/",J5)-FIND(":",J5)-2))-1)/VALUE(RIGHT(J5,1))+1)-2,-2))) | I5: =IF(OR(E5="",G5=""),"",IF(G5=1,(IF(COUNTIFS(G:G,"<="&G5)<=1,1,(1-COUNTIFS(G:G,"<"&G5))/COUNTIFS(G:G,G5)))*(1+VALUE(MID(J5,FIND(": ",J5)+2,FIND("/",J5)-FIND(":",J5)-2))-1)+(1+VALUE(MID(J5,FIND(": ",J5)+2,FIND("/",J5)-FIND(":",J5)-2))-1)/VALUE(RIGHT(J5,1)),IF(G5<=VALUE(MID(J5,FIND(", ",J5)+2,IF(MID(J5,FIND(", ",J5)+2,1)="1",2,1))),(IF(COUNTIFS(G:G,"<="&G5)<=VALUE(MID(J5,FIND(", ",J5)+2,IF(MID(J5,FIND(", ",J5)+2,1)="1",2,1))),1,(VALUE(MID(J5,FIND(", ",J5)+2,IF(MID(J5,FIND(", ",J5)+2,1)="1",2,1)))-COUNTIFS(G:G,"<"&G5))/COUNTIFS(G:G,G5)))*(1*(1+VALUE(MID(J5,FIND(": ",J5)+2,FIND("/",J5)-FIND(":",J5)-2))-1)/VALUE(RIGHT(J5,1))+1)-2,-2))) | J5: =IF(F5="","",Win!H5) | M5: =IF(FRL!A5="","",FRL!A5) -> Andrea Lee | N5: =IF(FRL!B5="","",FRL!B5) -> 1.57% | O5: =IF(FRL!C5="","",FRL!C5) -> 64 | P5: =IF(FRL!D5="","",FRL!D5) -> 61 | Q5: =IF(P5="","",IF(ROUND((N5*(P5-1)-(1-N5))/(P5-1),3)<=0,"",ROUND((N5*(P5-1)-(1-N5))/(P5-1),3))) | R5: {=IF(Q5="","",RANK(Q5, $Q$2:$Q$241) + COUNTIFS($Q$2:$Q$241, Q5, $P$2:$P$241, "<"&P5) + COUNTIFS($Q$2:$Q$241, Q5, $P$2:$P$241, P5, $M$2:$M$241, "<"&M5))} | S5: =IF(FRL!F5="","",FRL!F5) -> 16 | T5: =IF(OR(R5="",S5="",R5>3),"",0.5*IF(S5=1,(IF(COUNTIFS(S:S,"<="&S5)<=1,1,(1-COUNTIFS(S:S,"<"&S5))/COUNTIFS(S:S,S5)))*(1+VALUE(MID(V5,FIND(": ",V5)+2,FIND("/",V5)-FIND(":",V5)-2))-1)+(1+VALUE(MID(V5,FIND(": ",V5)+2,FIND("/",V5)-FIND(":",V5)-2))-1)/VALUE(RIGHT(V5,1)),IF(S5<=VALUE(MID(V5,FIND(", ",V5)+2,IF(MID(V5,FIND(", ",V5)+2,1)="1",2,1))),(IF(COUNTIFS(S:S,"<="&S5)<=VALUE(MID(V5,FIND(", ",V5)+2,IF(MID(V5,FIND(", ",V5)+2,1)="1",2,1))),1,(VALUE(MID(V5,FIND(", ",V5)+2,IF(MID(V5,FIND(", ",V5)+2,1)="1",2,1)))-COUNTIFS(S:S,"<"&S5))/COUNTIFS(S:S,S5)))*(1*(1+VALUE(MID(V5,FIND(": ",V5)+2,FIND("/",V5)-FIND(":",V5)-2))-1)/VALUE(RIGHT(V5,1))+1)-2,-2))) | U5: =IF(OR(Q5="",S5=""),"",0.5*IF(S5=1,(IF(COUNTIFS(S:S,"<="&S5)<=1,1,(1-COUNTIFS(S:S,"<"&S5))/COUNTIFS(S:S,S5)))*(1+VALUE(MID(V5,FIND(": ",V5)+2,FIND("/",V5)-FIND(":",V5)-2))-1)+(1+VALUE(MID(V5,FIND(": ",V5)+2,FIND("/",V5)-FIND(":",V5)-2))-1)/VALUE(RIGHT(V5,1)),IF(S5<=VALUE(MID(V5,FIND(", ",V5)+2,IF(MID(V5,FIND(", ",V5)+2,1)="1",2,1))),(IF(COUNTIFS(S:S,"<="&S5)<=VALUE(MID(V5,FIND(", ",V5)+2,IF(MID(V5,FIND(", ",V5)+2,1)="1",2,1))),1,(VALUE(MID(V5,FIND(", ",V5)+2,IF(MID(V5,FIND(", ",V5)+2,1)="1",2,1)))-COUNTIFS(S:S,"<"&S5))/COUNTIFS(S:S,S5)))*(1*(1+VALUE(MID(V5,FIND(": ",V5)+2,FIND("/",V5)-FIND(":",V5)-2))-1)/VALUE(RIGHT(V5,1))+1)-2,-2))) | V5: =IF(R5="","",FRL!H5)
A6: =IF(Win!A6="","",Win!A6) -> Angel Yin | B6: =IF(Win!B6="","",VALUE(Win!B6)) -> 0.0002 | C6: =IF(Win!C6="","",Win!C6) -> 5000 | D6: =IF(Win!D6="","",Win!D6) -> 86 | E6: =IF(D6="","",IF(ROUND((B6*(D6-1)-(1-B6))/(D6-1),3)<=0,"",ROUND((B6*(D6-1)-(1-B6))/(D6-1),3))) | F6: {=IF(E6="","",RANK(E6, $E$2:$E$241) + COUNTIFS($E$2:$E$241, E6, $D$2:$D$241, "<"&D6) + COUNTIFS($E$2:$E$241, E6, $D$2:$D$241, D6, $A$2:$A$241, "<"&A6))} | G6: =IF(Win!F6="","",Win!F6) -> 48 | H6: =IF(OR(F6="",G6="",F6>3),"",IF(G6=1,(IF(COUNTIFS(G:G,"<="&G6)<=1,1,(1-COUNTIFS(G:G,"<"&G6))/COUNTIFS(G:G,G6)))*(1+VALUE(MID(J6,FIND(": ",J6)+2,FIND("/",J6)-FIND(":",J6)-2))-1)+(1+VALUE(MID(J6,FIND(": ",J6)+2,FIND("/",J6)-FIND(":",J6)-2))-1)/VALUE(RIGHT(J6,1)),IF(G6<=VALUE(MID(J6,FIND(", ",J6)+2,IF(MID(J6,FIND(", ",J6)+2,1)="1",2,1))),(IF(COUNTIFS(G:G,"<="&G6)<=VALUE(MID(J6,FIND(", ",J6)+2,IF(MID(J6,FIND(", ",J6)+2,1)="1",2,1))),1,(VALUE(MID(J6,FIND(", ",J6)+2,IF(MID(J6,FIND(", ",J6)+2,1)="1",2,1)))-COUNTIFS(G:G,"<"&G6))/COUNTIFS(G:G,G6)))*(1*(1+VALUE(MID(J6,FIND(": ",J6)+2,FIND("/",J6)-FIND(":",J6)-2))-1)/VALUE(RIGHT(J6,1))+1)-2,-2))) | I6: =IF(OR(E6="",G6=""),"",IF(G6=1,(IF(COUNTIFS(G:G,"<="&G6)<=1,1,(1-COUNTIFS(G:G,"<"&G6))/COUNTIFS(G:G,G6)))*(1+VALUE(MID(J6,FIND(": ",J6)+2,FIND("/",J6)-FIND(":",J6)-2))-1)+(1+VALUE(MID(J6,FIND(": ",J6)+2,FIND("/",J6)-FIND(":",J6)-2))-1)/VALUE(RIGHT(J6,1)),IF(G6<=VALUE(MID(J6,FIND(", ",J6)+2,IF(MID(J6,FIND(", ",J6)+2,1)="1",2,1))),(IF(COUNTIFS(G:G,"<="&G6)<=VALUE(MID(J6,FIND(", ",J6)+2,IF(MID(J6,FIND(", ",J6)+2,1)="1",2,1))),1,(VALUE(MID(J6,FIND(", ",J6)+2,IF(MID(J6,FIND(", ",J6)+2,1)="1",2,1)))-COUNTIFS(G:G,"<"&G6))/COUNTIFS(G:G,G6)))*(1*(1+VALUE(MID(J6,FIND(": ",J6)+2,FIND("/",J6)-FIND(":",J6)-2))-1)/VALUE(RIGHT(J6,1))+1)-2,-2))) | J6: =IF(F6="","",Win!H6) | M6: =IF(FRL!A6="","",FRL!A6) -> Angel Yin | N6: =IF(FRL!B6="","",FRL!B6) -> 0.64% | O6: =IF(FRL!C6="","",FRL!C6) -> 156 | P6: =IF(FRL!D6="","",FRL!D6) -> 61 | Q6: =IF(P6="","",IF(ROUND((N6*(P6-1)-(1-N6))/(P6-1),3)<=0,"",ROUND((N6*(P6-1)-(1-N6))/(P6-1),3))) | R6: {=IF(Q6="","",RANK(Q6, $Q$2:$Q$241) + COUNTIFS($Q$2:$Q$241, Q6, $P$2:$P$241, "<"&P6) + COUNTIFS($Q$2:$Q$241, Q6, $P$2:$P$241, P6, $M$2:$M$241, "<"&M6))} | S6: =IF(FRL!F6="","",FRL!F6) -> 25 | T6: =IF(OR(R6="",S6="",R6>3),"",0.5*IF(S6=1,(IF(COUNTIFS(S:S,"<="&S6)<=1,1,(1-COUNTIFS(S:S,"<"&S6))/COUNTIFS(S:S,S6)))*(1+VALUE(MID(V6,FIND(": ",V6)+2,FIND("/",V6)-FIND(":",V6)-2))-1)+(1+VALUE(MID(V6,FIND(": ",V6)+2,FIND("/",V6)-FIND(":",V6)-2))-1)/VALUE(RIGHT(V6,1)),IF(S6<=VALUE(MID(V6,FIND(", ",V6)+2,IF(MID(V6,FIND(", ",V6)+2,1)="1",2,1))),(IF(COUNTIFS(S:S,"<="&S6)<=VALUE(MID(V6,FIND(", ",V6)+2,IF(MID(V6,FIND(", ",V6)+2,1)="1",2,1))),1,(VALUE(MID(V6,FIND(", ",V6)+2,IF(MID(V6,FIND(", ",V6)+2,1)="1",2,1)))-COUNTIFS(S:S,"<"&S6))/COUNTIFS(S:S,S6)))*(1*(1+VALUE(MID(V6,FIND(": ",V6)+2,FIND("/",V6)-FIND(":",V6)-2))-1)/VALUE(RIGHT(V6,1))+1)-2,-2))) | U6: =IF(OR(Q6="",S6=""),"",0.5*IF(S6=1,(IF(COUNTIFS(S:S,"<="&S6)<=1,1,(1-COUNTIFS(S:S,"<"&S6))/COUNTIFS(S:S,S6)))*(1+VALUE(MID(V6,FIND(": ",V6)+2,FIND("/",V6)-FIND(":",V6)-2))-1)+(1+VALUE(MID(V6,FIND(": ",V6)+2,FIND("/",V6)-FIND(":",V6)-2))-1)/VALUE(RIGHT(V6,1)),IF(S6<=VALUE(MID(V6,FIND(", ",V6)+2,IF(MID(V6,FIND(", ",V6)+2,1)="1",2,1))),(IF(COUNTIFS(S:S,"<="&S6)<=VALUE(MID(V6,FIND(", ",V6)+2,IF(MID(V6,FIND(", ",V6)+2,1)="1",2,1))),1,(VALUE(MID(V6,FIND(", ",V6)+2,IF(MID(V6,FIND(", ",V6)+2,1)="1",2,1)))-COUNTIFS(S:S,"<"&S6))/COUNTIFS(S:S,S6)))*(1*(1+VALUE(MID(V6,FIND(": ",V6)+2,FIND("/",V6)-FIND(":",V6)-2))-1)/VALUE(RIGHT(V6,1))+1)-2,-2))) | V6: =IF(R6="","",FRL!H6)
A7: =IF(Win!A7="","",Win!A7) -> April Angurasaranee | B7: =IF(Win!B7="","",VALUE(Win!B7)) -> 0 | C7: =IF(Win!C7="","",Win!C7) -> 10000 | D7: =IF(Win!D7="","",Win!D7) -> 1501 | E7: =IF(D7="","",IF(ROUND((B7*(D7-1)-(1-B7))/(D7-1),3)<=0,"",ROUND((B7*(D7-1)-(1-B7))/(D7-1),3))) | F7: {=IF(E7="","",RANK(E7, $E$2:$E$241) + COUNTIFS($E$2:$E$241, E7, $D$2:$D$241, "<"&D7) + COUNTIFS($E$2:$E$241, E7, $D$2:$D$241, D7, $A$2:$A$241, "<"&A7))} | G7: =IF(Win!F7="","",Win!F7) -> 23 | H7: =IF(OR(F7="",G7="",F7>3),"",IF(G7=1,(IF(COUNTIFS(G:G,"<="&G7)<=1,1,(1-COUNTIFS(G:G,"<"&G7))/COUNTIFS(G:G,G7)))*(1+VALUE(MID(J7,FIND(": ",J7)+2,FIND("/",J7)-FIND(":",J7)-2))-1)+(1+VALUE(MID(J7,FIND(": ",J7)+2,FIND("/",J7)-FIND(":",J7)-2))-1)/VALUE(RIGHT(J7,1)),IF(G7<=VALUE(MID(J7,FIND(", ",J7)+2,IF(MID(J7,FIND(", ",J7)+2,1)="1",2,1))),(IF(COUNTIFS(G:G,"<="&G7)<=VALUE(MID(J7,FIND(", ",J7)+2,IF(MID(J7,FIND(", ",J7)+2,1)="1",2,1))),1,(VALUE(MID(J7,FIND(", ",J7)+2,IF(MID(J7,FIND(", ",J7)+2,1)="1",2,1)))-COUNTIFS(G:G,"<"&G7))/COUNTIFS(G:G,G7)))*(1*(1+VALUE(MID(J7,FIND(": ",J7)+2,FIND("/",J7)-FIND(":",J7)-2))-1)/VALUE(RIGHT(J7,1))+1)-2,-2))) | I7: =IF(OR(E7="",G7=""),"",IF(G7=1,(IF(COUNTIFS(G:G,"<="&G7)<=1,1,(1-COUNTIFS(G:G,"<"&G7))/COUNTIFS(G:G,G7)))*(1+VALUE(MID(J7,FIND(": ",J7)+2,FIND("/",J7)-FIND(":",J7)-2))-1)+(1+VALUE(MID(J7,FIND(": ",J7)+2,FIND("/",J7)-FIND(":",J7)-2))-1)/VALUE(RIGHT(J7,1)),IF(G7<=VALUE(MID(J7,FIND(", ",J7)+2,IF(MID(J7,FIND(", ",J7)+2,1)="1",2,1))),(IF(COUNTIFS(G:G,"<="&G7)<=VALUE(MID(J7,FIND(", ",J7)+2,IF(MID(J7,FIND(", ",J7)+2,1)="1",2,1))),1,(VALUE(MID(J7,FIND(", ",J7)+2,IF(MID(J7,FIND(", ",J7)+2,1)="1",2,1)))-COUNTIFS(G:G,"<"&G7))/COUNTIFS(G:G,G7)))*(1*(1+VALUE(MID(J7,FIND(": ",J7)+2,FIND("/",J7)-FIND(":",J7)-2))-1)/VALUE(RIGHT(J7,1))+1)-2,-2))) | J7: =IF(F7="","",Win!H7) | M7: =IF(FRL!A7="","",FRL!A7) -> April Angurasaranee | N7: =IF(FRL!B7="","",FRL!B7) -> 0.17% | O7: =IF(FRL!C7="","",FRL!C7) -> 588 | P7: =IF(FRL!D7="","",FRL!D7) -> 301 | Q7: =IF(P7="","",IF(ROUND((N7*(P7-1)-(1-N7))/(P7-1),3)<=0,"",ROUND((N7*(P7-1)-(1-N7))/(P7-1),3))) | R7: {=IF(Q7="","",RANK(Q7, $Q$2:$Q$241) + COUNTIFS($Q$2:$Q$241, Q7, $P$2:$P$241, "<"&P7) + COUNTIFS($Q$2:$Q$241, Q7, $P$2:$P$241, P7, $M$2:$M$241, "<"&M7))} | S7: =IF(FRL!F7="","",FRL!F7) -> 44 | T7: =IF(OR(R7="",S7="",R7>3),"",0.5*IF(S7=1,(IF(COUNTIFS(S:S,"<="&S7)<=1,1,(1-COUNTIFS(S:S,"<"&S7))/COUNTIFS(S:S,S7)))*(1+VALUE(MID(V7,FIND(": ",V7)+2,FIND("/",V7)-FIND(":",V7)-2))-1)+(1+VALUE(MID(V7,FIND(": ",V7)+2,FIND("/",V7)-FIND(":",V7)-2))-1)/VALUE(RIGHT(V7,1)),IF(S7<=VALUE(MID(V7,FIND(", ",V7)+2,IF(MID(V7,FIND(", ",V7)+2,1)="1",2,1))),(IF(COUNTIFS(S:S,"<="&S7)<=VALUE(MID(V7,FIND(", ",V7)+2,IF(MID(V7,FIND(", ",V7)+2,1)="1",2,1))),1,(VALUE(MID(V7,FIND(", ",V7)+2,IF(MID(V7,FIND(", ",V7)+2,1)="1",2,1)))-COUNTIFS(S:S,"<"&S7))/COUNTIFS(S:S,S7)))*(1*(1+VALUE(MID(V7,FIND(": ",V7)+2,FIND("/",V7)-FIND(":",V7)-2))-1)/VALUE(RIGHT(V7,1))+1)-2,-2))) | U7: =IF(OR(Q7="",S7=""),"",0.5*IF(S7=1,(IF(COUNTIFS(S:S,"<="&S7)<=1,1,(1-COUNTIFS(S:S,"<"&S7))/COUNTIFS(S:S,S7)))*(1+VALUE(MID(V7,FIND(": ",V7)+2,FIND("/",V7)-FIND(":",V7)-2))-1)+(1+VALUE(MID(V7,FIND(": ",V7)+2,FIND("/",V7)-FIND(":",V7)-2))-1)/VALUE(RIGHT(V7,1)),IF(S7<=VALUE(MID(V7,FIND(", ",V7)+2,IF(MID(V7,FIND(", ",V7)+2,1)="1",2,1))),(IF(COUNTIFS(S:S,"<="&S7)<=VALUE(MID(V7,FIND(", ",V7)+2,IF(MID(V7,FIND(", ",V7)+2,1)="1",2,1))),1,(VALUE(MID(V7,FIND(", ",V7)+2,IF(MID(V7,FIND(", ",V7)+2,1)="1",2,1)))-COUNTIFS(S:S,"<"&S7))/COUNTIFS(S:S,S7)))*(1*(1+VALUE(MID(V7,FIND(": ",V7)+2,FIND("/",V7)-FIND(":",V7)-2))-1)/VALUE(RIGHT(V7,1))+1)-2,-2))) | V7: =IF(R7="","",FRL!H7)
A8: =IF(Win!A8="","",Win!A8) -> Ariya Jutanugarn | B8: =IF(Win!B8="","",VALUE(Win!B8)) -> 0.0046 | C8: =IF(Win!C8="","",Win!C8) -> 217 | D8: =IF(Win!D8="","",Win!D8) -> 67 | E8: =IF(D8="","",IF(ROUND((B8*(D8-1)-(1-B8))/(D8-1),3)<=0,"",ROUND((B8*(D8-1)-(1-B8))/(D8-1),3))) | F8: {=IF(E8="","",RANK(E8, $E$2:$E$241) + COUNTIFS($E$2:$E$241, E8, $D$2:$D$241, "<"&D8) + COUNTIFS($E$2:$E$241, E8, $D$2:$D$241, D8, $A$2:$A$241, "<"&A8))} | G8: =IF(Win!F8="","",Win!F8) -> 8 | H8: =IF(OR(F8="",G8="",F8>3),"",IF(G8=1,(IF(COUNTIFS(G:G,"<="&G8)<=1,1,(1-COUNTIFS(G:G,"<"&G8))/COUNTIFS(G:G,G8)))*(1+VALUE(MID(J8,FIND(": ",J8)+2,FIND("/",J8)-FIND(":",J8)-2))-1)+(1+VALUE(MID(J8,FIND(": ",J8)+2,FIND("/",J8)-FIND(":",J8)-2))-1)/VALUE(RIGHT(J8,1)),IF(G8<=VALUE(MID(J8,FIND(", ",J8)+2,IF(MID(J8,FIND(", ",J8)+2,1)="1",2,1))),(IF(COUNTIFS(G:G,"<="&G8)<=VALUE(MID(J8,FIND(", ",J8)+2,IF(MID(J8,FIND(", ",J8)+2,1)="1",2,1))),1,(VALUE(MID(J8,FIND(", ",J8)+2,IF(MID(J8,FIND(", ",J8)+2,1)="1",2,1)))-COUNTIFS(G:G,"<"&G8))/COUNTIFS(G:G,G8)))*(1*(1+VALUE(MID(J8,FIND(": ",J8)+2,FIND("/",J8)-FIND(":",J8)-2))-1)/VALUE(RIGHT(J8,1))+1)-2,-2))) | I8: =IF(OR(E8="",G8=""),"",IF(G8=1,(IF(COUNTIFS(G:G,"<="&G8)<=1,1,(1-COUNTIFS(G:G,"<"&G8))/COUNTIFS(G:G,G8)))*(1+VALUE(MID(J8,FIND(": ",J8)+2,FIND("/",J8)-FIND(":",J8)-2))-1)+(1+VALUE(MID(J8,FIND(": ",J8)+2,FIND("/",J8)-FIND(":",J8)-2))-1)/VALUE(RIGHT(J8,1)),IF(G8<=VALUE(MID(J8,FIND(", ",J8)+2,IF(MID(J8,FIND(", ",J8)+2,1)="1",2,1))),(IF(COUNTIFS(G:G,"<="&G8)<=VALUE(MID(J8,FIND(", ",J8)+2,IF(MID(J8,FIND(", ",J8)+2,1)="1",2,1))),1,(VALUE(MID(J8,FIND(", ",J8)+2,IF(MID(J8,FIND(", ",J8)+2,1)="1",2,1)))-COUNTIFS(G:G,"<"&G8))/COUNTIFS(G:G,G8)))*(1*(1+VALUE(MID(J8,FIND(": ",J8)+2,FIND("/",J8)-FIND(":",J8)-2))-1)/VALUE(RIGHT(J8,1))+1)-2,-2))) | J8: =IF(F8="","",Win!H8) | M8: =IF(FRL!A8="","",FRL!A8) -> Ariya Jutanugarn | N8: =IF(FRL!B8="","",FRL!B8) -> 1.39% | O8: =IF(FRL!C8="","",FRL!C8) -> 72 | P8: =IF(FRL!D8="","",FRL!D8) -> 51 | Q8: =IF(P8="","",IF(ROUND((N8*(P8-1)-(1-N8))/(P8-1),3)<=0,"",ROUND((N8*(P8-1)-(1-N8))/(P8-1),3))) | R8: {=IF(Q8="","",RANK(Q8, $Q$2:$Q$241) + COUNTIFS($Q$2:$Q$241, Q8, $P$2:$P$241, "<"&P8) + COUNTIFS($Q$2:$Q$241, Q8, $P$2:$P$241, P8, $M$2:$M$241, "<"&M8))} | S8: =IF(FRL!F8="","",FRL!F8) -> 6 | T8: =IF(OR(R8="",S8="",R8>3),"",0.5*IF(S8=1,(IF(COUNTIFS(S:S,"<="&S8)<=1,1,(1-COUNTIFS(S:S,"<"&S8))/COUNTIFS(S:S,S8)))*(1+VALUE(MID(V8,FIND(": ",V8)+2,FIND("/",V8)-FIND(":",V8)-2))-1)+(1+VALUE(MID(V8,FIND(": ",V8)+2,FIND("/",V8)-FIND(":",V8)-2))-1)/VALUE(RIGHT(V8,1)),IF(S8<=VALUE(MID(V8,FIND(", ",V8)+2,IF(MID(V8,FIND(", ",V8)+2,1)="1",2,1))),(IF(COUNTIFS(S:S,"<="&S8)<=VALUE(MID(V8,FIND(", ",V8)+2,IF(MID(V8,FIND(", ",V8)+2,1)="1",2,1))),1,(VALUE(MID(V8,FIND(", ",V8)+2,IF(MID(V8,FIND(", ",V8)+2,1)="1",2,1)))-COUNTIFS(S:S,"<"&S8))/COUNTIFS(S:S,S8)))*(1*(1+VALUE(MID(V8,FIND(": ",V8)+2,FIND("/",V8)-FIND(":",V8)-2))-1)/VALUE(RIGHT(V8,1))+1)-2,-2))) | U8: =IF(OR(Q8="",S8=""),"",0.5*IF(S8=1,(IF(COUNTIFS(S:S,"<="&S8)<=1,1,(1-COUNTIFS(S:S,"<"&S8))/COUNTIFS(S:S,S8)))*(1+VALUE(MID(V8,FIND(": ",V8)+2,FIND("/",V8)-FIND(":",V8)-2))-1)+(1+VALUE(MID(V8,FIND(": ",V8)+2,FIND("/",V8)-FIND(":",V8)-2))-1)/VALUE(RIGHT(V8,1)),IF(S8<=VALUE(MID(V8,FIND(", ",V8)+2,IF(MID(V8,FIND(", ",V8)+2,1)="1",2,1))),(IF(COUNTIFS(S:S,"<="&S8)<=VALUE(MID(V8,FIND(", ",V8)+2,IF(MID(V8,FIND(", ",V8)+2,1)="1",2,1))),1,(VALUE(MID(V8,FIND(", ",V8)+2,IF(MID(V8,FIND(", ",V8)+2,1)="1",2,1)))-COUNTIFS(S:S,"<"&S8))/COUNTIFS(S:S,S8)))*(1*(1+VALUE(MID(V8,FIND(": ",V8)+2,FIND("/",V8)-FIND(":",V8)-2))-1)/VALUE(RIGHT(V8,1))+1)-2,-2))) | V8: =IF(R8="","",FRL!H8)
A9: =IF(Win!A9="","",Win!A9) -> Auston Kim | B9: =IF(Win!B9="","",VALUE(Win!B9)) -> 0.0076 | C9: =IF(Win!C9="","",Win!C9) -> 132 | D9: =IF(Win!D9="","",Win!D9) -> 67 | E9: =IF(D9="","",IF(ROUND((B9*(D9-1)-(1-B9))/(D9-1),3)<=0,"",ROUND((B9*(D9-1)-(1-B9))/(D9-1),3))) | F9: {=IF(E9="","",RANK(E9, $E$2:$E$241) + COUNTIFS($E$2:$E$241, E9, $D$2:$D$241, "<"&D9) + COUNTIFS($E$2:$E$241, E9, $D$2:$D$241, D9, $A$2:$A$241, "<"&A9))} | G9: =IF(Win!F9="","",Win!F9) -> 18 | H9: =IF(OR(F9="",G9="",F9>3),"",IF(G9=1,(IF(COUNTIFS(G:G,"<="&G9)<=1,1,(1-COUNTIFS(G:G,"<"&G9))/COUNTIFS(G:G,G9)))*(1+VALUE(MID(J9,FIND(": ",J9)+2,FIND("/",J9)-FIND(":",J9)-2))-1)+(1+VALUE(MID(J9,FIND(": ",J9)+2,FIND("/",J9)-FIND(":",J9)-2))-1)/VALUE(RIGHT(J9,1)),IF(G9<=VALUE(MID(J9,FIND(", ",J9)+2,IF(MID(J9,FIND(", ",J9)+2,1)="1",2,1))),(IF(COUNTIFS(G:G,"<="&G9)<=VALUE(MID(J9,FIND(", ",J9)+2,IF(MID(J9,FIND(", ",J9)+2,1)="1",2,1))),1,(VALUE(MID(J9,FIND(", ",J9)+2,IF(MID(J9,FIND(", ",J9)+2,1)="1",2,1)))-COUNTIFS(G:G,"<"&G9))/COUNTIFS(G:G,G9)))*(1*(1+VALUE(MID(J9,FIND(": ",J9)+2,FIND("/",J9)-FIND(":",J9)-2))-1)/VALUE(RIGHT(J9,1))+1)-2,-2))) | I9: =IF(OR(E9="",G9=""),"",IF(G9=1,(IF(COUNTIFS(G:G,"<="&G9)<=1,1,(1-COUNTIFS(G:G,"<"&G9))/COUNTIFS(G:G,G9)))*(1+VALUE(MID(J9,FIND(": ",J9)+2,FIND("/",J9)-FIND(":",J9)-2))-1)+(1+VALUE(MID(J9,FIND(": ",J9)+2,FIND("/",J9)-FIND(":",J9)-2))-1)/VALUE(RIGHT(J9,1)),IF(G9<=VALUE(MID(J9,FIND(", ",J9)+2,IF(MID(J9,FIND(", ",J9)+2,1)="1",2,1))),(IF(COUNTIFS(G:G,"<="&G9)<=VALUE(MID(J9,FIND(", ",J9)+2,IF(MID(J9,FIND(", ",J9)+2,1)="1",2,1))),1,(VALUE(MID(J9,FIND(", ",J9)+2,IF(MID(J9,FIND(", ",J9)+2,1)="1",2,1)))-COUNTIFS(G:G,"<"&G9))/COUNTIFS(G:G,G9)))*(1*(1+VALUE(MID(J9,FIND(": ",J9)+2,FIND("/",J9)-FIND(":",J9)-2))-1)/VALUE(RIGHT(J9,1))+1)-2,-2))) | J9: =IF(F9="","",Win!H9) | M9: =IF(FRL!A9="","",FRL!A9) -> Auston Kim | N9: =IF(FRL!B9="","",FRL!B9) -> 1.63% | O9: =IF(FRL!C9="","",FRL!C9) -> 61 | P9: =IF(FRL!D9="","",FRL!D9) -> 51 | Q9: =IF(P9="","",IF(ROUND((N9*(P9-1)-(1-N9))/(P9-1),3)<=0,"",ROUND((N9*(P9-1)-(1-N9))/(P9-1),3))) | R9: {=IF(Q9="","",RANK(Q9, $Q$2:$Q$241) + COUNTIFS($Q$2:$Q$241, Q9, $P$2:$P$241, "<"&P9) + COUNTIFS($Q$2:$Q$241, Q9, $P$2:$P$241, P9, $M$2:$M$241, "<"&M9))} | S9: =IF(FRL!F9="","",FRL!F9) -> 16 | T9: =IF(OR(R9="",S9="",R9>3),"",0.5*IF(S9=1,(IF(COUNTIFS(S:S,"<="&S9)<=1,1,(1-COUNTIFS(S:S,"<"&S9))/COUNTIFS(S:S,S9)))*(1+VALUE(MID(V9,FIND(": ",V9)+2,FIND("/",V9)-FIND(":",V9)-2))-1)+(1+VALUE(MID(V9,FIND(": ",V9)+2,FIND("/",V9)-FIND(":",V9)-2))-1)/VALUE(RIGHT(V9,1)),IF(S9<=VALUE(MID(V9,FIND(", ",V9)+2,IF(MID(V9,FIND(", ",V9)+2,1)="1",2,1))),(IF(COUNTIFS(S:S,"<="&S9)<=VALUE(MID(V9,FIND(", ",V9)+2,IF(MID(V9,FIND(", ",V9)+2,1)="1",2,1))),1,(VALUE(MID(V9,FIND(", ",V9)+2,IF(MID(V9,FIND(", ",V9)+2,1)="1",2,1)))-COUNTIFS(S:S,"<"&S9))/COUNTIFS(S:S,S9)))*(1*(1+VALUE(MID(V9,FIND(": ",V9)+2,FIND("/",V9)-FIND(":",V9)-2))-1)/VALUE(RIGHT(V9,1))+1)-2,-2))) | U9: =IF(OR(Q9="",S9=""),"",0.5*IF(S9=1,(IF(COUNTIFS(S:S,"<="&S9)<=1,1,(1-COUNTIFS(S:S,"<"&S9))/COUNTIFS(S:S,S9)))*(1+VALUE(MID(V9,FIND(": ",V9)+2,FIND("/",V9)-FIND(":",V9)-2))-1)+(1+VALUE(MID(V9,FIND(": ",V9)+2,FIND("/",V9)-FIND(":",V9)-2))-1)/VALUE(RIGHT(V9,1)),IF(S9<=VALUE(MID(V9,FIND(", ",V9)+2,IF(MID(V9,FIND(", ",V9)+2,1)="1",2,1))),(IF(COUNTIFS(S:S,"<="&S9)<=VALUE(MID(V9,FIND(", ",V9)+2,IF(MID(V9,FIND(", ",V9)+2,1)="1",2,1))),1,(VALUE(MID(V9,FIND(", ",V9)+2,IF(MID(V9,FIND(", ",V9)+2,1)="1",2,1)))-COUNTIFS(S:S,"<"&S9))/COUNTIFS(S:S,S9)))*(1*(1+VALUE(MID(V9,FIND(": ",V9)+2,FIND("/",V9)-FIND(":",V9)-2))-1)/VALUE(RIGHT(V9,1))+1)-2,-2))) | V9: =IF(R9="","",FRL!H9)
A10: =IF(Win!A10="","",Win!A10) -> Ayaka Furue | B10: =IF(Win!B10="","",VALUE(Win!B10)) -> 0.0218 | C10: =IF(Win!C10="","",Win!C10) -> 46 | D10: =IF(Win!D10="","",Win!D10) -> 36 | E10: =IF(D10="","",IF(ROUND((B10*(D10-1)-(1-B10))/(D10-1),3)<=0,"",ROUND((B10*(D10-1)-(1-B10))/(D10-1),3))) | F10: {=IF(E10="","",RANK(E10, $E$2:$E$241) + COUNTIFS($E$2:$E$241, E10, $D$2:$D$241, "<"&D10) + COUNTIFS($E$2:$E$241, E10, $D$2:$D$241, D10, $A$2:$A$241, "<"&A10))} | G10: =IF(Win!F10="","",Win!F10) -> 23 | H10: =IF(OR(F10="",G10="",F10>3),"",IF(G10=1,(IF(COUNTIFS(G:G,"<="&G10)<=1,1,(1-COUNTIFS(G:G,"<"&G10))/COUNTIFS(G:G,G10)))*(1+VALUE(MID(J10,FIND(": ",J10)+2,FIND("/",J10)-FIND(":",J10)-2))-1)+(1+VALUE(MID(J10,FIND(": ",J10)+2,FIND("/",J10)-FIND(":",J10)-2))-1)/VALUE(RIGHT(J10,1)),IF(G10<=VALUE(MID(J10,FIND(", ",J10)+2,IF(MID(J10,FIND(", ",J10)+2,1)="1",2,1))),(IF(COUNTIFS(G:G,"<="&G10)<=VALUE(MID(J10,FIND(", ",J10)+2,IF(MID(J10,FIND(", ",J10)+2,1)="1",2,1))),1,(VALUE(MID(J10,FIND(", ",J10)+2,IF(MID(J10,FIND(", ",J10)+2,1)="1",2,1)))-COUNTIFS(G:G,"<"&G10))/COUNTIFS(G:G,G10)))*(1*(1+VALUE(MID(J10,FIND(": ",J10)+2,FIND("/",J10)-FIND(":",J10)-2))-1)/VALUE(RIGHT(J10,1))+1)-2,-2))) | I10: =IF(OR(E10="",G10=""),"",IF(G10=1,(IF(COUNTIFS(G:G,"<="&G10)<=1,1,(1-COUNTIFS(G:G,"<"&G10))/COUNTIFS(G:G,G10)))*(1+VALUE(MID(J10,FIND(": ",J10)+2,FIND("/",J10)-FIND(":",J10)-2))-1)+(1+VALUE(MID(J10,FIND(": ",J10)+2,FIND("/",J10)-FIND(":",J10)-2))-1)/VALUE(RIGHT(J10,1)),IF(G10<=VALUE(MID(J10,FIND(", ",J10)+2,IF(MID(J10,FIND(", ",J10)+2,1)="1",2,1))),(IF(COUNTIFS(G:G,"<="&G10)<=VALUE(MID(J10,FIND(", ",J10)+2,IF(MID(J10,FIND(", ",J10)+2,1)="1",2,1))),1,(VALUE(MID(J10,FIND(", ",J10)+2,IF(MID(J10,FIND(", ",J10)+2,1)="1",2,1)))-COUNTIFS(G:G,"<"&G10))/COUNTIFS(G:G,G10)))*(1*(1+VALUE(MID(J10,FIND(": ",J10)+2,FIND("/",J10)-FIND(":",J10)-2))-1)/VALUE(RIGHT(J10,1))+1)-2,-2))) | J10: =IF(F10="","",Win!H10) | M10: =IF(FRL!A10="","",FRL!A10) -> Ayaka Furue | N10: =IF(FRL!B10="","",FRL!B10) -> 2.30% | O10: =IF(FRL!C10="","",FRL!C10) -> 43 | P10: =IF(FRL!D10="","",FRL!D10) -> 41 | Q10: =IF(P10="","",IF(ROUND((N10*(P10-1)-(1-N10))/(P10-1),3)<=0,"",ROUND((N10*(P10-1)-(1-N10))/(P10-1),3))) | R10: {=IF(Q10="","",RANK(Q10, $Q$2:$Q$241) + COUNTIFS($Q$2:$Q$241, Q10, $P$2:$P$241, "<"&P10) + COUNTIFS($Q$2:$Q$241, Q10, $P$2:$P$241, P10, $M$2:$M$241, "<"&M10))} | S10: =IF(FRL!F10="","",FRL!F10) -> 25 | T10: =IF(OR(R10="",S10="",R10>3),"",0.5*IF(S10=1,(IF(COUNTIFS(S:S,"<="&S10)<=1,1,(1-COUNTIFS(S:S,"<"&S10))/COUNTIFS(S:S,S10)))*(1+VALUE(MID(V10,FIND(": ",V10)+2,FIND("/",V10)-FIND(":",V10)-2))-1)+(1+VALUE(MID(V10,FIND(": ",V10)+2,FIND("/",V10)-FIND(":",V10)-2))-1)/VALUE(RIGHT(V10,1)),IF(S10<=VALUE(MID(V10,FIND(", ",V10)+2,IF(MID(V10,FIND(", ",V10)+2,1)="1",2,1))),(IF(COUNTIFS(S:S,"<="&S10)<=VALUE(MID(V10,FIND(", ",V10)+2,IF(MID(V10,FIND(", ",V10)+2,1)="1",2,1))),1,(VALUE(MID(V10,FIND(", ",V10)+2,IF(MID(V10,FIND(", ",V10)+2,1)="1",2,1)))-COUNTIFS(S:S,"<"&S10))/COUNTIFS(S:S,S10)))*(1*(1+VALUE(MID(V10,FIND(": ",V10)+2,FIND("/",V10)-FIND(":",V10)-2))-1)/VALUE(RIGHT(V10,1))+1)-2,-2))) | U10: =IF(OR(Q10="",S10=""),"",0.5*IF(S10=1,(IF(COUNTIFS(S:S,"<="&S10)<=1,1,(1-COUNTIFS(S:S,"<"&S10))/COUNTIFS(S:S,S10)))*(1+VALUE(MID(V10,FIND(": ",V10)+2,FIND("/",V10)-FIND(":",V10)-2))-1)+(1+VALUE(MID(V10,FIND(": ",V10)+2,FIND("/",V10)-FIND(":",V10)-2))-1)/VALUE(RIGHT(V10,1)),IF(S10<=VALUE(MID(V10,FIND(", ",V10)+2,IF(MID(V10,FIND(", ",V10)+2,1)="1",2,1))),(IF(COUNTIFS(S:S,"<="&S10)<=VALUE(MID(V10,FIND(", ",V10)+2,IF(MID(V10,FIND(", ",V10)+2,1)="1",2,1))),1,(VALUE(MID(V10,FIND(", ",V10)+2,IF(MID(V10,FIND(", ",V10)+2,1)="1",2,1)))-COUNTIFS(S:S,"<"&S10))/COUNTIFS(S:S,S10)))*(1*(1+VALUE(MID(V10,FIND(": ",V10)+2,FIND("/",V10)-FIND(":",V10)-2))-1)/VALUE(RIGHT(V10,1))+1)-2,-2))) | V10: =IF(R10="","",FRL!H10)
A11: =IF(Win!A11="","",Win!A11) -> Benedetta Moresco | B11: =IF(Win!B11="","",VALUE(Win!B11)) -> 0 | C11: =IF(Win!C11="","",Win!C11) -> 10000 | D11: =IF(Win!D11="","",Win!D11) -> 801 | E11: =IF(D11="","",IF(ROUND((B11*(D11-1)-(1-B11))/(D11-1),3)<=0,"",ROUND((B11*(D11-1)-(1-B11))/(D11-1),3))) | F11: {=IF(E11="","",RANK(E11, $E$2:$E$241) + COUNTIFS($E$2:$E$241, E11, $D$2:$D$241, "<"&D11) + COUNTIFS($E$2:$E$241, E11, $D$2:$D$241, D11, $A$2:$A$241, "<"&A11))} | G11: =IF(Win!F11="","",Win!F11) -> 65 | H11: =IF(OR(F11="",G11="",F11>3),"",IF(G11=1,(IF(COUNTIFS(G:G,"<="&G11)<=1,1,(1-COUNTIFS(G:G,"<"&G11))/COUNTIFS(G:G,G11)))*(1+VALUE(MID(J11,FIND(": ",J11)+2,FIND("/",J11)-FIND(":",J11)-2))-1)+(1+VALUE(MID(J11,FIND(": ",J11)+2,FIND("/",J11)-FIND(":",J11)-2))-1)/VALUE(RIGHT(J11,1)),IF(G11<=VALUE(MID(J11,FIND(", ",J11)+2,IF(MID(J11,FIND(", ",J11)+2,1)="1",2,1))),(IF(COUNTIFS(G:G,"<="&G11)<=VALUE(MID(J11,FIND(", ",J11)+2,IF(MID(J11,FIND(", ",J11)+2,1)="1",2,1))),1,(VALUE(MID(J11,FIND(", ",J11)+2,IF(MID(J11,FIND(", ",J11)+2,1)="1",2,1)))-COUNTIFS(G:G,"<"&G11))/COUNTIFS(G:G,G11)))*(1*(1+VALUE(MID(J11,FIND(": ",J11)+2,FIND("/",J11)-FIND(":",J11)-2))-1)/VALUE(RIGHT(J11,1))+1)-2,-2))) | I11: =IF(OR(E11="",G11=""),"",IF(G11=1,(IF(COUNTIFS(G:G,"<="&G11)<=1,1,(1-COUNTIFS(G:G,"<"&G11))/COUNTIFS(G:G,G11)))*(1+VALUE(MID(J11,FIND(": ",J11)+2,FIND("/",J11)-FIND(":",J11)-2))-1)+(1+VALUE(MID(J11,FIND(": ",J11)+2,FIND("/",J11)-FIND(":",J11)-2))-1)/VALUE(RIGHT(J11,1)),IF(G11<=VALUE(MID(J11,FIND(", ",J11)+2,IF(MID(J11,FIND(", ",J11)+2,1)="1",2,1))),(IF(COUNTIFS(G:G,"<="&G11)<=VALUE(MID(J11,FIND(", ",J11)+2,IF(MID(J11,FIND(", ",J11)+2,1)="1",2,1))),1,(VALUE(MID(J11,FIND(", ",J11)+2,IF(MID(J11,FIND(", ",J11)+2,1)="1",2,1)))-COUNTIFS(G:G,"<"&G11))/COUNTIFS(G:G,G11)))*(1*(1+VALUE(MID(J11,FIND(": ",J11)+2,FIND("/",J11)-FIND(":",J11)-2))-1)/VALUE(RIGHT(J11,1))+1)-2,-2))) | J11: =IF(F11="","",Win!H11) | M11: =IF(FRL!A11="","",FRL!A11) -> Benedetta Moresco | N11: =IF(FRL!B11="","",FRL!B11) -> 0.32% | O11: =IF(FRL!C11="","",FRL!C11) -> 313 | P11: =IF(FRL!D11="","",FRL!D11) -> 151 | Q11: =IF(P11="","",IF(ROUND((N11*(P11-1)-(1-N11))/(P11-1),3)<=0,"",ROUND((N11*(P11-1)-(1-N11))/(P11-1),3))) | R11: {=IF(Q11="","",RANK(Q11, $Q$2:$Q$241) + COUNTIFS($Q$2:$Q$241, Q11, $P$2:$P$241, "<"&P11) + COUNTIFS($Q$2:$Q$241, Q11, $P$2:$P$241, P11, $M$2:$M$241, "<"&M11))} | S11: =IF(FRL!F11="","",FRL!F11) -> 62 | T11: =IF(OR(R11="",S11="",R11>3),"",0.5*IF(S11=1,(IF(COUNTIFS(S:S,"<="&S11)<=1,1,(1-COUNTIFS(S:S,"<"&S11))/COUNTIFS(S:S,S11)))*(1+VALUE(MID(V11,FIND(": ",V11)+2,FIND("/",V11)-FIND(":",V11)-2))-1)+(1+VALUE(MID(V11,FIND(": ",V11)+2,FIND("/",V11)-FIND(":",V11)-2))-1)/VALUE(RIGHT(V11,1)),IF(S11<=VALUE(MID(V11,FIND(", ",V11)+2,IF(MID(V11,FIND(", ",V11)+2,1)="1",2,1))),(IF(COUNTIFS(S:S,"<="&S11)<=VALUE(MID(V11,FIND(", ",V11)+2,IF(MID(V11,FIND(", ",V11)+2,1)="1",2,1))),1,(VALUE(MID(V11,FIND(", ",V11)+2,IF(MID(V11,FIND(", ",V11)+2,1)="1",2,1)))-COUNTIFS(S:S,"<"&S11))/COUNTIFS(S:S,S11)))*(1*(1+VALUE(MID(V11,FIND(": ",V11)+2,FIND("/",V11)-FIND(":",V11)-2))-1)/VALUE(RIGHT(V11,1))+1)-2,-2))) | U11: =IF(OR(Q11="",S11=""),"",0.5*IF(S11=1,(IF(COUNTIFS(S:S,"<="&S11)<=1,1,(1-COUNTIFS(S:S,"<"&S11))/COUNTIFS(S:S,S11)))*(1+VALUE(MID(V11,FIND(": ",V11)+2,FIND("/",V11)-FIND(":",V11)-2))-1)+(1+VALUE(MID(V11,FIND(": ",V11)+2,FIND("/",V11)-FIND(":",V11)-2))-1)/VALUE(RIGHT(V11,1)),IF(S11<=VALUE(MID(V11,FIND(", ",V11)+2,IF(MID(V11,FIND(", ",V11)+2,1)="1",2,1))),(IF(COUNTIFS(S:S,"<="&S11)<=VALUE(MID(V11,FIND(", ",V11)+2,IF(MID(V11,FIND(", ",V11)+2,1)="1",2,1))),1,(VALUE(MID(V11,FIND(", ",V11)+2,IF(MID(V11,FIND(", ",V11)+2,1)="1",2,1)))-COUNTIFS(S:S,"<"&S11))/COUNTIFS(S:S,S11)))*(1*(1+VALUE(MID(V11,FIND(": ",V11)+2,FIND("/",V11)-FIND(":",V11)-2))-1)/VALUE(RIGHT(V11,1))+1)-2,-2))) | V11: =IF(R11="","",FRL!H11)
A12: =IF(Win!A12="","",Win!A12) -> Brooke M. Henderson | B12: =IF(Win!B12="","",VALUE(Win!B12)) -> 0.0513 | C12: =IF(Win!C12="","",Win!C12) -> 19 | D12: =IF(Win!D12="","",Win!D12) -> 23 | E12: =IF(D12="","",IF(ROUND((B12*(D12-1)-(1-B12))/(D12-1),3)<=0,"",ROUND((B12*(D12-1)-(1-B12))/(D12-1),3))) -> 0.008 | F12: {=IF(E12="","",RANK(E12, $E$2:$E$241) + COUNTIFS($E$2:$E$241, E12, $D$2:$D$241, "<"&D12) + COUNTIFS($E$2:$E$241, E12, $D$2:$D$241, D12, $A$2:$A$241, "<"&A12))} -> 3 | G12: =IF(Win!F12="","",Win!F12) -> 38 | H12: =IF(OR(F12="",G12="",F12>3),"",IF(G12=1,(IF(COUNTIFS(G:G,"<="&G12)<=1,1,(1-COUNTIFS(G:G,"<"&G12))/COUNTIFS(G:G,G12)))*(1+VALUE(MID(J12,FIND(": ",J12)+2,FIND("/",J12)-FIND(":",J12)-2))-1)+(1+VALUE(MID(J12,FIND(": ",J12)+2,FIND("/",J12)-FIND(":",J12)-2))-1)/VALUE(RIGHT(J12,1)),IF(G12<=VALUE(MID(J12,FIND(", ",J12)+2,IF(MID(J12,FIND(", ",J12)+2,1)="1",2,1))),(IF(COUNTIFS(G:G,"<="&G12)<=VALUE(MID(J12,FIND(", ",J12)+2,IF(MID(J12,FIND(", ",J12)+2,1)="1",2,1))),1,(VALUE(MID(J12,FIND(", ",J12)+2,IF(MID(J12,FIND(", ",J12)+2,1)="1",2,1)))-COUNTIFS(G:G,"<"&G12))/COUNTIFS(G:G,G12)))*(1*(1+VALUE(MID(J12,FIND(": ",J12)+2,FIND("/",J12)-FIND(":",J12)-2))-1)/VALUE(RIGHT(J12,1))+1)-2,-2))) -> -2 | I12: =IF(OR(E12="",G12=""),"",IF(G12=1,(IF(COUNTIFS(G:G,"<="&G12)<=1,1,(1-COUNTIFS(G:G,"<"&G12))/COUNTIFS(G:G,G12)))*(1+VALUE(MID(J12,FIND(": ",J12)+2,FIND("/",J12)-FIND(":",J12)-2))-1)+(1+VALUE(MID(J12,FIND(": ",J12)+2,FIND("/",J12)-FIND(":",J12)-2))-1)/VALUE(RIGHT(J12,1)),IF(G12<=VALUE(MID(J12,FIND(", ",J12)+2,IF(MID(J12,FIND(", ",J12)+2,1)="1",2,1))),(IF(COUNTIFS(G:G,"<="&G12)<=VALUE(MID(J12,FIND(", ",J12)+2,IF(MID(J12,FIND(", ",J12)+2,1)="1",2,1))),1,(VALUE(MID(J12,FIND(", ",J12)+2,IF(MID(J12,FIND(", ",J12)+2,1)="1",2,1)))-COUNTIFS(G:G,"<"&G12))/COUNTIFS(G:G,G12)))*(1*(1+VALUE(MID(J12,FIND(": ",J12)+2,FIND("/",J12)-FIND(":",J12)-2))-1)/VALUE(RIGHT(J12,1))+1)-2,-2))) -> -2 | J12: =IF(F12="","",Win!H12) -> Unibet: 22/1, 5pl, 1/4 | M12: =IF(FRL!A12="","",FRL!A12) -> Brooke M. Henderson | N12: =IF(FRL!B12="","",FRL!B12) -> 2.90% | O12: =IF(FRL!C12="","",FRL!C12) -> 34 | P12: =IF(FRL!D12="","",FRL!D12) -> 31 | Q12: =IF(P12="","",IF(ROUND((N12*(P12-1)-(1-N12))/(P12-1),3)<=0,"",ROUND((N12*(P12-1)-(1-N12))/(P12-1),3))) | R12: {=IF(Q12="","",RANK(Q12, $Q$2:$Q$241) + COUNTIFS($Q$2:$Q$241, Q12, $P$2:$P$241, "<"&P12) + COUNTIFS($Q$2:$Q$241, Q12, $P$2:$P$241, P12, $M$2:$M$241, "<"&M12))} | S12: =IF(FRL!F12="","",FRL!F12) -> 44 | T12: =IF(OR(R12="",S12="",R12>3),"",0.5*IF(S12=1,(IF(COUNTIFS(S:S,"<="&S12)<=1,1,(1-COUNTIFS(S:S,"<"&S12))/COUNTIFS(S:S,S12)))*(1+VALUE(MID(V12,FIND(": ",V12)+2,FIND("/",V12)-FIND(":",V12)-2))-1)+(1+VALUE(MID(V12,FIND(": ",V12)+2,FIND("/",V12)-FIND(":",V12)-2))-1)/VALUE(RIGHT(V12,1)),IF(S12<=VALUE(MID(V12,FIND(", ",V12)+2,IF(MID(V12,FIND(", ",V12)+2,1)="1",2,1))),(IF(COUNTIFS(S:S,"<="&S12)<=VALUE(MID(V12,FIND(", ",V12)+2,IF(MID(V12,FIND(", ",V12)+2,1)="1",2,1))),1,(VALUE(MID(V12,FIND(", ",V12)+2,IF(MID(V12,FIND(", ",V12)+2,1)="1",2,1)))-COUNTIFS(S:S,"<"&S12))/COUNTIFS(S:S,S12)))*(1*(1+VALUE(MID(V12,FIND(": ",V12)+2,FIND("/",V12)-FIND(":",V12)-2))-1)/VALUE(RIGHT(V12,1))+1)-2,-2))) | U12: =IF(OR(Q12="",S12=""),"",0.5*IF(S12=1,(IF(COUNTIFS(S:S,"<="&S12)<=1,1,(1-COUNTIFS(S:S,"<"&S12))/COUNTIFS(S:S,S12)))*(1+VALUE(MID(V12,FIND(": ",V12)+2,FIND("/",V12)-FIND(":",V12)-2))-1)+(1+VALUE(MID(V12,FIND(": ",V12)+2,FIND("/",V12)-FIND(":",V12)-2))-1)/VALUE(RIGHT(V12,1)),IF(S12<=VALUE(MID(V12,FIND(", ",V12)+2,IF(MID(V12,FIND(", ",V12)+2,1)="1",2,1))),(IF(COUNTIFS(S:S,"<="&S12)<=VALUE(MID(V12,FIND(", ",V12)+2,IF(MID(V12,FIND(", ",V12)+2,1)="1",2,1))),1,(VALUE(MID(V12,FIND(", ",V12)+2,IF(MID(V12,FIND(", ",V12)+2,1)="1",2,1)))-COUNTIFS(S:S,"<"&S12))/COUNTIFS(S:S,S12)))*(1*(1+VALUE(MID(V12,FIND(": ",V12)+2,FIND("/",V12)-FIND(":",V12)-2))-1)/VALUE(RIGHT(V12,1))+1)-2,-2))) | V12: =IF(R12="","",FRL!H12)
A13: =IF(Win!A13="","",Win!A13) -> Brooke Matthews | B13: =IF(Win!B13="","",VALUE(Win!B13)) -> 0.0006 | C13: =IF(Win!C13="","",Win!C13) -> 1667 | D13: =IF(Win!D13="","",Win!D13) -> 131 | E13: =IF(D13="","",IF(ROUND((B13*(D13-1)-(1-B13))/(D13-1),3)<=0,"",ROUND((B13*(D13-1)-(1-B13))/(D13-1),3))) | F13: {=IF(E13="","",RANK(E13, $E$2:$E$241) + COUNTIFS($E$2:$E$241, E13, $D$2:$D$241, "<"&D13) + COUNTIFS($E$2:$E$241, E13, $D$2:$D$241, D13, $A$2:$A$241, "<"&A13))} | G13: =IF(Win!F13="","",Win!F13) -> 15 | H13: =IF(OR(F13="",G13="",F13>3),"",IF(G13=1,(IF(COUNTIFS(G:G,"<="&G13)<=1,1,(1-COUNTIFS(G:G,"<"&G13))/COUNTIFS(G:G,G13)))*(1+VALUE(MID(J13,FIND(": ",J13)+2,FIND("/",J13)-FIND(":",J13)-2))-1)+(1+VALUE(MID(J13,FIND(": ",J13)+2,FIND("/",J13)-FIND(":",J13)-2))-1)/VALUE(RIGHT(J13,1)),IF(G13<=VALUE(MID(J13,FIND(", ",J13)+2,IF(MID(J13,FIND(", ",J13)+2,1)="1",2,1))),(IF(COUNTIFS(G:G,"<="&G13)<=VALUE(MID(J13,FIND(", ",J13)+2,IF(MID(J13,FIND(", ",J13)+2,1)="1",2,1))),1,(VALUE(MID(J13,FIND(", ",J13)+2,IF(MID(J13,FIND(", ",J13)+2,1)="1",2,1)))-COUNTIFS(G:G,"<"&G13))/COUNTIFS(G:G,G13)))*(1*(1+VALUE(MID(J13,FIND(": ",J13)+2,FIND("/",J13)-FIND(":",J13)-2))-1)/VALUE(RIGHT(J13,1))+1)-2,-2))) | I13: =IF(OR(E13="",G13=""),"",IF(G13=1,(IF(COUNTIFS(G:G,"<="&G13)<=1,1,(1-COUNTIFS(G:G,"<"&G13))/COUNTIFS(G:G,G13)))*(1+VALUE(MID(J13,FIND(": ",J13)+2,FIND("/",J13)-FIND(":",J13)-2))-1)+(1+VALUE(MID(J13,FIND(": ",J13)+2,FIND("/",J13)-FIND(":",J13)-2))-1)/VALUE(RIGHT(J13,1)),IF(G13<=VALUE(MID(J13,FIND(", ",J13)+2,IF(MID(J13,FIND(", ",J13)+2,1)="1",2,1))),(IF(COUNTIFS(G:G,"<="&G13)<=VALUE(MID(J13,FIND(", ",J13)+2,IF(MID(J13,FIND(", ",J13)+2,1)="1",2,1))),1,(VALUE(MID(J13,FIND(", ",J13)+2,IF(MID(J13,FIND(", ",J13)+2,1)="1",2,1)))-COUNTIFS(G:G,"<"&G13))/COUNTIFS(G:G,G13)))*(1*(1+VALUE(MID(J13,FIND(": ",J13)+2,FIND("/",J13)-FIND(":",J13)-2))-1)/VALUE(RIGHT(J13,1))+1)-2,-2))) | J13: =IF(F13="","",Win!H13) | M13: =IF(FRL!A13="","",FRL!A13) -> Brooke Matthews | N13: =IF(FRL!B13="","",FRL!B13) -> 0.77% | O13: =IF(FRL!C13="","",FRL!C13) -> 130 | P13: =IF(FRL!D13="","",FRL!D13) -> 71 | Q13: =IF(P13="","",IF(ROUND((N13*(P13-1)-(1-N13))/(P13-1),3)<=0,"",ROUND((N13*(P13-1)-(1-N13))/(P13-1),3))) | R13: {=IF(Q13="","",RANK(Q13, $Q$2:$Q$241) + COUNTIFS($Q$2:$Q$241, Q13, $P$2:$P$241, "<"&P13) + COUNTIFS($Q$2:$Q$241, Q13, $P$2:$P$241, P13, $M$2:$M$241, "<"&M13))} | S13: =IF(FRL!F13="","",FRL!F13) -> 48 | T13: =IF(OR(R13="",S13="",R13>3),"",0.5*IF(S13=1,(IF(COUNTIFS(S:S,"<="&S13)<=1,1,(1-COUNTIFS(S:S,"<"&S13))/COUNTIFS(S:S,S13)))*(1+VALUE(MID(V13,FIND(": ",V13)+2,FIND("/",V13)-FIND(":",V13)-2))-1)+(1+VALUE(MID(V13,FIND(": ",V13)+2,FIND("/",V13)-FIND(":",V13)-2))-1)/VALUE(RIGHT(V13,1)),IF(S13<=VALUE(MID(V13,FIND(", ",V13)+2,IF(MID(V13,FIND(", ",V13)+2,1)="1",2,1))),(IF(COUNTIFS(S:S,"<="&S13)<=VALUE(MID(V13,FIND(", ",V13)+2,IF(MID(V13,FIND(", ",V13)+2,1)="1",2,1))),1,(VALUE(MID(V13,FIND(", ",V13)+2,IF(MID(V13,FIND(", ",V13)+2,1)="1",2,1)))-COUNTIFS(S:S,"<"&S13))/COUNTIFS(S:S,S13)))*(1*(1+VALUE(MID(V13,FIND(": ",V13)+2,FIND("/",V13)-FIND(":",V13)-2))-1)/VALUE(RIGHT(V13,1))+1)-2,-2))) | U13: =IF(OR(Q13="",S13=""),"",0.5*IF(S13=1,(IF(COUNTIFS(S:S,"<="&S13)<=1,1,(1-COUNTIFS(S:S,"<"&S13))/COUNTIFS(S:S,S13)))*(1+VALUE(MID(V13,FIND(": ",V13)+2,FIND("/",V13)-FIND(":",V13)-2))-1)+(1+VALUE(MID(V13,FIND(": ",V13)+2,FIND("/",V13)-FIND(":",V13)-2))-1)/VALUE(RIGHT(V13,1)),IF(S13<=VALUE(MID(V13,FIND(", ",V13)+2,IF(MID(V13,FIND(", ",V13)+2,1)="1",2,1))),(IF(COUNTIFS(S:S,"<="&S13)<=VALUE(MID(V13,FIND(", ",V13)+2,IF(MID(V13,FIND(", ",V13)+2,1)="1",2,1))),1,(VALUE(MID(V13,FIND(", ",V13)+2,IF(MID(V13,FIND(", ",V13)+2,1)="1",2,1)))-COUNTIFS(S:S,"<"&S13))/COUNTIFS(S:S,S13)))*(1*(1+VALUE(MID(V13,FIND(": ",V13)+2,FIND("/",V13)-FIND(":",V13)-2))-1)/VALUE(RIGHT(V13,1))+1)-2,-2))) | V13: =IF(R13="","",FRL!H13)
... A241: =IF(Win!A241="","",Win!A241) | B241: =IF(Win!B241="","",VALUE(Win!B241)) | C241: =IF(Win!C241="","",Win!C241) | D241: =IF(Win!D241="","",Win!D241) | E241: =IF(D241="","",IF(ROUND((B241*(D241-1)-(1-B241))/(D241-1),3)<=0,"",ROUND((B241*(D241-1)-(1-B241))/(D241-1),3))) | F241: {=IF(E241="","",RANK(E241, $E$2:$E$241) + COUNTIFS($E$2:$E$241, E241, $D$2:$D$241, "<"&D241) + COUNTIFS($E$2:$E$241, E241, $D$2:$D$241, D241, $A$2:$A$241, "<"&A241))} | G241: =IF(Win!F241="","",Win!F241) | H241: =IF(OR(F241="",G241="",F241>3),"",IF(G241=1,(IF(COUNTIFS(G:G,"<="&G241)<=1,1,(1-COUNTIFS(G:G,"<"&G241))/COUNTIFS(G:G,G241)))*(1+VALUE(MID(J241,FIND(": ",J241)+2,FIND("/",J241)-FIND(":",J241)-2))-1)+(1+VALUE(MID(J241,FIND(": ",J241)+2,FIND("/",J241)-FIND(":",J241)-2))-1)/VALUE(RIGHT(J241,1)),IF(G241<=VALUE(MID(J241,FIND(", ",J241)+2,IF(MID(J241,FIND(", ",J241)+2,1)="1",2,1))),(IF(COUNTIFS(G:G,"<="&G241)<=VALUE(MID(J241,FIND(", ",J241)+2,IF(MID(J241,FIND(", ",J241)+2,1)="1",2,1))),1,(VALUE(MID(J241,FIND(", ",J241)+2,IF(MID(J241,FIND(", ",J241)+2,1)="1",2,1)))-COUNTIFS(G:G,"<"&G241))/COUNTIFS(G:G,G241)))*(1*(1+VALUE(MID(J241,FIND(": ",J241)+2,FIND("/",J241)-FIND(":",J241)-2))-1)/VALUE(RIGHT(J241,1))+1)-2,-2))) | I241: =IF(OR(E241="",G241=""),"",IF(G241=1,(IF(COUNTIFS(G:G,"<="&G241)<=1,1,(1-COUNTIFS(G:G,"<"&G241))/COUNTIFS(G:G,G241)))*(1+VALUE(MID(J241,FIND(": ",J241)+2,FIND("/",J241)-FIND(":",J241)-2))-1)+(1+VALUE(MID(J241,FIND(": ",J241)+2,FIND("/",J241)-FIND(":",J241)-2))-1)/VALUE(RIGHT(J241,1)),IF(G241<=VALUE(MID(J241,FIND(", ",J241)+2,IF(MID(J241,FIND(", ",J241)+2,1)="1",2,1))),(IF(COUNTIFS(G:G,"<="&G241)<=VALUE(MID(J241,FIND(", ",J241)+2,IF(MID(J241,FIND(", ",J241)+2,1)="1",2,1))),1,(VALUE(MID(J241,FIND(", ",J241)+2,IF(MID(J241,FIND(", ",J241)+2,1)="1",2,1)))-COUNTIFS(G:G,"<"&G241))/COUNTIFS(G:G,G241)))*(1*(1+VALUE(MID(J241,FIND(": ",J241)+2,FIND("/",J241)-FIND(":",J241)-2))-1)/VALUE(RIGHT(J241,1))+1)-2,-2))) | J241: =IF(F241="","",Win!H241) | M241: =IF(FRL!A241="","",FRL!A241) | N241: =IF(FRL!B241="","",FRL!B241) | O241: =IF(FRL!C241="","",FRL!C241) | P241: =IF(FRL!D241="","",FRL!D241) | Q241: =IF(P241="","",IF(ROUND((N241*(P241-1)-(1-N241))/(P241-1),3)<=0,"",ROUND((N241*(P241-1)-(1-N241))/(P241-1),3))) | R241: {=IF(Q241="","",RANK(Q241, $Q$2:$Q$241) + COUNTIFS($Q$2:$Q$241, Q241, $P$2:$P$241, "<"&P241) + COUNTIFS($Q$2:$Q$241, Q241, $P$2:$P$241, P241, $M$2:$M$241, "<"&M241))} | S241: =IF(FRL!F241="","",FRL!F241) | T241: =IF(OR(R241="",S241="",R241>3),"",0.5*IF(S241=1,(IF(COUNTIFS(S:S,"<="&S241)<=1,1,(1-COUNTIFS(S:S,"<"&S241))/COUNTIFS(S:S,S241)))*(1+VALUE(MID(V241,FIND(": ",V241)+2,FIND("/",V241)-FIND(":",V241)-2))-1)+(1+VALUE(MID(V241,FIND(": ",V241)+2,FIND("/",V241)-FIND(":",V241)-2))-1)/VALUE(RIGHT(V241,1)),IF(S241<=VALUE(MID(V241,FIND(", ",V241)+2,IF(MID(V241,FIND(", ",V241)+2,1)="1",2,1))),(IF(COUNTIFS(S:S,"<="&S241)<=VALUE(MID(V241,FIND(", ",V241)+2,IF(MID(V241,FIND(", ",V241)+2,1)="1",2,1))),1,(VALUE(MID(V241,FIND(", ",V241)+2,IF(MID(V241,FIND(", ",V241)+2,1)="1",2,1)))-COUNTIFS(S:S,"<"&S241))/COUNTIFS(S:S,S241)))*(1*(1+VALUE(MID(V241,FIND(": ",V241)+2,FIND("/",V241)-FIND(":",V241)-2))-1)/VALUE(RIGHT(V241,1))+1)-2,-2))) | U241: =IF(OR(Q241="",S241=""),"",0.5*IF(S241=1,(IF(COUNTIFS(S:S,"<="&S241)<=1,1,(1-COUNTIFS(S:S,"<"&S241))/COUNTIFS(S:S,S241)))*(1+VALUE(MID(V241,FIND(": ",V241)+2,FIND("/",V241)-FIND(":",V241)-2))-1)+(1+VALUE(MID(V241,FIND(": ",V241)+2,FIND("/",V241)-FIND(":",V241)-2))-1)/VALUE(RIGHT(V241,1)),IF(S241<=VALUE(MID(V241,FIND(", ",V241)+2,IF(MID(V241,FIND(", ",V241)+2,1)="1",2,1))),(IF(COUNTIFS(S:S,"<="&S241)<=VALUE(MID(V241,FIND(", ",V241)+2,IF(MID(V241,FIND(", ",V241)+2,1)="1",2,1))),1,(VALUE(MID(V241,FIND(", ",V241)+2,IF(MID(V241,FIND(", ",V241)+2,1)="1",2,1)))-COUNTIFS(S:S,"<"&S241))/COUNTIFS(S:S,S241)))*(1*(1+VALUE(MID(V241,FIND(": ",V241)+2,FIND("/",V241)-FIND(":",V241)-2))-1)/VALUE(RIGHT(V241,1))+1)-2,-2))) | V241: =IF(R241="","",FRL!H241)

Sheet FRL
A1: Player | B1: TT Win | C1: TT Odds | D1: Best Odds | E1: Kelly | F1: Result | G1: P/L | H1: E/W Play
A2: A Lim Kim | B2: 2.24% | C2: 45 | D2: 34 | F2: =IFERROR(IF(A2="","",OFFSET(Results!$Z$1,MATCH(A2,Results!$A:$A,0)-1,0)),"") -> 62 | G2: =IF(OR(E2="",F2=""),"",IF(F2=1,(IF(COUNTIFS(F:F,"<="&F2)<=1,1,(1-COUNTIFS(F:F,"<"&F2))/COUNTIFS(F:F,F2)))*50*E2*(1+VALUE(MID(H2,FIND(": ",H2)+2,FIND("/",H2)-FIND(":",H2)-2))-1)+50*E2*(1+VALUE(MID(H2,FIND(": ",H2)+2,FIND("/",H2)-FIND(":",H2)-2))-1)/VALUE(RIGHT(H2,1)),IF(F2<=VALUE(MID(H2,FIND(", ",H2)+2,1)),(IF(COUNTIFS(F:F,"<="&F2)<=VALUE(MID(H2,FIND(", ",H2)+2,1)),1,(VALUE(MID(H2,FIND(", ",H2)+2,1))-COUNTIFS(F:F,"<"&F2))/COUNTIFS(F:F,F2)))*(50*E2*(1+VALUE(MID(H2,FIND(": ",H2)+2,FIND("/",H2)-FIND(":",H2)-2))-1)/VALUE(RIGHT(H2,1))+50*E2)-(100*E2),-E2*100))) | H2: =IF(E2="","",OFFSET([2]LPGA!$AL$1,MATCH(A2,[2]LPGA!$E$1:$E$500,0)-1,0))
A3: Akie Iwai | B3: 2.95% | C3: 34 | D3: 26 | F3: =IFERROR(IF(A3="","",OFFSET(Results!$Z$1,MATCH(A3,Results!$A:$A,0)-1,0)),"") -> 44 | G3: =IF(OR(E3="",F3=""),"",IF(F3=1,(IF(COUNTIFS(F:F,"<="&F3)<=1,1,(1-COUNTIFS(F:F,"<"&F3))/COUNTIFS(F:F,F3)))*50*E3*(1+VALUE(MID(H3,FIND(": ",H3)+2,FIND("/",H3)-FIND(":",H3)-2))-1)+50*E3*(1+VALUE(MID(H3,FIND(": ",H3)+2,FIND("/",H3)-FIND(":",H3)-2))-1)/VALUE(RIGHT(H3,1)),IF(F3<=VALUE(MID(H3,FIND(", ",H3)+2,1)),(IF(COUNTIFS(F:F,"<="&F3)<=VALUE(MID(H3,FIND(", ",H3)+2,1)),1,(VALUE(MID(H3,FIND(", ",H3)+2,1))-COUNTIFS(F:F,"<"&F3))/COUNTIFS(F:F,F3)))*(50*E3*(1+VALUE(MID(H3,FIND(": ",H3)+2,FIND("/",H3)-FIND(":",H3)-2))-1)/VALUE(RIGHT(H3,1))+50*E3)-(100*E3),-E3*100))) | H3: =IF(E3="","",OFFSET([2]LPGA!$AL$1,MATCH(A3,[2]LPGA!$E$1:$E$500,0)-1,0))
A4: Allisen Corpuz | B4: 1.40% | C4: 71 | D4: 61 | F4: =IFERROR(IF(A4="","",OFFSET(Results!$Z$1,MATCH(A4,Results!$A:$A,0)-1,0)),"") -> 6 | G4: =IF(OR(E4="",F4=""),"",IF(F4=1,(IF(COUNTIFS(F:F,"<="&F4)<=1,1,(1-COUNTIFS(F:F,"<"&F4))/COUNTIFS(F:F,F4)))*50*E4*(1+VALUE(MID(H4,FIND(": ",H4)+2,FIND("/",H4)-FIND(":",H4)-2))-1)+50*E4*(1+VALUE(MID(H4,FIND(": ",H4)+2,FIND("/",H4)-FIND(":",H4)-2))-1)/VALUE(RIGHT(H4,1)),IF(F4<=VALUE(MID(H4,FIND(", ",H4)+2,1)),(IF(COUNTIFS(F:F,"<="&F4)<=VALUE(MID(H4,FIND(", ",H4)+2,1)),1,(VALUE(MID(H4,FIND(", ",H4)+2,1))-COUNTIFS(F:F,"<"&F4))/COUNTIFS(F:F,F4)))*(50*E4*(1+VALUE(MID(H4,FIND(": ",H4)+2,FIND("/",H4)-FIND(":",H4)-2))-1)/VALUE(RIGHT(H4,1))+50*E4)-(100*E4),-E4*100))) | H4: =IF(E4="","",OFFSET([2]LPGA!$AL$1,MATCH(A4,[2]LPGA!$E$1:$E$500,0)-1,0))
A5: Andrea Lee | B5: 1.57% | C5: 64 | D5: 61 | F5: =IFERROR(IF(A5="","",OFFSET(Results!$Z$1,MATCH(A5,Results!$A:$A,0)-1,0)),"") -> 16 | G5: =IF(OR(E5="",F5=""),"",IF(F5=1,(IF(COUNTIFS(F:F,"<="&F5)<=1,1,(1-COUNTIFS(F:F,"<"&F5))/COUNTIFS(F:F,F5)))*50*E5*(1+VALUE(MID(H5,FIND(": ",H5)+2,FIND("/",H5)-FIND(":",H5)-2))-1)+50*E5*(1+VALUE(MID(H5,FIND(": ",H5)+2,FIND("/",H5)-FIND(":",H5)-2))-1)/VALUE(RIGHT(H5,1)),IF(F5<=VALUE(MID(H5,FIND(", ",H5)+2,1)),(IF(COUNTIFS(F:F,"<="&F5)<=VALUE(MID(H5,FIND(", ",H5)+2,1)),1,(VALUE(MID(H5,FIND(", ",H5)+2,1))-COUNTIFS(F:F,"<"&F5))/COUNTIFS(F:F,F5)))*(50*E5*(1+VALUE(MID(H5,FIND(": ",H5)+2,FIND("/",H5)-FIND(":",H5)-2))-1)/VALUE(RIGHT(H5,1))+50*E5)-(100*E5),-E5*100))) | H5: =IF(E5="","",OFFSET([2]LPGA!$AL$1,MATCH(A5,[2]LPGA!$E$1:$E$500,0)-1,0))
A6: Angel Yin | B6: 0.64% | C6: 156 | D6: 61 | F6: =IFERROR(IF(A6="","",OFFSET(Results!$Z$1,MATCH(A6,Results!$A:$A,0)-1,0)),"") -> 25 | G6: =IF(OR(E6="",F6=""),"",IF(F6=1,(IF(COUNTIFS(F:F,"<="&F6)<=1,1,(1-COUNTIFS(F:F,"<"&F6))/COUNTIFS(F:F,F6)))*50*E6*(1+VALUE(MID(H6,FIND(": ",H6)+2,FIND("/",H6)-FIND(":",H6)-2))-1)+50*E6*(1+VALUE(MID(H6,FIND(": ",H6)+2,FIND("/",H6)-FIND(":",H6)-2))-1)/VALUE(RIGHT(H6,1)),IF(F6<=VALUE(MID(H6,FIND(", ",H6)+2,1)),(IF(COUNTIFS(F:F,"<="&F6)<=VALUE(MID(H6,FIND(", ",H6)+2,1)),1,(VALUE(MID(H6,FIND(", ",H6)+2,1))-COUNTIFS(F:F,"<"&F6))/COUNTIFS(F:F,F6)))*(50*E6*(1+VALUE(MID(H6,FIND(": ",H6)+2,FIND("/",H6)-FIND(":",H6)-2))-1)/VALUE(RIGHT(H6,1))+50*E6)-(100*E6),-E6*100))) | H6: =IF(E6="","",OFFSET([2]LPGA!$AL$1,MATCH(A6,[2]LPGA!$E$1:$E$500,0)-1,0))
A7: April Angurasaranee | B7: 0.17% | C7: 588 | D7: 301 | F7: =IFERROR(IF(A7="","",OFFSET(Results!$Z$1,MATCH(A7,Results!$A:$A,0)-1,0)),"") -> 44 | G7: =IF(OR(E7="",F7=""),"",IF(F7=1,(IF(COUNTIFS(F:F,"<="&F7)<=1,1,(1-COUNTIFS(F:F,"<"&F7))/COUNTIFS(F:F,F7)))*50*E7*(1+VALUE(MID(H7,FIND(": ",H7)+2,FIND("/",H7)-FIND(":",H7)-2))-1)+50*E7*(1+VALUE(MID(H7,FIND(": ",H7)+2,FIND("/",H7)-FIND(":",H7)-2))-1)/VALUE(RIGHT(H7,1)),IF(F7<=VALUE(MID(H7,FIND(", ",H7)+2,1)),(IF(COUNTIFS(F:F,"<="&F7)<=VALUE(MID(H7,FIND(", ",H7)+2,1)),1,(VALUE(MID(H7,FIND(", ",H7)+2,1))-COUNTIFS(F:F,"<"&F7))/COUNTIFS(F:F,F7)))*(50*E7*(1+VALUE(MID(H7,FIND(": ",H7)+2,FIND("/",H7)-FIND(":",H7)-2))-1)/VALUE(RIGHT(H7,1))+50*E7)-(100*E7),-E7*100))) | H7: =IF(E7="","",OFFSET([2]LPGA!$AL$1,MATCH(A7,[2]LPGA!$E$1:$E$500,0)-1,0))
A8: Ariya Jutanugarn | B8: 1.39% | C8: 72 | D8: 51 | F8: =IFERROR(IF(A8="","",OFFSET(Results!$Z$1,MATCH(A8,Results!$A:$A,0)-1,0)),"") -> 6 | G8: =IF(OR(E8="",F8=""),"",IF(F8=1,(IF(COUNTIFS(F:F,"<="&F8)<=1,1,(1-COUNTIFS(F:F,"<"&F8))/COUNTIFS(F:F,F8)))*50*E8*(1+VALUE(MID(H8,FIND(": ",H8)+2,FIND("/",H8)-FIND(":",H8)-2))-1)+50*E8*(1+VALUE(MID(H8,FIND(": ",H8)+2,FIND("/",H8)-FIND(":",H8)-2))-1)/VALUE(RIGHT(H8,1)),IF(F8<=VALUE(MID(H8,FIND(", ",H8)+2,1)),(IF(COUNTIFS(F:F,"<="&F8)<=VALUE(MID(H8,FIND(", ",H8)+2,1)),1,(VALUE(MID(H8,FIND(", ",H8)+2,1))-COUNTIFS(F:F,"<"&F8))/COUNTIFS(F:F,F8)))*(50*E8*(1+VALUE(MID(H8,FIND(": ",H8)+2,FIND("/",H8)-FIND(":",H8)-2))-1)/VALUE(RIGHT(H8,1))+50*E8)-(100*E8),-E8*100))) | H8: =IF(E8="","",OFFSET([2]LPGA!$AL$1,MATCH(A8,[2]LPGA!$E$1:$E$500,0)-1,0))
A9: Auston Kim | B9: 1.63% | C9: 61 | D9: 51 | F9: =IFERROR(IF(A9="","",OFFSET(Results!$Z$1,MATCH(A9,Results!$A:$A,0)-1,0)),"") -> 16 | G9: =IF(OR(E9="",F9=""),"",IF(F9=1,(IF(COUNTIFS(F:F,"<="&F9)<=1,1,(1-COUNTIFS(F:F,"<"&F9))/COUNTIFS(F:F,F9)))*50*E9*(1+VALUE(MID(H9,FIND(": ",H9)+2,FIND("/",H9)-FIND(":",H9)-2))-1)+50*E9*(1+VALUE(MID(H9,FIND(": ",H9)+2,FIND("/",H9)-FIND(":",H9)-2))-1)/VALUE(RIGHT(H9,1)),IF(F9<=VALUE(MID(H9,FIND(", ",H9)+2,1)),(IF(COUNTIFS(F:F,"<="&F9)<=VALUE(MID(H9,FIND(", ",H9)+2,1)),1,(VALUE(MID(H9,FIND(", ",H9)+2,1))-COUNTIFS(F:F,"<"&F9))/COUNTIFS(F:F,F9)))*(50*E9*(1+VALUE(MID(H9,FIND(": ",H9)+2,FIND("/",H9)-FIND(":",H9)-2))-1)/VALUE(RIGHT(H9,1))+50*E9)-(100*E9),-E9*100))) | H9: =IF(E9="","",OFFSET([2]LPGA!$AL$1,MATCH(A9,[2]LPGA!$E$1:$E$500,0)-1,0))
A10: Ayaka Furue | B10: 2.30% | C10: 43 | D10: 41 | F10: =IFERROR(IF(A10="","",OFFSET(Results!$Z$1,MATCH(A10,Results!$A:$A,0)-1,0)),"") -> 25 | G10: =IF(OR(E10="",F10=""),"",IF(F10=1,(IF(COUNTIFS(F:F,"<="&F10)<=1,1,(1-COUNTIFS(F:F,"<"&F10))/COUNTIFS(F:F,F10)))*50*E10*(1+VALUE(MID(H10,FIND(": ",H10)+2,FIND("/",H10)-FIND(":",H10)-2))-1)+50*E10*(1+VALUE(MID(H10,FIND(": ",H10)+2,FIND("/",H10)-FIND(":",H10)-2))-1)/VALUE(RIGHT(H10,1)),IF(F10<=VALUE(MID(H10,FIND(", ",H10)+2,1)),(IF(COUNTIFS(F:F,"<="&F10)<=VALUE(MID(H10,FIND(", ",H10)+2,1)),1,(VALUE(MID(H10,FIND(", ",H10)+2,1))-COUNTIFS(F:F,"<"&F10))/COUNTIFS(F:F,F10)))*(50*E10*(1+VALUE(MID(H10,FIND(": ",H10)+2,FIND("/",H10)-FIND(":",H10)-2))-1)/VALUE(RIGHT(H10,1))+50*E10)-(100*E10),-E10*100))) | H10: =IF(E10="","",OFFSET([2]LPGA!$AL$1,MATCH(A10,[2]LPGA!$E$1:$E$500,0)-1,0))
A11: Benedetta Moresco | B11: 0.32% | C11: 313 | D11: 151 | F11: =IFERROR(IF(A11="","",OFFSET(Results!$Z$1,MATCH(A11,Results!$A:$A,0)-1,0)),"") -> 62 | G11: =IF(OR(E11="",F11=""),"",IF(F11=1,(IF(COUNTIFS(F:F,"<="&F11)<=1,1,(1-COUNTIFS(F:F,"<"&F11))/COUNTIFS(F:F,F11)))*50*E11*(1+VALUE(MID(H11,FIND(": ",H11)+2,FIND("/",H11)-FIND(":",H11)-2))-1)+50*E11*(1+VALUE(MID(H11,FIND(": ",H11)+2,FIND("/",H11)-FIND(":",H11)-2))-1)/VALUE(RIGHT(H11,1)),IF(F11<=VALUE(MID(H11,FIND(", ",H11)+2,1)),(IF(COUNTIFS(F:F,"<="&F11)<=VALUE(MID(H11,FIND(", ",H11)+2,1)),1,(VALUE(MID(H11,FIND(", ",H11)+2,1))-COUNTIFS(F:F,"<"&F11))/COUNTIFS(F:F,F11)))*(50*E11*(1+VALUE(MID(H11,FIND(": ",H11)+2,FIND("/",H11)-FIND(":",H11)-2))-1)/VALUE(RIGHT(H11,1))+50*E11)-(100*E11),-E11*100))) | H11: =IF(E11="","",OFFSET([2]LPGA!$AL$1,MATCH(A11,[2]LPGA!$E$1:$E$500,0)-1,0))
A12: Brooke M. Henderson | B12: 2.90% | C12: 34 | D12: 31 | F12: =IFERROR(IF(A12="","",OFFSET(Results!$Z$1,MATCH(A12,Results!$A:$A,0)-1,0)),"") -> 44 | G12: =IF(OR(E12="",F12=""),"",IF(F12=1,(IF(COUNTIFS(F:F,"<="&F12)<=1,1,(1-COUNTIFS(F:F,"<"&F12))/COUNTIFS(F:F,F12)))*50*E12*(1+VALUE(MID(H12,FIND(": ",H12)+2,FIND("/",H12)-FIND(":",H12)-2))-1)+50*E12*(1+VALUE(MID(H12,FIND(": ",H12)+2,FIND("/",H12)-FIND(":",H12)-2))-1)/VALUE(RIGHT(H12,1)),IF(F12<=VALUE(MID(H12,FIND(", ",H12)+2,1)),(IF(COUNTIFS(F:F,"<="&F12)<=VALUE(MID(H12,FIND(", ",H12)+2,1)),1,(VALUE(MID(H12,FIND(", ",H12)+2,1))-COUNTIFS(F:F,"<"&F12))/COUNTIFS(F:F,F12)))*(50*E12*(1+VALUE(MID(H12,FIND(": ",H12)+2,FIND("/",H12)-FIND(":",H12)-2))-1)/VALUE(RIGHT(H12,1))+50*E12)-(100*E12),-E12*100))) | H12: =IF(E12="","",OFFSET([2]LPGA!$AL$1,MATCH(A12,[2]LPGA!$E$1:$E$500,0)-1,0))
A13: Brooke Matthews | B13: 0.77% | C13: 130 | D13: 71 | F13: =IFERROR(IF(A13="","",OFFSET(Results!$Z$1,MATCH(A13,Results!$A:$A,0)-1,0)),"") -> 48 | G13: =IF(OR(E13="",F13=""),"",IF(F13=1,(IF(COUNTIFS(F:F,"<="&F13)<=1,1,(1-COUNTIFS(F:F,"<"&F13))/COUNTIFS(F:F,F13)))*50*E13*(1+VALUE(MID(H13,FIND(": ",H13)+2,FIND("/",H13)-FIND(":",H13)-2))-1)+50*E13*(1+VALUE(MID(H13,FIND(": ",H13)+2,FIND("/",H13)-FIND(":",H13)-2))-1)/VALUE(RIGHT(H13,1)),IF(F13<=VALUE(MID(H13,FIND(", ",H13)+2,1)),(IF(COUNTIFS(F:F,"<="&F13)<=VALUE(MID(H13,FIND(", ",H13)+2,1)),1,(VALUE(MID(H13,FIND(", ",H13)+2,1))-COUNTIFS(F:F,"<"&F13))/COUNTIFS(F:F,F13)))*(50*E13*(1+VALUE(MID(H13,FIND(": ",H13)+2,FIND("/",H13)-FIND(":",H13)-2))-1)/VALUE(RIGHT(H13,1))+50*E13)-(100*E13),-E13*100))) | H13: =IF(E13="","",OFFSET([2]LPGA!$AL$1,MATCH(A13,[2]LPGA!$E$1:$E$500,0)-1,0))
... A73: Yuri Yoshida | B73: 0.77% | C73: 130 | D73: 126 | F73: =IFERROR(IF(A73="","",OFFSET(Results!$Z$1,MATCH(A73,Results!$A:$A,0)-1,0)),"") -> 25 | G73: =IF(OR(E73="",F73=""),"",IF(F73=1,(IF(COUNTIFS(F:F,"<="&F73)<=1,1,(1-COUNTIFS(F:F,"<"&F73))/COUNTIFS(F:F,F73)))*50*E73*(1+VALUE(MID(H73,FIND(": ",H73)+2,FIND("/",H73)-FIND(":",H73)-2))-1)+50*E73*(1+VALUE(MID(H73,FIND(": ",H73)+2,FIND("/",H73)-FIND(":",H73)-2))-1)/VALUE(RIGHT(H73,1)),IF(F73<=VALUE(MID(H73,FIND(", ",H73)+2,1)),(IF(COUNTIFS(F:F,"<="&F73)<=VALUE(MID(H73,FIND(", ",H73)+2,1)),1,(VALUE(MID(H73,FIND(", ",H73)+2,1))-COUNTIFS(F:F,"<"&F73))/COUNTIFS(F:F,F73)))*(50*E73*(1+VALUE(MID(H73,FIND(": ",H73)+2,FIND("/",H73)-FIND(":",H73)-2))-1)/VALUE(RIGHT(H73,1))+50*E73)-(100*E73),-E73*100))) | H73: =IF(E73="","",OFFSET([2]LPGA!$AL$1,MATCH(A73,[2]LPGA!$E$1:$E$500,0)-1,0))
F74: =IFERROR(IF(A74="","",OFFSET(Results!$Z$1,MATCH(A74,Results!$A:$A,0)-1,0)),"") | G74: =IF(OR(E74="",F74=""),"",IF(F74=1,(IF(COUNTIFS(F:F,"<="&F74)<=1,1,(1-COUNTIFS(F:F,"<"&F74))/COUNTIFS(F:F,F74)))*50*E74*(1+VALUE(MID(H74,FIND(": ",H74)+2,FIND("/",H74)-FIND(":",H74)-2))-1)+50*E74*(1+VALUE(MID(H74,FIND(": ",H74)+2,FIND("/",H74)-FIND(":",H74)-2))-1)/VALUE(RIGHT(H74,1)),IF(F74<=VALUE(MID(H74,FIND(", ",H74)+2,1)),(IF(COUNTIFS(F:F,"<="&F74)<=VALUE(MID(H74,FIND(", ",H74)+2,1)),1,(VALUE(MID(H74,FIND(", ",H74)+2,1))-COUNTIFS(F:F,"<"&F74))/COUNTIFS(F:F,F74)))*(50*E74*(1+VALUE(MID(H74,FIND(": ",H74)+2,FIND("/",H74)-FIND(":",H74)-2))-1)/VALUE(RIGHT(H74,1))+50*E74)-(100*E74),-E74*100))) | H74: =IF(E74="","",OFFSET([2]LPGA!$AL$1,MATCH(A74,[2]LPGA!$E$1:$E$500,0)-1,0))
F75: =IFERROR(IF(A75="","",OFFSET(Results!$Z$1,MATCH(A75,Results!$A:$A,0)-1,0)),"") | G75: =IF(OR(E75="",F75=""),"",IF(F75=1,(IF(COUNTIFS(F:F,"<="&F75)<=1,1,(1-COUNTIFS(F:F,"<"&F75))/COUNTIFS(F:F,F75)))*50*E75*(1+VALUE(MID(H75,FIND(": ",H75)+2,FIND("/",H75)-FIND(":",H75)-2))-1)+50*E75*(1+VALUE(MID(H75,FIND(": ",H75)+2,FIND("/",H75)-FIND(":",H75)-2))-1)/VALUE(RIGHT(H75,1)),IF(F75<=VALUE(MID(H75,FIND(", ",H75)+2,1)),(IF(COUNTIFS(F:F,"<="&F75)<=VALUE(MID(H75,FIND(", ",H75)+2,1)),1,(VALUE(MID(H75,FIND(", ",H75)+2,1))-COUNTIFS(F:F,"<"&F75))/COUNTIFS(F:F,F75)))*(50*E75*(1+VALUE(MID(H75,FIND(": ",H75)+2,FIND("/",H75)-FIND(":",H75)-2))-1)/VALUE(RIGHT(H75,1))+50*E75)-(100*E75),-E75*100))) | H75: =IF(E75="","",OFFSET([2]LPGA!$AL$1,MATCH(A75,[2]LPGA!$E$1:$E$500,0)-1,0))
F76: =IFERROR(IF(A76="","",OFFSET(Results!$Z$1,MATCH(A76,Results!$A:$A,0)-1,0)),"") | G76: =IF(OR(E76="",F76=""),"",IF(F76=1,(IF(COUNTIFS(F:F,"<="&F76)<=1,1,(1-COUNTIFS(F:F,"<"&F76))/COUNTIFS(F:F,F76)))*50*E76*(1+VALUE(MID(H76,FIND(": ",H76)+2,FIND("/",H76)-FIND(":",H76)-2))-1)+50*E76*(1+VALUE(MID(H76,FIND(": ",H76)+2,FIND("/",H76)-FIND(":",H76)-2))-1)/VALUE(RIGHT(H76,1)),IF(F76<=VALUE(MID(H76,FIND(", ",H76)+2,1)),(IF(COUNTIFS(F:F,"<="&F76)<=VALUE(MID(H76,FIND(", ",H76)+2,1)),1,(VALUE(MID(H76,FIND(", ",H76)+2,1))-COUNTIFS(F:F,"<"&F76))/COUNTIFS(F:F,F76)))*(50*E76*(1+VALUE(MID(H76,FIND(": ",H76)+2,FIND("/",H76)-FIND(":",H76)-2))-1)/VALUE(RIGHT(H76,1))+50*E76)-(100*E76),-E76*100))) | H76: =IF(E76="","",OFFSET([2]LPGA!$AL$1,MATCH(A76,[2]LPGA!$E$1:$E$500,0)-1,0))
F77: =IFERROR(IF(A77="","",OFFSET(Results!$Z$1,MATCH(A77,Results!$A:$A,0)-1,0)),"") | G77: =IF(OR(E77="",F77=""),"",IF(F77=1,(IF(COUNTIFS(F:F,"<="&F77)<=1,1,(1-COUNTIFS(F:F,"<"&F77))/COUNTIFS(F:F,F77)))*50*E77*(1+VALUE(MID(H77,FIND(": ",H77)+2,FIND("/",H77)-FIND(":",H77)-2))-1)+50*E77*(1+VALUE(MID(H77,FIND(": ",H77)+2,FIND("/",H77)-FIND(":",H77)-2))-1)/VALUE(RIGHT(H77,1)),IF(F77<=VALUE(MID(H77,FIND(", ",H77)+2,1)),(IF(COUNTIFS(F:F,"<="&F77)<=VALUE(MID(H77,FIND(", ",H77)+2,1)),1,(VALUE(MID(H77,FIND(", ",H77)+2,1))-COUNTIFS(F:F,"<"&F77))/COUNTIFS(F:F,F77)))*(50*E77*(1+VALUE(MID(H77,FIND(": ",H77)+2,FIND("/",H77)-FIND(":",H77)-2))-1)/VALUE(RIGHT(H77,1))+50*E77)-(100*E77),-E77*100))) | H77: =IF(E77="","",OFFSET([2]LPGA!$AL$1,MATCH(A77,[2]LPGA!$E$1:$E$500,0)-1,0))
F78: =IFERROR(IF(A78="","",OFFSET(Results!$Z$1,MATCH(A78,Results!$A:$A,0)-1,0)),"") | G78: =IF(OR(E78="",F78=""),"",IF(F78=1,(IF(COUNTIFS(F:F,"<="&F78)<=1,1,(1-COUNTIFS(F:F,"<"&F78))/COUNTIFS(F:F,F78)))*50*E78*(1+VALUE(MID(H78,FIND(": ",H78)+2,FIND("/",H78)-FIND(":",H78)-2))-1)+50*E78*(1+VALUE(MID(H78,FIND(": ",H78)+2,FIND("/",H78)-FIND(":",H78)-2))-1)/VALUE(RIGHT(H78,1)),IF(F78<=VALUE(MID(H78,FIND(", ",H78)+2,1)),(IF(COUNTIFS(F:F,"<="&F78)<=VALUE(MID(H78,FIND(", ",H78)+2,1)),1,(VALUE(MID(H78,FIND(", ",H78)+2,1))-COUNTIFS(F:F,"<"&F78))/COUNTIFS(F:F,F78)))*(50*E78*(1+VALUE(MID(H78,FIND(": ",H78)+2,FIND("/",H78)-FIND(":",H78)-2))-1)/VALUE(RIGHT(H78,1))+50*E78)-(100*E78),-E78*100))) | H78: =IF(E78="","",OFFSET([2]LPGA!$AL$1,MATCH(A78,[2]LPGA!$E$1:$E$500,0)-1,0))
F79: =IFERROR(IF(A79="","",OFFSET(Results!$Z$1,MATCH(A79,Results!$A:$A,0)-1,0)),"") | G79: =IF(OR(E79="",F79=""),"",IF(F79=1,(IF(COUNTIFS(F:F,"<="&F79)<=1,1,(1-COUNTIFS(F:F,"<"&F79))/COUNTIFS(F:F,F79)))*50*E79*(1+VALUE(MID(H79,FIND(": ",H79)+2,FIND("/",H79)-FIND(":",H79)-2))-1)+50*E79*(1+VALUE(MID(H79,FIND(": ",H79)+2,FIND("/",H79)-FIND(":",H79)-2))-1)/VALUE(RIGHT(H79,1)),IF(F79<=VALUE(MID(H79,FIND(", ",H79)+2,1)),(IF(COUNTIFS(F:F,"<="&F79)<=VALUE(MID(H79,FIND(", ",H79)+2,1)),1,(VALUE(MID(H79,FIND(", ",H79)+2,1))-COUNTIFS(F:F,"<"&F79))/COUNTIFS(F:F,F79)))*(50*E79*(1+VALUE(MID(H79,FIND(": ",H79)+2,FIND("/",H79)-FIND(":",H79)-2))-1)/VALUE(RIGHT(H79,1))+50*E79)-(100*E79),-E79*100))) | H79: =IF(E79="","",OFFSET([2]LPGA!$AL$1,MATCH(A79,[2]LPGA!$E$1:$E$500,0)-1,0))
F80: =IFERROR(IF(A80="","",OFFSET(Results!$Z$1,MATCH(A80,Results!$A:$A,0)-1,0)),"") | G80: =IF(OR(E80="",F80=""),"",IF(F80=1,(IF(COUNTIFS(F:F,"<="&F80)<=1,1,(1-COUNTIFS(F:F,"<"&F80))/COUNTIFS(F:F,F80)))*50*E80*(1+VALUE(MID(H80,FIND(": ",H80)+2,FIND("/",H80)-FIND(":",H80)-2))-1)+50*E80*(1+VALUE(MID(H80,FIND(": ",H80)+2,FIND("/",H80)-FIND(":",H80)-2))-1)/VALUE(RIGHT(H80,1)),IF(F80<=VALUE(MID(H80,FIND(", ",H80)+2,1)),(IF(COUNTIFS(F:F,"<="&F80)<=VALUE(MID(H80,FIND(", ",H80)+2,1)),1,(VALUE(MID(H80,FIND(", ",H80)+2,1))-COUNTIFS(F:F,"<"&F80))/COUNTIFS(F:F,F80)))*(50*E80*(1+VALUE(MID(H80,FIND(": ",H80)+2,FIND("/",H80)-FIND(":",H80)-2))-1)/VALUE(RIGHT(H80,1))+50*E80)-(100*E80),-E80*100))) | H80: =IF(E80="","",OFFSET([2]LPGA!$AL$1,MATCH(A80,[2]LPGA!$E$1:$E$500,0)-1,0))
F81: =IFERROR(IF(A81="","",OFFSET(Results!$Z$1,MATCH(A81,Results!$A:$A,0)-1,0)),"") | G81: =IF(OR(E81="",F81=""),"",IF(F81=1,(IF(COUNTIFS(F:F,"<="&F81)<=1,1,(1-COUNTIFS(F:F,"<"&F81))/COUNTIFS(F:F,F81)))*50*E81*(1+VALUE(MID(H81,FIND(": ",H81)+2,FIND("/",H81)-FIND(":",H81)-2))-1)+50*E81*(1+VALUE(MID(H81,FIND(": ",H81)+2,FIND("/",H81)-FIND(":",H81)-2))-1)/VALUE(RIGHT(H81,1)),IF(F81<=VALUE(MID(H81,FIND(", ",H81)+2,1)),(IF(COUNTIFS(F:F,"<="&F81)<=VALUE(MID(H81,FIND(", ",H81)+2,1)),1,(VALUE(MID(H81,FIND(", ",H81)+2,1))-COUNTIFS(F:F,"<"&F81))/COUNTIFS(F:F,F81)))*(50*E81*(1+VALUE(MID(H81,FIND(": ",H81)+2,FIND("/",H81)-FIND(":",H81)-2))-1)/VALUE(RIGHT(H81,1))+50*E81)-(100*E81),-E81*100))) | H81: =IF(E81="","",OFFSET([2]LPGA!$AL$1,MATCH(A81,[2]LPGA!$E$1:$E$500,0)-1,0))
F82: =IFERROR(IF(A82="","",OFFSET(Results!$Z$1,MATCH(A82,Results!$A:$A,0)-1,0)),"") | G82: =IF(OR(E82="",F82=""),"",IF(F82=1,(IF(COUNTIFS(F:F,"<="&F82)<=1,1,(1-COUNTIFS(F:F,"<"&F82))/COUNTIFS(F:F,F82)))*50*E82*(1+VALUE(MID(H82,FIND(": ",H82)+2,FIND("/",H82)-FIND(":",H82)-2))-1)+50*E82*(1+VALUE(MID(H82,FIND(": ",H82)+2,FIND("/",H82)-FIND(":",H82)-2))-1)/VALUE(RIGHT(H82,1)),IF(F82<=VALUE(MID(H82,FIND(", ",H82)+2,1)),(IF(COUNTIFS(F:F,"<="&F82)<=VALUE(MID(H82,FIND(", ",H82)+2,1)),1,(VALUE(MID(H82,FIND(", ",H82)+2,1))-COUNTIFS(F:F,"<"&F82))/COUNTIFS(F:F,F82)))*(50*E82*(1+VALUE(MID(H82,FIND(": ",H82)+2,FIND("/",H82)-FIND(":",H82)-2))-1)/VALUE(RIGHT(H82,1))+50*E82)-(100*E82),-E82*100))) | H82: =IF(E82="","",OFFSET([2]LPGA!$AL$1,MATCH(A82,[2]LPGA!$E$1:$E$500,0)-1,0))
F83: =IFERROR(IF(A83="","",OFFSET(Results!$Z$1,MATCH(A83,Results!$A:$A,0)-1,0)),"") | G83: =IF(OR(E83="",F83=""),"",IF(F83=1,(IF(COUNTIFS(F:F,"<="&F83)<=1,1,(1-COUNTIFS(F:F,"<"&F83))/COUNTIFS(F:F,F83)))*50*E83*(1+VALUE(MID(H83,FIND(": ",H83)+2,FIND("/",H83)-FIND(":",H83)-2))-1)+50*E83*(1+VALUE(MID(H83,FIND(": ",H83)+2,FIND("/",H83)-FIND(":",H83)-2))-1)/VALUE(RIGHT(H83,1)),IF(F83<=VALUE(MID(H83,FIND(", ",H83)+2,1)),(IF(COUNTIFS(F:F,"<="&F83)<=VALUE(MID(H83,FIND(", ",H83)+2,1)),1,(VALUE(MID(H83,FIND(", ",H83)+2,1))-COUNTIFS(F:F,"<"&F83))/COUNTIFS(F:F,F83)))*(50*E83*(1+VALUE(MID(H83,FIND(": ",H83)+2,FIND("/",H83)-FIND(":",H83)-2))-1)/VALUE(RIGHT(H83,1))+50*E83)-(100*E83),-E83*100))) | H83: =IF(E83="","",OFFSET([2]LPGA!$AL$1,MATCH(A83,[2]LPGA!$E$1:$E$500,0)-1,0))
F84: =IFERROR(IF(A84="","",OFFSET(Results!$Z$1,MATCH(A84,Results!$A:$A,0)-1,0)),"") | G84: =IF(OR(E84="",F84=""),"",IF(F84=1,(IF(COUNTIFS(F:F,"<="&F84)<=1,1,(1-COUNTIFS(F:F,"<"&F84))/COUNTIFS(F:F,F84)))*50*E84*(1+VALUE(MID(H84,FIND(": ",H84)+2,FIND("/",H84)-FIND(":",H84)-2))-1)+50*E84*(1+VALUE(MID(H84,FIND(": ",H84)+2,FIND("/",H84)-FIND(":",H84)-2))-1)/VALUE(RIGHT(H84,1)),IF(F84<=VALUE(MID(H84,FIND(", ",H84)+2,1)),(IF(COUNTIFS(F:F,"<="&F84)<=VALUE(MID(H84,FIND(", ",H84)+2,1)),1,(VALUE(MID(H84,FIND(", ",H84)+2,1))-COUNTIFS(F:F,"<"&F84))/COUNTIFS(F:F,F84)))*(50*E84*(1+VALUE(MID(H84,FIND(": ",H84)+2,FIND("/",H84)-FIND(":",H84)-2))-1)/VALUE(RIGHT(H84,1))+50*E84)-(100*E84),-E84*100))) | H84: =IF(E84="","",OFFSET([2]LPGA!$AL$1,MATCH(A84,[2]LPGA!$E$1:$E$500,0)-1,0))
F85: =IFERROR(IF(A85="","",OFFSET(Results!$Z$1,MATCH(A85,Results!$A:$A,0)-1,0)),"") | G85: =IF(OR(E85="",F85=""),"",IF(F85=1,(IF(COUNTIFS(F:F,"<="&F85)<=1,1,(1-COUNTIFS(F:F,"<"&F85))/COUNTIFS(F:F,F85)))*50*E85*(1+VALUE(MID(H85,FIND(": ",H85)+2,FIND("/",H85)-FIND(":",H85)-2))-1)+50*E85*(1+VALUE(MID(H85,FIND(": ",H85)+2,FIND("/",H85)-FIND(":",H85)-2))-1)/VALUE(RIGHT(H85,1)),IF(F85<=VALUE(MID(H85,FIND(", ",H85)+2,1)),(IF(COUNTIFS(F:F,"<="&F85)<=VALUE(MID(H85,FIND(", ",H85)+2,1)),1,(VALUE(MID(H85,FIND(", ",H85)+2,1))-COUNTIFS(F:F,"<"&F85))/COUNTIFS(F:F,F85)))*(50*E85*(1+VALUE(MID(H85,FIND(": ",H85)+2,FIND("/",H85)-FIND(":",H85)-2))-1)/VALUE(RIGHT(H85,1))+50*E85)-(100*E85),-E85*100))) | H85: =IF(E85="","",OFFSET([2]LPGA!$AL$1,MATCH(A85,[2]LPGA!$E$1:$E$500,0)-1,0))
... F168: =IFERROR(IF(A168="","",OFFSET(Results!$Z$1,MATCH(A168,Results!$A:$A,0)-1,0)),"") | G168: =IF(OR(E168="",F168=""),"",IF(F168=1,(IF(COUNTIFS(F:F,"<="&F168)<=1,1,(1-COUNTIFS(F:F,"<"&F168))/COUNTIFS(F:F,F168)))*50*E168*(1+VALUE(MID(H168,FIND(": ",H168)+2,FIND("/",H168)-FIND(":",H168)-2))-1)+50*E168*(1+VALUE(MID(H168,FIND(": ",H168)+2,FIND("/",H168)-FIND(":",H168)-2))-1)/VALUE(RIGHT(H168,1)),IF(F168<=VALUE(MID(H168,FIND(", ",H168)+2,1)),(IF(COUNTIFS(F:F,"<="&F168)<=VALUE(MID(H168,FIND(", ",H168)+2,1)),1,(VALUE(MID(H168,FIND(", ",H168)+2,1))-COUNTIFS(F:F,"<"&F168))/COUNTIFS(F:F,F168)))*(50*E168*(1+VALUE(MID(H168,FIND(": ",H168)+2,FIND("/",H168)-FIND(":",H168)-2))-1)/VALUE(RIGHT(H168,1))+50*E168)-(100*E168),-E168*100))) | H168: =IF(E168="","",OFFSET([2]LPGA!$AL$1,MATCH(A168,[2]LPGA!$E$1:$E$500,0)-1,0))
G169: =IF(OR(E169="",F169=""),"",IF(F169=1,(IF(COUNTIFS(F:F,"<="&F169)<=1,1,(1-COUNTIFS(F:F,"<"&F169))/COUNTIFS(F:F,F169)))*50*E169*(1+VALUE(MID(H169,FIND(": ",H169)+2,FIND("/",H169)-FIND(":",H169)-2))-1)+50*E169*(1+VALUE(MID(H169,FIND(": ",H169)+2,FIND("/",H169)-FIND(":",H169)-2))-1)/VALUE(RIGHT(H169,1)),IF(F169<=VALUE(MID(H169,FIND(", ",H169)+2,1)),(IF(COUNTIFS(F:F,"<="&F169)<=VALUE(MID(H169,FIND(", ",H169)+2,1)),1,(VALUE(MID(H169,FIND(", ",H169)+2,1))-COUNTIFS(F:F,"<"&F169))/COUNTIFS(F:F,F169)))*(50*E169*(1+VALUE(MID(H169,FIND(": ",H169)+2,FIND("/",H169)-FIND(":",H169)-2))-1)/VALUE(RIGHT(H169,1))+50*E169)-(100*E169),-E169*100))) | H169: =IF(E169="","",OFFSET([2]LPGA!$AL$1,MATCH(A169,[2]LPGA!$E$1:$E$500,0)-1,0))

Sheet T3Picks
A1: Player | B1: Win % | C1: TT Odds | D1: Best Odds | E1: Kelly | F1: Result | G1: P/L | H1: E/W Play
A2: =CONCATENATE("WIN: ",IFERROR(OFFSET(Picks!A$1,MATCH(1,Picks!F:F,0)-1,0),"")) -> WIN: Chisato Iwai | B2: =IFERROR(OFFSET(Win!B$1,MATCH(1,Picks!F:F,0)-1,0),"") -> 4.54% | C2: =IFERROR(OFFSET(Win!C$1,MATCH(1,Picks!F:F,0)-1,0),"") -> 22 | D2: =IFERROR(OFFSET(Win!D$1,MATCH(1,Picks!F:F,0)-1,0),"") -> 36 | E2: =IFERROR(OFFSET(Win!E$1,MATCH(1,Picks!F:F,0)-1,0),"") -> 1.80% | F2: =IFERROR(OFFSET(Picks!G$1,MATCH(1,Picks!F:F,0)-1,0),"") -> 2 | G2: =IFERROR(IF(AND(B3="",B4=""),3*IFERROR(OFFSET(Picks!H$1,MATCH(1,Picks!F:F,0)-1,0),""),IF(B4="",1.5*IFERROR(OFFSET(Picks!H$1,MATCH(1,Picks!F:F,0)-1,0),""),IFERROR(OFFSET(Picks!H$1,MATCH(1,Picks!F:F,0)-1,0),""))),"") -> 7.75 | H2: =IFERROR(OFFSET(Win!H$1,MATCH(1,Picks!F:F,0)-1,0),"") -> Betfred: 35/1, 5pl, 1/4
A3: =CONCATENATE("WIN: ",IFERROR(OFFSET(Picks!A$1,MATCH(2,Picks!F:F,0)-1,0),"")) -> WIN: Hye-Jin Choi | B3: =IFERROR(OFFSET(Win!B$1,MATCH(2,Picks!F:F,0)-1,0),"") -> 5.99% | C3: =IFERROR(OFFSET(Win!C$1,MATCH(2,Picks!F:F,0)-1,0),"") -> 17 | D3: =IFERROR(OFFSET(Win!D$1,MATCH(2,Picks!F:F,0)-1,0),"") -> 19 | E3: =IFERROR(OFFSET(Win!E$1,MATCH(2,Picks!F:F,0)-1,0),"") -> 0.80% | F3: =IFERROR(OFFSET(Picks!G$1,MATCH(2,Picks!F:F,0)-1,0),"") -> 8 | G3: =IFERROR(IF(B4="",1.5*IFERROR(OFFSET(Picks!H$1,MATCH(2,Picks!F:F,0)-1,0),""),IFERROR(OFFSET(Picks!H$1,MATCH(2,Picks!F:F,0)-1,0),"")),"") -> -2 | H3: =IFERROR(OFFSET(Win!H$1,MATCH(2,Picks!F:F,0)-1,0),"") -> Unibet: 18/1, 5pl, 1/4
A4: =CONCATENATE("WIN: ",IFERROR(OFFSET(Picks!A$1,MATCH(3,Picks!F:F,0)-1,0),"")) -> WIN: Brooke M. Henderson | B4: =IFERROR(OFFSET(Win!B$1,MATCH(3,Picks!F:F,0)-1,0),"") -> 5.13% | C4: =IFERROR(OFFSET(Win!C$1,MATCH(3,Picks!F:F,0)-1,0),"") -> 19 | D4: =IFERROR(OFFSET(Win!D$1,MATCH(3,Picks!F:F,0)-1,0),"") -> 23 | E4: =IFERROR(OFFSET(Win!E$1,MATCH(3,Picks!F:F,0)-1,0),"") -> 0.80% | F4: =IFERROR(OFFSET(Picks!G$1,MATCH(3,Picks!F:F,0)-1,0),"") -> 38 | G4: =IFERROR(OFFSET(Picks!H$1,MATCH(3,Picks!F:F,0)-1,0),"") -> -2 | H4: =IFERROR(OFFSET(Win!H$1,MATCH(3,Picks!F:F,0)-1,0),"") -> Unibet: 22/1, 5pl, 1/4
A5: =CONCATENATE("FRL: ",IFERROR(OFFSET(Picks!M$1,MATCH(1,Picks!R:R,0)-1,0),"")) -> FRL: | B5: =IFERROR(IF(OFFSET(FRL!B$1,MATCH(1,Picks!R:R,0)-1,0)=0,"",OFFSET(FRL!B$1,MATCH(1,Picks!R:R,0)-1,0)),"") | C5: =IFERROR(IF(OFFSET(FRL!C$1,MATCH(1,Picks!R:R,0)-1,0)=0,"",OFFSET(FRL!C$1,MATCH(1,Picks!R:R,0)-1,0)),"") | D5: =IFERROR(IF(OFFSET(FRL!D$1,MATCH(1,Picks!R:R,0)-1,0)=0,"",OFFSET(FRL!D$1,MATCH(1,Picks!R:R,0)-1,0)),"") | E5: =IFERROR(IF(OFFSET(FRL!E$1,MATCH(1,Picks!R:R,0)-1,0)=0,"",OFFSET(FRL!E$1,MATCH(1,Picks!R:R,0)-1,0)),"") | F5: =IFERROR(OFFSET(Picks!S$1,MATCH(1,Picks!R:R,0)-1,0),"") | G5: =IF(F5="","",IF(AND(B6="",B7=""),3*IFERROR(OFFSET(Picks!T$1,MATCH(1,Picks!R:R,0)-1,0),""),IF(B7="",1.5*IFERROR(OFFSET(Picks!T$1,MATCH(1,Picks!R:R,0)-1,0),""),IFERROR(OFFSET(Picks!T$1,MATCH(1,Picks!R:R,0)-1,0),"")))) | H5: =IFERROR(OFFSET(FRL!H$1,MATCH(1,Picks!R:R,0)-1,0),"")
A6: =CONCATENATE("FRL: ",IFERROR(OFFSET(Picks!M$1,MATCH(2,Picks!R:R,0)-1,0),"")) -> FRL: | B6: =IFERROR(IF(OFFSET(FRL!B$1,MATCH(2,Picks!R:R,0)-1,0)=0,"",OFFSET(FRL!B$1,MATCH(2,Picks!R:R,0)-1,0)),"") | C6: =IFERROR(IF(OFFSET(FRL!C$1,MATCH(2,Picks!R:R,0)-1,0)=0,"",OFFSET(FRL!C$1,MATCH(2,Picks!R:R,0)-1,0)),"") | D6: =IFERROR(IF(OFFSET(FRL!D$1,MATCH(2,Picks!R:R,0)-1,0)=0,"",OFFSET(FRL!D$1,MATCH(2,Picks!R:R,0)-1,0)),"") | E6: =IFERROR(IF(OFFSET(FRL!E$1,MATCH(2,Picks!R:R,0)-1,0)=0,"",OFFSET(FRL!E$1,MATCH(2,Picks!R:R,0)-1,0)),"") | F6: =IFERROR(OFFSET(Picks!S$1,MATCH(2,Picks!R:R,0)-1,0),"") | G6: =IF(F6="","",IF(B7="",1.5*IFERROR(OFFSET(Picks!T$1,MATCH(2,Picks!R:R,0)-1,0),""),IFERROR(OFFSET(Picks!T$1,MATCH(2,Picks!R:R,0)-1,0),""))) | H6: =IFERROR(OFFSET(FRL!H$1,MATCH(2,Picks!R:R,0)-1,0),"")
A7: =CONCATENATE("FRL: ",IFERROR(OFFSET(Picks!M$1,MATCH(3,Picks!R:R,0)-1,0),"")) -> FRL: | B7: =IFERROR(IF(OFFSET(FRL!B$1,MATCH(3,Picks!R:R,0)-1,0)=0,"",OFFSET(FRL!B$1,MATCH(3,Picks!R:R,0)-1,0)),"") | C7: =IFERROR(IF(OFFSET(FRL!C$1,MATCH(3,Picks!R:R,0)-1,0)=0,"",OFFSET(FRL!C$1,MATCH(3,Picks!R:R,0)-1,0)),"") | D7: =IFERROR(IF(OFFSET(FRL!D$1,MATCH(3,Picks!R:R,0)-1,0)=0,"",OFFSET(FRL!D$1,MATCH(3,Picks!R:R,0)-1,0)),"") | E7: =IFERROR(IF(OFFSET(FRL!E$1,MATCH(3,Picks!R:R,0)-1,0)=0,"",OFFSET(FRL!E$1,MATCH(3,Picks!R:R,0)-1,0)),"") | F7: =IFERROR(OFFSET(Picks!S1,MATCH(3,Picks!R:R,0)-1,0),"") | G7: =IF(F7="","",IFERROR(OFFSET(Picks!T$1,MATCH(3,Picks!R:R,0)-1,0),"")) | H7: =IFERROR(OFFSET(FRL!H$1,MATCH(3,Picks!R:R,0)-1,0),"")
A8: =CONCATENATE("FRL: ",IFERROR(OFFSET(Picks!M$1,MATCH(4,Picks!R:R,0)-1,0),"")) -> FRL: | B8: =IFERROR(IF(OFFSET(FRL!B$1,MATCH(4,Picks!R:R,0)-1,0)=0,"",OFFSET(FRL!B$1,MATCH(4,Picks!R:R,0)-1,0)),"") | C8: =IFERROR(IF(OFFSET(FRL!C$1,MATCH(4,Picks!R:R,0)-1,0)=0,"",OFFSET(FRL!C$1,MATCH(4,Picks!R:R,0)-1,0)),"") | D8: =IFERROR(IF(OFFSET(FRL!D$1,MATCH(4,Picks!R:R,0)-1,0)=0,"",OFFSET(FRL!D$1,MATCH(4,Picks!R:R,0)-1,0)),"") | E8: =IFERROR(IF(OFFSET(FRL!E$1,MATCH(4,Picks!R:R,0)-1,0)=0,"",OFFSET(FRL!E$1,MATCH(4,Picks!R:R,0)-1,0)),"") | F8: =IFERROR(OFFSET(Picks!S2,MATCH(4,Picks!R:R,0)-1,0),"") | G8: =IF(F8="","",IFERROR(OFFSET(Picks!T$1,MATCH(4,Picks!R:R,0)-1,0),"")) | H8: =IFERROR(OFFSET(FRL!H$1,MATCH(4,Picks!R:R,0)-1,0),"")
A9: =CONCATENATE("FRL: ",IFERROR(OFFSET(Picks!M$1,MATCH(5,Picks!R:R,0)-1,0),"")) -> FRL: | B9: =IFERROR(IF(OFFSET(FRL!B$1,MATCH(5,Picks!R:R,0)-1,0)=0,"",OFFSET(FRL!B$1,MATCH(5,Picks!R:R,0)-1,0)),"") | C9: =IFERROR(IF(OFFSET(FRL!C$1,MATCH(5,Picks!R:R,0)-1,0)=0,"",OFFSET(FRL!C$1,MATCH(5,Picks!R:R,0)-1,0)),"") | D9: =IFERROR(IF(OFFSET(FRL!D$1,MATCH(5,Picks!R:R,0)-1,0)=0,"",OFFSET(FRL!D$1,MATCH(5,Picks!R:R,0)-1,0)),"") | E9: =IFERROR(IF(OFFSET(FRL!E$1,MATCH(5,Picks!R:R,0)-1,0)=0,"",OFFSET(FRL!E$1,MATCH(5,Picks!R:R,0)-1,0)),"") | F9: =IFERROR(OFFSET(Picks!S3,MATCH(5,Picks!R:R,0)-1,0),"") | G9: =IF(F9="","",IFERROR(OFFSET(Picks!T$1,MATCH(5,Picks!R:R,0)-1,0),"")) | H9: =IFERROR(OFFSET(FRL!H$1,MATCH(5,Picks!R:R,0)-1,0),"")
A10: =CONCATENATE("FRL: ",IFERROR(OFFSET(Picks!M$1,MATCH(6,Picks!R:R,0)-1,0),"")) -> FRL: | B10: =IFERROR(IF(OFFSET(FRL!B$1,MATCH(6,Picks!R:R,0)-1,0)=0,"",OFFSET(FRL!B$1,MATCH(6,Picks!R:R,0)-1,0)),"") | C10: =IFERROR(IF(OFFSET(FRL!C$1,MATCH(6,Picks!R:R,0)-1,0)=0,"",OFFSET(FRL!C$1,MATCH(6,Picks!R:R,0)-1,0)),"") | D10: =IFERROR(IF(OFFSET(FRL!D$1,MATCH(6,Picks!R:R,0)-1,0)=0,"",OFFSET(FRL!D$1,MATCH(6,Picks!R:R,0)-1,0)),"") | E10: =IFERROR(IF(OFFSET(FRL!E$1,MATCH(6,Picks!R:R,0)-1,0)=0,"",OFFSET(FRL!E$1,MATCH(6,Picks!R:R,0)-1,0)),"") | F10: =IFERROR(OFFSET(Picks!S4,MATCH(6,Picks!R:R,0)-1,0),"") | G10: =IF(F10="","",IFERROR(OFFSET(Picks!T$1,MATCH(6,Picks!R:R,0)-1,0),"")) | H10: =IFERROR(OFFSET(FRL!H$1,MATCH(6,Picks!R:R,0)-1,0),"")
