Workbook

Sheet Results
A1: PLAYER | B1: Date | C1: Event | D1: Course | E1: Location | F1: Tour | G1: Tour2 | H1: Tour3 | I1: Surname | J1: FirstName | K1: Posn | L1: Rd1 | M1: Rd2 | N1: Rd3 | O1: Rd4 | P1: Rd5 | Q1: Total | R1: Field | S1: Field1 | T1: AdjRd1 | U1: AdjRd2 | V1: AdjRd3 | W1: AdjRd4 | X1: AdjRd5 | Y1: AdjAve | Z1: Rd1Pos | AA1: Rd2Pos | AB1: Rd3Pos | AC1: Rd4Pos | AD1: Rd5Pos | AE1: Rd1Lead | AF1: Rd2Lead | AG1: Rd3Lead | AH1: Rd4Lead | AI1: Rd5Lead | AJ1: Posn2 | AK1: MU | AL1: Tee1 | AM1: Time1 | AN1: Tee2 | AO1: Time2 | AP1: Tee3 | AQ1: Time3 | AR1: Tee4 | AS1: Time4 | AT1: Tee5 | AU1: Time5 | AV1: dd | AW1: dd_rank | AX1: da | AY1: da_rank | AZ1: gir | BA1: gir_rank | BB1: ppr | BC1: ppr_rank | BD1: ppgir | BE1: ppgir_rank | BF1: sc | BG1: sc_rank | BH1: ss | BI1: ss_rank | BJ1: tdr_rank | BK1: acc_rank | BL1: bst_rank | BM1: putt_rank | BN1: all_rank | BO1: Par3 | BP1: Par3_rank | BQ1: Par4 | BR1: Par4_rank | BS1: Par5 | BT1: Par5_rank | BU1: Eagles | BV1: Birdies | BW1: Pars | BX1: Bogeys | BY1: Other | BZ1: s | CA1: p3 | CB1: p4 | CC1: p5 | CD1: field_dd | CE1: field_da | CF1: field_gir | CG1: field_sc | CH1: field_pa | CI1: field_ppr | CJ1: field_ss | CK1: field_par3 | CL1: field_par4 | CM1: field_par5 | CN1: field1_dd | CO1: field1_da | CP1: field1_gir | CQ1: field1_sc | CR1: field1_pa | CS1: field1_ppr | CT1: field1_ss | CU1: field1_par3 | CV1: field1_par4 | CW1: field1_par5 | CX1: Eagles_rank | CY1: Birdies_rank | CZ1: Pars_rank | DA1: Bogeys_rank | DB1: Other_rank | DC1: dd(r1) | DD1: dd(r1)_rank | DE1: dd(r2) | DF1: dd(r2)_rank | DG1: dd(r3) | DH1: dd(r3)_rank | DI1: dd(r4) | DJ1: dd(r4)_rank | DK1: dd(r5) | DL1: dd(r5)_rank | DM1: da(r1) | DN1: da(r1)_rank | DO1: da(r2) | DP1: da(r2)_rank | DQ1: da(r3) | DR1: da(r3)_rank | DS1: da(r4) | DT1: da(r4)_rank | DU1: da(r5) | DV1: da(r5)_rank | DW1: gir(r1) | DX1: gir(r1)_rank | DY1: gir(r2) | DZ1: gir(r2)_rank | EA1: gir(r3) | EB1: gir(r3)_rank | EC1: gir(r4) | ED1: gir(r4)_rank | EE1: gir(r5) | EF1: gir(r5)_rank | EG1: ppr(r1) | EH1: ppr(r1)_rank | EI1: ppr(r2) | EJ1: ppr(r2)_rank | EK1: ppr(r3) | EL1: ppr(r3)_rank | EM1: ppr(r4) | EN1: ppr(r4)_rank | EO1: ppr(r5) | EP1: ppr(r5)_rank | EQ1: ppgir(r1) | ER1: ppgir(r1)_rank | ES1: ppgir(r2) | ET1: ppgir(r2)_rank | EU1: ppgir(r3) | EV1: ppgir(r3)_rank | EW1: ppgir(r4) | EX1: ppgir(r4)_rank | EY1: ppgir(r5) | EZ1: ppgir(r5)_rank | FA1: sc(r1) | FB1: sc(r1)_rank | FC1: sc(r2) | FD1: sc(r2)_rank | FE1: sc(r3) | FF1: sc(r3)_rank | FG1: sc(r4) | FH1: sc(r4)_rank | FI1: sc(r5) | FJ1: sc(r5)_rank | FK1: ss(r1) | FL1: ss(r1)_rank | FM1: ss(r2) | FN1: ss(r2)_rank | FO1: ss(r3) | FP1: ss(r3)_rank | FQ1: ss(r4) | FR1: ss(r4)_rank | FS1: ss(r5) | FT1: ss(r5)_rank | FU1: par3(r1) | FV1: par3(r1)_rank | FW1: par3(r2) | FX1: par3(r2)_rank | FY1: par3(r3) | FZ1: par3(r3)_rank | GA1: par3(r4) | GB1: par3(r4)_rank | GC1: par3(r5) | GD1: par3(r5)_rank | GE1: par4(r1) | GF1: par4(r1)_rank | GG1: par4(r2) | GH1: par4(r2)_rank | GI1: par4(r3) | GJ1: par4(r3)_rank | GK1: par4(r4) | GL1: par4(r4)_rank | GM1: par4(r5) | GN1: par4(r5)_rank | GO1: par5(r1) | GP1: par5(r1)_rank | GQ1: par5(r2) | GR1: par5(r2)_rank | GS1: par5(r3) | GT1: par5(r3)_rank | GU1: par5(r4) | GV1: par5(r4)_rank | GW1: par5(r5) | GX1: par5(r5)_rank | GY1: eagles(r1) | GZ1: eagles(r1)_rank | HA1: eagles(r2) | HB1: eagles(r2)_rank | HC1: eagles(r3) | HD1: eagles(r3)_rank | HE1: eagles(r4) | HF1: eagles(r4)_rank | HG1: eagles(r5) | HH1: eagles(r5)_rank | HI1: birdies(r1) | HJ1: birdies(r1)_rank | HK1: birdies(r2) | HL1: birdies(r2)_rank | HM1: birdies(r3) | HN1: birdies(r3)_rank | HO1: birdies(r4) | HP1: birdies(r4)_rank | HQ1: birdies(r5) | HR1: birdies(r5)_rank | HS1: pars(r1) | HT1: pars(r1)_rank | HU1: pars(r2) | HV1: pars(r2)_rank | HW1: pars(r3) | HX1: pars(r3)_rank | HY1: pars(r4) | HZ1: pars(r4)_rank | IA1: pars(r5) | IB1: pars(r5)_rank | IC1: bogeys(r1) | ID1: bogeys(r1)_rank | IE1: bogeys(r2) | IF1: bogeys(r2)_rank | IG1: bogeys(r3) | IH1: bogeys(r3)_rank | II1: bogeys(r4) | IJ1: bogeys(r4)_rank | IK1: bogeys(r5) | IL1: bogeys(r5)_rank | IM1: other(r1) | IN1: other(r1)_rank | IO1: other(r2) | IP1: other(r2)_rank | IQ1: other(r3) | IR1: other(r3)_rank | IS1: other(r4) | IT1: other(r4)_rank | IU1: other(r5) | IV1: other(r5)_rank
A2: =IF(J2="","",CONCATENATE(J2," ",I2)) -> Shuri Sakuma | B2: 45767 | C2: KKT Cup Bantelin Ladies Open | D2: Kumamoto Airport | E2: Japan | F2: JLPGA | I2: Sakuma | J2: Shuri | K2: 1 | L2: 70 | M2: 68 | N2: 67 | Q2: 205 | R2: 72.98 | S2: 72.58 | T2: 69.85 | U2: 67.87 | V2: 68.01 | Y2: 68.58 | Z2: 12 | AA2: 2 | AB2: 1 | AE2: 3 | AF2: 1 | AG2: -2 | AJ2: 1 | AK2: 1
A3: =IF(J3="","",CONCATENATE(J3," ",I3)) -> Momoko Osato | B3: 45767 | C3: KKT Cup Bantelin Ladies Open | D3: Kumamoto Airport | E3: Japan | F3: JLPGA | I3: Osato | J3: Momoko | K3: 2 | L3: 71 | M3: 69 | N3: 67 | Q3: 207 | R3: 72.98 | S3: 72.58 | T3: 70.85 | U3: 68.87 | V3: 68.01 | Y3: 69.24 | Z3: 18 | AA3: 7 | AB3: 2 | AE3: 4 | AF3: 3 | AG3: 2 | AJ3: 2 | AK3: 2
A4: =IF(J4="","",CONCATENATE(J4," ",I4)) -> Yumeka Kobayashi | B4: 45767 | C4: KKT Cup Bantelin Ladies Open | D4: Kumamoto Airport | E4: Japan | F4: JLPGA | I4: Kobayashi | J4: Yumeka | K4: 3 | L4: 68 | M4: 70 | N4: 70 | Q4: 208 | R4: 72.98 | S4: 72.58 | T4: 67.85 | U4: 69.87 | V4: 71.01 | Y4: 69.58 | Z4: 4 | AA4: 2 | AB4: 3 | AE4: 1 | AF4: 1 | AG4: 3 | AJ4: 3 | AK4: 3
A5: =IF(J5="","",CONCATENATE(J5," ",I5)) -> Kotone Hori | B5: 45767 | C5: KKT Cup Bantelin Ladies Open | D5: Kumamoto Airport | E5: Japan | F5: JLPGA | I5: Hori | J5: Kotone | K5: 4 | L5: 70 | M5: 67 | N5: 72 | Q5: 209 | R5: 72.98 | S5: 72.58 | T5: 69.85 | U5: 66.87 | V5: 73.01 | Y5: 69.91 | Z5: 12 | AA5: 1 | AB5: 4 | AE5: 3 | AF5: -1 | AG5: 4 | AJ5: 4 | AK5: 4.5
A6: =IF(J6="","",CONCATENATE(J6," ",I6)) -> Sora Kamiya | B6: 45767 | C6: KKT Cup Bantelin Ladies Open | D6: Kumamoto Airport | E6: Japan | F6: JLPGA | I6: Kamiya | J6: Sora | K6: 4 | L6: 70 | M6: 69 | N6: 70 | Q6: 209 | R6: 72.98 | S6: 72.58 | T6: 69.85 | U6: 68.87 | V6: 71.01 | Y6: 69.91 | Z6: 12 | AA6: 5 | AB6: 4 | AE6: 3 | AF6: 2 | AG6: 4 | AJ6: 4 | AK6: 4.5
A7: =IF(J7="","",CONCATENATE(J7," ",I7)) -> Mi-Jeong Jeon | B7: 45767 | C7: KKT Cup Bantelin Ladies Open | D7: Kumamoto Airport | E7: Japan | F7: JLPGA | I7: Jeon | J7: Mi-Jeong | K7: 6 | L7: 72 | M7: 70 | N7: 68 | Q7: 210 | R7: 72.98 | S7: 72.58 | T7: 71.85 | U7: 69.87 | V7: 69.01 | Y7: 70.24 | Z7: 30 | AA7: 20 | AB7: 6 | AE7: 5 | AF7: 5 | AG7: 5 | AJ7: 6 | AK7: 7
A8: =IF(J8="","",CONCATENATE(J8," ",I8)) -> Min-Young Lee | B8: 45767 | C8: KKT Cup Bantelin Ladies Open | D8: Kumamoto Airport | E8: Japan | F8: JLPGA | I8: Lee | J8: Min-Young | K8: 6 | L8: 70 | M8: 71 | N8: 69 | Q8: 210 | R8: 72.98 | S8: 72.58 | T8: 69.85 | U8: 70.87 | V8: 70.01 | Y8: 70.24 | Z8: 12 | AA8: 12 | AB8: 6 | AE8: 3 | AF8: 4 | AG8: 5 | AJ8: 6 | AK8: 7
A9: =IF(J9="","",CONCATENATE(J9," ",I9)) -> Hanane Nagashima | B9: 45767 | C9: KKT Cup Bantelin Ladies Open | D9: Kumamoto Airport | E9: Japan | F9: JLPGA | I9: Nagashima | J9: Hanane | K9: 6 | L9: 71 | M9: 72 | N9: 67 | Q9: 210 | R9: 72.98 | S9: 72.58 | T9: 70.85 | U9: 71.87 | V9: 68.01 | Y9: 70.24 | Z9: 18 | AA9: 28 | AB9: 6 | AE9: 4 | AF9: 6 | AG9: 5 | AJ9: 6 | AK9: 7
A10: =IF(J10="","",CONCATENATE(J10," ",I10)) -> Ayako Kimura | B10: 45767 | C10: KKT Cup Bantelin Ladies Open | D10: Kumamoto Airport | E10: Japan | F10: JLPGA | I10: Kimura | J10: Ayako | K10: 9 | L10: 75 | M10: 69 | N10: 67 | Q10: 211 | R10: 72.98 | S10: 72.58 | T10: 74.85 | U10: 68.87 | V10: 68.01 | Y10: 70.58 | Z10: 72 | AA10: 32 | AB10: 9 | AE10: 8 | AF10: 7 | AG10: 6 | AJ10: 9 | AK10: 12.5
A11: =IF(J11="","",CONCATENATE(J11," ",I11)) -> Sakura Koiwai | B11: 45767 | C11: KKT Cup Bantelin Ladies Open | D11: Kumamoto Airport | E11: Japan | F11: JLPGA | I11: Koiwai | J11: Sakura | K11: 9 | L11: 69 | M11: 71 | N11: 71 | Q11: 211 | R11: 72.98 | S11: 72.58 | T11: 68.85 | U11: 70.87 | V11: 72.01 | Y11: 70.58 | Z11: 9 | AA11: 7 | AB11: 9 | AE11: 2 | AF11: 3 | AG11: 6 | AJ11: 9 | AK11: 12.5
A12: =IF(J12="","",CONCATENATE(J12," ",I12)) -> Shiho Kuwaki | B12: 45767 | C12: KKT Cup Bantelin Ladies Open | D12: Kumamoto Airport | E12: Japan | F12: JLPGA | I12: Kuwaki | J12: Shiho | K12: 9 | L12: 72 | M12: 69 | N12: 70 | Q12: 211 | R12: 72.98 | S12: 72.58 | T12: 71.85 | U12: 68.87 | V12: 71.01 | Y12: 70.58 | Z12: 30 | AA12: 12 | AB12: 9 | AE12: 5 | AF12: 4 | AG12: 6 | AJ12: 9 | AK12: 12.5
A13: =IF(J13="","",CONCATENATE(J13," ",I13)) -> Saki Nagamine | B13: 45767 | C13: KKT Cup Bantelin Ladies Open | D13: Kumamoto Airport | E13: Japan | F13: JLPGA | I13: Nagamine | J13: Saki | K13: 9 | L13: 67 | M13: 71 | N13: 73 | Q13: 211 | R13: 72.98 | S13: 72.58 | T13: 66.85 | U13: 70.87 | V13: 74.01 | Y13: 70.58 | Z13: 1 | AA13: 2 | AB13: 9 | AE13: 0 | AF13: 1 | AG13: 6 | AJ13: 9 | AK13: 12.5
... A52: =IF(J52="","",CONCATENATE(J52," ",I52)) -> Kokona Sakurai | B52: 45767 | C52: KKT Cup Bantelin Ladies Open | D52: Kumamoto Airport | E52: Japan | F52: JLPGA | I52: Sakurai | J52: Kokona | K52: 50 | L52: 74 | M52: 70 | N52: 77 | Q52: 221 | R52: 72.98 | S52: 72.58 | T52: 73.85 | U52: 69.87 | V52: 78.01 | Y52: 73.91 | Z52: 64 | AA52: 32 | AB52: 50 | AE52: 7 | AF52: 7 | AG52: 16 | AJ52: 50 | AK52: 50.5
A53: =IF(J53="","",CONCATENATE(J53," ",I53)) -> Haruka Amamoto | B53: 45767 | C53: KKT Cup Bantelin Ladies Open | D53: Kumamoto Airport | E53: Japan | F53: JLPGA | I53: Amamoto | J53: Haruka | K53: mc | L53: 72 | M53: 74 | Q53: 146 | R53: 72.98 | S53: 72.58 | T53: 71.85 | U53: 73.87 | Y53: 72.86 | Z53: 30 | AA53: 52 | AE53: 5 | AF53: 9 | AJ53: 52 | AK53: 52
A54: =IF(J54="","",CONCATENATE(J54," ",I54)) -> Yumi Kudo | B54: 45767 | C54: KKT Cup Bantelin Ladies Open | D54: Kumamoto Airport | E54: Japan | F54: JLPGA | I54: Kudo | J54: Yumi | K54: mc | L54: 72 | M54: 74 | Q54: 146 | R54: 72.98 | S54: 72.58 | T54: 71.85 | U54: 73.87 | Y54: 72.86 | Z54: 30 | AA54: 52 | AE54: 5 | AF54: 9 | AJ54: 52 | AK54: 52
A55: =IF(J55="","",CONCATENATE(J55," ",I55)) -> Mao Nozawa | B55: 45767 | C55: KKT Cup Bantelin Ladies Open | D55: Kumamoto Airport | E55: Japan | F55: JLPGA | I55: Nozawa | J55: Mao | K55: mc | L55: 72 | M55: 74 | Q55: 146 | R55: 72.98 | S55: 72.58 | T55: 71.85 | U55: 73.87 | Y55: 72.86 | Z55: 30 | AA55: 52 | AE55: 5 | AF55: 9 | AJ55: 52 | AK55: 52
A56: =IF(J56="","",CONCATENATE(J56," ",I56)) -> Hiromu Ono | B56: 45767 | C56: KKT Cup Bantelin Ladies Open | D56: Kumamoto Airport | E56: Japan | F56: JLPGA | I56: Ono | J56: Hiromu | K56: mc | L56: 75 | M56: 71 | Q56: 146 | R56: 72.98 | S56: 72.58 | T56: 74.85 | U56: 70.87 | Y56: 72.86 | Z56: 72 | AA56: 52 | AE56: 8 | AF56: 9 | AJ56: 52 | AK56: 52
A57: =IF(J57="","",CONCATENATE(J57," ",I57)) -> Megumi Shimokawa | B57: 45767 | C57: KKT Cup Bantelin Ladies Open | D57: Kumamoto Airport | E57: Japan | F57: JLPGA | I57: Shimokawa | J57: Megumi | K57: mc | L57: 76 | M57: 70 | Q57: 146 | R57: 72.98 | S57: 72.58 | T57: 75.85 | U57: 69.87 | Y57: 72.86 | Z57: 88 | AA57: 52 | AE57: 9 | AF57: 9 | AJ57: 52 | AK57: 52
A58: =IF(J58="","",CONCATENATE(J58," ",I58)) -> Reika Usui | B58: 45767 | C58: KKT Cup Bantelin Ladies Open | D58: Kumamoto Airport | E58: Japan | F58: JLPGA | I58: Usui | J58: Reika | K58: mc | L58: 74 | M58: 72 | Q58: 146 | R58: 72.98 | S58: 72.58 | T58: 73.85 | U58: 71.87 | Y58: 72.86 | Z58: 64 | AA58: 52 | AE58: 7 | AF58: 9 | AJ58: 52 | AK58: 52
A59: =IF(J59="","",CONCATENATE(J59," ",I59)) -> Hinaco Yamauchi | B59: 45767 | C59: KKT Cup Bantelin Ladies Open | D59: Kumamoto Airport | E59: Japan | F59: JLPGA | I59: Yamauchi | J59: Hinaco | K59: mc | L59: 76 | M59: 70 | Q59: 146 | R59: 72.98 | S59: 72.58 | T59: 75.85 | U59: 69.87 | Y59: 72.86 | Z59: 88 | AA59: 52 | AE59: 9 | AF59: 9 | AJ59: 52 | AK59: 52
A60: =IF(J60="","",CONCATENATE(J60," ",I60)) -> Kokone Yoshimoto | B60: 45767 | C60: KKT Cup Bantelin Ladies Open | D60: Kumamoto Airport | E60: Japan | F60: JLPGA | I60: Yoshimoto | J60: Kokone | K60: mc | L60: 73 | M60: 73 | Q60: 146 | R60: 72.98 | S60: 72.58 | T60: 72.85 | U60: 72.87 | Y60: 72.86 | Z60: 50 | AA60: 52 | AE60: 6 | AF60: 9 | AJ60: 52 | AK60: 52
A61: =IF(J61="","",CONCATENATE(J61," ",I61)) -> Karen Fujita | B61: 45767 | C61: KKT Cup Bantelin Ladies Open | D61: Kumamoto Airport | E61: Japan | F61: JLPGA | I61: Fujita | J61: Karen | K61: mc | L61: 70 | M61: 77 | Q61: 147 | R61: 72.98 | S61: 72.58 | T61: 69.85 | U61: 76.87 | Y61: 73.36 | Z61: 12 | AA61: 60 | AE61: 3 | AF61: 10 | AJ61: 60 | AK61: 52
A62: =IF(J62="","",CONCATENATE(J62," ",I62)) -> Yuki Ichinose | B62: 45767 | C62: KKT Cup Bantelin Ladies Open | D62: Kumamoto Airport | E62: Japan | F62: JLPGA | I62: Ichinose | J62: Yuki | K62: mc | L62: 72 | M62: 75 | Q62: 147 | R62: 72.98 | S62: 72.58 | T62: 71.85 | U62: 74.87 | Y62: 73.36 | Z62: 30 | AA62: 60 | AE62: 5 | AF62: 10 | AJ62: 60 | AK62: 52
A63: =IF(J63="","",CONCATENATE(J63," ",I63)) -> Ayame Morii | B63: 45767 | C63: KKT Cup Bantelin Ladies Open | D63: Kumamoto Airport | E63: Japan | F63: JLPGA | I63: Morii | J63: Ayame | K63: mc | L63: 73 | M63: 74 | Q63: 147 | R63: 72.98 | S63: 72.58 | T63: 72.85 | U63: 73.87 | Y63: 73.36 | Z63: 50 | AA63: 60 | AE63: 6 | AF63: 10 | AJ63: 60 | AK63: 52
A64: =IF(J64="","",CONCATENATE(J64," ",I64)) -> Kanae Nagata | B64: 45767 | C64: KKT Cup Bantelin Ladies Open | D64: Kumamoto Airport | E64: Japan | F64: JLPGA | I64: Nagata | J64: Kanae | K64: mc | L64: 73 | M64: 74 | Q64: 147 | R64: 72.98 | S64: 72.58 | T64: 72.85 | U64: 73.87 | Y64: 73.36 | Z64: 50 | AA64: 60 | AE64: 6 | AF64: 10 | AJ64: 60 | AK64: 52
... A108: =IF(J108="","",CONCATENATE(J108," ",I108)) -> Minami Kiyomoto | B108: 45767 | C108: KKT Cup Bantelin Ladies Open | D108: Kumamoto Airport | E108: Japan | F108: JLPGA | I108: Kiyomoto | J108: Minami | K108: mc | L108: 81 | M108: 79 | Q108: 160 | R108: 72.98 | S108: 72.58 | T108: 80.85 | U108: 78.87 | Y108: 79.86 | Z108: 107 | AA108: 106 | AE108: 14 | AF108: 23 | AJ108: 106 | AK108: 52
A109: =IF(J109="","",CONCATENATE(J109," ",I109)) -> Shinsil Bang | B109: 45767 | C109: Saint Nine Masters | D109: Gaya | E109: South Korea | F109: KLPGA | I109: Bang | J109: Shinsil | K109: 1 | L109: 68 | M109: 70 | N109: 65 | Q109: 203 | R109: 72.66 | S109: 72.02 | T109: 67.72 | U109: 70.14 | V109: 65.93 | Y109: 67.93 | Z109: 9 | AA109: 5 | AB109: 1 | AE109: 3 | AF109: 2 | AG109: -1 | AJ109: 1 | AK109: 1
A110: =IF(J110="","",CONCATENATE(J110," ",I110)) -> Dasom Ma | B110: 45767 | C110: Saint Nine Masters | D110: Gaya | E110: South Korea | F110: KLPGA | I110: Ma | J110: Dasom | K110: 2 | L110: 65 | M110: 72 | N110: 67 | Q110: 204 | R110: 72.66 | S110: 72.02 | T110: 64.72 | U110: 72.14 | V110: 67.93 | Y110: 68.26 | Z110: 1 | AA110: 2 | AB110: 2 | AE110: -1 | AF110: 1 | AG110: 1 | AJ110: 2 | AK110: 2
A111: =IF(J111="","",CONCATENATE(J111," ",I111)) -> Dongeun Lee | B111: 45767 | C111: Saint Nine Masters | D111: Gaya | E111: South Korea | F111: KLPGA | I111: Lee | J111: Dongeun | K111: 3 | L111: 68 | M111: 72 | N111: 65 | Q111: 205 | R111: 72.66 | S111: 72.02 | T111: 67.72 | U111: 72.14 | V111: 65.93 | Y111: 68.6 | Z111: 9 | AA111: 14 | AB111: 3 | AE111: 3 | AF111: 4 | AG111: 2 | AJ111: 3 | AK111: 4
A112: =IF(J112="","",CONCATENATE(J112," ",I112)) -> Jiyoung Park | B112: 45767 | C112: Saint Nine Masters | D112: Gaya | E112: South Korea | F112: KLPGA | I112: Park | J112: Jiyoung | K112: 3 | L112: 67 | M112: 69 | N112: 69 | Q112: 205 | R112: 72.66 | S112: 72.02 | T112: 66.72 | U112: 69.14 | V112: 69.93 | Y112: 68.6 | Z112: 3 | AA112: 1 | AB112: 3 | AE112: 2 | AF112: -1 | AG112: 2 | AJ112: 3 | AK112: 4
A113: =IF(J113="","",CONCATENATE(J113," ",I113)) -> Hyunjo Yoo | B113: 45767 | C113: Saint Nine Masters | D113: Gaya | E113: South Korea | F113: KLPGA | I113: Yoo | J113: Hyunjo | K113: 3 | L113: 69 | M113: 69 | N113: 67 | Q113: 205 | R113: 72.66 | S113: 72.02 | T113: 68.72 | U113: 69.14 | V113: 67.93 | Y113: 68.6 | Z113: 12 | AA113: 5 | AB113: 3 | AE113: 4 | AF113: 2 | AG113: 2 | AJ113: 3 | AK113: 4
A114: =IF(J114="","",CONCATENATE(J114," ",I114)) -> Yerim Choi | B114: 45767 | C114: Saint Nine Masters | D114: Gaya | E114: South Korea | F114: KLPGA | I114: Choi | J114: Yerim | K114: 6 | L114: 67 | M114: 71 | N114: 68 | Q114: 206 | R114: 72.66 | S114: 72.02 | T114: 66.72 | U114: 71.14 | V114: 68.93 | Y114: 68.93 | Z114: 3 | AA114: 5 | AB114: 6 | AE114: 2 | AF114: 2 | AG114: 3 | AJ114: 6 | AK114: 7
A115: =IF(J115="","",CONCATENATE(J115," ",I115)) -> Minju Kim | B115: 45767 | C115: Saint Nine Masters | D115: Gaya | E115: South Korea | F115: KLPGA | I115: Kim | J115: Minju | K115: 6 | L115: 66 | M115: 71 | N115: 69 | Q115: 206 | R115: 72.66 | S115: 72.02 | T115: 65.72 | U115: 71.14 | V115: 69.93 | Y115: 68.93 | Z115: 2 | AA115: 2 | AB115: 6 | AE115: 1 | AF115: 1 | AG115: 3 | AJ115: 6 | AK115: 7
A116: =IF(J116="","",CONCATENATE(J116," ",I116)) -> Jiu Ko | B116: 45767 | C116: Saint Nine Masters | D116: Gaya | E116: South Korea | F116: KLPGA | I116: Ko | J116: Jiu | K116: 6 | L116: 71 | M116: 70 | N116: 65 | Q116: 206 | R116: 72.66 | S116: 72.02 | T116: 70.72 | U116: 70.14 | V116: 65.93 | Y116: 68.93 | Z116: 30 | AA116: 20 | AB116: 6 | AE116: 6 | AF116: 5 | AG116: 3 | AJ116: 6 | AK116: 7
A117: =IF(J117="","",CONCATENATE(J117," ",I117)) -> Eunwoo Choi | B117: 45767 | C117: Saint Nine Masters | D117: Gaya | E117: South Korea | F117: KLPGA | I117: Choi | J117: Eunwoo | K117: 9 | L117: 70 | M117: 68 | N117: 69 | Q117: 207 | R117: 72.66 | S117: 72.02 | T117: 69.72 | U117: 68.14 | V117: 69.93 | Y117: 69.26 | Z117: 18 | AA117: 5 | AB117: 9 | AE117: 5 | AF117: 2 | AG117: 4 | AJ117: 9 | AK117: 10
A118: =IF(J118="","",CONCATENATE(J118," ",I118)) -> Youmin Hwang | B118: 45767 | C118: Saint Nine Masters | D118: Gaya | E118: South Korea | F118: KLPGA | I118: Hwang | J118: Youmin | K118: 9 | L118: 71 | M118: 67 | N118: 69 | Q118: 207 | R118: 72.66 | S118: 72.02 | T118: 70.72 | U118: 67.14 | V118: 69.93 | Y118: 69.26 | Z118: 30 | AA118: 5 | AB118: 9 | AE118: 6 | AF118: 2 | AG118: 4 | AJ118: 9 | AK118: 10
A119: =IF(J119="","",CONCATENATE(J119," ",I119)) -> Hyunkyung Park | B119: 45767 | C119: Saint Nine Masters | D119: Gaya | E119: South Korea | F119: KLPGA | I119: Park | J119: Hyunkyung | K119: 9 | L119: 69 | M119: 70 | N119: 68 | Q119: 207 | R119: 72.66 | S119: 72.02 | T119: 68.72 | U119: 70.14 | V119: 68.93 | Y119: 69.26 | Z119: 12 | AA119: 13 | AB119: 9 | AE119: 4 | AF119: 3 | AG119: 4 | AJ119: 9 | AK119: 10
A120: =IF(J120="","",CONCATENATE(J120," ",I120)) -> Minbyeol Kim | B120: 45767 | C120: Saint Nine Masters | D120: Gaya | E120: South Korea | F120: KLPGA | I120: Kim | J120: Minbyeol | K120: 12 | L120: 70 | M120: 68 | N120: 70 | Q120: 208 | R120: 72.66 | S120: 72.02 | T120: 69.72 | U120: 68.14 | V120: 70.93 | Y120: 69.6 | Z120: 18 | AA120: 5 | AB120: 12 | AE120: 5 | AF120: 2 | AG120: 5 | AJ120: 12 | AK120: 12
... A173: =IF(J173="","",CONCATENATE(J173," ",I173)) -> Gayul Kang | B173: 45767 | C173: Saint Nine Masters | D173: Gaya | E173: South Korea | F173: KLPGA | I173: Kang | J173: Gayul | K173: 65 | L173: 71 | M173: 73 | N173: 78 | Q173: 222 | R173: 72.66 | S173: 72.02 | T173: 70.72 | U173: 73.14 | V173: 78.93 | Y173: 74.26 | Z173: 30 | AA173: 44 | AB173: 65 | AE173: 6 | AF173: 8 | AG173: 19 | AJ173: 65 | AK173: 65
...

Sheet Record
A1: Win | D1: FRL | G1: Top3: Win | J1: Top3: FRL | N1: WIN | O1: Rank | P1: Player | Q1: P/L | R1: E/W Play | U1: FRL | V1: Rank | W1: Player | X1: P/L | Y1: E/W Play
A2: Stakes | B2: Profit | D2: Stakes | E2: Profit | G2: Stakes | H2: Profit | J2: Stakes | K2: Profit | O2: 1 | P2: =IFERROR(OFFSET(Picks!A$1,MATCH($O2,Picks!$F:$F,0)-1,0),"") -> Jennifer Kupcho | Q2: =IFERROR(OFFSET(Picks!I$1,MATCH($O2,Picks!$F:$F,0)-1,0),"") -> -2 | R2: =IFERROR(OFFSET(Picks!J$1,MATCH($O2,Picks!$F:$F,0)-1,0),"") -> Bet365: 80/1, 5pl, 1/4 | V2: 1 | W2: =IFERROR(OFFSET(Picks!M$1,MATCH($O2,Picks!$R:$R,0)-1,0),"") -> Ayaka Furue | X2: =IFERROR(OFFSET(Picks!U$1,MATCH($O2,Picks!$R:$R,0)-1,0),"") -> -2 | Y2: =IFERROR(OFFSET(Picks!V$1,MATCH($O2,Picks!$R:$R,0)-1,0),"") -> BetVictor: 35/1, 5pl, 1/4
A3: {=IF(100*SUMPRODUCT((Win!F:F<>"") * IFERROR(--Win!E:E, 0))=0,"",100*SUMPRODUCT((Win!F:F<>"") * IFERROR(--Win!E:E, 0)))} -> 3.3 | B3: =IF(AND(A3="",SUM(Win!G:G)=0),"",SUM(Win!G:G)) -> -3.3 | D3: {=IF(100*SUMPRODUCT((FRL!F:F<>"") * IFERROR(--FRL!E:E, 0))=0,"",100*SUMPRODUCT((FRL!F:F<>"") * IFERROR(--FRL!E:E, 0)))} -> 6.7 | E3: =IF(AND(D3="",SUM(FRL!G:G)=0),"",SUM(FRL!G:G)) -> -4.29 | G3: =IF(T3Picks!B2="","",2*(3-COUNTBLANK(T3Picks!A2:A4))) -> 6 | H3: =IF(T3Picks!B2="","",SUM(T3Picks!G2:G4)) -> -6 | J3: =IF(T3Picks!B5="","",2*(3-COUNTBLANK(T3Picks!A5:A7))) -> 6 | K3: =IF(T3Picks!B5="","",SUM(T3Picks!G5:G7)) -> -6 | O3: 2 | P3: =IFERROR(OFFSET(Picks!A$1,MATCH($O3,Picks!$F:$F,0)-1,0),"") -> Lindy Duncan | Q3: =IFERROR(OFFSET(Picks!I$1,MATCH($O3,Picks!$F:$F,0)-1,0),"") -> -2 | R3: =IFERROR(OFFSET(Picks!J$1,MATCH($O3,Picks!$F:$F,0)-1,0),"") -> Bet365: 125/1, 5pl, 1/4 | V3: 2 | W3: =IFERROR(OFFSET(Picks!M$1,MATCH($O3,Picks!$R:$R,0)-1,0),"") -> Jennifer Kupcho | X3: =IFERROR(OFFSET(Picks!U$1,MATCH($O3,Picks!$R:$R,0)-1,0),"") -> -2 | Y3: =IFERROR(OFFSET(Picks!V$1,MATCH($O3,Picks!$R:$R,0)-1,0),"") -> Bet365: 70/1, 5pl, 1/4
O4: 3 | P4: =IFERROR(OFFSET(Picks!A$1,MATCH($O4,Picks!$F:$F,0)-1,0),"") -> Perrine Delacour | Q4: =IFERROR(OFFSET(Picks!I$1,MATCH($O4,Picks!$F:$F,0)-1,0),"") -> -2 | R4: =IFERROR(OFFSET(Picks!J$1,MATCH($O4,Picks!$F:$F,0)-1,0),"") -> Ladbrokes: 500/1, 5pl, 1/4 | V4: 3 | W4: =IFERROR(OFFSET(Picks!M$1,MATCH($O4,Picks!$R:$R,0)-1,0),"") -> Somi Lee | X4: =IFERROR(OFFSET(Picks!U$1,MATCH($O4,Picks!$R:$R,0)-1,0),"") -> -2 | Y4: =IFERROR(OFFSET(Picks!V$1,MATCH($O4,Picks!$R:$R,0)-1,0),"") -> Ladbrokes: 90/1, 5pl, 1/4
O5: 4 | P5: =IFERROR(OFFSET(Picks!A$1,MATCH($O5,Picks!$F:$F,0)-1,0),"") -> Hye-Jin Choi | Q5: =IFERROR(OFFSET(Picks!I$1,MATCH($O5,Picks!$F:$F,0)-1,0),"") -> -2 | R5: =IFERROR(OFFSET(Picks!J$1,MATCH($O5,Picks!$F:$F,0)-1,0),"") -> QuinnBet: 50/1, 5pl, 1/4 | V5: 4 | W5: =IFERROR(OFFSET(Picks!M$1,MATCH($O5,Picks!$R:$R,0)-1,0),"") -> Perrine Delacour | X5: =IFERROR(OFFSET(Picks!U$1,MATCH($O5,Picks!$R:$R,0)-1,0),"") -> -2 | Y5: =IFERROR(OFFSET(Picks!V$1,MATCH($O5,Picks!$R:$R,0)-1,0),"") -> Bet365: 150/1, 5pl, 1/4
O6: 5 | P6: =IFERROR(OFFSET(Picks!A$1,MATCH($O6,Picks!$F:$F,0)-1,0),"") -> Nanna Koerstz Madsen | Q6: =IFERROR(OFFSET(Picks!I$1,MATCH($O6,Picks!$F:$F,0)-1,0),"") -> -2 | R6: =IFERROR(OFFSET(Picks!J$1,MATCH($O6,Picks!$F:$F,0)-1,0),"") -> Ladbrokes: 50/1, 5pl, 1/4 | V6: 5 | W6: =IFERROR(OFFSET(Picks!M$1,MATCH($O6,Picks!$R:$R,0)-1,0),"") -> Pajaree Anannarukarn | X6: =IFERROR(OFFSET(Picks!U$1,MATCH($O6,Picks!$R:$R,0)-1,0),"") -> -2 | Y6: =IFERROR(OFFSET(Picks!V$1,MATCH($O6,Picks!$R:$R,0)-1,0),"") -> Ladbrokes: 100/1, 5pl, 1/4
O7: 6 | P7: =IFERROR(OFFSET(Picks!A$1,MATCH($O7,Picks!$F:$F,0)-1,0),"") -> Pajaree Anannarukarn | Q7: =IFERROR(OFFSET(Picks!I$1,MATCH($O7,Picks!$F:$F,0)-1,0),"") -> -2 | R7: =IFERROR(OFFSET(Picks!J$1,MATCH($O7,Picks!$F:$F,0)-1,0),"") -> Ladbrokes: 150/1, 5pl, 1/4 | V7: 6 | W7: =IFERROR(OFFSET(Picks!M$1,MATCH($O7,Picks!$R:$R,0)-1,0),"") -> Stephanie Kyriacou | X7: =IFERROR(OFFSET(Picks!U$1,MATCH($O7,Picks!$R:$R,0)-1,0),"") -> -2 | Y7: =IFERROR(OFFSET(Picks!V$1,MATCH($O7,Picks!$R:$R,0)-1,0),"") -> Bet365: 125/1, 5pl, 1/4
O8: 7 | P8: =IFERROR(OFFSET(Picks!A$1,MATCH($O8,Picks!$F:$F,0)-1,0),"") -> Albane Valenzuela | Q8: =IFERROR(OFFSET(Picks!I$1,MATCH($O8,Picks!$F:$F,0)-1,0),"") -> -2 | R8: =IFERROR(OFFSET(Picks!J$1,MATCH($O8,Picks!$F:$F,0)-1,0),"") -> QuinnBet: 250/1, 5pl, 1/4 | V8: 7 | W8: =IFERROR(OFFSET(Picks!M$1,MATCH($O8,Picks!$R:$R,0)-1,0),"") -> Angel Yin | X8: =IFERROR(OFFSET(Picks!U$1,MATCH($O8,Picks!$R:$R,0)-1,0),"") -> -2 | Y8: =IFERROR(OFFSET(Picks!V$1,MATCH($O8,Picks!$R:$R,0)-1,0),"") -> Unibet: 40/1, 6pl, 1/5
O9: 8 | P9: =IFERROR(OFFSET(Picks!A$1,MATCH($O9,Picks!$F:$F,0)-1,0),"") -> Jenny Shin | Q9: =IFERROR(OFFSET(Picks!I$1,MATCH($O9,Picks!$F:$F,0)-1,0),"") -> -2 | R9: =IFERROR(OFFSET(Picks!J$1,MATCH($O9,Picks!$F:$F,0)-1,0),"") -> Skybet: 250/1, 6pl, 1/5 | V9: 8 | W9: =IFERROR(OFFSET(Picks!M$1,MATCH($O9,Picks!$R:$R,0)-1,0),"") -> Chisato Iwai | X9: =IFERROR(OFFSET(Picks!U$1,MATCH($O9,Picks!$R:$R,0)-1,0),"") -> -2 | Y9: =IFERROR(OFFSET(Picks!V$1,MATCH($O9,Picks!$R:$R,0)-1,0),"") -> Skybet: 50/1, 5pl, 1/4
O10: 9 | P10: =IFERROR(OFFSET(Picks!A$1,MATCH($O10,Picks!$F:$F,0)-1,0),"") -> Elizabeth Szokol | Q10: =IFERROR(OFFSET(Picks!I$1,MATCH($O10,Picks!$F:$F,0)-1,0),"") -> -2 | R10: =IFERROR(OFFSET(Picks!J$1,MATCH($O10,Picks!$F:$F,0)-1,0),"") -> QuinnBet: 500/1, 5pl, 1/4 | V10: 9 | W10: =IFERROR(OFFSET(Picks!M$1,MATCH($O10,Picks!$R:$R,0)-1,0),"") -> Albane Valenzuela | X10: =IFERROR(OFFSET(Picks!U$1,MATCH($O10,Picks!$R:$R,0)-1,0),"") -> -2 | Y10: =IFERROR(OFFSET(Picks!V$1,MATCH($O10,Picks!$R:$R,0)-1,0),"") -> Bet365: 125/1, 5pl, 1/4
O11: 10 | P11: =IFERROR(OFFSET(Picks!A$1,MATCH($O11,Picks!$F:$F,0)-1,0),"") -> Somi Lee | Q11: =IFERROR(OFFSET(Picks!I$1,MATCH($O11,Picks!$F:$F,0)-1,0),"") -> -2 | R11: =IFERROR(OFFSET(Picks!J$1,MATCH($O11,Picks!$F:$F,0)-1,0),"") -> Ladbrokes: 125/1, 5pl, 1/4 | V11: 10 | W11: =IFERROR(OFFSET(Picks!M$1,MATCH($O11,Picks!$R:$R,0)-1,0),"") -> Georgia Hall | X11: =IFERROR(OFFSET(Picks!U$1,MATCH($O11,Picks!$R:$R,0)-1,0),"") -> -2 | Y11: =IFERROR(OFFSET(Picks!V$1,MATCH($O11,Picks!$R:$R,0)-1,0),"") -> Bet365: 125/1, 5pl, 1/4
O12: 11 | P12: =IFERROR(OFFSET(Picks!A$1,MATCH($O12,Picks!$F:$F,0)-1,0),"") -> Stephanie Kyriacou | Q12: =IFERROR(OFFSET(Picks!I$1,MATCH($O12,Picks!$F:$F,0)-1,0),"") -> -2 | R12: =IFERROR(OFFSET(Picks!J$1,MATCH($O12,Picks!$F:$F,0)-1,0),"") -> QuinnBet: 200/1, 5pl, 1/4 | V12: 11 | W12: =IFERROR(OFFSET(Picks!M$1,MATCH($O12,Picks!$R:$R,0)-1,0),"") -> Linn Grant | X12: =IFERROR(OFFSET(Picks!U$1,MATCH($O12,Picks!$R:$R,0)-1,0),"") -> -2 | Y12: =IFERROR(OFFSET(Picks!V$1,MATCH($O12,Picks!$R:$R,0)-1,0),"") -> Unibet: 66/1, 6pl, 1/5
O13: 12 | P13: =IFERROR(OFFSET(Picks!A$1,MATCH($O13,Picks!$F:$F,0)-1,0),"") -> Yahui Zhang | Q13: =IFERROR(OFFSET(Picks!I$1,MATCH($O13,Picks!$F:$F,0)-1,0),"") -> -2 | R13: =IFERROR(OFFSET(Picks!J$1,MATCH($O13,Picks!$F:$F,0)-1,0),"") -> QuinnBet: 250/1, 5pl, 1/4 | V13: 12 | W13: =IFERROR(OFFSET(Picks!M$1,MATCH($O13,Picks!$R:$R,0)-1,0),"") -> Sarah Schmelzel | X13: =IFERROR(OFFSET(Picks!U$1,MATCH($O13,Picks!$R:$R,0)-1,0),"") -> -2 | Y13: =IFERROR(OFFSET(Picks!V$1,MATCH($O13,Picks!$R:$R,0)-1,0),"") -> Paddy Power: 70/1, 5pl, 1/4
A27: WIN | B27: 1 | C27: 2 | D27: 3 | E27: 4 | F27: 5 | G27: 6 | H27: 7 | I27: 8 | J27: 9 | K27: 10 | L27: 11 | M27: 12 | N27: FRL | O27: 1 | P27: 2 | Q27: 3 | R27: 4 | S27: 5 | T27: 6 | U27: 7 | V27: 8 | W27: 9 | X27: 10 | Y27: 11 | Z27: 12
B28: =Q2*3 -> -6 | C28: =SUM(Q2:Q3)*1.5 -> -6 | D28: =SUM(Q2:Q4) -> -6 | E28: =SUM(Q2:Q5)*3/4 -> -6 | F28: =SUM(Q2:Q6)*3/5 -> -6 | G28: =SUM(Q2:Q7)*3/6 -> -6 | H28: =SUM(Q2:Q8)*3/7 -> -6 | I28: =SUM(Q2:Q9)*3/8 -> -6 | J28: =SUM(Q2:Q10)*3/9 -> -6 | K28: =SUM(Q2:Q11)*3/10 -> -6 | L28: =SUM(Q2:Q12)*3/11 -> -6 | M28: =SUM(Q2:Q13)*3/12 -> -6 | O28: =X2*3 -> -6 | P28: =SUM(X2:X3)*1.5 -> -6 | Q28: =SUM(X2:X4) -> -6 | R28: =SUM(X2:X5)*3/4 -> -6 | S28: =SUM(X2:X6)*3/5 -> -6 | T28: =SUM(X2:X7)*3/6 -> -6 | U28: =SUM(X2:X8)*3/7 -> -6 | V28: =SUM(X2:X9)*3/9 -> -5.3333333 | W28: =SUM(X2:X10)*3/9 -> -6 | X28: =SUM(X2:X11)*3/10 -> -6 | Y28: =SUM(X2:X12)*3/11 -> -6 | Z28: =SUM(X2:X13)*3/12 -> -6

Sheet Win
A1: Player | B1: Win % | C1: TT Odds | D1: Best Odds | E1: Kelly | F1: Result | G1: P/L | H1: E/W Play
A2: Adela Cernousek | B2: 0.01% | C2: 10000 | D2: 1001 | F2: =IFERROR(IF(A2="","",OFFSET(Results!$AJ$1,MATCH(A2,Results!$A:$A,0)-1,0)),"") -> 136 | G2: =IF(OR(E2="",F2=""),"",IF(F2=1,(IF(COUNTIFS(F:F,"<="&F2)<=1,1,(1-COUNTIFS(F:F,"<"&F2))/COUNTIFS(F:F,F2)))*50*E2*(1+VALUE(MID(H2,FIND(": ",H2)+2,FIND("/",H2)-FIND(":",H2)-2))-1)+50*E2*(1+VALUE(MID(H2,FIND(": ",H2)+2,FIND("/",H2)-FIND(":",H2)-2))-1)/VALUE(RIGHT(H2,1)),IF(F2<=VALUE(MID(H2,FIND(", ",H2)+2,IF(MID(H2,FIND(", ",H2)+2,1)="1",2,1))),(IF(COUNTIFS(F:F,"<="&F2)<=VALUE(MID(H2,FIND(", ",H2)+2,IF(MID(H2,FIND(", ",H2)+2,1)="1",2,1))),1,(VALUE(MID(H2,FIND(", ",H2)+2,IF(MID(H2,FIND(", ",H2)+2,1)="1",2,1)))-COUNTIFS(F:F,"<"&F2))/COUNTIFS(F:F,F2)))*(50*E2*(1+VALUE(MID(H2,FIND(": ",H2)+2,FIND("/",H2)-FIND(":",H2)-2))-1)/VALUE(RIGHT(H2,1))+50*E2)-(100*E2),-E2*100))) | H2: =IF(E2="","",OFFSET([1]LPGA!$AL$1,MATCH(A2,[1]LPGA!$E$1:$E$500,0)-1,0))
A3: Aditi Ashok | B3: 0.20% | C3: 500 | D3: 501 | F3: =IFERROR(IF(A3="","",OFFSET(Results!$AJ$1,MATCH(A3,Results!$A:$A,0)-1,0)),"") -> 37 | G3: =IF(OR(E3="",F3=""),"",IF(F3=1,(IF(COUNTIFS(F:F,"<="&F3)<=1,1,(1-COUNTIFS(F:F,"<"&F3))/COUNTIFS(F:F,F3)))*50*E3*(1+VALUE(MID(H3,FIND(": ",H3)+2,FIND("/",H3)-FIND(":",H3)-2))-1)+50*E3*(1+VALUE(MID(H3,FIND(": ",H3)+2,FIND("/",H3)-FIND(":",H3)-2))-1)/VALUE(RIGHT(H3,1)),IF(F3<=VALUE(MID(H3,FIND(", ",H3)+2,IF(MID(H3,FIND(", ",H3)+2,1)="1",2,1))),(IF(COUNTIFS(F:F,"<="&F3)<=VALUE(MID(H3,FIND(", ",H3)+2,IF(MID(H3,FIND(", ",H3)+2,1)="1",2,1))),1,(VALUE(MID(H3,FIND(", ",H3)+2,IF(MID(H3,FIND(", ",H3)+2,1)="1",2,1)))-COUNTIFS(F:F,"<"&F3))/COUNTIFS(F:F,F3)))*(50*E3*(1+VALUE(MID(H3,FIND(": ",H3)+2,FIND("/",H3)-FIND(":",H3)-2))-1)/VALUE(RIGHT(H3,1))+50*E3)-(100*E3),-E3*100))) | H3: =IF(E3="","",OFFSET([1]LPGA!$AL$1,MATCH(A3,[1]LPGA!$E$1:$E$500,0)-1,0))
A4: Akie Iwai | B4: 1.64% | C4: 61 | D4: 41 | F4: =IFERROR(IF(A4="","",OFFSET(Results!$AJ$1,MATCH(A4,Results!$A:$A,0)-1,0)),"") -> 2 | G4: =IF(OR(E4="",F4=""),"",IF(F4=1,(IF(COUNTIFS(F:F,"<="&F4)<=1,1,(1-COUNTIFS(F:F,"<"&F4))/COUNTIFS(F:F,F4)))*50*E4*(1+VALUE(MID(H4,FIND(": ",H4)+2,FIND("/",H4)-FIND(":",H4)-2))-1)+50*E4*(1+VALUE(MID(H4,FIND(": ",H4)+2,FIND("/",H4)-FIND(":",H4)-2))-1)/VALUE(RIGHT(H4,1)),IF(F4<=VALUE(MID(H4,FIND(", ",H4)+2,IF(MID(H4,FIND(", ",H4)+2,1)="1",2,1))),(IF(COUNTIFS(F:F,"<="&F4)<=VALUE(MID(H4,FIND(", ",H4)+2,IF(MID(H4,FIND(", ",H4)+2,1)="1",2,1))),1,(VALUE(MID(H4,FIND(", ",H4)+2,IF(MID(H4,FIND(", ",H4)+2,1)="1",2,1)))-COUNTIFS(F:F,"<"&F4))/COUNTIFS(F:F,F4)))*(50*E4*(1+VALUE(MID(H4,FIND(": ",H4)+2,FIND("/",H4)-FIND(":",H4)-2))-1)/VALUE(RIGHT(H4,1))+50*E4)-(100*E4),-E4*100))) | H4: =IF(E4="","",OFFSET([1]LPGA!$AL$1,MATCH(A4,[1]LPGA!$E$1:$E$500,0)-1,0))
A5: Albane Valenzuela | B5: 0.55% | C5: 182 | D5: 251 | E5: 0.20% | F5: =IFERROR(IF(A5="","",OFFSET(Results!$AJ$1,MATCH(A5,Results!$A:$A,0)-1,0)),"") -> 126 | G5: =IF(OR(E5="",F5=""),"",IF(F5=1,(IF(COUNTIFS(F:F,"<="&F5)<=1,1,(1-COUNTIFS(F:F,"<"&F5))/COUNTIFS(F:F,F5)))*50*E5*(1+VALUE(MID(H5,FIND(": ",H5)+2,FIND("/",H5)-FIND(":",H5)-2))-1)+50*E5*(1+VALUE(MID(H5,FIND(": ",H5)+2,FIND("/",H5)-FIND(":",H5)-2))-1)/VALUE(RIGHT(H5,1)),IF(F5<=VALUE(MID(H5,FIND(", ",H5)+2,IF(MID(H5,FIND(", ",H5)+2,1)="1",2,1))),(IF(COUNTIFS(F:F,"<="&F5)<=VALUE(MID(H5,FIND(", ",H5)+2,IF(MID(H5,FIND(", ",H5)+2,1)="1",2,1))),1,(VALUE(MID(H5,FIND(", ",H5)+2,IF(MID(H5,FIND(", ",H5)+2,1)="1",2,1)))-COUNTIFS(F:F,"<"&F5))/COUNTIFS(F:F,F5)))*(50*E5*(1+VALUE(MID(H5,FIND(": ",H5)+2,FIND("/",H5)-FIND(":",H5)-2))-1)/VALUE(RIGHT(H5,1))+50*E5)-(100*E5),-E5*100))) -> -0.2 | H5: =IF(E5="","",OFFSET([1]LPGA!$AL$1,MATCH(A5,[1]LPGA!$E$1:$E$500,0)-1,0)) -> QuinnBet: 250/1, 5pl, 1/4
A6: Alena Sharp | B6: 0.24% | C6: 417 | D6: 601 | E6: 0.10% | F6: =IFERROR(IF(A6="","",OFFSET(Results!$AJ$1,MATCH(A6,Results!$A:$A,0)-1,0)),"") -> 133 | G6: =IF(OR(E6="",F6=""),"",IF(F6=1,(IF(COUNTIFS(F:F,"<="&F6)<=1,1,(1-COUNTIFS(F:F,"<"&F6))/COUNTIFS(F:F,F6)))*50*E6*(1+VALUE(MID(H6,FIND(": ",H6)+2,FIND("/",H6)-FIND(":",H6)-2))-1)+50*E6*(1+VALUE(MID(H6,FIND(": ",H6)+2,FIND("/",H6)-FIND(":",H6)-2))-1)/VALUE(RIGHT(H6,1)),IF(F6<=VALUE(MID(H6,FIND(", ",H6)+2,IF(MID(H6,FIND(", ",H6)+2,1)="1",2,1))),(IF(COUNTIFS(F:F,"<="&F6)<=VALUE(MID(H6,FIND(", ",H6)+2,IF(MID(H6,FIND(", ",H6)+2,1)="1",2,1))),1,(VALUE(MID(H6,FIND(", ",H6)+2,IF(MID(H6,FIND(", ",H6)+2,1)="1",2,1)))-COUNTIFS(F:F,"<"&F6))/COUNTIFS(F:F,F6)))*(50*E6*(1+VALUE(MID(H6,FIND(": ",H6)+2,FIND("/",H6)-FIND(":",H6)-2))-1)/VALUE(RIGHT(H6,1))+50*E6)-(100*E6),-E6*100))) -> -0.1 | H6: =IF(E6="","",OFFSET([1]LPGA!$AL$1,MATCH(A6,[1]LPGA!$E$1:$E$500,0)-1,0)) -> Skybet: 600/1, 6pl, 1/5
A7: Alexa Pano | B7: 0.13% | C7: 769 | D7: 601 | F7: =IFERROR(IF(A7="","",OFFSET(Results!$AJ$1,MATCH(A7,Results!$A:$A,0)-1,0)),"") -> 32 | G7: =IF(OR(E7="",F7=""),"",IF(F7=1,(IF(COUNTIFS(F:F,"<="&F7)<=1,1,(1-COUNTIFS(F:F,"<"&F7))/COUNTIFS(F:F,F7)))*50*E7*(1+VALUE(MID(H7,FIND(": ",H7)+2,FIND("/",H7)-FIND(":",H7)-2))-1)+50*E7*(1+VALUE(MID(H7,FIND(": ",H7)+2,FIND("/",H7)-FIND(":",H7)-2))-1)/VALUE(RIGHT(H7,1)),IF(F7<=VALUE(MID(H7,FIND(", ",H7)+2,IF(MID(H7,FIND(", ",H7)+2,1)="1",2,1))),(IF(COUNTIFS(F:F,"<="&F7)<=VALUE(MID(H7,FIND(", ",H7)+2,IF(MID(H7,FIND(", ",H7)+2,1)="1",2,1))),1,(VALUE(MID(H7,FIND(", ",H7)+2,IF(MID(H7,FIND(", ",H7)+2,1)="1",2,1)))-COUNTIFS(F:F,"<"&F7))/COUNTIFS(F:F,F7)))*(50*E7*(1+VALUE(MID(H7,FIND(": ",H7)+2,FIND("/",H7)-FIND(":",H7)-2))-1)/VALUE(RIGHT(H7,1))+50*E7)-(100*E7),-E7*100))) | H7: =IF(E7="","",OFFSET([1]LPGA!$AL$1,MATCH(A7,[1]LPGA!$E$1:$E$500,0)-1,0))
A8: Allisen Corpuz | B8: 2.49% | C8: 40 | D8: 36 | F8: =IFERROR(IF(A8="","",OFFSET(Results!$AJ$1,MATCH(A8,Results!$A:$A,0)-1,0)),"") -> 57 | G8: =IF(OR(E8="",F8=""),"",IF(F8=1,(IF(COUNTIFS(F:F,"<="&F8)<=1,1,(1-COUNTIFS(F:F,"<"&F8))/COUNTIFS(F:F,F8)))*50*E8*(1+VALUE(MID(H8,FIND(": ",H8)+2,FIND("/",H8)-FIND(":",H8)-2))-1)+50*E8*(1+VALUE(MID(H8,FIND(": ",H8)+2,FIND("/",H8)-FIND(":",H8)-2))-1)/VALUE(RIGHT(H8,1)),IF(F8<=VALUE(MID(H8,FIND(", ",H8)+2,IF(MID(H8,FIND(", ",H8)+2,1)="1",2,1))),(IF(COUNTIFS(F:F,"<="&F8)<=VALUE(MID(H8,FIND(", ",H8)+2,IF(MID(H8,FIND(", ",H8)+2,1)="1",2,1))),1,(VALUE(MID(H8,FIND(", ",H8)+2,IF(MID(H8,FIND(", ",H8)+2,1)="1",2,1)))-COUNTIFS(F:F,"<"&F8))/COUNTIFS(F:F,F8)))*(50*E8*(1+VALUE(MID(H8,FIND(": ",H8)+2,FIND("/",H8)-FIND(":",H8)-2))-1)/VALUE(RIGHT(H8,1))+50*E8)-(100*E8),-E8*100))) | H8: =IF(E8="","",OFFSET([1]LPGA!$AL$1,MATCH(A8,[1]LPGA!$E$1:$E$500,0)-1,0))
A9: Amanda Doherty | B9: 0.18% | C9: 556 | D9: 501 | F9: =IFERROR(IF(A9="","",OFFSET(Results!$AJ$1,MATCH(A9,Results!$A:$A,0)-1,0)),"") -> 74 | G9: =IF(OR(E9="",F9=""),"",IF(F9=1,(IF(COUNTIFS(F:F,"<="&F9)<=1,1,(1-COUNTIFS(F:F,"<"&F9))/COUNTIFS(F:F,F9)))*50*E9*(1+VALUE(MID(H9,FIND(": ",H9)+2,FIND("/",H9)-FIND(":",H9)-2))-1)+50*E9*(1+VALUE(MID(H9,FIND(": ",H9)+2,FIND("/",H9)-FIND(":",H9)-2))-1)/VALUE(RIGHT(H9,1)),IF(F9<=VALUE(MID(H9,FIND(", ",H9)+2,IF(MID(H9,FIND(", ",H9)+2,1)="1",2,1))),(IF(COUNTIFS(F:F,"<="&F9)<=VALUE(MID(H9,FIND(", ",H9)+2,IF(MID(H9,FIND(", ",H9)+2,1)="1",2,1))),1,(VALUE(MID(H9,FIND(", ",H9)+2,IF(MID(H9,FIND(", ",H9)+2,1)="1",2,1)))-COUNTIFS(F:F,"<"&F9))/COUNTIFS(F:F,F9)))*(50*E9*(1+VALUE(MID(H9,FIND(": ",H9)+2,FIND("/",H9)-FIND(":",H9)-2))-1)/VALUE(RIGHT(H9,1))+50*E9)-(100*E9),-E9*100))) | H9: =IF(E9="","",OFFSET([1]LPGA!$AL$1,MATCH(A9,[1]LPGA!$E$1:$E$500,0)-1,0))
A10: Ana Belac | B10: 0.09% | C10: 1111 | D10: 1001 | F10: =IFERROR(IF(A10="","",OFFSET(Results!$AJ$1,MATCH(A10,Results!$A:$A,0)-1,0)),"") -> 135 | G10: =IF(OR(E10="",F10=""),"",IF(F10=1,(IF(COUNTIFS(F:F,"<="&F10)<=1,1,(1-COUNTIFS(F:F,"<"&F10))/COUNTIFS(F:F,F10)))*50*E10*(1+VALUE(MID(H10,FIND(": ",H10)+2,FIND("/",H10)-FIND(":",H10)-2))-1)+50*E10*(1+VALUE(MID(H10,FIND(": ",H10)+2,FIND("/",H10)-FIND(":",H10)-2))-1)/VALUE(RIGHT(H10,1)),IF(F10<=VALUE(MID(H10,FIND(", ",H10)+2,IF(MID(H10,FIND(", ",H10)+2,1)="1",2,1))),(IF(COUNTIFS(F:F,"<="&F10)<=VALUE(MID(H10,FIND(", ",H10)+2,IF(MID(H10,FIND(", ",H10)+2,1)="1",2,1))),1,(VALUE(MID(H10,FIND(", ",H10)+2,IF(MID(H10,FIND(", ",H10)+2,1)="1",2,1)))-COUNTIFS(F:F,"<"&F10))/COUNTIFS(F:F,F10)))*(50*E10*(1+VALUE(MID(H10,FIND(": ",H10)+2,FIND("/",H10)-FIND(":",H10)-2))-1)/VALUE(RIGHT(H10,1))+50*E10)-(100*E10),-E10*100))) | H10: =IF(E10="","",OFFSET([1]LPGA!$AL$1,MATCH(A10,[1]LPGA!$E$1:$E$500,0)-1,0))
A11: Andrea Lee | B11: 0.45% | C11: 222 | D11: 201 | F11: =IFERROR(IF(A11="","",OFFSET(Results!$AJ$1,MATCH(A11,Results!$A:$A,0)-1,0)),"") -> 47 | G11: =IF(OR(E11="",F11=""),"",IF(F11=1,(IF(COUNTIFS(F:F,"<="&F11)<=1,1,(1-COUNTIFS(F:F,"<"&F11))/COUNTIFS(F:F,F11)))*50*E11*(1+VALUE(MID(H11,FIND(": ",H11)+2,FIND("/",H11)-FIND(":",H11)-2))-1)+50*E11*(1+VALUE(MID(H11,FIND(": ",H11)+2,FIND("/",H11)-FIND(":",H11)-2))-1)/VALUE(RIGHT(H11,1)),IF(F11<=VALUE(MID(H11,FIND(", ",H11)+2,IF(MID(H11,FIND(", ",H11)+2,1)="1",2,1))),(IF(COUNTIFS(F:F,"<="&F11)<=VALUE(MID(H11,FIND(", ",H11)+2,IF(MID(H11,FIND(", ",H11)+2,1)="1",2,1))),1,(VALUE(MID(H11,FIND(", ",H11)+2,IF(MID(H11,FIND(", ",H11)+2,1)="1",2,1)))-COUNTIFS(F:F,"<"&F11))/COUNTIFS(F:F,F11)))*(50*E11*(1+VALUE(MID(H11,FIND(": ",H11)+2,FIND("/",H11)-FIND(":",H11)-2))-1)/VALUE(RIGHT(H11,1))+50*E11)-(100*E11),-E11*100))) | H11: =IF(E11="","",OFFSET([1]LPGA!$AL$1,MATCH(A11,[1]LPGA!$E$1:$E$500,0)-1,0))
A12: Angel Yin | B12: 2.75% | C12: 36 | D12: 23 | F12: =IFERROR(IF(A12="","",OFFSET(Results!$AJ$1,MATCH(A12,Results!$A:$A,0)-1,0)),"") -> 37 | G12: =IF(OR(E12="",F12=""),"",IF(F12=1,(IF(COUNTIFS(F:F,"<="&F12)<=1,1,(1-COUNTIFS(F:F,"<"&F12))/COUNTIFS(F:F,F12)))*50*E12*(1+VALUE(MID(H12,FIND(": ",H12)+2,FIND("/",H12)-FIND(":",H12)-2))-1)+50*E12*(1+VALUE(MID(H12,FIND(": ",H12)+2,FIND("/",H12)-FIND(":",H12)-2))-1)/VALUE(RIGHT(H12,1)),IF(F12<=VALUE(MID(H12,FIND(", ",H12)+2,IF(MID(H12,FIND(", ",H12)+2,1)="1",2,1))),(IF(COUNTIFS(F:F,"<="&F12)<=VALUE(MID(H12,FIND(", ",H12)+2,IF(MID(H12,FIND(", ",H12)+2,1)="1",2,1))),1,(VALUE(MID(H12,FIND(", ",H12)+2,IF(MID(H12,FIND(", ",H12)+2,1)="1",2,1)))-COUNTIFS(F:F,"<"&F12))/COUNTIFS(F:F,F12)))*(50*E12*(1+VALUE(MID(H12,FIND(": ",H12)+2,FIND("/",H12)-FIND(":",H12)-2))-1)/VALUE(RIGHT(H12,1))+50*E12)-(100*E12),-E12*100))) | H12: =IF(E12="","",OFFSET([1]LPGA!$AL$1,MATCH(A12,[1]LPGA!$E$1:$E$500,0)-1,0))
A13: Anna Nordqvist | B13: 0.15% | C13: 667 | D13: 501 | F13: =IFERROR(IF(A13="","",OFFSET(Results!$AJ$1,MATCH(A13,Results!$A:$A,0)-1,0)),"") -> 110 | G13: =IF(OR(E13="",F13=""),"",IF(F13=1,(IF(COUNTIFS(F:F,"<="&F13)<=1,1,(1-COUNTIFS(F:F,"<"&F13))/COUNTIFS(F:F,F13)))*50*E13*(1+VALUE(MID(H13,FIND(": ",H13)+2,FIND("/",H13)-FIND(":",H13)-2))-1)+50*E13*(1+VALUE(MID(H13,FIND(": ",H13)+2,FIND("/",H13)-FIND(":",H13)-2))-1)/VALUE(RIGHT(H13,1)),IF(F13<=VALUE(MID(H13,FIND(", ",H13)+2,IF(MID(H13,FIND(", ",H13)+2,1)="1",2,1))),(IF(COUNTIFS(F:F,"<="&F13)<=VALUE(MID(H13,FIND(", ",H13)+2,IF(MID(H13,FIND(", ",H13)+2,1)="1",2,1))),1,(VALUE(MID(H13,FIND(", ",H13)+2,IF(MID(H13,FIND(", ",H13)+2,1)="1",2,1)))-COUNTIFS(F:F,"<"&F13))/COUNTIFS(F:F,F13)))*(50*E13*(1+VALUE(MID(H13,FIND(": ",H13)+2,FIND("/",H13)-FIND(":",H13)-2))-1)/VALUE(RIGHT(H13,1))+50*E13)-(100*E13),-E13*100))) | H13: =IF(E13="","",OFFSET([1]LPGA!$AL$1,MATCH(A13,[1]LPGA!$E$1:$E$500,0)-1,0))
A14: Arpichaya Yubol | B14: 0.26% | C14: 385 | D14: 301 | F14: =IFERROR(IF(A14="","",OFFSET(Results!$AJ$1,MATCH(A14,Results!$A:$A,0)-1,0)),"") -> 100 | G14: =IF(OR(E14="",F14=""),"",IF(F14=1,(IF(COUNTIFS(F:F,"<="&F14)<=1,1,(1-COUNTIFS(F:F,"<"&F14))/COUNTIFS(F:F,F14)))*50*E14*(1+VALUE(MID(H14,FIND(": ",H14)+2,FIND("/",H14)-FIND(":",H14)-2))-1)+50*E14*(1+VALUE(MID(H14,FIND(": ",H14)+2,FIND("/",H14)-FIND(":",H14)-2))-1)/VALUE(RIGHT(H14,1)),IF(F14<=VALUE(MID(H14,FIND(", ",H14)+2,IF(MID(H14,FIND(", ",H14)+2,1)="1",2,1))),(IF(COUNTIFS(F:F,"<="&F14)<=VALUE(MID(H14,FIND(", ",H14)+2,IF(MID(H14,FIND(", ",H14)+2,1)="1",2,1))),1,(VALUE(MID(H14,FIND(", ",H14)+2,IF(MID(H14,FIND(", ",H14)+2,1)="1",2,1)))-COUNTIFS(F:F,"<"&F14))/COUNTIFS(F:F,F14)))*(50*E14*(1+VALUE(MID(H14,FIND(": ",H14)+2,FIND("/",H14)-FIND(":",H14)-2))-1)/VALUE(RIGHT(H14,1))+50*E14)-(100*E14),-E14*100))) | H14: =IF(E14="","",OFFSET([1]LPGA!$AL$1,MATCH(A14,[1]LPGA!$E$1:$E$500,0)-1,0))
A15: Ashleigh Buhai | B15: 1.13% | C15: 88 | D15: 67 | F15: =IFERROR(IF(A15="","",OFFSET(Results!$AJ$1,MATCH(A15,Results!$A:$A,0)-1,0)),"") -> 37 | G15: =IF(OR(E15="",F15=""),"",IF(F15=1,(IF(COUNTIFS(F:F,"<="&F15)<=1,1,(1-COUNTIFS(F:F,"<"&F15))/COUNTIFS(F:F,F15)))*50*E15*(1+VALUE(MID(H15,FIND(": ",H15)+2,FIND("/",H15)-FIND(":",H15)-2))-1)+50*E15*(1+VALUE(MID(H15,FIND(": ",H15)+2,FIND("/",H15)-FIND(":",H15)-2))-1)/VALUE(RIGHT(H15,1)),IF(F15<=VALUE(MID(H15,FIND(", ",H15)+2,IF(MID(H15,FIND(", ",H15)+2,1)="1",2,1))),(IF(COUNTIFS(F:F,"<="&F15)<=VALUE(MID(H15,FIND(", ",H15)+2,IF(MID(H15,FIND(", ",H15)+2,1)="1",2,1))),1,(VALUE(MID(H15,FIND(", ",H15)+2,IF(MID(H15,FIND(", ",H15)+2,1)="1",2,1)))-COUNTIFS(F:F,"<"&F15))/COUNTIFS(F:F,F15)))*(50*E15*(1+VALUE(MID(H15,FIND(": ",H15)+2,FIND("/",H15)-FIND(":",H15)-2))-1)/VALUE(RIGHT(H15,1))+50*E15)-(100*E15),-E15*100))) | H15: =IF(E15="","",OFFSET([1]LPGA!$AL$1,MATCH(A15,[1]LPGA!$E$1:$E$500,0)-1,0))
A16: Asterisk Talley | B16: 0.31% | C16: 323 | D16: 176 | F16: =IFERROR(IF(A16="","",OFFSET(Results!$AJ$1,MATCH(A16,Results!$A:$A,0)-1,0)),"") -> 74 | G16: =IF(OR(E16="",F16=""),"",IF(F16=1,(IF(COUNTIFS(F:F,"<="&F16)<=1,1,(1-COUNTIFS(F:F,"<"&F16))/COUNTIFS(F:F,F16)))*50*E16*(1+VALUE(MID(H16,FIND(": ",H16)+2,FIND("/",H16)-FIND(":",H16)-2))-1)+50*E16*(1+VALUE(MID(H16,FIND(": ",H16)+2,FIND("/",H16)-FIND(":",H16)-2))-1)/VALUE(RIGHT(H16,1)),IF(F16<=VALUE(MID(H16,FIND(", ",H16)+2,IF(MID(H16,FIND(", ",H16)+2,1)="1",2,1))),(IF(COUNTIFS(F:F,"<="&F16)<=VALUE(MID(H16,FIND(", ",H16)+2,IF(MID(H16,FIND(", ",H16)+2,1)="1",2,1))),1,(VALUE(MID(H16,FIND(", ",H16)+2,IF(MID(H16,FIND(", ",H16)+2,1)="1",2,1)))-COUNTIFS(F:F,"<"&F16))/COUNTIFS(F:F,F16)))*(50*E16*(1+VALUE(MID(H16,FIND(": ",H16)+2,FIND("/",H16)-FIND(":",H16)-2))-1)/VALUE(RIGHT(H16,1))+50*E16)-(100*E16),-E16*100))) | H16: =IF(E16="","",OFFSET([1]LPGA!$AL$1,MATCH(A16,[1]LPGA!$E$1:$E$500,0)-1,0))
A17: Auston Kim | B17: 0.55% | C17: 182 | D17: 151 | F17: =IFERROR(IF(A17="","",OFFSET(Results!$AJ$1,MATCH(A17,Results!$A:$A,0)-1,0)),"") -> 85 | G17: =IF(OR(E17="",F17=""),"",IF(F17=1,(IF(COUNTIFS(F:F,"<="&F17)<=1,1,(1-COUNTIFS(F:F,"<"&F17))/COUNTIFS(F:F,F17)))*50*E17*(1+VALUE(MID(H17,FIND(": ",H17)+2,FIND("/",H17)-FIND(":",H17)-2))-1)+50*E17*(1+VALUE(MID(H17,FIND(": ",H17)+2,FIND("/",H17)-FIND(":",H17)-2))-1)/VALUE(RIGHT(H17,1)),IF(F17<=VALUE(MID(H17,FIND(", ",H17)+2,IF(MID(H17,FIND(", ",H17)+2,1)="1",2,1))),(IF(COUNTIFS(F:F,"<="&F17)<=VALUE(MID(H17,FIND(", ",H17)+2,IF(MID(H17,FIND(", ",H17)+2,1)="1",2,1))),1,(VALUE(MID(H17,FIND(", ",H17)+2,IF(MID(H17,FIND(", ",H17)+2,1)="1",2,1)))-COUNTIFS(F:F,"<"&F17))/COUNTIFS(F:F,F17)))*(50*E17*(1+VALUE(MID(H17,FIND(": ",H17)+2,FIND("/",H17)-FIND(":",H17)-2))-1)/VALUE(RIGHT(H17,1))+50*E17)-(100*E17),-E17*100))) | H17: =IF(E17="","",OFFSET([1]LPGA!$AL$1,MATCH(A17,[1]LPGA!$E$1:$E$500,0)-1,0))
A18: Ayaka Furue | B18: 3.84% | C18: 26 | D18: 19 | F18: =IFERROR(IF(A18="","",OFFSET(Results!$AJ$1,MATCH(A18,Results!$A:$A,0)-1,0)),"") -> 20 | G18: =IF(OR(E18="",F18=""),"",IF(F18=1,(IF(COUNTIFS(F:F,"<="&F18)<=1,1,(1-COUNTIFS(F:F,"<"&F18))/COUNTIFS(F:F,F18)))*50*E18*(1+VALUE(MID(H18,FIND(": ",H18)+2,FIND("/",H18)-FIND(":",H18)-2))-1)+50*E18*(1+VALUE(MID(H18,FIND(": ",H18)+2,FIND("/",H18)-FIND(":",H18)-2))-1)/VALUE(RIGHT(H18,1)),IF(F18<=VALUE(MID(H18,FIND(", ",H18)+2,IF(MID(H18,FIND(", ",H18)+2,1)="1",2,1))),(IF(COUNTIFS(F:F,"<="&F18)<=VALUE(MID(H18,FIND(", ",H18)+2,IF(MID(H18,FIND(", ",H18)+2,1)="1",2,1))),1,(VALUE(MID(H18,FIND(", ",H18)+2,IF(MID(H18,FIND(", ",H18)+2,1)="1",2,1)))-COUNTIFS(F:F,"<"&F18))/COUNTIFS(F:F,F18)))*(50*E18*(1+VALUE(MID(H18,FIND(": ",H18)+2,FIND("/",H18)-FIND(":",H18)-2))-1)/VALUE(RIGHT(H18,1))+50*E18)-(100*E18),-E18*100))) | H18: =IF(E18="","",OFFSET([1]LPGA!$AL$1,MATCH(A18,[1]LPGA!$E$1:$E$500,0)-1,0))
... A38: Dewi Weber | B38: 0.20% | C38: 500 | D38: 601 | F38: =IFERROR(IF(A38="","",OFFSET(Results!$AJ$1,MATCH(A38,Results!$A:$A,0)-1,0)),"") -> 100 | G38: =IF(OR(E38="",F38=""),"",IF(F38=1,(IF(COUNTIFS(F:F,"<="&F38)<=1,1,(1-COUNTIFS(F:F,"<"&F38))/COUNTIFS(F:F,F38)))*50*E38*(1+VALUE(MID(H38,FIND(": ",H38)+2,FIND("/",H38)-FIND(":",H38)-2))-1)+50*E38*(1+VALUE(MID(H38,FIND(": ",H38)+2,FIND("/",H38)-FIND(":",H38)-2))-1)/VALUE(RIGHT(H38,1)),IF(F38<=VALUE(MID(H38,FIND(", ",H38)+2,IF(MID(H38,FIND(", ",H38)+2,1)="1",2,1))),(IF(COUNTIFS(F:F,"<="&F38)<=VALUE(MID(H38,FIND(", ",H38)+2,IF(MID(H38,FIND(", ",H38)+2,1)="1",2,1))),1,(VALUE(MID(H38,FIND(", ",H38)+2,IF(MID(H38,FIND(", ",H38)+2,1)="1",2,1)))-COUNTIFS(F:F,"<"&F38))/COUNTIFS(F:F,F38)))*(50*E38*(1+VALUE(MID(H38,FIND(": ",H38)+2,FIND("/",H38)-FIND(":",H38)-2))-1)/VALUE(RIGHT(H38,1))+50*E38)-(100*E38),-E38*100))) | H38: =IF(E38="","",OFFSET([1]LPGA!$AL$1,MATCH(A38,[1]LPGA!$E$1:$E$500,0)-1,0))
A39: Elizabeth Szokol | B39: 0.44% | C39: 227 | D39: 501 | E39: 0.20% | F39: =IFERROR(IF(A39="","",OFFSET(Results!$AJ$1,MATCH(A39,Results!$A:$A,0)-1,0)),"") -> 126 | G39: =IF(OR(E39="",F39=""),"",IF(F39=1,(IF(COUNTIFS(F:F,"<="&F39)<=1,1,(1-COUNTIFS(F:F,"<"&F39))/COUNTIFS(F:F,F39)))*50*E39*(1+VALUE(MID(H39,FIND(": ",H39)+2,FIND("/",H39)-FIND(":",H39)-2))-1)+50*E39*(1+VALUE(MID(H39,FIND(": ",H39)+2,FIND("/",H39)-FIND(":",H39)-2))-1)/VALUE(RIGHT(H39,1)),IF(F39<=VALUE(MID(H39,FIND(", ",H39)+2,IF(MID(H39,FIND(", ",H39)+2,1)="1",2,1))),(IF(COUNTIFS(F:F,"<="&F39)<=VALUE(MID(H39,FIND(", ",H39)+2,IF(MID(H39,FIND(", ",H39)+2,1)="1",2,1))),1,(VALUE(MID(H39,FIND(", ",H39)+2,IF(MID(H39,FIND(", ",H39)+2,1)="1",2,1)))-COUNTIFS(F:F,"<"&F39))/COUNTIFS(F:F,F39)))*(50*E39*(1+VALUE(MID(H39,FIND(": ",H39)+2,FIND("/",H39)-FIND(":",H39)-2))-1)/VALUE(RIGHT(H39,1))+50*E39)-(100*E39),-E39*100))) -> -0.2 | H39: =IF(E39="","",OFFSET([1]LPGA!$AL$1,MATCH(A39,[1]LPGA!$E$1:$E$500,0)-1,0)) -> QuinnBet: 500/1, 5pl, 1/4
A40: Emily Kristine Pedersen | B40: 0.15% | C40: 667 | D40: 301 | F40: =IFERROR(IF(A40="","",OFFSET(Results!$AJ$1,MATCH(A40,Results!$A:$A,0)-1,0)),"") -> 28 | G40: =IF(OR(E40="",F40=""),"",IF(F40=1,(IF(COUNTIFS(F:F,"<="&F40)<=1,1,(1-COUNTIFS(F:F,"<"&F40))/COUNTIFS(F:F,F40)))*50*E40*(1+VALUE(MID(H40,FIND(": ",H40)+2,FIND("/",H40)-FIND(":",H40)-2))-1)+50*E40*(1+VALUE(MID(H40,FIND(": ",H40)+2,FIND("/",H40)-FIND(":",H40)-2))-1)/VALUE(RIGHT(H40,1)),IF(F40<=VALUE(MID(H40,FIND(", ",H40)+2,IF(MID(H40,FIND(", ",H40)+2,1)="1",2,1))),(IF(COUNTIFS(F:F,"<="&F40)<=VALUE(MID(H40,FIND(", ",H40)+2,IF(MID(H40,FIND(", ",H40)+2,1)="1",2,1))),1,(VALUE(MID(H40,FIND(", ",H40)+2,IF(MID(H40,FIND(", ",H40)+2,1)="1",2,1)))-COUNTIFS(F:F,"<"&F40))/COUNTIFS(F:F,F40)))*(50*E40*(1+VALUE(MID(H40,FIND(": ",H40)+2,FIND("/",H40)-FIND(":",H40)-2))-1)/VALUE(RIGHT(H40,1))+50*E40)-(100*E40),-E40*100))) | H40: =IF(E40="","",OFFSET([1]LPGA!$AL$1,MATCH(A40,[1]LPGA!$E$1:$E$500,0)-1,0))
A41: Esther Henseleit | B41: 0.60% | C41: 167 | D41: 151 | F41: =IFERROR(IF(A41="","",OFFSET(Results!$AJ$1,MATCH(A41,Results!$A:$A,0)-1,0)),"") -> 3 | G41: =IF(OR(E41="",F41=""),"",IF(F41=1,(IF(COUNTIFS(F:F,"<="&F41)<=1,1,(1-COUNTIFS(F:F,"<"&F41))/COUNTIFS(F:F,F41)))*50*E41*(1+VALUE(MID(H41,FIND(": ",H41)+2,FIND("/",H41)-FIND(":",H41)-2))-1)+50*E41*(1+VALUE(MID(H41,FIND(": ",H41)+2,FIND("/",H41)-FIND(":",H41)-2))-1)/VALUE(RIGHT(H41,1)),IF(F41<=VALUE(MID(H41,FIND(", ",H41)+2,IF(MID(H41,FIND(", ",H41)+2,1)="1",2,1))),(IF(COUNTIFS(F:F,"<="&F41)<=VALUE(MID(H41,FIND(", ",H41)+2,IF(MID(H41,FIND(", ",H41)+2,1)="1",2,1))),1,(VALUE(MID(H41,FIND(", ",H41)+2,IF(MID(H41,FIND(", ",H41)+2,1)="1",2,1)))-COUNTIFS(F:F,"<"&F41))/COUNTIFS(F:F,F41)))*(50*E41*(1+VALUE(MID(H41,FIND(": ",H41)+2,FIND("/",H41)-FIND(":",H41)-2))-1)/VALUE(RIGHT(H41,1))+50*E41)-(100*E41),-E41*100))) | H41: =IF(E41="","",OFFSET([1]LPGA!$AL$1,MATCH(A41,[1]LPGA!$E$1:$E$500,0)-1,0))
A42: Eun-Hee Ji | B42: 0.03% | C42: 3333 | D42: 1501 | F42: =IFERROR(IF(A42="","",OFFSET(Results!$AJ$1,MATCH(A42,Results!$A:$A,0)-1,0)),"") -> 118 | G42: =IF(OR(E42="",F42=""),"",IF(F42=1,(IF(COUNTIFS(F:F,"<="&F42)<=1,1,(1-COUNTIFS(F:F,"<"&F42))/COUNTIFS(F:F,F42)))*50*E42*(1+VALUE(MID(H42,FIND(": ",H42)+2,FIND("/",H42)-FIND(":",H42)-2))-1)+50*E42*(1+VALUE(MID(H42,FIND(": ",H42)+2,FIND("/",H42)-FIND(":",H42)-2))-1)/VALUE(RIGHT(H42,1)),IF(F42<=VALUE(MID(H42,FIND(", ",H42)+2,IF(MID(H42,FIND(", ",H42)+2,1)="1",2,1))),(IF(COUNTIFS(F:F,"<="&F42)<=VALUE(MID(H42,FIND(", ",H42)+2,IF(MID(H42,FIND(", ",H42)+2,1)="1",2,1))),1,(VALUE(MID(H42,FIND(", ",H42)+2,IF(MID(H42,FIND(", ",H42)+2,1)="1",2,1)))-COUNTIFS(F:F,"<"&F42))/COUNTIFS(F:F,F42)))*(50*E42*(1+VALUE(MID(H42,FIND(": ",H42)+2,FIND("/",H42)-FIND(":",H42)-2))-1)/VALUE(RIGHT(H42,1))+50*E42)-(100*E42),-E42*100))) | H42: =IF(E42="","",OFFSET([1]LPGA!$AL$1,MATCH(A42,[1]LPGA!$E$1:$E$500,0)-1,0))
A43: Fatima Fernandez Cano | B43: 0.05% | C43: 2000 | D43: 501 | F43: =IFERROR(IF(A43="","",OFFSET(Results!$AJ$1,MATCH(A43,Results!$A:$A,0)-1,0)),"") -> 74 | G43: =IF(OR(E43="",F43=""),"",IF(F43=1,(IF(COUNTIFS(F:F,"<="&F43)<=1,1,(1-COUNTIFS(F:F,"<"&F43))/COUNTIFS(F:F,F43)))*50*E43*(1+VALUE(MID(H43,FIND(": ",H43)+2,FIND("/",H43)-FIND(":",H43)-2))-1)+50*E43*(1+VALUE(MID(H43,FIND(": ",H43)+2,FIND("/",H43)-FIND(":",H43)-2))-1)/VALUE(RIGHT(H43,1)),IF(F43<=VALUE(MID(H43,FIND(", ",H43)+2,IF(MID(H43,FIND(", ",H43)+2,1)="1",2,1))),(IF(COUNTIFS(F:F,"<="&F43)<=VALUE(MID(H43,FIND(", ",H43)+2,IF(MID(H43,FIND(", ",H43)+2,1)="1",2,1))),1,(VALUE(MID(H43,FIND(", ",H43)+2,IF(MID(H43,FIND(", ",H43)+2,1)="1",2,1)))-COUNTIFS(F:F,"<"&F43))/COUNTIFS(F:F,F43)))*(50*E43*(1+VALUE(MID(H43,FIND(": ",H43)+2,FIND("/",H43)-FIND(":",H43)-2))-1)/VALUE(RIGHT(H43,1))+50*E43)-(100*E43),-E43*100))) | H43: =IF(E43="","",OFFSET([1]LPGA!$AL$1,MATCH(A43,[1]LPGA!$E$1:$E$500,0)-1,0))
A44: Fiona Xu | B44: 0.03% | C44: 3333 | D44: 1001 | F44: =IFERROR(IF(A44="","",OFFSET(Results!$AJ$1,MATCH(A44,Results!$A:$A,0)-1,0)),"") -> 141 | G44: =IF(OR(E44="",F44=""),"",IF(F44=1,(IF(COUNTIFS(F:F,"<="&F44)<=1,1,(1-COUNTIFS(F:F,"<"&F44))/COUNTIFS(F:F,F44)))*50*E44*(1+VALUE(MID(H44,FIND(": ",H44)+2,FIND("/",H44)-FIND(":",H44)-2))-1)+50*E44*(1+VALUE(MID(H44,FIND(": ",H44)+2,FIND("/",H44)-FIND(":",H44)-2))-1)/VALUE(RIGHT(H44,1)),IF(F44<=VALUE(MID(H44,FIND(", ",H44)+2,IF(MID(H44,FIND(", ",H44)+2,1)="1",2,1))),(IF(COUNTIFS(F:F,"<="&F44)<=VALUE(MID(H44,FIND(", ",H44)+2,IF(MID(H44,FIND(", ",H44)+2,1)="1",2,1))),1,(VALUE(MID(H44,FIND(", ",H44)+2,IF(MID(H44,FIND(", ",H44)+2,1)="1",2,1)))-COUNTIFS(F:F,"<"&F44))/COUNTIFS(F:F,F44)))*(50*E44*(1+VALUE(MID(H44,FIND(": ",H44)+2,FIND("/",H44)-FIND(":",H44)-2))-1)/VALUE(RIGHT(H44,1))+50*E44)-(100*E44),-E44*100))) | H44: =IF(E44="","",OFFSET([1]LPGA!$AL$1,MATCH(A44,[1]LPGA!$E$1:$E$500,0)-1,0))
A45: Frida Kinhult | B45: 0.11% | C45: 909 | D45: 501 | F45: =IFERROR(IF(A45="","",OFFSET(Results!$AJ$1,MATCH(A45,Results!$A:$A,0)-1,0)),"") -> 28 | G45: =IF(OR(E45="",F45=""),"",IF(F45=1,(IF(COUNTIFS(F:F,"<="&F45)<=1,1,(1-COUNTIFS(F:F,"<"&F45))/COUNTIFS(F:F,F45)))*50*E45*(1+VALUE(MID(H45,FIND(": ",H45)+2,FIND("/",H45)-FIND(":",H45)-2))-1)+50*E45*(1+VALUE(MID(H45,FIND(": ",H45)+2,FIND("/",H45)-FIND(":",H45)-2))-1)/VALUE(RIGHT(H45,1)),IF(F45<=VALUE(MID(H45,FIND(", ",H45)+2,IF(MID(H45,FIND(", ",H45)+2,1)="1",2,1))),(IF(COUNTIFS(F:F,"<="&F45)<=VALUE(MID(H45,FIND(", ",H45)+2,IF(MID(H45,FIND(", ",H45)+2,1)="1",2,1))),1,(VALUE(MID(H45,FIND(", ",H45)+2,IF(MID(H45,FIND(", ",H45)+2,1)="1",2,1)))-COUNTIFS(F:F,"<"&F45))/COUNTIFS(F:F,F45)))*(50*E45*(1+VALUE(MID(H45,FIND(": ",H45)+2,FIND("/",H45)-FIND(":",H45)-2))-1)/VALUE(RIGHT(H45,1))+50*E45)-(100*E45),-E45*100))) | H45: =IF(E45="","",OFFSET([1]LPGA!$AL$1,MATCH(A45,[1]LPGA!$E$1:$E$500,0)-1,0))
A46: Gabriela Ruffels | B46: 0.35% | C46: 286 | D46: 251 | F46: =IFERROR(IF(A46="","",OFFSET(Results!$AJ$1,MATCH(A46,Results!$A:$A,0)-1,0)),"") -> 136 | G46: =IF(OR(E46="",F46=""),"",IF(F46=1,(IF(COUNTIFS(F:F,"<="&F46)<=1,1,(1-COUNTIFS(F:F,"<"&F46))/COUNTIFS(F:F,F46)))*50*E46*(1+VALUE(MID(H46,FIND(": ",H46)+2,FIND("/",H46)-FIND(":",H46)-2))-1)+50*E46*(1+VALUE(MID(H46,FIND(": ",H46)+2,FIND("/",H46)-FIND(":",H46)-2))-1)/VALUE(RIGHT(H46,1)),IF(F46<=VALUE(MID(H46,FIND(", ",H46)+2,IF(MID(H46,FIND(", ",H46)+2,1)="1",2,1))),(IF(COUNTIFS(F:F,"<="&F46)<=VALUE(MID(H46,FIND(", ",H46)+2,IF(MID(H46,FIND(", ",H46)+2,1)="1",2,1))),1,(VALUE(MID(H46,FIND(", ",H46)+2,IF(MID(H46,FIND(", ",H46)+2,1)="1",2,1)))-COUNTIFS(F:F,"<"&F46))/COUNTIFS(F:F,F46)))*(50*E46*(1+VALUE(MID(H46,FIND(": ",H46)+2,FIND("/",H46)-FIND(":",H46)-2))-1)/VALUE(RIGHT(H46,1))+50*E46)-(100*E46),-E46*100))) | H46: =IF(E46="","",OFFSET([1]LPGA!$AL$1,MATCH(A46,[1]LPGA!$E$1:$E$500,0)-1,0))
A47: Gaby Lopez | B47: 2.09% | C47: 48 | D47: 41 | F47: =IFERROR(IF(A47="","",OFFSET(Results!$AJ$1,MATCH(A47,Results!$A:$A,0)-1,0)),"") -> 85 | G47: =IF(OR(E47="",F47=""),"",IF(F47=1,(IF(COUNTIFS(F:F,"<="&F47)<=1,1,(1-COUNTIFS(F:F,"<"&F47))/COUNTIFS(F:F,F47)))*50*E47*(1+VALUE(MID(H47,FIND(": ",H47)+2,FIND("/",H47)-FIND(":",H47)-2))-1)+50*E47*(1+VALUE(MID(H47,FIND(": ",H47)+2,FIND("/",H47)-FIND(":",H47)-2))-1)/VALUE(RIGHT(H47,1)),IF(F47<=VALUE(MID(H47,FIND(", ",H47)+2,IF(MID(H47,FIND(", ",H47)+2,1)="1",2,1))),(IF(COUNTIFS(F:F,"<="&F47)<=VALUE(MID(H47,FIND(", ",H47)+2,IF(MID(H47,FIND(", ",H47)+2,1)="1",2,1))),1,(VALUE(MID(H47,FIND(", ",H47)+2,IF(MID(H47,FIND(", ",H47)+2,1)="1",2,1)))-COUNTIFS(F:F,"<"&F47))/COUNTIFS(F:F,F47)))*(50*E47*(1+VALUE(MID(H47,FIND(": ",H47)+2,FIND("/",H47)-FIND(":",H47)-2))-1)/VALUE(RIGHT(H47,1))+50*E47)-(100*E47),-E47*100))) | H47: =IF(E47="","",OFFSET([1]LPGA!$AL$1,MATCH(A47,[1]LPGA!$E$1:$E$500,0)-1,0))
A48: Gemma Dryburgh | B48: 0.24% | C48: 417 | D48: 401 | F48: =IFERROR(IF(A48="","",OFFSET(Results!$AJ$1,MATCH(A48,Results!$A:$A,0)-1,0)),"") -> 16 | G48: =IF(OR(E48="",F48=""),"",IF(F48=1,(IF(COUNTIFS(F:F,"<="&F48)<=1,1,(1-COUNTIFS(F:F,"<"&F48))/COUNTIFS(F:F,F48)))*50*E48*(1+VALUE(MID(H48,FIND(": ",H48)+2,FIND("/",H48)-FIND(":",H48)-2))-1)+50*E48*(1+VALUE(MID(H48,FIND(": ",H48)+2,FIND("/",H48)-FIND(":",H48)-2))-1)/VALUE(RIGHT(H48,1)),IF(F48<=VALUE(MID(H48,FIND(", ",H48)+2,IF(MID(H48,FIND(", ",H48)+2,1)="1",2,1))),(IF(COUNTIFS(F:F,"<="&F48)<=VALUE(MID(H48,FIND(", ",H48)+2,IF(MID(H48,FIND(", ",H48)+2,1)="1",2,1))),1,(VALUE(MID(H48,FIND(", ",H48)+2,IF(MID(H48,FIND(", ",H48)+2,1)="1",2,1)))-COUNTIFS(F:F,"<"&F48))/COUNTIFS(F:F,F48)))*(50*E48*(1+VALUE(MID(H48,FIND(": ",H48)+2,FIND("/",H48)-FIND(":",H48)-2))-1)/VALUE(RIGHT(H48,1))+50*E48)-(100*E48),-E48*100))) | H48: =IF(E48="","",OFFSET([1]LPGA!$AL$1,MATCH(A48,[1]LPGA!$E$1:$E$500,0)-1,0))
A49: Georgia Hall | B49: 0.58% | C49: 172 | D49: 151 | F49: =IFERROR(IF(A49="","",OFFSET(Results!$AJ$1,MATCH(A49,Results!$A:$A,0)-1,0)),"") -> 118 | G49: =IF(OR(E49="",F49=""),"",IF(F49=1,(IF(COUNTIFS(F:F,"<="&F49)<=1,1,(1-COUNTIFS(F:F,"<"&F49))/COUNTIFS(F:F,F49)))*50*E49*(1+VALUE(MID(H49,FIND(": ",H49)+2,FIND("/",H49)-FIND(":",H49)-2))-1)+50*E49*(1+VALUE(MID(H49,FIND(": ",H49)+2,FIND("/",H49)-FIND(":",H49)-2))-1)/VALUE(RIGHT(H49,1)),IF(F49<=VALUE(MID(H49,FIND(", ",H49)+2,IF(MID(H49,FIND(", ",H49)+2,1)="1",2,1))),(IF(COUNTIFS(F:F,"<="&F49)<=VALUE(MID(H49,FIND(", ",H49)+2,IF(MID(H49,FIND(", ",H49)+2,1)="1",2,1))),1,(VALUE(MID(H49,FIND(", ",H49)+2,IF(MID(H49,FIND(", ",H49)+2,1)="1",2,1)))-COUNTIFS(F:F,"<"&F49))/COUNTIFS(F:F,F49)))*(50*E49*(1+VALUE(MID(H49,FIND(": ",H49)+2,FIND("/",H49)-FIND(":",H49)-2))-1)/VALUE(RIGHT(H49,1))+50*E49)-(100*E49),-E49*100))) | H49: =IF(E49="","",OFFSET([1]LPGA!$AL$1,MATCH(A49,[1]LPGA!$E$1:$E$500,0)-1,0))
A50: Gigi Stoll | B50: 0.09% | C50: 1111 | D50: 501 | F50: =IFERROR(IF(A50="","",OFFSET(Results!$AJ$1,MATCH(A50,Results!$A:$A,0)-1,0)),"") -> 74 | G50: =IF(OR(E50="",F50=""),"",IF(F50=1,(IF(COUNTIFS(F:F,"<="&F50)<=1,1,(1-COUNTIFS(F:F,"<"&F50))/COUNTIFS(F:F,F50)))*50*E50*(1+VALUE(MID(H50,FIND(": ",H50)+2,FIND("/",H50)-FIND(":",H50)-2))-1)+50*E50*(1+VALUE(MID(H50,FIND(": ",H50)+2,FIND("/",H50)-FIND(":",H50)-2))-1)/VALUE(RIGHT(H50,1)),IF(F50<=VALUE(MID(H50,FIND(", ",H50)+2,IF(MID(H50,FIND(", ",H50)+2,1)="1",2,1))),(IF(COUNTIFS(F:F,"<="&F50)<=VALUE(MID(H50,FIND(", ",H50)+2,IF(MID(H50,FIND(", ",H50)+2,1)="1",2,1))),1,(VALUE(MID(H50,FIND(", ",H50)+2,IF(MID(H50,FIND(", ",H50)+2,1)="1",2,1)))-COUNTIFS(F:F,"<"&F50))/COUNTIFS(F:F,F50)))*(50*E50*(1+VALUE(MID(H50,FIND(": ",H50)+2,FIND("/",H50)-FIND(":",H50)-2))-1)/VALUE(RIGHT(H50,1))+50*E50)-(100*E50),-E50*100))) | H50: =IF(E50="","",OFFSET([1]LPGA!$AL$1,MATCH(A50,[1]LPGA!$E$1:$E$500,0)-1,0))
A51: Grace Kim | B51: 0.37% | C51: 270 | D51: 251 | F51: =IFERROR(IF(A51="","",OFFSET(Results!$AJ$1,MATCH(A51,Results!$A:$A,0)-1,0)),"") -> 110 | G51: =IF(OR(E51="",F51=""),"",IF(F51=1,(IF(COUNTIFS(F:F,"<="&F51)<=1,1,(1-COUNTIFS(F:F,"<"&F51))/COUNTIFS(F:F,F51)))*50*E51*(1+VALUE(MID(H51,FIND(": ",H51)+2,FIND("/",H51)-FIND(":",H51)-2))-1)+50*E51*(1+VALUE(MID(H51,FIND(": ",H51)+2,FIND("/",H51)-FIND(":",H51)-2))-1)/VALUE(RIGHT(H51,1)),IF(F51<=VALUE(MID(H51,FIND(", ",H51)+2,IF(MID(H51,FIND(", ",H51)+2,1)="1",2,1))),(IF(COUNTIFS(F:F,"<="&F51)<=VALUE(MID(H51,FIND(", ",H51)+2,IF(MID(H51,FIND(", ",H51)+2,1)="1",2,1))),1,(VALUE(MID(H51,FIND(", ",H51)+2,IF(MID(H51,FIND(", ",H51)+2,1)="1",2,1)))-COUNTIFS(F:F,"<"&F51))/COUNTIFS(F:F,F51)))*(50*E51*(1+VALUE(MID(H51,FIND(": ",H51)+2,FIND("/",H51)-FIND(":",H51)-2))-1)/VALUE(RIGHT(H51,1))+50*E51)-(100*E51),-E51*100))) | H51: =IF(E51="","",OFFSET([1]LPGA!$AL$1,MATCH(A51,[1]LPGA!$E$1:$E$500,0)-1,0))
... A58: Hira Naveed | B58: 0.08% | C58: 1250 | D58: 401 | F58: =IFERROR(IF(A58="","",OFFSET(Results!$AJ$1,MATCH(A58,Results!$A:$A,0)-1,0)),"") -> 52 | G58: =IF(OR(E58="",F58=""),"",IF(F58=1,(IF(COUNTIFS(F:F,"<="&F58)<=1,1,(1-COUNTIFS(F:F,"<"&F58))/COUNTIFS(F:F,F58)))*50*E58*(1+VALUE(MID(H58,FIND(": ",H58)+2,FIND("/",H58)-FIND(":",H58)-2))-1)+50*E58*(1+VALUE(MID(H58,FIND(": ",H58)+2,FIND("/",H58)-FIND(":",H58)-2))-1)/VALUE(RIGHT(H58,1)),IF(F58<=VALUE(MID(H58,FIND(", ",H58)+2,IF(MID(H58,FIND(", ",H58)+2,1)="1",2,1))),(IF(COUNTIFS(F:F,"<="&F58)<=VALUE(MID(H58,FIND(", ",H58)+2,IF(MID(H58,FIND(", ",H58)+2,1)="1",2,1))),1,(VALUE(MID(H58,FIND(", ",H58)+2,IF(MID(H58,FIND(", ",H58)+2,1)="1",2,1)))-COUNTIFS(F:F,"<"&F58))/COUNTIFS(F:F,F58)))*(50*E58*(1+VALUE(MID(H58,FIND(": ",H58)+2,FIND("/",H58)-FIND(":",H58)-2))-1)/VALUE(RIGHT(H58,1))+50*E58)-(100*E58),-E58*100))) | H58: =IF(E58="","",OFFSET([1]LPGA!$AL$1,MATCH(A58,[1]LPGA!$E$1:$E$500,0)-1,0))
A59: Hye-Jin Choi | B59: 2.19% | C59: 46 | D59: 51 | E59: 0.20% | F59: =IFERROR(IF(A59="","",OFFSET(Results!$AJ$1,MATCH(A59,Results!$A:$A,0)-1,0)),"") -> 85 | G59: =IF(OR(E59="",F59=""),"",IF(F59=1,(IF(COUNTIFS(F:F,"<="&F59)<=1,1,(1-COUNTIFS(F:F,"<"&F59))/COUNTIFS(F:F,F59)))*50*E59*(1+VALUE(MID(H59,FIND(": ",H59)+2,FIND("/",H59)-FIND(":",H59)-2))-1)+50*E59*(1+VALUE(MID(H59,FIND(": ",H59)+2,FIND("/",H59)-FIND(":",H59)-2))-1)/VALUE(RIGHT(H59,1)),IF(F59<=VALUE(MID(H59,FIND(", ",H59)+2,IF(MID(H59,FIND(", ",H59)+2,1)="1",2,1))),(IF(COUNTIFS(F:F,"<="&F59)<=VALUE(MID(H59,FIND(", ",H59)+2,IF(MID(H59,FIND(", ",H59)+2,1)="1",2,1))),1,(VALUE(MID(H59,FIND(", ",H59)+2,IF(MID(H59,FIND(", ",H59)+2,1)="1",2,1)))-COUNTIFS(F:F,"<"&F59))/COUNTIFS(F:F,F59)))*(50*E59*(1+VALUE(MID(H59,FIND(": ",H59)+2,FIND("/",H59)-FIND(":",H59)-2))-1)/VALUE(RIGHT(H59,1))+50*E59)-(100*E59),-E59*100))) -> -0.2 | H59: =IF(E59="","",OFFSET([1]LPGA!$AL$1,MATCH(A59,[1]LPGA!$E$1:$E$500,0)-1,0)) -> QuinnBet: 50/1, 5pl, 1/4
A60: Hyo Joo Kim | B60: 3.09% | C60: 32 | D60: 31 | F60: =IFERROR(IF(A60="","",OFFSET(Results!$AJ$1,MATCH(A60,Results!$A:$A,0)-1,0)),"") -> 85 | G60: =IF(OR(E60="",F60=""),"",IF(F60=1,(IF(COUNTIFS(F:F,"<="&F60)<=1,1,(1-COUNTIFS(F:F,"<"&F60))/COUNTIFS(F:F,F60)))*50*E60*(1+VALUE(MID(H60,FIND(": ",H60)+2,FIND("/",H60)-FIND(":",H60)-2))-1)+50*E60*(1+VALUE(MID(H60,FIND(": ",H60)+2,FIND("/",H60)-FIND(":",H60)-2))-1)/VALUE(RIGHT(H60,1)),IF(F60<=VALUE(MID(H60,FIND(", ",H60)+2,IF(MID(H60,FIND(", ",H60)+2,1)="1",2,1))),(IF(COUNTIFS(F:F,"<="&F60)<=VALUE(MID(H60,FIND(", ",H60)+2,IF(MID(H60,FIND(", ",H60)+2,1)="1",2,1))),1,(VALUE(MID(H60,FIND(", ",H60)+2,IF(MID(H60,FIND(", ",H60)+2,1)="1",2,1)))-COUNTIFS(F:F,"<"&F60))/COUNTIFS(F:F,F60)))*(50*E60*(1+VALUE(MID(H60,FIND(": ",H60)+2,FIND("/",H60)-FIND(":",H60)-2))-1)/VALUE(RIGHT(H60,1))+50*E60)-(100*E60),-E60*100))) | H60: =IF(E60="","",OFFSET([1]LPGA!$AL$1,MATCH(A60,[1]LPGA!$E$1:$E$500,0)-1,0))
