Workbook

Sheet Results
A1: PLAYER | B1: Date | C1: Event | D1: Course | E1: Location | F1: Tour | G1: Tour2 | H1: Tour3 | I1: Surname | J1: FirstName | K1: Posn | L1: Rd1 | M1: Rd2 | N1: Rd3 | O1: Rd4 | P1: Rd5 | Q1: Total | R1: Field | S1: Field1 | T1: AdjRd1 | U1: AdjRd2 | V1: AdjRd3 | W1: AdjRd4 | X1: AdjRd5 | Y1: AdjAve | Z1: Rd1Pos | AA1: Rd2Pos | AB1: Rd3Pos | AC1: Rd4Pos | AD1: Rd5Pos | AE1: Rd1Lead | AF1: Rd2Lead | AG1: Rd3Lead | AH1: Rd4Lead | AI1: Rd5Lead | AJ1: Posn2 | AK1: MU | AL1: Tee1 | AM1: Time1 | AN1: Tee2 | AO1: Time2 | AP1: Tee3 | AQ1: Time3 | AR1: Tee4 | AS1: Time4 | AT1: Tee5 | AU1: Time5 | AV1: dd | AW1: dd_rank | AX1: da | AY1: da_rank | AZ1: gir | BA1: gir_rank | BB1: ppr | BC1: ppr_rank | BD1: ppgir | BE1: ppgir_rank | BF1: sc | BG1: sc_rank | BH1: ss | BI1: ss_rank | BJ1: tdr_rank | BK1: acc_rank | BL1: bst_rank | BM1: putt_rank | BN1: all_rank | BO1: Par3 | BP1: Par3_rank | BQ1: Par4 | BR1: Par4_rank | BS1: Par5 | BT1: Par5_rank | BU1: Eagles | BV1: Birdies | BW1: Pars | BX1: Bogeys | BY1: Other | BZ1: s | CA1: p3 | CB1: p4 | CC1: p5 | CD1: field_dd | CE1: field_da | CF1: field_gir | CG1: field_sc | CH1: field_pa | CI1: field_ppr | CJ1: field_ss | CK1: field_par3 | CL1: field_par4 | CM1: field_par5 | CN1: field1_dd | CO1: field1_da | CP1: field1_gir | CQ1: field1_sc | CR1: field1_pa | CS1: field1_ppr | CT1: field1_ss | CU1: field1_par3 | CV1: field1_par4 | CW1: field1_par5 | CX1: Eagles_rank | CY1: Birdies_rank | CZ1: Pars_rank | DA1: Bogeys_rank | DB1: Other_rank | DC1: dd(r1) | DD1: dd(r1)_rank | DE1: dd(r2) | DF1: dd(r2)_rank | DG1: dd(r3) | DH1: dd(r3)_rank | DI1: dd(r4) | DJ1: dd(r4)_rank | DK1: dd(r5) | DL1: dd(r5)_rank | DM1: da(r1) | DN1: da(r1)_rank | DO1: da(r2) | DP1: da(r2)_rank | DQ1: da(r3) | DR1: da(r3)_rank | DS1: da(r4) | DT1: da(r4)_rank | DU1: da(r5) | DV1: da(r5)_rank | DW1: gir(r1) | DX1: gir(r1)_rank | DY1: gir(r2) | DZ1: gir(r2)_rank | EA1: gir(r3) | EB1: gir(r3)_rank | EC1: gir(r4) | ED1: gir(r4)_rank | EE1: gir(r5) | EF1: gir(r5)_rank | EG1: ppr(r1) | EH1: ppr(r1)_rank | EI1: ppr(r2) | EJ1: ppr(r2)_rank | EK1: ppr(r3) | EL1: ppr(r3)_rank | EM1: ppr(r4) | EN1: ppr(r4)_rank | EO1: ppr(r5) | EP1: ppr(r5)_rank | EQ1: ppgir(r1) | ER1: ppgir(r1)_rank | ES1: ppgir(r2) | ET1: ppgir(r2)_rank | EU1: ppgir(r3) | EV1: ppgir(r3)_rank | EW1: ppgir(r4) | EX1: ppgir(r4)_rank | EY1: ppgir(r5) | EZ1: ppgir(r5)_rank | FA1: sc(r1) | FB1: sc(r1)_rank | FC1: sc(r2) | FD1: sc(r2)_rank | FE1: sc(r3) | FF1: sc(r3)_rank | FG1: sc(r4) | FH1: sc(r4)_rank | FI1: sc(r5) | FJ1: sc(r5)_rank | FK1: ss(r1) | FL1: ss(r1)_rank | FM1: ss(r2) | FN1: ss(r2)_rank | FO1: ss(r3) | FP1: ss(r3)_rank | FQ1: ss(r4) | FR1: ss(r4)_rank | FS1: ss(r5) | FT1: ss(r5)_rank | FU1: par3(r1) | FV1: par3(r1)_rank | FW1: par3(r2) | FX1: par3(r2)_rank | FY1: par3(r3) | FZ1: par3(r3)_rank | GA1: par3(r4) | GB1: par3(r4)_rank | GC1: par3(r5) | GD1: par3(r5)_rank | GE1: par4(r1) | GF1: par4(r1)_rank | GG1: par4(r2) | GH1: par4(r2)_rank | GI1: par4(r3) | GJ1: par4(r3)_rank | GK1: par4(r4) | GL1: par4(r4)_rank | GM1: par4(r5) | GN1: par4(r5)_rank | GO1: par5(r1) | GP1: par5(r1)_rank | GQ1: par5(r2) | GR1: par5(r2)_rank | GS1: par5(r3) | GT1: par5(r3)_rank | GU1: par5(r4) | GV1: par5(r4)_rank | GW1: par5(r5) | GX1: par5(r5)_rank | GY1: eagles(r1) | GZ1: eagles(r1)_rank | HA1: eagles(r2) | HB1: eagles(r2)_rank | HC1: eagles(r3) | HD1: eagles(r3)_rank | HE1: eagles(r4) | HF1: eagles(r4)_rank | HG1: eagles(r5) | HH1: eagles(r5)_rank | HI1: birdies(r1) | HJ1: birdies(r1)_rank | HK1: birdies(r2) | HL1: birdies(r2)_rank | HM1: birdies(r3) | HN1: birdies(r3)_rank | HO1: birdies(r4) | HP1: birdies(r4)_rank | HQ1: birdies(r5) | HR1: birdies(r5)_rank | HS1: pars(r1) | HT1: pars(r1)_rank | HU1: pars(r2) | HV1: pars(r2)_rank | HW1: pars(r3) | HX1: pars(r3)_rank | HY1: pars(r4) | HZ1: pars(r4)_rank | IA1: pars(r5) | IB1: pars(r5)_rank | IC1: bogeys(r1) | ID1: bogeys(r1)_rank | IE1: bogeys(r2) | IF1: bogeys(r2)_rank | IG1: bogeys(r3) | IH1: bogeys(r3)_rank | II1: bogeys(r4) | IJ1: bogeys(r4)_rank | IK1: bogeys(r5) | IL1: bogeys(r5)_rank | IM1: other(r1) | IN1: other(r1)_rank | IO1: other(r2) | IP1: other(r2)_rank | IQ1: other(r3) | IR1: other(r3)_rank | IS1: other(r4) | IT1: other(r4)_rank | IU1: other(r5) | IV1: other(r5)_rank
A2: =IF(J2="","",CONCATENATE(J2," ",I2)) -> Shuri Sakuma | B2: 45767 | C2: KKT Cup Bantelin Ladies Open | D2: Kumamoto Airport | E2: Japan | F2: JLPGA | I2: Sakuma | J2: Shuri | K2: 1 | L2: 70 | M2: 68 | N2: 67 | Q2: 205 | R2: 72.98 | S2: 72.58 | T2: 69.85 | U2: 67.87 | V2: 68.01 | Y2: 68.58 | Z2: 12 | AA2: 2 | AB2: 1 | AE2: 3 | AF2: 1 | AG2: -2 | AJ2: 1 | AK2: 1
A3: =IF(J3="","",CONCATENATE(J3," ",I3)) -> Momoko Osato | B3: 45767 | C3: KKT Cup Bantelin Ladies Open | D3: Kumamoto Airport | E3: Japan | F3: JLPGA | I3: Osato | J3: Momoko | K3: 2 | L3: 71 | M3: 69 | N3: 67 | Q3: 207 | R3: 72.98 | S3: 72.58 | T3: 70.85 | U3: 68.87 | V3: 68.01 | Y3: 69.24 | Z3: 18 | AA3: 7 | AB3: 2 | AE3: 4 | AF3: 3 | AG3: 2 | AJ3: 2 | AK3: 2
A4: =IF(J4="","",CONCATENATE(J4," ",I4)) -> Yumeka Kobayashi | B4: 45767 | C4: KKT Cup Bantelin Ladies Open | D4: Kumamoto Airport | E4: Japan | F4: JLPGA | I4: Kobayashi | J4: Yumeka | K4: 3 | L4: 68 | M4: 70 | N4: 70 | Q4: 208 | R4: 72.98 | S4: 72.58 | T4: 67.85 | U4: 69.87 | V4: 71.01 | Y4: 69.58 | Z4: 4 | AA4: 2 | AB4: 3 | AE4: 1 | AF4: 1 | AG4: 3 | AJ4: 3 | AK4: 3
A5: =IF(J5="","",CONCATENATE(J5," ",I5)) -> Kotone Hori | B5: 45767 | C5: KKT Cup Bantelin Ladies Open | D5: Kumamoto Airport | E5: Japan | F5: JLPGA | I5: Hori | J5: Kotone | K5: 4 | L5: 70 | M5: 67 | N5: 72 | Q5: 209 | R5: 72.98 | S5: 72.58 | T5: 69.85 | U5: 66.87 | V5: 73.01 | Y5: 69.91 | Z5: 12 | AA5: 1 | AB5: 4 | AE5: 3 | AF5: -1 | AG5: 4 | AJ5: 4 | AK5: 4.5
A6: =IF(J6="","",CONCATENATE(J6," ",I6)) -> Sora Kamiya | B6: 45767 | C6: KKT Cup Bantelin Ladies Open | D6: Kumamoto Airport | E6: Japan | F6: JLPGA | I6: Kamiya | J6: Sora | K6: 4 | L6: 70 | M6: 69 | N6: 70 | Q6: 209 | R6: 72.98 | S6: 72.58 | T6: 69.85 | U6: 68.87 | V6: 71.01 | Y6: 69.91 | Z6: 12 | AA6: 5 | AB6: 4 | AE6: 3 | AF6: 2 | AG6: 4 | AJ6: 4 | AK6: 4.5
A7: =IF(J7="","",CONCATENATE(J7," ",I7)) -> Mi-Jeong Jeon | B7: 45767 | C7: KKT Cup Bantelin Ladies Open | D7: Kumamoto Airport | E7: Japan | F7: JLPGA | I7: Jeon | J7: Mi-Jeong | K7: 6 | L7: 72 | M7: 70 | N7: 68 | Q7: 210 | R7: 72.98 | S7: 72.58 | T7: 71.85 | U7: 69.87 | V7: 69.01 | Y7: 70.24 | Z7: 30 | AA7: 20 | AB7: 6 | AE7: 5 | AF7: 5 | AG7: 5 | AJ7: 6 | AK7: 7
A8: =IF(J8="","",CONCATENATE(J8," ",I8)) -> Min-Young Lee | B8: 45767 | C8: KKT Cup Bantelin Ladies Open | D8: Kumamoto Airport | E8: Japan | F8: JLPGA | I8: Lee | J8: Min-Young | K8: 6 | L8: 70 | M8: 71 | N8: 69 | Q8: 210 | R8: 72.98 | S8: 72.58 | T8: 69.85 | U8: 70.87 | V8: 70.01 | Y8: 70.24 | Z8: 12 | AA8: 12 | AB8: 6 | AE8: 3 | AF8: 4 | AG8: 5 | AJ8: 6 | AK8: 7
A9: =IF(J9="","",CONCATENATE(J9," ",I9)) -> Hanane Nagashima | B9: 45767 | C9: KKT Cup Bantelin Ladies Open | D9: Kumamoto Airport | E9: Japan | F9: JLPGA | I9: Nagashima | J9: Hanane | K9: 6 | L9: 71 | M9: 72 | N9: 67 | Q9: 210 | R9: 72.98 | S9: 72.58 | T9: 70.85 | U9: 71.87 | V9: 68.01 | Y9: 70.24 | Z9: 18 | AA9: 28 | AB9: 6 | AE9: 4 | AF9: 6 | AG9: 5 | AJ9: 6 | AK9: 7
A10: =IF(J10="","",CONCATENATE(J10," ",I10)) -> Ayako Kimura | B10: 45767 | C10: KKT Cup Bantelin Ladies Open | D10: Kumamoto Airport | E10: Japan | F10: JLPGA | I10: Kimura | J10: Ayako | K10: 9 | L10: 75 | M10: 69 | N10: 67 | Q10: 211 | R10: 72.98 | S10: 72.58 | T10: 74.85 | U10: 68.87 | V10: 68.01 | Y10: 70.58 | Z10: 72 | AA10: 32 | AB10: 9 | AE10: 8 | AF10: 7 | AG10: 6 | AJ10: 9 | AK10: 12.5
A11: =IF(J11="","",CONCATENATE(J11," ",I11)) -> Sakura Koiwai | B11: 45767 | C11: KKT Cup Bantelin Ladies Open | D11: Kumamoto Airport | E11: Japan | F11: JLPGA | I11: Koiwai | J11: Sakura | K11: 9 | L11: 69 | M11: 71 | N11: 71 | Q11: 211 | R11: 72.98 | S11: 72.58 | T11: 68.85 | U11: 70.87 | V11: 72.01 | Y11: 70.58 | Z11: 9 | AA11: 7 | AB11: 9 | AE11: 2 | AF11: 3 | AG11: 6 | AJ11: 9 | AK11: 12.5
A12: =IF(J12="","",CONCATENATE(J12," ",I12)) -> Shiho Kuwaki | B12: 45767 | C12: KKT Cup Bantelin Ladies Open | D12: Kumamoto Airport | E12: Japan | F12: JLPGA | I12: Kuwaki | J12: Shiho | K12: 9 | L12: 72 | M12: 69 | N12: 70 | Q12: 211 | R12: 72.98 | S12: 72.58 | T12: 71.85 | U12: 68.87 | V12: 71.01 | Y12: 70.58 | Z12: 30 | AA12: 12 | AB12: 9 | AE12: 5 | AF12: 4 | AG12: 6 | AJ12: 9 | AK12: 12.5
A13: =IF(J13="","",CONCATENATE(J13," ",I13)) -> Saki Nagamine | B13: 45767 | C13: KKT Cup Bantelin Ladies Open | D13: Kumamoto Airport | E13: Japan | F13: JLPGA | I13: Nagamine | J13: Saki | K13: 9 | L13: 67 | M13: 71 | N13: 73 | Q13: 211 | R13: 72.98 | S13: 72.58 | T13: 66.85 | U13: 70.87 | V13: 74.01 | Y13: 70.58 | Z13: 1 | AA13: 2 | AB13: 9 | AE13: 0 | AF13: 1 | AG13: 6 | AJ13: 9 | AK13: 12.5
... A52: =IF(J52="","",CONCATENATE(J52," ",I52)) -> Kokona Sakurai | B52: 45767 | C52: KKT Cup Bantelin Ladies Open | D52: Kumamoto Airport | E52: Japan | F52: JLPGA | I52: Sakurai | J52: Kokona | K52: 50 | L52: 74 | M52: 70 | N52: 77 | Q52: 221 | R52: 72.98 | S52: 72.58 | T52: 73.85 | U52: 69.87 | V52: 78.01 | Y52: 73.91 | Z52: 64 | AA52: 32 | AB52: 50 | AE52: 7 | AF52: 7 | AG52: 16 | AJ52: 50 | AK52: 50.5
A53: =IF(J53="","",CONCATENATE(J53," ",I53)) -> Haruka Amamoto | B53: 45767 | C53: KKT Cup Bantelin Ladies Open | D53: Kumamoto Airport | E53: Japan | F53: JLPGA | I53: Amamoto | J53: Haruka | K53: mc | L53: 72 | M53: 74 | Q53: 146 | R53: 72.98 | S53: 72.58 | T53: 71.85 | U53: 73.87 | Y53: 72.86 | Z53: 30 | AA53: 52 | AE53: 5 | AF53: 9 | AJ53: 52 | AK53: 52
A54: =IF(J54="","",CONCATENATE(J54," ",I54)) -> Yumi Kudo | B54: 45767 | C54: KKT Cup Bantelin Ladies Open | D54: Kumamoto Airport | E54: Japan | F54: JLPGA | I54: Kudo | J54: Yumi | K54: mc | L54: 72 | M54: 74 | Q54: 146 | R54: 72.98 | S54: 72.58 | T54: 71.85 | U54: 73.87 | Y54: 72.86 | Z54: 30 | AA54: 52 | AE54: 5 | AF54: 9 | AJ54: 52 | AK54: 52
A55: =IF(J55="","",CONCATENATE(J55," ",I55)) -> Mao Nozawa | B55: 45767 | C55: KKT Cup Bantelin Ladies Open | D55: Kumamoto Airport | E55: Japan | F55: JLPGA | I55: Nozawa | J55: Mao | K55: mc | L55: 72 | M55: 74 | Q55: 146 | R55: 72.98 | S55: 72.58 | T55: 71.85 | U55: 73.87 | Y55: 72.86 | Z55: 30 | AA55: 52 | AE55: 5 | AF55: 9 | AJ55: 52 | AK55: 52
A56: =IF(J56="","",CONCATENATE(J56," ",I56)) -> Hiromu Ono | B56: 45767 | C56: KKT Cup Bantelin Ladies Open | D56: Kumamoto Airport | E56: Japan | F56: JLPGA | I56: Ono | J56: Hiromu | K56: mc | L56: 75 | M56: 71 | Q56: 146 | R56: 72.98 | S56: 72.58 | T56: 74.85 | U56: 70.87 | Y56: 72.86 | Z56: 72 | AA56: 52 | AE56: 8 | AF56: 9 | AJ56: 52 | AK56: 52
A57: =IF(J57="","",CONCATENATE(J57," ",I57)) -> Megumi Shimokawa | B57: 45767 | C57: KKT Cup Bantelin Ladies Open | D57: Kumamoto Airport | E57: Japan | F57: JLPGA | I57: Shimokawa | J57: Megumi | K57: mc | L57: 76 | M57: 70 | Q57: 146 | R57: 72.98 | S57: 72.58 | T57: 75.85 | U57: 69.87 | Y57: 72.86 | Z57: 88 | AA57: 52 | AE57: 9 | AF57: 9 | AJ57: 52 | AK57: 52
A58: =IF(J58="","",CONCATENATE(J58," ",I58)) -> Reika Usui | B58: 45767 | C58: KKT Cup Bantelin Ladies Open | D58: Kumamoto Airport | E58: Japan | F58: JLPGA | I58: Usui | J58: Reika | K58: mc | L58: 74 | M58: 72 | Q58: 146 | R58: 72.98 | S58: 72.58 | T58: 73.85 | U58: 71.87 | Y58: 72.86 | Z58: 64 | AA58: 52 | AE58: 7 | AF58: 9 | AJ58: 52 | AK58: 52
A59: =IF(J59="","",CONCATENATE(J59," ",I59)) -> Hinaco Yamauchi | B59: 45767 | C59: KKT Cup Bantelin Ladies Open | D59: Kumamoto Airport | E59: Japan | F59: JLPGA | I59: Yamauchi | J59: Hinaco | K59: mc | L59: 76 | M59: 70 | Q59: 146 | R59: 72.98 | S59: 72.58 | T59: 75.85 | U59: 69.87 | Y59: 72.86 | Z59: 88 | AA59: 52 | AE59: 9 | AF59: 9 | AJ59: 52 | AK59: 52
A60: =IF(J60="","",CONCATENATE(J60," ",I60)) -> Kokone Yoshimoto | B60: 45767 | C60: KKT Cup Bantelin Ladies Open | D60: Kumamoto Airport | E60: Japan | F60: JLPGA | I60: Yoshimoto | J60: Kokone | K60: mc | L60: 73 | M60: 73 | Q60: 146 | R60: 72.98 | S60: 72.58 | T60: 72.85 | U60: 72.87 | Y60: 72.86 | Z60: 50 | AA60: 52 | AE60: 6 | AF60: 9 | AJ60: 52 | AK60: 52
A61: =IF(J61="","",CONCATENATE(J61," ",I61)) -> Karen Fujita | B61: 45767 | C61: KKT Cup Bantelin Ladies Open | D61: Kumamoto Airport | E61: Japan | F61: JLPGA | I61: Fujita | J61: Karen | K61: mc | L61: 70 | M61: 77 | Q61: 147 | R61: 72.98 | S61: 72.58 | T61: 69.85 | U61: 76.87 | Y61: 73.36 | Z61: 12 | AA61: 60 | AE61: 3 | AF61: 10 | AJ61: 60 | AK61: 52
A62: =IF(J62="","",CONCATENATE(J62," ",I62)) -> Yuki Ichinose | B62: 45767 | C62: KKT Cup Bantelin Ladies Open | D62: Kumamoto Airport | E62: Japan | F62: JLPGA | I62: Ichinose | J62: Yuki | K62: mc | L62: 72 | M62: 75 | Q62: 147 | R62: 72.98 | S62: 72.58 | T62: 71.85 | U62: 74.87 | Y62: 73.36 | Z62: 30 | AA62: 60 | AE62: 5 | AF62: 10 | AJ62: 60 | AK62: 52
A63: =IF(J63="","",CONCATENATE(J63," ",I63)) -> Ayame Morii | B63: 45767 | C63: KKT Cup Bantelin Ladies Open | D63: Kumamoto Airport | E63: Japan | F63: JLPGA | I63: Morii | J63: Ayame | K63: mc | L63: 73 | M63: 74 | Q63: 147 | R63: 72.98 | S63: 72.58 | T63: 72.85 | U63: 73.87 | Y63: 73.36 | Z63: 50 | AA63: 60 | AE63: 6 | AF63: 10 | AJ63: 60 | AK63: 52
A64: =IF(J64="","",CONCATENATE(J64," ",I64)) -> Kanae Nagata | B64: 45767 | C64: KKT Cup Bantelin Ladies Open | D64: Kumamoto Airport | E64: Japan | F64: JLPGA | I64: Nagata | J64: Kanae | K64: mc | L64: 73 | M64: 74 | Q64: 147 | R64: 72.98 | S64: 72.58 | T64: 72.85 | U64: 73.87 | Y64: 73.36 | Z64: 50 | AA64: 60 | AE64: 6 | AF64: 10 | AJ64: 60 | AK64: 52
... A108: =IF(J108="","",CONCATENATE(J108," ",I108)) -> Minami Kiyomoto | B108: 45767 | C108: KKT Cup Bantelin Ladies Open | D108: Kumamoto Airport | E108: Japan | F108: JLPGA | I108: Kiyomoto | J108: Minami | K108: mc | L108: 81 | M108: 79 | Q108: 160 | R108: 72.98 | S108: 72.58 | T108: 80.85 | U108: 78.87 | Y108: 79.86 | Z108: 107 | AA108: 106 | AE108: 14 | AF108: 23 | AJ108: 106 | AK108: 52
A109: =IF(J109="","",CONCATENATE(J109," ",I109)) -> Shinsil Bang | B109: 45767 | C109: Saint Nine Masters | D109: Gaya | E109: South Korea | F109: KLPGA | I109: Bang | J109: Shinsil | K109: 1 | L109: 68 | M109: 70 | N109: 65 | Q109: 203 | R109: 72.66 | S109: 72.02 | T109: 67.72 | U109: 70.14 | V109: 65.93 | Y109: 67.93 | Z109: 9 | AA109: 5 | AB109: 1 | AE109: 3 | AF109: 2 | AG109: -1 | AJ109: 1 | AK109: 1
A110: =IF(J110="","",CONCATENATE(J110," ",I110)) -> Dasom Ma | B110: 45767 | C110: Saint Nine Masters | D110: Gaya | E110: South Korea | F110: KLPGA | I110: Ma | J110: Dasom | K110: 2 | L110: 65 | M110: 72 | N110: 67 | Q110: 204 | R110: 72.66 | S110: 72.02 | T110: 64.72 | U110: 72.14 | V110: 67.93 | Y110: 68.26 | Z110: 1 | AA110: 2 | AB110: 2 | AE110: -1 | AF110: 1 | AG110: 1 | AJ110: 2 | AK110: 2
A111: =IF(J111="","",CONCATENATE(J111," ",I111)) -> Dongeun Lee | B111: 45767 | C111: Saint Nine Masters | D111: Gaya | E111: South Korea | F111: KLPGA | I111: Lee | J111: Dongeun | K111: 3 | L111: 68 | M111: 72 | N111: 65 | Q111: 205 | R111: 72.66 | S111: 72.02 | T111: 67.72 | U111: 72.14 | V111: 65.93 | Y111: 68.6 | Z111: 9 | AA111: 14 | AB111: 3 | AE111: 3 | AF111: 4 | AG111: 2 | AJ111: 3 | AK111: 4
A112: =IF(J112="","",CONCATENATE(J112," ",I112)) -> Jiyoung Park | B112: 45767 | C112: Saint Nine Masters | D112: Gaya | E112: South Korea | F112: KLPGA | I112: Park | J112: Jiyoung | K112: 3 | L112: 67 | M112: 69 | N112: 69 | Q112: 205 | R112: 72.66 | S112: 72.02 | T112: 66.72 | U112: 69.14 | V112: 69.93 | Y112: 68.6 | Z112: 3 | AA112: 1 | AB112: 3 | AE112: 2 | AF112: -1 | AG112: 2 | AJ112: 3 | AK112: 4
A113: =IF(J113="","",CONCATENATE(J113," ",I113)) -> Hyunjo Yoo | B113: 45767 | C113: Saint Nine Masters | D113: Gaya | E113: South Korea | F113: KLPGA | I113: Yoo | J113: Hyunjo | K113: 3 | L113: 69 | M113: 69 | N113: 67 | Q113: 205 | R113: 72.66 | S113: 72.02 | T113: 68.72 | U113: 69.14 | V113: 67.93 | Y113: 68.6 | Z113: 12 | AA113: 5 | AB113: 3 | AE113: 4 | AF113: 2 | AG113: 2 | AJ113: 3 | AK113: 4
A114: =IF(J114="","",CONCATENATE(J114," ",I114)) -> Yerim Choi | B114: 45767 | C114: Saint Nine Masters | D114: Gaya | E114: South Korea | F114: KLPGA | I114: Choi | J114: Yerim | K114: 6 | L114: 67 | M114: 71 | N114: 68 | Q114: 206 | R114: 72.66 | S114: 72.02 | T114: 66.72 | U114: 71.14 | V114: 68.93 | Y114: 68.93 | Z114: 3 | AA114: 5 | AB114: 6 | AE114: 2 | AF114: 2 | AG114: 3 | AJ114: 6 | AK114: 7
A115: =IF(J115="","",CONCATENATE(J115," ",I115)) -> Minju Kim | B115: 45767 | C115: Saint Nine Masters | D115: Gaya | E115: South Korea | F115: KLPGA | I115: Kim | J115: Minju | K115: 6 | L115: 66 | M115: 71 | N115: 69 | Q115: 206 | R115: 72.66 | S115: 72.02 | T115: 65.72 | U115: 71.14 | V115: 69.93 | Y115: 68.93 | Z115: 2 | AA115: 2 | AB115: 6 | AE115: 1 | AF115: 1 | AG115: 3 | AJ115: 6 | AK115: 7
A116: =IF(J116="","",CONCATENATE(J116," ",I116)) -> Jiu Ko | B116: 45767 | C116: Saint Nine Masters | D116: Gaya | E116: South Korea | F116: KLPGA | I116: Ko | J116: Jiu | K116: 6 | L116: 71 | M116: 70 | N116: 65 | Q116: 206 | R116: 72.66 | S116: 72.02 | T116: 70.72 | U116: 70.14 | V116: 65.93 | Y116: 68.93 | Z116: 30 | AA116: 20 | AB116: 6 | AE116: 6 | AF116: 5 | AG116: 3 | AJ116: 6 | AK116: 7
A117: =IF(J117="","",CONCATENATE(J117," ",I117)) -> Eunwoo Choi | B117: 45767 | C117: Saint Nine Masters | D117: Gaya | E117: South Korea | F117: KLPGA | I117: Choi | J117: Eunwoo | K117: 9 | L117: 70 | M117: 68 | N117: 69 | Q117: 207 | R117: 72.66 | S117: 72.02 | T117: 69.72 | U117: 68.14 | V117: 69.93 | Y117: 69.26 | Z117: 18 | AA117: 5 | AB117: 9 | AE117: 5 | AF117: 2 | AG117: 4 | AJ117: 9 | AK117: 10
A118: =IF(J118="","",CONCATENATE(J118," ",I118)) -> Youmin Hwang | B118: 45767 | C118: Saint Nine Masters | D118: Gaya | E118: South Korea | F118: KLPGA | I118: Hwang | J118: Youmin | K118: 9 | L118: 71 | M118: 67 | N118: 69 | Q118: 207 | R118: 72.66 | S118: 72.02 | T118: 70.72 | U118: 67.14 | V118: 69.93 | Y118: 69.26 | Z118: 30 | AA118: 5 | AB118: 9 | AE118: 6 | AF118: 2 | AG118: 4 | AJ118: 9 | AK118: 10
A119: =IF(J119="","",CONCATENATE(J119," ",I119)) -> Hyunkyung Park | B119: 45767 | C119: Saint Nine Masters | D119: Gaya | E119: South Korea | F119: KLPGA | I119: Park | J119: Hyunkyung | K119: 9 | L119: 69 | M119: 70 | N119: 68 | Q119: 207 | R119: 72.66 | S119: 72.02 | T119: 68.72 | U119: 70.14 | V119: 68.93 | Y119: 69.26 | Z119: 12 | AA119: 13 | AB119: 9 | AE119: 4 | AF119: 3 | AG119: 4 | AJ119: 9 | AK119: 10
A120: =IF(J120="","",CONCATENATE(J120," ",I120)) -> Minbyeol Kim | B120: 45767 | C120: Saint Nine Masters | D120: Gaya | E120: South Korea | F120: KLPGA | I120: Kim | J120: Minbyeol | K120: 12 | L120: 70 | M120: 68 | N120: 70 | Q120: 208 | R120: 72.66 | S120: 72.02 | T120: 69.72 | U120: 68.14 | V120: 70.93 | Y120: 69.6 | Z120: 18 | AA120: 5 | AB120: 12 | AE120: 5 | AF120: 2 | AG120: 5 | AJ120: 12 | AK120: 12
... A173: =IF(J173="","",CONCATENATE(J173," ",I173)) -> Gayul Kang | B173: 45767 | C173: Saint Nine Masters | D173: Gaya | E173: South Korea | F173: KLPGA | I173: Kang | J173: Gayul | K173: 65 | L173: 71 | M173: 73 | N173: 78 | Q173: 222 | R173: 72.66 | S173: 72.02 | T173: 70.72 | U173: 73.14 | V173: 78.93 | Y173: 74.26 | Z173: 30 | AA173: 44 | AB173: 65 | AE173: 6 | AF173: 8 | AG173: 19 | AJ173: 65 | AK173: 65
A174: =IF(J174="","",CONCATENATE(J174," ",I174)) -> Areum Han | B174: 45767 | C174: Saint Nine Masters | D174: Gaya | E174: South Korea | F174: KLPGA | I174: Han | J174: Areum | K174: mc | L174: 76 | M174: 70 | Q174: 146 | R174: 72.66 | S174: 72.02 | T174: 75.72 | U174: 70.14 | Y174: 72.93 | Z174: 95 | AA174: 66 | AE174: 11 | AF174: 10 | AJ174: 66 | AK174: 66
A175: =IF(J175="","",CONCATENATE(J175," ",I175)) -> Joori Jeong | B175: 45767 | C175: Saint Nine Masters | D175: Gaya | E175: South Korea | F175: KLPGA | I175: Jeong | J175: Joori | K175: mc | L175: 73 | M175: 73 | Q175: 146 | R175: 72.66 | S175: 72.02 | T175: 72.72 | U175: 73.14 | Y175: 72.93 | Z175: 59 | AA175: 66 | AE175: 8 | AF175: 10 | AJ175: 66 | AK175: 66
A176: =IF(J176="","",CONCATENATE(J176," ",I176)) -> Chaeyeon Kang | B176: 45767 | C176: Saint Nine Masters | D176: Gaya | E176: South Korea | F176: KLPGA | I176: Kang | J176: Chaeyeon | K176: mc | L176: 73 | M176: 73 | Q176: 146 | R176: 72.66 | S176: 72.02 | T176: 72.72 | U176: 73.14 | Y176: 72.93 | Z176: 59 | AA176: 66 | AE176: 8 | AF176: 10 | AJ176: 66 | AK176: 66
A177: =IF(J177="","",CONCATENATE(J177," ",I177)) -> Shi Hyun Kim | B177: 45767 | C177: Saint Nine Masters | D177: Gaya | E177: South Korea | F177: KLPGA | I177: Kim | J177: Shi Hyun | K177: mc | L177: 77 | M177: 69 | Q177: 146 | R177: 72.66 | S177: 72.02 | T177: 76.72 | U177: 69.14 | Y177: 72.93 | Z177: 107 | AA177: 66 | AE177: 12 | AF177: 10 | AJ177: 66 | AK177: 66
A178: =IF(J178="","",CONCATENATE(J178," ",I178)) -> Jeongmin2 Lee | B178: 45767 | C178: Saint Nine Masters | D178: Gaya | E178: South Korea | F178: KLPGA | I178: Lee | J178: Jeongmin2 | K178: mc | L178: 73 | M178: 73 | Q178: 146 | R178: 72.66 | S178: 72.02 | T178: 72.72 | U178: 73.14 | Y178: 72.93 | Z178: 59 | AA178: 66 | AE178: 8 | AF178: 10 | AJ178: 66 | AK178: 66
A179: =IF(J179="","",CONCATENATE(J179," ",I179)) -> Doeun Park | B179: 45767 | C179: Saint Nine Masters | D179: Gaya | E179: South Korea | F179: KLPGA | I179: Park | J179: Doeun | K179: mc | L179: 71 | M179: 75 | Q179: 146 | R179: 72.66 | S179: 72.02 | T179: 70.72 | U179: 75.14 | Y179: 72.93 | Z179: 30 | AA179: 66 | AE179: 6 | AF179: 10 | AJ179: 66 | AK179: 66
A180: =IF(J180="","",CONCATENATE(J180," ",I180)) -> Doyeong Park | B180: 45767 | C180: Saint Nine Masters | D180: Gaya | E180: South Korea | F180: KLPGA | I180: Park | J180: Doyeong | K180: mc | L180: 73 | M180: 73 | Q180: 146 | R180: 72.66 | S180: 72.02 | T180: 72.72 | U180: 73.14 | Y180: 72.93 | Z180: 59 | AA180: 66 | AE180: 8 | AF180: 10 | AJ180: 66 | AK180: 66
A181: =IF(J181="","",CONCATENATE(J181," ",I181)) -> So Hye Park | B181: 45767 | C181: Saint Nine Masters | D181: Gaya | E181: South Korea | F181: KLPGA | I181: Park | J181: So Hye | K181: mc | L181: 74 | M181: 72 | Q181: 146 | R181: 72.66 | S181: 72.02 | T181: 73.72 | U181: 72.14 | Y181: 72.93 | Z181: 72 | AA181: 66 | AE181: 9 | AF181: 10 | AJ181: 66 | AK181: 66
A182: =IF(J182="","",CONCATENATE(J182," ",I182)) -> Yeunjung Seo | B182: 45767 | C182: Saint Nine Masters | D182: Gaya | E182: South Korea | F182: KLPGA | I182: Seo | J182: Yeunjung | K182: mc | L182: 72 | M182: 74 | Q182: 146 | R182: 72.66 | S182: 72.02 | T182: 71.72 | U182: 74.14 | Y182: 72.93 | Z182: 46 | AA182: 66 | AE182: 7 | AF182: 10 | AJ182: 66 | AK182: 66
A183: =IF(J183="","",CONCATENATE(J183," ",I183)) -> Dain Shin | B183: 45767 | C183: Saint Nine Masters | D183: Gaya | E183: South Korea | F183: KLPGA | I183: Shin | J183: Dain | K183: mc | L183: 76 | M183: 70 | Q183: 146 | R183: 72.66 | S183: 72.02 | T183: 75.72 | U183: 70.14 | Y183: 72.93 | Z183: 95 | AA183: 66 | AE183: 11 | AF183: 10 | AJ183: 66 | AK183: 66
A184: =IF(J184="","",CONCATENATE(J184," ",I184)) -> Bit Na Han | B184: 45767 | C184: Saint Nine Masters | D184: Gaya | E184: South Korea | F184: KLPGA | I184: Han | J184: Bit Na | K184: mc | L184: 74 | M184: 73 | Q184: 147 | R184: 72.66 | S184: 72.02 | T184: 73.72 | U184: 73.14 | Y184: 73.43 | Z184: 72 | AA184: 76 | AE184: 9 | AF184: 11 | AJ184: 76 | AK184: 66
A185: =IF(J185="","",CONCATENATE(J185," ",I185)) -> Yaeeun Hong | B185: 45767 | C185: Saint Nine Masters | D185: Gaya | E185: South Korea | F185: KLPGA | I185: Hong | J185: Yaeeun | K185: mc | L185: 75 | M185: 72 | Q185: 147 | R185: 72.66 | S185: 72.02 | T185: 74.72 | U185: 72.14 | Y185: 73.43 | Z185: 85 | AA185: 76 | AE185: 10 | AF185: 11 | AJ185: 76 | AK185: 66
... A228: =IF(J228="","",CONCATENATE(J228," ",I228)) -> Haeun Kim | B228: 45767 | C228: Saint Nine Masters | D228: Gaya | E228: South Korea | F228: KLPGA | I228: Kim | J228: Haeun | K228: mc | L228: 79 | M228: 84 | Q228: 163 | R228: 72.66 | S228: 72.02 | T228: 78.72 | U228: 84.14 | Y228: 81.43 | Z228: 119 | AA228: 119 | AE228: 14 | AF228: 27 | AJ228: 119 | AK228: 66
A229: =IF(J229="","",CONCATENATE(J229," ",I229)) -> U Ree Jun | B229: 45767 | C229: Saint Nine Masters | D229: Gaya | E229: South Korea | F229: KLPGA | I229: Jun | J229: U Ree | K229: w | L229: 76 | Q229: 76 | R229: 72.66 | S229: 72.02 | T229: 75.72 | Y229: 75.72 | Z229: 95 | AE229: 11 | AJ229: 121 | AK229: 66
A230: =IF(J230="","",CONCATENATE(J230," ",I230)) -> Seo Yeon Kwon | B230: 45767 | C230: Saint Nine Masters | D230: Gaya | E230: South Korea | F230: KLPGA | I230: Kwon | J230: Seo Yeon | K230: w | L230: 72 | Q230: 72 | R230: 72.66 | S230: 72.02 | T230: 71.72 | Y230: 71.72 | Z230: 46 | AE230: 7 | AJ230: 121 | AK230: 66
A231: =IF(J231="","",CONCATENATE(J231," ",I231)) -> Jeyeong Lee | B231: 45767 | C231: Saint Nine Masters | D231: Gaya | E231: South Korea | F231: KLPGA | I231: Lee | J231: Jeyeong | K231: w | L231: 74 | Q231: 74 | R231: 72.66 | S231: 72.02 | T231: 73.72 | Y231: 73.72 | Z231: 72 | AE231: 9 | AJ231: 121 | AK231: 66
A232: =IF(J232="","",CONCATENATE(J232," ",I232)) -> Ingrid Lindblad | B232: 45767 | C232: LA Championship | D232: El Caballero | E232: California | F232: LPGA | I232: Lindblad | J232: Ingrid | K232: 1 | L232: 68 | M232: 63 | N232: 68 | O232: 68 | Q232: 267 | R232: 71.39 | S232: 71.08 | T232: 69.33 | U232: 63.96 | V232: 68.61 | W232: 69.12 | Y232: 67.76 | Z232: 24 | AA232: 1 | AB232: 1 | AC232: 1 | AE232: 5 | AF232: 0 | AG232: 0 | AH232: -1 | AJ232: 1 | AK232: 1 | AL232: 10 | AM232: 0.31736111 | AN232: 1 | AO232: 0.52569444 | AP232: 1 | AQ232: 0.57986111 | AR232: 1 | AS232: 0.56944444 | AV232: 262.33 | AW232: 37 | AX232: 54.76 | AY232: 66 | AZ232: 87.04 | BA232: 11 | BB232: 28 | BC232: 3 | BD232: 1.62 | BE232: 3 | BF232: 63.6 | BG232: 6 | BH232: 50 | BI232: 28 | BJ232: 65 | BK232: 47 | BL232: 44 | BM232: 2 | BN232: 10 | BO232: 1 | BP232: 60 | BQ232: -14 | BR232: 1 | BS232: -8 | BT232: 14 | BU232: 0 | BV232: 26 | BW232: 41 | BX232: 5 | BY232: 0 | BZ232: 4 | CA232: 16 | CB232: 40 | CC232: 16 | CD232: 253.76 | CE232: 72.48 | CF232: 68.14 | CG232: 49.56 | CH232: 1.69 | CI232: 29.65 | CJ232: 47.47 | CK232: 3.04 | CL232: 4.05 | CM232: 4.75 | CN232: 253.05 | CO232: 71.63 | CP232: 66.69 | CQ232: 50.4 | CR232: 1.69 | CS232: 29.48 | CT232: 46.5 | CU232: 3.06 | CV232: 4.06 | CW232: 4.76 | CX232: 25 | CY232: 1 | CZ232: 59 | DA232: 51 | DB232: 38 | DC232: 238 | DD232: 137 | DE232: 261 | DF232: 64 | DG232: 288 | DH232: 5 | DI232: 265 | DJ232: 29 | DM232: 57.14 | DN232: 86 | DO232: 57.14 | DP232: 98 | DQ232: 50 | DR232: 61 | DS232: 64.29 | DT232: 32 | DW232: 83.33 | DX232: 41 | DY232: 100 | DZ232: 1 | EA232: 77.78 | EB232: 31 | EC232: 77.78 | ED232: 34 | EG232: 30 | EH232: 54 | EI232: 27 | EJ232: 1 | EK232: 27 | EL232: 2 | EM232: 28 | EN232: 14 | EQ232: 1.73 | ER232: 67 | ES232: 1.5 | ET232: 4 | EU232: 1.64 | EV232: 16 | EW232: 1.64 | EX232: 9 | FA232: 66.67 | FB232: 30 | FE232: 75 | FF232: 5 | FG232: 50 | FH232: 33 | FO232: 0 | FQ232: 66.67 | FU232: 0 | FV232: 64 | FW232: -1 | FX232: 10 | FY232: 1 | FZ232: 50 | GA232: 1 | GB232: 59 | GE232: -3 | GF232: 9 | GG232: -6 | GH232: 1 | GI232: -3 | GJ232: 6 | GK232: -2 | GL232: 13 | GO232: -1 | GP232: 59 | GQ232: -2 | GR232: 34 | GS232: -2 | GT232: 22 | GU232: -3 | GV232: 4 | GY232: 0 | GZ232: 16 | HA232: 0 | HB232: 15 | HC232: 0 | HD232: 5 | HE232: 0 | HF232: 9 | HI232: 5 | HJ232: 38 | HK232: 10 | HL232: 1 | HM232: 5 | HN232: 22 | HO232: 6 | HP232: 5 | HS232: 12 | HT232: 41 | HU232: 7 | HV232: 141 | HW232: 12 | HX232: 19 | HY232: 10 | HZ232: 56 | IC232: 1 | ID232: 91 | IE232: 1 | IF232: 85 | IG232: 1 | IH232: 55 | II232: 2 | IJ232: 22 | IM232: 0 | IN232: 29 | IO232: 0 | IP232: 35 | IQ232: 0 | IR232: 13 | IS232: 0 | IT232: 16
A233: =IF(J233="","",CONCATENATE(J233," ",I233)) -> Akie Iwai | B233: 45767 | C233: LA Championship | D233: El Caballero | E233: California | F233: LPGA | I233: Iwai | J233: Akie | K233: 2 | L233: 66 | M233: 69 | N233: 64 | O233: 69 | Q233: 268 | R233: 71.39 | S233: 71.08 | T233: 67.33 | U233: 69.96 | V233: 64.61 | W233: 70.12 | Y233: 68.01 | Z233: 9 | AA233: 12 | AB233: 1 | AC233: 2 | AE233: 3 | AF233: 4 | AG233: 0 | AH233: 1 | AJ233: 2 | AK233: 2 | AL233: 10 | AM233: 0.31736111 | AN233: 1 | AO233: 0.52569444 | AP233: 1 | AQ233: 0.52430556 | AR233: 1 | AS233: 0.57638889 | AV233: 266.33 | AW233: 29 | AX233: 73.81 | AY233: 17 | AZ233: 92.59 | BA233: 3 | BB233: 29.67 | BC233: 23 | BD233: 1.68 | BE233: 13 | BF233: 55.6 | BG233: 20 | BH233: 83.33 | BI233: 1 | BJ233: 11 | BK233: 6 | BL233: 3 | BM233: 16 | BN233: 2 | BO233: 0 | BP233: 53 | BQ233: -10 | BR233: 4 | BS233: -10 | BT233: 3 | BU233: 2 | BV233: 22 | BW233: 43 | BX233: 4 | BY233: 1 | BZ233: 6 | CA233: 16 | CB233: 40 | CC233: 16 | CD233: 253.76 | CE233: 72.48 | CF233: 68.14 | CG233: 49.56 | CH233: 1.69 | CI233: 29.65 | CJ233: 47.47 | CK233: 3.04 | CL233: 4.05 | CM233: 4.75 | CN233: 253.05 | CO233: 71.63 | CP233: 66.69 | CQ233: 50.4 | CR233: 1.69 | CS233: 29.48 | CT233: 46.5 | CU233: 3.06 | CV233: 4.06 | CW233: 4.76 | CX233: 3 | CY233: 9 | CZ233: 49 | DA233: 61 | DB233: 7 | DC233: 261 | DD233: 64 | DE233: 265 | DF233: 44 | DG233: 273 | DH233: 23 | DI233: 262 | DJ233: 36 | DM233: 42.86 | DN233: 131 | DO233: 92.86 | DP233: 2 | DQ233: 85.71 | DR233: 5 | DS233: 35.71 | DT233: 71 | DW233: 100 | DX233: 1 | DY233: 88.89 | DZ233: 23 | EA233: 88.89 | EB233: 9 | EC233: 72.22 | ED233: 51 | EG233: 31 | EH233: 76 | EI233: 31 | EJ233: 63 | EK233: 27 | EL233: 2 | EM233: 29 | EN233: 20 | EQ233: 1.72 | ER233: 63 | ES233: 1.75 | ET233: 69 | EU233: 1.56 | EV233: 6 | EW233: 1.69 | EX233: 19 | FC233: 0 | FD233: 91 | FE233: 100 | FF233: 1 | FG233: 60 | FH233: 27 | FM233: 100 | FO233: 100 | FQ233: 75 | FU233: -1 | FV233: 21 | FW233: 1 | FX233: 94 | FY233: -1 | FZ233: 6 | GA233: 1 | GB233: 59 | GE233: -4 | GF233: 4 | GG233: -3 | GH233: 10 | GI233: -2 | GJ233: 10 | GK233: -1 | GL233: 18 | GO233: -1 | GP233: 59 | GQ233: -1 | GR233: 64 | GS233: -5 | GT233: 1 | GU233: -3 | GV233: 4 | GY233: 0 | GZ233: 16 | HA233: 1 | HB233: 2 | HC233: 1 | HD233: 1 | HE233: 0 | HF233: 9 | HI233: 7 | HJ233: 6 | HK233: 4 | HL233: 60 | HM233: 6 | HN233: 9 | HO233: 5 | HP233: 15 | HS233: 10 | HT233: 97 | HU233: 11 | HV233: 74 | HW233: 11 | HX233: 33 | HY233: 11 | HZ233: 37 | IC233: 1 | ID233: 91 | IE233: 1 | IF233: 85 | IG233: 0 | IH233: 69 | II233: 2 | IJ233: 22 | IM233: 0 | IN233: 29 | IO233: 1 | IP233: 5 | IQ233: 0 | IR233: 13 | IS233: 0 | IT233: 16
A234: =IF(J234="","",CONCATENATE(J234," ",I234)) -> Lauren Coughlin | B234: 45767 | C234: LA Championship | D234: El Caballero | E234: California | F234: LPGA | I234: Coughlin | J234: Lauren | K234: 3 | L234: 66 | M234: 67 | N234: 66 | O234: 70 | Q234: 269 | R234: 71.39 | S234: 71.08 | T234: 67.33 | U234: 67.96 | V234: 66.61 | W234: 71.12 | Y234: 68.26 | Z234: 9 | AA234: 4 | AB234: 1 | AC234: 3 | AE234: 3 | AF234: 2 | AG234: 0 | AH234: 2 | AJ234: 3 | AK234: 4 | AL234: 10 | AM234: 0.325 | AN234: 1 | AO234: 0.53333333 | AP234: 1 | AQ234: 0.56597222 | AR234: 1 | AS234: 0.57638889 | AV234: 260 | AW234: 43 | AX234: 85.71 | AY234: 2 | AZ234: 88.89 | BA234: 8 | BB234: 28.67 | BC234: 10 | BD234: 1.67 | BE234: 9 | BF234: 72.7 | BG234: 2 | BH234: 33.33 | BI234: 49 | BJ234: 10 | BK234: 1 | BL234: 6 | BM234: 8 | BN234: 1 | BO234: -2 | BP234: 19 | BQ234: -4 | BR234: 22 | BS234: -13 | BT234: 1 | BU234: 1 | BV234: 20 | BW234: 48 | BX234: 3 | BY234: 0 | BZ234: 6 | CA234: 16 | CB234: 40 | CC234: 16 | CD234: 253.76 | CE234: 72.48 | CF234: 68.14 | CG234: 49.56 | CH234: 1.69 | CI234: 29.65 | CJ234: 47.47 | CK234: 3.04 | CL234: 4.05 | CM234: 4.75 | CN234: 253.05 | CO234: 71.63 | CP234: 66.69 | CQ234: 50.4 | CR234: 1.69 | CS234: 29.48 | CT234: 46.5 | CU234: 3.06 | CV234: 4.06 | CW234: 4.76 | CX234: 10 | CY234: 16 | CZ234: 19 | DA234: 69 | DB234: 38 | DC234: 257 | DD234: 90 | DE234: 264 | DF234: 53 | DG234: 259 | DH234: 50 | DI234: 259 | DJ234: 42 | DM234: 92.86 | DN234: 1 | DO234: 78.57 | DP234: 20 | DQ234: 85.71 | DR234: 5 | DS234: 85.71 | DT234: 4 | DW234: 94.44 | DX234: 8 | DY234: 83.33 | DZ234: 43 | EA234: 88.89 | EB234: 9 | EC234: 72.22 | ED234: 51 | EG234: 29 | EH234: 33 | EI234: 29 | EJ234: 16 | EK234: 28 | EL234: 10 | EM234: 30 | EN234: 29 | EQ234: 1.65 | ER234: 37 | ES234: 1.67 | ET234: 39 | EU234: 1.62 | EV234: 15 | EW234: 1.77 | EX234: 34 | FA234: 100 | FB234: 1 | FC234: 66.67 | FD234: 25 | FE234: 100 | FF234: 1 | FG234: 60 | FH234: 27 | FK234: 50 | FO234: 50 | FQ234: 0 | FU234: -1 | FV234: 21 | FW234: 0 | FX234: 40 | FY234: 0 | FZ234: 27 | GA234: -1 | GB234: 13 | GE234: -2 | GF234: 21 | GG234: 0 | GH234: 71 | GI234: -4 | GJ234: 3 | GK234: 2 | GL234: 55 | GO234: -3 | GP234: 6 | GQ234: -5 | GR234: 1 | GS234: -2 | GT234: 22 | GU234: -3 | GV234: 4 | GY234: 0 | GZ234: 16 | HA234: 1 | HB234: 2 | HC234: 0 | HD234: 5 | HE234: 0 | HF234: 9 | HI234: 6 | HJ234: 12 | HK234: 4 | HL234: 60 | HM234: 6 | HN234: 9 | HO234: 4 | HP234: 29 | HS234: 12 | HT234: 41 | HU234: 12 | HV234: 41 | HW234: 12 | HX234: 19 | HY234: 12 | HZ234: 22 | IC234: 0 | ID234: 126 | IE234: 1 | IF234: 85 | IG234: 0 | IH234: 69 | II234: 2 | IJ234: 22 | IM234: 0 | IN234: 29 | IO234: 0 | IP234: 35 | IQ234: 0 | IR234: 13 | IS234: 0 | IT234: 16
A235: =IF(J235="","",CONCATENATE(J235," ",I235)) -> Esther Henseleit | B235: 45767 | C235: LA Championship | D235: El Caballero | E235: California | F235: LPGA | I235: Henseleit | J235: Esther | K235: 3 | L235: 71 | M235: 68 | N235: 66 | O235: 64 | Q235: 269 | R235: 71.39 | S235: 71.08 | T235: 72.33 | U235: 68.96 | V235: 66.61 | W235: 65.12 | Y235: 68.26 | Z235: 81 | AA235: 54 | AB235: 12 | AC235: 3 | AE235: 8 | AF235: 8 | AG235: 6 | AH235: 2 | AJ235: 3 | AK235: 4 | AL235: 1 | AM235: 0.35555556 | AN235: 10 | AO235: 0.56388889 | AP235: 1 | AQ235: 0.39236111 | AR235: 1 | AS235: 0.54166667 | AV235: 263.33 | AW235: 34 | AX235: 66.67 | AY235: 37 | AZ235: 83.33 | BA235: 26 | BB235: 29.33 | BC235: 16 | BD235: 1.64 | BE235: 6 | BF235: 63.6 | BG235: 6 | BH235: 16.67 | BI235: 69 | BJ235: 38 | BK235: 31 | BL235: 35 | BM235: 10 | BN235: 5 | BO235: -1 | BP235: 34 | BQ235: -10 | BR235: 4 | BS235: -8 | BT235: 14 | BU235: 0 | BV235: 24 | BW235: 44 | BX235: 3 | BY235: 1 | BZ235: 6 | CA235: 16 | CB235: 40 | CC235: 16 | CD235: 253.76 | CE235: 72.48 | CF235: 68.14 | CG235: 49.56 | CH235: 1.69 | CI235: 29.65 | CJ235: 47.47 | CK235: 3.04 | CL235: 4.05 | CM235: 4.75 | CN235: 253.05 | CO235: 71.63 | CP235: 66.69 | CQ235: 50.4 | CR235: 1.69 | CS235: 29.48 | CT235: 46.5 | CU235: 3.06 | CV235: 4.06 | CW235: 4.76 | CX235: 25 | CY235: 3 | CZ235: 42 | DA235: 69 | DB235: 7 | DC235: 259 | DD235: 78 | DE235: 270 | DF235: 29 | DG235: 261 | DH235: 47 | DI235: 263 | DJ235: 32 | DM235: 64.29 | DN235: 50 | DO235: 64.29 | DP235: 69 | DQ235: 71.43 | DR235: 24 | DS235: 35.71 | DT235: 71 | DW235: 77.78 | DX235: 69 | DY235: 77.78 | DZ235: 72 | EA235: 94.44 | EB235: 1 | EC235: 88.89 | ED235: 7 | EG235: 31 | EH235: 76 | EI235: 30 | EJ235: 34 | EK235: 27 | EL235: 2 | EM235: 27 | EN235: 9 | EQ235: 1.79 | ER235: 94 | ES235: 1.79 | ET235: 89 | EU235: 1.47 | EV235: 3 | EW235: 1.56 | EX235: 6 | FA235: 50 | FB235: 45 | FC235: 75 | FD235: 17 | FE235: 0 | FF235: 47 | FG235: 100 | FH235: 1 | FK235: 0 | FM235: 0 | FO235: 0 | FQ235: 100 | FU235: 1 | FV235: 118 | FW235: 1 | FX235: 94 | FY235: -1 | FZ235: 6 | GA235: -2 | GB235: 3 | GE235: -1 | GF235: 41 | GG235: -2 | GH235: 20 | GI235: -3 | GJ235: 6 | GK235: -4 | GL235: 1 | GO235: -1 | GP235: 59 | GQ235: -3 | GR235: 10 | GS235: -2 | GT235: 22 | GU235: -2 | GV235: 17 | GY235: 0 | GZ235: 16 | HA235: 0 | HB235: 15 | HC235: 0 | HD235: 5 | HE235: 0 | HF235: 9 | HI235: 3 | HJ235: 90 | HK235: 5 | HL235: 32 | HM235: 8 | HN235: 3 | HO235: 8 | HP235: 2 | HS235: 13 | HT235: 22 | HU235: 12 | HV235: 41 | HW235: 9 | HX235: 55 | HY235: 10 | HZ235: 56 | IC235: 2 | ID235: 54 | IE235: 1 | IF235: 85 | IG235: 0 | IH235: 69 | II235: 0 | IJ235: 60 | IM235: 0 | IN235: 29 | IO235: 0 | IP235: 35 | IQ235: 1 | IR235: 2 | IS235: 0 | IT235: 16
A236: =IF(J236="","",CONCATENATE(J236," ",I236)) -> Miyu Yamashita | B236: 45767 | C236: LA Championship | D236: El Caballero | E236: California | F236: LPGA | I236: Yamashita | J236: Miyu | K236: 3 | L236: 68 | M236: 65 | N236: 70 | O236: 66 | Q236: 269 | R236: 71.39 | S236: 71.08 | T236: 69.33 | U236: 65.96 | V236: 70.61 | W236: 67.12 | Y236: 68.26 | Z236: 24 | AA236: 4 | AB236: 8 | AC236: 3 | AE236: 5 | AF236: 2 | AG236: 4 | AH236: 2 | AJ236: 3 | AK236: 4 | AL236: 1 | AM236: 0.56388889 | AN236: 10 | AO236: 0.35555556 | AP236: 1 | AQ236: 0.57291667 | AR236: 1 | AS236: 0.54861111 | AV236: 249.67 | AW236: 64 | AX236: 76.19 | AY236: 13 | AZ236: 79.63 | BA236: 48 | BB236: 28 | BC236: 3 | BD236: 1.63 | BE236: 4 | BF236: 41.7 | BG236: 48 | BH236: 60 | BI236: 16 | BJ236: 44 | BK236: 27 | BL236: 47 | BM236: 4 | BN236: 34 | BO236: -2 | BP236: 19 | BQ236: -7 | BR236: 9 | BS236: -10 | BT236: 3 | BU236: 1 | BV236: 24 | BW236: 40 | BX236: 7 | BY236: 0 | BZ236: 5 | CA236: 16 | CB236: 40 | CC236: 16 | CD236: 253.76 | CE236: 72.48 | CF236: 68.14 | CG236: 49.56 | CH236: 1.69 | CI236: 29.65 | CJ236: 47.47 | CK236: 3.04 | CL236: 4.05 | CM236: 4.75 | CN236: 253.05 | CO236: 71.63 | CP236: 66.69 | CQ236: 50.4 | CR236: 1.69 | CS236: 29.48 | CT236: 46.5 | CU236: 3.06 | CV236: 4.06 | CW236: 4.76 | CX236: 10 | CY236: 3 | CZ236: 65 | DA236: 33 | DB236: 38 | DC236: 246 | DD236: 122 | DE236: 245 | DF236: 121 | DG236: 258 | DH236: 54 | DI236: 248 | DJ236: 65 | DM236: 71.43 | DN236: 28 | DO236: 85.71 | DP236: 5 | DQ236: 71.43 | DR236: 24 | DS236: 85.71 | DT236: 4 | DW236: 77.78 | DX236: 69 | DY236: 88.89 | DZ236: 23 | EA236: 72.22 | EB236: 49 | EC236: 94.44 | ED236: 4 | EG236: 28 | EH236: 19 | EI236: 27 | EJ236: 1 | EK236: 29 | EL236: 16 | EM236: 29 | EN236: 20 | EQ236: 1.71 | ER236: 56 | ES236: 1.5 | ET236: 3 | EU236: 1.62 | EV236: 12 | EW236: 1.71 | EX236: 22 | FA236: 50 | FB236: 45 | FC236: 0 | FD236: 91 | FE236: 40 | FF236: 26 | FG236: 100 | FH236: 1 | FK236: 50 | FO236: 66.67 | FU236: -1 | FV236: 21 | FW236: -1 | FX236: 10 | FY236: 1 | FZ236: 50 | GA236: -1 | GB236: 13 | GE236: -2 | GF236: 21 | GG236: -1 | GH236: 42 | GI236: 0 | GJ236: 28 | GK236: -4 | GL236: 1 | GO236: -1 | GP236: 59 | GQ236: -5 | GR236: 1 | GS236: -3 | GT236: 8 | GU236: -1 | GV236: 38 | GY236: 0 | GZ236: 16 | HA236: 1 | HB236: 2 | HC236: 0 | HD236: 5 | HE236: 0 | HF236: 9 | HI236: 6 | HJ236: 12 | HK236: 7 | HL236: 4 | HM236: 5 | HN236: 22 | HO236: 6 | HP236: 5 | HS236: 10 | HT236: 97 | HU236: 8 | HV236: 133 | HW236: 10 | HX236: 42 | HY236: 12 | HZ236: 22 | IC236: 2 | ID236: 54 | IE236: 2 | IF236: 52 | IG236: 3 | IH236: 19 | II236: 0 | IJ236: 60 | IM236: 0 | IN236: 29 | IO236: 0 | IP236: 35 | IQ236: 0 | IR236: 13 | IS236: 0 | IT236: 16
A237: =IF(J237="","",CONCATENATE(J237," ",I237)) -> Nasa Hataoka | B237: 45767 | C237: LA Championship | D237: El Caballero | E237: California | F237: LPGA | I237: Hataoka | J237: Nasa | K237: 6 | L237: 70 | M237: 66 | N237: 71 | O237: 63 | Q237: 270 | R237: 71.39 | S237: 71.08 | T237: 71.33 | U237: 66.96 | V237: 71.61 | W237: 64.12 | Y237: 68.51 | Z237: 62 | AA237: 20 | AB237: 29 | AC237: 6 | AE237: 7 | AF237: 5 | AG237: 8 | AH237: 3 | AJ237: 6 | AK237: 6 | AL237: 1 | AM237: 0.53333333 | AN237: 10 | AO237: 0.325 | AP237: 1 | AQ237: 0.51736111 | AR237: 1 | AS237: 0.45833333 | AV237: 259 | AW237: 44 | AX237: 69.05 | AY237: 26 | AZ237: 90.74 | BA237: 6 | BB237: 32 | BC237: 67 | BD237: 1.72 | BE237: 27 | BF237: 62.5 | BG237: 10 | BH237: 50 | BI237: 28 | BJ237: 35 | BK237: 10 | BL237: 19 | BM237: 48 | BN237: 8 | BO237: -6 | BP237: 1 | BQ237: -3 | BR237: 26 | BS237: -9 | BT237: 8 | BU237: 0 | BV237: 22 | BW237: 46 | BX237: 4 | BY237: 0 | BZ237: 2 | CA237: 16 | CB237: 40 | CC237: 16 | CD237: 253.76 | CE237: 72.48 | CF237: 68.14 | CG237: 49.56 | CH237: 1.69 | CI237: 29.65 | CJ237: 47.47 | CK237: 3.04 | CL237: 4.05 | CM237: 4.75 | CN237: 253.05 | CO237: 71.63 | CP237: 66.69 | CQ237: 50.4 | CR237: 1.69 | CS237: 29.48 | CT237: 46.5 | CU237: 3.06 | CV237: 4.06 | CW237: 4.76 | CX237: 25 | CY237: 9 | CZ237: 29 | DA237: 61 | DB237: 38 | DC237: 270 | DD237: 43 | DE237: 248 | DF237: 114 | DG237: 259 | DH237: 50 | DI237: 274 | DJ237: 17 | DM237: 64.29 | DN237: 50 | DO237: 78.57 | DP237: 20 | DQ237: 64.29 | DR237: 38 | DS237: 78.57 | DT237: 13 | DW237: 83.33 | DX237: 41 | DY237: 100 | DZ237: 1 | EA237: 88.89 | EB237: 9 | EC237: 83.33 | ED237: 17 | EG237: 31 | EH237: 76 | EI237: 31 | EJ237: 63 | EK237: 34 | EL237: 61 | EM237: 24 | EN237: 1 | EQ237: 1.8 | ER237: 106 | ES237: 1.72 | ET237: 59 | EU237: 1.87 | EV237: 53 | EW237: 1.47 | EX237: 1 | FA237: 66.67 | FB237: 30 | FE237: 0 | FF237: 47 | FG237: 100 | FH237: 1 | FK237: 100 | FO237: 0 | FU237: 0 | FV237: 64 | FW237: -2 | FX237: 1 | FY237: 0 | FZ237: 27 | GA237: -4 | GB237: 1 | GE237: 0 | GF237: 72 | GG237: -2 | GH237: 20 | GI237: 2 | GJ237: 54 | GK237: -3 | GL237: 6 | GO237: -2 | GP237: 26 | GQ237: -2 | GR237: 34 | GS237: -3 | GT237: 8 | GU237: -2 | GV237: 17 | GY237: 0 | GZ237: 16 | HA237: 0 | HB237: 15 | HC237: 0 | HD237: 5 | HE237: 0 | HF237: 9 | HI237: 3 | HJ237: 90 | HK237: 7 | HL237: 4 | HM237: 3 | HN237: 49 | HO237: 9 | HP237: 1 | HS237: 14 | HT237: 9 | HU237: 10 | HV237: 99 | HW237: 13 | HX237: 9 | HY237: 9 | HZ237: 68 | IC237: 1 | ID237: 91 | IE237: 1 | IF237: 85 | IG237: 2 | IH237: 38 | II237: 0 | IJ237: 60 | IM237: 0 | IN237: 29 | IO237: 0 | IP237: 35 | IQ237: 0 | IR237: 13 | IS237: 0 | IT237: 16
A238: =IF(J238="","",CONCATENATE(J238," ",I238)) -> Jin Young Ko | B238: 45767 | C238: LA Championship | D238: El Caballero | E238: California | F238: LPGA | I238: Ko | J238: Jin Young | K238: 7 | L238: 67 | M238: 69 | N238: 69 | O238: 66 | Q238: 271 | R238: 71.39 | S238: 71.08 | T238: 68.33 | U238: 69.96 | V238: 69.61 | W238: 67.12 | Y238: 68.76 | Z238: 15 | AA238: 20 | AB238: 12 | AC238: 7 | AE238: 4 | AF238: 5 | AG238: 6 | AH238: 4 | AJ238: 7 | AK238: 7.5 | AL238: 1 | AM238: 0.54097222 | AN238: 10 | AO238: 0.33263889 | AP238: 1 | AQ238: 0.48958333 | AR238: 1 | AS238: 0.52777778 | AV238: 266.67 | AW238: 28 | AX238: 78.57 | AY238: 8 | AZ238: 90.74 | BA238: 4 | BB238: 32.33 | BC238: 71 | BD238: 1.75 | BE238: 34 | BF238: 50 | BG238: 29 | BH238: 0 | BI238: 71 | BJ238: 3 | BK238: 2 | BL238: 2 | BM238: 56 | BN238: 4 | BO238: 0 | BP238: 53 | BQ238: -9 | BR238: 7 | BS238: -8 | BT238: 14 | BU238: 0 | BV238: 24 | BW238: 41 | BX238: 7 | BY238: 0 | BZ238: 3 | CA238: 16 | CB238: 40 | CC238: 16 | CD238: 253.76 | CE238: 72.48 | CF238: 68.14 | CG238: 49.56 | CH238: 1.69 | CI238: 29.65 | CJ238: 47.47 | CK238: 3.04 | CL238: 4.05 | CM238: 4.75 | CN238: 253.05 | CO238: 71.63 | CP238: 66.69 | CQ238: 50.4 | CR238: 1.69 | CS238: 29.48 | CT238: 46.5 | CU238: 3.06 | CV238: 4.06 | CW238: 4.76 | CX238: 25 | CY238: 3 | CZ238: 59 | DA238: 33 | DB238: 38 | DC238: 277 | DD238: 18 | DE238: 254 | DF238: 91 | DG238: 269 | DH238: 35 | DI238: 278 | DJ238: 15 | DM238: 71.43 | DN238: 28 | DO238: 78.57 | DP238: 20 | DQ238: 85.71 | DR238: 5 | DS238: 92.86 | DT238: 1 | DW238: 100 | DX238: 1 | DY238: 77.78 | DZ238: 72 | EA238: 94.44 | EB238: 1 | EC238: 83.33 | ED238: 17 | EG238: 33 | EH238: 115 | EI238: 31 | EJ238: 63 | EK238: 33 | EL238: 56 | EM238: 27 | EN238: 9 | EQ238: 1.83 | ER238: 114 | ES238: 1.71 | ET238: 55 | EU238: 1.82 | EV238: 43 | EW238: 1.6 | EX238: 8 | FC238: 25 | FD238: 72 | FE238: 0 | FF238: 47 | FG238: 100 | FH238: 1 | FM238: 0 | FO238: 0 | FU238: 0 | FV238: 64 | FW238: 1 | FX238: 94 | FY238: 0 | FZ238: 27 | GA238: -1 | GB238: 13 | GE238: -3 | GF238: 9 | GG238: 0 | GH238: 71 | GI238: -2 | GJ238: 10 | GK238: -4 | GL238: 1 | GO238: -2 | GP238: 26 | GQ238: -4 | GR238: 5 | GS238: -1 | GT238: 39 | GU238: -1 | GV238: 38 | GY238: 0 | GZ238: 16 | HA238: 0 | HB238: 15 | HC238: 0 | HD238: 5 | HE238: 0 | HF238: 9 | HI238: 6 | HJ238: 12 | HK238: 6 | HL238: 12 | HM238: 6 | HN238: 9 | HO238: 6 | HP238: 5 | HS238: 11 | HT238: 71 | HU238: 9 | HV238: 121 | HW238: 9 | HX238: 55 | HY238: 12 | HZ238: 22 | IC238: 1 | ID238: 91 | IE238: 3 | IF238: 25 | IG238: 3 | IH238: 19 | II238: 0 | IJ238: 60 | IM238: 0 | IN238: 29 | IO238: 0 | IP238: 35 | IQ238: 0 | IR238: 13 | IS238: 0 | IT238: 16
A239: =IF(J239="","",CONCATENATE(J239," ",I239)) -> Minjee Lee | B239: 45767 | C239: LA Championship | D239: El Caballero | E239: California | F239: LPGA | I239: Lee | J239: Minjee | K239: 7 | L239: 67 | M239: 65 | N239: 70 | O239: 69 | Q239: 271 | R239: 71.39 | S239: 71.08 | T239: 68.33 | U239: 65.96 | V239: 70.61 | W239: 70.12 | Y239: 68.76 | Z239: 15 | AA239: 3 | AB239: 5 | AC239: 7 | AE239: 4 | AF239: 1 | AG239: 3 | AH239: 4 | AJ239: 7 | AK239: 7.5 | AL239: 1 | AM239: 0.54861111 | AN239: 10 | AO239: 0.34027778 | AP239: 1 | AQ239: 0.57291667 | AR239: 1 | AS239: 0.55555556 | AV239: 268.33 | AW239: 19 | AX239: 76.19 | AY239: 13 | AZ239: 81.48 | BA239: 39 | BB239: 28.33 | BC239: 7 | BD239: 1.73 | BE239: 29 | BF239: 53.8 | BG239: 24 | BH239: 66.67 | BI239: 9 | BJ239: 1 | BK239: 22 | BL239: 18 | BM239: 16 | BN239: 12 | BO239: -1 | BP239: 34 | BQ239: -10 | BR239: 4 | BS239: -6 | BT239: 40 | BU239: 0 | BV239: 23 | BW239: 43 | BX239: 6 | BY239: 0 | BZ239: 6 | CA239: 16 | CB239: 40 | CC239: 16 | CD239: 253.76 | CE239: 72.48 | CF239: 68.14 | CG239: 49.56 | CH239: 1.69 | CI239: 29.65 | CJ239: 47.47 | CK239: 3.04 | CL239: 4.05 | CM239: 4.75 | CN239: 253.05 | CO239: 71.63 | CP239: 66.69 | CQ239: 50.4 | CR239: 1.69 | CS239: 29.48 | CT239: 46.5 | CU239: 3.06 | CV239: 4.06 | CW239: 4.76 | CX239: 25 | CY239: 7 | CZ239: 49 | DA239: 42 | DB239: 38 | DC239: 267 | DD239: 50 | DE239: 254 | DF239: 91 | DG239: 284 | DH239: 9 | DI239: 273 | DJ239: 19 | DM239: 78.57 | DN239: 14 | DO239: 78.57 | DP239: 20 | DQ239: 71.43 | DR239: 24 | DS239: 71.43 | DT239: 18 | DW239: 77.78 | DX239: 69 | DY239: 94.44 | DZ239: 5 | EA239: 72.22 | EB239: 49 | EC239: 83.33 | ED239: 17 | EG239: 27 | EH239: 10 | EI239: 30 | EJ239: 34 | EK239: 28 | EL239: 10 | EM239: 32 | EN239: 48 | EQ239: 1.64 | ER239: 34 | ES239: 1.71 | ET239: 49 | EU239: 1.69 | EV239: 29 | EW239: 1.87 | EX239: 57 | FA239: 75 | FB239: 20 | FC239: 100 | FD239: 1 | FE239: 20 | FF239: 43 | FG239: 66.67 | FH239: 20 | FK239: 66.67 | FM239: 100 | FO239: 50 | FU239: -2 | FV239: 4 | FW239: 0 | FX239: 40 | FY239: 2 | FZ239: 70 | GA239: -1 | GB239: 13 | GE239: -2 | GF239: 21 | GG239: -5 | GH239: 2 | GI239: -3 | GJ239: 6 | GK239: 0 | GL239: 32 | GO239: -1 | GP239: 59 | GQ239: -2 | GR239: 34 | GS239: -1 | GT239: 39 | GU239: -2 | GV239: 17 | GY239: 0 | GZ239: 16 | HA239: 0 | HB239: 15 | HC239: 0 | HD239: 5 | HE239: 0 | HF239: 9 | HI239: 6 | HJ239: 12 | HK239: 7 | HL239: 4 | HM239: 6 | HN239: 9 | HO239: 4 | HP239: 29 | HS239: 11 | HT239: 71 | HU239: 11 | HV239: 74 | HW239: 8 | HX239: 63 | HY239: 13 | HZ239: 14 | IC239: 1 | ID239: 91 | IE239: 0 | IF239: 131 | IG239: 4 | IH239: 7 | II239: 1 | IJ239: 39 | IM239: 0 | IN239: 29 | IO239: 0 | IP239: 35 | IQ239: 0 | IR239: 13 | IS239: 0 | IT239: 16
A240: =IF(J240="","",CONCATENATE(J240," ",I240)) -> Hannah Green | B240: 45767 | C240: LA Championship | D240: El Caballero | E240: California | F240: LPGA | I240: Green | J240: Hannah | K240: 9 | L240: 69 | M240: 67 | N240: 69 | O240: 67 | Q240: 272 | R240: 71.39 | S240: 71.08 | T240: 70.33 | U240: 67.96 | V240: 69.61 | W240: 68.12 | Y240: 69.01 | Z240: 44 | AA240: 20 | AB240: 12 | AC240: 9 | AE240: 6 | AF240: 5 | AG240: 6 | AH240: 5 | AJ240: 9 | AK240: 9.5 | AL240: 10 | AM240: 0.33263889 | AN240: 1 | AO240: 0.54097222 | AP240: 1 | AQ240: 0.50347222 | AR240: 1 | AS240: 0.53472222 | AV240: 265.33 | AW240: 32 | AX240: 80.95 | AY240: 6 | AZ240: 85.19 | BA240: 15 | BB240: 30 | BC240: 30 | BD240: 1.75 | BE240: 34 | BF240: 50 | BG240: 29 | BH240: 33.33 | BI240: 49 | BJ240: 5 | BK240: 7 | BL240: 6 | BM240: 34 | BN240: 9 | BO240: -5 | BP240: 3 | BQ240: -3 | BR240: 26 | BS240: -8 | BT240: 14 | BU240: 1 | BV240: 19 | BW240: 47 | BX240: 5 | BY240: 0 | BZ240: 6 | CA240: 16 | CB240: 40 | CC240: 16 | CD240: 253.76 | CE240: 72.48 | CF240: 68.14 | CG240: 49.56 | CH240: 1.69 | CI240: 29.65 | CJ240: 47.47 | CK240: 3.04 | CL240: 4.05 | CM240: 4.75 | CN240: 253.05 | CO240: 71.63 | CP240: 66.69 | CQ240: 50.4 | CR240: 1.69 | CS240: 29.48 | CT240: 46.5 | CU240: 3.06 | CV240: 4.06 | CW240: 4.76 | CX240: 10 | CY240: 25 | CZ240: 23 | DA240: 51 | DB240: 38 | DC240: 262 | DD240: 62 | DE240: 267 | DF240: 36 | DG240: 267 | DH240: 38 | DI240: 248 | DJ240: 65 | DM240: 64.29 | DN240: 50 | DO240: 78.57 | DP240: 20 | DQ240: 100 | DR240: 1 | DS240: 78.57 | DT240: 13 | DW240: 77.78 | DX240: 69 | DY240: 100 | DZ240: 1 | EA240: 77.78 | EB240: 31 | EC240: 100 | ED240: 1 | EG240: 30 | EH240: 54 | EI240: 32 | EJ240: 81 | EK240: 28 | EL240: 10 | EM240: 32 | EN240: 48 | EQ240: 1.79 | ER240: 94 | ES240: 1.78 | ET240: 87 | EU240: 1.64 | EV240: 16 | EW240: 1.78 | EX240: 38 | FA240: 50 | FB240: 45 | FE240: 50 | FF240: 16 | FK240: 0 | FM240: 0 | FO240: 66.67 | FQ240: 0 | FU240: -3 | FV240: 1 | FW240: -1 | FX240: 10 | FY240: 1 | FZ240: 50 | GA240: -2 | GB240: 3 | GE240: 1 | GF240: 97 | GG240: -1 | GH240: 42 | GI240: 0 | GJ240: 28 | GK240: -3 | GL240: 6 | GO240: -1 | GP240: 59 | GQ240: -3 | GR240: 10 | GS240: -4 | GT240: 3 | GU240: 0 | GV240: 63 | GY240: 0 | GZ240: 16 | HA240: 1 | HB240: 2 | HC240: 0 | HD240: 5 | HE240: 0 | HF240: 9 | HI240: 5 | HJ240: 38 | HK240: 3 | HL240: 89 | HM240: 5 | HN240: 22 | HO240: 6 | HP240: 5 | HS240: 11 | HT240: 71 | HU240: 14 | HV240: 12 | HW240: 11 | HX240: 33 | HY240: 11 | HZ240: 37 | IC240: 2 | ID240: 54 | IE240: 0 | IF240: 131 | IG240: 2 | IH240: 38 | II240: 1 | IJ240: 39 | IM240: 0 | IN240: 29 | IO240: 0 | IP240: 35 | IQ240: 0 | IR240: 13 | IS240: 0 | IT240: 16
A241: =IF(J241="","",CONCATENATE(J241," ",I241)) -> Jeeno Thitikul | B241: 45767 | C241: LA Championship | D241: El Caballero | E241: California | F241: LPGA | I241: Thitikul | J241: Jeeno | K241: 9 | L241: 68 | M241: 67 | N241: 68 | O241: 69 | Q241: 272 | R241: 71.39 | S241: 71.08 | T241: 69.33 | U241: 67.96 | V241: 68.61 | W241: 70.12 | Y241: 69.01 | Z241: 24 | AA241: 12 | AB241: 8 | AC241: 9 | AE241: 5 | AF241: 4 | AG241: 4 | AH241: 5 | AJ241: 9 | AK241: 9.5 | AL241: 1 | AM241: 0.53333333 | AN241: 10 | AO241: 0.325 | AP241: 1 | AQ241: 0.53819444 | AR241: 1 | AS241: 0.55555556 | AV241: 267 | AW241: 26 | AX241: 69.05 | AY241: 26 | AZ241: 85.19 | BA241: 15 | BB241: 28.67 | BC241: 10 | BD241: 1.61 | BE241: 2 | BF241: 53.3 | BG241: 25 | BH241: 44.44 | BI241: 40 | BJ241: 18 | BK241: 15 | BL241: 12 | BM241: 6 | BN241: 3 | BO241: 2 | BP241: 64 | BQ241: -13 | BR241: 2 | BS241: -5 | BT241: 54 | BU241: 2 | BV241: 20 | BW241: 43 | BX241: 6 | BY241: 1 | BZ241: 9 | CA241: 16 | CB241: 40 | CC241: 16 | CD241: 253.76 | CE241: 72.48 | CF241: 68.14 | CG241: 49.56 | CH241: 1.69 | CI241: 29.65 | CJ241: 47.47 | CK241: 3.04 | CL241: 4.05 | CM241: 4.75 | CN241: 253.05 | CO241: 71.63 | CP241: 66.69 | CQ241: 50.4 | CR241: 1.69 | CS241: 29.48 | CT241: 46.5 | CU241: 3.06 | CV241: 4.06 | CW241: 4.76 | CX241: 3 | CY241: 16 | CZ241: 49 | DA241: 42 | DB241: 7 | DC241: 273 | DD241: 32 | DE241: 257 | DF241: 79 | DG241: 271 | DH241: 26 | DI241: 261 | DJ241: 37 | DM241: 71.43 | DN241: 28 | DO241: 78.57 | DP241: 20 | DQ241: 57.14 | DR241: 47 | DS241: 85.71 | DT241: 4 | DW241: 83.33 | DX241: 41 | DY241: 88.89 | DZ241: 23 | EA241: 83.33 | EB241: 19 | EC241: 61.11 | ED241: 70 | EG241: 30 | EH241: 54 | EI241: 28 | EJ241: 8 | EK241: 28 | EL241: 10 | EM241: 26 | EN241: 5 | EQ241: 1.6 | ER241: 23 | ES241: 1.62 | ET241: 21 | EU241: 1.67 | EV241: 26 | EW241: 1.55 | EX241: 5 | FA241: 33.33 | FB241: 76 | FC241: 50 | FD241: 36 | FE241: 66.67 | FF241: 9 | FG241: 57.14 | FH241: 32 | FK241: 0 | FM241: 50 | FO241: 50 | FQ241: 66.67 | FU241: 1 | FV241: 118 | FW241: -1 | FX241: 10 | FY241: 1 | FZ241: 50 | GA241: 1 | GB241: 59 | GE241: -3 | GF241: 9 | GG241: -5 | GH241: 2 | GI241: -2 | GJ241: 10 | GK241: -3 | GL241: 6 | GO241: -2 | GP241: 26 | GQ241: 1 | GR241: 130 | GS241: -3 | GT241: 8 | GU241: -1 | GV241: 38 | GY241: 1 | GZ241: 1 | HA241: 1 | HB241: 2 | HC241: 0 | HD241: 5 | HE241: 0 | HF241: 9 | HI241: 5 | HJ241: 38 | HK241: 4 | HL241: 60 | HM241: 5 | HN241: 22 | HO241: 6 | HP241: 5 | HS241: 10 | HT241: 97 | HU241: 12 | HV241: 41 | HW241: 12 | HX241: 19 | HY241: 9 | HZ241: 68 | IC241: 1 | ID241: 91 | IE241: 1 | IF241: 85 | IG241: 1 | IH241: 55 | II241: 3 | IJ241: 13 | IM241: 1 | IN241: 1 | IO241: 0 | IP241: 35 | IQ241: 0 | IR241: 13 | IS241: 0 | IT241: 16
A242: =IF(J242="","",CONCATENATE(J242," ",I242)) -> Jenny Bae | B242: 45767 | C242: LA Championship | D242: El Caballero | E242: California | F242: LPGA | I242: Bae | J242: Jenny | K242: 11 | L242: 69 | M242: 69 | N242: 69 | O242: 66 | Q242: 273 | R242: 71.39 | S242: 71.08 | T242: 70.33 | U242: 69.96 | V242: 69.61 | W242: 67.12 | Y242: 69.26 | Z242: 44 | AA242: 43 | AB242: 29 | AC242: 11 | AE242: 6 | AF242: 7 | AG242: 8 | AH242: 6 | AJ242: 11 | AK242: 13 | AL242: 10 | AM242: 0.52569444 | AN242: 1 | AO242: 0.31736111 | AP242: 1 | AQ242: 0.42013889 | AR242: 1 | AS242: 0.47222222 | AV242: 273.67 | AW242: 12 | AX242: 71.43 | AY242: 23 | AZ242: 79.63 | BA242: 48 | BB242: 30 | BC242: 30 | BD242: 1.65 | BE242: 7 | BF242: 46.7 | BG242: 39 | BH242: 57.14 | BI242: 19 | BJ242: 2 | BK242: 39 | BL242: 25 | BM242: 19 | BN242: 13 | BO242: 2 | BP242: 64 | BQ242: -11 | BR242: 3 | BS242: -6 | BT242: 40 | BU242: 2 | BV242: 19 | BW242: 43 | BX242: 8 | BY242: 0 | BZ242: 7 | CA242: 16 | CB242: 40 | CC242: 16 | CD242: 253.76 | CE242: 72.48 | CF242: 68.14 | CG242: 49.56 | CH242: 1.69 | CI242: 29.65 | CJ242: 47.47 | CK242: 3.04 | CL242: 4.05 | CM242: 4.75 | CN242: 253.05 | CO242: 71.63 | CP242: 66.69 | CQ242: 50.4 | CR242: 1.69 | CS242: 29.48 | CT242: 46.5 | CU242: 3.06 | CV242: 4.06 | CW242: 4.76 | CX242: 3 | CY242: 25 | CZ242: 49 | DA242: 24 | DB242: 38 | DC242: 275 | DD242: 23 | DE242: 270 | DF242: 29 | DG242: 276 | DH242: 19 | DI242: 280 | DJ242: 10 | DM242: 64.29 | DN242: 50 | DO242: 85.71 | DP242: 5 | DQ242: 64.29 | DR242: 38 | DS242: 50 | DT242: 53 | DW242: 83.33 | DX242: 41 | DY242: 83.33 | DZ242: 43 | EA242: 72.22 | EB242: 49 | EC242: 77.78 | ED242: 34 | EG242: 32 | EH242: 93 | EI242: 30 | EJ242: 34 | EK242: 28 | EL242: 10 | EM242: 26 | EN242: 5 | EQ242: 1.8 | ER242: 106 | ES242: 1.67 | ET242: 39 | EU242: 1.62 | EV242: 12 | EW242: 1.5 | EX242: 2 | FA242: 33.33 | FB242: 76 | FC242: 0 | FD242: 91 | FE242: 60 | FF242: 12 | FG242: 75 | FH242: 13 | FK242: 0 | FM242: 50 | FO242: 100 | FQ242: 50 | FU242: 1 | FV242: 118 | FW242: 1 | FX242: 94 | FY242: 1 | FZ242: 50 | GA242: -1 | GB242: 13 | GE242: -1 | GF242: 41 | GG242: -4 | GH242: 5 | GI242: -4 | GJ242: 3 | GK242: -2 | GL242: 13 | GO242: -3 | GP242: 6 | GQ242: 0 | GR242: 115 | GS242: 0 | GT242: 56 | GU242: -3 | GV242: 4 | GY242: 1 | GZ242: 1 | HA242: 0 | HB242: 15 | HC242: 0 | HD242: 5 | HE242: 1 | HF242: 2 | HI242: 3 | HJ242: 90 | HK242: 6 | HL242: 12 | HM242: 5 | HN242: 22 | HO242: 5 | HP242: 15 | HS242: 12 | HT242: 41 | HU242: 9 | HV242: 121 | HW242: 11 | HX242: 33 | HY242: 11 | HZ242: 37 | IC242: 2 | ID242: 54 | IE242: 3 | IF242: 25 | IG242: 2 | IH242: 38 | II242: 1 | IJ242: 39 | IM242: 0 | IN242: 29 | IO242: 0 | IP242: 35 | IQ242: 0 | IR242: 13 | IS242: 0 | IT242: 16
A243: =IF(J243="","",CONCATENATE(J243," ",I243)) -> Jin Hee Im | B243: 45767 | C243: LA Championship | D243: El Caballero | E243: California | F243: LPGA | I243: Im | J243: Jin Hee | K243: 11 | L243: 68 | M243: 66 | N243: 72 | O243: 67 | Q243: 273 | R243: 71.39 | S243: 71.08 | T243: 69.33 | U243: 66.96 | V243: 72.61 | W243: 68.12 | Y243: 69.26 | Z243: 24 | AA243: 7 | AB243: 20 | AC243: 11 | AE243: 5 | AF243: 3 | AG243: 7 | AH243: 6 | AJ243: 11 | AK243: 13 | AL243: 10 | AM243: 0.53333333 | AN243: 1 | AO243: 0.325 | AP243: 1 | AQ243: 0.55208333 | AR243: 1 | AS243: 0.48611111 | AV243: 273.67 | AW243: 12 | AX243: 69.05 | AY243: 26 | AZ243: 81.48 | BA243: 39 | BB243: 29.67 | BC243: 23 | BD243: 1.75 | BE243: 34 | BF243: 75 | BG243: 1 | BH243: 77.78 | BI243: 4 | BJ243: 5 | BK243: 36 | BL243: 20 | BM243: 31 | BN243: 7 | BO243: 0 | BP243: 53 | BQ243: -6 | BR243: 10 | BS243: -9 | BT243: 8 | BU243: 1 | BV243: 16 | BW243: 52 | BX243: 3 | BY243: 0 | BZ243: 9 | CA243: 16 | CB243: 40 | CC243: 16 | CD243: 253.76 | CE243: 72.48 | CF243: 68.14 | CG243: 49.56 | CH243: 1.69 | CI243: 29.65 | CJ243: 47.47 | CK243: 3.04 | CL243: 4.05 | CM243: 4.75 | CN243: 253.05 | CO243: 71.63 | CP243: 66.69 | CQ243: 50.4 | CR243: 1.69 | CS243: 29.48 | CT243: 46.5 | CU243: 3.06 | CV243: 4.06 | CW243: 4.76 | CX243: 10 | CY243: 52 | CZ243: 4 | DA243: 69 | DB243: 38 | DC243: 271 | DD243: 39 | DE243: 278 | DF243: 14 | DG243: 272 | DH243: 25 | DI243: 276 | DJ243: 16 | DM243: 64.29 | DN243: 50 | DO243: 71.43 | DP243: 40 | DQ243: 71.43 | DR243: 24 | DS243: 85.71 | DT243: 4 | DW243: 77.78 | DX243: 69 | DY243: 94.44 | DZ243: 5 | EA243: 72.22 | EB243: 49 | EC243: 88.89 | ED243: 7 | EG243: 29 | EH243: 33 | EI243: 29 | EJ243: 16 | EK243: 31 | EL243: 34 | EM243: 30 | EN243: 29 | EQ243: 1.79 | ER243: 94 | ES243: 1.65 | ET243: 31 | EU243: 1.85 | EV243: 46 | EW243: 1.75 | EX243: 32 | FA243: 100 | FB243: 1 | FC243: 100 | FD243: 1 | FE243: 60 | FF243: 12 | FG243: 50 | FH243: 33 | FK243: 100 | FM243: 100 | FO243: 60 | FQ243: 100 | FU243: 0 | FV243: 64 | FW243: 0 | FX243: 40 | FY243: 1 | FZ243: 50 | GA243: -1 | GB243: 13 | GE243: -1 | GF243: 41 | GG243: -3 | GH243: 10 | GI243: 0 | GJ243: 28 | GK243: -2 | GL243: 13 | GO243: -3 | GP243: 6 | GQ243: -3 | GR243: 10 | GS243: -1 | GT243: 39 | GU243: -2 | GV243: 17 | GY243: 1 | GZ243: 1 | HA243: 0 | HB243: 15 | HC243: 0 | HD243: 5 | HE243: 0 | HF243: 9 | HI243: 2 | HJ243: 120 | HK243: 6 | HL243: 12 | HM243: 2 | HN243: 60 | HO243: 6 | HP243: 5 | HS243: 15 | HT243: 4 | HU243: 12 | HV243: 41 | HW243: 14 | HX243: 3 | HY243: 11 | HZ243: 37 | IC243: 0 | ID243: 126 | IE243: 0 | IF243: 131 | IG243: 2 | IH243: 38 | II243: 1 | IJ243: 39 | IM243: 0 | IN243: 29 | IO243: 0 | IP243: 35 | IQ243: 0 | IR243: 13 | IS243: 0 | IT243: 16
A244: =IF(J244="","",CONCATENATE(J244," ",I244)) -> Chisato Iwai | B244: 45767 | C244: LA Championship | D244: El Caballero | E244: California | F244: LPGA | I244: Iwai | J244: Chisato | K244: 11 | L244: 67 | M244: 68 | N244: 70 | O244: 68 | Q244: 273 | R244: 71.39 | S244: 71.08 | T244: 68.33 | U244: 68.96 | V244: 70.61 | W244: 69.12 | Y244: 69.26 | Z244: 15 | AA244: 12 | AB244: 12 | AC244: 11 | AE244: 4 | AF244: 4 | AG244: 6 | AH244: 6 | AJ244: 11 | AK244: 13 | AL244: 10 | AM244: 0.37083333 | AN244: 1 | AO244: 0.57916667 | AP244: 1 | AQ244: 0.52430556 | AR244: 1 | AS244: 0.52083333 | AV244: 267.33 | AW244: 24 | AX244: 64.29 | AY244: 46 | AZ244: 83.33 | BA244: 26 | BB244: 29 | BC244: 13 | BD244: 1.71 | BE244: 23 | BF244: 55.6 | BG244: 20 | BH244: 33.33 | BI244: 49 | BJ244: 35 | BK244: 40 | BL244: 34 | BM244: 16 | BN244: 15 | BO244: -2 | BP244: 19 | BQ244: -4 | BR244: 22 | BS244: -9 | BT244: 8 | BU244: 0 | BV244: 21 | BW244: 46 | BX244: 4 | BY244: 1 | BZ244: 3 | CA244: 16 | CB244: 40 | CC244: 16 | CD244: 253.76 | CE244: 72.48 | CF244: 68.14 | CG244: 49.56 | CH244: 1.69 | CI244: 29.65 | CJ244: 47.47 | CK244: 3.04 | CL244: 4.05 | CM244: 4.75 | CN244: 253.05 | CO244: 71.63 | CP244: 66.69 | CQ244: 50.4 | CR244: 1.69 | CS244: 29.48 | CT244: 46.5 | CU244: 3.06 | CV244: 4.06 | CW244: 4.76 | CX244: 25 | CY244: 13 | CZ244: 29 | DA244: 61 | DB244: 7 | DC244: 266 | DD244: 53 | DE244: 265 | DF244: 44 | DG244: 271 | DH244: 26 | DI244: 282 | DJ244: 8 | DM244: 64.29 | DN244: 50 | DO244: 71.43 | DP244: 40 | DQ244: 57.14 | DR244: 47 | DS244: 71.43 | DT244: 18 | DW244: 83.33 | DX244: 41 | DY244: 94.44 | DZ244: 5 | EA244: 72.22 | EB244: 49 | EC244: 100 | ED244: 1 | EG244: 27 | EH244: 10 | EI244: 31 | EJ244: 63 | EK244: 29 | EL244: 16 | EM244: 32 | EN244: 48 | EQ244: 1.6 | ER244: 23 | ES244: 1.77 | ET244: 77 | EU244: 1.69 | EV244: 29 | EW244: 1.78 | EX244: 38 | FA244: 66.67 | FB244: 30 | FC244: 0 | FD244: 91 | FE244: 60 | FF244: 12 | FK244: 0 | FO244: 100 | FQ244: 0 | FU244: -1 | FV244: 21 | FW244: 0 | FX244: 40 | FY244: 0 | FZ244: 27 | GA244: -1 | GB244: 13 | GE244: -1 | GF244: 41 | GG244: -2 | GH244: 20 | GI244: -1 | GJ244: 19 | GK244: 0 | GL244: 32 | GO244: -3 | GP244: 6 | GQ244: -2 | GR244: 34 | GS244: -1 | GT244: 39 | GU244: -3 | GV244: 4 | GY244: 0 | GZ244: 16 | HA244: 0 | HB244: 15 | HC244: 0 | HD244: 5 | HE244: 0 | HF244: 9 | HI244: 7 | HJ244: 6 | HK244: 5 | HL244: 32 | HM244: 4 | HN244: 38 | HO244: 5 | HP244: 15 | HS244: 10 | HT244: 97 | HU244: 12 | HV244: 41 | HW244: 12 | HX244: 19 | HY244: 12 | HZ244: 22 | IC244: 0 | ID244: 126 | IE244: 1 | IF244: 85 | IG244: 2 | IH244: 38 | II244: 1 | IJ244: 39 | IM244: 1 | IN244: 1 | IO244: 0 | IP244: 35 | IQ244: 0 | IR244: 13 | IS244: 0 | IT244: 16
A245: =IF(J245="","",CONCATENATE(J245," ",I245)) -> Benedetta Moresco | B245: 45767 | C245: LA Championship | D245: El Caballero | E245: California | F245: LPGA | I245: Moresco | J245: Benedetta | K245: 11 | L245: 71 | M245: 69 | N245: 68 | O245: 65 | Q245: 273 | R245: 71.39 | S245: 71.08 | T245: 72.33 | U245: 69.96 | V245: 68.61 | W245: 66.12 | Y245: 69.26 | Z245: 81 | AA245: 61 | AB245: 39 | AC245: 11 | AE245: 8 | AF245: 9 | AG245: 9 | AH245: 6 | AJ245: 11 | AK245: 13 | AL245: 10 | AM245: 0.51805556 | AN245: 1 | AO245: 0.30972222 | AP245: 1 | AQ245: 0.36458333 | AR245: 1 | AS245: 0.44444444 | AV245: 269 | AW245: 18 | AX245: 66.67 | AY245: 37 | AZ245: 83.33 | BA245: 26 | BB245: 30.33 | BC245: 37 | BD245: 1.69 | BE245: 19 | BF245: 61.5 | BG245: 11 | BH245: 50 | BI245: 28 | BJ245: 24 | BK245: 31 | BL245: 24 | BM245: 29 | BN245: 6 | BO245: 1 | BP245: 60 | BQ245: -9 | BR245: 7 | BS245: -7 | BT245: 28 | BU245: 0 | BV245: 22 | BW245: 44 | BX245: 5 | BY245: 1 | BZ245: 2 | CA245: 16 | CB245: 40 | CC245: 16 | CD245: 253.76 | CE245: 72.48 | CF245: 68.14 | CG245: 49.56 | CH245: 1.69 | CI245: 29.65 | CJ245: 47.47 | CK245: 3.04 | CL245: 4.05 | CM245: 4.75 | CN245: 253.05 | CO245: 71.63 | CP245: 66.69 | CQ245: 50.4 | CR245: 1.69 | CS245: 29.48 | CT245: 46.5 | CU245: 3.06 | CV245: 4.06 | CW245: 4.76 | CX245: 25 | CY245: 9 | CZ245: 42 | DA245: 51 | DB245: 7 | DC245: 274 | DD245: 28 | DE245: 251 | DF245: 100 | DG245: 282 | DH245: 11 | DI245: 251 | DJ245: 61 | DM245: 85.71 | DN245: 7 | DO245: 57.14 | DP245: 98 | DQ245: 57.14 | DR245: 47 | DS245: 21.43 | DT245: 73 | DW245: 72.22 | DX245: 97 | DY245: 83.33 | DZ245: 43 | EA245: 94.44 | EB245: 1 | EC245: 77.78 | ED245: 34 | EG245: 29 | EH245: 33 | EI245: 30 | EJ245: 34 | EK245: 32 | EL245: 49 | EM245: 25 | EN245: 3 | EQ245: 1.62 | ER245: 28 | ES245: 1.73 | ET245: 64 | EU245: 1.77 | EV245: 36 | EW245: 1.64 | EX245: 9 | FA245: 40 | FB245: 66 | FC245: 66.67 | FD245: 25 | FE245: 0 | FF245: 47 | FG245: 100 | FH245: 1 | FM245: 50 | FU245: 2 | FV245: 136 | FW245: 0 | FX245: 40 | FY245: 1 | FZ245: 50 | GA245: -2 | GB245: 3 | GE245: -2 | GF245: 21 | GG245: -1 | GH245: 42 | GI245: -2 | GJ245: 10 | GK245: -4 | GL245: 1 | GO245: -1 | GP245: 59 | GQ245: -2 | GR245: 34 | GS245: -3 | GT245: 8 | GU245: -1 | GV245: 38 | GY245: 0 | GZ245: 16 | HA245: 0 | HB245: 15 | HC245: 0 | HD245: 5 | HE245: 0 | HF245: 9 | HI245: 5 | HJ245: 38 | HK245: 4 | HL245: 60 | HM245: 6 | HN245: 9 | HO245: 7 | HP245: 3 | HS245: 10 | HT245: 97 | HU245: 13 | HV245: 22 | HW245: 10 | HX245: 42 | HY245: 11 | HZ245: 37 | IC245: 2 | ID245: 54 | IE245: 1 | IF245: 85 | IG245: 2 | IH245: 38 | II245: 0 | IJ245: 60 | IM245: 1 | IN245: 1 | IO245: 0 | IP245: 35 | IQ245: 0 | IR245: 13 | IS245: 0 | IT245: 16
A246: =IF(J246="","",CONCATENATE(J246," ",I246)) -> Rio Takeda | B246: 45767 | C246: LA Championship | D246: El Caballero | E246: California | F246: LPGA | I246: Takeda | J246: Rio | K246: 11 | L246: 67 | M246: 71 | N246: 64 | O246: 71 | Q246: 273 | R246: 71.39 | S246: 71.08 | T246: 68.33 | U246: 71.96 | V246: 64.61 | W246: 72.12 | Y246: 69.26 | Z246: 15 | AA246: 43 | AB246: 5 | AC246: 11 | AE246: 4 | AF246: 7 | AG246: 3 | AH246: 6 | AJ246: 11 | AK246: 13 | AL246: 1 | AM246: 0.325 | AN246: 10 | AO246: 0.53333333 | AP246: 1 | AQ246: 0.40625 | AR246: 1 | AS246: 0.5625 | AV246: 281 | AW246: 4 | AX246: 57.14 | AY246: 62 | AZ246: 90.74 | BA246: 4 | BB246: 31.33 | BC246: 54 | BD246: 1.83 | BE246: 68 | BF246: 42.9 | BG246: 46 | BH246: 50 | BI246: 28 | BJ246: 32 | BK246: 38 | BL246: 15 | BM246: 66 | BN246: 40 | BO246: -2 | BP246: 19 | BQ246: -5 | BR246: 17 | BS246: -8 | BT246: 14 | BU246: 0 | BV246: 19 | BW246: 49 | BX246: 4 | BY246: 0 | BZ246: 2 | CA246: 16 | CB246: 40 | CC246: 16 | CD246: 253.76 | CE246: 72.48 | CF246: 68.14 | CG246: 49.56 | CH246: 1.69 | CI246: 29.65 | CJ246: 47.47 | CK246: 3.04 | CL246: 4.05 | CM246: 4.75 | CN246: 253.05 | CO246: 71.63 | CP246: 66.69 | CQ246: 50.4 | CR246: 1.69 | CS246: 29.48 | CT246: 46.5 | CU246: 3.06 | CV246: 4.06 | CW246: 4.76 | CX246: 25 | CY246: 25 | CZ246: 12 | DA246: 61 | DB246: 38 | DC246: 259 | DD246: 78 | DE246: 295 | DF246: 1 | DG246: 289 | DH246: 4 | DI246: 279 | DJ246: 12 | DM246: 57.14 | DN246: 86 | DO246: 57.14 | DP246: 98 | DQ246: 57.14 | DR246: 47 | DS246: 71.43 | DT246: 18 | DW246: 83.33 | DX246: 41 | DY246: 94.44 | DZ246: 5 | EA246: 94.44 | EB246: 1 | EC246: 88.89 | ED246: 7 | EG246: 30 | EH246: 54 | EI246: 35 | EJ246: 137 | EK246: 29 | EL246: 16 | EM246: 33 | EN246: 58 | EQ246: 1.73 | ER246: 67 | ES246: 2 | ET246: 143 | EU246: 1.65 | EV246: 21 | EW246: 1.94 | EX246: 66 | FA246: 66.67 | FB246: 30 | FC246: 0 | FD246: 91 | FE246: 0 | FF246: 47 | FG246: 50 | FH246: 33 | FK246: 0 | FM246: 100 | FU246: 0 | FV246: 64 | FW246: 0 | FX246: 40 | FY246: -2 | FZ246: 1 | GA246: 0 | GB246: 39 | GE246: -1 | GF246: 41 | GG246: 0 | GH246: 71 | GI246: -5 | GJ246: 1 | GK246: 1 | GL246: 46 | GO246: -4 | GP246: 2 | GQ246: -1 | GR246: 64 | GS246: -1 | GT246: 39 | GU246: -2 | GV246: 17 | GY246: 0 | GZ246: 16 | HA246: 0 | HB246: 15 | HC246: 0 | HD246: 5 | HE246: 0 | HF246: 9 | HI246: 6 | HJ246: 12 | HK246: 2 | HL246: 116 | HM246: 9 | HN246: 1 | HO246: 2 | HP246: 62 | HS246: 11 | HT246: 71 | HU246: 15 | HV246: 4 | HW246: 8 | HX246: 63 | HY246: 15 | HZ246: 1 | IC246: 1 | ID246: 91 | IE246: 1 | IF246: 85 | IG246: 1 | IH246: 55 | II246: 1 | IJ246: 39 | IM246: 0 | IN246: 29 | IO246: 0 | IP246: 35 | IQ246: 0 | IR246: 13 | IS246: 0 | IT246: 16
A247: =IF(J247="","",CONCATENATE(J247," ",I247)) -> Gemma Dryburgh | B247: 45767 | C247: LA Championship | D247: El Caballero | E247: California | F247: LPGA | I247: Dryburgh | J247: Gemma | K247: 16 | L247: 70 | M247: 70 | N247: 69 | O247: 65 | Q247: 274 | R247: 71.39 | S247: 71.08 | T247: 71.33 | U247: 70.96 | V247: 69.61 | W247: 66.12 | Y247: 69.51 | Z247: 62 | AA247: 61 | AB247: 49 | AC247: 16 | AE247: 7 | AF247: 9 | AG247: 10 | AH247: 7 | AJ247: 16 | AK247: 17.5 | AL247: 10 | AM247: 0.34027778 | AN247: 1 | AO247: 0.54861111 | AP247: 1 | AQ247: 0.35763889 | AR247: 1 | AS247: 0.40972222 | AV247: 251 | AW247: 62 | AX247: 69.05 | AY247: 26 | AZ247: 75.93 | BA247: 59 | BB247: 29.67 | BC247: 23 | BD247: 1.71 | BE247: 21 | BF247: 52.9 | BG247: 26 | BH247: 20 | BI247: 61 | BJ247: 57 | BK247: 51 | BL247: 63 | BM247: 22 | BN247: 47 | BO247: -1 | BP247: 34 | BQ247: -5 | BR247: 17 | BS247: -8 | BT247: 14 | BU247: 2 | BV247: 21 | BW247: 38 | BX247: 11 | BY247: 0 | BZ247: 5 | CA247: 16 | CB247: 40 | CC247: 16 | CD247: 253.76 | CE247: 72.48 | CF247: 68.14 | CG247: 49.56 | CH247: 1.69 | CI247: 29.65 | CJ247: 47.47 | CK247: 3.04 | CL247: 4.05 | CM247: 4.75 | CN247: 253.05 | CO247: 71.63 | CP247: 66.69 | CQ247: 50.4 | CR247: 1.69 | CS247: 29.48 | CT247: 46.5 | CU247: 3.06 | CV247: 4.06 | CW247: 4.76 | CX247: 3 | CY247: 13 | CZ247: 68 | DA247: 9 | DB247: 38 | DC247: 261 | DD247: 64 | DE247: 253 | DF247: 95 | DG247: 239 | DH247: 72 | DI247: 250 | DJ247: 63 | DM247: 64.29 | DN247: 50 | DO247: 78.57 | DP247: 20 | DQ247: 64.29 | DR247: 38 | DS247: 57.14 | DT247: 48 | DW247: 72.22 | DX247: 97 | DY247: 88.89 | DZ247: 23 | EA247: 66.67 | EB247: 63 | EC247: 77.78 | ED247: 34 | EG247: 29 | EH247: 33 | EI247: 33 | EJ247: 102 | EK247: 27 | EL247: 2 | EM247: 25 | EN247: 3 | EQ247: 1.69 | ER247: 51 | ES247: 1.81 | ET247: 106 | EU247: 1.67 | EV247: 23 | EW247: 1.64 | EX247: 9 | FA247: 40 | FB247: 66 | FC247: 0 | FD247: 91 | FE247: 66.67 | FF247: 9 | FG247: 75 | FH247: 13 | FM247: 0 | FO247: 25 | FU247: 0 | FV247: 64 | FW247: 0 | FX247: 40 | FY247: 0 | FZ247: 27 | GA247: -1 | GB247: 13 | GE247: -2 | GF247: 21 | GG247: -1 | GH247: 42 | GI247: 0 | GJ247: 28 | GK247: -2 | GL247: 13 | GO247: 0 | GP247: 109 | GQ247: -1 | GR247: 64 | GS247: -3 | GT247: 8 | GU247: -4 | GV247: 1 | GY247: 0 | GZ247: 16 | HA247: 0 | HB247: 15 | HC247: 0 | HD247: 5 | HE247: 2 | HF247: 1 | HI247: 5 | HJ247: 38 | HK247: 7 | HL247: 4 | HM247: 5 | HN247: 22 | HO247: 4 | HP247: 29 | HS247: 10 | HT247: 97 | HU247: 6 | HV247: 144 | HW247: 11 | HX247: 33 | HY247: 11 | HZ247: 37 | IC247: 3 | ID247: 23 | IE247: 5 | IF247: 5 | IG247: 2 | IH247: 38 | II247: 1 | IJ247: 39 | IM247: 0 | IN247: 29 | IO247: 0 | IP247: 35 | IQ247: 0 | IR247: 13 | IS247: 0 | IT247: 16
A248: =IF(J248="","",CONCATENATE(J248," ",I248)) -> Nelly Korda | B248: 45767 | C248: LA Championship | D248: El Caballero | E248: California | F248: LPGA | I248: Korda | J248: Nelly | K248: 16 | L248: 67 | M248: 68 | N248: 67 | O248: 72 | Q248: 274 | R248: 71.39 | S248: 71.08 | T248: 68.33 | U248: 68.96 | V248: 67.61 | W248: 73.12 | Y248: 69.51 | Z248: 15 | AA248: 12 | AB248: 5 | AC248: 16 | AE248: 4 | AF248: 4 | AG248: 3 | AH248: 7 | AJ248: 16 | AK248: 17.5 | AL248: 10 | AM248: 0.33263889 | AN248: 1 | AO248: 0.54097222 | AP248: 1 | AQ248: 0.53125 | AR248: 1 | AS248: 0.5625 | AV248: 275 | AW248: 8 | AX248: 61.9 | AY248: 51 | AZ248: 87.04 | BA248: 11 | BB248: 30 | BC248: 30 | BD248: 1.71 | BE248: 22 | BF248: 30 | BG248: 59 | BH248: 50 | BI248: 28 | BJ248: 27 | BK248: 29 | BL248: 15 | BM248: 26 | BN248: 21 | BO248: -3 | BP248: 10 | BQ248: -2 | BR248: 36 | BS248: -9 | BT248: 8 | BU248: 1 | BV248: 25 | BW248: 35 | BX248: 9 | BY248: 2 | BZ248: 4 | CA248: 16 | CB248: 40 | CC248: 16 | CD248: 253.76 | CE248: 72.48 | CF248: 68.14 | CG248: 49.56 | CH248: 1.69 | CI248: 29.65 | CJ248: 47.47 | CK248: 3.04 | CL248: 4.05 | CM248: 4.75 | CN248: 253.05 | CO248: 71.63 | CP248: 66.69 | CQ248: 50.4 | CR248: 1.69 | CS248: 29.48 | CT248: 46.5 | CU248: 3.06 | CV248: 4.06 | CW248: 4.76 | CX248: 10 | CY248: 2 | CZ248: 73 | DA248: 13 | DB248: 3 | DC248: 275 | DD248: 23 | DE248: 279 | DF248: 11 | DG248: 271 | DH248: 26 | DI248: 289 | DJ248: 5 | DM248: 71.43 | DN248: 28 | DO248: 50 | DP248: 120 | DQ248: 64.29 | DR248: 38 | DS248: 85.71 | DT248: 4 | DW248: 100 | DX248: 1 | DY248: 77.78 | DZ248: 72 | EA248: 83.33 | EB248: 19 | EC248: 83.33 | ED248: 17 | EG248: 32 | EH248: 93 | EI248: 29 | EJ248: 16 | EK248: 29 | EL248: 16 | EM248: 33 | EN248: 58 | EQ248: 1.78 | ER248: 90 | ES248: 1.64 | ET248: 23 | EU248: 1.53 | EV248: 5 | EW248: 1.87 | EX248: 57 | FC248: 50 | FD248: 36 | FE248: 0 | FF248: 47 | FG248: 33.33 | FH248: 47 | FK248: 0 | FM248: 100 | FO248: 100 | FQ248: 0 | FU248: 0 | FV248: 64 | FW248: -2 | FX248: 1 | FY248: -1 | FZ248: 6 | GA248: 0 | GB248: 39 | GE248: -4 | GF248: 4 | GG248: 0 | GH248: 71 | GI248: 1 | GJ248: 43 | GK248: 1 | GL248: 46 | GO248: -1 | GP248: 59 | GQ248: -2 | GR248: 34 | GS248: -5 | GT248: 1 | GU248: -1 | GV248: 38 | GY248: 0 | GZ248: 16 | HA248: 0 | HB248: 15 | HC248: 1 | HD248: 1 | HE248: 0 | HF248: 9 | HI248: 8 | HJ248: 2 | HK248: 7 | HL248: 4 | HM248: 7 | HN248: 5 | HO248: 3 | HP248: 48 | HS248: 7 | HT248: 144 | HU248: 9 | HV248: 121 | HW248: 6 | HX248: 73 | HY248: 13 | HZ248: 14 | IC248: 3 | ID248: 23 | IE248: 1 | IF248: 85 | IG248: 4 | IH248: 7 | II248: 1 | IJ248: 39 | IM248: 0 | IN248: 29 | IO248: 1 | IP248: 5 | IQ248: 0 | IR248: 13 | IS248: 1 | IT248: 2
A249: =IF(J249="","",CONCATENATE(J249," ",I249)) -> Stephanie Kyriacou | B249: 45767 | C249: LA Championship | D249: El Caballero | E249: California | F249: LPGA | I249: Kyriacou | J249: Stephanie | K249: 16 | L249: 69 | M249: 67 | N249: 70 | O249: 68 | Q249: 274 | R249: 71.39 | S249: 71.08 | T249: 70.33 | U249: 67.96 | V249: 70.61 | W249: 69.12 | Y249: 69.51 | Z249: 44 | AA249: 20 | AB249: 20 | AC249: 16 | AE249: 6 | AF249: 5 | AG249: 7 | AH249: 7 | AJ249: 16 | AK249: 17.5 | AL249: 1 | AM249: 0.34791667 | AN249: 10 | AO249: 0.55625 | AP249: 1 | AQ249: 0.50347222 | AR249: 1 | AS249: 0.49305556 | AV249: 261.33 | AW249: 40 | AX249: 64.29 | AY249: 46 | AZ249: 88.89 | BA249: 8 | BB249: 31.33 | BC249: 54 | BD249: 1.79 | BE249: 50 | BF249: 72.7 | BG249: 2 | BH249: 57.14 | BI249: 19 | BJ249: 54 | BK249: 25 | BL249: 33 | BM249: 55 | BN249: 19 | BO249: -2 | BP249: 19 | BQ249: -6 | BR249: 10 | BS249: -6 | BT249: 40 | BU249: 0 | BV249: 17 | BW249: 52 | BX249: 3 | BY249: 0 | BZ249: 7 | CA249: 16 | CB249: 40 | CC249: 16 | CD249: 253.76 | CE249: 72.48 | CF249: 68.14 | CG249: 49.56 | CH249: 1.69 | CI249: 29.65 | CJ249: 47.47 | CK249: 3.04 | CL249: 4.05 | CM249: 4.75 | CN249: 253.05 | CO249: 71.63 | CP249: 66.69 | CQ249: 50.4 | CR249: 1.69 | CS249: 29.48 | CT249: 46.5 | CU249: 3.06 | CV249: 4.06 | CW249: 4.76 | CX249: 25 | CY249: 43 | CZ249: 4 | DA249: 69 | DB249: 38 | DC249: 267 | DD249: 50 | DE249: 247 | DF249: 116 | DG249: 270 | DH249: 31 | DI249: 293 | DJ249: 2 | DM249: 64.29 | DN249: 50 | DO249: 71.43 | DP249: 40 | DQ249: 57.14 | DR249: 47 | DS249: 92.86 | DT249: 1 | DW249: 94.44 | DX249: 8 | DY249: 94.44 | DZ249: 5 | EA249: 77.78 | EB249: 31 | EC249: 72.22 | ED249: 51 | EG249: 32 | EH249: 93 | EI249: 31 | EJ249: 63 | EK249: 31 | EL249: 34 | EM249: 28 | EN249: 14 | EQ249: 1.77 | ER249: 83 | ES249: 1.77 | ET249: 77 | EU249: 1.86 | EV249: 49 | EW249: 1.77 | EX249: 34 | FA249: 0 | FB249: 108 | FC249: 0 | FD249: 91 | FE249: 75 | FF249: 5 | FG249: 100 | FH249: 1 | FK249: 0 | FM249: 100 | FO249: 50 | FQ249: 100 | FU249: 0 | FV249: 64 | FW249: -2 | FX249: 1 | FY249: 0 | FZ249: 27 | GA249: 0 | GB249: 39 | GE249: -3 | GF249: 9 | GG249: 0 | GH249: 71 | GI249: 0 | GJ249: 28 | GK249: -3 | GL249: 6 | GO249: 0 | GP249: 109 | GQ249: -3 | GR249: 10 | GS249: -2 | GT249: 22 | GU249: -1 | GV249: 38 | GY249: 0 | GZ249: 16 | HA249: 0 | HB249: 15 | HC249: 0 | HD249: 5 | HE249: 0 | HF249: 9 | HI249: 4 | HJ249: 67 | HK249: 6 | HL249: 12 | HM249: 3 | HN249: 49 | HO249: 4 | HP249: 29 | HS249: 13 | HT249: 22 | HU249: 11 | HV249: 74 | HW249: 14 | HX249: 3 | HY249: 14 | HZ249: 7 | IC249: 1 | ID249: 91 | IE249: 1 | IF249: 85 | IG249: 1 | IH249: 55 | II249: 0 | IJ249: 60 | IM249: 0 | IN249: 29 | IO249: 0 | IP249: 35 | IQ249: 0 | IR249: 13 | IS249: 0 | IT249: 16
A250: =IF(J250="","",CONCATENATE(J250," ",I250)) -> Ina Yoon | B250: 45767 | C250: LA Championship | D250: El Caballero | E250: California | F250: LPGA | I250: Yoon | J250: Ina | K250: 16 | L250: 70 | M250: 67 | N250: 64 | O250: 73 | Q250: 274 | R250: 71.39 | S250: 71.08 | T250: 71.33 | U250: 67.96 | V250: 64.61 | W250: 74.12 | Y250: 69.51 | Z250: 62 | AA250: 29 | AB250: 4 | AC250: 16 | AE250: 7 | AF250: 6 | AG250: 2 | AH250: 7 | AJ250: 16 | AK250: 17.5 | AL250: 10 | AM250: 0.53333333 | AN250: 1 | AO250: 0.325 | AP250: 1 | AQ250: 0.47569444 | AR250: 1 | AS250: 0.56944444 | AV250: 280 | AW250: 5 | AX250: 57.14 | AY250: 62 | AZ250: 81.48 | BA250: 39 | BB250: 28.33 | BC250: 7 | BD250: 1.68 | BE250: 11 | BF250: 46.2 | BG250: 40 | BH250: 75 | BI250: 6 | BJ250: 33 | BK250: 58 | BL250: 41 | BM250: 7 | BN250: 25 | BO250: -5 | BP250: 3 | BQ250: -3 | BR250: 26 | BS250: -6 | BT250: 40 | BU250: 0 | BV250: 24 | BW250: 41 | BX250: 4 | BY250: 3 | BZ250: 4 | CA250: 16 | CB250: 40 | CC250: 16 | CD250: 253.76 | CE250: 72.48 | CF250: 68.14 | CG250: 49.56 | CH250: 1.69 | CI250: 29.65 | CJ250: 47.47 | CK250: 3.04 | CL250: 4.05 | CM250: 4.75 | CN250: 253.05 | CO250: 71.63 | CP250: 66.69 | CQ250: 50.4 | CR250: 1.69 | CS250: 29.48 | CT250: 46.5 | CU250: 3.06 | CV250: 4.06 | CW250: 4.76 | CX250: 25 | CY250: 3 | CZ250: 59 | DA250: 61 | DB250: 1 | DC250: 265 | DD250: 54 | DE250: 291 | DF250: 7 | DG250: 284 | DH250: 9 | DI250: 269 | DJ250: 20 | DM250: 50 | DN250: 113 | DO250: 71.43 | DP250: 40 | DQ250: 50 | DR250: 61 | DS250: 71.43 | DT250: 18 | DW250: 61.11 | DX250: 132 | DY250: 94.44 | DZ250: 5 | EA250: 88.89 | EB250: 9 | EC250: 83.33 | ED250: 17 | EG250: 27 | EH250: 10 | EI250: 31 | EJ250: 63 | EK250: 27 | EL250: 2 | EM250: 32 | EN250: 48 | EQ250: 1.64 | ER250: 32 | ES250: 1.77 | ET250: 77 | EU250: 1.5 | EV250: 4 | EW250: 1.8 | EX250: 44 | FA250: 71.43 | FB250: 26 | FC250: 0 | FD250: 91 | FE250: 50 | FF250: 16 | FG250: 0 | FH250: 55 | FK250: 50 | FM250: 100 | FQ250: 100 | FU250: -1 | FV250: 21 | FW250: -1 | FX250: 10 | FY250: -2 | FZ250: 1 | GA250: -1 | GB250: 13 | GE250: -1 | GF250: 41 | GG250: -1 | GH250: 42 | GI250: -4 | GJ250: 3 | GK250: 3 | GL250: 66 | GO250: 0 | GP250: 109 | GQ250: -3 | GR250: 10 | GS250: -2 | GT250: 22 | GU250: -1 | GV250: 38 | GY250: 0 | GZ250: 16 | HA250: 0 | HB250: 15 | HC250: 0 | HD250: 5 | HE250: 0 | HF250: 9 | HI250: 5 | HJ250: 38 | HK250: 6 | HL250: 12 | HM250: 9 | HN250: 1 | HO250: 4 | HP250: 29 | HS250: 11 | HT250: 71 | HU250: 11 | HV250: 74 | HW250: 8 | HX250: 63 | HY250: 11 | HZ250: 37 | IC250: 1 | ID250: 91 | IE250: 1 | IF250: 85 | IG250: 1 | IH250: 55 | II250: 1 | IJ250: 39 | IM250: 1 | IN250: 1 | IO250: 0 | IP250: 35 | IQ250: 0 | IR250: 13 | IS250: 2 | IT250: 1
A251: =IF(J251="","",CONCATENATE(J251," ",I251)) -> Pajaree Anannarukarn | B251: 45767 | C251: LA Championship | D251: El Caballero | E251: California | F251: LPGA | I251: Anannarukarn | J251: Pajaree | K251: 20 | L251: 69 | M251: 65 | N251: 71 | O251: 70 | Q251: 275 | R251: 71.39 | S251: 71.08 | T251: 70.33 | U251: 65.96 | V251: 71.61 | W251: 71.12 | Y251: 69.76 | Z251: 44 | AA251: 7 | AB251: 12 | AC251: 20 | AE251: 6 | AF251: 3 | AG251: 6 | AH251: 8 | AJ251: 20 | AK251: 23.5 | AL251: 1 | AM251: 0.35555556 | AN251: 10 | AO251: 0.56388889 | AP251: 1 | AQ251: 0.55902778 | AR251: 1 | AS251: 0.52083333 | AV251: 264.67 | AW251: 33 | AX251: 73.81 | AY251: 17 | AZ251: 85.19 | BA251: 15 | BB251: 31 | BC251: 48 | BD251: 1.8 | BE251: 57 | BF251: 54.5 | BG251: 23 | BH251: 62.5 | BI251: 15 | BJ251: 17 | BK251: 10 | BL251: 11 | BM251: 56 | BN251: 18 | BO251: -3 | BP251: 10 | BQ251: -2 | BR251: 36 | BS251: -8 | BT251: 14 | BU251: 1 | BV251: 16 | BW251: 50 | BX251: 5 | BY251: 0 | BZ251: 8 | CA251: 16 | CB251: 40 | CC251: 16 | CD251: 253.76 | CE251: 72.48 | CF251: 68.14 | CG251: 49.56 | CH251: 1.69 | CI251: 29.65 | CJ251: 47.47 | CK251: 3.04 | CL251: 4.05 | CM251: 4.75 | CN251: 253.05 | CO251: 71.63 | CP251: 66.69 | CQ251: 50.4 | CR251: 1.69 | CS251: 29.48 | CT251: 46.5 | CU251: 3.06 | CV251: 4.06 | CW251: 4.76 | CX251: 10 | CY251: 52 | CZ251: 10 | DA251: 51 | DB251: 38 | DC251: 261 | DD251: 64 | DE251: 268 | DF251: 33 | DG251: 265 | DH251: 39 | DI251: 266 | DJ251: 27 | DM251: 78.57 | DN251: 14 | DO251: 64.29 | DP251: 69 | DQ251: 78.57 | DR251: 14 | DS251: 64.29 | DT251: 32 | DW251: 94.44 | DX251: 8 | DY251: 94.44 | DZ251: 5 | EA251: 66.67 | EB251: 63 | EC251: 83.33 | ED251: 17 | EG251: 33 | EH251: 115 | EI251: 30 | EJ251: 34 | EK251: 30 | EL251: 25 | EM251: 31 | EN251: 42 | EQ251: 1.88 | ER251: 134 | ES251: 1.71 | ET251: 49 | EU251: 1.83 | EV251: 44 | EW251: 1.8 | EX251: 44 | FA251: 0 | FB251: 108 | FC251: 100 | FD251: 1 | FE251: 50 | FF251: 16 | FG251: 66.67 | FH251: 20 | FK251: 100 | FM251: 100 | FO251: 33.33 | FQ251: 50 | FU251: -1 | FV251: 21 | FW251: -2 | FX251: 1 | FY251: 1 | FZ251: 50 | GA251: -1 | GB251: 13 | GE251: 0 | GF251: 72 | GG251: -2 | GH251: 20 | GI251: 1 | GJ251: 43 | GK251: -1 | GL251: 18 | GO251: -2 | GP251: 26 | GQ251: -3 | GR251: 10 | GS251: -3 | GT251: 8 | GU251: 0 | GV251: 63 | GY251: 0 | GZ251: 16 | HA251: 1 | HB251: 2 | HC251: 0 | HD251: 5 | HE251: 0 | HF251: 9 | HI251: 4 | HJ251: 67 | HK251: 5 | HL251: 32 | HM251: 4 | HN251: 38 | HO251: 3 | HP251: 48 | HS251: 13 | HT251: 22 | HU251: 12 | HV251: 41 | HW251: 11 | HX251: 33 | HY251: 14 | HZ251: 7 | IC251: 1 | ID251: 91 | IE251: 0 | IF251: 131 | IG251: 3 | IH251: 19 | II251: 1 | IJ251: 39 | IM251: 0 | IN251: 29 | IO251: 0 | IP251: 35 | IQ251: 0 | IR251: 13 | IS251: 0 | IT251: 16
A252: =IF(J252="","",CONCATENATE(J252," ",I252)) -> Ayaka Furue | B252: 45767 | C252: LA Championship | D252: El Caballero | E252: California | F252: LPGA | I252: Furue | J252: Ayaka | K252: 20 | L252: 71 | M252: 69 | N252: 69 | O252: 66 | Q252: 275 | R252: 71.39 | S252: 71.08 | T252: 72.33 | U252: 69.96 | V252: 69.61 | W252: 67.12 | Y252: 69.76 | Z252: 81 | AA252: 61 | AB252: 49 | AC252: 20 | AE252: 8 | AF252: 9 | AG252: 10 | AH252: 8 | AJ252: 20 | AK252: 23.5 | AL252: 10 | AM252: 0.325 | AN252: 1 | AO252: 0.53333333 | AP252: 1 | AQ252: 0.37152778 | AR252: 1 | AS252: 0.40972222 | AV252: 255 | AW252: 54 | AX252: 78.57 | AY252: 8 | AZ252: 83.33 | BA252: 26 | BB252: 30.67 | BC252: 43 | BD252: 1.74 | BE252: 33 | BF252: 40 | BG252: 50 | BH252: 57.14 | BI252: 19 | BJ252: 30 | BK252: 13 | BL252: 29 | BM252: 38 | BN252: 29 | BO252: -1 | BP252: 34 | BQ252: -6 | BR252: 10 | BS252: -6 | BT252: 40 | BU252: 0 | BV252: 19 | BW252: 47 | BX252: 6 | BY252: 0 | BZ252: 7 | CA252: 16 | CB252: 40 | CC252: 16 | CD252: 253.76 | CE252: 72.48 | CF252: 68.14 | CG252: 49.56 | CH252: 1.69 | CI252: 29.65 | CJ252: 47.47 | CK252: 3.04 | CL252: 4.05 | CM252: 4.75 | CN252: 253.05 | CO252: 71.63 | CP252: 66.69 | CQ252: 50.4 | CR252: 1.69 | CS252: 29.48 | CT252: 46.5 | CU252: 3.06 | CV252: 4.06 | CW252: 4.76 | CX252: 25 | CY252: 25 | CZ252: 23 | DA252: 42 | DB252: 38 | DC252: 260 | DD252: 72 | DE252: 255 | DF252: 87 | DG252: 250 | DH252: 63 | DI252: 256 | DJ252: 50 | DM252: 71.43 | DN252: 28 | DO252: 85.71 | DP252: 5 | DQ252: 78.57 | DR252: 14 | DS252: 78.57 | DT252: 13 | DW252: 83.33 | DX252: 41 | DY252: 77.78 | DZ252: 72 | EA252: 88.89 | EB252: 9 | EC252: 94.44 | ED252: 4 | EG252: 32 | EH252: 93 | EI252: 29 | EJ252: 16 | EK252: 31 | EL252: 34 | EM252: 29 | EN252: 20 | EQ252: 1.87 | ER252: 125 | ES252: 1.64 | ET252: 23 | EU252: 1.81 | EV252: 42 | EW252: 1.65 | EX252: 13 | FA252: 33.33 | FB252: 76 | FC252: 25 | FD252: 72 | FE252: 50 | FF252: 16 | FG252: 100 | FH252: 1 | FK252: 100 | FM252: 33.33 | FO252: 50 | FQ252: 100 | FU252: 0 | FV252: 64 | FW252: -1 | FX252: 10 | FY252: 0 | FZ252: 27 | GA252: 0 | GB252: 39 | GE252: 0 | GF252: 72 | GG252: -1 | GH252: 42 | GI252: -1 | GJ252: 19 | GK252: -4 | GL252: 1 | GO252: -1 | GP252: 59 | GQ252: -1 | GR252: 64 | GS252: -2 | GT252: 22 | GU252: -2 | GV252: 17 | GY252: 0 | GZ252: 16 | HA252: 0 | HB252: 15 | HC252: 0 | HD252: 5 | HE252: 0 | HF252: 9 | HI252: 3 | HJ252: 90 | HK252: 6 | HL252: 12 | HM252: 4 | HN252: 38 | HO252: 6 | HP252: 5 | HS252: 13 | HT252: 22 | HU252: 9 | HV252: 121 | HW252: 13 | HX252: 9 | HY252: 12 | HZ252: 22 | IC252: 2 | ID252: 54 | IE252: 3 | IF252: 25 | IG252: 1 | IH252: 55 | II252: 0 | IJ252: 60 | IM252: 0 | IN252: 29 | IO252: 0 | IP252: 35 | IQ252: 0 | IR252: 13 | IS252: 0 | IT252: 16
A253: =IF(J253="","",CONCATENATE(J253," ",I253)) -> Nataliya Guseva | B253: 45767 | C253: LA Championship | D253: El Caballero | E253: California | F253: LPGA | I253: Guseva | J253: Nataliya | K253: 20 | L253: 73 | M253: 67 | N253: 67 | O253: 68 | Q253: 275 | R253: 71.39 | S253: 71.08 | T253: 74.33 | U253: 67.96 | V253: 67.61 | W253: 69.12 | Y253: 69.76 | Z253: 120 | AA253: 61 | AB253: 29 | AC253: 20 | AE253: 10 | AF253: 9 | AG253: 8 | AH253: 8 | AJ253: 20 | AK253: 23.5 | AL253: 10 | AM253: 0.54097222 | AN253: 1 | AO253: 0.33263889 | AP253: 1 | AQ253: 0.37152778 | AR253: 1 | AS253: 0.47916667 | AV253: 276 | AW253: 7 | AX253: 66.67 | AY253: 37 | AZ253: 83.33 | BA253: 26 | BB253: 30.33 | BC253: 37 | BD253: 1.76 | BE253: 42 | BF253: 33.3 | BG253: 55 | BH253: 16.67 | BI253: 69 | BJ253: 9 | BK253: 31 | BL253: 15 | BM253: 42 | BN253: 26 | BO253: -3 | BP253: 10 | BQ253: -2 | BR253: 36 | BS253: -8 | BT253: 14 | BU253: 0 | BV253: 20 | BW253: 46 | BX253: 5 | BY253: 1 | BZ253: 6 | CA253: 16 | CB253: 40 | CC253: 16 | CD253: 253.76 | CE253: 72.48 | CF253: 68.14 | CG253: 49.56 | CH253: 1.69 | CI253: 29.65 | CJ253: 47.47 | CK253: 3.04 | CL253: 4.05 | CM253: 4.75 | CN253: 253.05 | CO253: 71.63 | CP253: 66.69 | CQ253: 50.4 | CR253: 1.69 | CS253: 29.48 | CT253: 46.5 | CU253: 3.06 | CV253: 4.06 | CW253: 4.76 | CX253: 25 | CY253: 16 | CZ253: 29 | DA253: 51 | DB253: 7 | DC253: 270 | DD253: 43 | DE253: 276 | DF253: 17 | DG253: 282 | DH253: 11 | DI253: 294 | DJ253: 1 | DM253: 71.43 | DN253: 28 | DO253: 85.71 | DP253: 5 | DQ253: 42.86 | DR253: 68 | DS253: 42.86 | DT253: 68 | DW253: 77.78 | DX253: 69 | DY253: 88.89 | DZ253: 23 | EA253: 83.33 | EB253: 19 | EC253: 100 | ED253: 1 | EG253: 32 | EH253: 93 | EI253: 30 | EJ253: 34 | EK253: 29 | EL253: 16 | EM253: 33 | EN253: 58 | EQ253: 1.93 | ER253: 139 | ES253: 1.69 | ET253: 43 | EU253: 1.6 | EV253: 9 | EW253: 1.83 | EX253: 50 | FA253: 25 | FB253: 90 | FC253: 50 | FD253: 36 | FE253: 33.33 | FF253: 32 | FK253: 50 | FM253: 0 | FO253: 0 | FQ253: 0 | FU253: 1 | FV253: 118 | FW253: -2 | FX253: 1 | FY253: -1 | FZ253: 6 | GA253: -1 | GB253: 13 | GE253: 1 | GF253: 97 | GG253: -2 | GH253: 20 | GI253: -1 | GJ253: 19 | GK253: 0 | GL253: 32 | GO253: -1 | GP253: 59 | GQ253: -1 | GR253: 64 | GS253: -3 | GT253: 8 | GU253: -3 | GV253: 4 | GY253: 0 | GZ253: 16 | HA253: 0 | HB253: 15 | HC253: 0 | HD253: 5 | HE253: 0 | HF253: 9 | HI253: 3 | HJ253: 90 | HK253: 6 | HL253: 12 | HM253: 7 | HN253: 5 | HO253: 4 | HP253: 29 | HS253: 12 | HT253: 41 | HU253: 11 | HV253: 74 | HW253: 9 | HX253: 55 | HY253: 14 | HZ253: 7 | IC253: 2 | ID253: 54 | IE253: 1 | IF253: 85 | IG253: 2 | IH253: 38 | II253: 0 | IJ253: 60 | IM253: 1 | IN253: 1 | IO253: 0 | IP253: 35 | IQ253: 0 | IR253: 13 | IS253: 0 | IT253: 16
A254: =IF(J254="","",CONCATENATE(J254," ",I254)) -> Somi Lee | B254: 45767 | C254: LA Championship | D254: El Caballero | E254: California | F254: LPGA | I254: Lee | J254: Somi | K254: 20 | L254: 67 | M254: 72 | N254: 66 | O254: 70 | Q254: 275 | R254: 71.39 | S254: 71.08 | T254: 68.33 | U254: 72.96 | V254: 66.61 | W254: 71.12 | Y254: 69.76 | Z254: 15 | AA254: 54 | AB254: 12 | AC254: 20 | AE254: 4 | AF254: 8 | AG254: 6 | AH254: 8 | AJ254: 20 | AK254: 23.5 | AL254: 1 | AM254: 0.35555556 | AN254: 10 | AO254: 0.56388889 | AP254: 1 | AQ254: 0.37847222 | AR254: 1 | AS254: 0.53472222 | AV254: 265.67 | AW254: 30 | AX254: 73.81 | AY254: 17 | AZ254: 87.04 | BA254: 11 | BB254: 30.67 | BC254: 43 | BD254: 1.74 | BE254: 31 | BF254: 45.5 | BG254: 42 | BH254: 33.33 | BI254: 49 | BJ254: 12 | BK254: 9 | BL254: 8 | BM254: 37 | BN254: 14 | BO254: 1 | BP254: 60 | BQ254: -5 | BR254: 17 | BS254: -9 | BT254: 8 | BU254: 0 | BV254: 20 | BW254: 46 | BX254: 5 | BY254: 1 | BZ254: 6 | CA254: 16 | CB254: 40 | CC254: 16 | CD254: 253.76 | CE254: 72.48 | CF254: 68.14 | CG254: 49.56 | CH254: 1.69 | CI254: 29.65 | CJ254: 47.47 | CK254: 3.04 | CL254: 4.05 | CM254: 4.75 | CN254: 253.05 | CO254: 71.63 | CP254: 66.69 | CQ254: 50.4 | CR254: 1.69 | CS254: 29.48 | CT254: 46.5 | CU254: 3.06 | CV254: 4.06 | CW254: 4.76 | CX254: 25 | CY254: 16 | CZ254: 29 | DA254: 51 | DB254: 7 | DC254: 258 | DD254: 84 | DE254: 265 | DF254: 44 | DG254: 274 | DH254: 21 | DI254: 259 | DJ254: 42 | DM254: 78.57 | DN254: 14 | DO254: 64.29 | DP254: 69 | DQ254: 78.57 | DR254: 14 | DS254: 71.43 | DT254: 18 | DW254: 100 | DX254: 1 | DY254: 77.78 | DZ254: 72 | EA254: 83.33 | EB254: 19 | EC254: 77.78 | ED254: 34 | EG254: 33 | EH254: 115 | EI254: 32 | EJ254: 81 | EK254: 27 | EL254: 2 | EM254: 31 | EN254: 42 | EQ254: 1.83 | ER254: 114 | ES254: 1.79 | ET254: 89 | EU254: 1.47 | EV254: 2 | EW254: 1.86 | EX254: 54 | FC254: 25 | FD254: 72 | FE254: 33.33 | FF254: 32 | FG254: 75 | FH254: 13 | FM254: 33.33 | FO254: 50 | FQ254: 0 | FU254: -1 | FV254: 21 | FW254: 1 | FX254: 94 | FY254: 0 | FZ254: 27 | GA254: 1 | GB254: 59 | GE254: -2 | GF254: 21 | GG254: 0 | GH254: 71 | GI254: -2 | GJ254: 10 | GK254: -1 | GL254: 18 | GO254: -2 | GP254: 26 | GQ254: -1 | GR254: 64 | GS254: -4 | GT254: 3 | GU254: -2 | GV254: 17 | GY254: 0 | GZ254: 16 | HA254: 0 | HB254: 15 | HC254: 0 | HD254: 5 | HE254: 0 | HF254: 9 | HI254: 5 | HJ254: 38 | HK254: 4 | HL254: 60 | HM254: 8 | HN254: 3 | HO254: 3 | HP254: 48 | HS254: 13 | HT254: 22 | HU254: 11 | HV254: 74 | HW254: 8 | HX254: 63 | HY254: 14 | HZ254: 7 | IC254: 0 | ID254: 126 | IE254: 2 | IF254: 52 | IG254: 2 | IH254: 38 | II254: 1 | IJ254: 39 | IM254: 0 | IN254: 29 | IO254: 1 | IP254: 5 | IQ254: 0 | IR254: 13 | IS254: 0 | IT254: 16
A255: =IF(J255="","",CONCATENATE(J255," ",I255)) -> Jeongeun Lee5 | B255: 45767 | C255: LA Championship | D255: El Caballero | E255: California | F255: LPGA | I255: Lee5 | J255: Jeongeun | K255: 20 | L255: 68 | M255: 69 | N255: 69 | O255: 69 | Q255: 275 | R255: 71.39 | S255: 71.08 | T255: 69.33 | U255: 69.96 | V255: 69.61 | W255: 70.12 | Y255: 69.76 | Z255: 24 | AA255: 29 | AB255: 20 | AC255: 20 | AE255: 5 | AF255: 6 | AG255: 7 | AH255: 8 | AJ255: 20 | AK255: 23.5 | AV255: 262 | AW255: 39 | AX255: 69.05 | AY255: 36 | AZ255: 88.89 | BA255: 8 | BB255: 31.33 | BC255: 54 | BD255: 1.71 | BE255: 23 | BF255: 44.4 | BG255: 44 | BH255: 40 | BI255: 44 | BJ255: 41 | BK255: 20 | BL255: 25 | BM255: 39 | BN255: 20 | BO255: -1 | BP255: 34 | BQ255: -5 | BR255: 17 | BS255: -7 | BT255: 28 | BU255: 0 | BV255: 18 | BW255: 49 | BX255: 5 | BY255: 0 | BZ255: 5 | CA255: 16 | CB255: 40 | CC255: 16 | CD255: 253.76 | CE255: 72.48 | CF255: 68.14 | CG255: 49.56 | CH255: 1.69 | CI255: 29.65 | CJ255: 47.47 | CK255: 3.04 | CL255: 4.05 | CM255: 4.75 | CN255: 253.05 | CO255: 71.63 | CP255: 66.69 | CQ255: 50.4 | CR255: 1.69 | CS255: 29.48 | CT255: 46.5 | CU255: 3.06 | CV255: 4.06 | CW255: 4.76 | CX255: 25 | CY255: 36 | CZ255: 12 | DA255: 51 | DB255: 38 | DC255: 268 | DD255: 49 | DE255: 253 | DF255: 95 | DG255: 265 | DH255: 39 | DI255: 251 | DJ255: 61 | DM255: 42.86 | DN255: 131 | DO255: 85.71 | DP255: 5 | DQ255: 78.57 | DR255: 14 | DS255: 64.29 | DT255: 32 | DW255: 100 | DX255: 1 | DY255: 77.78 | DZ255: 72 | EA255: 88.89 | EB255: 9 | EC255: 83.33 | ED255: 17 | EG255: 34 | EH255: 127 | EI255: 29 | EJ255: 16 | EK255: 31 | EL255: 34 | EM255: 30 | EN255: 29 | EQ255: 1.78 | ER255: 90 | ES255: 1.5 | ET255: 4 | EU255: 1.75 | EV255: 35 | EW255: 1.8 | EX255: 43 | FC255: 0 | FD255: 91 | FE255: 50 | FF255: 16 | FG255: 100 | FH255: 1 | FM255: 33.33 | FO255: 0 | FQ255: 100 | FU255: 0 | FV255: 64 | FW255: 0 | FX255: 40 | FY255: 1 | FZ255: 50 | GA255: -2 | GB255: 3 | GE255: -2 | GF255: 21 | GG255: -1 | GH255: 42 | GI255: -2 | GJ255: 10 | GK255: 0 | GL255: 32 | GO255: -2 | GP255: 26 | GQ255: -2 | GR255: 34 | GS255: -2 | GT255: 22 | GU255: -1 | GV255: 38 | GY255: 0 | GZ255: 16 | HA255: 0 | HB255: 15 | HC255: 0 | HD255: 5 | HE255: 0 | HF255: 9 | HI255: 4 | HJ255: 67 | HK255: 7 | HL255: 4 | HM255: 4 | HN255: 38 | HO255: 3 | HP255: 48 | HS255: 14 | HT255: 9 | HU255: 7 | HV255: 141 | HW255: 13 | HX255: 9 | HY255: 15 | HZ255: 1 | IC255: 0 | ID255: 126 | IE255: 4 | IF255: 13 | IG255: 1 | IH255: 55 | II255: 0 | IJ255: 60 | IM255: 0 | IN255: 29 | IO255: 0 | IP255: 35 | IQ255: 0 | IR255: 13 | IS255: 0 | IT255: 16
A256: =IF(J256="","",CONCATENATE(J256," ",I256)) -> Mary Liu | B256: 45767 | C256: LA Championship | D256: El Caballero | E256: California | F256: LPGA | I256: Liu | J256: Mary | K256: 20 | L256: 69 | M256: 67 | N256: 72 | O256: 67 | Q256: 275 | R256: 71.39 | S256: 71.08 | T256: 70.33 | U256: 67.96 | V256: 72.61 | W256: 68.12 | Y256: 69.76 | Z256: 44 | AA256: 20 | AB256: 39 | AC256: 20 | AE256: 6 | AF256: 5 | AG256: 9 | AH256: 8 | AJ256: 20 | AK256: 23.5 | AL256: 10 | AM256: 0.30972222 | AN256: 1 | AO256: 0.51805556 | AP256: 1 | AQ256: 0.51041667 | AR256: 1 | AS256: 0.42361111 | AV256: 242.67 | AW256: 72 | AX256: 76.19 | AY256: 13 | AZ256: 75.93 | BA256: 59 | BB256: 29 | BC256: 13 | BD256: 1.69 | BE256: 15 | BF256: 61.1 | BG256: 12 | BH256: 77.78 | BI256: 4 | BJ256: 51 | BK256: 40 | BL256: 61 | BM256: 12 | BN256: 29 | BO256: -5 | BP256: 3 | BQ256: 0 | BR256: 51 | BS256: -8 | BT256: 14 | BU256: 1 | BV256: 18 | BW256: 46 | BX256: 7 | BY256: 0 | BZ256: 9 | CA256: 16 | CB256: 40 | CC256: 16 | CD256: 253.76 | CE256: 72.48 | CF256: 68.14 | CG256: 49.56 | CH256: 1.69 | CI256: 29.65 | CJ256: 47.47 | CK256: 3.04 | CL256: 4.05 | CM256: 4.75 | CN256: 253.05 | CO256: 71.63 | CP256: 66.69 | CQ256: 50.4 | CR256: 1.69 | CS256: 29.48 | CT256: 46.5 | CU256: 3.06 | CV256: 4.06 | CW256: 4.76 | CX256: 10 | CY256: 36 | CZ256: 29 | DA256: 33 | DB256: 38 | DC256: 247 | DD256: 121 | DE256: 241 | DF256: 130 | DG256: 240 | DH256: 70 | DI256: 243 | DJ256: 72 | DM256: 85.71 | DN256: 7 | DO256: 64.29 | DP256: 69 | DQ256: 78.57 | DR256: 14 | DS256: 57.14 | DT256: 48 | DW256: 77.78 | DX256: 69 | DY256: 83.33 | DZ256: 43 | EA256: 66.67 | EB256: 63 | EC256: 72.22 | ED256: 51 | EG256: 29 | EH256: 33 | EI256: 28 | EJ256: 8 | EK256: 30 | EL256: 25 | EM256: 24 | EN256: 1 | EQ256: 1.79 | ER256: 94 | ES256: 1.67 | ET256: 39 | EU256: 1.75 | EV256: 33 | EW256: 1.54 | EX256: 3 | FA256: 75 | FB256: 20 | FC256: 66.67 | FD256: 25 | FE256: 50 | FF256: 16 | FG256: 60 | FH256: 27 | FK256: 100 | FM256: 100 | FO256: 33.33 | FQ256: 100 | FU256: -1 | FV256: 21 | FW256: 0 | FX256: 40 | FY256: -1 | FZ256: 6 | GA256: -3 | GB256: 2 | GE256: 0 | GF256: 72 | GG256: -2 | GH256: 20 | GI256: 2 | GJ256: 54 | GK256: 0 | GL256: 32 | GO256: -2 | GP256: 26 | GQ256: -3 | GR256: 10 | GS256: -1 | GT256: 39 | GU256: -2 | GV256: 17 | GY256: 0 | GZ256: 16 | HA256: 0 | HB256: 15 | HC256: 0 | HD256: 5 | HE256: 1 | HF256: 2 | HI256: 4 | HJ256: 67 | HK256: 6 | HL256: 12 | HM256: 3 | HN256: 49 | HO256: 5 | HP256: 15 | HS256: 13 | HT256: 22 | HU256: 11 | HV256: 74 | HW256: 12 | HX256: 19 | HY256: 10 | HZ256: 56 | IC256: 1 | ID256: 91 | IE256: 1 | IF256: 85 | IG256: 3 | IH256: 19 | II256: 2 | IJ256: 22 | IM256: 0 | IN256: 29 | IO256: 0 | IP256: 35 | IQ256: 0 | IR256: 13 | IS256: 0 | IT256: 16
A257: =IF(J257="","",CONCATENATE(J257," ",I257)) -> Pornanong Phatlum | B257: 45767 | C257: LA Championship | D257: El Caballero | E257: California | F257: LPGA | I257: Phatlum | J257: Pornanong | K257: 20 | L257: 68 | M257: 68 | N257: 71 | O257: 68 | Q257: 275 | R257: 71.39 | S257: 71.08 | T257: 69.33 | U257: 68.96 | V257: 71.61 | W257: 69.12 | Y257: 69.76 | Z257: 24 | AA257: 20 | AB257: 29 | AC257: 20 | AE257: 5 | AF257: 5 | AG257: 8 | AH257: 8 | AJ257: 20 | AK257: 23.5 | AL257: 1 | AM257: 0.30972222 | AN257: 10 | AO257: 0.51805556 | AP257: 1 | AQ257: 0.49652778 | AR257: 1 | AS257: 0.45833333 | AV257: 253.67 | AW257: 57 | AX257: 69.05 | AY257: 26 | AZ257: 75.93 | BA257: 59 | BB257: 30 | BC257: 30 | BD257: 1.81 | BE257: 59 | BF257: 60 | BG257: 13 | BH257: 60 | BI257: 16 | BJ257: 48 | BK257: 51 | BL257: 58 | BM257: 44 | BN257: 57 | BO257: -2 | BP257: 19 | BQ257: -1 | BR257: 45 | BS257: -10 | BT257: 3 | BU257: 1 | BV257: 17 | BW257: 48 | BX257: 6 | BY257: 0 | BZ257: 10 | CA257: 16 | CB257: 40 | CC257: 16 | CD257: 253.76 | CE257: 72.48 | CF257: 68.14 | CG257: 49.56 | CH257: 1.69 | CI257: 29.65 | CJ257: 47.47 | CK257: 3.04 | CL257: 4.05 | CM257: 4.75 | CN257: 253.05 | CO257: 71.63 | CP257: 66.69 | CQ257: 50.4 | CR257: 1.69 | CS257: 29.48 | CT257: 46.5 | CU257: 3.06 | CV257: 4.06 | CW257: 4.76 | CX257: 10 | CY257: 43 | CZ257: 19 | DA257: 42 | DB257: 38 | DC257: 252 | DD257: 107 | DE257: 265 | DF257: 44 | DG257: 244 | DH257: 66 | DI257: 259 | DJ257: 42 | DM257: 57.14 | DN257: 86 | DO257: 78.57 | DP257: 20 | DQ257: 71.43 | DR257: 24 | DS257: 71.43 | DT257: 18 | DW257: 77.78 | DX257: 69 | DY257: 77.78 | DZ257: 72 | EA257: 72.22 | EB257: 49 | EC257: 88.89 | ED257: 7 | EG257: 28 | EH257: 19 | EI257: 30 | EJ257: 34 | EK257: 32 | EL257: 49 | EM257: 30 | EN257: 29 | EQ257: 1.71 | ER257: 56 | ES257: 1.93 | ET257: 135 | EU257: 1.85 | EV257: 46 | EW257: 1.75 | EX257: 32 | FA257: 75 | FB257: 20 | FC257: 100 | FD257: 1 | FE257: 0 | FF257: 47 | FG257: 100 | FH257: 1 | FK257: 66.67 | FM257: 100 | FO257: 40 | FU257: -1 | FV257: 21 | FW257: 0 | FX257: 40 | FY257: 0 | FZ257: 27 | GA257: -1 | GB257: 13 | GE257: -1 | GF257: 41 | GG257: -2 | GH257: 20 | GI257: 3 | GJ257: 62 | GK257: -1 | GL257: 18 | GO257: -2 | GP257: 26 | GQ257: -2 | GR257: 34 | GS257: -4 | GT257: 3 | GU257: -2 | GV257: 17 | GY257: 0 | GZ257: 16 | HA257: 0 | HB257: 15 | HC257: 1 | HD257: 1 | HE257: 0 | HF257: 9 | HI257: 5 | HJ257: 38 | HK257: 4 | HL257: 60 | HM257: 4 | HN257: 38 | HO257: 4 | HP257: 29 | HS257: 12 | HT257: 41 | HU257: 14 | HV257: 12 | HW257: 8 | HX257: 63 | HY257: 14 | HZ257: 7 | IC257: 1 | ID257: 91 | IE257: 0 | IF257: 131 | IG257: 5 | IH257: 2 | II257: 0 | IJ257: 60 | IM257: 0 | IN257: 29 | IO257: 0 | IP257: 35 | IQ257: 0 | IR257: 13 | IS257: 0 | IT257: 16
A258: =IF(J258="","",CONCATENATE(J258," ",I258)) -> Chanettee Wannasaen | B258: 45767 | C258: LA Championship | D258: El Caballero | E258: California | F258: LPGA | I258: Wannasaen | J258: Chanettee | K258: 20 | L258: 71 | M258: 66 | N258: 72 | O258: 66 | Q258: 275 | R258: 71.39 | S258: 71.08 | T258: 72.33 | U258: 66.96 | V258: 72.61 | W258: 67.12 | Y258: 69.76 | Z258: 81 | AA258: 29 | AB258: 49 | AC258: 20 | AE258: 8 | AF258: 6 | AG258: 10 | AH258: 8 | AJ258: 20 | AK258: 23.5 | AL258: 10 | AM258: 0.35555556 | AN258: 1 | AO258: 0.56388889 | AP258: 1 | AQ258: 0.48263889 | AR258: 1 | AS258: 0.39583333 | AV258: 274 | AW258: 10 | AX258: 66.67 | AY258: 37 | AZ258: 72.22 | BA258: 71 | BB258: 29.33 | BC258: 16 | BD258: 1.67 | BE258: 10 | BF258: 29.4 | BG258: 60 | BH258: 57.14 | BI258: 19 | BJ258: 12 | BK258: 63 | BL258: 45 | BM258: 11 | BN258: 44 | BO258: -1 | BP258: 34 | BQ258: -2 | BR258: 36 | BS258: -10 | BT258: 3 | BU258: 3 | BV258: 20 | BW258: 37 | BX258: 11 | BY258: 1 | BZ258: 7 | CA258: 16 | CB258: 40 | CC258: 16 | CD258: 253.76 | CE258: 72.48 | CF258: 68.14 | CG258: 49.56 | CH258: 1.69 | CI258: 29.65 | CJ258: 47.47 | CK258: 3.04 | CL258: 4.05 | CM258: 4.75 | CN258: 253.05 | CO258: 71.63 | CP258: 66.69 | CQ258: 50.4 | CR258: 1.69 | CS258: 29.48 | CT258: 46.5 | CU258: 3.06 | CV258: 4.06 | CW258: 4.76 | CX258: 2 | CY258: 16 | CZ258: 69 | DA258: 9 | DB258: 7 | DC258: 275 | DD258: 23 | DE258: 273 | DF258: 23 | DG258: 274 | DH258: 21 | DI258: 261 | DJ258: 37 | DM258: 64.29 | DN258: 50 | DO258: 78.57 | DP258: 20 | DQ258: 57.14 | DR258: 47 | DS258: 50 | DT258: 53 | DW258: 61.11 | DX258: 132 | DY258: 77.78 | DZ258: 72 | EA258: 77.78 | EB258: 31 | EC258: 88.89 | ED258: 7 | EG258: 28 | EH258: 19 | EI258: 27 | EJ258: 1 | EK258: 33 | EL258: 56 | EM258: 29 | EN258: 20 | EQ258: 1.64 | ER258: 32 | ES258: 1.5 | ET258: 2 | EU258: 2 | EV258: 64 | EW258: 1.56 | EX258: 6 | FA258: 28.57 | FB258: 89 | FC258: 50 | FD258: 36 | FE258: 0 | FF258: 47 | FG258: 50 | FH258: 33 | FK258: 50 | FM258: 50 | FO258: 66.67 | FU258: -1 | FV258: 21 | FW258: 1 | FX258: 94 | FY258: 0 | FZ258: 27 | GA258: -1 | GB258: 13 | GE258: 1 | GF258: 97 | GG258: -2 | GH258: 20 | GI258: 0 | GJ258: 28 | GK258: -1 | GL258: 18 | GO258: -1 | GP258: 59 | GQ258: -5 | GR258: 1 | GS258: 0 | GT258: 56 | GU258: -4 | GV258: 1 | GY258: 1 | GZ258: 1 | HA258: 1 | HB258: 2 | HC258: 0 | HD258: 5 | HE258: 1 | HF258: 2 | HI258: 4 | HJ258: 67 | HK258: 6 | HL258: 12 | HM258: 4 | HN258: 38 | HO258: 6 | HP258: 5 | HS258: 8 | HT258: 134 | HU258: 9 | HV258: 121 | HW258: 10 | HX258: 42 | HY258: 10 | HZ258: 56 | IC258: 5 | ID258: 4 | IE258: 2 | IF258: 52 | IG258: 4 | IH258: 7 | II258: 0 | IJ258: 60 | IM258: 0 | IN258: 29 | IO258: 0 | IP258: 35 | IQ258: 0 | IR258: 13 | IS258: 1 | IT258: 2
A259: =IF(J259="","",CONCATENATE(J259," ",I259)) -> Frida Kinhult | B259: 45767 | C259: LA Championship | D259: El Caballero | E259: California | F259: LPGA | I259: Kinhult | J259: Frida | K259: 28 | L259: 64 | M259: 73 | N259: 69 | O259: 70 | Q259: 276 | R259: 71.39 | S259: 71.08 | T259: 65.33 | U259: 73.96 | V259: 69.61 | W259: 71.12 | Y259: 70.01 | Z259: 3 | AA259: 29 | AB259: 20 | AC259: 28 | AE259: 1 | AF259: 6 | AG259: 7 | AH259: 9 | AJ259: 28 | AK259: 29.5 | AL259: 1 | AM259: 0.58680556 | AP259: 1 | AQ259: 0.44097222 | AR259: 1 | AS259: 0.49305556 | AV259: 270.33 | AW259: 16 | AX259: 59.52 | AY259: 57 | AZ259: 77.78 | BA259: 55 | BB259: 29.33 | BC259: 16 | BD259: 1.75 | BE259: 38 | BF259: 60 | BG259: 13 | BH259: 63.64 | BI259: 14 | BJ259: 39 | BK259: 65 | BL259: 50 | BM259: 27 | BN259: 38 | BO259: -3 | BP259: 10 | BQ259: -4 | BR259: 22 | BS259: -5 | BT259: 54 | BU259: 0 | BV259: 18 | BW259: 48 | BX259: 6 | BY259: 0 | BZ259: 11 | CA259: 16 | CB259: 40 | CC259: 16 | CD259: 253.76 | CE259: 72.48 | CF259: 68.14 | CG259: 49.56 | CH259: 1.69 | CI259: 29.65 | CJ259: 47.47 | CK259: 3.04 | CL259: 4.05 | CM259: 4.75 | CN259: 253.05 | CO259: 71.63 | CP259: 66.69 | CQ259: 50.4 | CR259: 1.69 | CS259: 29.48 | CT259: 46.5 | CU259: 3.06 | CV259: 4.06 | CW259: 4.76 | CX259: 25 | CY259: 36 | CZ259: 19 | DA259: 42 | DB259: 38 | DC259: 254 | DD259: 102 | DE259: 271 | DF259: 27 | DG259: 286 | DH259: 8 | DI259: 293 | DJ259: 2 | DM259: 64.29 | DN259: 50 | DO259: 64.29 | DP259: 69 | DQ259: 50 | DR259: 61 | DS259: 42.86 | DT259: 68 | DW259: 77.78 | DX259: 69 | DY259: 77.78 | DZ259: 72 | EA259: 77.78 | EB259: 31 | EC259: 83.33 | ED259: 17 | EG259: 24 | EH259: 1 | EI259: 34 | EJ259: 123 | EK259: 30 | EL259: 25 | EM259: 31 | EN259: 42 | EQ259: 1.5 | ER259: 6 | ES259: 2 | ET259: 141 | EU259: 1.86 | EV259: 49 | EW259: 1.67 | EX259: 17 | FA259: 100 | FB259: 1 | FC259: 50 | FD259: 36 | FE259: 75 | FF259: 5 | FG259: 0 | FH259: 55 | FK259: 100 | FM259: 66.67 | FQ259: 0 | FU259: -1 | FV259: 21 | FW259: 0 | FX259: 40 | FY259: -2 | FZ259: 1 | GA259: 0 | GB259: 39 | GE259: -5 | GF259: 1 | GG259: 2 | GH259: 117 | GI259: 0 | GJ259: 28 | GK259: -1 | GL259: 18 | GO259: -2 | GP259: 26 | GQ259: -1 | GR259: 64 | GS259: -1 | GT259: 39 | GU259: -1 | GV259: 38 | GY259: 0 | GZ259: 16 | HA259: 0 | HB259: 15 | HC259: 0 | HD259: 5 | HE259: 0 | HF259: 9 | HI259: 8 | HJ259: 2 | HK259: 1 | HL259: 133 | HM259: 4 | HN259: 38 | HO259: 5 | HP259: 15 | HS259: 10 | HT259: 97 | HU259: 15 | HV259: 4 | HW259: 13 | HX259: 9 | HY259: 10 | HZ259: 56 | IC259: 0 | ID259: 126 | IE259: 2 | IF259: 52 | IG259: 1 | IH259: 55 | II259: 3 | IJ259: 13 | IM259: 0 | IN259: 29 | IO259: 0 | IP259: 35 | IQ259: 0 | IR259: 13 | IS259: 0 | IT259: 16
A260: =IF(J260="","",CONCATENATE(J260," ",I260)) -> Emily Kristine Pedersen | B260: 45767 | C260: LA Championship | D260: El Caballero | E260: California | F260: LPGA | I260: Pedersen | J260: Emily Kristine | K260: 28 | L260: 69 | M260: 69 | N260: 66 | O260: 72 | Q260: 276 | R260: 71.39 | S260: 71.08 | T260: 70.33 | U260: 69.96 | V260: 66.61 | W260: 73.12 | Y260: 70.01 | Z260: 44 | AA260: 43 | AB260: 10 | AC260: 28 | AE260: 6 | AF260: 7 | AG260: 5 | AH260: 9 | AJ260: 28 | AK260: 29.5 | AL260: 1 | AM260: 0.57916667 | AN260: 10 | AO260: 0.37083333 | AP260: 1 | AQ260: 0.41319444 | AR260: 1 | AS260: 0.54861111 | AV260: 290.67 | AW260: 2 | AX260: 64.29 | AY260: 46 | AZ260: 94.44 | BA260: 1 | BB260: 32 | BC260: 67 | BD260: 1.83 | BE260: 69 | BF260: 0 | BG260: 72 | BH260: 0 | BI260: 71 | BJ260: 16 | BK260: 21 | BL260: 3 | BM260: 69 | BN260: 45 | BO260: -1 | BP260: 34 | BQ260: -6 | BR260: 10 | BS260: -5 | BT260: 54 | BU260: 0 | BV260: 20 | BW260: 44 | BX260: 8 | BY260: 0 | BZ260: 2 | CA260: 16 | CB260: 40 | CC260: 16 | CD260: 253.76 | CE260: 72.48 | CF260: 68.14 | CG260: 49.56 | CH260: 1.69 | CI260: 29.65 | CJ260: 47.47 | CK260: 3.04 | CL260: 4.05 | CM260: 4.75 | CN260: 253.05 | CO260: 71.63 | CP260: 66.69 | CQ260: 50.4 | CR260: 1.69 | CS260: 29.48 | CT260: 46.5 | CU260: 3.06 | CV260: 4.06 | CW260: 4.76 | CX260: 25 | CY260: 16 | CZ260: 42 | DA260: 24 | DB260: 38 | DC260: 287 | DD260: 6 | DE260: 291 | DF260: 7 | DG260: 294 | DH260: 1 | DI260: 269 | DJ260: 20 | DM260: 50 | DN260: 113 | DO260: 71.43 | DP260: 40 | DQ260: 71.43 | DR260: 24 | DS260: 50 | DT260: 53 | DW260: 94.44 | DX260: 8 | DY260: 94.44 | DZ260: 5 | EA260: 94.44 | EB260: 1 | EC260: 83.33 | ED260: 17 | EG260: 32 | EH260: 93 | EI260: 34 | EJ260: 123 | EK260: 30 | EL260: 25 | EM260: 34 | EN260: 68 | EQ260: 1.77 | ER260: 83 | ES260: 1.94 | ET260: 139 | EU260: 1.65 | EV260: 21 | EW260: 2 | EX260: 72 | FA260: 0 | FB260: 108 | FC260: 0 | FD260: 91 | FE260: 0 | FF260: 47 | FG260: 0 | FH260: 55 | FM260: 0 | FO260: 0 | FU260: 0 | FV260: 64 | FW260: 0 | FX260: 40 | FY260: 1 | FZ260: 50 | GA260: -2 | GB260: 3 | GE260: -2 | GF260: 21 | GG260: -2 | GH260: 20 | GI260: -5 | GJ260: 1 | GK260: 3 | GL260: 66 | GO260: -1 | GP260: 59 | GQ260: -1 | GR260: 64 | GS260: -2 | GT260: 22 | GU260: -1 | GV260: 38 | GY260: 0 | GZ260: 16 | HA260: 0 | HB260: 15 | HC260: 0 | HD260: 5 | HE260: 0 | HF260: 9 | HI260: 6 | HJ260: 12 | HK260: 4 | HL260: 60 | HM260: 7 | HN260: 5 | HO260: 3 | HP260: 48 | HS260: 9 | HT260: 121 | HU260: 13 | HV260: 22 | HW260: 10 | HX260: 42 | HY260: 12 | HZ260: 22 | IC260: 3 | ID260: 23 | IE260: 1 | IF260: 85 | IG260: 1 | IH260: 55 | II260: 3 | IJ260: 13 | IM260: 0 | IN260: 29 | IO260: 0 | IP260: 35 | IQ260: 0 | IR260: 13 | IS260: 0 | IT260: 16
A261: =IF(J261="","",CONCATENATE(J261," ",I261)) -> Sarah Schmelzel | B261: 45767 | C261: LA Championship | D261: El Caballero | E261: California | F261: LPGA | I261: Schmelzel | J261: Sarah | K261: 28 | L261: 68 | M261: 68 | N261: 69 | O261: 71 | Q261: 276 | R261: 71.39 | S261: 71.08 | T261: 69.33 | U261: 68.96 | V261: 69.61 | W261: 72.12 | Y261: 70.01 | Z261: 24 | AA261: 20 | AB261: 12 | AC261: 28 | AE261: 5 | AF261: 5 | AG261: 6 | AH261: 9 | AJ261: 28 | AK261: 29.5 | AL261: 1 | AM261: 0.34027778 | AN261: 10 | AO261: 0.54861111 | AP261: 1 | AQ261: 0.49652778 | AR261: 1 | AS261: 0.52777778 | AV261: 262.67 | AW261: 36 | AX261: 73.81 | AY261: 17 | AZ261: 83.33 | BA261: 26 | BB261: 30.33 | BC261: 37 | BD261: 1.82 | BE261: 66 | BF261: 63.6 | BG261: 6 | BH261: 50 | BI261: 28 | BJ261: 21 | BK261: 19 | BL261: 22 | BM261: 53 | BN261: 21 | BO261: -1 | BP261: 34 | BQ261: -6 | BR261: 10 | BS261: -5 | BT261: 54 | BU261: 0 | BV261: 16 | BW261: 52 | BX261: 4 | BY261: 0 | BZ261: 6 | CA261: 16 | CB261: 40 | CC261: 16 | CD261: 253.76 | CE261: 72.48 | CF261: 68.14 | CG261: 49.56 | CH261: 1.69 | CI261: 29.65 | CJ261: 47.47 | CK261: 3.04 | CL261: 4.05 | CM261: 4.75 | CN261: 253.05 | CO261: 71.63 | CP261: 66.69 | CQ261: 50.4 | CR261: 1.69 | CS261: 29.48 | CT261: 46.5 | CU261: 3.06 | CV261: 4.06 | CW261: 4.76 | CX261: 25 | CY261: 52 | CZ261: 4 | DA261: 61 | DB261: 38 | DC261: 259 | DD261: 78 | DE261: 261 | DF261: 64 | DG261: 268 | DH261: 37 | DI261: 279 | DJ261: 12 | DM261: 57.14 | DN261: 86 | DO261: 78.57 | DP261: 20 | DQ261: 85.71 | DR261: 5 | DS261: 57.14 | DT261: 48 | DW261: 83.33 | DX261: 41 | DY261: 83.33 | DZ261: 43 | EA261: 83.33 | EB261: 19 | EC261: 88.89 | ED261: 7 | EG261: 29 | EH261: 33 | EI261: 31 | EJ261: 63 | EK261: 31 | EL261: 34 | EM261: 33 | EN261: 58 | EQ261: 1.73 | ER261: 67 | ES261: 1.8 | ET261: 103 | EU261: 1.8 | EV261: 40 | EW261: 1.94 | EX261: 66 | FA261: 100 | FB261: 1 | FC261: 66.67 | FD261: 25 | FE261: 33.33 | FF261: 32 | FG261: 50 | FH261: 33 | FK261: 0 | FM261: 100 | FO261: 50 | FQ261: 50 | FU261: -2 | FV261: 4 | FW261: 1 | FX261: 94 | FY261: 1 | FZ261: 50 | GA261: -1 | GB261: 13 | GE261: -1 | GF261: 41 | GG261: -1 | GH261: 42 | GI261: -3 | GJ261: 6 | GK261: -1 | GL261: 18 | GO261: -1 | GP261: 59 | GQ261: -4 | GR261: 5 | GS261: -1 | GT261: 39 | GU261: 1 | GV261: 68 | GY261: 0 | GZ261: 16 | HA261: 0 | HB261: 15 | HC261: 0 | HD261: 5 | HE261: 0 | HF261: 9 | HI261: 4 | HJ261: 67 | HK261: 5 | HL261: 32 | HM261: 5 | HN261: 22 | HO261: 2 | HP261: 62 | HS261: 14 | HT261: 9 | HU261: 12 | HV261: 41 | HW261: 11 | HX261: 33 | HY261: 15 | HZ261: 1 | IC261: 0 | ID261: 126 | IE261: 1 | IF261: 85 | IG261: 2 | IH261: 38 | II261: 1 | IJ261: 39 | IM261: 0 | IN261: 29 | IO261: 0 | IP261: 35 | IQ261: 0 | IR261: 13 | IS261: 0 | IT261: 16
A262: =IF(J262="","",CONCATENATE(J262," ",I262)) -> Yahui Zhang | B262: 45767 | C262: LA Championship | D262: El Caballero | E262: California | F262: LPGA | I262: Zhang | J262: Yahui | K262: 28 | L262: 68 | M262: 69 | N262: 69 | O262: 70 | Q262: 276 | R262: 71.39 | S262: 71.08 | T262: 69.33 | U262: 69.96 | V262: 69.61 | W262: 71.12 | Y262: 70.01 | Z262: 24 | AA262: 29 | AB262: 20 | AC262: 28 | AE262: 5 | AF262: 6 | AG262: 7 | AH262: 9 | AJ262: 28 | AK262: 29.5 | AL262: 1 | AM262: 0.55625 | AN262: 10 | AO262: 0.34791667 | AP262: 1 | AQ262: 0.45486111 | AR262: 1 | AS262: 0.5 | AV262: 250.67 | AW262: 63 | AX262: 66.67 | AY262: 37 | AZ262: 72.22 | BA262: 71 | BB262: 27.67 | BC262: 1 | BD262: 1.63 | BE262: 5 | BF262: 55 | BG262: 22 | BH262: 45.45 | BI262: 39 | BJ262: 64 | BK262: 63 | BL262: 69 | BM262: 2 | BN262: 50 | BO262: -1 | BP262: 34 | BQ262: -3 | BR262: 26 | BS262: -8 | BT262: 14 | BU262: 1 | BV262: 19 | BW262: 43 | BX262: 9 | BY262: 0 | BZ262: 11 | CA262: 16 | CB262: 40 | CC262: 16 | CD262: 253.76 | CE262: 72.48 | CF262: 68.14 | CG262: 49.56 | CH262: 1.69 | CI262: 29.65 | CJ262: 47.47 | CK262: 3.04 | CL262: 4.05 | CM262: 4.75 | CN262: 253.05 | CO262: 71.63 | CP262: 66.69 | CQ262: 50.4 | CR262: 1.69 | CS262: 29.48 | CT262: 46.5 | CU262: 3.06 | CV262: 4.06 | CW262: 4.76 | CX262: 10 | CY262: 25 | CZ262: 49 | DA262: 13 | DB262: 38 | DC262: 244 | DD262: 128 | DE262: 249 | DF262: 109 | DG262: 259 | DH262: 50 | DI262: 274 | DJ262: 17 | DM262: 71.43 | DN262: 28 | DO262: 50 | DP262: 120 | DQ262: 78.57 | DR262: 14 | DS262: 71.43 | DT262: 18 | DW262: 61.11 | DX262: 132 | DY262: 77.78 | DZ262: 72 | EA262: 77.78 | EB262: 31 | EC262: 72.22 | ED262: 51 | EG262: 25 | EH262: 2 | EI262: 29 | EJ262: 16 | EK262: 29 | EL262: 16 | EM262: 30 | EN262: 29 | EQ262: 1.55 | ER262: 14 | ES262: 1.64 | ET262: 23 | EU262: 1.57 | EV262: 7 | EW262: 1.77 | EX262: 34 | FA262: 85.71 | FB262: 15 | FC262: 25 | FD262: 72 | FE262: 25 | FF262: 38 | FG262: 60 | FH262: 27 | FK262: 66.67 | FM262: 33.33 | FO262: 33.33 | FQ262: 50 | FU262: -1 | FV262: 21 | FW262: 0 | FX262: 40 | FY262: -1 | FZ262: 6 | GA262: 1 | GB262: 59 | GE262: -1 | GF262: 41 | GG262: 0 | GH262: 71 | GI262: -2 | GJ262: 10 | GK262: 0 | GL262: 32 | GO262: -2 | GP262: 26 | GQ262: -3 | GR262: 10 | GS262: 0 | GT262: 56 | GU262: -3 | GV262: 4 | GY262: 0 | GZ262: 16 | HA262: 0 | HB262: 15 | HC262: 0 | HD262: 5 | HE262: 1 | HF262: 2 | HI262: 5 | HJ262: 38 | HK262: 6 | HL262: 12 | HM262: 6 | HN262: 9 | HO262: 2 | HP262: 62 | HS262: 12 | HT262: 41 | HU262: 9 | HV262: 121 | HW262: 9 | HX262: 55 | HY262: 13 | HZ262: 14 | IC262: 1 | ID262: 91 | IE262: 3 | IF262: 25 | IG262: 3 | IH262: 19 | II262: 2 | IJ262: 22 | IM262: 0 | IN262: 29 | IO262: 0 | IP262: 35 | IQ262: 0 | IR262: 13 | IS262: 0 | IT262: 16
A263: =IF(J263="","",CONCATENATE(J263," ",I263)) -> Ruixin Liu | B263: 45767 | C263: LA Championship | D263: El Caballero | E263: California | F263: LPGA | I263: Liu | J263: Ruixin | K263: 32 | L263: 70 | M263: 67 | N263: 74 | O263: 66 | Q263: 277 | R263: 71.39 | S263: 71.08 | T263: 71.33 | U263: 67.96 | V263: 74.61 | W263: 67.12 | Y263: 70.26 | Z263: 62 | AA263: 29 | AB263: 61 | AC263: 32 | AE263: 7 | AF263: 6 | AG263: 12 | AH263: 10 | AJ263: 32 | AK263: 34 | AL263: 10 | AM263: 0.36319444 | AN263: 1 | AO263: 0.57152778 | AP263: 1 | AQ263: 0.48263889 | AR263: 1 | AS263: 0.35416667 | AV263: 263 | AW263: 35 | AX263: 80.95 | AY263: 5 | AZ263: 87.04 | BA263: 11 | BB263: 32.33 | BC263: 71 | BD263: 1.82 | BE263: 66 | BF263: 63.6 | BG263: 6 | BH263: 83.33 | BI263: 1 | BJ263: 7 | BK263: 3 | BL263: 5 | BM263: 71 | BN263: 10 | BO263: 1 | BP263: 60 | BQ263: -3 | BR263: 26 | BS263: -9 | BT263: 8 | BU263: 1 | BV263: 14 | BW263: 52 | BX263: 5 | BY263: 0 | BZ263: 6 | CA263: 16 | CB263: 40 | CC263: 16 | CD263: 253.76 | CE263: 72.48 | CF263: 68.14 | CG263: 49.56 | CH263: 1.69 | CI263: 29.65 | CJ263: 47.47 | CK263: 3.04 | CL263: 4.05 | CM263: 4.75 | CN263: 253.05 | CO263: 71.63 | CP263: 66.69 | CQ263: 50.4 | CR263: 1.69 | CS263: 29.48 | CT263: 46.5 | CU263: 3.06 | CV263: 4.06 | CW263: 4.76 | CX263: 10 | CY263: 64 | CZ263: 4 | DA263: 51 | DB263: 38 | DC263: 259 | DD263: 78 | DE263: 257 | DF263: 79 | DG263: 273 | DH263: 23 | DI263: 259 | DJ263: 42 | DM263: 78.57 | DN263: 14 | DO263: 92.86 | DP263: 2 | DQ263: 71.43 | DR263: 24 | DS263: 71.43 | DT263: 18 | DW263: 83.33 | DX263: 41 | DY263: 100 | DZ263: 1 | EA263: 77.78 | EB263: 31 | EC263: 77.78 | ED263: 34 | EG263: 31 | EH263: 76 | EI263: 32 | EJ263: 81 | EK263: 34 | EL263: 61 | EM263: 27 | EN263: 9 | EQ263: 1.87 | ER263: 125 | ES263: 1.78 | ET263: 87 | EU263: 2 | EV263: 64 | EW263: 1.64 | EX263: 9 | FA263: 100 | FB263: 1 | FE263: 25 | FF263: 38 | FG263: 75 | FH263: 13 | FK263: 100 | FO263: 0 | FQ263: 100 | FU263: 0 | FV263: 64 | FW263: 1 | FX263: 94 | FY263: 1 | FZ263: 50 | GA263: -1 | GB263: 13 | GE263: -1 | GF263: 41 | GG263: -3 | GH263: 10 | GI263: 2 | GJ263: 54 | GK263: -1 | GL263: 18 | GO263: -1 | GP263: 59 | GQ263: -3 | GR263: 10 | GS263: -1 | GT263: 39 | GU263: -4 | GV263: 1 | GY263: 0 | GZ263: 16 | HA263: 0 | HB263: 15 | HC263: 0 | HD263: 5 | HE263: 1 | HF263: 2 | HI263: 2 | HJ263: 120 | HK263: 6 | HL263: 12 | HM263: 1 | HN263: 68 | HO263: 5 | HP263: 15 | HS263: 16 | HT263: 1 | HU263: 11 | HV263: 74 | HW263: 14 | HX263: 3 | HY263: 11 | HZ263: 37 | IC263: 0 | ID263: 126 | IE263: 1 | IF263: 85 | IG263: 3 | IH263: 19 | II263: 1 | IJ263: 39 | IM263: 0 | IN263: 29 | IO263: 0 | IP263: 35 | IQ263: 0 | IR263: 13 | IS263: 0 | IT263: 16
A264: =IF(J264="","",CONCATENATE(J264," ",I264)) -> Yan Liu | B264: 45767 | C264: LA Championship | D264: El Caballero | E264: California | F264: LPGA | I264: Liu | J264: Yan | K264: 32 | L264: 63 | M264: 70 | N264: 72 | O264: 72 | Q264: 277 | R264: 71.39 | S264: 71.08 | T264: 64.33 | U264: 70.96 | V264: 72.61 | W264: 73.12 | Y264: 70.26 | Z264: 1 | AA264: 4 | AB264: 12 | AC264: 32 | AE264: 0 | AF264: 2 | AG264: 6 | AH264: 10 | AJ264: 32 | AK264: 34 | AL264: 10 | AM264: 0.52569444 | AN264: 1 | AO264: 0.31736111 | AP264: 1 | AQ264: 0.56597222 | AR264: 1 | AS264: 0.51388889 | AV264: 274.67 | AW264: 9 | AX264: 54.76 | AY264: 66 | AZ264: 79.63 | BA264: 52 | BB264: 29.33 | BC264: 16 | BD264: 1.68 | BE264: 14 | BF264: 33.3 | BG264: 55 | BH264: 33.33 | BI264: 49 | BJ264: 41 | BK264: 67 | BL264: 49 | BM264: 14 | BN264: 48 | BO264: -2 | BP264: 19 | BQ264: -2 | BR264: 36 | BS264: -7 | BT264: 28 | BU264: 1 | BV264: 21 | BW264: 40 | BX264: 9 | BY264: 1 | BZ264: 9 | CA264: 16 | CB264: 40 | CC264: 16 | CD264: 253.76 | CE264: 72.48 | CF264: 68.14 | CG264: 49.56 | CH264: 1.69 | CI264: 29.65 | CJ264: 47.47 | CK264: 3.04 | CL264: 4.05 | CM264: 4.75 | CN264: 253.05 | CO264: 71.63 | CP264: 66.69 | CQ264: 50.4 | CR264: 1.69 | CS264: 29.48 | CT264: 46.5 | CU264: 3.06 | CV264: 4.06 | CW264: 4.76 | CX264: 10 | CY264: 13 | CZ264: 65 | DA264: 13 | DB264: 7 | DC264: 289 | DD264: 4 | DE264: 264 | DF264: 53 | DG264: 271 | DH264: 26 | DI264: 263 | DJ264: 32 | DM264: 42.86 | DN264: 131 | DO264: 64.29 | DP264: 69 | DQ264: 57.14 | DR264: 47 | DS264: 71.43 | DT264: 18 | DW264: 83.33 | DX264: 41 | DY264: 77.78 | DZ264: 72 | EA264: 77.78 | EB264: 31 | EC264: 77.78 | ED264: 34 | EG264: 25 | EH264: 2 | EI264: 31 | EJ264: 63 | EK264: 32 | EL264: 49 | EM264: 30 | EN264: 29 | EQ264: 1.4 | ER264: 1 | ES264: 1.79 | ET264: 89 | EU264: 1.79 | EV264: 39 | EW264: 1.79 | EX264: 40 | FA264: 66.67 | FB264: 30 | FC264: 50 | FD264: 36 | FE264: 25 | FF264: 38 | FG264: 0 | FH264: 55 | FK264: 0 | FM264: 66.67 | FO264: 0 | FQ264: 33.33 | FU264: -2 | FV264: 4 | FW264: -1 | FX264: 10 | FY264: 0 | FZ264: 27 | GA264: 1 | GB264: 59 | GE264: -2 | GF264: 21 | GG264: 0 | GH264: 71 | GI264: 3 | GJ264: 62 | GK264: -3 | GL264: 6 | GO264: -5 | GP264: 1 | GQ264: -1 | GR264: 64 | GS264: -3 | GT264: 8 | GU264: 2 | GV264: 71 | GY264: 1 | GZ264: 1 | HA264: 0 | HB264: 15 | HC264: 0 | HD264: 5 | HE264: 0 | HF264: 9 | HI264: 8 | HJ264: 2 | HK264: 4 | HL264: 60 | HM264: 5 | HN264: 22 | HO264: 4 | HP264: 29 | HS264: 8 | HT264: 134 | HU264: 12 | HV264: 41 | HW264: 10 | HX264: 42 | HY264: 10 | HZ264: 56 | IC264: 1 | ID264: 91 | IE264: 2 | IF264: 52 | IG264: 2 | IH264: 38 | II264: 4 | IJ264: 5 | IM264: 0 | IN264: 29 | IO264: 0 | IP264: 35 | IQ264: 1 | IR264: 2 | IS264: 0 | IT264: 16
A265: =IF(J265="","",CONCATENATE(J265," ",I265)) -> Yu Liu | B265: 45767 | C265: LA Championship | D265: El Caballero | E265: California | F265: LPGA | I265: Liu | J265: Yu | K265: 32 | L265: 66 | M265: 71 | N265: 71 | O265: 69 | Q265: 277 | R265: 71.39 | S265: 71.08 | T265: 67.33 | U265: 71.96 | V265: 71.61 | W265: 70.12 | Y265: 70.26 | Z265: 9 | AA265: 29 | AB265: 39 | AC265: 32 | AE265: 3 | AF265: 6 | AG265: 9 | AH265: 10 | AJ265: 32 | AK265: 34 | AL265: 10 | AM265: 0.57916667 | AN265: 1 | AO265: 0.37083333 | AP265: 1 | AQ265: 0.44791667 | AR265: 1 | AS265: 0.43055556 | AV265: 258.67 | AW265: 45 | AX265: 76.19 | AY265: 13 | AZ265: 83.33 | BA265: 26 | BB265: 30 | BC265: 30 | BD265: 1.73 | BE265: 30 | BF265: 50 | BG265: 29 | BH265: 66.67 | BI265: 9 | BJ265: 26 | BK265: 14 | BL265: 27 | BM265: 32 | BN265: 17 | BO265: -1 | BP265: 34 | BQ265: -3 | BR265: 26 | BS265: -7 | BT265: 28 | BU265: 0 | BV265: 18 | BW265: 48 | BX265: 5 | BY265: 1 | BZ265: 9 | CA265: 16 | CB265: 40 | CC265: 16 | CD265: 253.76 | CE265: 72.48 | CF265: 68.14 | CG265: 49.56 | CH265: 1.69 | CI265: 29.65 | CJ265: 47.47 | CK265: 3.04 | CL265: 4.05 | CM265: 4.75 | CN265: 253.05 | CO265: 71.63 | CP265: 66.69 | CQ265: 50.4 | CR265: 1.69 | CS265: 29.48 | CT265: 46.5 | CU265: 3.06 | CV265: 4.06 | CW265: 4.76 | CX265: 25 | CY265: 36 | CZ265: 19 | DA265: 51 | DB265: 7 | DC265: 262 | DD265: 62 | DE265: 258 | DF265: 75 | DG265: 256 | DH265: 56 | DI265: 255 | DJ265: 52 | DM265: 78.57 | DN265: 14 | DO265: 85.71 | DP265: 5 | DQ265: 64.29 | DR265: 38 | DS265: 85.71 | DT265: 4 | DW265: 88.89 | DX265: 15 | DY265: 83.33 | DZ265: 43 | EA265: 77.78 | EB265: 31 | EC265: 83.33 | ED265: 17 | EG265: 28 | EH265: 19 | EI265: 32 | EJ265: 81 | EK265: 30 | EL265: 25 | EM265: 30 | EN265: 29 | EQ265: 1.69 | ER265: 45 | ES265: 1.8 | ET265: 103 | EU265: 1.64 | EV265: 16 | EW265: 1.8 | EX265: 44 | FA265: 100 | FB265: 1 | FC265: 33.33 | FD265: 62 | FE265: 25 | FF265: 38 | FG265: 66.67 | FH265: 20 | FK265: 100 | FM265: 33.33 | FO265: 50 | FQ265: 100 | FU265: 0 | FV265: 64 | FW265: -1 | FX265: 10 | FY265: -1 | FZ265: 6 | GA265: 1 | GB265: 59 | GE265: -2 | GF265: 21 | GG265: -1 | GH265: 42 | GI265: 2 | GJ265: 54 | GK265: -2 | GL265: 13 | GO265: -4 | GP265: 2 | GQ265: 1 | GR265: 130 | GS265: -2 | GT265: 22 | GU265: -2 | GV265: 17 | GY265: 0 | GZ265: 16 | HA265: 0 | HB265: 15 | HC265: 0 | HD265: 5 | HE265: 0 | HF265: 9 | HI265: 6 | HJ265: 12 | HK265: 3 | HL265: 89 | HM265: 5 | HN265: 22 | HO265: 4 | HP265: 29 | HS265: 12 | HT265: 41 | HU265: 13 | HV265: 22 | HW265: 10 | HX265: 42 | HY265: 13 | HZ265: 14 | IC265: 0 | ID265: 126 | IE265: 2 | IF265: 52 | IG265: 2 | IH265: 38 | II265: 1 | IJ265: 39 | IM265: 0 | IN265: 29 | IO265: 0 | IP265: 35 | IQ265: 1 | IR265: 2 | IS265: 0 | IT265: 16
A266: =IF(J266="","",CONCATENATE(J266," ",I266)) -> Alexa Pano | B266: 45767 | C266: LA Championship | D266: El Caballero | E266: California | F266: LPGA | I266: Pano | J266: Alexa | K266: 32 | L266: 71 | M266: 68 | N266: 68 | O266: 70 | Q266: 277 | R266: 71.39 | S266: 71.08 | T266: 72.33 | U266: 68.96 | V266: 68.61 | W266: 71.12 | Y266: 70.26 | Z266: 81 | AA266: 54 | AB266: 29 | AC266: 32 | AE266: 8 | AF266: 8 | AG266: 8 | AH266: 10 | AJ266: 32 | AK266: 34 | AL266: 1 | AM266: 0.37847222 | AN266: 10 | AO266: 0.58680556 | AP266: 1 | AQ266: 0.38541667 | AR266: 1 | AS266: 0.47222222 | AV266: 274 | AW266: 10 | AX266: 52.38 | AY266: 69 | AZ266: 83.33 | BA266: 26 | BB266: 31 | BC266: 48 | BD266: 1.82 | BE266: 64 | BF266: 50 | BG266: 29 | BH266: 66.67 | BI266: 9 | BJ266: 46 | BK266: 57 | BL266: 40 | BM266: 61 | BN266: 50 | BO266: -1 | BP266: 34 | BQ266: 0 | BR266: 51 | BS266: -10 | BT266: 3 | BU266: 0 | BV266: 17 | BW266: 49 | BX266: 6 | BY266: 0 | BZ266: 6 | CA266: 16 | CB266: 40 | CC266: 16 | CD266: 253.76 | CE266: 72.48 | CF266: 68.14 | CG266: 49.56 | CH266: 1.69 | CI266: 29.65 | CJ266: 47.47 | CK266: 3.04 | CL266: 4.05 | CM266: 4.75 | CN266: 253.05 | CO266: 71.63 | CP266: 66.69 | CQ266: 50.4 | CR266: 1.69 | CS266: 29.48 | CT266: 46.5 | CU266: 3.06 | CV266: 4.06 | CW266: 4.76 | CX266: 25 | CY266: 43 | CZ266: 12 | DA266: 42 | DB266: 38 | DC266: 272 | DD266: 37 | DE266: 270 | DF266: 29 | DG266: 280 | DH266: 13 | DI266: 286 | DJ266: 7 | DM266: 42.86 | DN266: 131 | DO266: 64.29 | DP266: 69 | DQ266: 50 | DR266: 61 | DS266: 71.43 | DT266: 18 | DW266: 77.78 | DX266: 69 | DY266: 88.89 | DZ266: 23 | EA266: 83.33 | EB266: 19 | EC266: 83.33 | ED266: 17 | EG266: 32 | EH266: 93 | EI266: 31 | EJ266: 63 | EK266: 30 | EL266: 25 | EM266: 33 | EN266: 58 | EQ266: 1.79 | ER266: 94 | ES266: 1.81 | ET266: 106 | EU266: 1.73 | EV266: 32 | EW266: 1.93 | EX266: 65 | FA266: 25 | FB266: 90 | FC266: 100 | FD266: 1 | FE266: 66.67 | FF266: 9 | FG266: 33.33 | FH266: 47 | FK266: 50 | FM266: 50 | FO266: 100 | FQ266: 100 | FU266: 1 | FV266: 118 | FW266: -2 | FX266: 1 | FY266: 0 | FZ266: 27 | GA266: 0 | GB266: 39 | GE266: 1 | GF266: 97 | GG266: -1 | GH266: 42 | GI266: 0 | GJ266: 28 | GK266: 0 | GL266: 32 | GO266: -3 | GP266: 6 | GQ266: -1 | GR266: 64 | GS266: -4 | GT266: 3 | GU266: -2 | GV266: 17 | GY266: 0 | GZ266: 16 | HA266: 0 | HB266: 15 | HC266: 0 | HD266: 5 | HE266: 0 | HF266: 9 | HI266: 4 | HJ266: 67 | HK266: 4 | HL266: 60 | HM266: 5 | HN266: 22 | HO266: 4 | HP266: 29 | HS266: 11 | HT266: 71 | HU266: 14 | HV266: 12 | HW266: 12 | HX266: 19 | HY266: 12 | HZ266: 22 | IC266: 3 | ID266: 23 | IE266: 0 | IF266: 131 | IG266: 1 | IH266: 55 | II266: 2 | IJ266: 22 | IM266: 0 | IN266: 29 | IO266: 0 | IP266: 35 | IQ266: 0 | IR266: 13 | IS266: 0 | IT266: 16
A267: =IF(J267="","",CONCATENATE(J267," ",I267)) -> Miranda Wang | B267: 45767 | C267: LA Championship | D267: El Caballero | E267: California | F267: LPGA | I267: Wang | J267: Miranda | K267: 32 | L267: 65 | M267: 73 | N267: 66 | O267: 73 | Q267: 277 | R267: 71.39 | S267: 71.08 | T267: 66.33 | U267: 73.96 | V267: 66.61 | W267: 74.12 | Y267: 70.26 | Z267: 4 | AA267: 43 | AB267: 10 | AC267: 32 | AE267: 2 | AF267: 7 | AG267: 5 | AH267: 10 | AJ267: 32 | AK267: 34 | AL267: 10 | AM267: 0.54097222 | AN267: 1 | AO267: 0.33263889 | AP267: 1 | AQ267: 0.39930556 | AR267: 1 | AS267: 0.54166667 | AV267: 244.33 | AW267: 70 | AX267: 69.05 | AY267: 26 | AZ267: 85.19 | BA267: 15 | BB267: 29 | BC267: 13 | BD267: 1.74 | BE267: 31 | BF267: 45.5 | BG267: 42 | BH267: 42.86 | BI267: 41 | BJ267: 61 | BK267: 15 | BL267: 42 | BM267: 22 | BN267: 40 | BO267: -2 | BP267: 19 | BQ267: -3 | BR267: 26 | BS267: -6 | BT267: 40 | BU267: 0 | BV267: 18 | BW267: 47 | BX267: 7 | BY267: 0 | BZ267: 7 | CA267: 16 | CB267: 40 | CC267: 16 | CD267: 253.76 | CE267: 72.48 | CF267: 68.14 | CG267: 49.56 | CH267: 1.69 | CI267: 29.65 | CJ267: 47.47 | CK267: 3.04 | CL267: 4.05 | CM267: 4.75 | CN267: 253.05 | CO267: 71.63 | CP267: 66.69 | CQ267: 50.4 | CR267: 1.69 | CS267: 29.48 | CT267: 46.5 | CU267: 3.06 | CV267: 4.06 | CW267: 4.76 | CX267: 25 | CY267: 36 | CZ267: 23 | DA267: 33 | DB267: 38 | DC267: 250 | DD267: 112 | DE267: 221 | DF267: 143 | DG267: 262 | DH267: 45 | DI267: 266 | DJ267: 27 | DM267: 71.43 | DN267: 28 | DO267: 64.29 | DP267: 69 | DQ267: 71.43 | DR267: 24 | DS267: 64.29 | DT267: 32 | DW267: 88.89 | DX267: 15 | DY267: 83.33 | DZ267: 43 | EA267: 83.33 | EB267: 19 | EC267: 83.33 | ED267: 17 | EG267: 27 | EH267: 10 | EI267: 33 | EJ267: 102 | EK267: 27 | EL267: 2 | EM267: 32 | EN267: 48 | EQ267: 1.56 | ER267: 15 | ES267: 1.93 | ET267: 137 | EU267: 1.6 | EV267: 9 | EW267: 1.87 | EX267: 57 | FA267: 100 | FB267: 1 | FC267: 0 | FD267: 91 | FE267: 100 | FF267: 1 | FG267: 0 | FH267: 55 | FK267: 50 | FM267: 50 | FO267: 50 | FQ267: 0 | FU267: -3 | FV267: 1 | FW267: 2 | FX267: 131 | FY267: -1 | FZ267: 6 | GA267: 0 | GB267: 39 | GE267: -3 | GF267: 9 | GG267: 0 | GH267: 71 | GI267: -2 | GJ267: 10 | GK267: 2 | GL267: 55 | GO267: -1 | GP267: 59 | GQ267: -1 | GR267: 64 | GS267: -3 | GT267: 8 | GU267: -1 | GV267: 38 | GY267: 0 | GZ267: 16 | HA267: 0 | HB267: 15 | HC267: 0 | HD267: 5 | HE267: 0 | HF267: 9 | HI267: 7 | HJ267: 6 | HK267: 2 | HL267: 116 | HM267: 6 | HN267: 9 | HO267: 3 | HP267: 48 | HS267: 11 | HT267: 71 | HU267: 13 | HV267: 22 | HW267: 12 | HX267: 19 | HY267: 11 | HZ267: 37 | IC267: 0 | ID267: 126 | IE267: 3 | IF267: 25 | IG267: 0 | IH267: 69 | II267: 4 | IJ267: 5 | IM267: 0 | IN267: 29 | IO267: 0 | IP267: 35 | IQ267: 0 | IR267: 13 | IS267: 0 | IT267: 16
A268: =IF(J268="","",CONCATENATE(J268," ",I268)) -> Aditi Ashok | B268: 45767 | C268: LA Championship | D268: El Caballero | E268: California | F268: LPGA | I268: Ashok | J268: Aditi | K268: 37 | L268: 66 | M268: 71 | N268: 72 | O268: 69 | Q268: 278 | R268: 71.39 | S268: 71.08 | T268: 67.33 | U268: 71.96 | V268: 72.61 | W268: 70.12 | Y268: 70.51 | Z268: 9 | AA268: 29 | AB268: 49 | AC268: 37 | AE268: 3 | AF268: 6 | AG268: 10 | AH268: 11 | AJ268: 37 | AK268: 41.5 | AL268: 1 | AM268: 0.52569444 | AN268: 10 | AO268: 0.31736111 | AP268: 1 | AQ268: 0.45486111 | AR268: 1 | AS268: 0.38888889 | AV268: 245 | AW268: 68 | AX268: 78.57 | AY268: 8 | AZ268: 85.19 | BA268: 15 | BB268: 31.33 | BC268: 54 | BD268: 1.8 | BE268: 55 | BF268: 66.7 | BG268: 5 | BH268: 50 | BI268: 28 | BJ268: 43 | BK268: 8 | BL268: 31 | BM268: 58 | BN268: 21 | BO268: -1 | BP268: 34 | BQ268: -2 | BR268: 36 | BS268: -7 | BT268: 28 | BU268: 0 | BV268: 16 | BW268: 51 | BX268: 4 | BY268: 1 | BZ268: 6 | CA268: 16 | CB268: 40 | CC268: 16 | CD268: 253.76 | CE268: 72.48 | CF268: 68.14 | CG268: 49.56 | CH268: 1.69 | CI268: 29.65 | CJ268: 47.47 | CK268: 3.04 | CL268: 4.05 | CM268: 4.75 | CN268: 253.05 | CO268: 71.63 | CP268: 66.69 | CQ268: 50.4 | CR268: 1.69 | CS268: 29.48 | CT268: 46.5 | CU268: 3.06 | CV268: 4.06 | CW268: 4.76 | CX268: 25 | CY268: 52 | CZ268: 9 | DA268: 61 | DB268: 7 | DC268: 248 | DD268: 119 | DE268: 243 | DF268: 129 | DG268: 244 | DH268: 66 | DI268: 248 | DJ268: 65 | DM268: 92.86 | DN268: 1 | DO268: 78.57 | DP268: 20 | DQ268: 64.29 | DR268: 38 | DS268: 71.43 | DT268: 18 | DW268: 83.33 | DX268: 41 | DY268: 77.78 | DZ268: 72 | EA268: 94.44 | EB268: 1 | EC268: 77.78 | ED268: 34 | EG268: 28 | EH268: 19 | EI268: 31 | EJ268: 63 | EK268: 35 | EL268: 67 | EM268: 30 | EN268: 29 | EQ268: 1.67 | ER268: 43 | ES268: 1.86 | ET268: 120 | EU268: 1.94 | EV268: 62 | EW268: 1.71 | EX268: 23 | FA268: 100 | FB268: 1 | FC268: 75 | FD268: 17 | FE268: 0 | FF268: 47 | FG268: 50 | FH268: 33 | FK268: 100 | FM268: 100 | FO268: 0 | FQ268: 50 | FU268: -2 | FV268: 4 | FW268: 0 | FX268: 40 | FY268: 1 | FZ268: 50 | GA268: 0 | GB268: 39 | GE268: -3 | GF268: 9 | GG268: 0 | GH268: 71 | GI268: 1 | GJ268: 43 | GK268: 0 | GL268: 32 | GO268: -1 | GP268: 59 | GQ268: -1 | GR268: 64 | GS268: -2 | GT268: 22 | GU268: -3 | GV268: 4 | GY268: 0 | GZ268: 16 | HA268: 0 | HB268: 15 | HC268: 0 | HD268: 5 | HE268: 0 | HF268: 9 | HI268: 6 | HJ268: 12 | HK268: 2 | HL268: 116 | HM268: 3 | HN268: 49 | HO268: 5 | HP268: 15 | HS268: 12 | HT268: 41 | HU268: 15 | HV268: 4 | HW268: 13 | HX268: 9 | HY268: 11 | HZ268: 37 | IC268: 0 | ID268: 126 | IE268: 1 | IF268: 85 | IG268: 1 | IH268: 55 | II268: 2 | IJ268: 22 | IM268: 0 | IN268: 29 | IO268: 0 | IP268: 35 | IQ268: 1 | IR268: 2 | IS268: 0 | IT268: 16
A269: =IF(J269="","",CONCATENATE(J269," ",I269)) -> Ashleigh Buhai | B269: 45767 | C269: LA Championship | D269: El Caballero | E269: California | F269: LPGA | I269: Buhai | J269: Ashleigh | K269: 37 | L269: 63 | M269: 68 | N269: 77 | O269: 70 | Q269: 278 | R269: 71.39 | S269: 71.08 | T269: 64.33 | U269: 68.96 | V269: 77.61 | W269: 71.12 | Y269: 70.51 | Z269: 1 | AA269: 1 | AB269: 39 | AC269: 37 | AE269: 0 | AF269: 0 | AG269: 9 | AH269: 11 | AJ269: 37 | AK269: 41.5 | AL269: 10 | AM269: 0.35555556 | AN269: 1 | AO269: 0.56388889 | AP269: 1 | AQ269: 0.57986111 | AR269: 1 | AS269: 0.41666667 | AV269: 252.33 | AW269: 60 | AX269: 61.9 | AY269: 51 | AZ269: 77.78 | BA269: 54 | BB269: 29.33 | BC269: 16 | BD269: 1.71 | BE269: 23 | BF269: 56.3 | BG269: 18 | BH269: 50 | BI269: 28 | BJ269: 69 | BK269: 60 | BL269: 68 | BM269: 20 | BN269: 54 | BO269: -6 | BP269: 1 | BQ269: 2 | BR269: 63 | BS269: -6 | BT269: 40 | BU269: 0 | BV269: 19 | BW269: 45 | BX269: 7 | BY269: 1 | BZ269: 8 | CA269: 16 | CB269: 40 | CC269: 16 | CD269: 253.76 | CE269: 72.48 | CF269: 68.14 | CG269: 49.56 | CH269: 1.69 | CI269: 29.65 | CJ269: 47.47 | CK269: 3.04 | CL269: 4.05 | CM269: 4.75 | CN269: 253.05 | CO269: 71.63 | CP269: 66.69 | CQ269: 50.4 | CR269: 1.69 | CS269: 29.48 | CT269: 46.5 | CU269: 3.06 | CV269: 4.06 | CW269: 4.76 | CX269: 25 | CY269: 25 | CZ269: 36 | DA269: 33 | DB269: 7 | DC269: 236 | DD269: 142 | DE269: 271 | DF269: 27 | DG269: 250 | DH269: 63 | DI269: 253 | DJ269: 56 | DM269: 64.29 | DN269: 50 | DO269: 64.29 | DP269: 69 | DQ269: 57.14 | DR269: 47 | DS269: 64.29 | DT269: 32 | DW269: 94.44 | DX269: 8 | DY269: 66.67 | DZ269: 128 | EA269: 72.22 | EB269: 49 | EC269: 77.78 | ED269: 34 | EG269: 26 | EH269: 6 | EI269: 27 | EJ269: 1 | EK269: 35 | EL269: 67 | EM269: 30 | EN269: 29 | EQ269: 1.47 | ER269: 5 | ES269: 1.67 | ET269: 32 | EU269: 2 | EV269: 68 | EW269: 1.79 | EX269: 40 | FA269: 100 | FB269: 1 | FC269: 83.33 | FD269: 13 | FE269: 0 | FF269: 47 | FG269: 75 | FH269: 13 | FM269: 75 | FO269: 0 | FQ269: 50 | FU269: -3 | FV269: 1 | FW269: -1 | FX269: 10 | FY269: -2 | FZ269: 1 | GA269: 0 | GB269: 39 | GE269: -4 | GF269: 4 | GG269: 0 | GH269: 71 | GI269: 6 | GJ269: 73 | GK269: 0 | GL269: 32 | GO269: -2 | GP269: 26 | GQ269: -3 | GR269: 10 | GS269: 1 | GT269: 70 | GU269: -2 | GV269: 17 | GY269: 0 | GZ269: 16 | HA269: 0 | HB269: 15 | HC269: 0 | HD269: 5 | HE269: 0 | HF269: 9 | HI269: 9 | HJ269: 1 | HK269: 5 | HL269: 32 | HM269: 2 | HN269: 60 | HO269: 3 | HP269: 48 | HS269: 9 | HT269: 121 | HU269: 12 | HV269: 41 | HW269: 10 | HX269: 42 | HY269: 14 | HZ269: 7 | IC269: 0 | ID269: 126 | IE269: 1 | IF269: 85 | IG269: 5 | IH269: 2 | II269: 1 | IJ269: 39 | IM269: 0 | IN269: 29 | IO269: 0 | IP269: 35 | IQ269: 1 | IR269: 2 | IS269: 0 | IT269: 16
A270: =IF(J270="","",CONCATENATE(J270," ",I270)) -> Perrine Delacour | B270: 45767 | C270: LA Championship | D270: El Caballero | E270: California | F270: LPGA | I270: Delacour | J270: Perrine | K270: 37 | L270: 69 | M270: 66 | N270: 75 | O270: 68 | Q270: 278 | R270: 71.39 | S270: 71.08 | T270: 70.33 | U270: 66.96 | V270: 75.61 | W270: 69.12 | Y270: 70.51 | Z270: 44 | AA270: 12 | AB270: 57 | AC270: 37 | AE270: 6 | AF270: 4 | AG270: 11 | AH270: 11 | AJ270: 37 | AK270: 41.5 | AL270: 10 | AM270: 0.37847222 | AN270: 1 | AO270: 0.58680556 | AP270: 1 | AQ270: 0.53819444 | AR270: 1 | AS270: 0.375 | AV270: 267 | AW270: 26 | AX270: 69.05 | AY270: 26 | AZ270: 85.19 | BA270: 15 | BB270: 31.33 | BC270: 54 | BD270: 1.75 | BE270: 37 | BF270: 36.4 | BG270: 51 | BH270: 0 | BI270: 71 | BJ270: 18 | BK270: 15 | BL270: 12 | BM270: 45 | BN270: 24 | BO270: -5 | BP270: 3 | BQ270: 1 | BR270: 59 | BS270: -6 | BT270: 40 | BU270: 1 | BV270: 15 | BW270: 49 | BX270: 7 | BY270: 0 | BZ270: 9 | CA270: 16 | CB270: 40 | CC270: 16 | CD270: 253.76 | CE270: 72.48 | CF270: 68.14 | CG270: 49.56 | CH270: 1.69 | CI270: 29.65 | CJ270: 47.47 | CK270: 3.04 | CL270: 4.05 | CM270: 4.75 | CN270: 253.05 | CO270: 71.63 | CP270: 66.69 | CQ270: 50.4 | CR270: 1.69 | CS270: 29.48 | CT270: 46.5 | CU270: 3.06 | CV270: 4.06 | CW270: 4.76 | CX270: 10 | CY270: 62 | CZ270: 12 | DA270: 33 | DB270: 38 | DC270: 257 | DD270: 90 | DE270: 265 | DF270: 44 | DG270: 279 | DH270: 15 | DI270: 259 | DJ270: 42 | DM270: 57.14 | DN270: 86 | DO270: 64.29 | DP270: 69 | DQ270: 85.71 | DR270: 5 | DS270: 64.29 | DT270: 32 | DW270: 88.89 | DX270: 15 | DY270: 94.44 | DZ270: 5 | EA270: 72.22 | EB270: 49 | EC270: 83.33 | ED270: 17 | EG270: 31 | EH270: 76 | EI270: 29 | EJ270: 16 | EK270: 34 | EL270: 61 | EM270: 29 | EN270: 20 | EQ270: 1.69 | ER270: 45 | ES270: 1.59 | ET270: 12 | EU270: 2.08 | EV270: 71 | EW270: 1.73 | EX270: 27 | FA270: 0 | FB270: 108 | FC270: 0 | FD270: 91 | FE270: 40 | FF270: 26 | FG270: 66.67 | FH270: 20 | FK270: 0 | FM270: 0 | FO270: 0 | FQ270: 0 | FU270: -2 | FV270: 4 | FW270: -1 | FX270: 10 | FY270: 0 | FZ270: 27 | GA270: -2 | GB270: 3 | GE270: 0 | GF270: 72 | GG270: -2 | GH270: 20 | GI270: 3 | GJ270: 62 | GK270: 0 | GL270: 32 | GO270: -1 | GP270: 59 | GQ270: -3 | GR270: 10 | GS270: 0 | GT270: 56 | GU270: -2 | GV270: 17 | GY270: 0 | GZ270: 16 | HA270: 1 | HB270: 2 | HC270: 0 | HD270: 5 | HE270: 0 | HF270: 9 | HI270: 5 | HJ270: 38 | HK270: 5 | HL270: 32 | HM270: 0 | HN270: 73 | HO270: 5 | HP270: 15 | HS270: 11 | HT270: 71 | HU270: 11 | HV270: 74 | HW270: 15 | HX270: 1 | HY270: 12 | HZ270: 22 | IC270: 2 | ID270: 54 | IE270: 1 | IF270: 85 | IG270: 3 | IH270: 19 | II270: 1 | IJ270: 39 | IM270: 0 | IN270: 29 | IO270: 0 | IP270: 35 | IQ270: 0 | IR270: 13 | IS270: 0 | IT270: 16
A271: =IF(J271="","",CONCATENATE(J271," ",I271)) -> Kristen Gillman | B271: 45767 | C271: LA Championship | D271: El Caballero | E271: California | F271: LPGA | I271: Gillman | J271: Kristen | K271: 37 | L271: 69 | M271: 66 | N271: 74 | O271: 69 | Q271: 278 | R271: 71.39 | S271: 71.08 | T271: 70.33 | U271: 66.96 | V271: 74.61 | W271: 70.12 | Y271: 70.51 | Z271: 44 | AA271: 12 | AB271: 49 | AC271: 37 | AE271: 6 | AF271: 4 | AG271: 10 | AH271: 11 | AJ271: 37 | AK271: 41.5 | AL271: 10 | AM271: 0.34027778 | AN271: 1 | AO271: 0.54861111 | AP271: 1 | AQ271: 0.54513889 | AR271: 1 | AS271: 0.38888889 | AV271: 258.67 | AW271: 45 | AX271: 85.71 | AY271: 2 | AZ271: 85.19 | BA271: 15 | BB271: 31.33 | BC271: 54 | BD271: 1.78 | BE271: 49 | BF271: 50 | BG271: 29 | BH271: 50 | BI271: 28 | BJ271: 12 | BK271: 4 | BL271: 9 | BM271: 53 | BN271: 16 | BO271: -3 | BP271: 10 | BQ271: -3 | BR271: 26 | BS271: -4 | BT271: 67 | BU271: 0 | BV271: 16 | BW271: 50 | BX271: 6 | BY271: 0 | BZ271: 8 | CA271: 16 | CB271: 40 | CC271: 16 | CD271: 253.76 | CE271: 72.48 | CF271: 68.14 | CG271: 49.56 | CH271: 1.69 | CI271: 29.65 | CJ271: 47.47 | CK271: 3.04 | CL271: 4.05 | CM271: 4.75 | CN271: 253.05 | CO271: 71.63 | CP271: 66.69 | CQ271: 50.4 | CR271: 1.69 | CS271: 29.48 | CT271: 46.5 | CU271: 3.06 | CV271: 4.06 | CW271: 4.76 | CX271: 25 | CY271: 52 | CZ271: 10 | DA271: 42 | DB271: 38 | DC271: 261 | DD271: 64 | DE271: 262 | DF271: 61 | DG271: 253 | DH271: 61 | DI271: 263 | DJ271: 32 | DM271: 71.43 | DN271: 28 | DO271: 100 | DP271: 1 | DQ271: 85.71 | DR271: 5 | DS271: 92.86 | DT271: 1 | DW271: 83.33 | DX271: 41 | DY271: 94.44 | DZ271: 5 | EA271: 77.78 | EB271: 31 | EC271: 77.78 | ED271: 34 | EG271: 30 | EH271: 54 | EI271: 30 | EJ271: 34 | EK271: 34 | EL271: 61 | EM271: 29 | EN271: 20 | EQ271: 1.8 | ER271: 106 | ES271: 1.71 | ET271: 49 | EU271: 1.93 | EV271: 58 | EW271: 1.71 | EX271: 23 | FA271: 100 | FB271: 1 | FC271: 100 | FD271: 1 | FE271: 0 | FF271: 47 | FG271: 50 | FH271: 33 | FK271: 66.67 | FM271: 100 | FO271: 0 | FQ271: 50 | FU271: -1 | FV271: 21 | FW271: -1 | FX271: 10 | FY271: 0 | FZ271: 27 | GA271: -1 | GB271: 13 | GE271: -1 | GF271: 41 | GG271: -3 | GH271: 10 | GI271: 2 | GJ271: 54 | GK271: -1 | GL271: 18 | GO271: -1 | GP271: 59 | GQ271: -2 | GR271: 34 | GS271: 0 | GT271: 56 | GU271: -1 | GV271: 38 | GY271: 0 | GZ271: 16 | HA271: 0 | HB271: 15 | HC271: 0 | HD271: 5 | HE271: 0 | HF271: 9 | HI271: 3 | HJ271: 90 | HK271: 6 | HL271: 12 | HM271: 2 | HN271: 60 | HO271: 5 | HP271: 15 | HS271: 15 | HT271: 4 | HU271: 12 | HV271: 41 | HW271: 12 | HX271: 19 | HY271: 11 | HZ271: 37 | IC271: 0 | ID271: 126 | IE271: 0 | IF271: 131 | IG271: 4 | IH271: 7 | II271: 2 | IJ271: 22 | IM271: 0 | IN271: 29 | IO271: 0 | IP271: 35 | IQ271: 0 | IR271: 13 | IS271: 0 | IT271: 16
A272: =IF(J272="","",CONCATENATE(J272," ",I272)) -> Wei-Ling Hsu | B272: 45767 | C272: LA Championship | D272: El Caballero | E272: California | F272: LPGA | I272: Hsu | J272: Wei-Ling | K272: 37 | L272: 70 | M272: 67 | N272: 70 | O272: 71 | Q272: 278 | R272: 71.39 | S272: 71.08 | T272: 71.33 | U272: 67.96 | V272: 70.61 | W272: 72.12 | Y272: 70.51 | Z272: 62 | AA272: 29 | AB272: 29 | AC272: 37 | AE272: 7 | AF272: 6 | AG272: 8 | AH272: 11 | AJ272: 37 | AK272: 41.5 | AL272: 10 | AM272: 0.58680556 | AN272: 1 | AO272: 0.37847222 | AP272: 1 | AQ272: 0.46875 | AR272: 1 | AS272: 0.46527778 | AV272: 267.33 | AW272: 24 | AX272: 73.81 | AY272: 17 | AZ272: 75.93 | BA272: 59 | BB272: 28.33 | BC272: 7 | BD272: 1.78 | BE272: 48 | BF272: 50 | BG272: 29 | BH272: 20 | BI272: 61 | BJ272: 8 | BK272: 42 | BL272: 37 | BM272: 28 | BN272: 34 | BO272: -2 | BP272: 19 | BQ272: -2 | BR272: 36 | BS272: -6 | BT272: 40 | BU272: 0 | BV272: 19 | BW272: 44 | BX272: 9 | BY272: 0 | BZ272: 5 | CA272: 16 | CB272: 40 | CC272: 16 | CD272: 253.76 | CE272: 72.48 | CF272: 68.14 | CG272: 49.56 | CH272: 1.69 | CI272: 29.65 | CJ272: 47.47 | CK272: 3.04 | CL272: 4.05 | CM272: 4.75 | CN272: 253.05 | CO272: 71.63 | CP272: 66.69 | CQ272: 50.4 | CR272: 1.69 | CS272: 29.48 | CT272: 46.5 | CU272: 3.06 | CV272: 4.06 | CW272: 4.76 | CX272: 25 | CY272: 25 | CZ272: 42 | DA272: 13 | DB272: 38 | DC272: 267 | DD272: 50 | DE272: 259 | DF272: 71 | DG272: 276 | DH272: 19 | DI272: 264 | DJ272: 31 | DM272: 78.57 | DN272: 14 | DO272: 71.43 | DP272: 40 | DQ272: 71.43 | DR272: 24 | DS272: 50 | DT272: 53 | DW272: 61.11 | DX272: 132 | DY272: 94.44 | DZ272: 5 | EA272: 72.22 | EB272: 49 | EC272: 94.44 | ED272: 4 | EG272: 26 | EH272: 6 | EI272: 30 | EJ272: 34 | EK272: 29 | EL272: 16 | EM272: 35 | EN272: 70 | EQ272: 1.73 | ER272: 65 | ES272: 1.71 | ET272: 49 | EU272: 1.69 | EV272: 29 | EW272: 1.94 | EX272: 70 | FA272: 71.43 | FB272: 26 | FC272: 0 | FD272: 91 | FE272: 40 | FF272: 26 | FG272: 0 | FH272: 55 | FK272: 50 | FM272: 0 | FQ272: 0 | FU272: -1 | FV272: 21 | FW272: 1 | FX272: 94 | FY272: -2 | FZ272: 1 | GA272: 0 | GB272: 39 | GE272: 0 | GF272: 72 | GG272: -4 | GH272: 5 | GI272: 0 | GJ272: 28 | GK272: 2 | GL272: 55 | GO272: -1 | GP272: 59 | GQ272: -2 | GR272: 34 | GS272: 0 | GT272: 56 | GU272: -3 | GV272: 4 | GY272: 0 | GZ272: 16 | HA272: 0 | HB272: 15 | HC272: 0 | HD272: 5 | HE272: 0 | HF272: 9 | HI272: 4 | HJ272: 67 | HK272: 6 | HL272: 12 | HM272: 5 | HN272: 22 | HO272: 4 | HP272: 29 | HS272: 12 | HT272: 41 | HU272: 11 | HV272: 74 | HW272: 10 | HX272: 42 | HY272: 11 | HZ272: 37 | IC272: 2 | ID272: 54 | IE272: 1 | IF272: 85 | IG272: 3 | IH272: 19 | II272: 3 | IJ272: 13 | IM272: 0 | IN272: 29 | IO272: 0 | IP272: 35 | IQ272: 0 | IR272: 13 | IS272: 0 | IT272: 16
A273: =IF(J273="","",CONCATENATE(J273," ",I273)) -> Caroline Inglis | B273: 45767 | C273: LA Championship | D273: El Caballero | E273: California | F273: LPGA | I273: Inglis | J273: Caroline | K273: 37 | L273: 69 | M273: 70 | N273: 72 | O273: 67 | Q273: 278 | R273: 71.39 | S273: 71.08 | T273: 70.33 | U273: 70.96 | V273: 72.61 | W273: 68.12 | Y273: 70.51 | Z273: 44 | AA273: 54 | AB273: 61 | AC273: 37 | AE273: 6 | AF273: 8 | AG273: 12 | AH273: 11 | AJ273: 37 | AK273: 41.5 | AL273: 10 | AM273: 0.58680556 | AN273: 1 | AO273: 0.37847222 | AP273: 1 | AQ273: 0.37847222 | AR273: 1 | AS273: 0.36805556 | AV273: 244.67 | AW273: 69 | AX273: 90.29 | AY273: 1 | AZ273: 77.56 | BA273: 58 | BB273: 29.67 | BC273: 23 | BD273: 1.77 | BE273: 43 | BF273: 50 | BG273: 29 | BH273: 53.85 | BI273: 27 | BJ273: 35 | BK273: 26 | BL273: 50 | BM273: 35 | BN273: 52 | BO273: -1 | BP273: 34 | BQ273: -1 | BR273: 45 | BS273: -8 | BT273: 14 | BU273: 0 | BV273: 19 | BW273: 44 | BX273: 9 | BY273: 0 | BZ273: 13 | CA273: 16 | CB273: 40 | CC273: 16 | CD273: 253.76 | CE273: 72.48 | CF273: 68.14 | CG273: 49.56 | CH273: 1.69 | CI273: 29.65 | CJ273: 47.47 | CK273: 3.04 | CL273: 4.05 | CM273: 4.75 | CN273: 253.05 | CO273: 71.63 | CP273: 66.69 | CQ273: 50.4 | CR273: 1.69 | CS273: 29.48 | CT273: 46.5 | CU273: 3.06 | CV273: 4.06 | CW273: 4.76 | CX273: 25 | CY273: 25 | CZ273: 42 | DA273: 13 | DB273: 38 | DC273: 254 | DD273: 102 | DE273: 244 | DF273: 125 | DG273: 236 | DH273: 73 | DI273: 244 | DJ273: 71 | DM273: 92.31 | DN273: 6 | DO273: 85.71 | DP273: 5 | DQ273: 92.86 | DR273: 3 | DS273: 64.29 | DT273: 32 | DW273: 88.24 | DX273: 40 | DY273: 72.22 | DZ273: 109 | EA273: 72.22 | EB273: 49 | EC273: 77.78 | ED273: 34 | EG273: 28 | EH273: 19 | EI273: 30 | EJ273: 34 | EK273: 31 | EL273: 34 | EM273: 28 | EN273: 14 | EQ273: 1.75 | ER273: 71 | ES273: 1.85 | ET273: 119 | EU273: 1.77 | EV273: 38 | EW273: 1.71 | EX273: 23 | FA273: 0 | FB273: 108 | FC273: 60 | FD273: 33 | FE273: 40 | FF273: 26 | FG273: 75 | FH273: 13 | FK273: 66.67 | FM273: 50 | FO273: 50 | FQ273: 50 | FU273: -1 | FV273: 21 | FW273: 1 | FX273: 94 | FY273: 1 | FZ273: 50 | GA273: -2 | GB273: 3 | GE273: 1 | GF273: 97 | GG273: -2 | GH273: 20 | GI273: 1 | GJ273: 43 | GK273: -1 | GL273: 18 | GO273: -3 | GP273: 6 | GQ273: -1 | GR273: 64 | GS273: -2 | GT273: 22 | GU273: -2 | GV273: 17 | GY273: 0 | GZ273: 16 | HA273: 0 | HB273: 15 | HC273: 0 | HD273: 5 | HE273: 0 | HF273: 9 | HI273: 6 | HJ273: 12 | HK273: 4 | HL273: 60 | HM273: 3 | HN273: 49 | HO273: 6 | HP273: 5 | HS273: 9 | HT273: 121 | HU273: 12 | HV273: 41 | HW273: 12 | HX273: 19 | HY273: 11 | HZ273: 37 | IC273: 3 | ID273: 23 | IE273: 2 | IF273: 52 | IG273: 3 | IH273: 19 | II273: 1 | IJ273: 39 | IM273: 0 | IN273: 29 | IO273: 0 | IP273: 35 | IQ273: 0 | IR273: 13 | IS273: 0 | IT273: 16
A274: =IF(J274="","",CONCATENATE(J274," ",I274)) -> Leona Maguire | B274: 45767 | C274: LA Championship | D274: El Caballero | E274: California | F274: LPGA | I274: Maguire | J274: Leona | K274: 37 | L274: 68 | M274: 68 | N274: 72 | O274: 70 | Q274: 278 | R274: 71.39 | S274: 71.08 | T274: 69.33 | U274: 68.96 | V274: 72.61 | W274: 71.12 | Y274: 70.51 | Z274: 24 | AA274: 20 | AB274: 39 | AC274: 37 | AE274: 5 | AF274: 5 | AG274: 9 | AH274: 11 | AJ274: 37 | AK274: 41.5 | AL274: 10 | AM274: 0.55625 | AN274: 1 | AO274: 0.34791667 | AP274: 1 | AQ274: 0.48958333 | AR274: 1 | AS274: 0.42361111 | AV274: 241 | AW274: 73 | AX274: 78.57 | AY274: 8 | AZ274: 74.07 | BA274: 68 | BB274: 28.67 | BC274: 10 | BD274: 1.69 | BE274: 18 | BF274: 60 | BG274: 13 | BH274: 75 | BI274: 6 | BJ274: 47 | BK274: 42 | BL274: 64 | BM274: 12 | BN274: 39 | BO274: -4 | BP274: 8 | BQ274: 1 | BR274: 59 | BS274: -7 | BT274: 28 | BU274: 0 | BV274: 19 | BW274: 45 | BX274: 7 | BY274: 1 | BZ274: 8 | CA274: 16 | CB274: 40 | CC274: 16 | CD274: 253.76 | CE274: 72.48 | CF274: 68.14 | CG274: 49.56 | CH274: 1.69 | CI274: 29.65 | CJ274: 47.47 | CK274: 3.04 | CL274: 4.05 | CM274: 4.75 | CN274: 253.05 | CO274: 71.63 | CP274: 66.69 | CQ274: 50.4 | CR274: 1.69 | CS274: 29.48 | CT274: 46.5 | CU274: 3.06 | CV274: 4.06 | CW274: 4.76 | CX274: 25 | CY274: 25 | CZ274: 36 | DA274: 33 | DB274: 7 | DC274: 238 | DD274: 137 | DE274: 241 | DF274: 130 | DG274: 244 | DH274: 66 | DI274: 258 | DJ274: 48 | DM274: 78.57 | DN274: 14 | DO274: 78.57 | DP274: 20 | DQ274: 78.57 | DR274: 14 | DS274: 85.71 | DT274: 4 | DW274: 72.22 | DX274: 97 | DY274: 77.78 | DZ274: 72 | EA274: 72.22 | EB274: 49 | EC274: 66.67 | ED274: 63 | EG274: 27 | EH274: 10 | EI274: 28 | EJ274: 8 | EK274: 31 | EL274: 34 | EM274: 27 | EN274: 9 | EQ274: 1.54 | ER274: 13 | ES274: 1.64 | ET274: 23 | EU274: 1.92 | EV274: 56 | EW274: 1.67 | EX274: 14 | FA274: 60 | FB274: 40 | FC274: 75 | FD274: 17 | FE274: 40 | FF274: 26 | FG274: 66.67 | FH274: 20 | FK274: 50 | FM274: 100 | FO274: 66.67 | FQ274: 100 | FU274: -2 | FV274: 4 | FW274: 0 | FX274: 40 | FY274: -1 | FZ274: 6 | GA274: -1 | GB274: 13 | GE274: 0 | GF274: 72 | GG274: -2 | GH274: 20 | GI274: 1 | GJ274: 43 | GK274: 2 | GL274: 55 | GO274: -2 | GP274: 26 | GQ274: -2 | GR274: 34 | GS274: 0 | GT274: 56 | GU274: -3 | GV274: 4 | GY274: 0 | GZ274: 16 | HA274: 0 | HB274: 15 | HC274: 0 | HD274: 5 | HE274: 0 | HF274: 9 | HI274: 6 | HJ274: 12 | HK274: 5 | HL274: 32 | HM274: 3 | HN274: 49 | HO274: 5 | HP274: 15 | HS274: 10 | HT274: 97 | HU274: 12 | HV274: 41 | HW274: 12 | HX274: 19 | HY274: 11 | HZ274: 37 | IC274: 2 | ID274: 54 | IE274: 1 | IF274: 85 | IG274: 3 | IH274: 19 | II274: 1 | IJ274: 39 | IM274: 0 | IN274: 29 | IO274: 0 | IP274: 35 | IQ274: 0 | IR274: 13 | IS274: 1 | IT274: 2
A275: =IF(J275="","",CONCATENATE(J275," ",I275)) -> Madelene Sagstrom | B275: 45767 | C275: LA Championship | D275: El Caballero | E275: California | F275: LPGA | I275: Sagstrom | J275: Madelene | K275: 37 | L275: 65 | M275: 72 | N275: 69 | O275: 72 | Q275: 278 | R275: 71.39 | S275: 71.08 | T275: 66.33 | U275: 72.96 | V275: 69.61 | W275: 73.12 | Y275: 70.51 | Z275: 4 | AA275: 29 | AB275: 20 | AC275: 37 | AE275: 2 | AF275: 6 | AG275: 7 | AH275: 11 | AJ275: 37 | AK275: 41.5 | AL275: 10 | AM275: 0.33263889 | AN275: 1 | AO275: 0.54097222 | AP275: 1 | AQ275: 0.44791667 | AR275: 1 | AS275: 0.5 | AV275: 267.67 | AW275: 23 | AX275: 64.29 | AY275: 46 | AZ275: 85.19 | BA275: 15 | BB275: 30 | BC275: 30 | BD275: 1.72 | BE275: 26 | BF275: 25 | BG275: 65 | BH275: 66.67 | BI275: 9 | BJ275: 34 | BK275: 27 | BL275: 27 | BM275: 29 | BN275: 32 | BO275: -2 | BP275: 19 | BQ275: -6 | BR275: 10 | BS275: -2 | BT275: 70 | BU275: 1 | BV275: 19 | BW275: 41 | BX275: 11 | BY275: 0 | BZ275: 3 | CA275: 16 | CB275: 40 | CC275: 16 | CD275: 253.76 | CE275: 72.48 | CF275: 68.14 | CG275: 49.56 | CH275: 1.69 | CI275: 29.65 | CJ275: 47.47 | CK275: 3.04 | CL275: 4.05 | CM275: 4.75 | CN275: 253.05 | CO275: 71.63 | CP275: 66.69 | CQ275: 50.4 | CR275: 1.69 | CS275: 29.48 | CT275: 46.5 | CU275: 3.06 | CV275: 4.06 | CW275: 4.76 | CX275: 10 | CY275: 25 | CZ275: 59 | DA275: 9 | DB275: 38 | DC275: 249 | DD275: 116 | DE275: 267 | DF275: 36 | DG275: 287 | DH275: 6 | DI275: 261 | DJ275: 37 | DM275: 50 | DN275: 113 | DO275: 71.43 | DP275: 40 | DQ275: 71.43 | DR275: 24 | DS275: 50 | DT275: 53 | DW275: 83.33 | DX275: 41 | DY275: 83.33 | DZ275: 43 | EA275: 88.89 | EB275: 9 | EC275: 77.78 | ED275: 34 | EG275: 26 | EH275: 6 | EI275: 33 | EJ275: 102 | EK275: 31 | EL275: 34 | EM275: 32 | EN275: 48 | EQ275: 1.53 | ER275: 9 | ES275: 1.8 | ET275: 103 | EU275: 1.69 | EV275: 27 | EW275: 1.86 | EX275: 54 | FA275: 100 | FB275: 1 | FC275: 0 | FD275: 91 | FE275: 0 | FF275: 47 | FG275: 0 | FH275: 55 | FK275: 100 | FM275: 100 | FQ275: 0 | FU275: -2 | FV275: 4 | FW275: 1 | FX275: 94 | FY275: -1 | FZ275: 6 | GA275: 0 | GB275: 39 | GE275: -2 | GF275: 21 | GG275: -2 | GH275: 20 | GI275: -2 | GJ275: 10 | GK275: 0 | GL275: 32 | GO275: -3 | GP275: 6 | GQ275: 1 | GR275: 130 | GS275: 0 | GT275: 56 | GU275: 0 | GV275: 63 | GY275: 1 | GZ275: 1 | HA275: 0 | HB275: 15 | HC275: 0 | HD275: 5 | HE275: 0 | HF275: 9 | HI275: 5 | HJ275: 38 | HK275: 4 | HL275: 60 | HM275: 6 | HN275: 9 | HO275: 4 | HP275: 29 | HS275: 12 | HT275: 41 | HU275: 10 | HV275: 99 | HW275: 9 | HX275: 55 | HY275: 10 | HZ275: 56 | IC275: 0 | ID275: 126 | IE275: 4 | IF275: 13 | IG275: 3 | IH275: 19 | II275: 4 | IJ275: 5 | IM275: 0 | IN275: 29 | IO275: 0 | IP275: 35 | IQ275: 0 | IR275: 13 | IS275: 0 | IT275: 16
...

Sheet Record
A1: Win | D1: FRL | G1: Top3: Win | J1: Top3: FRL | N1: WIN | O1: Rank | P1: Player | Q1: P/L | R1: E/W Play | U1: FRL | V1: Rank | W1: Player | X1: P/L | Y1: E/W Play
A2: Stakes | B2: Profit | D2: Stakes | E2: Profit | G2: Stakes | H2: Profit | J2: Stakes | K2: Profit | O2: 1 | P2: =IFERROR(OFFSET(Picks!A$1,MATCH($O2,Picks!$F:$F,0)-1,0),"") -> Jennifer Kupcho | Q2: =IFERROR(OFFSET(Picks!I$1,MATCH($O2,Picks!$F:$F,0)-1,0),"") -> -2 | R2: =IFERROR(OFFSET(Picks!J$1,MATCH($O2,Picks!$F:$F,0)-1,0),"") -> Bet365: 80/1, 5pl, 1/4 | V2: 1 | W2: =IFERROR(OFFSET(Picks!M$1,MATCH($O2,Picks!$R:$R,0)-1,0),"") -> Ayaka Furue | X2: =IFERROR(OFFSET(Picks!U$1,MATCH($O2,Picks!$R:$R,0)-1,0),"") -> -2 | Y2: =IFERROR(OFFSET(Picks!V$1,MATCH($O2,Picks!$R:$R,0)-1,0),"") -> BetVictor: 35/1, 5pl, 1/4
A3: {=IF(100*SUMPRODUCT((Win!F:F<>"") * IFERROR(--Win!E:E, 0))=0,"",100*SUMPRODUCT((Win!F:F<>"") * IFERROR(--Win!E:E, 0)))} -> 3.3 | B3: =IF(AND(A3="",SUM(Win!G:G)=0),"",SUM(Win!G:G)) -> -3.3 | D3: {=IF(100*SUMPRODUCT((FRL!F:F<>"") * IFERROR(--FRL!E:E, 0))=0,"",100*SUMPRODUCT((FRL!F:F<>"") * IFERROR(--FRL!E:E, 0)))} -> 6.7 | E3: =IF(AND(D3="",SUM(FRL!G:G)=0),"",SUM(FRL!G:G)) -> -4.29 | G3: =IF(T3Picks!B2="","",2*(3-COUNTBLANK(T3Picks!A2:A4))) -> 6 | H3: =IF(T3Picks!B2="","",SUM(T3Picks!G2:G4)) -> -6 | J3: =IF(T3Picks!B5="","",2*(3-COUNTBLANK(T3Picks!A5:A7))) -> 6 | K3: =IF(T3Picks!B5="","",SUM(T3Picks!G5:G7)) -> -6 | O3: 2 | P3: =IFERROR(OFFSET(Picks!A$1,MATCH($O3,Picks!$F:$F,0)-1,0),"") -> Lindy Duncan | Q3: =IFERROR(OFFSET(Picks!I$1,MATCH($O3,Picks!$F:$F,0)-1,0),"") -> -2 | R3: =IFERROR(OFFSET(Picks!J$1,MATCH($O3,Picks!$F:$F,0)-1,0),"") -> Bet365: 125/1, 5pl, 1/4 | V3: 2 | W3: =IFERROR(OFFSET(Picks!M$1,MATCH($O3,Picks!$R:$R,0)-1,0),"") -> Jennifer Kupcho | X3: =IFERROR(OFFSET(Picks!U$1,MATCH($O3,Picks!$R:$R,0)-1,0),"") -> -2 | Y3: =IFERROR(OFFSET(Picks!V$1,MATCH($O3,Picks!$R:$R,0)-1,0),"") -> Bet365: 70/1, 5pl, 1/4
O4: 3 | P4: =IFERROR(OFFSET(Picks!A$1,MATCH($O4,Picks!$F:$F,0)-1,0),"") -> Perrine Delacour | Q4: =IFERROR(OFFSET(Picks!I$1,MATCH($O4,Picks!$F:$F,0)-1,0),"") -> -2 | R4: =IFERROR(OFFSET(Picks!J$1,MATCH($O4,Picks!$F:$F,0)-1,0),"") -> Ladbrokes: 500/1, 5pl, 1/4 | V4: 3 | W4: =IFERROR(OFFSET(Picks!M$1,MATCH($O4,Picks!$R:$R,0)-1,0),"") -> Somi Lee | X4: =IFERROR(OFFSET(Picks!U$1,MATCH($O4,Picks!$R:$R,0)-1,0),"") -> -2 | Y4: =IFERROR(OFFSET(Picks!V$1,MATCH($O4,Picks!$R:$R,0)-1,0),"") -> Ladbrokes: 90/1, 5pl, 1/4
O5: 4 | P5: =IFERROR(OFFSET(Picks!A$1,MATCH($O5,Picks!$F:$F,0)-1,0),"") -> Hye-Jin Choi | Q5: =IFERROR(OFFSET(Picks!I$1,MATCH($O5,Picks!$F:$F,0)-1,0),"") -> -2 | R5: =IFERROR(OFFSET(Picks!J$1,MATCH($O5,Picks!$F:$F,0)-1,0),"") -> QuinnBet: 50/1, 5pl, 1/4 | V5: 4 | W5: =IFERROR(OFFSET(Picks!M$1,MATCH($O5,Picks!$R:$R,0)-1,0),"") -> Perrine Delacour | X5: =IFERROR(OFFSET(Picks!U$1,MATCH($O5,Picks!$R:$R,0)-1,0),"") -> -2 | Y5: =IFERROR(OFFSET(Picks!V$1,MATCH($O5,Picks!$R:$R,0)-1,0),"") -> Bet365: 150/1, 5pl, 1/4
O6: 5 | P6: =IFERROR(OFFSET(Picks!A$1,MATCH($O6,Picks!$F:$F,0)-1,0),"") -> Nanna Koerstz Madsen | Q6: =IFERROR(OFFSET(Picks!I$1,MATCH($O6,Picks!$F:$F,0)-1,0),"") -> -2 | R6: =IFERROR(OFFSET(Picks!J$1,MATCH($O6,Picks!$F:$F,0)-1,0),"") -> Ladbrokes: 50/1, 5pl, 1/4 | V6: 5 | W6: =IFERROR(OFFSET(Picks!M$1,MATCH($O6,Picks!$R:$R,0)-1,0),"") -> Pajaree Anannarukarn | X6: =IFERROR(OFFSET(Picks!U$1,MATCH($O6,Picks!$R:$R,0)-1,0),"") -> -2 | Y6: =IFERROR(OFFSET(Picks!V$1,MATCH($O6,Picks!$R:$R,0)-1,0),"") -> Ladbrokes: 100/1, 5pl, 1/4
O7: 6 | P7: =IFERROR(OFFSET(Picks!A$1,MATCH($O7,Picks!$F:$F,0)-1,0),"") -> Pajaree Anannarukarn | Q7: =IFERROR(OFFSET(Picks!I$1,MATCH($O7,Picks!$F:$F,0)-1,0),"") -> -2 | R7: =IFERROR(OFFSET(Picks!J$1,MATCH($O7,Picks!$F:$F,0)-1,0),"") -> Ladbrokes: 150/1, 5pl, 1/4 | V7: 6 | W7: =IFERROR(OFFSET(Picks!M$1,MATCH($O7,Picks!$R:$R,0)-1,0),"") -> Stephanie Kyriacou | X7: =IFERROR(OFFSET(Picks!U$1,MATCH($O7,Picks!$R:$R,0)-1,0),"") -> -2 | Y7: =IFERROR(OFFSET(Picks!V$1,MATCH($O7,Picks!$R:$R,0)-1,0),"") -> Bet365: 125/1, 5pl, 1/4
O8: 7 | P8: =IFERROR(OFFSET(Picks!A$1,MATCH($O8,Picks!$F:$F,0)-1,0),"") -> Albane Valenzuela | Q8: =IFERROR(OFFSET(Picks!I$1,MATCH($O8,Picks!$F:$F,0)-1,0),"") -> -2 | R8: =IFERROR(OFFSET(Picks!J$1,MATCH($O8,Picks!$F:$F,0)-1,0),"") -> QuinnBet: 250/1, 5pl, 1/4 | V8: 7 | W8: =IFERROR(OFFSET(Picks!M$1,MATCH($O8,Picks!$R:$R,0)-1,0),"") -> Angel Yin | X8: =IFERROR(OFFSET(Picks!U$1,MATCH($O8,Picks!$R:$R,0)-1,0),"") -> -2 | Y8: =IFERROR(OFFSET(Picks!V$1,MATCH($O8,Picks!$R:$R,0)-1,0),"") -> Unibet: 40/1, 6pl, 1/5
O9: 8 | P9: =IFERROR(OFFSET(Picks!A$1,MATCH($O9,Picks!$F:$F,0)-1,0),"") -> Jenny Shin | Q9: =IFERROR(OFFSET(Picks!I$1,MATCH($O9,Picks!$F:$F,0)-1,0),"") -> -2 | R9: =IFERROR(OFFSET(Picks!J$1,MATCH($O9,Picks!$F:$F,0)-1,0),"") -> Skybet: 250/1, 6pl, 1/5 | V9: 8 | W9: =IFERROR(OFFSET(Picks!M$1,MATCH($O9,Picks!$R:$R,0)-1,0),"") -> Chisato Iwai | X9: =IFERROR(OFFSET(Picks!U$1,MATCH($O9,Picks!$R:$R,0)-1,0),"") -> -2 | Y9: =IFERROR(OFFSET(Picks!V$1,MATCH($O9,Picks!$R:$R,0)-1,0),"") -> Skybet: 50/1, 5pl, 1/4
O10: 9 | P10: =IFERROR(OFFSET(Picks!A$1,MATCH($O10,Picks!$F:$F,0)-1,0),"") -> Elizabeth Szokol | Q10: =IFERROR(OFFSET(Picks!I$1,MATCH($O10,Picks!$F:$F,0)-1,0),"") -> -2 | R10: =IFERROR(OFFSET(Picks!J$1,MATCH($O10,Picks!$F:$F,0)-1,0),"") -> QuinnBet: 500/1, 5pl, 1/4 | V10: 9 | W10: =IFERROR(OFFSET(Picks!M$1,MATCH($O10,Picks!$R:$R,0)-1,0),"") -> Albane Valenzuela | X10: =IFERROR(OFFSET(Picks!U$1,MATCH($O10,Picks!$R:$R,0)-1,0),"") -> -2 | Y10: =IFERROR(OFFSET(Picks!V$1,MATCH($O10,Picks!$R:$R,0)-1,0),"") -> Bet365: 125/1, 5pl, 1/4
O11: 10 | P11: =IFERROR(OFFSET(Picks!A$1,MATCH($O11,Picks!$F:$F,0)-1,0),"") -> Somi Lee | Q11: =IFERROR(OFFSET(Picks!I$1,MATCH($O11,Picks!$F:$F,0)-1,0),"") -> -2 | R11: =IFERROR(OFFSET(Picks!J$1,MATCH($O11,Picks!$F:$F,0)-1,0),"") -> Ladbrokes: 125/1, 5pl, 1/4 | V11: 10 | W11: =IFERROR(OFFSET(Picks!M$1,MATCH($O11,Picks!$R:$R,0)-1,0),"") -> Georgia Hall | X11: =IFERROR(OFFSET(Picks!U$1,MATCH($O11,Picks!$R:$R,0)-1,0),"") -> -2 | Y11: =IFERROR(OFFSET(Picks!V$1,MATCH($O11,Picks!$R:$R,0)-1,0),"") -> Bet365: 125/1, 5pl, 1/4
O12: 11 | P12: =IFERROR(OFFSET(Picks!A$1,MATCH($O12,Picks!$F:$F,0)-1,0),"") -> Stephanie Kyriacou | Q12: =IFERROR(OFFSET(Picks!I$1,MATCH($O12,Picks!$F:$F,0)-1,0),"") -> -2 | R12: =IFERROR(OFFSET(Picks!J$1,MATCH($O12,Picks!$F:$F,0)-1,0),"") -> QuinnBet: 200/1, 5pl, 1/4 | V12: 11 | W12: =IFERROR(OFFSET(Picks!M$1,MATCH($O12,Picks!$R:$R,0)-1,0),"") -> Linn Grant | X12: =IFERROR(OFFSET(Picks!U$1,MATCH($O12,Picks!$R:$R,0)-1,0),"") -> -2 | Y12: =IFERROR(OFFSET(Picks!V$1,MATCH($O12,Picks!$R:$R,0)-1,0),"") -> Unibet: 66/1, 6pl, 1/5
O13: 12 | P13: =IFERROR(OFFSET(Picks!A$1,MATCH($O13,Picks!$F:$F,0)-1,0),"") -> Yahui Zhang | Q13: =IFERROR(OFFSET(Picks!I$1,MATCH($O13,Picks!$F:$F,0)-1,0),"") -> -2 | R13: =IFERROR(OFFSET(Picks!J$1,MATCH($O13,Picks!$F:$F,0)-1,0),"") -> QuinnBet: 250/1, 5pl, 1/4 | V13: 12 | W13: =IFERROR(OFFSET(Picks!M$1,MATCH($O13,Picks!$R:$R,0)-1,0),"") -> Sarah Schmelzel | X13: =IFERROR(OFFSET(Picks!U$1,MATCH($O13,Picks!$R:$R,0)-1,0),"") -> -2 | Y13: =IFERROR(OFFSET(Picks!V$1,MATCH($O13,Picks!$R:$R,0)-1,0),"") -> Paddy Power: 70/1, 5pl, 1/4
A27: WIN | B27: 1 | C27: 2 | D27: 3 | E27: 4 | F27: 5 | G27: 6 | H27: 7 | I27: 8 | J27: 9 | K27: 10 | L27: 11 | M27: 12 | N27: FRL | O27: 1 | P27: 2 | Q27: 3 | R27: 4 | S27: 5 | T27: 6 | U27: 7 | V27: 8 | W27: 9 | X27: 10 | Y27: 11 | Z27: 12
B28: =Q2*3 -> -6 | C28: =SUM(Q2:Q3)*1.5 -> -6 | D28: =SUM(Q2:Q4) -> -6 | E28: =SUM(Q2:Q5)*3/4 -> -6 | F28: =SUM(Q2:Q6)*3/5 -> -6 | G28: =SUM(Q2:Q7)*3/6 -> -6 | H28: =SUM(Q2:Q8)*3/7 -> -6 | I28: =SUM(Q2:Q9)*3/8 -> -6 | J28: =SUM(Q2:Q10)*3/9 -> -6 | K28: =SUM(Q2:Q11)*3/10 -> -6 | L28: =SUM(Q2:Q12)*3/11 -> -6 | M28: =SUM(Q2:Q13)*3/12 -> -6 | O28: =X2*3 -> -6 | P28: =SUM(X2:X3)*1.5 -> -6 | Q28: =SUM(X2:X4) -> -6 | R28: =SUM(X2:X5)*3/4 -> -6 | S28: =SUM(X2:X6)*3/5 -> -6 | T28: =SUM(X2:X7)*3/6 -> -6 | U28: =SUM(X2:X8)*3/7 -> -6 | V28: =SUM(X2:X9)*3/9 -> -5.3333333 | W28: =SUM(X2:X10)*3/9 -> -6 | X28: =SUM(X2:X11)*3/10 -> -6 | Y28: =SUM(X2:X12)*3/11 -> -6 | Z28: =SUM(X2:X13)*3/12 -> -6

Sheet Win
A1: Player | B1: Win % | C1: TT Odds | D1: Best Odds | E1: Kelly | F1: Result | G1: P/L | H1: E/W Play
A2: Adela Cernousek | B2: 0.01% | C2: 10000 | D2: 1001 | F2: =IFERROR(IF(A2="","",OFFSET(Results!$AJ$1,MATCH(A2,Results!$A:$A,0)-1,0)),"") -> 136 | G2: =IF(OR(E2="",F2=""),"",IF(F2=1,(IF(COUNTIFS(F:F,"<="&F2)<=1,1,(1-COUNTIFS(F:F,"<"&F2))/COUNTIFS(F:F,F2)))*50*E2*(1+VALUE(MID(H2,FIND(": ",H2)+2,FIND("/",H2)-FIND(":",H2)-2))-1)+50*E2*(1+VALUE(MID(H2,FIND(": ",H2)+2,FIND("/",H2)-FIND(":",H2)-2))-1)/VALUE(RIGHT(H2,1)),IF(F2<=VALUE(MID(H2,FIND(", ",H2)+2,IF(MID(H2,FIND(", ",H2)+2,1)="1",2,1))),(IF(COUNTIFS(F:F,"<="&F2)<=VALUE(MID(H2,FIND(", ",H2)+2,IF(MID(H2,FIND(", ",H2)+2,1)="1",2,1))),1,(VALUE(MID(H2,FIND(", ",H2)+2,IF(MID(H2,FIND(", ",H2)+2,1)="1",2,1)))-COUNTIFS(F:F,"<"&F2))/COUNTIFS(F:F,F2)))*(50*E2*(1+VALUE(MID(H2,FIND(": ",H2)+2,FIND("/",H2)-FIND(":",H2)-2))-1)/VALUE(RIGHT(H2,1))+50*E2)-(100*E2),-E2*100))) | H2: =IF(E2="","",OFFSET([1]LPGA!$AL$1,MATCH(A2,[1]LPGA!$E$1:$E$500,0)-1,0))
A3: Aditi Ashok | B3: 0.20% | C3: 500 | D3: 501 | F3: =IFERROR(IF(A3="","",OFFSET(Results!$AJ$1,MATCH(A3,Results!$A:$A,0)-1,0)),"") -> 37 | G3: =IF(OR(E3="",F3=""),"",IF(F3=1,(IF(COUNTIFS(F:F,"<="&F3)<=1,1,(1-COUNTIFS(F:F,"<"&F3))/COUNTIFS(F:F,F3)))*50*E3*(1+VALUE(MID(H3,FIND(": ",H3)+2,FIND("/",H3)-FIND(":",H3)-2))-1)+50*E3*(1+VALUE(MID(H3,FIND(": ",H3)+2,FIND("/",H3)-FIND(":",H3)-2))-1)/VALUE(RIGHT(H3,1)),IF(F3<=VALUE(MID(H3,FIND(", ",H3)+2,IF(MID(H3,FIND(", ",H3)+2,1)="1",2,1))),(IF(COUNTIFS(F:F,"<="&F3)<=VALUE(MID(H3,FIND(", ",H3)+2,IF(MID(H3,FIND(", ",H3)+2,1)="1",2,1))),1,(VALUE(MID(H3,FIND(", ",H3)+2,IF(MID(H3,FIND(", ",H3)+2,1)="1",2,1)))-COUNTIFS(F:F,"<"&F3))/COUNTIFS(F:F,F3)))*(50*E3*(1+VALUE(MID(H3,FIND(": ",H3)+2,FIND("/",H3)-FIND(":",H3)-2))-1)/VALUE(RIGHT(H3,1))+50*E3)-(100*E3),-E3*100))) | H3: =IF(E3="","",OFFSET([1]LPGA!$AL$1,MATCH(A3,[1]LPGA!$E$1:$E$500,0)-1,0))
A4: Akie Iwai | B4: 1.64% | C4: 61 | D4: 41 | F4: =IFERROR(IF(A4="","",OFFSET(Results!$AJ$1,MATCH(A4,Results!$A:$A,0)-1,0)),"") -> 2 | G4: =IF(OR(E4="",F4=""),"",IF(F4=1,(IF(COUNTIFS(F:F,"<="&F4)<=1,1,(1-COUNTIFS(F:F,"<"&F4))/COUNTIFS(F:F,F4)))*50*E4*(1+VALUE(MID(H4,FIND(": ",H4)+2,FIND("/",H4)-FIND(":",H4)-2))-1)+50*E4*(1+VALUE(MID(H4,FIND(": ",H4)+2,FIND("/",H4)-FIND(":",H4)-2))-1)/VALUE(RIGHT(H4,1)),IF(F4<=VALUE(MID(H4,FIND(", ",H4)+2,IF(MID(H4,FIND(", ",H4)+2,1)="1",2,1))),(IF(COUNTIFS(F:F,"<="&F4)<=VALUE(MID(H4,FIND(", ",H4)+2,IF(MID(H4,FIND(", ",H4)+2,1)="1",2,1))),1,(VALUE(MID(H4,FIND(", ",H4)+2,IF(MID(H4,FIND(", ",H4)+2,1)="1",2,1)))-COUNTIFS(F:F,"<"&F4))/COUNTIFS(F:F,F4)))*(50*E4*(1+VALUE(MID(H4,FIND(": ",H4)+2,FIND("/",H4)-FIND(":",H4)-2))-1)/VALUE(RIGHT(H4,1))+50*E4)-(100*E4),-E4*100))) | H4: =IF(E4="","",OFFSET([1]LPGA!$AL$1,MATCH(A4,[1]LPGA!$E$1:$E$500,0)-1,0))
A5: Albane Valenzuela | B5: 0.55% | C5: 182 | D5: 251 | E5: 0.20% | F5: =IFERROR(IF(A5="","",OFFSET(Results!$AJ$1,MATCH(A5,Results!$A:$A,0)-1,0)),"") -> 126 | G5: =IF(OR(E5="",F5=""),"",IF(F5=1,(IF(COUNTIFS(F:F,"<="&F5)<=1,1,(1-COUNTIFS(F:F,"<"&F5))/COUNTIFS(F:F,F5)))*50*E5*(1+VALUE(MID(H5,FIND(": ",H5)+2,FIND("/",H5)-FIND(":",H5)-2))-1)+50*E5*(1+VALUE(MID(H5,FIND(": ",H5)+2,FIND("/",H5)-FIND(":",H5)-2))-1)/VALUE(RIGHT(H5,1)),IF(F5<=VALUE(MID(H5,FIND(", ",H5)+2,IF(MID(H5,FIND(", ",H5)+2,1)="1",2,1))),(IF(COUNTIFS(F:F,"<="&F5)<=VALUE(MID(H5,FIND(", ",H5)+2,IF(MID(H5,FIND(", ",H5)+2,1)="1",2,1))),1,(VALUE(MID(H5,FIND(", ",H5)+2,IF(MID(H5,FIND(", ",H5)+2,1)="1",2,1)))-COUNTIFS(F:F,"<"&F5))/COUNTIFS(F:F,F5)))*(50*E5*(1+VALUE(MID(H5,FIND(": ",H5)+2,FIND("/",H5)-FIND(":",H5)-2))-1)/VALUE(RIGHT(H5,1))+50*E5)-(100*E5),-E5*100))) -> -0.2 | H5: =IF(E5="","",OFFSET([1]LPGA!$AL$1,MATCH(A5,[1]LPGA!$E$1:$E$500,0)-1,0)) -> QuinnBet: 250/1, 5pl, 1/4
A6: Alena Sharp | B6: 0.24% | C6: 417 | D6: 601 | E6: 0.10% | F6: =IFERROR(IF(A6="","",OFFSET(Results!$AJ$1,MATCH(A6,Results!$A:$A,0)-1,0)),"") -> 133 | G6: =IF(OR(E6="",F6=""),"",IF(F6=1,(IF(COUNTIFS(F:F,"<="&F6)<=1,1,(1-COUNTIFS(F:F,"<"&F6))/COUNTIFS(F:F,F6)))*50*E6*(1+VALUE(MID(H6,FIND(": ",H6)+2,FIND("/",H6)-FIND(":",H6)-2))-1)+50*E6*(1+VALUE(MID(H6,FIND(": ",H6)+2,FIND("/",H6)-FIND(":",H6)-2))-1)/VALUE(RIGHT(H6,1)),IF(F6<=VALUE(MID(H6,FIND(", ",H6)+2,IF(MID(H6,FIND(", ",H6)+2,1)="1",2,1))),(IF(COUNTIFS(F:F,"<="&F6)<=VALUE(MID(H6,FIND(", ",H6)+2,IF(MID(H6,FIND(", ",H6)+2,1)="1",2,1))),1,(VALUE(MID(H6,FIND(", ",H6)+2,IF(MID(H6,FIND(", ",H6)+2,1)="1",2,1)))-COUNTIFS(F:F,"<"&F6))/COUNTIFS(F:F,F6)))*(50*E6*(1+VALUE(MID(H6,FIND(": ",H6)+2,FIND("/",H6)-FIND(":",H6)-2))-1)/VALUE(RIGHT(H6,1))+50*E6)-(100*E6),-E6*100))) -> -0.1 | H6: =IF(E6="","",OFFSET([1]LPGA!$AL$1,MATCH(A6,[1]LPGA!$E$1:$E$500,0)-1,0)) -> Skybet: 600/1, 6pl, 1/5
A7: Alexa Pano | B7: 0.13% | C7: 769 | D7: 601 | F7: =IFERROR(IF(A7="","",OFFSET(Results!$AJ$1,MATCH(A7,Results!$A:$A,0)-1,0)),"") -> 32 | G7: =IF(OR(E7="",F7=""),"",IF(F7=1,(IF(COUNTIFS(F:F,"<="&F7)<=1,1,(1-COUNTIFS(F:F,"<"&F7))/COUNTIFS(F:F,F7)))*50*E7*(1+VALUE(MID(H7,FIND(": ",H7)+2,FIND("/",H7)-FIND(":",H7)-2))-1)+50*E7*(1+VALUE(MID(H7,FIND(": ",H7)+2,FIND("/",H7)-FIND(":",H7)-2))-1)/VALUE(RIGHT(H7,1)),IF(F7<=VALUE(MID(H7,FIND(", ",H7)+2,IF(MID(H7,FIND(", ",H7)+2,1)="1",2,1))),(IF(COUNTIFS(F:F,"<="&F7)<=VALUE(MID(H7,FIND(", ",H7)+2,IF(MID(H7,FIND(", ",H7)+2,1)="1",2,1))),1,(VALUE(MID(H7,FIND(", ",H7)+2,IF(MID(H7,FIND(", ",H7)+2,1)="1",2,1)))-COUNTIFS(F:F,"<"&F7))/COUNTIFS(F:F,F7)))*(50*E7*(1+VALUE(MID(H7,FIND(": ",H7)+2,FIND("/",H7)-FIND(":",H7)-2))-1)/VALUE(RIGHT(H7,1))+50*E7)-(100*E7),-E7*100))) | H7: =IF(E7="","",OFFSET([1]LPGA!$AL$1,MATCH(A7,[1]LPGA!$E$1:$E$500,0)-1,0))
A8: Allisen Corpuz | B8: 2.49% | C8: 40 | D8: 36 | F8: =IFERROR(IF(A8="","",OFFSET(Results!$AJ$1,MATCH(A8,Results!$A:$A,0)-1,0)),"") -> 57 | G8: =IF(OR(E8="",F8=""),"",IF(F8=1,(IF(COUNTIFS(F:F,"<="&F8)<=1,1,(1-COUNTIFS(F:F,"<"&F8))/COUNTIFS(F:F,F8)))*50*E8*(1+VALUE(MID(H8,FIND(": ",H8)+2,FIND("/",H8)-FIND(":",H8)-2))-1)+50*E8*(1+VALUE(MID(H8,FIND(": ",H8)+2,FIND("/",H8)-FIND(":",H8)-2))-1)/VALUE(RIGHT(H8,1)),IF(F8<=VALUE(MID(H8,FIND(", ",H8)+2,IF(MID(H8,FIND(", ",H8)+2,1)="1",2,1))),(IF(COUNTIFS(F:F,"<="&F8)<=VALUE(MID(H8,FIND(", ",H8)+2,IF(MID(H8,FIND(", ",H8)+2,1)="1",2,1))),1,(VALUE(MID(H8,FIND(", ",H8)+2,IF(MID(H8,FIND(", ",H8)+2,1)="1",2,1)))-COUNTIFS(F:F,"<"&F8))/COUNTIFS(F:F,F8)))*(50*E8*(1+VALUE(MID(H8,FIND(": ",H8)+2,FIND("/",H8)-FIND(":",H8)-2))-1)/VALUE(RIGHT(H8,1))+50*E8)-(100*E8),-E8*100))) | H8: =IF(E8="","",OFFSET([1]LPGA!$AL$1,MATCH(A8,[1]LPGA!$E$1:$E$500,0)-1,0))
A9: Amanda Doherty | B9: 0.18% | C9: 556 | D9: 501 | F9: =IFERROR(IF(A9="","",OFFSET(Results!$AJ$1,MATCH(A9,Results!$A:$A,0)-1,0)),"") -> 74 | G9: =IF(OR(E9="",F9=""),"",IF(F9=1,(IF(COUNTIFS(F:F,"<="&F9)<=1,1,(1-COUNTIFS(F:F,"<"&F9))/COUNTIFS(F:F,F9)))*50*E9*(1+VALUE(MID(H9,FIND(": ",H9)+2,FIND("/",H9)-FIND(":",H9)-2))-1)+50*E9*(1+VALUE(MID(H9,FIND(": ",H9)+2,FIND("/",H9)-FIND(":",H9)-2))-1)/VALUE(RIGHT(H9,1)),IF(F9<=VALUE(MID(H9,FIND(", ",H9)+2,IF(MID(H9,FIND(", ",H9)+2,1)="1",2,1))),(IF(COUNTIFS(F:F,"<="&F9)<=VALUE(MID(H9,FIND(", ",H9)+2,IF(MID(H9,FIND(", ",H9)+2,1)="1",2,1))),1,(VALUE(MID(H9,FIND(", ",H9)+2,IF(MID(H9,FIND(", ",H9)+2,1)="1",2,1)))-COUNTIFS(F:F,"<"&F9))/COUNTIFS(F:F,F9)))*(50*E9*(1+VALUE(MID(H9,FIND(": ",H9)+2,FIND("/",H9)-FIND(":",H9)-2))-1)/VALUE(RIGHT(H9,1))+50*E9)-(100*E9),-E9*100))) | H9: =IF(E9="","",OFFSET([1]LPGA!$AL$1,MATCH(A9,[1]LPGA!$E$1:$E$500,0)-1,0))
A10: Ana Belac | B10: 0.09% | C10: 1111 | D10: 1001 | F10: =IFERROR(IF(A10="","",OFFSET(Results!$AJ$1,MATCH(A10,Results!$A:$A,0)-1,0)),"") -> 135 | G10: =IF(OR(E10="",F10=""),"",IF(F10=1,(IF(COUNTIFS(F:F,"<="&F10)<=1,1,(1-COUNTIFS(F:F,"<"&F10))/COUNTIFS(F:F,F10)))*50*E10*(1+VALUE(MID(H10,FIND(": ",H10)+2,FIND("/",H10)-FIND(":",H10)-2))-1)+50*E10*(1+VALUE(MID(H10,FIND(": ",H10)+2,FIND("/",H10)-FIND(":",H10)-2))-1)/VALUE(RIGHT(H10,1)),IF(F10<=VALUE(MID(H10,FIND(", ",H10)+2,IF(MID(H10,FIND(", ",H10)+2,1)="1",2,1))),(IF(COUNTIFS(F:F,"<="&F10)<=VALUE(MID(H10,FIND(", ",H10)+2,IF(MID(H10,FIND(", ",H10)+2,1)="1",2,1))),1,(VALUE(MID(H10,FIND(", ",H10)+2,IF(MID(H10,FIND(", ",H10)+2,1)="1",2,1)))-COUNTIFS(F:F,"<"&F10))/COUNTIFS(F:F,F10)))*(50*E10*(1+VALUE(MID(H10,FIND(": ",H10)+2,FIND("/",H10)-FIND(":",H10)-2))-1)/VALUE(RIGHT(H10,1))+50*E10)-(100*E10),-E10*100))) | H10: =IF(E10="","",OFFSET([1]LPGA!$AL$1,MATCH(A10,[1]LPGA!$E$1:$E$500,0)-1,0))
A11: Andrea Lee | B11: 0.45% | C11: 222 | D11: 201 | F11: =IFERROR(IF(A11="","",OFFSET(Results!$AJ$1,MATCH(A11,Results!$A:$A,0)-1,0)),"") -> 47 | G11: =IF(OR(E11="",F11=""),"",IF(F11=1,(IF(COUNTIFS(F:F,"<="&F11)<=1,1,(1-COUNTIFS(F:F,"<"&F11))/COUNTIFS(F:F,F11)))*50*E11*(1+VALUE(MID(H11,FIND(": ",H11)+2,FIND("/",H11)-FIND(":",H11)-2))-1)+50*E11*(1+VALUE(MID(H11,FIND(": ",H11)+2,FIND("/",H11)-FIND(":",H11)-2))-1)/VALUE(RIGHT(H11,1)),IF(F11<=VALUE(MID(H11,FIND(", ",H11)+2,IF(MID(H11,FIND(", ",H11)+2,1)="1",2,1))),(IF(COUNTIFS(F:F,"<="&F11)<=VALUE(MID(H11,FIND(", ",H11)+2,IF(MID(H11,FIND(", ",H11)+2,1)="1",2,1))),1,(VALUE(MID(H11,FIND(", ",H11)+2,IF(MID(H11,FIND(", ",H11)+2,1)="1",2,1)))-COUNTIFS(F:F,"<"&F11))/COUNTIFS(F:F,F11)))*(50*E11*(1+VALUE(MID(H11,FIND(": ",H11)+2,FIND("/",H11)-FIND(":",H11)-2))-1)/VALUE(RIGHT(H11,1))+50*E11)-(100*E11),-E11*100))) | H11: =IF(E11="","",OFFSET([1]LPGA!$AL$1,MATCH(A11,[1]LPGA!$E$1:$E$500,0)-1,0))
A12: Angel Yin | B12: 2.75% | C12: 36 | D12: 23 | F12: =IFERROR(IF(A12="","",OFFSET(Results!$AJ$1,MATCH(A12,Results!$A:$A,0)-1,0)),"") -> 37 | G12: =IF(OR(E12="",F12=""),"",IF(F12=1,(IF(COUNTIFS(F:F,"<="&F12)<=1,1,(1-COUNTIFS(F:F,"<"&F12))/COUNTIFS(F:F,F12)))*50*E12*(1+VALUE(MID(H12,FIND(": ",H12)+2,FIND("/",H12)-FIND(":",H12)-2))-1)+50*E12*(1+VALUE(MID(H12,FIND(": ",H12)+2,FIND("/",H12)-FIND(":",H12)-2))-1)/VALUE(RIGHT(H12,1)),IF(F12<=VALUE(MID(H12,FIND(", ",H12)+2,IF(MID(H12,FIND(", ",H12)+2,1)="1",2,1))),(IF(COUNTIFS(F:F,"<="&F12)<=VALUE(MID(H12,FIND(", ",H12)+2,IF(MID(H12,FIND(", ",H12)+2,1)="1",2,1))),1,(VALUE(MID(H12,FIND(", ",H12)+2,IF(MID(H12,FIND(", ",H12)+2,1)="1",2,1)))-COUNTIFS(F:F,"<"&F12))/COUNTIFS(F:F,F12)))*(50*E12*(1+VALUE(MID(H12,FIND(": ",H12)+2,FIND("/",H12)-FIND(":",H12)-2))-1)/VALUE(RIGHT(H12,1))+50*E12)-(100*E12),-E12*100))) | H12: =IF(E12="","",OFFSET([1]LPGA!$AL$1,MATCH(A12,[1]LPGA!$E$1:$E$500,0)-1,0))
A13: Anna Nordqvist | B13: 0.15% | C13: 667 | D13: 501 | F13: =IFERROR(IF(A13="","",OFFSET(Results!$AJ$1,MATCH(A13,Results!$A:$A,0)-1,0)),"") -> 110 | G13: =IF(OR(E13="",F13=""),"",IF(F13=1,(IF(COUNTIFS(F:F,"<="&F13)<=1,1,(1-COUNTIFS(F:F,"<"&F13))/COUNTIFS(F:F,F13)))*50*E13*(1+VALUE(MID(H13,FIND(": ",H13)+2,FIND("/",H13)-FIND(":",H13)-2))-1)+50*E13*(1+VALUE(MID(H13,FIND(": ",H13)+2,FIND("/",H13)-FIND(":",H13)-2))-1)/VALUE(RIGHT(H13,1)),IF(F13<=VALUE(MID(H13,FIND(", ",H13)+2,IF(MID(H13,FIND(", ",H13)+2,1)="1",2,1))),(IF(COUNTIFS(F:F,"<="&F13)<=VALUE(MID(H13,FIND(", ",H13)+2,IF(MID(H13,FIND(", ",H13)+2,1)="1",2,1))),1,(VALUE(MID(H13,FIND(", ",H13)+2,IF(MID(H13,FIND(", ",H13)+2,1)="1",2,1)))-COUNTIFS(F:F,"<"&F13))/COUNTIFS(F:F,F13)))*(50*E13*(1+VALUE(MID(H13,FIND(": ",H13)+2,FIND("/",H13)-FIND(":",H13)-2))-1)/VALUE(RIGHT(H13,1))+50*E13)-(100*E13),-E13*100))) | H13: =IF(E13="","",OFFSET([1]LPGA!$AL$1,MATCH(A13,[1]LPGA!$E$1:$E$500,0)-1,0))
A14: Arpichaya Yubol | B14: 0.26% | C14: 385 | D14: 301 | F14: =IFERROR(IF(A14="","",OFFSET(Results!$AJ$1,MATCH(A14,Results!$A:$A,0)-1,0)),"") -> 100 | G14: =IF(OR(E14="",F14=""),"",IF(F14=1,(IF(COUNTIFS(F:F,"<="&F14)<=1,1,(1-COUNTIFS(F:F,"<"&F14))/COUNTIFS(F:F,F14)))*50*E14*(1+VALUE(MID(H14,FIND(": ",H14)+2,FIND("/",H14)-FIND(":",H14)-2))-1)+50*E14*(1+VALUE(MID(H14,FIND(": ",H14)+2,FIND("/",H14)-FIND(":",H14)-2))-1)/VALUE(RIGHT(H14,1)),IF(F14<=VALUE(MID(H14,FIND(", ",H14)+2,IF(MID(H14,FIND(", ",H14)+2,1)="1",2,1))),(IF(COUNTIFS(F:F,"<="&F14)<=VALUE(MID(H14,FIND(", ",H14)+2,IF(MID(H14,FIND(", ",H14)+2,1)="1",2,1))),1,(VALUE(MID(H14,FIND(", ",H14)+2,IF(MID(H14,FIND(", ",H14)+2,1)="1",2,1)))-COUNTIFS(F:F,"<"&F14))/COUNTIFS(F:F,F14)))*(50*E14*(1+VALUE(MID(H14,FIND(": ",H14)+2,FIND("/",H14)-FIND(":",H14)-2))-1)/VALUE(RIGHT(H14,1))+50*E14)-(100*E14),-E14*100))) | H14: =IF(E14="","",OFFSET([1]LPGA!$AL$1,MATCH(A14,[1]LPGA!$E$1:$E$500,0)-1,0))
A15: Ashleigh Buhai | B15: 1.13% | C15: 88 | D15: 67 | F15: =IFERROR(IF(A15="","",OFFSET(Results!$AJ$1,MATCH(A15,Results!$A:$A,0)-1,0)),"") -> 37 | G15: =IF(OR(E15="",F15=""),"",IF(F15=1,(IF(COUNTIFS(F:F,"<="&F15)<=1,1,(1-COUNTIFS(F:F,"<"&F15))/COUNTIFS(F:F,F15)))*50*E15*(1+VALUE(MID(H15,FIND(": ",H15)+2,FIND("/",H15)-FIND(":",H15)-2))-1)+50*E15*(1+VALUE(MID(H15,FIND(": ",H15)+2,FIND("/",H15)-FIND(":",H15)-2))-1)/VALUE(RIGHT(H15,1)),IF(F15<=VALUE(MID(H15,FIND(", ",H15)+2,IF(MID(H15,FIND(", ",H15)+2,1)="1",2,1))),(IF(COUNTIFS(F:F,"<="&F15)<=VALUE(MID(H15,FIND(", ",H15)+2,IF(MID(H15,FIND(", ",H15)+2,1)="1",2,1))),1,(VALUE(MID(H15,FIND(", ",H15)+2,IF(MID(H15,FIND(", ",H15)+2,1)="1",2,1)))-COUNTIFS(F:F,"<"&F15))/COUNTIFS(F:F,F15)))*(50*E15*(1+VALUE(MID(H15,FIND(": ",H15)+2,FIND("/",H15)-FIND(":",H15)-2))-1)/VALUE(RIGHT(H15,1))+50*E15)-(100*E15),-E15*100))) | H15: =IF(E15="","",OFFSET([1]LPGA!$AL$1,MATCH(A15,[1]LPGA!$E$1:$E$500,0)-1,0))
A16: Asterisk Talley | B16: 0.31% | C16: 323 | D16: 176 | F16: =IFERROR(IF(A16="","",OFFSET(Results!$AJ$1,MATCH(A16,Results!$A:$A,0)-1,0)),"") -> 74 | G16: =IF(OR(E16="",F16=""),"",IF(F16=1,(IF(COUNTIFS(F:F,"<="&F16)<=1,1,(1-COUNTIFS(F:F,"<"&F16))/COUNTIFS(F:F,F16)))*50*E16*(1+VALUE(MID(H16,FIND(": ",H16)+2,FIND("/",H16)-FIND(":",H16)-2))-1)+50*E16*(1+VALUE(MID(H16,FIND(": ",H16)+2,FIND("/",H16)-FIND(":",H16)-2))-1)/VALUE(RIGHT(H16,1)),IF(F16<=VALUE(MID(H16,FIND(", ",H16)+2,IF(MID(H16,FIND(", ",H16)+2,1)="1",2,1))),(IF(COUNTIFS(F:F,"<="&F16)<=VALUE(MID(H16,FIND(", ",H16)+2,IF(MID(H16,FIND(", ",H16)+2,1)="1",2,1))),1,(VALUE(MID(H16,FIND(", ",H16)+2,IF(MID(H16,FIND(", ",H16)+2,1)="1",2,1)))-COUNTIFS(F:F,"<"&F16))/COUNTIFS(F:F,F16)))*(50*E16*(1+VALUE(MID(H16,FIND(": ",H16)+2,FIND("/",H16)-FIND(":",H16)-2))-1)/VALUE(RIGHT(H16,1))+50*E16)-(100*E16),-E16*100))) | H16: =IF(E16="","",OFFSET([1]LPGA!$AL$1,MATCH(A16,[1]LPGA!$E$1:$E$500,0)-1,0))
A17: Auston Kim | B17: 0.55% | C17: 182 | D17: 151 | F17: =IFERROR(IF(A17="","",OFFSET(Results!$AJ$1,MATCH(A17,Results!$A:$A,0)-1,0)),"") -> 85 | G17: =IF(OR(E17="",F17=""),"",IF(F17=1,(IF(COUNTIFS(F:F,"<="&F17)<=1,1,(1-COUNTIFS(F:F,"<"&F17))/COUNTIFS(F:F,F17)))*50*E17*(1+VALUE(MID(H17,FIND(": ",H17)+2,FIND("/",H17)-FIND(":",H17)-2))-1)+50*E17*(1+VALUE(MID(H17,FIND(": ",H17)+2,FIND("/",H17)-FIND(":",H17)-2))-1)/VALUE(RIGHT(H17,1)),IF(F17<=VALUE(MID(H17,FIND(", ",H17)+2,IF(MID(H17,FIND(", ",H17)+2,1)="1",2,1))),(IF(COUNTIFS(F:F,"<="&F17)<=VALUE(MID(H17,FIND(", ",H17)+2,IF(MID(H17,FIND(", ",H17)+2,1)="1",2,1))),1,(VALUE(MID(H17,FIND(", ",H17)+2,IF(MID(H17,FIND(", ",H17)+2,1)="1",2,1)))-COUNTIFS(F:F,"<"&F17))/COUNTIFS(F:F,F17)))*(50*E17*(1+VALUE(MID(H17,FIND(": ",H17)+2,FIND("/",H17)-FIND(":",H17)-2))-1)/VALUE(RIGHT(H17,1))+50*E17)-(100*E17),-E17*100))) | H17: =IF(E17="","",OFFSET([1]LPGA!$AL$1,MATCH(A17,[1]LPGA!$E$1:$E$500,0)-1,0))
A18: Ayaka Furue | B18: 3.84% | C18: 26 | D18: 19 | F18: =IFERROR(IF(A18="","",OFFSET(Results!$AJ$1,MATCH(A18,Results!$A:$A,0)-1,0)),"") -> 20 | G18: =IF(OR(E18="",F18=""),"",IF(F18=1,(IF(COUNTIFS(F:F,"<="&F18)<=1,1,(1-COUNTIFS(F:F,"<"&F18))/COUNTIFS(F:F,F18)))*50*E18*(1+VALUE(MID(H18,FIND(": ",H18)+2,FIND("/",H18)-FIND(":",H18)-2))-1)+50*E18*(1+VALUE(MID(H18,FIND(": ",H18)+2,FIND("/",H18)-FIND(":",H18)-2))-1)/VALUE(RIGHT(H18,1)),IF(F18<=VALUE(MID(H18,FIND(", ",H18)+2,IF(MID(H18,FIND(", ",H18)+2,1)="1",2,1))),(IF(COUNTIFS(F:F,"<="&F18)<=VALUE(MID(H18,FIND(", ",H18)+2,IF(MID(H18,FIND(", ",H18)+2,1)="1",2,1))),1,(VALUE(MID(H18,FIND(", ",H18)+2,IF(MID(H18,FIND(", ",H18)+2,1)="1",2,1)))-COUNTIFS(F:F,"<"&F18))/COUNTIFS(F:F,F18)))*(50*E18*(1+VALUE(MID(H18,FIND(": ",H18)+2,FIND("/",H18)-FIND(":",H18)-2))-1)/VALUE(RIGHT(H18,1))+50*E18)-(100*E18),-E18*100))) | H18: =IF(E18="","",OFFSET([1]LPGA!$AL$1,MATCH(A18,[1]LPGA!$E$1:$E$500,0)-1,0))
... A38: Dewi Weber | B38: 0.20% | C38: 500 | D38: 601 | F38: =IFERROR(IF(A38="","",OFFSET(Results!$AJ$1,MATCH(A38,Results!$A:$A,0)-1,0)),"") -> 100 | G38: =IF(OR(E38="",F38=""),"",IF(F38=1,(IF(COUNTIFS(F:F,"<="&F38)<=1,1,(1-COUNTIFS(F:F,"<"&F38))/COUNTIFS(F:F,F38)))*50*E38*(1+VALUE(MID(H38,FIND(": ",H38)+2,FIND("/",H38)-FIND(":",H38)-2))-1)+50*E38*(1+VALUE(MID(H38,FIND(": ",H38)+2,FIND("/",H38)-FIND(":",H38)-2))-1)/VALUE(RIGHT(H38,1)),IF(F38<=VALUE(MID(H38,FIND(", ",H38)+2,IF(MID(H38,FIND(", ",H38)+2,1)="1",2,1))),(IF(COUNTIFS(F:F,"<="&F38)<=VALUE(MID(H38,FIND(", ",H38)+2,IF(MID(H38,FIND(", ",H38)+2,1)="1",2,1))),1,(VALUE(MID(H38,FIND(", ",H38)+2,IF(MID(H38,FIND(", ",H38)+2,1)="1",2,1)))-COUNTIFS(F:F,"<"&F38))/COUNTIFS(F:F,F38)))*(50*E38*(1+VALUE(MID(H38,FIND(": ",H38)+2,FIND("/",H38)-FIND(":",H38)-2))-1)/VALUE(RIGHT(H38,1))+50*E38)-(100*E38),-E38*100))) | H38: =IF(E38="","",OFFSET([1]LPGA!$AL$1,MATCH(A38,[1]LPGA!$E$1:$E$500,0)-1,0))
A39: Elizabeth Szokol | B39: 0.44% | C39: 227 | D39: 501 | E39: 0.20% | F39: =IFERROR(IF(A39="","",OFFSET(Results!$AJ$1,MATCH(A39,Results!$A:$A,0)-1,0)),"") -> 126 | G39: =IF(OR(E39="",F39=""),"",IF(F39=1,(IF(COUNTIFS(F:F,"<="&F39)<=1,1,(1-COUNTIFS(F:F,"<"&F39))/COUNTIFS(F:F,F39)))*50*E39*(1+VALUE(MID(H39,FIND(": ",H39)+2,FIND("/",H39)-FIND(":",H39)-2))-1)+50*E39*(1+VALUE(MID(H39,FIND(": ",H39)+2,FIND("/",H39)-FIND(":",H39)-2))-1)/VALUE(RIGHT(H39,1)),IF(F39<=VALUE(MID(H39,FIND(", ",H39)+2,IF(MID(H39,FIND(", ",H39)+2,1)="1",2,1))),(IF(COUNTIFS(F:F,"<="&F39)<=VALUE(MID(H39,FIND(", ",H39)+2,IF(MID(H39,FIND(", ",H39)+2,1)="1",2,1))),1,(VALUE(MID(H39,FIND(", ",H39)+2,IF(MID(H39,FIND(", ",H39)+2,1)="1",2,1)))-COUNTIFS(F:F,"<"&F39))/COUNTIFS(F:F,F39)))*(50*E39*(1+VALUE(MID(H39,FIND(": ",H39)+2,FIND("/",H39)-FIND(":",H39)-2))-1)/VALUE(RIGHT(H39,1))+50*E39)-(100*E39),-E39*100))) -> -0.2 | H39: =IF(E39="","",OFFSET([1]LPGA!$AL$1,MATCH(A39,[1]LPGA!$E$1:$E$500,0)-1,0)) -> QuinnBet: 500/1, 5pl, 1/4
A40: Emily Kristine Pedersen | B40: 0.15% | C40: 667 | D40: 301 | F40: =IFERROR(IF(A40="","",OFFSET(Results!$AJ$1,MATCH(A40,Results!$A:$A,0)-1,0)),"") -> 28 | G40: =IF(OR(E40="",F40=""),"",IF(F40=1,(IF(COUNTIFS(F:F,"<="&F40)<=1,1,(1-COUNTIFS(F:F,"<"&F40))/COUNTIFS(F:F,F40)))*50*E40*(1+VALUE(MID(H40,FIND(": ",H40)+2,FIND("/",H40)-FIND(":",H40)-2))-1)+50*E40*(1+VALUE(MID(H40,FIND(": ",H40)+2,FIND("/",H40)-FIND(":",H40)-2))-1)/VALUE(RIGHT(H40,1)),IF(F40<=VALUE(MID(H40,FIND(", ",H40)+2,IF(MID(H40,FIND(", ",H40)+2,1)="1",2,1))),(IF(COUNTIFS(F:F,"<="&F40)<=VALUE(MID(H40,FIND(", ",H40)+2,IF(MID(H40,FIND(", ",H40)+2,1)="1",2,1))),1,(VALUE(MID(H40,FIND(", ",H40)+2,IF(MID(H40,FIND(", ",H40)+2,1)="1",2,1)))-COUNTIFS(F:F,"<"&F40))/COUNTIFS(F:F,F40)))*(50*E40*(1+VALUE(MID(H40,FIND(": ",H40)+2,FIND("/",H40)-FIND(":",H40)-2))-1)/VALUE(RIGHT(H40,1))+50*E40)-(100*E40),-E40*100))) | H40: =IF(E40="","",OFFSET([1]LPGA!$AL$1,MATCH(A40,[1]LPGA!$E$1:$E$500,0)-1,0))
A41: Esther Henseleit | B41: 0.60% | C41: 167 | D41: 151 | F41: =IFERROR(IF(A41="","",OFFSET(Results!$AJ$1,MATCH(A41,Results!$A:$A,0)-1,0)),"") -> 3 | G41: =IF(OR(E41="",F41=""),"",IF(F41=1,(IF(COUNTIFS(F:F,"<="&F41)<=1,1,(1-COUNTIFS(F:F,"<"&F41))/COUNTIFS(F:F,F41)))*50*E41*(1+VALUE(MID(H41,FIND(": ",H41)+2,FIND("/",H41)-FIND(":",H41)-2))-1)+50*E41*(1+VALUE(MID(H41,FIND(": ",H41)+2,FIND("/",H41)-FIND(":",H41)-2))-1)/VALUE(RIGHT(H41,1)),IF(F41<=VALUE(MID(H41,FIND(", ",H41)+2,IF(MID(H41,FIND(", ",H41)+2,1)="1",2,1))),(IF(COUNTIFS(F:F,"<="&F41)<=VALUE(MID(H41,FIND(", ",H41)+2,IF(MID(H41,FIND(", ",H41)+2,1)="1",2,1))),1,(VALUE(MID(H41,FIND(", ",H41)+2,IF(MID(H41,FIND(", ",H41)+2,1)="1",2,1)))-COUNTIFS(F:F,"<"&F41))/COUNTIFS(F:F,F41)))*(50*E41*(1+VALUE(MID(H41,FIND(": ",H41)+2,FIND("/",H41)-FIND(":",H41)-2))-1)/VALUE(RIGHT(H41,1))+50*E41)-(100*E41),-E41*100))) | H41: =IF(E41="","",OFFSET([1]LPGA!$AL$1,MATCH(A41,[1]LPGA!$E$1:$E$500,0)-1,0))
A42: Eun-Hee Ji | B42: 0.03% | C42: 3333 | D42: 1501 | F42: =IFERROR(IF(A42="","",OFFSET(Results!$AJ$1,MATCH(A42,Results!$A:$A,0)-1,0)),"") -> 118 | G42: =IF(OR(E42="",F42=""),"",IF(F42=1,(IF(COUNTIFS(F:F,"<="&F42)<=1,1,(1-COUNTIFS(F:F,"<"&F42))/COUNTIFS(F:F,F42)))*50*E42*(1+VALUE(MID(H42,FIND(": ",H42)+2,FIND("/",H42)-FIND(":",H42)-2))-1)+50*E42*(1+VALUE(MID(H42,FIND(": ",H42)+2,FIND("/",H42)-FIND(":",H42)-2))-1)/VALUE(RIGHT(H42,1)),IF(F42<=VALUE(MID(H42,FIND(", ",H42)+2,IF(MID(H42,FIND(", ",H42)+2,1)="1",2,1))),(IF(COUNTIFS(F:F,"<="&F42)<=VALUE(MID(H42,FIND(", ",H42)+2,IF(MID(H42,FIND(", ",H42)+2,1)="1",2,1))),1,(VALUE(MID(H42,FIND(", ",H42)+2,IF(MID(H42,FIND(", ",H42)+2,1)="1",2,1)))-COUNTIFS(F:F,"<"&F42))/COUNTIFS(F:F,F42)))*(50*E42*(1+VALUE(MID(H42,FIND(": ",H42)+2,FIND("/",H42)-FIND(":",H42)-2))-1)/VALUE(RIGHT(H42,1))+50*E42)-(100*E42),-E42*100))) | H42: =IF(E42="","",OFFSET([1]LPGA!$AL$1,MATCH(A42,[1]LPGA!$E$1:$E$500,0)-1,0))
A43: Fatima Fernandez Cano | B43: 0.05% | C43: 2000 | D43: 501 | F43: =IFERROR(IF(A43="","",OFFSET(Results!$AJ$1,MATCH(A43,Results!$A:$A,0)-1,0)),"") -> 74 | G43: =IF(OR(E43="",F43=""),"",IF(F43=1,(IF(COUNTIFS(F:F,"<="&F43)<=1,1,(1-COUNTIFS(F:F,"<"&F43))/COUNTIFS(F:F,F43)))*50*E43*(1+VALUE(MID(H43,FIND(": ",H43)+2,FIND("/",H43)-FIND(":",H43)-2))-1)+50*E43*(1+VALUE(MID(H43,FIND(": ",H43)+2,FIND("/",H43)-FIND(":",H43)-2))-1)/VALUE(RIGHT(H43,1)),IF(F43<=VALUE(MID(H43,FIND(", ",H43)+2,IF(MID(H43,FIND(", ",H43)+2,1)="1",2,1))),(IF(COUNTIFS(F:F,"<="&F43)<=VALUE(MID(H43,FIND(", ",H43)+2,IF(MID(H43,FIND(", ",H43)+2,1)="1",2,1))),1,(VALUE(MID(H43,FIND(", ",H43)+2,IF(MID(H43,FIND(", ",H43)+2,1)="1",2,1)))-COUNTIFS(F:F,"<"&F43))/COUNTIFS(F:F,F43)))*(50*E43*(1+VALUE(MID(H43,FIND(": ",H43)+2,FIND("/",H43)-FIND(":",H43)-2))-1)/VALUE(RIGHT(H43,1))+50*E43)-(100*E43),-E43*100))) | H43: =IF(E43="","",OFFSET([1]LPGA!$AL$1,MATCH(A43,[1]LPGA!$E$1:$E$500,0)-1,0))
A44: Fiona Xu | B44: 0.03% | C44: 3333 | D44: 1001 | F44: =IFERROR(IF(A44="","",OFFSET(Results!$AJ$1,MATCH(A44,Results!$A:$A,0)-1,0)),"") -> 141 | G44: =IF(OR(E44="",F44=""),"",IF(F44=1,(IF(COUNTIFS(F:F,"<="&F44)<=1,1,(1-COUNTIFS(F:F,"<"&F44))/COUNTIFS(F:F,F44)))*50*E44*(1+VALUE(MID(H44,FIND(": ",H44)+2,FIND("/",H44)-FIND(":",H44)-2))-1)+50*E44*(1+VALUE(MID(H44,FIND(": ",H44)+2,FIND("/",H44)-FIND(":",H44)-2))-1)/VALUE(RIGHT(H44,1)),IF(F44<=VALUE(MID(H44,FIND(", ",H44)+2,IF(MID(H44,FIND(", ",H44)+2,1)="1",2,1))),(IF(COUNTIFS(F:F,"<="&F44)<=VALUE(MID(H44,FIND(", ",H44)+2,IF(MID(H44,FIND(", ",H44)+2,1)="1",2,1))),1,(VALUE(MID(H44,FIND(", ",H44)+2,IF(MID(H44,FIND(", ",H44)+2,1)="1",2,1)))-COUNTIFS(F:F,"<"&F44))/COUNTIFS(F:F,F44)))*(50*E44*(1+VALUE(MID(H44,FIND(": ",H44)+2,FIND("/",H44)-FIND(":",H44)-2))-1)/VALUE(RIGHT(H44,1))+50*E44)-(100*E44),-E44*100))) | H44: =IF(E44="","",OFFSET([1]LPGA!$AL$1,MATCH(A44,[1]LPGA!$E$1:$E$500,0)-1,0))
A45: Frida Kinhult | B45: 0.11% | C45: 909 | D45: 501 | F45: =IFERROR(IF(A45="","",OFFSET(Results!$AJ$1,MATCH(A45,Results!$A:$A,0)-1,0)),"") -> 28 | G45: =IF(OR(E45="",F45=""),"",IF(F45=1,(IF(COUNTIFS(F:F,"<="&F45)<=1,1,(1-COUNTIFS(F:F,"<"&F45))/COUNTIFS(F:F,F45)))*50*E45*(1+VALUE(MID(H45,FIND(": ",H45)+2,FIND("/",H45)-FIND(":",H45)-2))-1)+50*E45*(1+VALUE(MID(H45,FIND(": ",H45)+2,FIND("/",H45)-FIND(":",H45)-2))-1)/VALUE(RIGHT(H45,1)),IF(F45<=VALUE(MID(H45,FIND(", ",H45)+2,IF(MID(H45,FIND(", ",H45)+2,1)="1",2,1))),(IF(COUNTIFS(F:F,"<="&F45)<=VALUE(MID(H45,FIND(", ",H45)+2,IF(MID(H45,FIND(", ",H45)+2,1)="1",2,1))),1,(VALUE(MID(H45,FIND(", ",H45)+2,IF(MID(H45,FIND(", ",H45)+2,1)="1",2,1)))-COUNTIFS(F:F,"<"&F45))/COUNTIFS(F:F,F45)))*(50*E45*(1+VALUE(MID(H45,FIND(": ",H45)+2,FIND("/",H45)-FIND(":",H45)-2))-1)/VALUE(RIGHT(H45,1))+50*E45)-(100*E45),-E45*100))) | H45: =IF(E45="","",OFFSET([1]LPGA!$AL$1,MATCH(A45,[1]LPGA!$E$1:$E$500,0)-1,0))
A46: Gabriela Ruffels | B46: 0.35% | C46: 286 | D46: 251 | F46: =IFERROR(IF(A46="","",OFFSET(Results!$AJ$1,MATCH(A46,Results!$A:$A,0)-1,0)),"") -> 136 | G46: =IF(OR(E46="",F46=""),"",IF(F46=1,(IF(COUNTIFS(F:F,"<="&F46)<=1,1,(1-COUNTIFS(F:F,"<"&F46))/COUNTIFS(F:F,F46)))*50*E46*(1+VALUE(MID(H46,FIND(": ",H46)+2,FIND("/",H46)-FIND(":",H46)-2))-1)+50*E46*(1+VALUE(MID(H46,FIND(": ",H46)+2,FIND("/",H46)-FIND(":",H46)-2))-1)/VALUE(RIGHT(H46,1)),IF(F46<=VALUE(MID(H46,FIND(", ",H46)+2,IF(MID(H46,FIND(", ",H46)+2,1)="1",2,1))),(IF(COUNTIFS(F:F,"<="&F46)<=VALUE(MID(H46,FIND(", ",H46)+2,IF(MID(H46,FIND(", ",H46)+2,1)="1",2,1))),1,(VALUE(MID(H46,FIND(", ",H46)+2,IF(MID(H46,FIND(", ",H46)+2,1)="1",2,1)))-COUNTIFS(F:F,"<"&F46))/COUNTIFS(F:F,F46)))*(50*E46*(1+VALUE(MID(H46,FIND(": ",H46)+2,FIND("/",H46)-FIND(":",H46)-2))-1)/VALUE(RIGHT(H46,1))+50*E46)-(100*E46),-E46*100))) | H46: =IF(E46="","",OFFSET([1]LPGA!$AL$1,MATCH(A46,[1]LPGA!$E$1:$E$500,0)-1,0))
A47: Gaby Lopez | B47: 2.09% | C47: 48 | D47: 41 | F47: =IFERROR(IF(A47="","",OFFSET(Results!$AJ$1,MATCH(A47,Results!$A:$A,0)-1,0)),"") -> 85 | G47: =IF(OR(E47="",F47=""),"",IF(F47=1,(IF(COUNTIFS(F:F,"<="&F47)<=1,1,(1-COUNTIFS(F:F,"<"&F47))/COUNTIFS(F:F,F47)))*50*E47*(1+VALUE(MID(H47,FIND(": ",H47)+2,FIND("/",H47)-FIND(":",H47)-2))-1)+50*E47*(1+VALUE(MID(H47,FIND(": ",H47)+2,FIND("/",H47)-FIND(":",H47)-2))-1)/VALUE(RIGHT(H47,1)),IF(F47<=VALUE(MID(H47,FIND(", ",H47)+2,IF(MID(H47,FIND(", ",H47)+2,1)="1",2,1))),(IF(COUNTIFS(F:F,"<="&F47)<=VALUE(MID(H47,FIND(", ",H47)+2,IF(MID(H47,FIND(", ",H47)+2,1)="1",2,1))),1,(VALUE(MID(H47,FIND(", ",H47)+2,IF(MID(H47,FIND(", ",H47)+2,1)="1",2,1)))-COUNTIFS(F:F,"<"&F47))/COUNTIFS(F:F,F47)))*(50*E47*(1+VALUE(MID(H47,FIND(": ",H47)+2,FIND("/",H47)-FIND(":",H47)-2))-1)/VALUE(RIGHT(H47,1))+50*E47)-(100*E47),-E47*100))) | H47: =IF(E47="","",OFFSET([1]LPGA!$AL$1,MATCH(A47,[1]LPGA!$E$1:$E$500,0)-1,0))
A48: Gemma Dryburgh | B48: 0.24% | C48: 417 | D48: 401 | F48: =IFERROR(IF(A48="","",OFFSET(Results!$AJ$1,MATCH(A48,Results!$A:$A,0)-1,0)),"") -> 16 | G48: =IF(OR(E48="",F48=""),"",IF(F48=1,(IF(COUNTIFS(F:F,"<="&F48)<=1,1,(1-COUNTIFS(F:F,"<"&F48))/COUNTIFS(F:F,F48)))*50*E48*(1+VALUE(MID(H48,FIND(": ",H48)+2,FIND("/",H48)-FIND(":",H48)-2))-1)+50*E48*(1+VALUE(MID(H48,FIND(": ",H48)+2,FIND("/",H48)-FIND(":",H48)-2))-1)/VALUE(RIGHT(H48,1)),IF(F48<=VALUE(MID(H48,FIND(", ",H48)+2,IF(MID(H48,FIND(", ",H48)+2,1)="1",2,1))),(IF(COUNTIFS(F:F,"<="&F48)<=VALUE(MID(H48,FIND(", ",H48)+2,IF(MID(H48,FIND(", ",H48)+2,1)="1",2,1))),1,(VALUE(MID(H48,FIND(", ",H48)+2,IF(MID(H48,FIND(", ",H48)+2,1)="1",2,1)))-COUNTIFS(F:F,"<"&F48))/COUNTIFS(F:F,F48)))*(50*E48*(1+VALUE(MID(H48,FIND(": ",H48)+2,FIND("/",H48)-FIND(":",H48)-2))-1)/VALUE(RIGHT(H48,1))+50*E48)-(100*E48),-E48*100))) | H48: =IF(E48="","",OFFSET([1]LPGA!$AL$1,MATCH(A48,[1]LPGA!$E$1:$E$500,0)-1,0))
A49: Georgia Hall | B49: 0.58% | C49: 172 | D49: 151 | F49: =IFERROR(IF(A49="","",OFFSET(Results!$AJ$1,MATCH(A49,Results!$A:$A,0)-1,0)),"") -> 118 | G49: =IF(OR(E49="",F49=""),"",IF(F49=1,(IF(COUNTIFS(F:F,"<="&F49)<=1,1,(1-COUNTIFS(F:F,"<"&F49))/COUNTIFS(F:F,F49)))*50*E49*(1+VALUE(MID(H49,FIND(": ",H49)+2,FIND("/",H49)-FIND(":",H49)-2))-1)+50*E49*(1+VALUE(MID(H49,FIND(": ",H49)+2,FIND("/",H49)-FIND(":",H49)-2))-1)/VALUE(RIGHT(H49,1)),IF(F49<=VALUE(MID(H49,FIND(", ",H49)+2,IF(MID(H49,FIND(", ",H49)+2,1)="1",2,1))),(IF(COUNTIFS(F:F,"<="&F49)<=VALUE(MID(H49,FIND(", ",H49)+2,IF(MID(H49,FIND(", ",H49)+2,1)="1",2,1))),1,(VALUE(MID(H49,FIND(", ",H49)+2,IF(MID(H49,FIND(", ",H49)+2,1)="1",2,1)))-COUNTIFS(F:F,"<"&F49))/COUNTIFS(F:F,F49)))*(50*E49*(1+VALUE(MID(H49,FIND(": ",H49)+2,FIND("/",H49)-FIND(":",H49)-2))-1)/VALUE(RIGHT(H49,1))+50*E49)-(100*E49),-E49*100))) | H49: =IF(E49="","",OFFSET([1]LPGA!$AL$1,MATCH(A49,[1]LPGA!$E$1:$E$500,0)-1,0))
A50: Gigi Stoll | B50: 0.09% | C50: 1111 | D50: 501 | F50: =IFERROR(IF(A50="","",OFFSET(Results!$AJ$1,MATCH(A50,Results!$A:$A,0)-1,0)),"") -> 74 | G50: =IF(OR(E50="",F50=""),"",IF(F50=1,(IF(COUNTIFS(F:F,"<="&F50)<=1,1,(1-COUNTIFS(F:F,"<"&F50))/COUNTIFS(F:F,F50)))*50*E50*(1+VALUE(MID(H50,FIND(": ",H50)+2,FIND("/",H50)-FIND(":",H50)-2))-1)+50*E50*(1+VALUE(MID(H50,FIND(": ",H50)+2,FIND("/",H50)-FIND(":",H50)-2))-1)/VALUE(RIGHT(H50,1)),IF(F50<=VALUE(MID(H50,FIND(", ",H50)+2,IF(MID(H50,FIND(", ",H50)+2,1)="1",2,1))),(IF(COUNTIFS(F:F,"<="&F50)<=VALUE(MID(H50,FIND(", ",H50)+2,IF(MID(H50,FIND(", ",H50)+2,1)="1",2,1))),1,(VALUE(MID(H50,FIND(", ",H50)+2,IF(MID(H50,FIND(", ",H50)+2,1)="1",2,1)))-COUNTIFS(F:F,"<"&F50))/COUNTIFS(F:F,F50)))*(50*E50*(1+VALUE(MID(H50,FIND(": ",H50)+2,FIND("/",H50)-FIND(":",H50)-2))-1)/VALUE(RIGHT(H50,1))+50*E50)-(100*E50),-E50*100))) | H50: =IF(E50="","",OFFSET([1]LPGA!$AL$1,MATCH(A50,[1]LPGA!$E$1:$E$500,0)-1,0))
A51: Grace Kim | B51: 0.37% | C51: 270 | D51: 251 | F51: =IFERROR(IF(A51="","",OFFSET(Results!$AJ$1,MATCH(A51,Results!$A:$A,0)-1,0)),"") -> 110 | G51: =IF(OR(E51="",F51=""),"",IF(F51=1,(IF(COUNTIFS(F:F,"<="&F51)<=1,1,(1-COUNTIFS(F:F,"<"&F51))/COUNTIFS(F:F,F51)))*50*E51*(1+VALUE(MID(H51,FIND(": ",H51)+2,FIND("/",H51)-FIND(":",H51)-2))-1)+50*E51*(1+VALUE(MID(H51,FIND(": ",H51)+2,FIND("/",H51)-FIND(":",H51)-2))-1)/VALUE(RIGHT(H51,1)),IF(F51<=VALUE(MID(H51,FIND(", ",H51)+2,IF(MID(H51,FIND(", ",H51)+2,1)="1",2,1))),(IF(COUNTIFS(F:F,"<="&F51)<=VALUE(MID(H51,FIND(", ",H51)+2,IF(MID(H51,FIND(", ",H51)+2,1)="1",2,1))),1,(VALUE(MID(H51,FIND(", ",H51)+2,IF(MID(H51,FIND(", ",H51)+2,1)="1",2,1)))-COUNTIFS(F:F,"<"&F51))/COUNTIFS(F:F,F51)))*(50*E51*(1+VALUE(MID(H51,FIND(": ",H51)+2,FIND("/",H51)-FIND(":",H51)-2))-1)/VALUE(RIGHT(H51,1))+50*E51)-(100*E51),-E51*100))) | H51: =IF(E51="","",OFFSET([1]LPGA!$AL$1,MATCH(A51,[1]LPGA!$E$1:$E$500,0)-1,0))
... A58: Hira Naveed | B58: 0.08% | C58: 1250 | D58: 401 | F58: =IFERROR(IF(A58="","",OFFSET(Results!$AJ$1,MATCH(A58,Results!$A:$A,0)-1,0)),"") -> 52 | G58: =IF(OR(E58="",F58=""),"",IF(F58=1,(IF(COUNTIFS(F:F,"<="&F58)<=1,1,(1-COUNTIFS(F:F,"<"&F58))/COUNTIFS(F:F,F58)))*50*E58*(1+VALUE(MID(H58,FIND(": ",H58)+2,FIND("/",H58)-FIND(":",H58)-2))-1)+50*E58*(1+VALUE(MID(H58,FIND(": ",H58)+2,FIND("/",H58)-FIND(":",H58)-2))-1)/VALUE(RIGHT(H58,1)),IF(F58<=VALUE(MID(H58,FIND(", ",H58)+2,IF(MID(H58,FIND(", ",H58)+2,1)="1",2,1))),(IF(COUNTIFS(F:F,"<="&F58)<=VALUE(MID(H58,FIND(", ",H58)+2,IF(MID(H58,FIND(", ",H58)+2,1)="1",2,1))),1,(VALUE(MID(H58,FIND(", ",H58)+2,IF(MID(H58,FIND(", ",H58)+2,1)="1",2,1)))-COUNTIFS(F:F,"<"&F58))/COUNTIFS(F:F,F58)))*(50*E58*(1+VALUE(MID(H58,FIND(": ",H58)+2,FIND("/",H58)-FIND(":",H58)-2))-1)/VALUE(RIGHT(H58,1))+50*E58)-(100*E58),-E58*100))) | H58: =IF(E58="","",OFFSET([1]LPGA!$AL$1,MATCH(A58,[1]LPGA!$E$1:$E$500,0)-1,0))
A59: Hye-Jin Choi | B59: 2.19% | C59: 46 | D59: 51 | E59: 0.20% | F59: =IFERROR(IF(A59="","",OFFSET(Results!$AJ$1,MATCH(A59,Results!$A:$A,0)-1,0)),"") -> 85 | G59: =IF(OR(E59="",F59=""),"",IF(F59=1,(IF(COUNTIFS(F:F,"<="&F59)<=1,1,(1-COUNTIFS(F:F,"<"&F59))/COUNTIFS(F:F,F59)))*50*E59*(1+VALUE(MID(H59,FIND(": ",H59)+2,FIND("/",H59)-FIND(":",H59)-2))-1)+50*E59*(1+VALUE(MID(H59,FIND(": ",H59)+2,FIND("/",H59)-FIND(":",H59)-2))-1)/VALUE(RIGHT(H59,1)),IF(F59<=VALUE(MID(H59,FIND(", ",H59)+2,IF(MID(H59,FIND(", ",H59)+2,1)="1",2,1))),(IF(COUNTIFS(F:F,"<="&F59)<=VALUE(MID(H59,FIND(", ",H59)+2,IF(MID(H59,FIND(", ",H59)+2,1)="1",2,1))),1,(VALUE(MID(H59,FIND(", ",H59)+2,IF(MID(H59,FIND(", ",H59)+2,1)="1",2,1)))-COUNTIFS(F:F,"<"&F59))/COUNTIFS(F:F,F59)))*(50*E59*(1+VALUE(MID(H59,FIND(": ",H59)+2,FIND("/",H59)-FIND(":",H59)-2))-1)/VALUE(RIGHT(H59,1))+50*E59)-(100*E59),-E59*100))) -> -0.2 | H59: =IF(E59="","",OFFSET([1]LPGA!$AL$1,MATCH(A59,[1]LPGA!$E$1:$E$500,0)-1,0)) -> QuinnBet: 50/1, 5pl, 1/4
A60: Hyo Joo Kim | B60: 3.09% | C60: 32 | D60: 31 | F60: =IFERROR(IF(A60="","",OFFSET(Results!$AJ$1,MATCH(A60,Results!$A:$A,0)-1,0)),"") -> 85 | G60: =IF(OR(E60="",F60=""),"",IF(F60=1,(IF(COUNTIFS(F:F,"<="&F60)<=1,1,(1-COUNTIFS(F:F,"<"&F60))/COUNTIFS(F:F,F60)))*50*E60*(1+VALUE(MID(H60,FIND(": ",H60)+2,FIND("/",H60)-FIND(":",H60)-2))-1)+50*E60*(1+VALUE(MID(H60,FIND(": ",H60)+2,FIND("/",H60)-FIND(":",H60)-2))-1)/VALUE(RIGHT(H60,1)),IF(F60<=VALUE(MID(H60,FIND(", ",H60)+2,IF(MID(H60,FIND(", ",H60)+2,1)="1",2,1))),(IF(COUNTIFS(F:F,"<="&F60)<=VALUE(MID(H60,FIND(", ",H60)+2,IF(MID(H60,FIND(", ",H60)+2,1)="1",2,1))),1,(VALUE(MID(H60,FIND(", ",H60)+2,IF(MID(H60,FIND(", ",H60)+2,1)="1",2,1)))-COUNTIFS(F:F,"<"&F60))/COUNTIFS(F:F,F60)))*(50*E60*(1+VALUE(MID(H60,FIND(": ",H60)+2,FIND("/",H60)-FIND(":",H60)-2))-1)/VALUE(RIGHT(H60,1))+50*E60)-(100*E60),-E60*100))) | H60: =IF(E60="","",OFFSET([1]LPGA!$AL$1,MATCH(A60,[1]LPGA!$E$1:$E$500,0)-1,0))
A61: Hyo Joon Jang | B61: 0.11% | C61: 909 | D61: 751 | F61: =IFERROR(IF(A61="","",OFFSET(Results!$AJ$1,MATCH(A61,Results!$A:$A,0)-1,0)),"") -> 118 | G61: =IF(OR(E61="",F61=""),"",IF(F61=1,(IF(COUNTIFS(F:F,"<="&F61)<=1,1,(1-COUNTIFS(F:F,"<"&F61))/COUNTIFS(F:F,F61)))*50*E61*(1+VALUE(MID(H61,FIND(": ",H61)+2,FIND("/",H61)-FIND(":",H61)-2))-1)+50*E61*(1+VALUE(MID(H61,FIND(": ",H61)+2,FIND("/",H61)-FIND(":",H61)-2))-1)/VALUE(RIGHT(H61,1)),IF(F61<=VALUE(MID(H61,FIND(", ",H61)+2,IF(MID(H61,FIND(", ",H61)+2,1)="1",2,1))),(IF(COUNTIFS(F:F,"<="&F61)<=VALUE(MID(H61,FIND(", ",H61)+2,IF(MID(H61,FIND(", ",H61)+2,1)="1",2,1))),1,(VALUE(MID(H61,FIND(", ",H61)+2,IF(MID(H61,FIND(", ",H61)+2,1)="1",2,1)))-COUNTIFS(F:F,"<"&F61))/COUNTIFS(F:F,F61)))*(50*E61*(1+VALUE(MID(H61,FIND(": ",H61)+2,FIND("/",H61)-FIND(":",H61)-2))-1)/VALUE(RIGHT(H61,1))+50*E61)-(100*E61),-E61*100))) | H61: =IF(E61="","",OFFSET([1]LPGA!$AL$1,MATCH(A61,[1]LPGA!$E$1:$E$500,0)-1,0))
A62: In Gee Chun | B62: 0.16% | C62: 625 | D62: 501 | F62: =IFERROR(IF(A62="","",OFFSET(Results!$AJ$1,MATCH(A62,Results!$A:$A,0)-1,0)),"") -> 52 | G62: =IF(OR(E62="",F62=""),"",IF(F62=1,(IF(COUNTIFS(F:F,"<="&F62)<=1,1,(1-COUNTIFS(F:F,"<"&F62))/COUNTIFS(F:F,F62)))*50*E62*(1+VALUE(MID(H62,FIND(": ",H62)+2,FIND("/",H62)-FIND(":",H62)-2))-1)+50*E62*(1+VALUE(MID(H62,FIND(": ",H62)+2,FIND("/",H62)-FIND(":",H62)-2))-1)/VALUE(RIGHT(H62,1)),IF(F62<=VALUE(MID(H62,FIND(", ",H62)+2,IF(MID(H62,FIND(", ",H62)+2,1)="1",2,1))),(IF(COUNTIFS(F:F,"<="&F62)<=VALUE(MID(H62,FIND(", ",H62)+2,IF(MID(H62,FIND(", ",H62)+2,1)="1",2,1))),1,(VALUE(MID(H62,FIND(", ",H62)+2,IF(MID(H62,FIND(", ",H62)+2,1)="1",2,1)))-COUNTIFS(F:F,"<"&F62))/COUNTIFS(F:F,F62)))*(50*E62*(1+VALUE(MID(H62,FIND(": ",H62)+2,FIND("/",H62)-FIND(":",H62)-2))-1)/VALUE(RIGHT(H62,1))+50*E62)-(100*E62),-E62*100))) | H62: =IF(E62="","",OFFSET([1]LPGA!$AL$1,MATCH(A62,[1]LPGA!$E$1:$E$500,0)-1,0))
A63: Ina Yoon | B63: 1.65% | C63: 61 | D63: 51 | F63: =IFERROR(IF(A63="","",OFFSET(Results!$AJ$1,MATCH(A63,Results!$A:$A,0)-1,0)),"") -> 16 | G63: =IF(OR(E63="",F63=""),"",IF(F63=1,(IF(COUNTIFS(F:F,"<="&F63)<=1,1,(1-COUNTIFS(F:F,"<"&F63))/COUNTIFS(F:F,F63)))*50*E63*(1+VALUE(MID(H63,FIND(": ",H63)+2,FIND("/",H63)-FIND(":",H63)-2))-1)+50*E63*(1+VALUE(MID(H63,FIND(": ",H63)+2,FIND("/",H63)-FIND(":",H63)-2))-1)/VALUE(RIGHT(H63,1)),IF(F63<=VALUE(MID(H63,FIND(", ",H63)+2,IF(MID(H63,FIND(", ",H63)+2,1)="1",2,1))),(IF(COUNTIFS(F:F,"<="&F63)<=VALUE(MID(H63,FIND(", ",H63)+2,IF(MID(H63,FIND(", ",H63)+2,1)="1",2,1))),1,(VALUE(MID(H63,FIND(", ",H63)+2,IF(MID(H63,FIND(", ",H63)+2,1)="1",2,1)))-COUNTIFS(F:F,"<"&F63))/COUNTIFS(F:F,F63)))*(50*E63*(1+VALUE(MID(H63,FIND(": ",H63)+2,FIND("/",H63)-FIND(":",H63)-2))-1)/VALUE(RIGHT(H63,1))+50*E63)-(100*E63),-E63*100))) | H63: =IF(E63="","",OFFSET([1]LPGA!$AL$1,MATCH(A63,[1]LPGA!$E$1:$E$500,0)-1,0))
A64: Ingrid Lindblad | B64: 0.70% | C64: 143 | D64: 126 | F64: =IFERROR(IF(A64="","",OFFSET(Results!$AJ$1,MATCH(A64,Results!$A:$A,0)-1,0)),"") -> 1 | G64: =IF(OR(E64="",F64=""),"",IF(F64=1,(IF(COUNTIFS(F:F,"<="&F64)<=1,1,(1-COUNTIFS(F:F,"<"&F64))/COUNTIFS(F:F,F64)))*50*E64*(1+VALUE(MID(H64,FIND(": ",H64)+2,FIND("/",H64)-FIND(":",H64)-2))-1)+50*E64*(1+VALUE(MID(H64,FIND(": ",H64)+2,FIND("/",H64)-FIND(":",H64)-2))-1)/VALUE(RIGHT(H64,1)),IF(F64<=VALUE(MID(H64,FIND(", ",H64)+2,IF(MID(H64,FIND(", ",H64)+2,1)="1",2,1))),(IF(COUNTIFS(F:F,"<="&F64)<=VALUE(MID(H64,FIND(", ",H64)+2,IF(MID(H64,FIND(", ",H64)+2,1)="1",2,1))),1,(VALUE(MID(H64,FIND(", ",H64)+2,IF(MID(H64,FIND(", ",H64)+2,1)="1",2,1)))-COUNTIFS(F:F,"<"&F64))/COUNTIFS(F:F,F64)))*(50*E64*(1+VALUE(MID(H64,FIND(": ",H64)+2,FIND("/",H64)-FIND(":",H64)-2))-1)/VALUE(RIGHT(H64,1))+50*E64)-(100*E64),-E64*100))) | H64: =IF(E64="","",OFFSET([1]LPGA!$AL$1,MATCH(A64,[1]LPGA!$E$1:$E$500,0)-1,0))
A65: Jasmine Suwannapura | B65: 0.19% | C65: 526 | D65: 501 | F65: =IFERROR(IF(A65="","",OFFSET(Results!$AJ$1,MATCH(A65,Results!$A:$A,0)-1,0)),"") -> 136 | G65: =IF(OR(E65="",F65=""),"",IF(F65=1,(IF(COUNTIFS(F:F,"<="&F65)<=1,1,(1-COUNTIFS(F:F,"<"&F65))/COUNTIFS(F:F,F65)))*50*E65*(1+VALUE(MID(H65,FIND(": ",H65)+2,FIND("/",H65)-FIND(":",H65)-2))-1)+50*E65*(1+VALUE(MID(H65,FIND(": ",H65)+2,FIND("/",H65)-FIND(":",H65)-2))-1)/VALUE(RIGHT(H65,1)),IF(F65<=VALUE(MID(H65,FIND(", ",H65)+2,IF(MID(H65,FIND(", ",H65)+2,1)="1",2,1))),(IF(COUNTIFS(F:F,"<="&F65)<=VALUE(MID(H65,FIND(", ",H65)+2,IF(MID(H65,FIND(", ",H65)+2,1)="1",2,1))),1,(VALUE(MID(H65,FIND(", ",H65)+2,IF(MID(H65,FIND(", ",H65)+2,1)="1",2,1)))-COUNTIFS(F:F,"<"&F65))/COUNTIFS(F:F,F65)))*(50*E65*(1+VALUE(MID(H65,FIND(": ",H65)+2,FIND("/",H65)-FIND(":",H65)-2))-1)/VALUE(RIGHT(H65,1))+50*E65)-(100*E65),-E65*100))) | H65: =IF(E65="","",OFFSET([1]LPGA!$AL$1,MATCH(A65,[1]LPGA!$E$1:$E$500,0)-1,0))
A66: Jeeno Thitikul | B66: 8.55% | C66: 12 | D66: 8 | F66: =IFERROR(IF(A66="","",OFFSET(Results!$AJ$1,MATCH(A66,Results!$A:$A,0)-1,0)),"") -> 9 | G66: =IF(OR(E66="",F66=""),"",IF(F66=1,(IF(COUNTIFS(F:F,"<="&F66)<=1,1,(1-COUNTIFS(F:F,"<"&F66))/COUNTIFS(F:F,F66)))*50*E66*(1+VALUE(MID(H66,FIND(": ",H66)+2,FIND("/",H66)-FIND(":",H66)-2))-1)+50*E66*(1+VALUE(MID(H66,FIND(": ",H66)+2,FIND("/",H66)-FIND(":",H66)-2))-1)/VALUE(RIGHT(H66,1)),IF(F66<=VALUE(MID(H66,FIND(", ",H66)+2,IF(MID(H66,FIND(", ",H66)+2,1)="1",2,1))),(IF(COUNTIFS(F:F,"<="&F66)<=VALUE(MID(H66,FIND(", ",H66)+2,IF(MID(H66,FIND(", ",H66)+2,1)="1",2,1))),1,(VALUE(MID(H66,FIND(", ",H66)+2,IF(MID(H66,FIND(", ",H66)+2,1)="1",2,1)))-COUNTIFS(F:F,"<"&F66))/COUNTIFS(F:F,F66)))*(50*E66*(1+VALUE(MID(H66,FIND(": ",H66)+2,FIND("/",H66)-FIND(":",H66)-2))-1)/VALUE(RIGHT(H66,1))+50*E66)-(100*E66),-E66*100))) | H66: =IF(E66="","",OFFSET([1]LPGA!$AL$1,MATCH(A66,[1]LPGA!$E$1:$E$500,0)-1,0))
A67: Jennifer Kupcho | B67: 1.59% | C67: 63 | D67: 81 | E67: 0.40% | F67: =IFERROR(IF(A67="","",OFFSET(Results!$AJ$1,MATCH(A67,Results!$A:$A,0)-1,0)),"") -> 141 | G67: =IF(OR(E67="",F67=""),"",IF(F67=1,(IF(COUNTIFS(F:F,"<="&F67)<=1,1,(1-COUNTIFS(F:F,"<"&F67))/COUNTIFS(F:F,F67)))*50*E67*(1+VALUE(MID(H67,FIND(": ",H67)+2,FIND("/",H67)-FIND(":",H67)-2))-1)+50*E67*(1+VALUE(MID(H67,FIND(": ",H67)+2,FIND("/",H67)-FIND(":",H67)-2))-1)/VALUE(RIGHT(H67,1)),IF(F67<=VALUE(MID(H67,FIND(", ",H67)+2,IF(MID(H67,FIND(", ",H67)+2,1)="1",2,1))),(IF(COUNTIFS(F:F,"<="&F67)<=VALUE(MID(H67,FIND(", ",H67)+2,IF(MID(H67,FIND(", ",H67)+2,1)="1",2,1))),1,(VALUE(MID(H67,FIND(", ",H67)+2,IF(MID(H67,FIND(", ",H67)+2,1)="1",2,1)))-COUNTIFS(F:F,"<"&F67))/COUNTIFS(F:F,F67)))*(50*E67*(1+VALUE(MID(H67,FIND(": ",H67)+2,FIND("/",H67)-FIND(":",H67)-2))-1)/VALUE(RIGHT(H67,1))+50*E67)-(100*E67),-E67*100))) -> -0.4 | H67: =IF(E67="","",OFFSET([1]LPGA!$AL$1,MATCH(A67,[1]LPGA!$E$1:$E$500,0)-1,0)) -> Bet365: 80/1, 5pl, 1/4
A68: Jenny Bae | B68: 0.01% | C68: 10000 | D68: 1001 | F68: =IFERROR(IF(A68="","",OFFSET(Results!$AJ$1,MATCH(A68,Results!$A:$A,0)-1,0)),"") -> 11 | G68: =IF(OR(E68="",F68=""),"",IF(F68=1,(IF(COUNTIFS(F:F,"<="&F68)<=1,1,(1-COUNTIFS(F:F,"<"&F68))/COUNTIFS(F:F,F68)))*50*E68*(1+VALUE(MID(H68,FIND(": ",H68)+2,FIND("/",H68)-FIND(":",H68)-2))-1)+50*E68*(1+VALUE(MID(H68,FIND(": ",H68)+2,FIND("/",H68)-FIND(":",H68)-2))-1)/VALUE(RIGHT(H68,1)),IF(F68<=VALUE(MID(H68,FIND(", ",H68)+2,IF(MID(H68,FIND(", ",H68)+2,1)="1",2,1))),(IF(COUNTIFS(F:F,"<="&F68)<=VALUE(MID(H68,FIND(", ",H68)+2,IF(MID(H68,FIND(", ",H68)+2,1)="1",2,1))),1,(VALUE(MID(H68,FIND(", ",H68)+2,IF(MID(H68,FIND(", ",H68)+2,1)="1",2,1)))-COUNTIFS(F:F,"<"&F68))/COUNTIFS(F:F,F68)))*(50*E68*(1+VALUE(MID(H68,FIND(": ",H68)+2,FIND("/",H68)-FIND(":",H68)-2))-1)/VALUE(RIGHT(H68,1))+50*E68)-(100*E68),-E68*100))) | H68: =IF(E68="","",OFFSET([1]LPGA!$AL$1,MATCH(A68,[1]LPGA!$E$1:$E$500,0)-1,0))
A69: Jenny Coleman | B69: 0.07% | C69: 1429 | D69: 751 | F69: =IFERROR(IF(A69="","",OFFSET(Results!$AJ$1,MATCH(A69,Results!$A:$A,0)-1,0)),"") -> 136 | G69: =IF(OR(E69="",F69=""),"",IF(F69=1,(IF(COUNTIFS(F:F,"<="&F69)<=1,1,(1-COUNTIFS(F:F,"<"&F69))/COUNTIFS(F:F,F69)))*50*E69*(1+VALUE(MID(H69,FIND(": ",H69)+2,FIND("/",H69)-FIND(":",H69)-2))-1)+50*E69*(1+VALUE(MID(H69,FIND(": ",H69)+2,FIND("/",H69)-FIND(":",H69)-2))-1)/VALUE(RIGHT(H69,1)),IF(F69<=VALUE(MID(H69,FIND(", ",H69)+2,IF(MID(H69,FIND(", ",H69)+2,1)="1",2,1))),(IF(COUNTIFS(F:F,"<="&F69)<=VALUE(MID(H69,FIND(", ",H69)+2,IF(MID(H69,FIND(", ",H69)+2,1)="1",2,1))),1,(VALUE(MID(H69,FIND(", ",H69)+2,IF(MID(H69,FIND(", ",H69)+2,1)="1",2,1)))-COUNTIFS(F:F,"<"&F69))/COUNTIFS(F:F,F69)))*(50*E69*(1+VALUE(MID(H69,FIND(": ",H69)+2,FIND("/",H69)-FIND(":",H69)-2))-1)/VALUE(RIGHT(H69,1))+50*E69)-(100*E69),-E69*100))) | H69: =IF(E69="","",OFFSET([1]LPGA!$AL$1,MATCH(A69,[1]LPGA!$E$1:$E$500,0)-1,0))
A70: Jenny Shin | B70: 0.57% | C70: 175 | D70: 251 | E70: 0.20% | F70: =IFERROR(IF(A70="","",OFFSET(Results!$AJ$1,MATCH(A70,Results!$A:$A,0)-1,0)),"") -> 63 | G70: =IF(OR(E70="",F70=""),"",IF(F70=1,(IF(COUNTIFS(F:F,"<="&F70)<=1,1,(1-COUNTIFS(F:F,"<"&F70))/COUNTIFS(F:F,F70)))*50*E70*(1+VALUE(MID(H70,FIND(": ",H70)+2,FIND("/",H70)-FIND(":",H70)-2))-1)+50*E70*(1+VALUE(MID(H70,FIND(": ",H70)+2,FIND("/",H70)-FIND(":",H70)-2))-1)/VALUE(RIGHT(H70,1)),IF(F70<=VALUE(MID(H70,FIND(", ",H70)+2,IF(MID(H70,FIND(", ",H70)+2,1)="1",2,1))),(IF(COUNTIFS(F:F,"<="&F70)<=VALUE(MID(H70,FIND(", ",H70)+2,IF(MID(H70,FIND(", ",H70)+2,1)="1",2,1))),1,(VALUE(MID(H70,FIND(", ",H70)+2,IF(MID(H70,FIND(", ",H70)+2,1)="1",2,1)))-COUNTIFS(F:F,"<"&F70))/COUNTIFS(F:F,F70)))*(50*E70*(1+VALUE(MID(H70,FIND(": ",H70)+2,FIND("/",H70)-FIND(":",H70)-2))-1)/VALUE(RIGHT(H70,1))+50*E70)-(100*E70),-E70*100))) -> -0.2 | H70: =IF(E70="","",OFFSET([1]LPGA!$AL$1,MATCH(A70,[1]LPGA!$E$1:$E$500,0)-1,0)) -> Skybet: 250/1, 6pl, 1/5
A71: Jeongeun Lee5 | B71: 0.23% | C71: 435 | D71: 501 | F71: =IFERROR(IF(A71="","",OFFSET(Results!$AJ$1,MATCH(A71,Results!$A:$A,0)-1,0)),"") -> 20 | G71: =IF(OR(E71="",F71=""),"",IF(F71=1,(IF(COUNTIFS(F:F,"<="&F71)<=1,1,(1-COUNTIFS(F:F,"<"&F71))/COUNTIFS(F:F,F71)))*50*E71*(1+VALUE(MID(H71,FIND(": ",H71)+2,FIND("/",H71)-FIND(":",H71)-2))-1)+50*E71*(1+VALUE(MID(H71,FIND(": ",H71)+2,FIND("/",H71)-FIND(":",H71)-2))-1)/VALUE(RIGHT(H71,1)),IF(F71<=VALUE(MID(H71,FIND(", ",H71)+2,IF(MID(H71,FIND(", ",H71)+2,1)="1",2,1))),(IF(COUNTIFS(F:F,"<="&F71)<=VALUE(MID(H71,FIND(", ",H71)+2,IF(MID(H71,FIND(", ",H71)+2,1)="1",2,1))),1,(VALUE(MID(H71,FIND(", ",H71)+2,IF(MID(H71,FIND(", ",H71)+2,1)="1",2,1)))-COUNTIFS(F:F,"<"&F71))/COUNTIFS(F:F,F71)))*(50*E71*(1+VALUE(MID(H71,FIND(": ",H71)+2,FIND("/",H71)-FIND(":",H71)-2))-1)/VALUE(RIGHT(H71,1))+50*E71)-(100*E71),-E71*100))) | H71: =IF(E71="","",OFFSET([1]LPGA!$AL$1,MATCH(A71,[1]LPGA!$E$1:$E$500,0)-1,0))
A72: Jeongeun Lee6 | B72: 0.05% | C72: 2000 | D72: 601 | F72: =IFERROR(IF(A72="","",OFFSET(Results!$AJ$1,MATCH(A72,Results!$A:$A,0)-1,0)),"") -> 47 | G72: =IF(OR(E72="",F72=""),"",IF(F72=1,(IF(COUNTIFS(F:F,"<="&F72)<=1,1,(1-COUNTIFS(F:F,"<"&F72))/COUNTIFS(F:F,F72)))*50*E72*(1+VALUE(MID(H72,FIND(": ",H72)+2,FIND("/",H72)-FIND(":",H72)-2))-1)+50*E72*(1+VALUE(MID(H72,FIND(": ",H72)+2,FIND("/",H72)-FIND(":",H72)-2))-1)/VALUE(RIGHT(H72,1)),IF(F72<=VALUE(MID(H72,FIND(", ",H72)+2,IF(MID(H72,FIND(", ",H72)+2,1)="1",2,1))),(IF(COUNTIFS(F:F,"<="&F72)<=VALUE(MID(H72,FIND(", ",H72)+2,IF(MID(H72,FIND(", ",H72)+2,1)="1",2,1))),1,(VALUE(MID(H72,FIND(", ",H72)+2,IF(MID(H72,FIND(", ",H72)+2,1)="1",2,1)))-COUNTIFS(F:F,"<"&F72))/COUNTIFS(F:F,F72)))*(50*E72*(1+VALUE(MID(H72,FIND(": ",H72)+2,FIND("/",H72)-FIND(":",H72)-2))-1)/VALUE(RIGHT(H72,1))+50*E72)-(100*E72),-E72*100))) | H72: =IF(E72="","",OFFSET([1]LPGA!$AL$1,MATCH(A72,[1]LPGA!$E$1:$E$500,0)-1,0))
A73: Jessica Porvasnik | B73: 0.01% | C73: 10000 | D73: 1501 | F73: =IFERROR(IF(A73="","",OFFSET(Results!$AJ$1,MATCH(A73,Results!$A:$A,0)-1,0)),"") -> 118 | G73: =IF(OR(E73="",F73=""),"",IF(F73=1,(IF(COUNTIFS(F:F,"<="&F73)<=1,1,(1-COUNTIFS(F:F,"<"&F73))/COUNTIFS(F:F,F73)))*50*E73*(1+VALUE(MID(H73,FIND(": ",H73)+2,FIND("/",H73)-FIND(":",H73)-2))-1)+50*E73*(1+VALUE(MID(H73,FIND(": ",H73)+2,FIND("/",H73)-FIND(":",H73)-2))-1)/VALUE(RIGHT(H73,1)),IF(F73<=VALUE(MID(H73,FIND(", ",H73)+2,IF(MID(H73,FIND(", ",H73)+2,1)="1",2,1))),(IF(COUNTIFS(F:F,"<="&F73)<=VALUE(MID(H73,FIND(", ",H73)+2,IF(MID(H73,FIND(", ",H73)+2,1)="1",2,1))),1,(VALUE(MID(H73,FIND(", ",H73)+2,IF(MID(H73,FIND(", ",H73)+2,1)="1",2,1)))-COUNTIFS(F:F,"<"&F73))/COUNTIFS(F:F,F73)))*(50*E73*(1+VALUE(MID(H73,FIND(": ",H73)+2,FIND("/",H73)-FIND(":",H73)-2))-1)/VALUE(RIGHT(H73,1))+50*E73)-(100*E73),-E73*100))) | H73: =IF(E73="","",OFFSET([1]LPGA!$AL$1,MATCH(A73,[1]LPGA!$E$1:$E$500,0)-1,0))
A74: Jin Hee Im | B74: 1.89% | C74: 53 | D74: 46 | F74: =IFERROR(IF(A74="","",OFFSET(Results!$AJ$1,MATCH(A74,Results!$A:$A,0)-1,0)),"") -> 11 | G74: =IF(OR(E74="",F74=""),"",IF(F74=1,(IF(COUNTIFS(F:F,"<="&F74)<=1,1,(1-COUNTIFS(F:F,"<"&F74))/COUNTIFS(F:F,F74)))*50*E74*(1+VALUE(MID(H74,FIND(": ",H74)+2,FIND("/",H74)-FIND(":",H74)-2))-1)+50*E74*(1+VALUE(MID(H74,FIND(": ",H74)+2,FIND("/",H74)-FIND(":",H74)-2))-1)/VALUE(RIGHT(H74,1)),IF(F74<=VALUE(MID(H74,FIND(", ",H74)+2,IF(MID(H74,FIND(", ",H74)+2,1)="1",2,1))),(IF(COUNTIFS(F:F,"<="&F74)<=VALUE(MID(H74,FIND(", ",H74)+2,IF(MID(H74,FIND(", ",H74)+2,1)="1",2,1))),1,(VALUE(MID(H74,FIND(", ",H74)+2,IF(MID(H74,FIND(", ",H74)+2,1)="1",2,1)))-COUNTIFS(F:F,"<"&F74))/COUNTIFS(F:F,F74)))*(50*E74*(1+VALUE(MID(H74,FIND(": ",H74)+2,FIND("/",H74)-FIND(":",H74)-2))-1)/VALUE(RIGHT(H74,1))+50*E74)-(100*E74),-E74*100))) | H74: =IF(E74="","",OFFSET([1]LPGA!$AL$1,MATCH(A74,[1]LPGA!$E$1:$E$500,0)-1,0))
A75: Jin Young Ko | B75: 1.26% | C75: 79 | D75: 34 | F75: =IFERROR(IF(A75="","",OFFSET(Results!$AJ$1,MATCH(A75,Results!$A:$A,0)-1,0)),"") -> 7 | G75: =IF(OR(E75="",F75=""),"",IF(F75=1,(IF(COUNTIFS(F:F,"<="&F75)<=1,1,(1-COUNTIFS(F:F,"<"&F75))/COUNTIFS(F:F,F75)))*50*E75*(1+VALUE(MID(H75,FIND(": ",H75)+2,FIND("/",H75)-FIND(":",H75)-2))-1)+50*E75*(1+VALUE(MID(H75,FIND(": ",H75)+2,FIND("/",H75)-FIND(":",H75)-2))-1)/VALUE(RIGHT(H75,1)),IF(F75<=VALUE(MID(H75,FIND(", ",H75)+2,IF(MID(H75,FIND(", ",H75)+2,1)="1",2,1))),(IF(COUNTIFS(F:F,"<="&F75)<=VALUE(MID(H75,FIND(", ",H75)+2,IF(MID(H75,FIND(", ",H75)+2,1)="1",2,1))),1,(VALUE(MID(H75,FIND(", ",H75)+2,IF(MID(H75,FIND(", ",H75)+2,1)="1",2,1)))-COUNTIFS(F:F,"<"&F75))/COUNTIFS(F:F,F75)))*(50*E75*(1+VALUE(MID(H75,FIND(": ",H75)+2,FIND("/",H75)-FIND(":",H75)-2))-1)/VALUE(RIGHT(H75,1))+50*E75)-(100*E75),-E75*100))) | H75: =IF(E75="","",OFFSET([1]LPGA!$AL$1,MATCH(A75,[1]LPGA!$E$1:$E$500,0)-1,0))
