Workbook

Sheet Results
A1: PLAYER | B1: Date | C1: Event | D1: Course | E1: Location | F1: Tour | G1: Tour2 | H1: Tour3 | I1: Surname | J1: FirstName | K1: Posn | L1: Rd1 | M1: Rd2 | N1: Rd3 | O1: Rd4 | P1: Rd5 | Q1: Total | R1: Field | S1: Field1 | T1: AdjRd1 | U1: AdjRd2 | V1: AdjRd3 | W1: AdjRd4 | X1: AdjRd5 | Y1: AdjAve | Z1: Rd1Pos | AA1: Rd2Pos | AB1: Rd3Pos | AC1: Rd4Pos | AD1: Rd5Pos | AE1: Rd1Lead | AF1: Rd2Lead | AG1: Rd3Lead | AH1: Rd4Lead | AI1: Rd5Lead | AJ1: Posn2
A2: =IF(J2="","",CONCATENATE(J2," ",I2)) -> A Lim Kim | B2: 45690 | C2: Tournament of Champions | D2: Lake Nona | E2: Florida | F2: LPGA | I2: Kim | J2: A Lim | K2: 1 | L2: 65 | M2: 69 | N2: 67 | O2: 67 | Q2: 268 | R2: 70.77 | S2: 70.77 | T2: 64.58 | U2: 68.18 | V2: 67.27 | W2: 67.89 | Y2: 66.98 | Z2: 1 | AA2: 1 | AB2: 1 | AC2: 1 | AE2: -4 | AF2: -3 | AG2: -3 | AH2: -2 | AJ2: 1
A3: =IF(J3="","",CONCATENATE(J3," ",I3)) -> Nelly Korda | B3: 45690 | C3: Tournament of Champions | D3: Lake Nona | E3: Florida | F3: LPGA | I3: Korda | J3: Nelly | K3: 2 | L3: 71 | M3: 67 | N3: 67 | O3: 65 | Q3: 270 | R3: 70.77 | S3: 70.77 | T3: 70.58 | U3: 66.18 | V3: 67.27 | W3: 65.89 | Y3: 67.48 | Z3: 14 | AA3: 3 | AB3: 3 | AC3: 2 | AE3: 6 | AF3: 4 | AG3: 4 | AH3: 2 | AJ3: 2
A4: =IF(J4="","",CONCATENATE(J4," ",I4)) -> Linn Grant | B4: 45690 | C4: Tournament of Champions | D4: Lake Nona | E4: Florida | F4: LPGA | I4: Grant | J4: Linn | K4: 3 | L4: 70 | M4: 67 | N4: 67 | O4: 69 | Q4: 273 | R4: 70.77 | S4: 70.77 | T4: 69.58 | U4: 66.18 | V4: 67.27 | W4: 69.89 | Y4: 68.23 | Z4: 4 | AA4: 2 | AB4: 2 | AC4: 3 | AE4: 5 | AF4: 3 | AG4: 3 | AH4: 5 | AJ4: 3
A5: =IF(J5="","",CONCATENATE(J5," ",I5)) -> Jin Young Ko | B5: 45690 | C5: Tournament of Champions | D5: Lake Nona | E5: Florida | F5: LPGA | I5: Ko | J5: Jin Young | K5: 4 | L5: 69 | M5: 70 | N5: 70 | O5: 65 | Q5: 274 | R5: 70.77 | S5: 70.77 | T5: 68.58 | U5: 69.18 | V5: 70.27 | W5: 65.89 | Y5: 68.48 | Z5: 2 | AA5: 6 | AB5: 6 | AC5: 4 | AE5: 4 | AF5: 5 | AG5: 8 | AH5: 6 | AJ5: 4
A6: =IF(J6="","",CONCATENATE(J6," ",I6)) -> Minjee Lee | B6: 45690 | C6: Tournament of Champions | D6: Lake Nona | E6: Florida | F6: LPGA | I6: Lee | J6: Minjee | K6: 4 | L6: 72 | M6: 70 | N6: 70 | O6: 62 | Q6: 274 | R6: 70.77 | S6: 70.77 | T6: 71.58 | U6: 69.18 | V6: 70.27 | W6: 62.9 | Y6: 68.48 | Z6: 17 | AA6: 15 | AB6: 12 | AC6: 4 | AE6: 7 | AF6: 8 | AG6: 11 | AH6: 6 | AJ6: 4
A7: =IF(J7="","",CONCATENATE(J7," ",I7)) -> Lydia Ko | B7: 45690 | C7: Tournament of Champions | D7: Lake Nona | E7: Florida | F7: LPGA | I7: Ko | J7: Lydia | K7: 6 | L7: 73 | M7: 67 | N7: 65 | O7: 70 | Q7: 275 | R7: 70.77 | S7: 70.77 | T7: 72.58 | U7: 66.18 | V7: 65.27 | W7: 70.89 | Y7: 68.73 | Z7: 28 | AA7: 7 | AB7: 3 | AC7: 6 | AE7: 8 | AF7: 6 | AG7: 4 | AH7: 7 | AJ7: 6
A8: =IF(J8="","",CONCATENATE(J8," ",I8)) -> Lauren Coughlin | B8: 45690 | C8: Tournament of Champions | D8: Lake Nona | E8: Florida | F8: LPGA | I8: Coughlin | J8: Lauren | K8: 7 | L8: 72 | M8: 68 | N8: 68 | O8: 68 | Q8: 276 | R8: 70.77 | S8: 70.77 | T8: 71.58 | U8: 67.18 | V8: 68.27 | W8: 68.89 | Y8: 68.98 | Z8: 17 | AA8: 7 | AB8: 5 | AC8: 7 | AE8: 7 | AF8: 6 | AG8: 7 | AH8: 8 | AJ8: 7
A9: =IF(J9="","",CONCATENATE(J9," ",I9)) -> Rio Takeda | B9: 45690 | C9: Tournament of Champions | D9: Lake Nona | E9: Florida | F9: LPGA | I9: Takeda | J9: Rio | K9: 8 | L9: 70 | M9: 68 | N9: 71 | O9: 68 | Q9: 277 | R9: 70.77 | S9: 70.77 | T9: 69.58 | U9: 67.18 | V9: 71.27 | W9: 68.89 | Y9: 69.23 | Z9: 4 | AA9: 3 | AB9: 6 | AC9: 8 | AE9: 5 | AF9: 4 | AG9: 8 | AH9: 9 | AJ9: 8
A10: =IF(J10="","",CONCATENATE(J10," ",I10)) -> Leona Maguire | B10: 45690 | C10: Tournament of Champions | D10: Lake Nona | E10: Florida | F10: LPGA | I10: Maguire | J10: Leona | K10: 9 | L10: 70 | M10: 68 | N10: 72 | O10: 68 | Q10: 278 | R10: 70.77 | S10: 70.77 | T10: 69.58 | U10: 67.18 | V10: 72.27 | W10: 68.89 | Y10: 69.48 | Z10: 4 | AA10: 3 | AB10: 8 | AC10: 9 | AE10: 5 | AF10: 4 | AG10: 9 | AH10: 10 | AJ10: 9
A11: =IF(J11="","",CONCATENATE(J11," ",I11)) -> Pajaree Anannarukarn | B11: 45690 | C11: Tournament of Champions | D11: Lake Nona | E11: Florida | F11: LPGA | I11: Anannarukarn | J11: Pajaree | K11: 10 | L11: 70 | M11: 71 | N11: 71 | O11: 68 | Q11: 280 | R11: 70.77 | S11: 70.77 | T11: 69.58 | U11: 70.18 | V11: 71.27 | W11: 68.89 | Y11: 69.98 | Z11: 4 | AA11: 9 | AB11: 12 | AC11: 10 | AE11: 5 | AF11: 7 | AG11: 11 | AH11: 12 | AJ11: 10
A12: =IF(J12="","",CONCATENATE(J12," ",I12)) -> Ashleigh Buhai | B12: 45690 | C12: Tournament of Champions | D12: Lake Nona | E12: Florida | F12: LPGA | I12: Buhai | J12: Ashleigh | K12: 10 | L12: 72 | M12: 72 | N12: 68 | O12: 68 | Q12: 280 | R12: 70.77 | S12: 70.77 | T12: 71.58 | U12: 71.18 | V12: 68.27 | W12: 68.89 | Y12: 69.98 | Z12: 17 | AA12: 19 | AB12: 12 | AC12: 10 | AE12: 7 | AF12: 10 | AG12: 11 | AH12: 12 | AJ12: 10
A13: =IF(J13="","",CONCATENATE(J13," ",I13)) -> Hyo Joo Kim | B13: 45690 | C13: Tournament of Champions | D13: Lake Nona | E13: Florida | F13: LPGA | I13: Kim | J13: Hyo Joo | K13: 10 | L13: 72 | M13: 69 | N13: 70 | O13: 69 | Q13: 280 | R13: 70.77 | S13: 70.77 | T13: 71.58 | U13: 68.18 | V13: 70.27 | W13: 69.89 | Y13: 69.98 | Z13: 17 | AA13: 9 | AB13: 10 | AC13: 10 | AE13: 7 | AF13: 7 | AG13: 10 | AH13: 12 | AJ13: 10
... A33: =IF(J33="","",CONCATENATE(J33," ",I33)) -> Chanettee Wannasaen | B33: 45690 | C33: Tournament of Champions | D33: Lake Nona | E33: Florida | F33: LPGA | I33: Wannasaen | J33: Chanettee | K33: 32 | L33: 74 | M33: 73 | N33: 78 | O33: 74 | Q33: 299 | R33: 70.77 | S33: 70.77 | T33: 73.58 | U33: 72.18 | V33: 78.27 | W33: 74.89 | Y33: 74.73 | Z33: 30 | AA33: 28 | AB33: 32 | AC33: 32 | AE33: 9 | AF33: 13 | AG33: 24 | AH33: 31 | AJ33: 32
A34: =IF(J34="","",CONCATENATE(J34," ",I34))
A35: =IF(J35="","",CONCATENATE(J35," ",I35))
A36: =IF(J36="","",CONCATENATE(J36," ",I36))
A37: =IF(J37="","",CONCATENATE(J37," ",I37))
A38: =IF(J38="","",CONCATENATE(J38," ",I38))
A39: =IF(J39="","",CONCATENATE(J39," ",I39))
A40: =IF(J40="","",CONCATENATE(J40," ",I40))
A41: =IF(J41="","",CONCATENATE(J41," ",I41))
A42: =IF(J42="","",CONCATENATE(J42," ",I42))
A43: =IF(J43="","",CONCATENATE(J43," ",I43))
A44: =IF(J44="","",CONCATENATE(J44," ",I44))
A45: =IF(J45="","",CONCATENATE(J45," ",I45))
... A757: =IF(J757="","",CONCATENATE(J757," ",I757))
A758: =IF(J758="","",CONCATENATE(J758," ",I758)) | AK758: MU | AL758: Tee1 | AM758: Time1 | AN758: Tee2 | AO758: Time2 | AP758: Tee3 | AQ758: Time3 | AR758: Tee4 | AS758: Time4 | AT758: Tee5 | AU758: Time5 | AV758: dd | AW758: dd_rank | AX758: da | AY758: da_rank | AZ758: gir | BA758: gir_rank | BB758: ppr | BC758: ppr_rank | BD758: ppgir | BE758: ppgir_rank | BF758: sc | BG758: sc_rank | BH758: ss | BI758: ss_rank | BJ758: tdr_rank | BK758: acc_rank | BL758: bst_rank | BM758: putt_rank | BN758: all_rank | BO758: Par3 | BP758: Par3_rank | BQ758: Par4 | BR758: Par4_rank | BS758: Par5 | BT758: Par5_rank | BU758: Eagles | BV758: Birdies | BW758: Pars | BX758: Bogeys | BY758: Other | BZ758: s | CA758: p3 | CB758: p4 | CC758: p5 | CD758: field_dd | CE758: field_da | CF758: field_gir | CG758: field_sc | CH758: field_pa | CI758: field_ppr | CJ758: field_ss | CK758: field_par3 | CL758: field_par4 | CM758: field_par5 | CN758: field1_dd | CO758: field1_da | CP758: field1_gir | CQ758: field1_sc | CR758: field1_pa | CS758: field1_ppr | CT758: field1_ss | CU758: field1_par3 | CV758: field1_par4 | CW758: field1_par5 | CX758: Eagles_rank | CY758: Birdies_rank | CZ758: Pars_rank | DA758: Bogeys_rank | DB758: Other_rank | DC758: dd(r1) | DD758: dd(r1)_rank | DE758: dd(r2) | DF758: dd(r2)_rank | DG758: dd(r3) | DH758: dd(r3)_rank | DI758: dd(r4) | DJ758: dd(r4)_rank | DK758: dd(r5) | DL758: dd(r5)_rank | DM758: da(r1) | DN758: da(r1)_rank | DO758: da(r2) | DP758: da(r2)_rank | DQ758: da(r3) | DR758: da(r3)_rank | DS758: da(r4) | DT758: da(r4)_rank | DU758: da(r5) | DV758: da(r5)_rank | DW758: gir(r1) | DX758: gir(r1)_rank | DY758: gir(r2) | DZ758: gir(r2)_rank | EA758: gir(r3) | EB758: gir(r3)_rank | EC758: gir(r4) | ED758: gir(r4)_rank | EE758: gir(r5) | EF758: gir(r5)_rank | EG758: ppr(r1) | EH758: ppr(r1)_rank | EI758: ppr(r2) | EJ758: ppr(r2)_rank | EK758: ppr(r3) | EL758: ppr(r3)_rank | EM758: ppr(r4) | EN758: ppr(r4)_rank | EO758: ppr(r5) | EP758: ppr(r5)_rank | EQ758: ppgir(r1) | ER758: ppgir(r1)_rank | ES758: ppgir(r2) | ET758: ppgir(r2)_rank | EU758: ppgir(r3) | EV758: ppgir(r3)_rank | EW758: ppgir(r4) | EX758: ppgir(r4)_rank | EY758: ppgir(r5) | EZ758: ppgir(r5)_rank | FA758: sc(r1) | FB758: sc(r1)_rank | FC758: sc(r2) | FD758: sc(r2)_rank | FE758: sc(r3) | FF758: sc(r3)_rank | FG758: sc(r4) | FH758: sc(r4)_rank | FI758: sc(r5) | FJ758: sc(r5)_rank | FK758: ss(r1) | FL758: ss(r1)_rank | FM758: ss(r2) | FN758: ss(r2)_rank | FO758: ss(r3) | FP758: ss(r3)_rank | FQ758: ss(r4) | FR758: ss(r4)_rank | FS758: ss(r5) | FT758: ss(r5)_rank | FU758: par3(r1) | FV758: par3(r1)_rank | FW758: par3(r2) | FX758: par3(r2)_rank | FY758: par3(r3) | FZ758: par3(r3)_rank | GA758: par3(r4) | GB758: par3(r4)_rank | GC758: par3(r5) | GD758: par3(r5)_rank | GE758: par4(r1) | GF758: par4(r1)_rank | GG758: par4(r2) | GH758: par4(r2)_rank | GI758: par4(r3) | GJ758: par4(r3)_rank | GK758: par4(r4) | GL758: par4(r4)_rank | GM758: par4(r5) | GN758: par4(r5)_rank | GO758: par5(r1) | GP758: par5(r1)_rank | GQ758: par5(r2) | GR758: par5(r2)_rank | GS758: par5(r3) | GT758: par5(r3)_rank | GU758: par5(r4) | GV758: par5(r4)_rank | GW758: par5(r5) | GX758: par5(r5)_rank | GY758: eagles(r1) | GZ758: eagles(r1)_rank | HA758: eagles(r2) | HB758: eagles(r2)_rank | HC758: eagles(r3) | HD758: eagles(r3)_rank | HE758: eagles(r4) | HF758: eagles(r4)_rank | HG758: eagles(r5) | HH758: eagles(r5)_rank | HI758: birdies(r1) | HJ758: birdies(r1)_rank | HK758: birdies(r2) | HL758: birdies(r2)_rank | HM758: birdies(r3) | HN758: birdies(r3)_rank | HO758: birdies(r4) | HP758: birdies(r4)_rank | HQ758: birdies(r5) | HR758: birdies(r5)_rank | HS758: pars(r1) | HT758: pars(r1)_rank | HU758: pars(r2) | HV758: pars(r2)_rank | HW758: pars(r3) | HX758: pars(r3)_rank | HY758: pars(r4) | HZ758: pars(r4)_rank | IA758: pars(r5) | IB758: pars(r5)_rank | IC758: bogeys(r1) | ID758: bogeys(r1)_rank | IE758: bogeys(r2) | IF758: bogeys(r2)_rank | IG758: bogeys(r3) | IH758: bogeys(r3)_rank | II758: bogeys(r4) | IJ758: bogeys(r4)_rank | IK758: bogeys(r5) | IL758: bogeys(r5)_rank | IM758: other(r1) | IN758: other(r1)_rank | IO758: other(r2) | IP758: other(r2)_rank | IQ758: other(r3) | IR758: other(r3)_rank | IS758: other(r4) | IT758: other(r4)_rank | IU758: other(r5) | IV758: other(r5)_rank
A759: =IF(J759="","",CONCATENATE(J759," ",I759)) | AK759: 1 | AL759: 1 | AM759: 0.45 | AN759: 1 | AO759: 0.43194444 | AP759: 1 | AQ759: 0.47569444 | AR759: 10 | AS759: 0.42638889 | AV759: 253 | AW759: 10 | AX759: 75 | AY759: 19 | AZ759: 77.78 | BA759: 2 | BB759: 28.5 | BC759: 4 | BD759: 1.7 | BE759: 10 | BF759: 75 | BG759: 1 | BH759: 66.67 | BI759: 9 | BJ759: 12 | BK759: 8 | BL759: 4 | BM759: 7 | BN759: 1 | BO759: 1 | BP759: 14 | BQ759: -7 | BR759: 1 | BS759: -8 | BT759: 1 | BU759: 1 | BV759: 16 | BW759: 51 | BX759: 6 | BY759: 0 | BZ759: 6 | CA759: 16 | CB759: 40 | CC759: 16 | CD759: 254.43 | CE759: 72.82 | CF759: 69.12 | CG759: 52.59 | CH759: 1.7 | CI759: 29.34 | CJ759: 49.06 | CK759: 3.01 | CL759: 4.02 | CM759: 4.72 | CN759: 254.45 | CO759: 72.33 | CP759: 68.98 | CQ759: 52.6 | CR759: 1.7 | CS759: 29.31 | CT759: 48.86 | CU759: 3.01 | CV759: 4.02 | CW759: 4.72 | CX759: 1 | CY759: 4 | CZ759: 6 | DA759: 32 | DB759: 20 | DC759: 256 | DD759: 5 | DE759: 252 | DF759: 12 | DG759: 244 | DH759: 15 | DI759: 260 | DJ759: 4 | DM759: 57.14 | DN759: 28 | DO759: 85.71 | DP759: 9 | DQ759: 85.71 | DR759: 6 | DS759: 71.43 | DT759: 16 | DW759: 66.67 | DX759: 21 | DY759: 94.44 | DZ759: 1 | EA759: 83.33 | EB759: 2 | EC759: 66.67 | ED759: 13 | EG759: 27 | EH759: 3 | EI759: 31 | EJ759: 20 | EK759: 28 | EL759: 7 | EM759: 28 | EN759: 5 | EQ759: 1.58 | ER759: 6 | ES759: 1.76 | ET759: 18 | EU759: 1.73 | EV759: 17 | EW759: 1.67 | EX759: 14 | FA759: 66.67 | FB759: 7 | FC759: 100 | FD759: 1 | FE759: 100 | FF759: 1 | FG759: 66.67 | FH759: 3 | FK759: 66.67 | FL759: 6 | FM759: 0 | FN759: 8 | FO759: 100 | FP759: 1 | FQ759: 100 | FR759: 1 | FU759: 2 | FV759: 33 | FW759: 0 | FX759: 9 | FY759: 0 | FZ759: 13 | GA759: -1 | GB759: 1 | GE759: -3 | GF759: 2 | GG759: -2 | GH759: 3 | GI759: -2 | GJ759: 4 | GK759: 0 | GL759: 6 | GO759: -2 | GP759: 5 | GQ759: -3 | GR759: 2 | GS759: -2 | GT759: 1 | GU759: -1 | GV759: 16 | GY759: 0 | GZ759: 1 | HA759: 1 | HB759: 1 | HC759: 0 | HD759: 3 | HE759: 0 | HF759: 4 | HI759: 5 | HJ759: 7 | HK759: 3 | HL759: 15 | HM759: 4 | HN759: 7 | HO759: 4 | HP759: 6 | HS759: 11 | HT759: 19 | HU759: 14 | HV759: 4 | HW759: 14 | HX759: 2 | HY759: 12 | HZ759: 9 | IC759: 2 | ID759: 17 | IE759: 0 | IF759: 34 | IG759: 0 | IH759: 32 | II759: 4 | IJ759: 6 | IM759: 0 | IN759: 7 | IO759: 0 | IP759: 5 | IQ759: 0 | IR759: 8 | IS759: 0 | IT759: 12
A760: =IF(J760="","",CONCATENATE(J760," ",I760)) | AK760: 2 | AL760: 10 | AM760: 0.37361111 | AN760: 1 | AO760: 0.39375 | AP760: 1 | AQ760: 0.46041667 | AR760: 10 | AS760: 0.43402778 | AV760: 255.25 | AW760: 5 | AX760: 60.71 | AY760: 32 | AZ760: 66.67 | BA760: 21 | BB760: 27.25 | BC760: 1 | BD760: 1.6 | BE760: 1 | BF760: 70.83 | BG760: 2 | BH760: 83.33 | BI760: 4 | BJ760: 20 | BK760: 28 | BL760: 23 | BM760: 1 | BN760: 5 | BO760: 1 | BP760: 14 | BQ760: -6 | BR760: 3 | BS760: -7 | BT760: 4 | BU760: 0 | BV760: 19 | BW760: 46 | BX760: 9 | BY760: 0 | BZ760: 6 | CA760: 16 | CB760: 40 | CC760: 16 | CD760: 254.43 | CE760: 72.82 | CF760: 69.12 | CG760: 52.59 | CH760: 1.7 | CI760: 29.34 | CJ760: 49.06 | CK760: 3.01 | CL760: 4.02 | CM760: 4.72 | CN760: 254.45 | CO760: 72.33 | CP760: 68.98 | CQ760: 52.6 | CR760: 1.7 | CS760: 29.31 | CT760: 48.86 | CU760: 3.01 | CV760: 4.02 | CW760: 4.72 | CX760: 9 | CY760: 1 | CZ760: 21 | DA760: 20 | DB760: 20 | DC760: 253 | DD760: 11 | DE760: 263 | DF760: 2 | DG760: 253 | DH760: 4 | DI760: 252 | DJ760: 10 | DM760: 50 | DN760: 31 | DO760: 64.29 | DP760: 27 | DQ760: 57.14 | DR760: 33 | DS760: 71.43 | DT760: 16 | DW760: 72.22 | DX760: 16 | DY760: 66.67 | DZ760: 21 | EA760: 55.56 | EB760: 30 | EC760: 72.22 | ED760: 6 | EG760: 27 | EH760: 3 | EI760: 28 | EJ760: 5 | EK760: 24 | EL760: 1 | EM760: 30 | EN760: 18 | EQ760: 1.62 | ER760: 10 | ES760: 1.58 | ET760: 5 | EU760: 1.5 | EV760: 1 | EW760: 1.69 | EX760: 16 | FA760: 60 | FB760: 10 | FC760: 50 | FD760: 15 | FE760: 100 | FF760: 1 | FG760: 60 | FH760: 6 | FK760: 100 | FL760: 1 | FM760: 50 | FN760: 6 | FO760: 100 | FP760: 1 | FQ760: 100 | FR760: 1 | FU760: -1 | FV760: 5 | FW760: 1 | FX760: 18 | FY760: 0 | FZ760: 13 | GA760: 1 | GB760: 15 | GE760: 0 | GF760: 16 | GG760: -1 | GH760: 7 | GI760: -3 | GJ760: 2 | GK760: -2 | GL760: 2 | GO760: -2 | GP760: 5 | GQ760: -2 | GR760: 5 | GS760: -2 | GT760: 1 | GU760: -1 | GV760: 16 | GY760: 0 | GZ760: 1 | HA760: 0 | HB760: 4 | HC760: 0 | HD760: 3 | HE760: 0 | HF760: 4 | HI760: 5 | HJ760: 7 | HK760: 5 | HL760: 3 | HM760: 5 | HN760: 2 | HO760: 4 | HP760: 6 | HS760: 11 | HT760: 19 | HU760: 10 | HV760: 29 | HW760: 13 | HX760: 7 | HY760: 12 | HZ760: 9 | IC760: 2 | ID760: 17 | IE760: 3 | IF760: 8 | IG760: 0 | IH760: 32 | II760: 4 | IJ760: 6 | IM760: 0 | IN760: 7 | IO760: 0 | IP760: 5 | IQ760: 0 | IR760: 8 | IS760: 0 | IT760: 12
A761: =IF(J761="","",CONCATENATE(J761," ",I761)) | AK761: 3 | AL761: 1 | AM761: 0.42708333 | AN761: 1 | AO761: 0.43194444 | AP761: 1 | AQ761: 0.46041667 | AR761: 10 | AS761: 0.39583333 | AV761: 252.5 | AW761: 11 | AX761: 76.79 | AY761: 15 | AZ761: 76.39 | BA761: 5 | BB761: 28.75 | BC761: 6 | BD761: 1.71 | BE761: 13 | BF761: 64.71 | BG761: 7 | BH761: 50 | BI761: 12 | BJ761: 5 | BK761: 7 | BL761: 4 | BM761: 10 | BN761: 3 | BO761: 1 | BP761: 14 | BQ761: -7 | BR761: 1 | BS761: -4 | BT761: 12 | BU761: 1 | BV761: 15 | BW761: 49 | BX761: 11 | BY761: 0 | BZ761: 2 | CA761: 16 | CB761: 40 | CC761: 16 | CD761: 254.43 | CE761: 72.82 | CF761: 69.12 | CG761: 52.59 | CH761: 1.7 | CI761: 29.34 | CJ761: 49.06 | CK761: 3.01 | CL761: 4.02 | CM761: 4.72 | CN761: 254.45 | CO761: 72.33 | CP761: 68.98 | CQ761: 52.6 | CR761: 1.7 | CS761: 29.31 | CT761: 48.86 | CU761: 3.01 | CV761: 4.02 | CW761: 4.72 | CX761: 1 | CY761: 8 | CZ761: 8 | DA761: 12 | DB761: 20 | DC761: 255 | DD761: 6 | DE761: 261 | DF761: 6 | DG761: 237 | DH761: 26 | DI761: 257 | DJ761: 7 | DM761: 64.29 | DN761: 20 | DO761: 78.57 | DP761: 13 | DQ761: 78.57 | DR761: 16 | DS761: 85.71 | DT761: 3 | DW761: 94.44 | DX761: 2 | DY761: 61.11 | DZ761: 28 | EA761: 77.78 | EB761: 5 | EC761: 72.22 | ED761: 6 | EG761: 32 | EH761: 27 | EI761: 26 | EJ761: 1 | EK761: 30 | EL761: 17 | EM761: 27 | EN761: 2 | EQ761: 1.71 | ER761: 17 | ES761: 1.55 | ET761: 3 | EU761: 1.86 | EV761: 31 | EW761: 1.69 | EX761: 16 | FA761: 0 | FB761: 29 | FC761: 57.14 | FD761: 13 | FE761: 50 | FF761: 15 | FG761: 100 | FH761: 1 | FO761: 0 | FP761: 19 | FQ761: 100 | FR761: 1 | FU761: 0 | FV761: 15 | FW761: 0 | FX761: 9 | FY761: 1 | FZ761: 24 | GA761: 0 | GB761: 8 | GE761: -2 | GF761: 4 | GG761: 0 | GH761: 17 | GI761: -3 | GJ761: 2 | GK761: -2 | GL761: 2 | GO761: -1 | GP761: 15 | GQ761: -2 | GR761: 5 | GS761: 1 | GT761: 28 | GU761: -2 | GV761: 3 | GY761: 0 | GZ761: 1 | HA761: 0 | HB761: 4 | HC761: 1 | HD761: 1 | HE761: 0 | HF761: 4 | HI761: 5 | HJ761: 7 | HK761: 5 | HL761: 3 | HM761: 1 | HN761: 31 | HO761: 4 | HP761: 6 | HS761: 11 | HT761: 19 | HU761: 10 | HV761: 29 | HW761: 14 | HX761: 2 | HY761: 14 | HZ761: 2 | IC761: 2 | ID761: 17 | IE761: 3 | IF761: 8 | IG761: 2 | IH761: 15 | II761: 4 | IJ761: 6 | IM761: 0 | IN761: 7 | IO761: 0 | IP761: 5 | IQ761: 0 | IR761: 8 | IS761: 0 | IT761: 12
A762: =IF(J762="","",CONCATENATE(J762," ",I762)) | AK762: 5 | AL762: 1 | AM762: 0.45 | AN762: 1 | AO762: 0.44722222 | AP762: 1 | AQ762: 0.42222222 | AR762: 10 | AS762: 0.43402778 | AV762: 254.25 | AW762: 8 | AX762: 64.29 | AY762: 29 | AZ762: 72.22 | BA762: 13 | BB762: 28.5 | BC762: 4 | BD762: 1.69 | BE762: 9 | BF762: 55 | BG762: 12 | BH762: 50 | BI762: 12 | BJ762: 20 | BK762: 25 | BL762: 15 | BM762: 5 | BN762: 9 | BO762: 1 | BP762: 14 | BQ762: -1 | BR762: 9 | BS762: -8 | BT762: 1 | BU762: 1 | BV762: 15 | BW762: 47 | BX762: 7 | BY762: 0 | BZ762: 4 | CA762: 16 | CB762: 40 | CC762: 16 | CD762: 254.43 | CE762: 72.82 | CF762: 69.12 | CG762: 52.59 | CH762: 1.7 | CI762: 29.34 | CJ762: 49.06 | CK762: 3.01 | CL762: 4.02 | CM762: 4.72 | CN762: 254.45 | CO762: 72.33 | CP762: 68.98 | CQ762: 52.6 | CR762: 1.7 | CS762: 29.31 | CT762: 48.86 | CU762: 3.01 | CV762: 4.02 | CW762: 4.72 | CX762: 1 | CY762: 8 | CZ762: 17 | DA762: 27 | DB762: 20 | DC762: 260 | DD762: 3 | DE762: 262 | DF762: 3 | DG762: 249 | DH762: 9 | DI762: 246 | DJ762: 16 | DM762: 64.29 | DN762: 20 | DO762: 71.43 | DP762: 23 | DQ762: 64.29 | DR762: 30 | DS762: 57.14 | DT762: 32 | DW762: 77.78 | DX762: 10 | DY762: 77.78 | DZ762: 6 | EA762: 66.67 | EB762: 20 | EC762: 66.67 | ED762: 13 | EG762: 28 | EH762: 8 | EI762: 29 | EJ762: 11 | EK762: 26 | EL762: 3 | EM762: 31 | EN762: 24 | EQ762: 1.64 | ER762: 14 | ES762: 1.79 | ET762: 19 | EU762: 1.58 | EV762: 3 | EW762: 1.75 | EX762: 21 | FA762: 75 | FB762: 2 | FC762: 25 | FD762: 26 | FE762: 83.33 | FF762: 4 | FG762: 33.33 | FH762: 21 | FK762: 100 | FL762: 1 | FM762: 0 | FN762: 8 | FO762: 100 | FP762: 1 | FQ762: 0 | FR762: 16 | FU762: 0 | FV762: 15 | FW762: 2 | FX762: 30 | FY762: 0 | FZ762: 13 | GA762: -1 | GB762: 1 | GE762: -2 | GF762: 4 | GG762: 0 | GH762: 17 | GI762: -2 | GJ762: 4 | GK762: 3 | GL762: 25 | GO762: -2 | GP762: 5 | GQ762: -2 | GR762: 5 | GS762: -2 | GT762: 1 | GU762: -2 | GV762: 3 | GY762: 0 | GZ762: 1 | HA762: 0 | HB762: 4 | HC762: 0 | HD762: 3 | HE762: 1 | HF762: 1 | HI762: 5 | HJ762: 7 | HK762: 3 | HL762: 15 | HM762: 5 | HN762: 2 | HO762: 2 | HP762: 24 | HS762: 12 | HT762: 9 | HU762: 12 | HV762: 16 | HW762: 12 | HX762: 16 | HY762: 11 | HZ762: 13 | IC762: 1 | ID762: 29 | IE762: 3 | IF762: 8 | IG762: 1 | IH762: 27 | II762: 2 | IJ762: 24 | IM762: 0 | IN762: 7 | IO762: 0 | IP762: 5 | IQ762: 0 | IR762: 8 | IS762: 0 | IT762: 12
A763: =IF(J763="","",CONCATENATE(J763," ",I763)) | AK763: 5 | AL763: 1 | AM763: 0.40416667 | AN763: 1 | AO763: 0.45486111 | AP763: 1 | AQ763: 0.47569444 | AR763: 10 | AS763: 0.41875 | AV763: 237.75 | AW763: 24 | AX763: 92.86 | AY763: 1 | AZ763: 75 | BA763: 7 | BB763: 29.5 | BC763: 14 | BD763: 1.74 | BE763: 22 | BF763: 66.67 | BG763: 5 | BH763: 50 | BI763: 12 | BJ763: 4 | BK763: 2 | BL763: 6 | BM763: 18 | BN763: 4 | BO763: 0 | BP763: 8 | BQ763: -4 | BR763: 4 | BS763: -4 | BT763: 12 | BU763: 0 | BV763: 14 | BW763: 52 | BX763: 7 | BY763: 0 | BZ763: 2 | CA763: 16 | CB763: 40 | CC763: 16 | CD763: 254.43 | CE763: 72.82 | CF763: 69.12 | CG763: 52.59 | CH763: 1.7 | CI763: 29.34 | CJ763: 49.06 | CK763: 3.01 | CL763: 4.02 | CM763: 4.72 | CN763: 254.45 | CO763: 72.33 | CP763: 68.98 | CQ763: 52.6 | CR763: 1.7 | CS763: 29.31 | CT763: 48.86 | CU763: 3.01 | CV763: 4.02 | CW763: 4.72 | CX763: 9 | CY763: 13 | CZ763: 4 | DA763: 27 | DB763: 20 | DC763: 232 | DD763: 29 | DE763: 238 | DF763: 26 | DG763: 240 | DH763: 21 | DI763: 241 | DJ763: 23 | DM763: 100 | DN763: 1 | DO763: 92.86 | DP763: 5 | DQ763: 92.86 | DR763: 2 | DS763: 85.71 | DT763: 3 | DW763: 94.44 | DX763: 2 | DY763: 61.11 | DZ763: 28 | EA763: 83.33 | EB763: 2 | EC763: 61.11 | ED763: 19 | EG763: 28 | EH763: 8 | EI763: 28 | EJ763: 5 | EK763: 34 | EL763: 35 | EM763: 28 | EN763: 5 | EQ763: 1.59 | ER763: 8 | ES763: 1.82 | ET763: 26 | EU763: 1.93 | EV763: 35 | EW763: 1.64 | EX763: 9 | FA763: 100 | FB763: 1 | FC763: 85.71 | FD763: 4 | FE763: 33.33 | FF763: 29 | FG763: 57.14 | FH763: 7 | FO763: 100 | FP763: 1 | FQ763: 0 | FR763: 16 | FU763: -2 | FV763: 1 | FW763: 1 | FX763: 18 | FY763: 0 | FZ763: 13 | GA763: 1 | GB763: 15 | GE763: -4 | GF763: 1 | GG763: -1 | GH763: 7 | GI763: 1 | GJ763: 27 | GK763: 0 | GL763: 6 | GO763: -1 | GP763: 15 | GQ763: -1 | GR763: 16 | GS763: 0 | GT763: 19 | GU763: -2 | GV763: 3 | GY763: 0 | GZ763: 1 | HA763: 0 | HB763: 4 | HC763: 0 | HD763: 3 | HE763: 0 | HF763: 4 | HI763: 7 | HJ763: 2 | HK763: 2 | HL763: 24 | HM763: 1 | HN763: 31 | HO763: 4 | HP763: 6 | HS763: 11 | HT763: 19 | HU763: 15 | HV763: 3 | HW763: 15 | HX763: 1 | HY763: 11 | HZ763: 13 | IC763: 0 | ID763: 34 | IE763: 1 | IF763: 26 | IG763: 2 | IH763: 15 | II763: 4 | IJ763: 6 | IM763: 0 | IN763: 7 | IO763: 0 | IP763: 5 | IQ763: 0 | IR763: 8 | IS763: 0 | IT763: 12
A764: =IF(J764="","",CONCATENATE(J764," ",I764)) | AK764: 5 | AL764: 1 | AM764: 0.46527778 | AN764: 1 | AO764: 0.38611111 | AP764: 1 | AQ764: 0.45277778 | AR764: 1 | AS764: 0.37291667 | AV764: 232.25 | AW764: 30 | AX764: 83.93 | AY764: 8 | AZ764: 73.61 | BA764: 10 | BB764: 29 | BC764: 9 | BD764: 1.68 | BE764: 7 | BF764: 52.63 | BG764: 13 | BH764: 50 | BI764: 12 | BJ764: 24 | BK764: 5 | BL764: 14 | BM764: 8 | BN764: 6 | BO764: 1 | BP764: 14 | BQ764: -1 | BR764: 9 | BS764: -8 | BT764: 1 | BU764: 0 | BV764: 17 | BW764: 46 | BX764: 12 | BY764: 0 | BZ764: 4 | CA764: 16 | CB764: 40 | CC764: 16 | CD764: 254.43 | CE764: 72.82 | CF764: 69.12 | CG764: 52.59 | CH764: 1.7 | CI764: 29.34 | CJ764: 49.06 | CK764: 3.01 | CL764: 4.02 | CM764: 4.72 | CN764: 254.45 | CO764: 72.33 | CP764: 68.98 | CQ764: 52.6 | CR764: 1.7 | CS764: 29.31 | CT764: 48.86 | CU764: 3.01 | CV764: 4.02 | CW764: 4.72 | CX764: 9 | CY764: 3 | CZ764: 21 | DA764: 10 | DB764: 20 | DC764: 227 | DD764: 34 | DE764: 230 | DF764: 32 | DG764: 239 | DH764: 22 | DI764: 233 | DJ764: 31 | DM764: 78.57 | DN764: 15 | DO764: 78.57 | DP764: 13 | DQ764: 92.86 | DR764: 2 | DS764: 85.71 | DT764: 3 | DW764: 72.22 | DX764: 16 | DY764: 66.67 | DZ764: 21 | EA764: 77.78 | EB764: 5 | EC764: 77.78 | ED764: 3 | EG764: 29 | EH764: 15 | EI764: 28 | EJ764: 5 | EK764: 31 | EL764: 23 | EM764: 28 | EN764: 5 | EQ764: 1.69 | ER764: 16 | ES764: 1.58 | ET764: 5 | EU764: 1.79 | EV764: 23 | EW764: 1.64 | EX764: 12 | FA764: 60 | FB764: 10 | FC764: 50 | FD764: 15 | FE764: 50 | FF764: 15 | FG764: 50 | FH764: 9 | FK764: 50 | FL764: 7 | FQ764: 50 | FR764: 8 | FU764: -2 | FV764: 1 | FW764: 2 | FX764: 30 | FY764: 0 | FZ764: 13 | GA764: 1 | GB764: 15 | GE764: 2 | GF764: 25 | GG764: -1 | GH764: 7 | GI764: 0 | GJ764: 19 | GK764: -2 | GL764: 2 | GO764: -2 | GP764: 5 | GQ764: -3 | GR764: 2 | GS764: -1 | GT764: 9 | GU764: -2 | GV764: 3 | GY764: 0 | GZ764: 1 | HA764: 0 | HB764: 4 | HC764: 0 | HD764: 3 | HE764: 0 | HF764: 4 | HI764: 4 | HJ764: 13 | HK764: 5 | HL764: 3 | HM764: 3 | HN764: 18 | HO764: 5 | HP764: 2 | HS764: 12 | HT764: 9 | HU764: 10 | HV764: 29 | HW764: 13 | HX764: 7 | HY764: 11 | HZ764: 13 | IC764: 2 | ID764: 17 | IE764: 3 | IF764: 8 | IG764: 2 | IH764: 15 | II764: 5 | IJ764: 2 | IM764: 0 | IN764: 7 | IO764: 0 | IP764: 5 | IQ764: 0 | IR764: 8 | IS764: 0 | IT764: 12
A765: =IF(J765="","",CONCATENATE(J765," ",I765)) | AK765: 7.5 | AL765: 1 | AM765: 0.39652778 | AN765: 10 | AO765: 0.40902778 | AP765: 1 | AQ765: 0.4375 | AR765: 10 | AS765: 0.41111111 | AV765: 258 | AW765: 2 | AX765: 76.79 | AY765: 17 | AZ765: 76.39 | BA765: 5 | BB765: 30 | BC765: 20 | BD765: 1.71 | BE765: 13 | BF765: 58.82 | BG765: 8 | BH765: 50 | BI765: 12 | BJ765: 1 | BK765: 10 | BL765: 2 | BM765: 16 | BN765: 2 | BO765: 3 | BP765: 26 | BQ765: -3 | BR765: 6 | BS765: -7 | BT765: 4 | BU765: 0 | BV765: 16 | BW765: 48 | BX765: 8 | BY765: 1 | BZ765: 2 | CA765: 16 | CB765: 40 | CC765: 16 | CD765: 254.43 | CE765: 72.82 | CF765: 69.12 | CG765: 52.59 | CH765: 1.7 | CI765: 29.34 | CJ765: 49.06 | CK765: 3.01 | CL765: 4.02 | CM765: 4.72 | CN765: 254.45 | CO765: 72.33 | CP765: 68.98 | CQ765: 52.6 | CR765: 1.7 | CS765: 29.31 | CT765: 48.86 | CU765: 3.01 | CV765: 4.02 | CW765: 4.72 | CX765: 9 | CY765: 4 | CZ765: 12 | DA765: 23 | DB765: 8 | DC765: 254 | DD765: 8 | DE765: 262 | DF765: 3 | DG765: 268 | DH765: 1 | DI765: 248 | DJ765: 12 | DM765: 50 | DN765: 31 | DO765: 78.57 | DP765: 13 | DQ765: 100 | DR765: 1 | DS765: 78.57 | DT765: 10 | DW765: 61.11 | DX765: 26 | DY765: 77.78 | DZ765: 6 | EA765: 77.78 | EB765: 5 | EC765: 88.89 | ED765: 1 | EG765: 31 | EH765: 23 | EI765: 26 | EJ765: 1 | EK765: 30 | EL765: 17 | EM765: 33 | EN765: 30 | EQ765: 1.82 | ER765: 29 | ES765: 1.57 | ET765: 4 | EU765: 1.71 | EV765: 13 | EW765: 1.75 | EX765: 21 | FA765: 57.14 | FB765: 13 | FC765: 100 | FD765: 1 | FE765: 50 | FF765: 15 | FG765: 0 | FH765: 33 | FK765: 50 | FL765: 7 | FU765: 3 | FV765: 34 | FW765: -1 | FX765: 2 | FY765: 1 | FZ765: 24 | GA765: 0 | GB765: 8 | GE765: -1 | GF765: 9 | GG765: -1 | GH765: 7 | GI765: -2 | GJ765: 4 | GK765: 1 | GL765: 13 | GO765: 0 | GP765: 24 | GQ765: -4 | GR765: 1 | GS765: -1 | GT765: 9 | GU765: -2 | GV765: 3 | GY765: 0 | GZ765: 1 | HA765: 0 | HB765: 4 | HC765: 0 | HD765: 3 | HE765: 0 | HF765: 4 | HI765: 2 | HJ765: 28 | HK765: 6 | HL765: 2 | HM765: 4 | HN765: 7 | HO765: 4 | HP765: 6 | HS765: 13 | HT765: 6 | HU765: 12 | HV765: 16 | HW765: 12 | HX765: 16 | HY765: 11 | HZ765: 13 | IC765: 2 | ID765: 17 | IE765: 0 | IF765: 34 | IG765: 2 | IH765: 15 | II765: 4 | IJ765: 6 | IM765: 1 | IN765: 2 | IO765: 0 | IP765: 5 | IQ765: 0 | IR765: 8 | IS765: 0 | IT765: 12
A766: =IF(J766="","",CONCATENATE(J766," ",I766)) | AK766: 7.5 | AL766: 1 | AM766: 0.38888889 | AN766: 1 | AO766: 0.40902778 | AP766: 1 | AQ766: 0.44513889 | AR766: 10 | AS766: 0.40347222 | AV766: 243.25 | AW766: 18 | AX766: 89.29 | AY766: 3 | AZ766: 81.94 | BA766: 1 | BB766: 31 | BC766: 28 | BD766: 1.76 | BE766: 27 | BF766: 46.15 | BG766: 21 | BJ766: 2 | BK766: 1 | BL766: 1 | BM766: 29 | BN766: 8 | BO766: -3 | BP766: 2 | BQ766: -1 | BR766: 9 | BS766: -3 | BT766: 20 | BU766: 1 | BV766: 13 | BW766: 51 | BX766: 5 | BY766: 1 | BZ766: 0 | CA766: 16 | CB766: 40 | CC766: 16 | CD766: 254.43 | CE766: 72.82 | CF766: 69.12 | CG766: 52.59 | CH766: 1.7 | CI766: 29.34 | CJ766: 49.06 | CK766: 3.01 | CL766: 4.02 | CM766: 4.72 | CN766: 254.45 | CO766: 72.33 | CP766: 68.98 | CQ766: 52.6 | CR766: 1.7 | CS766: 29.31 | CT766: 48.86 | CU766: 3.01 | CV766: 4.02 | CW766: 4.72 | CX766: 1 | CY766: 21 | CZ766: 6 | DA766: 34 | DB766: 8 | DC766: 237 | DD766: 22 | DE766: 245 | DF766: 20 | DG766: 244 | DH766: 15 | DI766: 247 | DJ766: 13 | DM766: 92.86 | DN766: 3 | DO766: 85.71 | DP766: 9 | DQ766: 85.71 | DR766: 6 | DS766: 92.86 | DT766: 1 | DW766: 83.33 | DX766: 6 | DY766: 83.33 | DZ766: 3 | EA766: 77.78 | EB766: 5 | EC766: 83.33 | ED766: 2 | EG766: 30 | EH766: 18 | EI766: 33 | EJ766: 30 | EK766: 28 | EL766: 7 | EM766: 33 | EN766: 30 | EQ766: 1.67 | ER766: 15 | ES766: 1.8 | ET766: 24 | EU766: 1.71 | EV766: 13 | EW766: 1.87 | EX766: 29 | FA766: 33.33 | FB766: 23 | FC766: 33.33 | FD766: 24 | FE766: 75 | FF766: 6 | FG766: 33.33 | FH766: 21 | FU766: -2 | FV766: 1 | FW766: -1 | FX766: 2 | FY766: -1 | FZ766: 4 | GA766: 1 | GB766: 15 | GE766: -2 | GF766: 4 | GG766: 0 | GH766: 17 | GI766: 1 | GJ766: 27 | GK766: 0 | GL766: 6 | GO766: 1 | GP766: 32 | GQ766: 0 | GR766: 19 | GS766: -2 | GT766: 1 | GU766: -2 | GV766: 3 | GY766: 0 | GZ766: 1 | HA766: 0 | HB766: 4 | HC766: 0 | HD766: 3 | HE766: 1 | HF766: 1 | HI766: 5 | HJ766: 7 | HK766: 3 | HL766: 15 | HM766: 4 | HN766: 7 | HO766: 1 | HP766: 28 | HS766: 11 | HT766: 19 | HU766: 13 | HV766: 10 | HW766: 13 | HX766: 7 | HY766: 14 | HZ766: 2 | IC766: 2 | ID766: 17 | IE766: 2 | IF766: 18 | IG766: 0 | IH766: 32 | II766: 1 | IJ766: 28 | IM766: 0 | IN766: 7 | IO766: 0 | IP766: 5 | IQ766: 1 | IR766: 2 | IS766: 0 | IT766: 12
A767: =IF(J767="","",CONCATENATE(J767," ",I767)) | AK767: 9.5 | AL767: 10 | AM767: 0.41180556 | AN767: 1 | AO767: 0.34027778 | AP767: 1 | AQ767: 0.41458333 | AR767: 1 | AS767: 0.38055556 | AV767: 232 | AW767: 31 | AX767: 89.29 | AY767: 2 | AZ767: 75 | BA767: 7 | BB767: 30 | BC767: 20 | BD767: 1.72 | BE767: 20 | BF767: 50 | BG767: 15 | BH767: 60 | BI767: 10 | BJ767: 16 | BK767: 3 | BL767: 9 | BM767: 20 | BN767: 12 | BO767: -2 | BP767: 4 | BQ767: 0 | BR767: 14 | BS767: -4 | BT767: 12 | BU767: 0 | BV767: 15 | BW767: 48 | BX767: 10 | BY767: 0 | BZ767: 5 | CA767: 16 | CB767: 40 | CC767: 16 | CD767: 254.43 | CE767: 72.82 | CF767: 69.12 | CG767: 52.59 | CH767: 1.7 | CI767: 29.34 | CJ767: 49.06 | CK767: 3.01 | CL767: 4.02 | CM767: 4.72 | CN767: 254.45 | CO767: 72.33 | CP767: 68.98 | CQ767: 52.6 | CR767: 1.7 | CS767: 29.31 | CT767: 48.86 | CU767: 3.01 | CV767: 4.02 | CW767: 4.72 | CX767: 9 | CY767: 8 | CZ767: 12 | DA767: 17 | DB767: 20 | DC767: 231 | DD767: 30 | DE767: 224 | DF767: 35 | DG767: 241 | DH767: 20 | DI767: 232 | DJ767: 33 | DM767: 85.71 | DN767: 8 | DO767: 92.86 | DP767: 5 | DQ767: 92.86 | DR767: 2 | DS767: 85.71 | DT767: 3 | DW767: 72.22 | DX767: 16 | DY767: 77.78 | DZ767: 6 | EA767: 77.78 | EB767: 5 | EC767: 72.22 | ED767: 6 | EG767: 30 | EH767: 18 | EI767: 30 | EJ767: 16 | EK767: 30 | EL767: 17 | EM767: 30 | EN767: 18 | EQ767: 1.77 | ER767: 23 | ES767: 1.71 | ET767: 14 | EU767: 1.79 | EV767: 23 | EW767: 1.62 | EX767: 6 | FA767: 60 | FB767: 10 | FC767: 50 | FD767: 15 | FE767: 75 | FF767: 6 | FG767: 20 | FH767: 28 | FK767: 100 | FL767: 1 | FQ767: 33.33 | FR767: 14 | FU767: -1 | FV767: 5 | FW767: 0 | FX767: 9 | FY767: -1 | FZ767: 4 | GA767: 0 | GB767: 8 | GE767: 1 | GF767: 23 | GG767: 0 | GH767: 17 | GI767: 0 | GJ767: 19 | GK767: -1 | GL767: 5 | GO767: -1 | GP767: 15 | GQ767: -2 | GR767: 5 | GS767: -1 | GT767: 9 | GU767: 0 | GV767: 25 | GY767: 0 | GZ767: 1 | HA767: 0 | HB767: 4 | HC767: 0 | HD767: 3 | HE767: 0 | HF767: 4 | HI767: 3 | HJ767: 20 | HK767: 4 | HL767: 10 | HM767: 3 | HN767: 18 | HO767: 5 | HP767: 2 | HS767: 13 | HT767: 6 | HU767: 12 | HV767: 16 | HW767: 14 | HX767: 2 | HY767: 9 | HZ767: 26 | IC767: 2 | ID767: 17 | IE767: 2 | IF767: 18 | IG767: 1 | IH767: 27 | II767: 5 | IJ767: 2 | IM767: 0 | IN767: 7 | IO767: 0 | IP767: 5 | IQ767: 0 | IR767: 8 | IS767: 0 | IT767: 12
A768: =IF(J768="","",CONCATENATE(J768," ",I768)) | AK768: 9.5 | AL768: 10 | AM768: 0.36597222 | AN768: 1 | AO768: 0.37083333 | AP768: 1 | AQ768: 0.46805556 | AR768: 10 | AS768: 0.42638889 | AV768: 233.5 | AW768: 28 | AX768: 87.5 | AY768: 4 | AZ768: 73.61 | BA768: 10 | BB768: 29.25 | BC768: 13 | BD768: 1.72 | BE768: 18 | BF768: 52.63 | BG768: 13 | BH768: 50 | BI768: 12 | BJ768: 14 | BK768: 4 | BL768: 10 | BM768: 15 | BN768: 10 | BO768: 0 | BP768: 8 | BQ768: -1 | BR768: 9 | BS768: -5 | BT768: 7 | BU768: 0 | BV768: 15 | BW768: 48 | BX768: 8 | BY768: 0 | BZ768: 4 | CA768: 16 | CB768: 40 | CC768: 16 | CD768: 254.43 | CE768: 72.82 | CF768: 69.12 | CG768: 52.59 | CH768: 1.7 | CI768: 29.34 | CJ768: 49.06 | CK768: 3.01 | CL768: 4.02 | CM768: 4.72 | CN768: 254.45 | CO768: 72.33 | CP768: 68.98 | CQ768: 52.6 | CR768: 1.7 | CS768: 29.31 | CT768: 48.86 | CU768: 3.01 | CV768: 4.02 | CW768: 4.72 | CX768: 9 | CY768: 8 | CZ768: 12 | DA768: 23 | DB768: 20 | DC768: 233 | DD768: 27 | DE768: 237 | DF768: 29 | DG768: 231 | DH768: 29 | DI768: 233 | DJ768: 31 | DM768: 85.71 | DN768: 8 | DO768: 100 | DP768: 1 | DQ768: 92.86 | DR768: 2 | DS768: 71.43 | DT768: 16 | DW768: 61.11 | DX768: 26 | DY768: 83.33 | DZ768: 3 | EA768: 77.78 | EB768: 5 | EC768: 72.22 | ED768: 6 | EG768: 26 | EH768: 1 | EI768: 29 | EJ768: 11 | EK768: 31 | EL768: 23 | EM768: 31 | EN768: 24 | EQ768: 1.64 | ER768: 12 | ES768: 1.67 | ET768: 9 | EU768: 1.71 | EV768: 13 | EW768: 1.85 | EX768: 28 | FA768: 71.43 | FB768: 6 | FC768: 66.67 | FD768: 8 | FE768: 25 | FF768: 33 | FG768: 40 | FH768: 18 | FK768: 0 | FL768: 12 | FM768: 0 | FN768: 8 | FO768: 100 | FP768: 1 | FU768: 0 | FV768: 15 | FW768: 0 | FX768: 9 | FY768: 0 | FZ768: 13 | GA768: 0 | GB768: 8 | GE768: -2 | GF768: 4 | GG768: -2 | GH768: 3 | GI768: 1 | GJ768: 27 | GK768: 2 | GL768: 18 | GO768: 0 | GP768: 24 | GQ768: -2 | GR768: 5 | GS768: -2 | GT768: 1 | GU768: -1 | GV768: 16 | GY768: 0 | GZ768: 1 | HA768: 0 | HB768: 4 | HC768: 0 | HD768: 3 | HE768: 0 | HF768: 4 | HI768: 4 | HJ768: 13 | HK768: 5 | HL768: 3 | HM768: 4 | HN768: 7 | HO768: 2 | HP768: 24 | HS768: 12 | HT768: 9 | HU768: 12 | HV768: 16 | HW768: 11 | HX768: 28 | HY768: 13 | HZ768: 4 | IC768: 2 | ID768: 17 | IE768: 1 | IF768: 26 | IG768: 3 | IH768: 6 | II768: 2 | IJ768: 24 | IM768: 0 | IN768: 7 | IO768: 0 | IP768: 5 | IQ768: 0 | IR768: 8 | IS768: 0 | IT768: 12
A769: =IF(J769="","",CONCATENATE(J769," ",I769)) | AK769: 11 | AL769: 1 | AM769: 0.35833333 | AN769: 1 | AO769: 0.36319444 | AP769: 1 | AQ769: 0.39166667 | AR769: 1 | AS769: 0.38819444 | AV769: 240.75 | AW769: 21 | AX769: 82.14 | AY769: 11 | AZ769: 72.22 | BA769: 13 | BB769: 29.75 | BC769: 17 | BD769: 1.77 | BE769: 29 | BF769: 65 | BG769: 6 | BH769: 100 | BI769: 1 | BJ769: 14 | BK769: 11 | BL769: 12 | BM769: 24 | BN769: 15 | BO769: 0 | BP769: 8 | BQ769: -2 | BR769: 7 | BS769: -3 | BT769: 20 | BU769: 0 | BV769: 12 | BW769: 53 | BX769: 7 | BY769: 0 | BZ769: 1 | CA769: 16 | CB769: 40 | CC769: 16 | CD769: 254.43 | CE769: 72.82 | CF769: 69.12 | CG769: 52.59 | CH769: 1.7 | CI769: 29.34 | CJ769: 49.06 | CK769: 3.01 | CL769: 4.02 | CM769: 4.72 | CN769: 254.45 | CO769: 72.33 | CP769: 68.98 | CQ769: 52.6 | CR769: 1.7 | CS769: 29.31 | CT769: 48.86 | CU769: 3.01 | CV769: 4.02 | CW769: 4.72 | CX769: 9 | CY769: 23 | CZ769: 3 | DA769: 27 | DB769: 20 | DC769: 235 | DD769: 23 | DE769: 246 | DF769: 17 | DG769: 239 | DH769: 22 | DI769: 243 | DJ769: 21 | DM769: 85.71 | DN769: 8 | DO769: 78.57 | DP769: 13 | DQ769: 85.71 | DR769: 6 | DS769: 78.57 | DT769: 10 | DW769: 77.78 | DX769: 10 | DY769: 66.67 | DZ769: 21 | EA769: 88.89 | EB769: 1 | EC769: 55.56 | ED769: 25 | EG769: 31 | EH769: 23 | EI769: 29 | EJ769: 11 | EK769: 31 | EL769: 23 | EM769: 28 | EN769: 5 | EQ769: 1.79 | ER769: 24 | ES769: 1.83 | ET769: 27 | EU769: 1.75 | EV769: 18 | EW769: 1.7 | EX769: 18 | FA769: 75 | FB769: 2 | FC769: 66.67 | FD769: 8 | FE769: 50 | FF769: 15 | FG769: 62.5 | FH769: 5 | FM769: 100 | FN769: 1 | FU769: -1 | FV769: 5 | FW769: 0 | FX769: 9 | FY769: -1 | FZ769: 4 | GA769: 2 | GB769: 27 | GE769: 0 | GF769: 16 | GG769: 0 | GH769: 17 | GI769: -2 | GJ769: 4 | GK769: 0 | GL769: 6 | GO769: -1 | GP769: 15 | GQ769: 0 | GR769: 19 | GS769: 0 | GT769: 19 | GU769: -2 | GV769: 3 | GY769: 0 | GZ769: 1 | HA769: 0 | HB769: 4 | HC769: 0 | HD769: 3 | HE769: 0 | HF769: 4 | HI769: 3 | HJ769: 20 | HK769: 2 | HL769: 24 | HM769: 4 | HN769: 7 | HO769: 3 | HP769: 15 | HS769: 14 | HT769: 3 | HU769: 14 | HV769: 4 | HW769: 13 | HX769: 7 | HY769: 12 | HZ769: 9 | IC769: 1 | ID769: 29 | IE769: 2 | IF769: 18 | IG769: 1 | IH769: 27 | II769: 3 | IJ769: 15 | IM769: 0 | IN769: 7 | IO769: 0 | IP769: 5 | IQ769: 0 | IR769: 8 | IS769: 0 | IT769: 12
A770: =IF(J770="","",CONCATENATE(J770," ",I770)) | AK770: 13.5 | AL770: 10 | AM770: 0.35069444 | AN770: 10 | AO770: 0.41666667 | AP770: 10 | AQ770: 0.39930556 | AR770: 1 | AS770: 0.36527778 | AV770: 257.5 | AW770: 3 | AX770: 60.71 | AY770: 32 | AZ770: 61.11 | BA770: 30 | BB770: 27.75 | BC770: 2 | BD770: 1.68 | BE770: 8 | BF770: 67.86 | BG770: 4 | BH770: 40 | BI770: 20 | BJ770: 18 | BK770: 33 | BL770: 28 | BM770: 3 | BN770: 13 | BO770: -2 | BP770: 4 | BQ770: 2 | BR770: 20 | BS770: -4 | BT770: 12 | BU770: 0 | BV770: 14 | BW770: 49 | BX770: 10 | BY770: 1 | BZ770: 5 | CA770: 16 | CB770: 40 | CC770: 16 | CD770: 254.43 | CE770: 72.82 | CF770: 69.12 | CG770: 52.59 | CH770: 1.7 | CI770: 29.34 | CJ770: 49.06 | CK770: 3.01 | CL770: 4.02 | CM770: 4.72 | CN770: 254.45 | CO770: 72.33 | CP770: 68.98 | CQ770: 52.6 | CR770: 1.7 | CS770: 29.31 | CT770: 48.86 | CU770: 3.01 | CV770: 4.02 | CW770: 4.72 | CX770: 9 | CY770: 13 | CZ770: 8 | DA770: 17 | DB770: 8 | DC770: 251 | DD770: 14 | DE770: 266 | DF770: 1 | DG770: 251 | DH770: 5 | DI770: 262 | DJ770: 2 | DM770: 35.71 | DN770: 35 | DO770: 64.29 | DP770: 27 | DQ770: 71.43 | DR770: 23 | DS770: 71.43 | DT770: 16 | DW770: 38.89 | DX770: 35 | DY770: 55.56 | DZ770: 31 | EA770: 77.78 | EB770: 5 | EC770: 72.22 | ED770: 6 | EG770: 27 | EH770: 3 | EI770: 27 | EJ770: 3 | EK770: 28 | EL770: 7 | EM770: 29 | EN770: 12 | EQ770: 1.86 | ER770: 33 | ES770: 1.7 | ET770: 13 | EU770: 1.64 | EV770: 8 | EW770: 1.62 | EX770: 6 | FA770: 72.73 | FB770: 5 | FC770: 87.5 | FD770: 3 | FE770: 75 | FF770: 6 | FG770: 20 | FH770: 28 | FK770: 0 | FL770: 12 | FM770: 0 | FN770: 8 | FO770: 100 | FP770: 1 | FQ770: 100 | FR770: 1 | FU770: 0 | FV770: 15 | FW770: -1 | FX770: 2 | FY770: -1 | FZ770: 4 | GA770: 0 | GB770: 8 | GE770: 2 | GF770: 25 | GG770: 1 | GH770: 26 | GI770: -2 | GJ770: 4 | GK770: 1 | GL770: 13 | GO770: 0 | GP770: 24 | GQ770: -2 | GR770: 5 | GS770: -1 | GT770: 9 | GU770: -1 | GV770: 16 | GY770: 0 | GZ770: 1 | HA770: 0 | HB770: 4 | HC770: 0 | HD770: 3 | HE770: 0 | HF770: 4 | HI770: 1 | HJ770: 34 | HK770: 3 | HL770: 15 | HM770: 5 | HN770: 2 | HO770: 5 | HP770: 2 | HS770: 14 | HT770: 3 | HU770: 14 | HV770: 4 | HW770: 12 | HX770: 16 | HY770: 9 | HZ770: 26 | IC770: 3 | ID770: 10 | IE770: 1 | IF770: 26 | IG770: 1 | IH770: 27 | II770: 5 | IJ770: 2 | IM770: 0 | IN770: 7 | IO770: 0 | IP770: 5 | IQ770: 0 | IR770: 8 | IS770: 1 | IT770: 3
...

Sheet Record
A1: Win | D1: FRL | G1: Top3: Win | J1: Top3: FRL | N1: WIN | O1: Rank | P1: Player | Q1: P/L | R1: E/W Play | U1: FRL | V1: Rank | W1: Player | X1: P/L | Y1: E/W Play
A2: Stakes | B2: Profit | D2: Stakes | E2: Profit | G2: Stakes | H2: Profit | J2: Stakes | K2: Profit | O2: 1 | P2: =IFERROR(OFFSET(Picks!A$1,MATCH($O2,Picks!$F:$F,0)-1,0),"") -> Linn Grant | Q2: =IFERROR(OFFSET(Picks!I$1,MATCH($O2,Picks!$F:$F,0)-1,0),"") -> 4.5 | R2: =IFERROR(OFFSET(Picks!J$1,MATCH($O2,Picks!$F:$F,0)-1,0),"") -> Spreadex: 22/1, 4pl, 1/4 | V2: 1 | W2: =IFERROR(OFFSET(Picks!M$1,MATCH($O2,Picks!$R:$R,0)-1,0),"") -> Pajaree Anannarukarn | X2: =IFERROR(OFFSET(Picks!U$1,MATCH($O2,Picks!$R:$R,0)-1,0),"") -> 0.7 | Y2: =IFERROR(OFFSET(Picks!V$1,MATCH($O2,Picks!$R:$R,0)-1,0),"") -> Ladbrokes: 50/1, 5pl, 1/4
A3: {=IF(100*SUMPRODUCT((Win!F:F<>"") * IFERROR(--Win!E:E, 0))=0,"",100*SUMPRODUCT((Win!F:F<>"") * IFERROR(--Win!E:E, 0)))} -> 3.7 | B3: =IF(AND(A3="",SUM(Win!G:G)=0),"",SUM(Win!G:G)) -> -0.45 | D3: {=IF(100*SUMPRODUCT((FRL!F:F<>"") * IFERROR(--FRL!E:E, 0))=0,"",100*SUMPRODUCT((FRL!F:F<>"") * IFERROR(--FRL!E:E, 0)))} -> 0.5 | E3: =IF(AND(D3="",SUM(FRL!G:G)=0),"",SUM(FRL!G:G)) -> 0.175 | G3: =IF(T3Picks!B2="","",2*(3-COUNTBLANK(T3Picks!A2:A4))) -> 6 | H3: =IF(T3Picks!B2="","",SUM(T3Picks!G2:G4)) -> 0.5 | J3: =IF(T3Picks!B5="","",2*(3-COUNTBLANK(T3Picks!A5:A7))) -> 6 | K3: =IF(T3Picks!B5="","",SUM(T3Picks!G5:G7)) -> 2.1 | O3: 2 | P3: =IFERROR(OFFSET(Picks!A$1,MATCH($O3,Picks!$F:$F,0)-1,0),"") -> Allisen Corpuz | Q3: =IFERROR(OFFSET(Picks!I$1,MATCH($O3,Picks!$F:$F,0)-1,0),"") -> -2 | R3: =IFERROR(OFFSET(Picks!J$1,MATCH($O3,Picks!$F:$F,0)-1,0),"") -> Bet365: 45/1, 4pl, 1/4 | V3: 2 | W3: =IFERROR(OFFSET(Picks!M$1,MATCH($O3,Picks!$R:$R,0)-1,0),"") | X3: =IFERROR(OFFSET(Picks!U$1,MATCH($O3,Picks!$R:$R,0)-1,0),"") | Y3: =IFERROR(OFFSET(Picks!V$1,MATCH($O3,Picks!$R:$R,0)-1,0),"")
O4: 3 | P4: =IFERROR(OFFSET(Picks!A$1,MATCH($O4,Picks!$F:$F,0)-1,0),"") -> Pajaree Anannarukarn | Q4: =IFERROR(OFFSET(Picks!I$1,MATCH($O4,Picks!$F:$F,0)-1,0),"") -> -2 | R4: =IFERROR(OFFSET(Picks!J$1,MATCH($O4,Picks!$F:$F,0)-1,0),"") -> Ladbrokes: 90/1, 4pl, 1/4 | V4: 3 | W4: =IFERROR(OFFSET(Picks!M$1,MATCH($O4,Picks!$R:$R,0)-1,0),"") | X4: =IFERROR(OFFSET(Picks!U$1,MATCH($O4,Picks!$R:$R,0)-1,0),"") | Y4: =IFERROR(OFFSET(Picks!V$1,MATCH($O4,Picks!$R:$R,0)-1,0),"")
O5: 4 | P5: =IFERROR(OFFSET(Picks!A$1,MATCH($O5,Picks!$F:$F,0)-1,0),"") -> Lauren Coughlin | Q5: =IFERROR(OFFSET(Picks!I$1,MATCH($O5,Picks!$F:$F,0)-1,0),"") -> -2 | R5: =IFERROR(OFFSET(Picks!J$1,MATCH($O5,Picks!$F:$F,0)-1,0),"") -> Ladbrokes: 40/1, 4pl, 1/4 | V5: 4 | W5: =IFERROR(OFFSET(Picks!M$1,MATCH($O5,Picks!$R:$R,0)-1,0),"") | X5: =IFERROR(OFFSET(Picks!U$1,MATCH($O5,Picks!$R:$R,0)-1,0),"") | Y5: =IFERROR(OFFSET(Picks!V$1,MATCH($O5,Picks!$R:$R,0)-1,0),"")
O6: 5 | P6: =IFERROR(OFFSET(Picks!A$1,MATCH($O6,Picks!$F:$F,0)-1,0),"") -> Jasmine Suwannapura | Q6: =IFERROR(OFFSET(Picks!I$1,MATCH($O6,Picks!$F:$F,0)-1,0),"") -> -2 | R6: =IFERROR(OFFSET(Picks!J$1,MATCH($O6,Picks!$F:$F,0)-1,0),"") -> Spreadex: 175/1, 4pl, 1/4 | V6: 5 | W6: =IFERROR(OFFSET(Picks!M$1,MATCH($O6,Picks!$R:$R,0)-1,0),"") | X6: =IFERROR(OFFSET(Picks!U$1,MATCH($O6,Picks!$R:$R,0)-1,0),"") | Y6: =IFERROR(OFFSET(Picks!V$1,MATCH($O6,Picks!$R:$R,0)-1,0),"")
O7: 6 | P7: =IFERROR(OFFSET(Picks!A$1,MATCH($O7,Picks!$F:$F,0)-1,0),"") -> Linnea Strom | Q7: =IFERROR(OFFSET(Picks!I$1,MATCH($O7,Picks!$F:$F,0)-1,0),"") -> -2 | R7: =IFERROR(OFFSET(Picks!J$1,MATCH($O7,Picks!$F:$F,0)-1,0),"") -> Bet365: 350/1, 4pl, 1/4 | V7: 6 | W7: =IFERROR(OFFSET(Picks!M$1,MATCH($O7,Picks!$R:$R,0)-1,0),"") | X7: =IFERROR(OFFSET(Picks!U$1,MATCH($O7,Picks!$R:$R,0)-1,0),"") | Y7: =IFERROR(OFFSET(Picks!V$1,MATCH($O7,Picks!$R:$R,0)-1,0),"")
O8: 7 | P8: =IFERROR(OFFSET(Picks!A$1,MATCH($O8,Picks!$F:$F,0)-1,0),"") -> Celine Boutier | Q8: =IFERROR(OFFSET(Picks!I$1,MATCH($O8,Picks!$F:$F,0)-1,0),"") -> -2 | R8: =IFERROR(OFFSET(Picks!J$1,MATCH($O8,Picks!$F:$F,0)-1,0),"") -> Skybet: 14/1, 4pl, 1/4 | V8: 7 | W8: =IFERROR(OFFSET(Picks!M$1,MATCH($O8,Picks!$R:$R,0)-1,0),"") | X8: =IFERROR(OFFSET(Picks!U$1,MATCH($O8,Picks!$R:$R,0)-1,0),"") | Y8: =IFERROR(OFFSET(Picks!V$1,MATCH($O8,Picks!$R:$R,0)-1,0),"")
O9: 8 | P9: =IFERROR(OFFSET(Picks!A$1,MATCH($O9,Picks!$F:$F,0)-1,0),"") -> Hannah Green | Q9: =IFERROR(OFFSET(Picks!I$1,MATCH($O9,Picks!$F:$F,0)-1,0),"") -> -2 | R9: =IFERROR(OFFSET(Picks!J$1,MATCH($O9,Picks!$F:$F,0)-1,0),"") -> Bet365: 25/1, 4pl, 1/4 | V9: 8 | W9: =IFERROR(OFFSET(Picks!M$1,MATCH($O9,Picks!$R:$R,0)-1,0),"") | X9: =IFERROR(OFFSET(Picks!U$1,MATCH($O9,Picks!$R:$R,0)-1,0),"") | Y9: =IFERROR(OFFSET(Picks!V$1,MATCH($O9,Picks!$R:$R,0)-1,0),"")
O10: 9 | P10: =IFERROR(OFFSET(Picks!A$1,MATCH($O10,Picks!$F:$F,0)-1,0),"") -> Hyo Joo Kim | Q10: =IFERROR(OFFSET(Picks!I$1,MATCH($O10,Picks!$F:$F,0)-1,0),"") -> -2 | R10: =IFERROR(OFFSET(Picks!J$1,MATCH($O10,Picks!$F:$F,0)-1,0),"") -> Skybet: 40/1, 4pl, 1/4 | V10: 9 | W10: =IFERROR(OFFSET(Picks!M$1,MATCH($O10,Picks!$R:$R,0)-1,0),"") | X10: =IFERROR(OFFSET(Picks!U$1,MATCH($O10,Picks!$R:$R,0)-1,0),"") | Y10: =IFERROR(OFFSET(Picks!V$1,MATCH($O10,Picks!$R:$R,0)-1,0),"")
O11: 10 | P11: =IFERROR(OFFSET(Picks!A$1,MATCH($O11,Picks!$F:$F,0)-1,0),"") -> Amy Yang | Q11: =IFERROR(OFFSET(Picks!I$1,MATCH($O11,Picks!$F:$F,0)-1,0),"") -> -2 | R11: =IFERROR(OFFSET(Picks!J$1,MATCH($O11,Picks!$F:$F,0)-1,0),"") -> Spreadex: 50/1, 4pl, 1/4 | V11: 10 | W11: =IFERROR(OFFSET(Picks!M$1,MATCH($O11,Picks!$R:$R,0)-1,0),"") | X11: =IFERROR(OFFSET(Picks!U$1,MATCH($O11,Picks!$R:$R,0)-1,0),"") | Y11: =IFERROR(OFFSET(Picks!V$1,MATCH($O11,Picks!$R:$R,0)-1,0),"")
O12: 11 | P12: =IFERROR(OFFSET(Picks!A$1,MATCH($O12,Picks!$F:$F,0)-1,0),"") -> Chanettee Wannasaen | Q12: =IFERROR(OFFSET(Picks!I$1,MATCH($O12,Picks!$F:$F,0)-1,0),"") -> -2 | R12: =IFERROR(OFFSET(Picks!J$1,MATCH($O12,Picks!$F:$F,0)-1,0),"") -> Ladbrokes: 100/1, 4pl, 1/4 | V12: 11 | W12: =IFERROR(OFFSET(Picks!M$1,MATCH($O12,Picks!$R:$R,0)-1,0),"") | X12: =IFERROR(OFFSET(Picks!U$1,MATCH($O12,Picks!$R:$R,0)-1,0),"") | Y12: =IFERROR(OFFSET(Picks!V$1,MATCH($O12,Picks!$R:$R,0)-1,0),"")
O13: 12 | P13: =IFERROR(OFFSET(Picks!A$1,MATCH($O13,Picks!$F:$F,0)-1,0),"") -> Moriya Jutanugarn | Q13: =IFERROR(OFFSET(Picks!I$1,MATCH($O13,Picks!$F:$F,0)-1,0),"") -> -2 | R13: =IFERROR(OFFSET(Picks!J$1,MATCH($O13,Picks!$F:$F,0)-1,0),"") -> Skybet: 175/1, 4pl, 1/4 | V13: 12 | W13: =IFERROR(OFFSET(Picks!M$1,MATCH($O13,Picks!$R:$R,0)-1,0),"") | X13: =IFERROR(OFFSET(Picks!U$1,MATCH($O13,Picks!$R:$R,0)-1,0),"") | Y13: =IFERROR(OFFSET(Picks!V$1,MATCH($O13,Picks!$R:$R,0)-1,0),"")
A27: WIN | B27: 1 | C27: 2 | D27: 3 | E27: 4 | F27: 5 | G27: 6 | H27: 7 | I27: 8 | J27: 9 | K27: 10 | L27: 11 | M27: 12 | N27: FRL | O27: 1 | P27: 2 | Q27: 3 | R27: 4 | S27: 5 | T27: 6 | U27: 7 | V27: 8 | W27: 9 | X27: 10 | Y27: 11 | Z27: 12
B28: =Q2*3 -> 13.5 | C28: =SUM(Q2:Q3)*1.5 -> 3.75 | D28: =SUM(Q2:Q4) -> 0.5 | E28: =SUM(Q2:Q5)*3/4 -> -1.125 | F28: =SUM(Q2:Q6)*3/5 -> -2.1 | G28: =SUM(Q2:Q7)*3/6 -> -2.75 | H28: =SUM(Q2:Q8)*3/7 -> -3.2142857 | I28: =SUM(Q2:Q9)*3/8 -> -3.5625 | J28: =SUM(Q2:Q10)*3/9 -> -3.8333333 | K28: =SUM(Q2:Q11)*3/10 -> -4.05 | L28: =SUM(Q2:Q12)*3/11 -> -4.2272727 | M28: =SUM(Q2:Q13)*3/12 -> -4.375 | O28: =X2*3 -> 2.1 | P28: =SUM(X2:X3)*1.5 -> 1.05 | Q28: =SUM(X2:X4) -> 0.7 | R28: =SUM(X2:X5)*3/4 -> 0.525 | S28: =SUM(X2:X6)*3/5 -> 0.42 | T28: =SUM(X2:X7)*3/6 -> 0.35 | U28: =SUM(X2:X8)*3/7 -> 0.3 | V28: =SUM(X2:X9)*3/9 -> 0.23333333 | W28: =SUM(X2:X10)*3/9 -> 0.23333333 | X28: =SUM(X2:X11)*3/10 -> 0.21 | Y28: =SUM(X2:X12)*3/11 -> 0.19090909 | Z28: =SUM(X2:X13)*3/12 -> 0.175

Sheet Win
A1: Player | B1: Win % | C1: TT Odds | D1: Best Odds | E1: Kelly | F1: Result | G1: P/L | H1: E/W Play
A2: A Lim Kim | B2: 1.44% | C2: 69 | D2: 61 | F2: =IFERROR(IF(A2="","",OFFSET(Results!$AJ$1,MATCH(A2,Results!$A:$A,0)-1,0)),"") -> 1 | G2: =IF(OR(E2="",F2=""),"",IF(F2=1,(IF(COUNTIFS(F:F,"<="&F2)<=1,1,(1-COUNTIFS(F:F,"<"&F2))/COUNTIFS(F:F,F2)))*50*E2*(1+VALUE(MID(H2,FIND(": ",H2)+2,FIND("/",H2)-FIND(":",H2)-2))-1)+50*E2*(1+VALUE(MID(H2,FIND(": ",H2)+2,FIND("/",H2)-FIND(":",H2)-2))-1)/VALUE(RIGHT(H2,1)),IF(F2<=VALUE(MID(H2,FIND(", ",H2)+2,IF(MID(H2,FIND(", ",H2)+2,1)="1",2,1))),(IF(COUNTIFS(F:F,"<="&F2)<=VALUE(MID(H2,FIND(", ",H2)+2,IF(MID(H2,FIND(", ",H2)+2,1)="1",2,1))),1,(VALUE(MID(H2,FIND(", ",H2)+2,IF(MID(H2,FIND(", ",H2)+2,1)="1",2,1)))-COUNTIFS(F:F,"<"&F2))/COUNTIFS(F:F,F2)))*(50*E2*(1+VALUE(MID(H2,FIND(": ",H2)+2,FIND("/",H2)-FIND(":",H2)-2))-1)/VALUE(RIGHT(H2,1))+50*E2)-(100*E2),-E2*100)))
A3: Alexa Pano | B3: 0.59% | C3: 169 | D3: 101 | F3: =IFERROR(IF(A3="","",OFFSET(Results!$AJ$1,MATCH(A3,Results!$A:$A,0)-1,0)),"") -> 27 | G3: =IF(OR(E3="",F3=""),"",IF(F3=1,(IF(COUNTIFS(F:F,"<="&F3)<=1,1,(1-COUNTIFS(F:F,"<"&F3))/COUNTIFS(F:F,F3)))*50*E3*(1+VALUE(MID(H3,FIND(": ",H3)+2,FIND("/",H3)-FIND(":",H3)-2))-1)+50*E3*(1+VALUE(MID(H3,FIND(": ",H3)+2,FIND("/",H3)-FIND(":",H3)-2))-1)/VALUE(RIGHT(H3,1)),IF(F3<=VALUE(MID(H3,FIND(", ",H3)+2,IF(MID(H3,FIND(", ",H3)+2,1)="1",2,1))),(IF(COUNTIFS(F:F,"<="&F3)<=VALUE(MID(H3,FIND(", ",H3)+2,IF(MID(H3,FIND(", ",H3)+2,1)="1",2,1))),1,(VALUE(MID(H3,FIND(", ",H3)+2,IF(MID(H3,FIND(", ",H3)+2,1)="1",2,1)))-COUNTIFS(F:F,"<"&F3))/COUNTIFS(F:F,F3)))*(50*E3*(1+VALUE(MID(H3,FIND(": ",H3)+2,FIND("/",H3)-FIND(":",H3)-2))-1)/VALUE(RIGHT(H3,1))+50*E3)-(100*E3),-E3*100)))
A4: Allisen Corpuz | B4: 2.85% | C4: 35 | D4: 46 | E4: 0.70% | F4: =IFERROR(IF(A4="","",OFFSET(Results!$AJ$1,MATCH(A4,Results!$A:$A,0)-1,0)),"") -> 22 | G4: =IF(OR(E4="",F4=""),"",IF(F4=1,(IF(COUNTIFS(F:F,"<="&F4)<=1,1,(1-COUNTIFS(F:F,"<"&F4))/COUNTIFS(F:F,F4)))*50*E4*(1+VALUE(MID(H4,FIND(": ",H4)+2,FIND("/",H4)-FIND(":",H4)-2))-1)+50*E4*(1+VALUE(MID(H4,FIND(": ",H4)+2,FIND("/",H4)-FIND(":",H4)-2))-1)/VALUE(RIGHT(H4,1)),IF(F4<=VALUE(MID(H4,FIND(", ",H4)+2,IF(MID(H4,FIND(", ",H4)+2,1)="1",2,1))),(IF(COUNTIFS(F:F,"<="&F4)<=VALUE(MID(H4,FIND(", ",H4)+2,IF(MID(H4,FIND(", ",H4)+2,1)="1",2,1))),1,(VALUE(MID(H4,FIND(", ",H4)+2,IF(MID(H4,FIND(", ",H4)+2,1)="1",2,1)))-COUNTIFS(F:F,"<"&F4))/COUNTIFS(F:F,F4)))*(50*E4*(1+VALUE(MID(H4,FIND(": ",H4)+2,FIND("/",H4)-FIND(":",H4)-2))-1)/VALUE(RIGHT(H4,1))+50*E4)-(100*E4),-E4*100))) -> -0.7 | H4: Bet365: 45/1, 4pl, 1/4
A5: Amy Yang | B5: 2.10% | C5: 48 | D5: 51 | E5: 0.10% | F5: =IFERROR(IF(A5="","",OFFSET(Results!$AJ$1,MATCH(A5,Results!$A:$A,0)-1,0)),"") -> 22 | G5: =IF(OR(E5="",F5=""),"",IF(F5=1,(IF(COUNTIFS(F:F,"<="&F5)<=1,1,(1-COUNTIFS(F:F,"<"&F5))/COUNTIFS(F:F,F5)))*50*E5*(1+VALUE(MID(H5,FIND(": ",H5)+2,FIND("/",H5)-FIND(":",H5)-2))-1)+50*E5*(1+VALUE(MID(H5,FIND(": ",H5)+2,FIND("/",H5)-FIND(":",H5)-2))-1)/VALUE(RIGHT(H5,1)),IF(F5<=VALUE(MID(H5,FIND(", ",H5)+2,IF(MID(H5,FIND(", ",H5)+2,1)="1",2,1))),(IF(COUNTIFS(F:F,"<="&F5)<=VALUE(MID(H5,FIND(", ",H5)+2,IF(MID(H5,FIND(", ",H5)+2,1)="1",2,1))),1,(VALUE(MID(H5,FIND(", ",H5)+2,IF(MID(H5,FIND(", ",H5)+2,1)="1",2,1)))-COUNTIFS(F:F,"<"&F5))/COUNTIFS(F:F,F5)))*(50*E5*(1+VALUE(MID(H5,FIND(": ",H5)+2,FIND("/",H5)-FIND(":",H5)-2))-1)/VALUE(RIGHT(H5,1))+50*E5)-(100*E5),-E5*100))) -> -0.1 | H5: Spreadex: 50/1, 4pl, 1/4
A6: Angel Yin | B6: 3.20% | C6: 31 | D6: 31 | F6: =IFERROR(IF(A6="","",OFFSET(Results!$AJ$1,MATCH(A6,Results!$A:$A,0)-1,0)),"") -> 18 | G6: =IF(OR(E6="",F6=""),"",IF(F6=1,(IF(COUNTIFS(F:F,"<="&F6)<=1,1,(1-COUNTIFS(F:F,"<"&F6))/COUNTIFS(F:F,F6)))*50*E6*(1+VALUE(MID(H6,FIND(": ",H6)+2,FIND("/",H6)-FIND(":",H6)-2))-1)+50*E6*(1+VALUE(MID(H6,FIND(": ",H6)+2,FIND("/",H6)-FIND(":",H6)-2))-1)/VALUE(RIGHT(H6,1)),IF(F6<=VALUE(MID(H6,FIND(", ",H6)+2,IF(MID(H6,FIND(", ",H6)+2,1)="1",2,1))),(IF(COUNTIFS(F:F,"<="&F6)<=VALUE(MID(H6,FIND(", ",H6)+2,IF(MID(H6,FIND(", ",H6)+2,1)="1",2,1))),1,(VALUE(MID(H6,FIND(", ",H6)+2,IF(MID(H6,FIND(", ",H6)+2,1)="1",2,1)))-COUNTIFS(F:F,"<"&F6))/COUNTIFS(F:F,F6)))*(50*E6*(1+VALUE(MID(H6,FIND(": ",H6)+2,FIND("/",H6)-FIND(":",H6)-2))-1)/VALUE(RIGHT(H6,1))+50*E6)-(100*E6),-E6*100)))
A7: Ashleigh Buhai | B7: 1.31% | C7: 76 | D7: 51 | F7: =IFERROR(IF(A7="","",OFFSET(Results!$AJ$1,MATCH(A7,Results!$A:$A,0)-1,0)),"") -> 10 | G7: =IF(OR(E7="",F7=""),"",IF(F7=1,(IF(COUNTIFS(F:F,"<="&F7)<=1,1,(1-COUNTIFS(F:F,"<"&F7))/COUNTIFS(F:F,F7)))*50*E7*(1+VALUE(MID(H7,FIND(": ",H7)+2,FIND("/",H7)-FIND(":",H7)-2))-1)+50*E7*(1+VALUE(MID(H7,FIND(": ",H7)+2,FIND("/",H7)-FIND(":",H7)-2))-1)/VALUE(RIGHT(H7,1)),IF(F7<=VALUE(MID(H7,FIND(", ",H7)+2,IF(MID(H7,FIND(", ",H7)+2,1)="1",2,1))),(IF(COUNTIFS(F:F,"<="&F7)<=VALUE(MID(H7,FIND(", ",H7)+2,IF(MID(H7,FIND(", ",H7)+2,1)="1",2,1))),1,(VALUE(MID(H7,FIND(", ",H7)+2,IF(MID(H7,FIND(", ",H7)+2,1)="1",2,1)))-COUNTIFS(F:F,"<"&F7))/COUNTIFS(F:F,F7)))*(50*E7*(1+VALUE(MID(H7,FIND(": ",H7)+2,FIND("/",H7)-FIND(":",H7)-2))-1)/VALUE(RIGHT(H7,1))+50*E7)-(100*E7),-E7*100)))
A8: Ayaka Furue | B8: 5.54% | C8: 18 | D8: 15 | F8: =IFERROR(IF(A8="","",OFFSET(Results!$AJ$1,MATCH(A8,Results!$A:$A,0)-1,0)),"") -> 25 | G8: =IF(OR(E8="",F8=""),"",IF(F8=1,(IF(COUNTIFS(F:F,"<="&F8)<=1,1,(1-COUNTIFS(F:F,"<"&F8))/COUNTIFS(F:F,F8)))*50*E8*(1+VALUE(MID(H8,FIND(": ",H8)+2,FIND("/",H8)-FIND(":",H8)-2))-1)+50*E8*(1+VALUE(MID(H8,FIND(": ",H8)+2,FIND("/",H8)-FIND(":",H8)-2))-1)/VALUE(RIGHT(H8,1)),IF(F8<=VALUE(MID(H8,FIND(", ",H8)+2,IF(MID(H8,FIND(", ",H8)+2,1)="1",2,1))),(IF(COUNTIFS(F:F,"<="&F8)<=VALUE(MID(H8,FIND(", ",H8)+2,IF(MID(H8,FIND(", ",H8)+2,1)="1",2,1))),1,(VALUE(MID(H8,FIND(", ",H8)+2,IF(MID(H8,FIND(", ",H8)+2,1)="1",2,1)))-COUNTIFS(F:F,"<"&F8))/COUNTIFS(F:F,F8)))*(50*E8*(1+VALUE(MID(H8,FIND(": ",H8)+2,FIND("/",H8)-FIND(":",H8)-2))-1)/VALUE(RIGHT(H8,1))+50*E8)-(100*E8),-E8*100)))
A9: Bailey Tardy | B9: 0.52% | C9: 192 | D9: 151 | F9: =IFERROR(IF(A9="","",OFFSET(Results!$AJ$1,MATCH(A9,Results!$A:$A,0)-1,0)),"") -> 25 | G9: =IF(OR(E9="",F9=""),"",IF(F9=1,(IF(COUNTIFS(F:F,"<="&F9)<=1,1,(1-COUNTIFS(F:F,"<"&F9))/COUNTIFS(F:F,F9)))*50*E9*(1+VALUE(MID(H9,FIND(": ",H9)+2,FIND("/",H9)-FIND(":",H9)-2))-1)+50*E9*(1+VALUE(MID(H9,FIND(": ",H9)+2,FIND("/",H9)-FIND(":",H9)-2))-1)/VALUE(RIGHT(H9,1)),IF(F9<=VALUE(MID(H9,FIND(", ",H9)+2,IF(MID(H9,FIND(", ",H9)+2,1)="1",2,1))),(IF(COUNTIFS(F:F,"<="&F9)<=VALUE(MID(H9,FIND(", ",H9)+2,IF(MID(H9,FIND(", ",H9)+2,1)="1",2,1))),1,(VALUE(MID(H9,FIND(", ",H9)+2,IF(MID(H9,FIND(", ",H9)+2,1)="1",2,1)))-COUNTIFS(F:F,"<"&F9))/COUNTIFS(F:F,F9)))*(50*E9*(1+VALUE(MID(H9,FIND(": ",H9)+2,FIND("/",H9)-FIND(":",H9)-2))-1)/VALUE(RIGHT(H9,1))+50*E9)-(100*E9),-E9*100)))
A10: Brooke M. Henderson | B10: 4.64% | C10: 22 | D10: 19 | F10: =IFERROR(IF(A10="","",OFFSET(Results!$AJ$1,MATCH(A10,Results!$A:$A,0)-1,0)),"") -> 14 | G10: =IF(OR(E10="",F10=""),"",IF(F10=1,(IF(COUNTIFS(F:F,"<="&F10)<=1,1,(1-COUNTIFS(F:F,"<"&F10))/COUNTIFS(F:F,F10)))*50*E10*(1+VALUE(MID(H10,FIND(": ",H10)+2,FIND("/",H10)-FIND(":",H10)-2))-1)+50*E10*(1+VALUE(MID(H10,FIND(": ",H10)+2,FIND("/",H10)-FIND(":",H10)-2))-1)/VALUE(RIGHT(H10,1)),IF(F10<=VALUE(MID(H10,FIND(", ",H10)+2,IF(MID(H10,FIND(", ",H10)+2,1)="1",2,1))),(IF(COUNTIFS(F:F,"<="&F10)<=VALUE(MID(H10,FIND(", ",H10)+2,IF(MID(H10,FIND(", ",H10)+2,1)="1",2,1))),1,(VALUE(MID(H10,FIND(", ",H10)+2,IF(MID(H10,FIND(", ",H10)+2,1)="1",2,1)))-COUNTIFS(F:F,"<"&F10))/COUNTIFS(F:F,F10)))*(50*E10*(1+VALUE(MID(H10,FIND(": ",H10)+2,FIND("/",H10)-FIND(":",H10)-2))-1)/VALUE(RIGHT(H10,1))+50*E10)-(100*E10),-E10*100)))
A11: Celine Boutier | B11: 6.78% | C11: 15 | D11: 15 | E11: 0.10% | F11: =IFERROR(IF(A11="","",OFFSET(Results!$AJ$1,MATCH(A11,Results!$A:$A,0)-1,0)),"") -> 14 | G11: =IF(OR(E11="",F11=""),"",IF(F11=1,(IF(COUNTIFS(F:F,"<="&F11)<=1,1,(1-COUNTIFS(F:F,"<"&F11))/COUNTIFS(F:F,F11)))*50*E11*(1+VALUE(MID(H11,FIND(": ",H11)+2,FIND("/",H11)-FIND(":",H11)-2))-1)+50*E11*(1+VALUE(MID(H11,FIND(": ",H11)+2,FIND("/",H11)-FIND(":",H11)-2))-1)/VALUE(RIGHT(H11,1)),IF(F11<=VALUE(MID(H11,FIND(", ",H11)+2,IF(MID(H11,FIND(", ",H11)+2,1)="1",2,1))),(IF(COUNTIFS(F:F,"<="&F11)<=VALUE(MID(H11,FIND(", ",H11)+2,IF(MID(H11,FIND(", ",H11)+2,1)="1",2,1))),1,(VALUE(MID(H11,FIND(", ",H11)+2,IF(MID(H11,FIND(", ",H11)+2,1)="1",2,1)))-COUNTIFS(F:F,"<"&F11))/COUNTIFS(F:F,F11)))*(50*E11*(1+VALUE(MID(H11,FIND(": ",H11)+2,FIND("/",H11)-FIND(":",H11)-2))-1)/VALUE(RIGHT(H11,1))+50*E11)-(100*E11),-E11*100))) -> -0.1 | H11: Skybet: 14/1, 4pl, 1/4
A12: Chanettee Wannasaen | B12: 1.13% | C12: 88 | D12: 101 | E12: 0.10% | F12: =IFERROR(IF(A12="","",OFFSET(Results!$AJ$1,MATCH(A12,Results!$A:$A,0)-1,0)),"") -> 32 | G12: =IF(OR(E12="",F12=""),"",IF(F12=1,(IF(COUNTIFS(F:F,"<="&F12)<=1,1,(1-COUNTIFS(F:F,"<"&F12))/COUNTIFS(F:F,F12)))*50*E12*(1+VALUE(MID(H12,FIND(": ",H12)+2,FIND("/",H12)-FIND(":",H12)-2))-1)+50*E12*(1+VALUE(MID(H12,FIND(": ",H12)+2,FIND("/",H12)-FIND(":",H12)-2))-1)/VALUE(RIGHT(H12,1)),IF(F12<=VALUE(MID(H12,FIND(", ",H12)+2,IF(MID(H12,FIND(", ",H12)+2,1)="1",2,1))),(IF(COUNTIFS(F:F,"<="&F12)<=VALUE(MID(H12,FIND(", ",H12)+2,IF(MID(H12,FIND(", ",H12)+2,1)="1",2,1))),1,(VALUE(MID(H12,FIND(", ",H12)+2,IF(MID(H12,FIND(", ",H12)+2,1)="1",2,1)))-COUNTIFS(F:F,"<"&F12))/COUNTIFS(F:F,F12)))*(50*E12*(1+VALUE(MID(H12,FIND(": ",H12)+2,FIND("/",H12)-FIND(":",H12)-2))-1)/VALUE(RIGHT(H12,1))+50*E12)-(100*E12),-E12*100))) -> -0.1 | H12: Ladbrokes: 100/1, 4pl, 1/4
A13: Cheyenne Knight | B13: 0.71% | C13: 141 | D13: 101 | F13: =IFERROR(IF(A13="","",OFFSET(Results!$AJ$1,MATCH(A13,Results!$A:$A,0)-1,0)),"") -> 22 | G13: =IF(OR(E13="",F13=""),"",IF(F13=1,(IF(COUNTIFS(F:F,"<="&F13)<=1,1,(1-COUNTIFS(F:F,"<"&F13))/COUNTIFS(F:F,F13)))*50*E13*(1+VALUE(MID(H13,FIND(": ",H13)+2,FIND("/",H13)-FIND(":",H13)-2))-1)+50*E13*(1+VALUE(MID(H13,FIND(": ",H13)+2,FIND("/",H13)-FIND(":",H13)-2))-1)/VALUE(RIGHT(H13,1)),IF(F13<=VALUE(MID(H13,FIND(", ",H13)+2,IF(MID(H13,FIND(", ",H13)+2,1)="1",2,1))),(IF(COUNTIFS(F:F,"<="&F13)<=VALUE(MID(H13,FIND(", ",H13)+2,IF(MID(H13,FIND(", ",H13)+2,1)="1",2,1))),1,(VALUE(MID(H13,FIND(", ",H13)+2,IF(MID(H13,FIND(", ",H13)+2,1)="1",2,1)))-COUNTIFS(F:F,"<"&F13))/COUNTIFS(F:F,F13)))*(50*E13*(1+VALUE(MID(H13,FIND(": ",H13)+2,FIND("/",H13)-FIND(":",H13)-2))-1)/VALUE(RIGHT(H13,1))+50*E13)-(100*E13),-E13*100)))
A14: Elizabeth Szokol | B14: 0.36% | C14: 278 | D14: 401 | E14: 0.10% | F14: =IFERROR(IF(A14="","",OFFSET(Results!$AJ$1,MATCH(A14,Results!$A:$A,0)-1,0)),"") -> 14 | G14: =IF(OR(E14="",F14=""),"",IF(F14=1,(IF(COUNTIFS(F:F,"<="&F14)<=1,1,(1-COUNTIFS(F:F,"<"&F14))/COUNTIFS(F:F,F14)))*50*E14*(1+VALUE(MID(H14,FIND(": ",H14)+2,FIND("/",H14)-FIND(":",H14)-2))-1)+50*E14*(1+VALUE(MID(H14,FIND(": ",H14)+2,FIND("/",H14)-FIND(":",H14)-2))-1)/VALUE(RIGHT(H14,1)),IF(F14<=VALUE(MID(H14,FIND(", ",H14)+2,IF(MID(H14,FIND(", ",H14)+2,1)="1",2,1))),(IF(COUNTIFS(F:F,"<="&F14)<=VALUE(MID(H14,FIND(", ",H14)+2,IF(MID(H14,FIND(", ",H14)+2,1)="1",2,1))),1,(VALUE(MID(H14,FIND(", ",H14)+2,IF(MID(H14,FIND(", ",H14)+2,1)="1",2,1)))-COUNTIFS(F:F,"<"&F14))/COUNTIFS(F:F,F14)))*(50*E14*(1+VALUE(MID(H14,FIND(": ",H14)+2,FIND("/",H14)-FIND(":",H14)-2))-1)/VALUE(RIGHT(H14,1))+50*E14)-(100*E14),-E14*100))) -> -0.1 | H14: Spreadex: 400/1, 4pl, 1/4
A15: Haeran Ryu | B15: 6.91% | C15: 14 | D15: 12 | F15: =IFERROR(IF(A15="","",OFFSET(Results!$AJ$1,MATCH(A15,Results!$A:$A,0)-1,0)),"") -> 14 | G15: =IF(OR(E15="",F15=""),"",IF(F15=1,(IF(COUNTIFS(F:F,"<="&F15)<=1,1,(1-COUNTIFS(F:F,"<"&F15))/COUNTIFS(F:F,F15)))*50*E15*(1+VALUE(MID(H15,FIND(": ",H15)+2,FIND("/",H15)-FIND(":",H15)-2))-1)+50*E15*(1+VALUE(MID(H15,FIND(": ",H15)+2,FIND("/",H15)-FIND(":",H15)-2))-1)/VALUE(RIGHT(H15,1)),IF(F15<=VALUE(MID(H15,FIND(", ",H15)+2,IF(MID(H15,FIND(", ",H15)+2,1)="1",2,1))),(IF(COUNTIFS(F:F,"<="&F15)<=VALUE(MID(H15,FIND(", ",H15)+2,IF(MID(H15,FIND(", ",H15)+2,1)="1",2,1))),1,(VALUE(MID(H15,FIND(", ",H15)+2,IF(MID(H15,FIND(", ",H15)+2,1)="1",2,1)))-COUNTIFS(F:F,"<"&F15))/COUNTIFS(F:F,F15)))*(50*E15*(1+VALUE(MID(H15,FIND(": ",H15)+2,FIND("/",H15)-FIND(":",H15)-2))-1)/VALUE(RIGHT(H15,1))+50*E15)-(100*E15),-E15*100)))
A16: Hannah Green | B16: 3.97% | C16: 25 | D16: 26 | E16: 0.10% | F16: =IFERROR(IF(A16="","",OFFSET(Results!$AJ$1,MATCH(A16,Results!$A:$A,0)-1,0)),"") -> 20 | G16: =IF(OR(E16="",F16=""),"",IF(F16=1,(IF(COUNTIFS(F:F,"<="&F16)<=1,1,(1-COUNTIFS(F:F,"<"&F16))/COUNTIFS(F:F,F16)))*50*E16*(1+VALUE(MID(H16,FIND(": ",H16)+2,FIND("/",H16)-FIND(":",H16)-2))-1)+50*E16*(1+VALUE(MID(H16,FIND(": ",H16)+2,FIND("/",H16)-FIND(":",H16)-2))-1)/VALUE(RIGHT(H16,1)),IF(F16<=VALUE(MID(H16,FIND(", ",H16)+2,IF(MID(H16,FIND(", ",H16)+2,1)="1",2,1))),(IF(COUNTIFS(F:F,"<="&F16)<=VALUE(MID(H16,FIND(", ",H16)+2,IF(MID(H16,FIND(", ",H16)+2,1)="1",2,1))),1,(VALUE(MID(H16,FIND(", ",H16)+2,IF(MID(H16,FIND(", ",H16)+2,1)="1",2,1)))-COUNTIFS(F:F,"<"&F16))/COUNTIFS(F:F,F16)))*(50*E16*(1+VALUE(MID(H16,FIND(": ",H16)+2,FIND("/",H16)-FIND(":",H16)-2))-1)/VALUE(RIGHT(H16,1))+50*E16)-(100*E16),-E16*100))) -> -0.1 | H16: Bet365: 25/1, 4pl, 1/4
