Workbook

Sheet Results
A1: PLAYER | B1: Date | C1: Event | D1: Course | E1: Location | F1: Tour | G1: Tour2 | H1: Tour3 | I1: Surname | J1: FirstName | K1: Posn | L1: Rd1 | M1: Rd2 | N1: Rd3 | O1: Rd4 | P1: Rd5 | Q1: Total | R1: Field | S1: Field1 | T1: AdjRd1 | U1: AdjRd2 | V1: AdjRd3 | W1: AdjRd4 | X1: AdjRd5 | Y1: AdjAve | Z1: Rd1Pos | AA1: Rd2Pos | AB1: Rd3Pos | AC1: Rd4Pos | AD1: Rd5Pos | AE1: Rd1Lead | AF1: Rd2Lead | AG1: Rd3Lead | AH1: Rd4Lead | AI1: Rd5Lead | AJ1: Posn2
A2: =IF(J2="","",CONCATENATE(J2," ",I2)) -> A Lim Kim | B2: 45690 | C2: Tournament of Champions | D2: Lake Nona | E2: Florida | F2: LPGA | I2: Kim | J2: A Lim | K2: 1 | L2: 65 | M2: 69 | N2: 67 | O2: 67 | Q2: 268 | R2: 70.77 | S2: 70.77 | T2: 64.58 | U2: 68.18 | V2: 67.27 | W2: 67.89 | Y2: 66.98 | Z2: 1 | AA2: 1 | AB2: 1 | AC2: 1 | AE2: -4 | AF2: -3 | AG2: -3 | AH2: -2 | AJ2: 1
A3: =IF(J3="","",CONCATENATE(J3," ",I3)) -> Nelly Korda | B3: 45690 | C3: Tournament of Champions | D3: Lake Nona | E3: Florida | F3: LPGA | I3: Korda | J3: Nelly | K3: 2 | L3: 71 | M3: 67 | N3: 67 | O3: 65 | Q3: 270 | R3: 70.77 | S3: 70.77 | T3: 70.58 | U3: 66.18 | V3: 67.27 | W3: 65.89 | Y3: 67.48 | Z3: 14 | AA3: 3 | AB3: 3 | AC3: 2 | AE3: 6 | AF3: 4 | AG3: 4 | AH3: 2 | AJ3: 2
A4: =IF(J4="","",CONCATENATE(J4," ",I4)) -> Linn Grant | B4: 45690 | C4: Tournament of Champions | D4: Lake Nona | E4: Florida | F4: LPGA | I4: Grant | J4: Linn | K4: 3 | L4: 70 | M4: 67 | N4: 67 | O4: 69 | Q4: 273 | R4: 70.77 | S4: 70.77 | T4: 69.58 | U4: 66.18 | V4: 67.27 | W4: 69.89 | Y4: 68.23 | Z4: 4 | AA4: 2 | AB4: 2 | AC4: 3 | AE4: 5 | AF4: 3 | AG4: 3 | AH4: 5 | AJ4: 3
A5: =IF(J5="","",CONCATENATE(J5," ",I5)) -> Jin Young Ko | B5: 45690 | C5: Tournament of Champions | D5: Lake Nona | E5: Florida | F5: LPGA | I5: Ko | J5: Jin Young | K5: 4 | L5: 69 | M5: 70 | N5: 70 | O5: 65 | Q5: 274 | R5: 70.77 | S5: 70.77 | T5: 68.58 | U5: 69.18 | V5: 70.27 | W5: 65.89 | Y5: 68.48 | Z5: 2 | AA5: 6 | AB5: 6 | AC5: 4 | AE5: 4 | AF5: 5 | AG5: 8 | AH5: 6 | AJ5: 4
A6: =IF(J6="","",CONCATENATE(J6," ",I6)) -> Minjee Lee | B6: 45690 | C6: Tournament of Champions | D6: Lake Nona | E6: Florida | F6: LPGA | I6: Lee | J6: Minjee | K6: 4 | L6: 72 | M6: 70 | N6: 70 | O6: 62 | Q6: 274 | R6: 70.77 | S6: 70.77 | T6: 71.58 | U6: 69.18 | V6: 70.27 | W6: 62.9 | Y6: 68.48 | Z6: 17 | AA6: 15 | AB6: 12 | AC6: 4 | AE6: 7 | AF6: 8 | AG6: 11 | AH6: 6 | AJ6: 4
A7: =IF(J7="","",CONCATENATE(J7," ",I7)) -> Lydia Ko | B7: 45690 | C7: Tournament of Champions | D7: Lake Nona | E7: Florida | F7: LPGA | I7: Ko | J7: Lydia | K7: 6 | L7: 73 | M7: 67 | N7: 65 | O7: 70 | Q7: 275 | R7: 70.77 | S7: 70.77 | T7: 72.58 | U7: 66.18 | V7: 65.27 | W7: 70.89 | Y7: 68.73 | Z7: 28 | AA7: 7 | AB7: 3 | AC7: 6 | AE7: 8 | AF7: 6 | AG7: 4 | AH7: 7 | AJ7: 6
A8: =IF(J8="","",CONCATENATE(J8," ",I8)) -> Lauren Coughlin | B8: 45690 | C8: Tournament of Champions | D8: Lake Nona | E8: Florida | F8: LPGA | I8: Coughlin | J8: Lauren | K8: 7 | L8: 72 | M8: 68 | N8: 68 | O8: 68 | Q8: 276 | R8: 70.77 | S8: 70.77 | T8: 71.58 | U8: 67.18 | V8: 68.27 | W8: 68.89 | Y8: 68.98 | Z8: 17 | AA8: 7 | AB8: 5 | AC8: 7 | AE8: 7 | AF8: 6 | AG8: 7 | AH8: 8 | AJ8: 7
A9: =IF(J9="","",CONCATENATE(J9," ",I9)) -> Rio Takeda | B9: 45690 | C9: Tournament of Champions | D9: Lake Nona | E9: Florida | F9: LPGA | I9: Takeda | J9: Rio | K9: 8 | L9: 70 | M9: 68 | N9: 71 | O9: 68 | Q9: 277 | R9: 70.77 | S9: 70.77 | T9: 69.58 | U9: 67.18 | V9: 71.27 | W9: 68.89 | Y9: 69.23 | Z9: 4 | AA9: 3 | AB9: 6 | AC9: 8 | AE9: 5 | AF9: 4 | AG9: 8 | AH9: 9 | AJ9: 8
A10: =IF(J10="","",CONCATENATE(J10," ",I10)) -> Leona Maguire | B10: 45690 | C10: Tournament of Champions | D10: Lake Nona | E10: Florida | F10: LPGA | I10: Maguire | J10: Leona | K10: 9 | L10: 70 | M10: 68 | N10: 72 | O10: 68 | Q10: 278 | R10: 70.77 | S10: 70.77 | T10: 69.58 | U10: 67.18 | V10: 72.27 | W10: 68.89 | Y10: 69.48 | Z10: 4 | AA10: 3 | AB10: 8 | AC10: 9 | AE10: 5 | AF10: 4 | AG10: 9 | AH10: 10 | AJ10: 9
A11: =IF(J11="","",CONCATENATE(J11," ",I11)) -> Pajaree Anannarukarn | B11: 45690 | C11: Tournament of Champions | D11: Lake Nona | E11: Florida | F11: LPGA | I11: Anannarukarn | J11: Pajaree | K11: 10 | L11: 70 | M11: 71 | N11: 71 | O11: 68 | Q11: 280 | R11: 70.77 | S11: 70.77 | T11: 69.58 | U11: 70.18 | V11: 71.27 | W11: 68.89 | Y11: 69.98 | Z11: 4 | AA11: 9 | AB11: 12 | AC11: 10 | AE11: 5 | AF11: 7 | AG11: 11 | AH11: 12 | AJ11: 10
A12: =IF(J12="","",CONCATENATE(J12," ",I12)) -> Ashleigh Buhai | B12: 45690 | C12: Tournament of Champions | D12: Lake Nona | E12: Florida | F12: LPGA | I12: Buhai | J12: Ashleigh | K12: 10 | L12: 72 | M12: 72 | N12: 68 | O12: 68 | Q12: 280 | R12: 70.77 | S12: 70.77 | T12: 71.58 | U12: 71.18 | V12: 68.27 | W12: 68.89 | Y12: 69.98 | Z12: 17 | AA12: 19 | AB12: 12 | AC12: 10 | AE12: 7 | AF12: 10 | AG12: 11 | AH12: 12 | AJ12: 10
A13: =IF(J13="","",CONCATENATE(J13," ",I13)) -> Hyo Joo Kim | B13: 45690 | C13: Tournament of Champions | D13: Lake Nona | E13: Florida | F13: LPGA | I13: Kim | J13: Hyo Joo | K13: 10 | L13: 72 | M13: 69 | N13: 70 | O13: 69 | Q13: 280 | R13: 70.77 | S13: 70.77 | T13: 71.58 | U13: 68.18 | V13: 70.27 | W13: 69.89 | Y13: 69.98 | Z13: 17 | AA13: 9 | AB13: 10 | AC13: 10 | AE13: 7 | AF13: 7 | AG13: 10 | AH13: 12 | AJ13: 10
... A33: =IF(J33="","",CONCATENATE(J33," ",I33)) -> Chanettee Wannasaen | B33: 45690 | C33: Tournament of Champions | D33: Lake Nona | E33: Florida | F33: LPGA | I33: Wannasaen | J33: Chanettee | K33: 32 | L33: 74 | M33: 73 | N33: 78 | O33: 74 | Q33: 299 | R33: 70.77 | S33: 70.77 | T33: 73.58 | U33: 72.18 | V33: 78.27 | W33: 74.89 | Y33: 74.73 | Z33: 30 | AA33: 28 | AB33: 32 | AC33: 32 | AE33: 9 | AF33: 13 | AG33: 24 | AH33: 31 | AJ33: 32
A34: =IF(J34="","",CONCATENATE(J34," ",I34))
A35: =IF(J35="","",CONCATENATE(J35," ",I35))
A36: =IF(J36="","",CONCATENATE(J36," ",I36))
A37: =IF(J37="","",CONCATENATE(J37," ",I37))
A38: =IF(J38="","",CONCATENATE(J38," ",I38))
A39: =IF(J39="","",CONCATENATE(J39," ",I39))
A40: =IF(J40="","",CONCATENATE(J40," ",I40))
A41: =IF(J41="","",CONCATENATE(J41," ",I41))
A42: =IF(J42="","",CONCATENATE(J42," ",I42))
A43: =IF(J43="","",CONCATENATE(J43," ",I43))
A44: =IF(J44="","",CONCATENATE(J44," ",I44))
A45: =IF(J45="","",CONCATENATE(J45," ",I45))
... A757: =IF(J757="","",CONCATENATE(J757," ",I757))
A758: =IF(J758="","",CONCATENATE(J758," ",I758)) | AK758: MU | AL758: Tee1 | AM758: Time1 | AN758: Tee2 | AO758: Time2 | AP758: Tee3 | AQ758: Time3 | AR758: Tee4 | AS758: Time4 | AT758: Tee5 | AU758: Time5 | AV758: dd | AW758: dd_rank | AX758: da | AY758: da_rank | AZ758: gir | BA758: gir_rank | BB758: ppr | BC758: ppr_rank | BD758: ppgir | BE758: ppgir_rank | BF758: sc | BG758: sc_rank | BH758: ss | BI758: ss_rank | BJ758: tdr_rank | BK758: acc_rank | BL758: bst_rank | BM758: putt_rank | BN758: all_rank | BO758: Par3 | BP758: Par3_rank | BQ758: Par4 | BR758: Par4_rank | BS758: Par5 | BT758: Par5_rank | BU758: Eagles | BV758: Birdies | BW758: Pars | BX758: Bogeys | BY758: Other | BZ758: s | CA758: p3 | CB758: p4 | CC758: p5 | CD758: field_dd | CE758: field_da | CF758: field_gir | CG758: field_sc | CH758: field_pa | CI758: field_ppr | CJ758: field_ss | CK758: field_par3 | CL758: field_par4 | CM758: field_par5 | CN758: field1_dd | CO758: field1_da | CP758: field1_gir | CQ758: field1_sc | CR758: field1_pa | CS758: field1_ppr | CT758: field1_ss | CU758: field1_par3 | CV758: field1_par4 | CW758: field1_par5 | CX758: Eagles_rank | CY758: Birdies_rank | CZ758: Pars_rank | DA758: Bogeys_rank | DB758: Other_rank | DC758: dd(r1) | DD758: dd(r1)_rank | DE758: dd(r2) | DF758: dd(r2)_rank | DG758: dd(r3) | DH758: dd(r3)_rank | DI758: dd(r4) | DJ758: dd(r4)_rank | DK758: dd(r5) | DL758: dd(r5)_rank | DM758: da(r1) | DN758: da(r1)_rank | DO758: da(r2) | DP758: da(r2)_rank | DQ758: da(r3) | DR758: da(r3)_rank | DS758: da(r4) | DT758: da(r4)_rank | DU758: da(r5) | DV758: da(r5)_rank | DW758: gir(r1) | DX758: gir(r1)_rank | DY758: gir(r2) | DZ758: gir(r2)_rank | EA758: gir(r3) | EB758: gir(r3)_rank | EC758: gir(r4) | ED758: gir(r4)_rank | EE758: gir(r5) | EF758: gir(r5)_rank | EG758: ppr(r1) | EH758: ppr(r1)_rank | EI758: ppr(r2) | EJ758: ppr(r2)_rank | EK758: ppr(r3) | EL758: ppr(r3)_rank | EM758: ppr(r4) | EN758: ppr(r4)_rank | EO758: ppr(r5) | EP758: ppr(r5)_rank | EQ758: ppgir(r1) | ER758: ppgir(r1)_rank | ES758: ppgir(r2) | ET758: ppgir(r2)_rank | EU758: ppgir(r3) | EV758: ppgir(r3)_rank | EW758: ppgir(r4) | EX758: ppgir(r4)_rank | EY758: ppgir(r5) | EZ758: ppgir(r5)_rank | FA758: sc(r1) | FB758: sc(r1)_rank | FC758: sc(r2) | FD758: sc(r2)_rank | FE758: sc(r3) | FF758: sc(r3)_rank | FG758: sc(r4) | FH758: sc(r4)_rank | FI758: sc(r5) | FJ758: sc(r5)_rank | FK758: ss(r1) | FL758: ss(r1)_rank | FM758: ss(r2) | FN758: ss(r2)_rank | FO758: ss(r3) | FP758: ss(r3)_rank | FQ758: ss(r4) | FR758: ss(r4)_rank | FS758: ss(r5) | FT758: ss(r5)_rank | FU758: par3(r1) | FV758: par3(r1)_rank | FW758: par3(r2) | FX758: par3(r2)_rank | FY758: par3(r3) | FZ758: par3(r3)_rank | GA758: par3(r4) | GB758: par3(r4)_rank | GC758: par3(r5) | GD758: par3(r5)_rank | GE758: par4(r1) | GF758: par4(r1)_rank | GG758: par4(r2) | GH758: par4(r2)_rank | GI758: par4(r3) | GJ758: par4(r3)_rank | GK758: par4(r4) | GL758: par4(r4)_rank | GM758: par4(r5) | GN758: par4(r5)_rank | GO758: par5(r1) | GP758: par5(r1)_rank | GQ758: par5(r2) | GR758: par5(r2)_rank | GS758: par5(r3) | GT758: par5(r3)_rank | GU758: par5(r4) | GV758: par5(r4)_rank | GW758: par5(r5) | GX758: par5(r5)_rank | GY758: eagles(r1) | GZ758: eagles(r1)_rank | HA758: eagles(r2) | HB758: eagles(r2)_rank | HC758: eagles(r3) | HD758: eagles(r3)_rank | HE758: eagles(r4) | HF758: eagles(r4)_rank | HG758: eagles(r5) | HH758: eagles(r5)_rank | HI758: birdies(r1) | HJ758: birdies(r1)_rank | HK758: birdies(r2) | HL758: birdies(r2)_rank | HM758: birdies(r3) | HN758: birdies(r3)_rank | HO758: birdies(r4) | HP758: birdies(r4)_rank | HQ758: birdies(r5) | HR758: birdies(r5)_rank | HS758: pars(r1) | HT758: pars(r1)_rank | HU758: pars(r2) | HV758: pars(r2)_rank | HW758: pars(r3) | HX758: pars(r3)_rank | HY758: pars(r4) | HZ758: pars(r4)_rank | IA758: pars(r5) | IB758: pars(r5)_rank | IC758: bogeys(r1) | ID758: bogeys(r1)_rank | IE758: bogeys(r2) | IF758: bogeys(r2)_rank | IG758: bogeys(r3) | IH758: bogeys(r3)_rank | II758: bogeys(r4) | IJ758: bogeys(r4)_rank | IK758: bogeys(r5) | IL758: bogeys(r5)_rank | IM758: other(r1) | IN758: other(r1)_rank | IO758: other(r2) | IP758: other(r2)_rank | IQ758: other(r3) | IR758: other(r3)_rank | IS758: other(r4) | IT758: other(r4)_rank | IU758: other(r5) | IV758: other(r5)_rank
A759: =IF(J759="","",CONCATENATE(J759," ",I759)) | AK759: 1 | AL759: 1 | AM759: 0.45 | AN759: 1 | AO759: 0.43194444 | AP759: 1 | AQ759: 0.47569444 | AR759: 10 | AS759: 0.42638889 | AV759: 253 | AW759: 10 | AX759: 75 | AY759: 19 | AZ759: 77.78 | BA759: 2 | BB759: 28.5 | BC759: 4 | BD759: 1.7 | BE759: 10 | BF759: 75 | BG759: 1 | BH759: 66.67 | BI759: 9 | BJ759: 12 | BK759: 8 | BL759: 4 | BM759: 7 | BN759: 1 | BO759: 1 | BP759: 14 | BQ759: -7 | BR759: 1 | BS759: -8 | BT759: 1 | BU759: 1 | BV759: 16 | BW759: 51 | BX759: 6 | BY759: 0 | BZ759: 6 | CA759: 16 | CB759: 40 | CC759: 16 | CD759: 254.43 | CE759: 72.82 | CF759: 69.12 | CG759: 52.59 | CH759: 1.7 | CI759: 29.34 | CJ759: 49.06 | CK759: 3.01 | CL759: 4.02 | CM759: 4.72 | CN759: 254.45 | CO759: 72.33 | CP759: 68.98 | CQ759: 52.6 | CR759: 1.7 | CS759: 29.31 | CT759: 48.86 | CU759: 3.01 | CV759: 4.02 | CW759: 4.72 | CX759: 1 | CY759: 4 | CZ759: 6 | DA759: 32 | DB759: 20 | DC759: 256 | DD759: 5 | DE759: 252 | DF759: 12 | DG759: 244 | DH759: 15 | DI759: 260 | DJ759: 4 | DM759: 57.14 | DN759: 28 | DO759: 85.71 | DP759: 9 | DQ759: 85.71 | DR759: 6 | DS759: 71.43 | DT759: 16 | DW759: 66.67 | DX759: 21 | DY759: 94.44 | DZ759: 1 | EA759: 83.33 | EB759: 2 | EC759: 66.67 | ED759: 13 | EG759: 27 | EH759: 3 | EI759: 31 | EJ759: 20 | EK759: 28 | EL759: 7 | EM759: 28 | EN759: 5 | EQ759: 1.58 | ER759: 6 | ES759: 1.76 | ET759: 18 | EU759: 1.73 | EV759: 17 | EW759: 1.67 | EX759: 14 | FA759: 66.67 | FB759: 7 | FC759: 100 | FD759: 1 | FE759: 100 | FF759: 1 | FG759: 66.67 | FH759: 3 | FK759: 66.67 | FL759: 6 | FM759: 0 | FN759: 8 | FO759: 100 | FP759: 1 | FQ759: 100 | FR759: 1 | FU759: 2 | FV759: 33 | FW759: 0 | FX759: 9 | FY759: 0 | FZ759: 13 | GA759: -1 | GB759: 1 | GE759: -3 | GF759: 2 | GG759: -2 | GH759: 3 | GI759: -2 | GJ759: 4 | GK759: 0 | GL759: 6 | GO759: -2 | GP759: 5 | GQ759: -3 | GR759: 2 | GS759: -2 | GT759: 1 | GU759: -1 | GV759: 16 | GY759: 0 | GZ759: 1 | HA759: 1 | HB759: 1 | HC759: 0 | HD759: 3 | HE759: 0 | HF759: 4 | HI759: 5 | HJ759: 7 | HK759: 3 | HL759: 15 | HM759: 4 | HN759: 7 | HO759: 4 | HP759: 6 | HS759: 11 | HT759: 19 | HU759: 14 | HV759: 4 | HW759: 14 | HX759: 2 | HY759: 12 | HZ759: 9 | IC759: 2 | ID759: 17 | IE759: 0 | IF759: 34 | IG759: 0 | IH759: 32 | II759: 4 | IJ759: 6 | IM759: 0 | IN759: 7 | IO759: 0 | IP759: 5 | IQ759: 0 | IR759: 8 | IS759: 0 | IT759: 12
A760: =IF(J760="","",CONCATENATE(J760," ",I760)) | AK760: 2 | AL760: 10 | AM760: 0.37361111 | AN760: 1 | AO760: 0.39375 | AP760: 1 | AQ760: 0.46041667 | AR760: 10 | AS760: 0.43402778 | AV760: 255.25 | AW760: 5 | AX760: 60.71 | AY760: 32 | AZ760: 66.67 | BA760: 21 | BB760: 27.25 | BC760: 1 | BD760: 1.6 | BE760: 1 | BF760: 70.83 | BG760: 2 | BH760: 83.33 | BI760: 4 | BJ760: 20 | BK760: 28 | BL760: 23 | BM760: 1 | BN760: 5 | BO760: 1 | BP760: 14 | BQ760: -6 | BR760: 3 | BS760: -7 | BT760: 4 | BU760: 0 | BV760: 19 | BW760: 46 | BX760: 9 | BY760: 0 | BZ760: 6 | CA760: 16 | CB760: 40 | CC760: 16 | CD760: 254.43 | CE760: 72.82 | CF760: 69.12 | CG760: 52.59 | CH760: 1.7 | CI760: 29.34 | CJ760: 49.06 | CK760: 3.01 | CL760: 4.02 | CM760: 4.72 | CN760: 254.45 | CO760: 72.33 | CP760: 68.98 | CQ760: 52.6 | CR760: 1.7 | CS760: 29.31 | CT760: 48.86 | CU760: 3.01 | CV760: 4.02 | CW760: 4.72 | CX760: 9 | CY760: 1 | CZ760: 21 | DA760: 20 | DB760: 20 | DC760: 253 | DD760: 11 | DE760: 263 | DF760: 2 | DG760: 253 | DH760: 4 | DI760: 252 | DJ760: 10 | DM760: 50 | DN760: 31 | DO760: 64.29 | DP760: 27 | DQ760: 57.14 | DR760: 33 | DS760: 71.43 | DT760: 16 | DW760: 72.22 | DX760: 16 | DY760: 66.67 | DZ760: 21 | EA760: 55.56 | EB760: 30 | EC760: 72.22 | ED760: 6 | EG760: 27 | EH760: 3 | EI760: 28 | EJ760: 5 | EK760: 24 | EL760: 1 | EM760: 30 | EN760: 18 | EQ760: 1.62 | ER760: 10 | ES760: 1.58 | ET760: 5 | EU760: 1.5 | EV760: 1 | EW760: 1.69 | EX760: 16 | FA760: 60 | FB760: 10 | FC760: 50 | FD760: 15 | FE760: 100 | FF760: 1 | FG760: 60 | FH760: 6 | FK760: 100 | FL760: 1 | FM760: 50 | FN760: 6 | FO760: 100 | FP760: 1 | FQ760: 100 | FR760: 1 | FU760: -1 | FV760: 5 | FW760: 1 | FX760: 18 | FY760: 0 | FZ760: 13 | GA760: 1 | GB760: 15 | GE760: 0 | GF760: 16 | GG760: -1 | GH760: 7 | GI760: -3 | GJ760: 2 | GK760: -2 | GL760: 2 | GO760: -2 | GP760: 5 | GQ760: -2 | GR760: 5 | GS760: -2 | GT760: 1 | GU760: -1 | GV760: 16 | GY760: 0 | GZ760: 1 | HA760: 0 | HB760: 4 | HC760: 0 | HD760: 3 | HE760: 0 | HF760: 4 | HI760: 5 | HJ760: 7 | HK760: 5 | HL760: 3 | HM760: 5 | HN760: 2 | HO760: 4 | HP760: 6 | HS760: 11 | HT760: 19 | HU760: 10 | HV760: 29 | HW760: 13 | HX760: 7 | HY760: 12 | HZ760: 9 | IC760: 2 | ID760: 17 | IE760: 3 | IF760: 8 | IG760: 0 | IH760: 32 | II760: 4 | IJ760: 6 | IM760: 0 | IN760: 7 | IO760: 0 | IP760: 5 | IQ760: 0 | IR760: 8 | IS760: 0 | IT760: 12
A761: =IF(J761="","",CONCATENATE(J761," ",I761)) | AK761: 3 | AL761: 1 | AM761: 0.42708333 | AN761: 1 | AO761: 0.43194444 | AP761: 1 | AQ761: 0.46041667 | AR761: 10 | AS761: 0.39583333 | AV761: 252.5 | AW761: 11 | AX761: 76.79 | AY761: 15 | AZ761: 76.39 | BA761: 5 | BB761: 28.75 | BC761: 6 | BD761: 1.71 | BE761: 13 | BF761: 64.71 | BG761: 7 | BH761: 50 | BI761: 12 | BJ761: 5 | BK761: 7 | BL761: 4 | BM761: 10 | BN761: 3 | BO761: 1 | BP761: 14 | BQ761: -7 | BR761: 1 | BS761: -4 | BT761: 12 | BU761: 1 | BV761: 15 | BW761: 49 | BX761: 11 | BY761: 0 | BZ761: 2 | CA761: 16 | CB761: 40 | CC761: 16 | CD761: 254.43 | CE761: 72.82 | CF761: 69.12 | CG761: 52.59 | CH761: 1.7 | CI761: 29.34 | CJ761: 49.06 | CK761: 3.01 | CL761: 4.02 | CM761: 4.72 | CN761: 254.45 | CO761: 72.33 | CP761: 68.98 | CQ761: 52.6 | CR761: 1.7 | CS761: 29.31 | CT761: 48.86 | CU761: 3.01 | CV761: 4.02 | CW761: 4.72 | CX761: 1 | CY761: 8 | CZ761: 8 | DA761: 12 | DB761: 20 | DC761: 255 | DD761: 6 | DE761: 261 | DF761: 6 | DG761: 237 | DH761: 26 | DI761: 257 | DJ761: 7 | DM761: 64.29 | DN761: 20 | DO761: 78.57 | DP761: 13 | DQ761: 78.57 | DR761: 16 | DS761: 85.71 | DT761: 3 | DW761: 94.44 | DX761: 2 | DY761: 61.11 | DZ761: 28 | EA761: 77.78 | EB761: 5 | EC761: 72.22 | ED761: 6 | EG761: 32 | EH761: 27 | EI761: 26 | EJ761: 1 | EK761: 30 | EL761: 17 | EM761: 27 | EN761: 2 | EQ761: 1.71 | ER761: 17 | ES761: 1.55 | ET761: 3 | EU761: 1.86 | EV761: 31 | EW761: 1.69 | EX761: 16 | FA761: 0 | FB761: 29 | FC761: 57.14 | FD761: 13 | FE761: 50 | FF761: 15 | FG761: 100 | FH761: 1 | FO761: 0 | FP761: 19 | FQ761: 100 | FR761: 1 | FU761: 0 | FV761: 15 | FW761: 0 | FX761: 9 | FY761: 1 | FZ761: 24 | GA761: 0 | GB761: 8 | GE761: -2 | GF761: 4 | GG761: 0 | GH761: 17 | GI761: -3 | GJ761: 2 | GK761: -2 | GL761: 2 | GO761: -1 | GP761: 15 | GQ761: -2 | GR761: 5 | GS761: 1 | GT761: 28 | GU761: -2 | GV761: 3 | GY761: 0 | GZ761: 1 | HA761: 0 | HB761: 4 | HC761: 1 | HD761: 1 | HE761: 0 | HF761: 4 | HI761: 5 | HJ761: 7 | HK761: 5 | HL761: 3 | HM761: 1 | HN761: 31 | HO761: 4 | HP761: 6 | HS761: 11 | HT761: 19 | HU761: 10 | HV761: 29 | HW761: 14 | HX761: 2 | HY761: 14 | HZ761: 2 | IC761: 2 | ID761: 17 | IE761: 3 | IF761: 8 | IG761: 2 | IH761: 15 | II761: 4 | IJ761: 6 | IM761: 0 | IN761: 7 | IO761: 0 | IP761: 5 | IQ761: 0 | IR761: 8 | IS761: 0 | IT761: 12
A762: =IF(J762="","",CONCATENATE(J762," ",I762)) | AK762: 5 | AL762: 1 | AM762: 0.45 | AN762: 1 | AO762: 0.44722222 | AP762: 1 | AQ762: 0.42222222 | AR762: 10 | AS762: 0.43402778 | AV762: 254.25 | AW762: 8 | AX762: 64.29 | AY762: 29 | AZ762: 72.22 | BA762: 13 | BB762: 28.5 | BC762: 4 | BD762: 1.69 | BE762: 9 | BF762: 55 | BG762: 12 | BH762: 50 | BI762: 12 | BJ762: 20 | BK762: 25 | BL762: 15 | BM762: 5 | BN762: 9 | BO762: 1 | BP762: 14 | BQ762: -1 | BR762: 9 | BS762: -8 | BT762: 1 | BU762: 1 | BV762: 15 | BW762: 47 | BX762: 7 | BY762: 0 | BZ762: 4 | CA762: 16 | CB762: 40 | CC762: 16 | CD762: 254.43 | CE762: 72.82 | CF762: 69.12 | CG762: 52.59 | CH762: 1.7 | CI762: 29.34 | CJ762: 49.06 | CK762: 3.01 | CL762: 4.02 | CM762: 4.72 | CN762: 254.45 | CO762: 72.33 | CP762: 68.98 | CQ762: 52.6 | CR762: 1.7 | CS762: 29.31 | CT762: 48.86 | CU762: 3.01 | CV762: 4.02 | CW762: 4.72 | CX762: 1 | CY762: 8 | CZ762: 17 | DA762: 27 | DB762: 20 | DC762: 260 | DD762: 3 | DE762: 262 | DF762: 3 | DG762: 249 | DH762: 9 | DI762: 246 | DJ762: 16 | DM762: 64.29 | DN762: 20 | DO762: 71.43 | DP762: 23 | DQ762: 64.29 | DR762: 30 | DS762: 57.14 | DT762: 32 | DW762: 77.78 | DX762: 10 | DY762: 77.78 | DZ762: 6 | EA762: 66.67 | EB762: 20 | EC762: 66.67 | ED762: 13 | EG762: 28 | EH762: 8 | EI762: 29 | EJ762: 11 | EK762: 26 | EL762: 3 | EM762: 31 | EN762: 24 | EQ762: 1.64 | ER762: 14 | ES762: 1.79 | ET762: 19 | EU762: 1.58 | EV762: 3 | EW762: 1.75 | EX762: 21 | FA762: 75 | FB762: 2 | FC762: 25 | FD762: 26 | FE762: 83.33 | FF762: 4 | FG762: 33.33 | FH762: 21 | FK762: 100 | FL762: 1 | FM762: 0 | FN762: 8 | FO762: 100 | FP762: 1 | FQ762: 0 | FR762: 16 | FU762: 0 | FV762: 15 | FW762: 2 | FX762: 30 | FY762: 0 | FZ762: 13 | GA762: -1 | GB762: 1 | GE762: -2 | GF762: 4 | GG762: 0 | GH762: 17 | GI762: -2 | GJ762: 4 | GK762: 3 | GL762: 25 | GO762: -2 | GP762: 5 | GQ762: -2 | GR762: 5 | GS762: -2 | GT762: 1 | GU762: -2 | GV762: 3 | GY762: 0 | GZ762: 1 | HA762: 0 | HB762: 4 | HC762: 0 | HD762: 3 | HE762: 1 | HF762: 1 | HI762: 5 | HJ762: 7 | HK762: 3 | HL762: 15 | HM762: 5 | HN762: 2 | HO762: 2 | HP762: 24 | HS762: 12 | HT762: 9 | HU762: 12 | HV762: 16 | HW762: 12 | HX762: 16 | HY762: 11 | HZ762: 13 | IC762: 1 | ID762: 29 | IE762: 3 | IF762: 8 | IG762: 1 | IH762: 27 | II762: 2 | IJ762: 24 | IM762: 0 | IN762: 7 | IO762: 0 | IP762: 5 | IQ762: 0 | IR762: 8 | IS762: 0 | IT762: 12
A763: =IF(J763="","",CONCATENATE(J763," ",I763)) | AK763: 5 | AL763: 1 | AM763: 0.40416667 | AN763: 1 | AO763: 0.45486111 | AP763: 1 | AQ763: 0.47569444 | AR763: 10 | AS763: 0.41875 | AV763: 237.75 | AW763: 24 | AX763: 92.86 | AY763: 1 | AZ763: 75 | BA763: 7 | BB763: 29.5 | BC763: 14 | BD763: 1.74 | BE763: 22 | BF763: 66.67 | BG763: 5 | BH763: 50 | BI763: 12 | BJ763: 4 | BK763: 2 | BL763: 6 | BM763: 18 | BN763: 4 | BO763: 0 | BP763: 8 | BQ763: -4 | BR763: 4 | BS763: -4 | BT763: 12 | BU763: 0 | BV763: 14 | BW763: 52 | BX763: 7 | BY763: 0 | BZ763: 2 | CA763: 16 | CB763: 40 | CC763: 16 | CD763: 254.43 | CE763: 72.82 | CF763: 69.12 | CG763: 52.59 | CH763: 1.7 | CI763: 29.34 | CJ763: 49.06 | CK763: 3.01 | CL763: 4.02 | CM763: 4.72 | CN763: 254.45 | CO763: 72.33 | CP763: 68.98 | CQ763: 52.6 | CR763: 1.7 | CS763: 29.31 | CT763: 48.86 | CU763: 3.01 | CV763: 4.02 | CW763: 4.72 | CX763: 9 | CY763: 13 | CZ763: 4 | DA763: 27 | DB763: 20 | DC763: 232 | DD763: 29 | DE763: 238 | DF763: 26 | DG763: 240 | DH763: 21 | DI763: 241 | DJ763: 23 | DM763: 100 | DN763: 1 | DO763: 92.86 | DP763: 5 | DQ763: 92.86 | DR763: 2 | DS763: 85.71 | DT763: 3 | DW763: 94.44 | DX763: 2 | DY763: 61.11 | DZ763: 28 | EA763: 83.33 | EB763: 2 | EC763: 61.11 | ED763: 19 | EG763: 28 | EH763: 8 | EI763: 28 | EJ763: 5 | EK763: 34 | EL763: 35 | EM763: 28 | EN763: 5 | EQ763: 1.59 | ER763: 8 | ES763: 1.82 | ET763: 26 | EU763: 1.93 | EV763: 35 | EW763: 1.64 | EX763: 9 | FA763: 100 | FB763: 1 | FC763: 85.71 | FD763: 4 | FE763: 33.33 | FF763: 29 | FG763: 57.14 | FH763: 7 | FO763: 100 | FP763: 1 | FQ763: 0 | FR763: 16 | FU763: -2 | FV763: 1 | FW763: 1 | FX763: 18 | FY763: 0 | FZ763: 13 | GA763: 1 | GB763: 15 | GE763: -4 | GF763: 1 | GG763: -1 | GH763: 7 | GI763: 1 | GJ763: 27 | GK763: 0 | GL763: 6 | GO763: -1 | GP763: 15 | GQ763: -1 | GR763: 16 | GS763: 0 | GT763: 19 | GU763: -2 | GV763: 3 | GY763: 0 | GZ763: 1 | HA763: 0 | HB763: 4 | HC763: 0 | HD763: 3 | HE763: 0 | HF763: 4 | HI763: 7 | HJ763: 2 | HK763: 2 | HL763: 24 | HM763: 1 | HN763: 31 | HO763: 4 | HP763: 6 | HS763: 11 | HT763: 19 | HU763: 15 | HV763: 3 | HW763: 15 | HX763: 1 | HY763: 11 | HZ763: 13 | IC763: 0 | ID763: 34 | IE763: 1 | IF763: 26 | IG763: 2 | IH763: 15 | II763: 4 | IJ763: 6 | IM763: 0 | IN763: 7 | IO763: 0 | IP763: 5 | IQ763: 0 | IR763: 8 | IS763: 0 | IT763: 12
A764: =IF(J764="","",CONCATENATE(J764," ",I764)) | AK764: 5 | AL764: 1 | AM764: 0.46527778 | AN764: 1 | AO764: 0.38611111 | AP764: 1 | AQ764: 0.45277778 | AR764: 1 | AS764: 0.37291667 | AV764: 232.25 | AW764: 30 | AX764: 83.93 | AY764: 8 | AZ764: 73.61 | BA764: 10 | BB764: 29 | BC764: 9 | BD764: 1.68 | BE764: 7 | BF764: 52.63 | BG764: 13 | BH764: 50 | BI764: 12 | BJ764: 24 | BK764: 5 | BL764: 14 | BM764: 8 | BN764: 6 | BO764: 1 | BP764: 14 | BQ764: -1 | BR764: 9 | BS764: -8 | BT764: 1 | BU764: 0 | BV764: 17 | BW764: 46 | BX764: 12 | BY764: 0 | BZ764: 4 | CA764: 16 | CB764: 40 | CC764: 16 | CD764: 254.43 | CE764: 72.82 | CF764: 69.12 | CG764: 52.59 | CH764: 1.7 | CI764: 29.34 | CJ764: 49.06 | CK764: 3.01 | CL764: 4.02 | CM764: 4.72 | CN764: 254.45 | CO764: 72.33 | CP764: 68.98 | CQ764: 52.6 | CR764: 1.7 | CS764: 29.31 | CT764: 48.86 | CU764: 3.01 | CV764: 4.02 | CW764: 4.72 | CX764: 9 | CY764: 3 | CZ764: 21 | DA764: 10 | DB764: 20 | DC764: 227 | DD764: 34 | DE764: 230 | DF764: 32 | DG764: 239 | DH764: 22 | DI764: 233 | DJ764: 31 | DM764: 78.57 | DN764: 15 | DO764: 78.57 | DP764: 13 | DQ764: 92.86 | DR764: 2 | DS764: 85.71 | DT764: 3 | DW764: 72.22 | DX764: 16 | DY764: 66.67 | DZ764: 21 | EA764: 77.78 | EB764: 5 | EC764: 77.78 | ED764: 3 | EG764: 29 | EH764: 15 | EI764: 28 | EJ764: 5 | EK764: 31 | EL764: 23 | EM764: 28 | EN764: 5 | EQ764: 1.69 | ER764: 16 | ES764: 1.58 | ET764: 5 | EU764: 1.79 | EV764: 23 | EW764: 1.64 | EX764: 12 | FA764: 60 | FB764: 10 | FC764: 50 | FD764: 15 | FE764: 50 | FF764: 15 | FG764: 50 | FH764: 9 | FK764: 50 | FL764: 7 | FQ764: 50 | FR764: 8 | FU764: -2 | FV764: 1 | FW764: 2 | FX764: 30 | FY764: 0 | FZ764: 13 | GA764: 1 | GB764: 15 | GE764: 2 | GF764: 25 | GG764: -1 | GH764: 7 | GI764: 0 | GJ764: 19 | GK764: -2 | GL764: 2 | GO764: -2 | GP764: 5 | GQ764: -3 | GR764: 2 | GS764: -1 | GT764: 9 | GU764: -2 | GV764: 3 | GY764: 0 | GZ764: 1 | HA764: 0 | HB764: 4 | HC764: 0 | HD764: 3 | HE764: 0 | HF764: 4 | HI764: 4 | HJ764: 13 | HK764: 5 | HL764: 3 | HM764: 3 | HN764: 18 | HO764: 5 | HP764: 2 | HS764: 12 | HT764: 9 | HU764: 10 | HV764: 29 | HW764: 13 | HX764: 7 | HY764: 11 | HZ764: 13 | IC764: 2 | ID764: 17 | IE764: 3 | IF764: 8 | IG764: 2 | IH764: 15 | II764: 5 | IJ764: 2 | IM764: 0 | IN764: 7 | IO764: 0 | IP764: 5 | IQ764: 0 | IR764: 8 | IS764: 0 | IT764: 12
A765: =IF(J765="","",CONCATENATE(J765," ",I765)) | AK765: 7.5 | AL765: 1 | AM765: 0.39652778 | AN765: 10 | AO765: 0.40902778 | AP765: 1 | AQ765: 0.4375 | AR765: 10 | AS765: 0.41111111 | AV765: 258 | AW765: 2 | AX765: 76.79 | AY765: 17 | AZ765: 76.39 | BA765: 5 | BB765: 30 | BC765: 20 | BD765: 1.71 | BE765: 13 | BF765: 58.82 | BG765: 8 | BH765: 50 | BI765: 12 | BJ765: 1 | BK765: 10 | BL765: 2 | BM765: 16 | BN765: 2 | BO765: 3 | BP765: 26 | BQ765: -3 | BR765: 6 | BS765: -7 | BT765: 4 | BU765: 0 | BV765: 16 | BW765: 48 | BX765: 8 | BY765: 1 | BZ765: 2 | CA765: 16 | CB765: 40 | CC765: 16 | CD765: 254.43 | CE765: 72.82 | CF765: 69.12 | CG765: 52.59 | CH765: 1.7 | CI765: 29.34 | CJ765: 49.06 | CK765: 3.01 | CL765: 4.02 | CM765: 4.72 | CN765: 254.45 | CO765: 72.33 | CP765: 68.98 | CQ765: 52.6 | CR765: 1.7 | CS765: 29.31 | CT765: 48.86 | CU765: 3.01 | CV765: 4.02 | CW765: 4.72 | CX765: 9 | CY765: 4 | CZ765: 12 | DA765: 23 | DB765: 8 | DC765: 254 | DD765: 8 | DE765: 262 | DF765: 3 | DG765: 268 | DH765: 1 | DI765: 248 | DJ765: 12 | DM765: 50 | DN765: 31 | DO765: 78.57 | DP765: 13 | DQ765: 100 | DR765: 1 | DS765: 78.57 | DT765: 10 | DW765: 61.11 | DX765: 26 | DY765: 77.78 | DZ765: 6 | EA765: 77.78 | EB765: 5 | EC765: 88.89 | ED765: 1 | EG765: 31 | EH765: 23 | EI765: 26 | EJ765: 1 | EK765: 30 | EL765: 17 | EM765: 33 | EN765: 30 | EQ765: 1.82 | ER765: 29 | ES765: 1.57 | ET765: 4 | EU765: 1.71 | EV765: 13 | EW765: 1.75 | EX765: 21 | FA765: 57.14 | FB765: 13 | FC765: 100 | FD765: 1 | FE765: 50 | FF765: 15 | FG765: 0 | FH765: 33 | FK765: 50 | FL765: 7 | FU765: 3 | FV765: 34 | FW765: -1 | FX765: 2 | FY765: 1 | FZ765: 24 | GA765: 0 | GB765: 8 | GE765: -1 | GF765: 9 | GG765: -1 | GH765: 7 | GI765: -2 | GJ765: 4 | GK765: 1 | GL765: 13 | GO765: 0 | GP765: 24 | GQ765: -4 | GR765: 1 | GS765: -1 | GT765: 9 | GU765: -2 | GV765: 3 | GY765: 0 | GZ765: 1 | HA765: 0 | HB765: 4 | HC765: 0 | HD765: 3 | HE765: 0 | HF765: 4 | HI765: 2 | HJ765: 28 | HK765: 6 | HL765: 2 | HM765: 4 | HN765: 7 | HO765: 4 | HP765: 6 | HS765: 13 | HT765: 6 | HU765: 12 | HV765: 16 | HW765: 12 | HX765: 16 | HY765: 11 | HZ765: 13 | IC765: 2 | ID765: 17 | IE765: 0 | IF765: 34 | IG765: 2 | IH765: 15 | II765: 4 | IJ765: 6 | IM765: 1 | IN765: 2 | IO765: 0 | IP765: 5 | IQ765: 0 | IR765: 8 | IS765: 0 | IT765: 12
A766: =IF(J766="","",CONCATENATE(J766," ",I766)) | AK766: 7.5 | AL766: 1 | AM766: 0.38888889 | AN766: 1 | AO766: 0.40902778 | AP766: 1 | AQ766: 0.44513889 | AR766: 10 | AS766: 0.40347222 | AV766: 243.25 | AW766: 18 | AX766: 89.29 | AY766: 3 | AZ766: 81.94 | BA766: 1 | BB766: 31 | BC766: 28 | BD766: 1.76 | BE766: 27 | BF766: 46.15 | BG766: 21 | BJ766: 2 | BK766: 1 | BL766: 1 | BM766: 29 | BN766: 8 | BO766: -3 | BP766: 2 | BQ766: -1 | BR766: 9 | BS766: -3 | BT766: 20 | BU766: 1 | BV766: 13 | BW766: 51 | BX766: 5 | BY766: 1 | BZ766: 0 | CA766: 16 | CB766: 40 | CC766: 16 | CD766: 254.43 | CE766: 72.82 | CF766: 69.12 | CG766: 52.59 | CH766: 1.7 | CI766: 29.34 | CJ766: 49.06 | CK766: 3.01 | CL766: 4.02 | CM766: 4.72 | CN766: 254.45 | CO766: 72.33 | CP766: 68.98 | CQ766: 52.6 | CR766: 1.7 | CS766: 29.31 | CT766: 48.86 | CU766: 3.01 | CV766: 4.02 | CW766: 4.72 | CX766: 1 | CY766: 21 | CZ766: 6 | DA766: 34 | DB766: 8 | DC766: 237 | DD766: 22 | DE766: 245 | DF766: 20 | DG766: 244 | DH766: 15 | DI766: 247 | DJ766: 13 | DM766: 92.86 | DN766: 3 | DO766: 85.71 | DP766: 9 | DQ766: 85.71 | DR766: 6 | DS766: 92.86 | DT766: 1 | DW766: 83.33 | DX766: 6 | DY766: 83.33 | DZ766: 3 | EA766: 77.78 | EB766: 5 | EC766: 83.33 | ED766: 2 | EG766: 30 | EH766: 18 | EI766: 33 | EJ766: 30 | EK766: 28 | EL766: 7 | EM766: 33 | EN766: 30 | EQ766: 1.67 | ER766: 15 | ES766: 1.8 | ET766: 24 | EU766: 1.71 | EV766: 13 | EW766: 1.87 | EX766: 29 | FA766: 33.33 | FB766: 23 | FC766: 33.33 | FD766: 24 | FE766: 75 | FF766: 6 | FG766: 33.33 | FH766: 21 | FU766: -2 | FV766: 1 | FW766: -1 | FX766: 2 | FY766: -1 | FZ766: 4 | GA766: 1 | GB766: 15 | GE766: -2 | GF766: 4 | GG766: 0 | GH766: 17 | GI766: 1 | GJ766: 27 | GK766: 0 | GL766: 6 | GO766: 1 | GP766: 32 | GQ766: 0 | GR766: 19 | GS766: -2 | GT766: 1 | GU766: -2 | GV766: 3 | GY766: 0 | GZ766: 1 | HA766: 0 | HB766: 4 | HC766: 0 | HD766: 3 | HE766: 1 | HF766: 1 | HI766: 5 | HJ766: 7 | HK766: 3 | HL766: 15 | HM766: 4 | HN766: 7 | HO766: 1 | HP766: 28 | HS766: 11 | HT766: 19 | HU766: 13 | HV766: 10 | HW766: 13 | HX766: 7 | HY766: 14 | HZ766: 2 | IC766: 2 | ID766: 17 | IE766: 2 | IF766: 18 | IG766: 0 | IH766: 32 | II766: 1 | IJ766: 28 | IM766: 0 | IN766: 7 | IO766: 0 | IP766: 5 | IQ766: 1 | IR766: 2 | IS766: 0 | IT766: 12
A767: =IF(J767="","",CONCATENATE(J767," ",I767)) | AK767: 9.5 | AL767: 10 | AM767: 0.41180556 | AN767: 1 | AO767: 0.34027778 | AP767: 1 | AQ767: 0.41458333 | AR767: 1 | AS767: 0.38055556 | AV767: 232 | AW767: 31 | AX767: 89.29 | AY767: 2 | AZ767: 75 | BA767: 7 | BB767: 30 | BC767: 20 | BD767: 1.72 | BE767: 20 | BF767: 50 | BG767: 15 | BH767: 60 | BI767: 10 | BJ767: 16 | BK767: 3 | BL767: 9 | BM767: 20 | BN767: 12 | BO767: -2 | BP767: 4 | BQ767: 0 | BR767: 14 | BS767: -4 | BT767: 12 | BU767: 0 | BV767: 15 | BW767: 48 | BX767: 10 | BY767: 0 | BZ767: 5 | CA767: 16 | CB767: 40 | CC767: 16 | CD767: 254.43 | CE767: 72.82 | CF767: 69.12 | CG767: 52.59 | CH767: 1.7 | CI767: 29.34 | CJ767: 49.06 | CK767: 3.01 | CL767: 4.02 | CM767: 4.72 | CN767: 254.45 | CO767: 72.33 | CP767: 68.98 | CQ767: 52.6 | CR767: 1.7 | CS767: 29.31 | CT767: 48.86 | CU767: 3.01 | CV767: 4.02 | CW767: 4.72 | CX767: 9 | CY767: 8 | CZ767: 12 | DA767: 17 | DB767: 20 | DC767: 231 | DD767: 30 | DE767: 224 | DF767: 35 | DG767: 241 | DH767: 20 | DI767: 232 | DJ767: 33 | DM767: 85.71 | DN767: 8 | DO767: 92.86 | DP767: 5 | DQ767: 92.86 | DR767: 2 | DS767: 85.71 | DT767: 3 | DW767: 72.22 | DX767: 16 | DY767: 77.78 | DZ767: 6 | EA767: 77.78 | EB767: 5 | EC767: 72.22 | ED767: 6 | EG767: 30 | EH767: 18 | EI767: 30 | EJ767: 16 | EK767: 30 | EL767: 17 | EM767: 30 | EN767: 18 | EQ767: 1.77 | ER767: 23 | ES767: 1.71 | ET767: 14 | EU767: 1.79 | EV767: 23 | EW767: 1.62 | EX767: 6 | FA767: 60 | FB767: 10 | FC767: 50 | FD767: 15 | FE767: 75 | FF767: 6 | FG767: 20 | FH767: 28 | FK767: 100 | FL767: 1 | FQ767: 33.33 | FR767: 14 | FU767: -1 | FV767: 5 | FW767: 0 | FX767: 9 | FY767: -1 | FZ767: 4 | GA767: 0 | GB767: 8 | GE767: 1 | GF767: 23 | GG767: 0 | GH767: 17 | GI767: 0 | GJ767: 19 | GK767: -1 | GL767: 5 | GO767: -1 | GP767: 15 | GQ767: -2 | GR767: 5 | GS767: -1 | GT767: 9 | GU767: 0 | GV767: 25 | GY767: 0 | GZ767: 1 | HA767: 0 | HB767: 4 | HC767: 0 | HD767: 3 | HE767: 0 | HF767: 4 | HI767: 3 | HJ767: 20 | HK767: 4 | HL767: 10 | HM767: 3 | HN767: 18 | HO767: 5 | HP767: 2 | HS767: 13 | HT767: 6 | HU767: 12 | HV767: 16 | HW767: 14 | HX767: 2 | HY767: 9 | HZ767: 26 | IC767: 2 | ID767: 17 | IE767: 2 | IF767: 18 | IG767: 1 | IH767: 27 | II767: 5 | IJ767: 2 | IM767: 0 | IN767: 7 | IO767: 0 | IP767: 5 | IQ767: 0 | IR767: 8 | IS767: 0 | IT767: 12
A768: =IF(J768="","",CONCATENATE(J768," ",I768)) | AK768: 9.5 | AL768: 10 | AM768: 0.36597222 | AN768: 1 | AO768: 0.37083333 | AP768: 1 | AQ768: 0.46805556 | AR768: 10 | AS768: 0.42638889 | AV768: 233.5 | AW768: 28 | AX768: 87.5 | AY768: 4 | AZ768: 73.61 | BA768: 10 | BB768: 29.25 | BC768: 13 | BD768: 1.72 | BE768: 18 | BF768: 52.63 | BG768: 13 | BH768: 50 | BI768: 12 | BJ768: 14 | BK768: 4 | BL768: 10 | BM768: 15 | BN768: 10 | BO768: 0 | BP768: 8 | BQ768: -1 | BR768: 9 | BS768: -5 | BT768: 7 | BU768: 0 | BV768: 15 | BW768: 48 | BX768: 8 | BY768: 0 | BZ768: 4 | CA768: 16 | CB768: 40 | CC768: 16 | CD768: 254.43 | CE768: 72.82 | CF768: 69.12 | CG768: 52.59 | CH768: 1.7 | CI768: 29.34 | CJ768: 49.06 | CK768: 3.01 | CL768: 4.02 | CM768: 4.72 | CN768: 254.45 | CO768: 72.33 | CP768: 68.98 | CQ768: 52.6 | CR768: 1.7 | CS768: 29.31 | CT768: 48.86 | CU768: 3.01 | CV768: 4.02 | CW768: 4.72 | CX768: 9 | CY768: 8 | CZ768: 12 | DA768: 23 | DB768: 20 | DC768: 233 | DD768: 27 | DE768: 237 | DF768: 29 | DG768: 231 | DH768: 29 | DI768: 233 | DJ768: 31 | DM768: 85.71 | DN768: 8 | DO768: 100 | DP768: 1 | DQ768: 92.86 | DR768: 2 | DS768: 71.43 | DT768: 16 | DW768: 61.11 | DX768: 26 | DY768: 83.33 | DZ768: 3 | EA768: 77.78 | EB768: 5 | EC768: 72.22 | ED768: 6 | EG768: 26 | EH768: 1 | EI768: 29 | EJ768: 11 | EK768: 31 | EL768: 23 | EM768: 31 | EN768: 24 | EQ768: 1.64 | ER768: 12 | ES768: 1.67 | ET768: 9 | EU768: 1.71 | EV768: 13 | EW768: 1.85 | EX768: 28 | FA768: 71.43 | FB768: 6 | FC768: 66.67 | FD768: 8 | FE768: 25 | FF768: 33 | FG768: 40 | FH768: 18 | FK768: 0 | FL768: 12 | FM768: 0 | FN768: 8 | FO768: 100 | FP768: 1 | FU768: 0 | FV768: 15 | FW768: 0 | FX768: 9 | FY768: 0 | FZ768: 13 | GA768: 0 | GB768: 8 | GE768: -2 | GF768: 4 | GG768: -2 | GH768: 3 | GI768: 1 | GJ768: 27 | GK768: 2 | GL768: 18 | GO768: 0 | GP768: 24 | GQ768: -2 | GR768: 5 | GS768: -2 | GT768: 1 | GU768: -1 | GV768: 16 | GY768: 0 | GZ768: 1 | HA768: 0 | HB768: 4 | HC768: 0 | HD768: 3 | HE768: 0 | HF768: 4 | HI768: 4 | HJ768: 13 | HK768: 5 | HL768: 3 | HM768: 4 | HN768: 7 | HO768: 2 | HP768: 24 | HS768: 12 | HT768: 9 | HU768: 12 | HV768: 16 | HW768: 11 | HX768: 28 | HY768: 13 | HZ768: 4 | IC768: 2 | ID768: 17 | IE768: 1 | IF768: 26 | IG768: 3 | IH768: 6 | II768: 2 | IJ768: 24 | IM768: 0 | IN768: 7 | IO768: 0 | IP768: 5 | IQ768: 0 | IR768: 8 | IS768: 0 | IT768: 12
A769: =IF(J769="","",CONCATENATE(J769," ",I769)) | AK769: 11 | AL769: 1 | AM769: 0.35833333 | AN769: 1 | AO769: 0.36319444 | AP769: 1 | AQ769: 0.39166667 | AR769: 1 | AS769: 0.38819444 | AV769: 240.75 | AW769: 21 | AX769: 82.14 | AY769: 11 | AZ769: 72.22 | BA769: 13 | BB769: 29.75 | BC769: 17 | BD769: 1.77 | BE769: 29 | BF769: 65 | BG769: 6 | BH769: 100 | BI769: 1 | BJ769: 14 | BK769: 11 | BL769: 12 | BM769: 24 | BN769: 15 | BO769: 0 | BP769: 8 | BQ769: -2 | BR769: 7 | BS769: -3 | BT769: 20 | BU769: 0 | BV769: 12 | BW769: 53 | BX769: 7 | BY769: 0 | BZ769: 1 | CA769: 16 | CB769: 40 | CC769: 16 | CD769: 254.43 | CE769: 72.82 | CF769: 69.12 | CG769: 52.59 | CH769: 1.7 | CI769: 29.34 | CJ769: 49.06 | CK769: 3.01 | CL769: 4.02 | CM769: 4.72 | CN769: 254.45 | CO769: 72.33 | CP769: 68.98 | CQ769: 52.6 | CR769: 1.7 | CS769: 29.31 | CT769: 48.86 | CU769: 3.01 | CV769: 4.02 | CW769: 4.72 | CX769: 9 | CY769: 23 | CZ769: 3 | DA769: 27 | DB769: 20 | DC769: 235 | DD769: 23 | DE769: 246 | DF769: 17 | DG769: 239 | DH769: 22 | DI769: 243 | DJ769: 21 | DM769: 85.71 | DN769: 8 | DO769: 78.57 | DP769: 13 | DQ769: 85.71 | DR769: 6 | DS769: 78.57 | DT769: 10 | DW769: 77.78 | DX769: 10 | DY769: 66.67 | DZ769: 21 | EA769: 88.89 | EB769: 1 | EC769: 55.56 | ED769: 25 | EG769: 31 | EH769: 23 | EI769: 29 | EJ769: 11 | EK769: 31 | EL769: 23 | EM769: 28 | EN769: 5 | EQ769: 1.79 | ER769: 24 | ES769: 1.83 | ET769: 27 | EU769: 1.75 | EV769: 18 | EW769: 1.7 | EX769: 18 | FA769: 75 | FB769: 2 | FC769: 66.67 | FD769: 8 | FE769: 50 | FF769: 15 | FG769: 62.5 | FH769: 5 | FM769: 100 | FN769: 1 | FU769: -1 | FV769: 5 | FW769: 0 | FX769: 9 | FY769: -1 | FZ769: 4 | GA769: 2 | GB769: 27 | GE769: 0 | GF769: 16 | GG769: 0 | GH769: 17 | GI769: -2 | GJ769: 4 | GK769: 0 | GL769: 6 | GO769: -1 | GP769: 15 | GQ769: 0 | GR769: 19 | GS769: 0 | GT769: 19 | GU769: -2 | GV769: 3 | GY769: 0 | GZ769: 1 | HA769: 0 | HB769: 4 | HC769: 0 | HD769: 3 | HE769: 0 | HF769: 4 | HI769: 3 | HJ769: 20 | HK769: 2 | HL769: 24 | HM769: 4 | HN769: 7 | HO769: 3 | HP769: 15 | HS769: 14 | HT769: 3 | HU769: 14 | HV769: 4 | HW769: 13 | HX769: 7 | HY769: 12 | HZ769: 9 | IC769: 1 | ID769: 29 | IE769: 2 | IF769: 18 | IG769: 1 | IH769: 27 | II769: 3 | IJ769: 15 | IM769: 0 | IN769: 7 | IO769: 0 | IP769: 5 | IQ769: 0 | IR769: 8 | IS769: 0 | IT769: 12
A770: =IF(J770="","",CONCATENATE(J770," ",I770)) | AK770: 13.5 | AL770: 10 | AM770: 0.35069444 | AN770: 10 | AO770: 0.41666667 | AP770: 10 | AQ770: 0.39930556 | AR770: 1 | AS770: 0.36527778 | AV770: 257.5 | AW770: 3 | AX770: 60.71 | AY770: 32 | AZ770: 61.11 | BA770: 30 | BB770: 27.75 | BC770: 2 | BD770: 1.68 | BE770: 8 | BF770: 67.86 | BG770: 4 | BH770: 40 | BI770: 20 | BJ770: 18 | BK770: 33 | BL770: 28 | BM770: 3 | BN770: 13 | BO770: -2 | BP770: 4 | BQ770: 2 | BR770: 20 | BS770: -4 | BT770: 12 | BU770: 0 | BV770: 14 | BW770: 49 | BX770: 10 | BY770: 1 | BZ770: 5 | CA770: 16 | CB770: 40 | CC770: 16 | CD770: 254.43 | CE770: 72.82 | CF770: 69.12 | CG770: 52.59 | CH770: 1.7 | CI770: 29.34 | CJ770: 49.06 | CK770: 3.01 | CL770: 4.02 | CM770: 4.72 | CN770: 254.45 | CO770: 72.33 | CP770: 68.98 | CQ770: 52.6 | CR770: 1.7 | CS770: 29.31 | CT770: 48.86 | CU770: 3.01 | CV770: 4.02 | CW770: 4.72 | CX770: 9 | CY770: 13 | CZ770: 8 | DA770: 17 | DB770: 8 | DC770: 251 | DD770: 14 | DE770: 266 | DF770: 1 | DG770: 251 | DH770: 5 | DI770: 262 | DJ770: 2 | DM770: 35.71 | DN770: 35 | DO770: 64.29 | DP770: 27 | DQ770: 71.43 | DR770: 23 | DS770: 71.43 | DT770: 16 | DW770: 38.89 | DX770: 35 | DY770: 55.56 | DZ770: 31 | EA770: 77.78 | EB770: 5 | EC770: 72.22 | ED770: 6 | EG770: 27 | EH770: 3 | EI770: 27 | EJ770: 3 | EK770: 28 | EL770: 7 | EM770: 29 | EN770: 12 | EQ770: 1.86 | ER770: 33 | ES770: 1.7 | ET770: 13 | EU770: 1.64 | EV770: 8 | EW770: 1.62 | EX770: 6 | FA770: 72.73 | FB770: 5 | FC770: 87.5 | FD770: 3 | FE770: 75 | FF770: 6 | FG770: 20 | FH770: 28 | FK770: 0 | FL770: 12 | FM770: 0 | FN770: 8 | FO770: 100 | FP770: 1 | FQ770: 100 | FR770: 1 | FU770: 0 | FV770: 15 | FW770: -1 | FX770: 2 | FY770: -1 | FZ770: 4 | GA770: 0 | GB770: 8 | GE770: 2 | GF770: 25 | GG770: 1 | GH770: 26 | GI770: -2 | GJ770: 4 | GK770: 1 | GL770: 13 | GO770: 0 | GP770: 24 | GQ770: -2 | GR770: 5 | GS770: -1 | GT770: 9 | GU770: -1 | GV770: 16 | GY770: 0 | GZ770: 1 | HA770: 0 | HB770: 4 | HC770: 0 | HD770: 3 | HE770: 0 | HF770: 4 | HI770: 1 | HJ770: 34 | HK770: 3 | HL770: 15 | HM770: 5 | HN770: 2 | HO770: 5 | HP770: 2 | HS770: 14 | HT770: 3 | HU770: 14 | HV770: 4 | HW770: 12 | HX770: 16 | HY770: 9 | HZ770: 26 | IC770: 3 | ID770: 10 | IE770: 1 | IF770: 26 | IG770: 1 | IH770: 27 | II770: 5 | IJ770: 2 | IM770: 0 | IN770: 7 | IO770: 0 | IP770: 5 | IQ770: 0 | IR770: 8 | IS770: 1 | IT770: 3
A771: =IF(J771="","",CONCATENATE(J771," ",I771)) | AK771: 13.5 | AL771: 10 | AM771: 0.38888889 | AN771: 1 | AO771: 0.44722222 | AP771: 1 | AQ771: 0.46805556 | AR771: 10 | AS771: 0.42638889 | AV771: 244.25 | AW771: 17 | AX771: 69.64 | AY771: 27 | AZ771: 77.78 | BA771: 2 | BB771: 31 | BC771: 28 | BD771: 1.68 | BE771: 6 | BF771: 31.25 | BG771: 33 | BH771: 75 | BI771: 6 | BJ771: 30 | BK771: 15 | BL771: 13 | BM771: 17 | BN771: 17 | BO771: -4 | BP771: 1 | BQ771: 4 | BR771: 27 | BS771: -4 | BT771: 12 | BU771: 0 | BV771: 18 | BW771: 41 | BX771: 11 | BY771: 1 | BZ771: 4 | CA771: 16 | CB771: 40 | CC771: 16 | CD771: 254.43 | CE771: 72.82 | CF771: 69.12 | CG771: 52.59 | CH771: 1.7 | CI771: 29.34 | CJ771: 49.06 | CK771: 3.01 | CL771: 4.02 | CM771: 4.72 | CN771: 254.45 | CO771: 72.33 | CP771: 68.98 | CQ771: 52.6 | CR771: 1.7 | CS771: 29.31 | CT771: 48.86 | CU771: 3.01 | CV771: 4.02 | CW771: 4.72 | CX771: 9 | CY771: 2 | CZ771: 30 | DA771: 12 | DB771: 8 | DC771: 235 | DD771: 23 | DE771: 246 | DF771: 17 | DG771: 249 | DH771: 9 | DI771: 247 | DJ771: 13 | DM771: 64.29 | DN771: 20 | DO771: 78.57 | DP771: 13 | DQ771: 71.43 | DR771: 23 | DS771: 64.29 | DT771: 27 | DW771: 94.44 | DX771: 2 | DY771: 77.78 | DZ771: 6 | EA771: 66.67 | EB771: 20 | EC771: 72.22 | ED771: 6 | EG771: 30 | EH771: 18 | EI771: 31 | EJ771: 20 | EK771: 29 | EL771: 12 | EM771: 34 | EN771: 32 | EQ771: 1.53 | ER771: 3 | ES771: 1.79 | ET771: 19 | EU771: 1.67 | EV771: 9 | EW771: 1.77 | EX771: 24 | FA771: 0 | FB771: 29 | FC771: 50 | FD771: 15 | FE771: 50 | FF771: 15 | FG771: 0 | FH771: 33 | FO771: 100 | FP771: 1 | FQ771: 50 | FR771: 8 | FU771: -1 | FV771: 5 | FW771: 0 | FX771: 9 | FY771: -2 | FZ771: 1 | GA771: -1 | GB771: 1 | GE771: -1 | GF771: 9 | GG771: -1 | GH771: 7 | GI771: 2 | GJ771: 30 | GK771: 4 | GL771: 28 | GO771: -3 | GP771: 1 | GQ771: 0 | GR771: 19 | GS771: -1 | GT771: 9 | GU771: 0 | GV771: 25 | GY771: 0 | GZ771: 1 | HA771: 0 | HB771: 4 | HC771: 0 | HD771: 3 | HE771: 0 | HF771: 4 | HI771: 8 | HJ771: 1 | HK771: 3 | HL771: 15 | HM771: 4 | HN771: 7 | HO771: 3 | HP771: 15 | HS771: 7 | HT771: 34 | HU771: 13 | HV771: 10 | HW771: 11 | HX771: 28 | HY771: 10 | HZ771: 22 | IC771: 3 | ID771: 10 | IE771: 2 | IF771: 18 | IG771: 3 | IH771: 6 | II771: 3 | IJ771: 15 | IM771: 0 | IN771: 7 | IO771: 0 | IP771: 5 | IQ771: 0 | IR771: 8 | IS771: 1 | IT771: 3
A772: =IF(J772="","",CONCATENATE(J772," ",I772)) | AK772: 13.5 | AL772: 1 | AM772: 0.45763889 | AN772: 10 | AO772: 0.34791667 | AP772: 10 | AQ772: 0.37638889 | AR772: 10 | AS772: 0.35763889 | AV772: 239.5 | AW772: 23 | AX772: 80.36 | AY772: 12 | AZ772: 68.06 | BA772: 20 | BB772: 29 | BC772: 9 | BD772: 1.71 | BE772: 16 | BF772: 56.52 | BG772: 9 | BH772: 0 | BI772: 26 | BJ772: 18 | BK772: 18 | BL772: 20 | BM772: 12 | BN772: 15 | BO772: 2 | BP772: 22 | BQ772: -4 | BR772: 4 | BS772: -2 | BT772: 23 | BU772: 0 | BV772: 14 | BW772: 48 | BX772: 14 | BY772: 0 | BZ772: 2 | CA772: 16 | CB772: 40 | CC772: 16 | CD772: 254.43 | CE772: 72.82 | CF772: 69.12 | CG772: 52.59 | CH772: 1.7 | CI772: 29.34 | CJ772: 49.06 | CK772: 3.01 | CL772: 4.02 | CM772: 4.72 | CN772: 254.45 | CO772: 72.33 | CP772: 68.98 | CQ772: 52.6 | CR772: 1.7 | CS772: 29.31 | CT772: 48.86 | CU772: 3.01 | CV772: 4.02 | CW772: 4.72 | CX772: 9 | CY772: 13 | CZ772: 12 | DA772: 1 | DB772: 20 | DC772: 240 | DD772: 18 | DE772: 241 | DF772: 24 | DG772: 238 | DH772: 24 | DI772: 239 | DJ772: 28 | DM772: 92.86 | DN772: 3 | DO772: 78.57 | DP772: 13 | DQ772: 71.43 | DR772: 23 | DS772: 78.57 | DT772: 10 | DW772: 61.11 | DX772: 26 | DY772: 66.67 | DZ772: 21 | EA772: 77.78 | EB772: 5 | EC772: 66.67 | ED772: 13 | EG772: 28 | EH772: 8 | EI772: 30 | EJ772: 16 | EK772: 32 | EL772: 33 | EM772: 26 | EN772: 1 | EQ772: 1.64 | ER772: 12 | ES772: 1.92 | ET772: 33 | EU772: 1.79 | EV772: 23 | EW772: 1.5 | EX772: 1 | FA772: 42.86 | FB772: 20 | FC772: 83.33 | FD772: 5 | FE772: 25 | FF772: 33 | FG772: 66.67 | FH772: 3 | FK772: 0 | FL772: 12 | FQ772: 0 | FR772: 16 | FU772: -1 | FV772: 5 | FW772: 1 | FX772: 18 | FY772: 1 | FZ772: 24 | GA772: 1 | GB772: 15 | GE772: 2 | GF772: 25 | GG772: -1 | GH772: 7 | GI772: -1 | GJ772: 10 | GK772: -4 | GL772: 1 | GO772: -1 | GP772: 15 | GQ772: 0 | GR772: 19 | GS772: 0 | GT772: 19 | GU772: -1 | GV772: 16 | GY772: 0 | GZ772: 1 | HA772: 0 | HB772: 4 | HC772: 0 | HD772: 3 | HE772: 0 | HF772: 4 | HI772: 4 | HJ772: 13 | HK772: 1 | HL772: 30 | HM772: 3 | HN772: 18 | HO772: 6 | HP772: 1 | HS772: 10 | HT772: 27 | HU772: 16 | HV772: 1 | HW772: 12 | HX772: 16 | HY772: 10 | HZ772: 22 | IC772: 4 | ID772: 3 | IE772: 1 | IF772: 26 | IG772: 3 | IH772: 6 | II772: 6 | IJ772: 1 | IM772: 0 | IN772: 7 | IO772: 0 | IP772: 5 | IQ772: 0 | IR772: 8 | IS772: 0 | IT772: 12
A773: =IF(J773="","",CONCATENATE(J773," ",I773)) | AK773: 13.5 | AL773: 1 | AM773: 0.38125 | AN773: 10 | AO773: 0.34027778 | AP773: 10 | AQ773: 0.36111111 | AR773: 10 | AS773: 0.32708333 | AV773: 253.75 | AW773: 9 | AX773: 76.79 | AY773: 17 | AZ773: 77.78 | BA773: 4 | BB773: 31 | BC773: 28 | BD773: 1.75 | BE773: 23 | BF773: 50 | BG773: 15 | BJ773: 5 | BK773: 8 | BL773: 3 | BM773: 27 | BN773: 6 | BO773: -3 | BP773: 2 | BQ773: 1 | BR773: 15 | BS773: -2 | BT773: 23 | BU773: 0 | BV773: 14 | BW773: 49 | BX773: 12 | BY773: 1 | BZ773: 0 | CA773: 16 | CB773: 40 | CC773: 16 | CD773: 254.43 | CE773: 72.82 | CF773: 69.12 | CG773: 52.59 | CH773: 1.7 | CI773: 29.34 | CJ773: 49.06 | CK773: 3.01 | CL773: 4.02 | CM773: 4.72 | CN773: 254.45 | CO773: 72.33 | CP773: 68.98 | CQ773: 52.6 | CR773: 1.7 | CS773: 29.31 | CT773: 48.86 | CU773: 3.01 | CV773: 4.02 | CW773: 4.72 | CX773: 9 | CY773: 13 | CZ773: 8 | DA773: 10 | DB773: 8 | DC773: 260 | DD773: 3 | DE773: 252 | DF773: 12 | DG773: 250 | DH773: 7 | DI773: 253 | DJ773: 8 | DM773: 78.57 | DN773: 15 | DO773: 64.29 | DP773: 27 | DQ773: 85.71 | DR773: 6 | DS773: 78.57 | DT773: 10 | DW773: 66.67 | DX773: 21 | DY773: 94.44 | DZ773: 1 | EA773: 72.22 | EB773: 15 | EC773: 77.78 | ED773: 3 | EG773: 29 | EH773: 15 | EI773: 34 | EJ773: 33 | EK773: 31 | EL773: 23 | EM773: 30 | EN773: 18 | EQ773: 1.75 | ER773: 21 | ES773: 1.88 | ET773: 29 | EU773: 1.69 | EV773: 11 | EW773: 1.64 | EX773: 12 | FA773: 66.67 | FB773: 7 | FC773: 0 | FD773: 32 | FE773: 40 | FF773: 23 | FG773: 50 | FH773: 9 | FU773: -1 | FV773: 5 | FW773: -1 | FX773: 2 | FY773: 0 | FZ773: 13 | GA773: -1 | GB773: 1 | GE773: 0 | GF773: 16 | GG773: 1 | GH773: 26 | GI773: -1 | GJ773: 10 | GK773: 1 | GL773: 13 | GO773: 0 | GP773: 24 | GQ773: 0 | GR773: 19 | GS773: 0 | GT773: 19 | GU773: -2 | GV773: 3 | GY773: 0 | GZ773: 1 | HA773: 0 | HB773: 4 | HC773: 0 | HD773: 3 | HE773: 0 | HF773: 4 | HI773: 3 | HJ773: 20 | HK773: 2 | HL773: 24 | HM773: 4 | HN773: 7 | HO773: 5 | HP773: 2 | HS773: 13 | HT773: 6 | HU773: 14 | HV773: 4 | HW773: 11 | HX773: 28 | HY773: 11 | HZ773: 13 | IC773: 2 | ID773: 17 | IE773: 2 | IF773: 18 | IG773: 3 | IH773: 6 | II773: 5 | IJ773: 2 | IM773: 0 | IN773: 7 | IO773: 0 | IP773: 5 | IQ773: 0 | IR773: 8 | IS773: 1 | IT773: 3
A774: =IF(J774="","",CONCATENATE(J774," ",I774)) | AK774: 16.5 | AL774: 1 | AM774: 0.43472222 | AN774: 1 | AO774: 0.34791667 | AP774: 1 | AQ774: 0.45277778 | AR774: 1 | AS774: 0.35763889 | AV774: 254.5 | AW774: 7 | AX774: 75 | AY774: 19 | AZ774: 75 | BA774: 7 | BB774: 30.5 | BC774: 24 | BD774: 1.81 | BE774: 33 | BF774: 55.56 | BG774: 11 | BH774: 20 | BI774: 24 | BJ774: 5 | BK774: 13 | BL774: 7 | BM774: 31 | BN774: 13 | BO774: -2 | BP774: 4 | BQ774: 1 | BR774: 15 | BS774: -1 | BT774: 27 | BU774: 0 | BV774: 10 | BW774: 54 | BX774: 6 | BY774: 0 | BZ774: 5 | CA774: 16 | CB774: 40 | CC774: 16 | CD774: 254.43 | CE774: 72.82 | CF774: 69.12 | CG774: 52.59 | CH774: 1.7 | CI774: 29.34 | CJ774: 49.06 | CK774: 3.01 | CL774: 4.02 | CM774: 4.72 | CN774: 254.45 | CO774: 72.33 | CP774: 68.98 | CQ774: 52.6 | CR774: 1.7 | CS774: 29.31 | CT774: 48.86 | CU774: 3.01 | CV774: 4.02 | CW774: 4.72 | CX774: 9 | CY774: 29 | CZ774: 2 | DA774: 32 | DB774: 20 | DC774: 245 | DD774: 15 | DE774: 260 | DF774: 7 | DG774: 266 | DH774: 2 | DI774: 247 | DJ774: 13 | DM774: 64.29 | DN774: 20 | DO774: 85.71 | DP774: 9 | DQ774: 78.57 | DR774: 16 | DS774: 71.43 | DT774: 16 | DW774: 94.44 | DX774: 2 | DY774: 72.22 | DZ774: 18 | EA774: 72.22 | EB774: 15 | EC774: 61.11 | ED774: 19 | EG774: 33 | EH774: 30 | EI774: 28 | EJ774: 5 | EK774: 31 | EL774: 23 | EM774: 30 | EN774: 18 | EQ774: 1.88 | ER774: 34 | ES774: 1.69 | ET774: 11 | EU774: 1.85 | EV774: 28 | EW774: 1.82 | EX774: 27 | FA774: 0 | FB774: 29 | FC774: 80 | FD774: 6 | FE774: 60 | FF774: 13 | FG774: 42.86 | FH774: 16 | FK774: 50 | FL774: 7 | FO774: 0 | FP774: 19 | FQ774: 0 | FR774: 16 | FU774: 0 | FV774: 15 | FW774: -3 | FX774: 1 | FY774: 1 | FZ774: 24 | GA774: 0 | GB774: 8 | GE774: 0 | GF774: 16 | GG774: -1 | GH774: 7 | GI774: 0 | GJ774: 19 | GK774: 2 | GL774: 18 | GO774: -1 | GP774: 15 | GQ774: 1 | GR774: 30 | GS774: -1 | GT774: 9 | GU774: 0 | GV774: 25 | GY774: 0 | GZ774: 1 | HA774: 0 | HB774: 4 | HC774: 0 | HD774: 3 | HE774: 0 | HF774: 4 | HI774: 2 | HJ774: 28 | HK774: 4 | HL774: 10 | HM774: 2 | HN774: 25 | HO774: 2 | HP774: 24 | HS774: 15 | HT774: 1 | HU774: 13 | HV774: 10 | HW774: 14 | HX774: 2 | HY774: 12 | HZ774: 9 | IC774: 1 | ID774: 29 | IE774: 1 | IF774: 26 | IG774: 2 | IH774: 15 | II774: 2 | IJ774: 24 | IM774: 0 | IN774: 7 | IO774: 0 | IP774: 5 | IQ774: 0 | IR774: 8 | IS774: 0 | IT774: 12
A775: =IF(J775="","",CONCATENATE(J775," ",I775)) | AK775: 16.5 | AL775: 10 | AM775: 0.45 | AN775: 1 | AO775: 0.43958333 | AP775: 10 | AQ775: 0.40694444 | AR775: 1 | AS775: 0.34236111 | AV775: 229.75 | AW775: 34 | AX775: 85.71 | AY775: 6 | AZ775: 66.67 | BA775: 23 | BB775: 29.5 | BC775: 14 | BD775: 1.71 | BE775: 12 | BF775: 50 | BG775: 15 | BH775: 0 | BI775: 26 | BJ775: 28 | BK775: 15 | BL775: 25 | BM775: 14 | BN775: 20 | BO775: 1 | BP775: 14 | BQ775: 2 | BR775: 20 | BS775: -5 | BT775: 7 | BU775: 0 | BV775: 14 | BW775: 46 | BX775: 11 | BY775: 0 | BZ775: 1 | CA775: 16 | CB775: 40 | CC775: 16 | CD775: 254.43 | CE775: 72.82 | CF775: 69.12 | CG775: 52.59 | CH775: 1.7 | CI775: 29.34 | CJ775: 49.06 | CK775: 3.01 | CL775: 4.02 | CM775: 4.72 | CN775: 254.45 | CO775: 72.33 | CP775: 68.98 | CQ775: 52.6 | CR775: 1.7 | CS775: 29.31 | CT775: 48.86 | CU775: 3.01 | CV775: 4.02 | CW775: 4.72 | CX775: 9 | CY775: 13 | CZ775: 21 | DA775: 12 | DB775: 20 | DC775: 230 | DD775: 31 | DE775: 231 | DF775: 31 | DG775: 227 | DH775: 33 | DI775: 231 | DJ775: 34 | DM775: 100 | DN775: 1 | DO775: 100 | DP775: 1 | DQ775: 85.71 | DR775: 6 | DS775: 57.14 | DT775: 32 | DW775: 100 | DX775: 1 | DY775: 38.89 | DZ775: 35 | EA775: 66.67 | EB775: 20 | EC775: 61.11 | ED775: 19 | EG775: 33 | EH775: 30 | EI775: 28 | EJ775: 5 | EK775: 27 | EL775: 5 | EM775: 30 | EN775: 18 | EQ775: 1.83 | ER775: 30 | ES775: 1.71 | ET775: 14 | EU775: 1.58 | EV775: 3 | EW775: 1.64 | EX775: 9 | FC775: 54.55 | FD775: 14 | FE775: 66.67 | FF775: 10 | FG775: 28.57 | FH775: 25 | FM775: 0 | FN775: 8 | FU775: 0 | FV775: 15 | FW775: 2 | FX775: 30 | FY775: 0 | FZ775: 13 | GA775: -1 | GB775: 1 | GE775: -1 | GF775: 9 | GG775: 1 | GH775: 26 | GI775: -2 | GJ775: 4 | GK775: 4 | GL775: 28 | GO775: -2 | GP775: 5 | GQ775: 0 | GR775: 19 | GS775: -1 | GT775: 9 | GU775: -2 | GV775: 3 | GY775: 0 | GZ775: 1 | HA775: 0 | HB775: 4 | HC775: 0 | HD775: 3 | HE775: 0 | HF775: 4 | HI775: 3 | HJ775: 20 | HK775: 2 | HL775: 24 | HM775: 5 | HN775: 2 | HO775: 4 | HP775: 6 | HS775: 15 | HT775: 1 | HU775: 11 | HV775: 24 | HW775: 11 | HX775: 28 | HY775: 9 | HZ775: 26 | IC775: 0 | ID775: 34 | IE775: 5 | IF775: 1 | IG775: 2 | IH775: 15 | II775: 4 | IJ775: 6 | IM775: 0 | IN775: 7 | IO775: 0 | IP775: 5 | IQ775: 0 | IR775: 8 | IS775: 0 | IT775: 12
A776: =IF(J776="","",CONCATENATE(J776," ",I776)) | AK776: 18 | AL776: 1 | AM776: 0.45763889 | AN776: 1 | AO776: 0.35555556 | AP776: 1 | AQ776: 0.39930556 | AR776: 10 | AS776: 0.36527778 | AV776: 248.75 | AW776: 15 | AX776: 71.43 | AY776: 23 | AZ776: 70.83 | BA776: 16 | BB776: 31 | BC776: 28 | BD776: 1.76 | BE776: 28 | BF776: 47.62 | BG776: 19 | BH776: 71.43 | BI776: 8 | BJ776: 24 | BK776: 21 | BL776: 18 | BM776: 30 | BN776: 26 | BO776: 0 | BP776: 8 | BQ776: 1 | BR776: 15 | BS776: -2 | BT776: 23 | BU776: 1 | BV776: 11 | BW776: 49 | BX776: 11 | BY776: 1 | BZ776: 7 | CA776: 16 | CB776: 40 | CC776: 16 | CD776: 254.43 | CE776: 72.82 | CF776: 69.12 | CG776: 52.59 | CH776: 1.7 | CI776: 29.34 | CJ776: 49.06 | CK776: 3.01 | CL776: 4.02 | CM776: 4.72 | CN776: 254.45 | CO776: 72.33 | CP776: 68.98 | CQ776: 52.6 | CR776: 1.7 | CS776: 29.31 | CT776: 48.86 | CU776: 3.01 | CV776: 4.02 | CW776: 4.72 | CX776: 1 | CY776: 27 | CZ776: 8 | DA776: 12 | DB776: 8 | DC776: 245 | DD776: 15 | DE776: 245 | DF776: 20 | DG776: 246 | DH776: 14 | DI776: 259 | DJ776: 6 | DM776: 78.57 | DN776: 15 | DO776: 78.57 | DP776: 13 | DQ776: 78.57 | DR776: 16 | DS776: 50 | DT776: 34 | DW776: 83.33 | DX776: 6 | DY776: 77.78 | DZ776: 6 | EA776: 61.11 | EB776: 26 | EC776: 61.11 | ED776: 19 | EG776: 33 | EH776: 30 | EI776: 32 | EJ776: 27 | EK776: 31 | EL776: 23 | EM776: 28 | EN776: 5 | EQ776: 1.73 | ER776: 18 | ES776: 1.79 | ET776: 19 | EU776: 1.91 | EV776: 33 | EW776: 1.64 | EX776: 9 | FA776: 33.33 | FB776: 23 | FC776: 25 | FD776: 26 | FE776: 57.14 | FF776: 14 | FG776: 57.14 | FH776: 7 | FM776: 50 | FN776: 6 | FO776: 100 | FP776: 1 | FQ776: 75 | FR776: 7 | FU776: 1 | FV776: 26 | FW776: 1 | FX776: 18 | FY776: -1 | FZ776: 4 | GA776: -1 | GB776: 1 | GE776: -1 | GF776: 9 | GG776: 0 | GH776: 17 | GI776: 2 | GJ776: 30 | GK776: 0 | GL776: 6 | GO776: -1 | GP776: 15 | GQ776: -2 | GR776: 5 | GS776: 1 | GT776: 28 | GU776: 0 | GV776: 25 | GY776: 0 | GZ776: 1 | HA776: 1 | HB776: 1 | HC776: 0 | HD776: 3 | HE776: 0 | HF776: 4 | HI776: 4 | HJ776: 13 | HK776: 2 | HL776: 24 | HM776: 1 | HN776: 31 | HO776: 4 | HP776: 6 | HS776: 12 | HT776: 9 | HU776: 12 | HV776: 16 | HW776: 14 | HX776: 2 | HY776: 11 | HZ776: 13 | IC776: 1 | ID776: 29 | IE776: 3 | IF776: 8 | IG776: 3 | IH776: 6 | II776: 4 | IJ776: 6 | IM776: 1 | IN776: 2 | IO776: 0 | IP776: 5 | IQ776: 0 | IR776: 8 | IS776: 0 | IT776: 12
A777: =IF(J777="","",CONCATENATE(J777," ",I777)) | AK777: 20 | AL777: 1 | AM777: 0.41180556 | AN777: 10 | AO777: 0.40138889 | AP777: 1 | AQ777: 0.36875 | AR777: 10 | AS777: 0.38819444 | AV777: 230.75 | AW777: 32 | AX777: 85.71 | AY777: 7 | AZ777: 69.44 | BA777: 18 | BB777: 30.5 | BC777: 24 | BD777: 1.74 | BE777: 21 | BF777: 36.36 | BG777: 30 | BH777: 0 | BI777: 26 | BJ777: 26 | BK777: 12 | BL777: 22 | BM777: 23 | BN777: 28 | BO777: 0 | BP777: 8 | BQ777: 4 | BR777: 27 | BS777: -4 | BT777: 12 | BU777: 1 | BV777: 12 | BW777: 45 | BX777: 14 | BY777: 0 | BZ777: 2 | CA777: 16 | CB777: 40 | CC777: 16 | CD777: 254.43 | CE777: 72.82 | CF777: 69.12 | CG777: 52.59 | CH777: 1.7 | CI777: 29.34 | CJ777: 49.06 | CK777: 3.01 | CL777: 4.02 | CM777: 4.72 | CN777: 254.45 | CO777: 72.33 | CP777: 68.98 | CQ777: 52.6 | CR777: 1.7 | CS777: 29.31 | CT777: 48.86 | CU777: 3.01 | CV777: 4.02 | CW777: 4.72 | CX777: 1 | CY777: 23 | CZ777: 24 | DA777: 1 | DB777: 20 | DC777: 229 | DD777: 32 | DE777: 230 | DF777: 32 | DG777: 226 | DH777: 34 | DI777: 238 | DJ777: 29 | DM777: 92.86 | DN777: 3 | DO777: 100 | DP777: 1 | DQ777: 85.71 | DR777: 6 | DS777: 64.29 | DT777: 27 | DW777: 72.22 | DX777: 16 | DY777: 77.78 | DZ777: 6 | EA777: 50 | EB777: 35 | EC777: 77.78 | ED777: 3 | EG777: 32 | EH777: 27 | EI777: 29 | EJ777: 11 | EK777: 31 | EL777: 23 | EM777: 30 | EN777: 18 | EQ777: 1.85 | ER777: 32 | ES777: 1.64 | ET777: 8 | EU777: 1.78 | EV777: 22 | EW777: 1.71 | EX777: 19 | FA777: 20 | FB777: 27 | FC777: 75 | FD777: 7 | FE777: 33.33 | FF777: 29 | FG777: 25 | FH777: 26 | FO777: 0 | FP777: 19 | FQ777: 0 | FR777: 16 | FU777: 0 | FV777: 15 | FW777: 1 | FX777: 18 | FY777: 0 | FZ777: 13 | GA777: -1 | GB777: 1 | GE777: 2 | GF777: 25 | GG777: -4 | GH777: 1 | GI777: 4 | GJ777: 35 | GK777: 2 | GL777: 18 | GO777: 0 | GP777: 24 | GQ777: -1 | GR777: 16 | GS777: 0 | GT777: 19 | GU777: -3 | GV777: 1 | GY777: 0 | GZ777: 1 | HA777: 0 | HB777: 4 | HC777: 0 | HD777: 3 | HE777: 1 | HF777: 1 | HI777: 2 | HJ777: 28 | HK777: 5 | HL777: 3 | HM777: 2 | HN777: 25 | HO777: 3 | HP777: 15 | HS777: 12 | HT777: 9 | HU777: 12 | HV777: 16 | HW777: 10 | HX777: 32 | HY777: 11 | HZ777: 13 | IC777: 4 | ID777: 3 | IE777: 1 | IF777: 26 | IG777: 6 | IH777: 1 | II777: 3 | IJ777: 15 | IM777: 0 | IN777: 7 | IO777: 0 | IP777: 5 | IQ777: 0 | IR777: 8 | IS777: 0 | IT777: 12
A778: =IF(J778="","",CONCATENATE(J778," ",I778)) | AK778: 20 | AL778: 10 | AM778: 0.44236111 | AN778: 10 | AO778: 0.42430556 | AP778: 10 | AQ778: 0.46041667 | AR778: 10 | AS778: 0.34236111 | AV778: 237.75 | AW778: 24 | AX778: 87.5 | AY778: 4 | AZ778: 63.89 | BA778: 26 | BB778: 29.5 | BC778: 14 | BD778: 1.83 | BE778: 34 | BF778: 69.23 | BG778: 3 | BH778: 100 | BI778: 1 | BJ778: 10 | BK778: 17 | BL778: 18 | BM778: 25 | BN778: 21 | BO778: -1 | BP778: 7 | BQ778: 2 | BR778: 20 | BS778: -1 | BT778: 27 | BU778: 1 | BV778: 7 | BW778: 56 | BX778: 7 | BY778: 1 | BZ778: 4 | CA778: 16 | CB778: 40 | CC778: 16 | CD778: 254.43 | CE778: 72.82 | CF778: 69.12 | CG778: 52.59 | CH778: 1.7 | CI778: 29.34 | CJ778: 49.06 | CK778: 3.01 | CL778: 4.02 | CM778: 4.72 | CN778: 254.45 | CO778: 72.33 | CP778: 68.98 | CQ778: 52.6 | CR778: 1.7 | CS778: 29.31 | CT778: 48.86 | CU778: 3.01 | CV778: 4.02 | CW778: 4.72 | CX778: 1 | CY778: 34 | CZ778: 1 | DA778: 27 | DB778: 8 | DC778: 235 | DD778: 23 | DE778: 246 | DF778: 17 | DG778: 232 | DH778: 28 | DI778: 238 | DJ778: 29 | DM778: 85.71 | DN778: 8 | DO778: 85.71 | DP778: 9 | DQ778: 85.71 | DR778: 6 | DS778: 92.86 | DT778: 1 | DW778: 55.56 | DX778: 30 | DY778: 55.56 | DZ778: 31 | EA778: 83.33 | EB778: 2 | EC778: 61.11 | ED778: 19 | EG778: 31 | EH778: 23 | EI778: 31 | EJ778: 20 | EK778: 27 | EL778: 5 | EM778: 29 | EN778: 12 | EQ778: 1.9 | ER778: 35 | ES778: 1.9 | ET778: 30 | EU778: 1.67 | EV778: 9 | EW778: 1.91 | EX778: 31 | FA778: 62.5 | FB778: 9 | FC778: 50 | FD778: 15 | FE778: 100 | FF778: 1 | FG778: 85.71 | FH778: 2 | FM778: 100 | FN778: 1 | FO778: 100 | FP778: 1 | FQ778: 100 | FR778: 1 | FU778: 1 | FV778: 26 | FW778: 0 | FX778: 9 | FY778: -2 | FZ778: 1 | GA778: 0 | GB778: 8 | GE778: 3 | GF778: 33 | GG778: 3 | GH778: 32 | GI778: -4 | GJ778: 1 | GK778: 0 | GL778: 6 | GO778: -1 | GP778: 15 | GQ778: 0 | GR778: 19 | GS778: 0 | GT778: 19 | GU778: 0 | GV778: 25 | GY778: 0 | GZ778: 1 | HA778: 0 | HB778: 4 | HC778: 1 | HD778: 1 | HE778: 0 | HF778: 4 | HI778: 1 | HJ778: 34 | HK778: 1 | HL778: 30 | HM778: 4 | HN778: 7 | HO778: 1 | HP778: 28 | HS778: 14 | HT778: 3 | HU778: 13 | HV778: 10 | HW778: 13 | HX778: 7 | HY778: 16 | HZ778: 1 | IC778: 2 | ID778: 17 | IE778: 4 | IF778: 3 | IG778: 0 | IH778: 32 | II778: 1 | IJ778: 28 | IM778: 1 | IN778: 2 | IO778: 0 | IP778: 5 | IQ778: 0 | IR778: 8 | IS778: 0 | IT778: 12
A779: =IF(J779="","",CONCATENATE(J779," ",I779)) | AK779: 20 | AL779: 1 | AM779: 0.41944444 | AN779: 10 | AO779: 0.43194444 | AP779: 10 | AQ779: 0.42222222 | AR779: 1 | AS779: 0.35 | AV779: 250.5 | AW779: 13 | AX779: 76.79 | AY779: 15 | AZ779: 65.28 | BA779: 24 | BB779: 28.75 | BC779: 6 | BD779: 1.7 | BE779: 11 | BF779: 56 | BG779: 10 | BH779: 0 | BI779: 26 | BJ779: 10 | BK779: 21 | BL779: 16 | BM779: 9 | BN779: 10 | BO779: 2 | BP779: 22 | BQ779: 3 | BR779: 24 | BS779: -5 | BT779: 7 | BU779: 0 | BV779: 14 | BW779: 47 | BX779: 9 | BY779: 3 | BZ779: 1 | CA779: 16 | CB779: 40 | CC779: 16 | CD779: 254.43 | CE779: 72.82 | CF779: 69.12 | CG779: 52.59 | CH779: 1.7 | CI779: 29.34 | CJ779: 49.06 | CK779: 3.01 | CL779: 4.02 | CM779: 4.72 | CN779: 254.45 | CO779: 72.33 | CP779: 68.98 | CQ779: 52.6 | CR779: 1.7 | CS779: 29.31 | CT779: 48.86 | CU779: 3.01 | CV779: 4.02 | CW779: 4.72 | CX779: 9 | CY779: 13 | CZ779: 17 | DA779: 20 | DB779: 2 | DC779: 255 | DD779: 6 | DE779: 256 | DF779: 8 | DG779: 250 | DH779: 7 | DI779: 241 | DJ779: 23 | DM779: 57.14 | DN779: 28 | DO779: 92.86 | DP779: 5 | DQ779: 85.71 | DR779: 6 | DS779: 71.43 | DT779: 16 | DW779: 66.67 | DX779: 21 | DY779: 66.67 | DZ779: 21 | EA779: 66.67 | EB779: 20 | EC779: 61.11 | ED779: 19 | EG779: 32 | EH779: 27 | EI779: 29 | EJ779: 11 | EK779: 25 | EL779: 2 | EM779: 29 | EN779: 12 | EQ779: 1.83 | ER779: 30 | ES779: 1.67 | ET779: 9 | EU779: 1.58 | EV779: 3 | EW779: 1.73 | EX779: 20 | FA779: 33.33 | FB779: 23 | FC779: 66.67 | FD779: 8 | FE779: 83.33 | FF779: 4 | FG779: 42.86 | FH779: 16 | FQ779: 0 | FR779: 16 | FU779: 1 | FV779: 26 | FW779: -1 | FX779: 2 | FY779: -1 | FZ779: 4 | GA779: 3 | GB779: 32 | GE779: 2 | GF779: 25 | GG779: -1 | GH779: 7 | GI779: -1 | GJ779: 10 | GK779: 3 | GL779: 25 | GO779: 0 | GP779: 24 | GQ779: 0 | GR779: 19 | GS779: -2 | GT779: 1 | GU779: -3 | GV779: 1 | GY779: 0 | GZ779: 1 | HA779: 0 | HB779: 4 | HC779: 0 | HD779: 3 | HE779: 0 | HF779: 4 | HI779: 2 | HJ779: 28 | HK779: 4 | HL779: 10 | HM779: 5 | HN779: 2 | HO779: 3 | HP779: 15 | HS779: 12 | HT779: 9 | HU779: 12 | HV779: 16 | HW779: 12 | HX779: 16 | HY779: 11 | HZ779: 13 | IC779: 3 | ID779: 10 | IE779: 2 | IF779: 18 | IG779: 1 | IH779: 27 | II779: 3 | IJ779: 15 | IM779: 1 | IN779: 2 | IO779: 0 | IP779: 5 | IQ779: 0 | IR779: 8 | IS779: 2 | IT779: 2
A780: =IF(J780="","",CONCATENATE(J780," ",I780)) | AK780: 23.5 | AL780: 10 | AM780: 0.38125 | AN780: 1 | AO780: 0.40138889 | AP780: 1 | AQ780: 0.37638889 | AR780: 1 | AS780: 0.33472222 | AV780: 234.25 | AW780: 27 | AX780: 82.14 | AY780: 10 | AZ780: 63.89 | BA780: 26 | BB780: 29 | BC780: 9 | BD780: 1.65 | BE780: 4 | BF780: 38.46 | BG780: 27 | BH780: 100 | BI780: 1 | BJ780: 20 | BK780: 19 | BL780: 25 | BM780: 5 | BN780: 24 | BO780: 3 | BP780: 26 | BQ780: 4 | BR780: 27 | BS780: -6 | BT780: 6 | BU780: 0 | BV780: 16 | BW780: 40 | BX780: 13 | BY780: 1 | BZ780: 3 | CA780: 16 | CB780: 40 | CC780: 16 | CD780: 254.43 | CE780: 72.82 | CF780: 69.12 | CG780: 52.59 | CH780: 1.7 | CI780: 29.34 | CJ780: 49.06 | CK780: 3.01 | CL780: 4.02 | CM780: 4.72 | CN780: 254.45 | CO780: 72.33 | CP780: 68.98 | CQ780: 52.6 | CR780: 1.7 | CS780: 29.31 | CT780: 48.86 | CU780: 3.01 | CV780: 4.02 | CW780: 4.72 | CX780: 9 | CY780: 4 | CZ780: 32 | DA780: 7 | DB780: 8 | DC780: 238 | DD780: 20 | DE780: 227 | DF780: 34 | DG780: 231 | DH780: 29 | DI780: 241 | DJ780: 23 | DM780: 92.86 | DN780: 3 | DO780: 64.29 | DP780: 27 | DQ780: 85.71 | DR780: 6 | DS780: 85.71 | DT780: 3 | DW780: 72.22 | DX780: 16 | DY780: 77.78 | DZ780: 6 | EA780: 66.67 | EB780: 20 | EC780: 38.89 | ED780: 32 | EG780: 27 | EH780: 3 | EI780: 33 | EJ780: 30 | EK780: 28 | EL780: 7 | EM780: 28 | EN780: 5 | EQ780: 1.46 | ER780: 2 | ES780: 1.79 | ET780: 19 | EU780: 1.75 | EV780: 18 | EW780: 1.57 | EX780: 2 | FA780: 20 | FB780: 27 | FC780: 0 | FD780: 32 | FE780: 66.67 | FF780: 10 | FG780: 45.45 | FH780: 13 | FM780: 100 | FN780: 1 | FO780: 100 | FP780: 1 | FU780: -2 | FV780: 1 | FW780: 1 | FX780: 18 | FY780: 2 | FZ780: 31 | GA780: 2 | GB780: 27 | GE780: 1 | GF780: 23 | GG780: 2 | GH780: 31 | GI780: -1 | GJ780: 10 | GK780: 2 | GL780: 18 | GO780: -2 | GP780: 5 | GQ780: -2 | GR780: 5 | GS780: -2 | GT780: 1 | GU780: 0 | GV780: 25 | GY780: 0 | GZ780: 1 | HA780: 0 | HB780: 4 | HC780: 0 | HD780: 3 | HE780: 0 | HF780: 4 | HI780: 7 | HJ780: 2 | HK780: 3 | HL780: 15 | HM780: 3 | HN780: 18 | HO780: 3 | HP780: 15 | HS780: 7 | HT780: 34 | HU780: 11 | HV780: 24 | HW780: 13 | HX780: 7 | HY780: 9 | HZ780: 26 | IC780: 4 | ID780: 3 | IE780: 4 | IF780: 3 | IG780: 2 | IH780: 15 | II780: 3 | IJ780: 15 | IM780: 0 | IN780: 7 | IO780: 0 | IP780: 5 | IQ780: 0 | IR780: 8 | IS780: 1 | IT780: 3
A781: =IF(J781="","",CONCATENATE(J781," ",I781)) | AK781: 23.5 | AL781: 1 | AM781: 0.38888889 | AN781: 1 | AO781: 0.42430556 | AP781: 1 | AQ781: 0.42986111 | AR781: 1 | AS781: 0.31944444 | AV781: 243 | AW781: 19 | AX781: 83.93 | AY781: 8 | AZ781: 73.61 | BA781: 10 | BB781: 31.25 | BC781: 32 | BD781: 1.81 | BE781: 32 | BF781: 47.37 | BG781: 20 | BH781: 0 | BI781: 26 | BJ781: 8 | BK781: 5 | BL781: 8 | BM781: 33 | BN781: 18 | BO781: 0 | BP781: 8 | BQ781: 5 | BR781: 31 | BS781: -4 | BT781: 12 | BU781: 0 | BV781: 10 | BW781: 52 | BX781: 7 | BY781: 1 | BZ781: 6 | CA781: 16 | CB781: 40 | CC781: 16 | CD781: 254.43 | CE781: 72.82 | CF781: 69.12 | CG781: 52.59 | CH781: 1.7 | CI781: 29.34 | CJ781: 49.06 | CK781: 3.01 | CL781: 4.02 | CM781: 4.72 | CN781: 254.45 | CO781: 72.33 | CP781: 68.98 | CQ781: 52.6 | CR781: 1.7 | CS781: 29.31 | CT781: 48.86 | CU781: 3.01 | CV781: 4.02 | CW781: 4.72 | CX781: 9 | CY781: 29 | CZ781: 4 | DA781: 27 | DB781: 8 | DC781: 239 | DD781: 19 | DE781: 238 | DF781: 26 | DG781: 251 | DH781: 5 | DI781: 244 | DJ781: 18 | DM781: 92.86 | DN781: 3 | DO781: 78.57 | DP781: 13 | DQ781: 78.57 | DR781: 16 | DS781: 85.71 | DT781: 3 | DW781: 83.33 | DX781: 6 | DY781: 83.33 | DZ781: 3 | EA781: 72.22 | EB781: 15 | EC781: 55.56 | ED781: 25 | EG781: 31 | EH781: 23 | EI781: 31 | EJ781: 20 | EK781: 31 | EL781: 23 | EM781: 32 | EN781: 27 | EQ781: 1.73 | ER781: 18 | ES781: 1.8 | ET781: 24 | EU781: 1.85 | EV781: 28 | EW781: 1.9 | EX781: 30 | FA781: 33.33 | FB781: 23 | FC781: 66.67 | FD781: 8 | FE781: 40 | FF781: 23 | FG781: 50 | FH781: 9 | FK781: 0 | FL781: 12 | FO781: 0 | FP781: 19 | FQ781: 0 | FR781: 16 | FU781: 0 | FV781: 15 | FW781: 0 | FX781: 9 | FY781: -1 | FZ781: 4 | GA781: 1 | GB781: 15 | GE781: 0 | GF781: 16 | GG781: -2 | GH781: 3 | GI781: 3 | GJ781: 33 | GK781: 4 | GL781: 28 | GO781: -2 | GP781: 5 | GQ781: 0 | GR781: 19 | GS781: -1 | GT781: 9 | GU781: -1 | GV781: 16 | GY781: 0 | GZ781: 1 | HA781: 0 | HB781: 4 | HC781: 0 | HD781: 3 | HE781: 0 | HF781: 4 | HI781: 4 | HJ781: 13 | HK781: 3 | HL781: 15 | HM781: 2 | HN781: 25 | HO781: 1 | HP781: 28 | HS781: 12 | HT781: 9 | HU781: 14 | HV781: 4 | HW781: 13 | HX781: 7 | HY781: 13 | HZ781: 4 | IC781: 2 | ID781: 17 | IE781: 1 | IF781: 26 | IG781: 3 | IH781: 6 | II781: 1 | IJ781: 28 | IM781: 0 | IN781: 7 | IO781: 0 | IP781: 5 | IQ781: 0 | IR781: 8 | IS781: 1 | IT781: 3
A782: =IF(J782="","",CONCATENATE(J782," ",I782)) | AK782: 23.5 | AL782: 10 | AM782: 0.42708333 | AN782: 1 | AO782: 0.45486111 | AP782: 1 | AQ782: 0.36111111 | AR782: 1 | AS782: 0.32708333 | AV782: 244.75 | AW782: 16 | AX782: 58.93 | AY782: 34 | AZ782: 69.44 | BA782: 17 | BB782: 29.75 | BC782: 17 | BD782: 1.76 | BE782: 26 | BF782: 45.45 | BG782: 22 | BH782: 57.14 | BI782: 11 | BJ782: 32 | BK782: 26 | BL782: 30 | BM782: 22 | BN782: 31 | BO782: 1 | BP782: 14 | BQ782: 3 | BR782: 24 | BS782: -3 | BT782: 20 | BU782: 0 | BV782: 12 | BW782: 48 | BX782: 9 | BY782: 1 | BZ782: 7 | CA782: 16 | CB782: 40 | CC782: 16 | CD782: 254.43 | CE782: 72.82 | CF782: 69.12 | CG782: 52.59 | CH782: 1.7 | CI782: 29.34 | CJ782: 49.06 | CK782: 3.01 | CL782: 4.02 | CM782: 4.72 | CN782: 254.45 | CO782: 72.33 | CP782: 68.98 | CQ782: 52.6 | CR782: 1.7 | CS782: 29.31 | CT782: 48.86 | CU782: 3.01 | CV782: 4.02 | CW782: 4.72 | CX782: 9 | CY782: 23 | CZ782: 12 | DA782: 20 | DB782: 8 | DC782: 254 | DD782: 8 | DE782: 239 | DF782: 25 | DG782: 243 | DH782: 17 | DI782: 243 | DJ782: 21 | DM782: 64.29 | DN782: 20 | DO782: 35.71 | DP782: 35 | DQ782: 71.43 | DR782: 23 | DS782: 64.29 | DT782: 27 | DW782: 77.78 | DX782: 10 | DY782: 66.67 | DZ782: 21 | EA782: 66.67 | EB782: 20 | EC782: 66.67 | ED782: 13 | EG782: 27 | EH782: 3 | EI782: 32 | EJ782: 27 | EK782: 28 | EL782: 7 | EM782: 32 | EN782: 27 | EQ782: 1.57 | ER782: 4 | ES782: 1.83 | ET782: 27 | EU782: 1.75 | EV782: 18 | EW782: 1.92 | EX782: 32 | FA782: 75 | FB782: 2 | FC782: 16.67 | FD782: 31 | FE782: 66.67 | FF782: 10 | FG782: 33.33 | FH782: 21 | FM782: 0 | FN782: 8 | FO782: 100 | FP782: 1 | FQ782: 50 | FR782: 8 | FU782: -1 | FV782: 5 | FW782: -1 | FX782: 2 | FY782: 1 | FZ782: 24 | GA782: 2 | GB782: 27 | GE782: -1 | GF782: 9 | GG782: 3 | GH782: 32 | GI782: -1 | GJ782: 10 | GK782: 2 | GL782: 18 | GO782: -3 | GP782: 1 | GQ782: 1 | GR782: 30 | GS782: -1 | GT782: 9 | GU782: 0 | GV782: 25 | GY782: 0 | GZ782: 1 | HA782: 0 | HB782: 4 | HC782: 0 | HD782: 3 | HE782: 0 | HF782: 4 | HI782: 6 | HJ782: 4 | HK782: 2 | HL782: 24 | HM782: 3 | HN782: 18 | HO782: 1 | HP782: 28 | HS782: 11 | HT782: 19 | HU782: 11 | HV782: 24 | HW782: 13 | HX782: 7 | HY782: 13 | HZ782: 4 | IC782: 1 | ID782: 29 | IE782: 5 | IF782: 1 | IG782: 2 | IH782: 15 | II782: 1 | IJ782: 28 | IM782: 0 | IN782: 7 | IO782: 0 | IP782: 5 | IQ782: 0 | IR782: 8 | IS782: 1 | IT782: 3
A783: =IF(J783="","",CONCATENATE(J783," ",I783)) | AK783: 23.5 | AL783: 1 | AM783: 0.37361111 | AN783: 10 | AO783: 0.37083333 | AP783: 10 | AQ783: 0.38402778 | AR783: 10 | AS783: 0.31944444 | AV783: 240.75 | AW783: 21 | AX783: 64.29 | AY783: 31 | AZ783: 63.89 | BA783: 28 | BB783: 30 | BC783: 20 | BD783: 1.67 | BE783: 5 | BF783: 38.46 | BG783: 27 | BH783: 33.33 | BI783: 21 | BJ783: 33 | BK783: 31 | BL783: 33 | BM783: 12 | BN783: 29 | BO783: 4 | BP783: 29 | BQ783: 1 | BR783: 15 | BS783: -4 | BT783: 12 | BU783: 0 | BV783: 15 | BW783: 41 | BX783: 13 | BY783: 0 | BZ783: 3 | CA783: 16 | CB783: 40 | CC783: 16 | CD783: 254.43 | CE783: 72.82 | CF783: 69.12 | CG783: 52.59 | CH783: 1.7 | CI783: 29.34 | CJ783: 49.06 | CK783: 3.01 | CL783: 4.02 | CM783: 4.72 | CN783: 254.45 | CO783: 72.33 | CP783: 68.98 | CQ783: 52.6 | CR783: 1.7 | CS783: 29.31 | CT783: 48.86 | CU783: 3.01 | CV783: 4.02 | CW783: 4.72 | CX783: 9 | CY783: 8 | CZ783: 30 | DA783: 7 | DB783: 20 | DC783: 238 | DD783: 20 | DE783: 243 | DF783: 23 | DG783: 238 | DH783: 24 | DI783: 244 | DJ783: 18 | DM783: 50 | DN783: 31 | DO783: 78.57 | DP783: 13 | DQ783: 57.14 | DR783: 33 | DS783: 71.43 | DT783: 16 | DW783: 77.78 | DX783: 10 | DY783: 72.22 | DZ783: 18 | EA783: 55.56 | EB783: 30 | EC783: 50 | ED783: 29 | EG783: 35 | EH783: 33 | EI783: 30 | EJ783: 16 | EK783: 26 | EL783: 3 | EM783: 29 | EN783: 12 | EQ783: 1.79 | ER783: 24 | ES783: 1.62 | ET783: 7 | EU783: 1.6 | EV783: 6 | EW783: 1.67 | EX783: 14 | FA783: 0 | FB783: 29 | FC783: 20 | FD783: 30 | FE783: 75 | FF783: 6 | FG783: 33.33 | FH783: 21 | FO783: 50 | FP783: 14 | FQ783: 0 | FR783: 16 | FU783: 1 | FV783: 26 | FW783: -1 | FX783: 2 | FY783: 1 | FZ783: 24 | GA783: 3 | GB783: 32 | GE783: 0 | GF783: 16 | GG783: 1 | GH783: 26 | GI783: -1 | GJ783: 10 | GK783: 1 | GL783: 13 | GO783: 0 | GP783: 24 | GQ783: -1 | GR783: 16 | GS783: -2 | GT783: 1 | GU783: -1 | GV783: 16 | GY783: 0 | GZ783: 1 | HA783: 0 | HB783: 4 | HC783: 0 | HD783: 3 | HE783: 0 | HF783: 4 | HI783: 3 | HJ783: 20 | HK783: 5 | HL783: 3 | HM783: 4 | HN783: 7 | HO783: 3 | HP783: 15 | HS783: 11 | HT783: 19 | HU783: 9 | HV783: 33 | HW783: 12 | HX783: 16 | HY783: 9 | HZ783: 26 | IC783: 4 | ID783: 3 | IE783: 4 | IF783: 3 | IG783: 2 | IH783: 15 | II783: 3 | IJ783: 15 | IM783: 0 | IN783: 7 | IO783: 0 | IP783: 5 | IQ783: 0 | IR783: 8 | IS783: 0 | IT783: 12
A784: =IF(J784="","",CONCATENATE(J784," ",I784)) | AK784: 26 | AL784: 10 | AM784: 0.41180556 | AN784: 1 | AO784: 0.37847222 | AP784: 1 | AQ784: 0.38402778 | AR784: 10 | AS784: 0.39583333 | AV784: 256 | AW784: 4 | AX784: 71.43 | AY784: 23 | AZ784: 62.5 | BA784: 29 | BB784: 28.75 | BC784: 6 | BD784: 1.71 | BE784: 15 | BF784: 48.15 | BG784: 18 | BH784: 80 | BI784: 5 | BJ784: 8 | BK784: 27 | BL784: 21 | BM784: 11 | BN784: 18 | BO784: 6 | BP784: 33 | BQ784: -2 | BR784: 7 | BS784: -2 | BT784: 23 | BU784: 0 | BV784: 13 | BW784: 45 | BX784: 13 | BY784: 1 | BZ784: 5 | CA784: 16 | CB784: 40 | CC784: 16 | CD784: 254.43 | CE784: 72.82 | CF784: 69.12 | CG784: 52.59 | CH784: 1.7 | CI784: 29.34 | CJ784: 49.06 | CK784: 3.01 | CL784: 4.02 | CM784: 4.72 | CN784: 254.45 | CO784: 72.33 | CP784: 68.98 | CQ784: 52.6 | CR784: 1.7 | CS784: 29.31 | CT784: 48.86 | CU784: 3.01 | CV784: 4.02 | CW784: 4.72 | CX784: 9 | CY784: 21 | CZ784: 24 | DA784: 7 | DB784: 8 | DC784: 252 | DD784: 12 | DE784: 262 | DF784: 3 | DG784: 249 | DH784: 9 | DI784: 261 | DJ784: 3 | DM784: 71.43 | DN784: 18 | DO784: 71.43 | DP784: 23 | DQ784: 78.57 | DR784: 16 | DS784: 64.29 | DT784: 27 | DW784: 66.67 | DX784: 21 | DY784: 66.67 | DZ784: 21 | EA784: 61.11 | EB784: 26 | EC784: 55.56 | ED784: 25 | EG784: 28 | EH784: 8 | EI784: 30 | EJ784: 16 | EK784: 29 | EL784: 12 | EM784: 28 | EN784: 5 | EQ784: 1.58 | ER784: 6 | ES784: 1.75 | ET784: 17 | EU784: 1.91 | EV784: 33 | EW784: 1.6 | EX784: 4 | FA784: 50 | FB784: 15 | FC784: 66.67 | FD784: 8 | FE784: 28.57 | FF784: 31 | FG784: 50 | FH784: 9 | FM784: 100 | FN784: 1 | FO784: 50 | FP784: 14 | FQ784: 100 | FR784: 1 | FU784: 1 | FV784: 26 | FW784: 2 | FX784: 30 | FY784: 2 | FZ784: 31 | GA784: 1 | GB784: 15 | GE784: -3 | GF784: 2 | GG784: 0 | GH784: 17 | GI784: 0 | GJ784: 19 | GK784: 1 | GL784: 13 | GO784: 0 | GP784: 24 | GQ784: -2 | GR784: 5 | GS784: 2 | GT784: 32 | GU784: -2 | GV784: 3 | GY784: 0 | GZ784: 1 | HA784: 0 | HB784: 4 | HC784: 0 | HD784: 3 | HE784: 0 | HF784: 4 | HI784: 5 | HJ784: 7 | HK784: 3 | HL784: 15 | HM784: 1 | HN784: 31 | HO784: 4 | HP784: 6 | HS784: 10 | HT784: 27 | HU784: 13 | HV784: 10 | HW784: 12 | HX784: 16 | HY784: 10 | HZ784: 22 | IC784: 3 | ID784: 10 | IE784: 1 | IF784: 26 | IG784: 5 | IH784: 2 | II784: 4 | IJ784: 6 | IM784: 0 | IN784: 7 | IO784: 1 | IP784: 2 | IQ784: 0 | IR784: 8 | IS784: 0 | IT784: 12
A785: =IF(J785="","",CONCATENATE(J785," ",I785)) | AK785: 27.5 | AL785: 1 | AM785: 0.35069444 | AN785: 10 | AO785: 0.38611111 | AP785: 1 | AQ785: 0.40694444 | AR785: 10 | AS785: 0.33472222 | AV785: 262.25 | AW785: 1 | AX785: 71.43 | AY785: 23 | AZ785: 69.44 | BA785: 18 | BB785: 31.5 | BC785: 33 | BD785: 1.72 | BE785: 19 | BF785: 31.82 | BG785: 32 | BH785: 14.29 | BI785: 25 | BJ785: 3 | BK785: 24 | BL785: 10 | BM785: 28 | BN785: 23 | BO785: 4 | BP785: 29 | BQ785: 4 | BR785: 27 | BS785: -5 | BT785: 7 | BU785: 0 | BV785: 14 | BW785: 43 | BX785: 11 | BY785: 2 | BZ785: 7 | CA785: 16 | CB785: 40 | CC785: 16 | CD785: 254.43 | CE785: 72.82 | CF785: 69.12 | CG785: 52.59 | CH785: 1.7 | CI785: 29.34 | CJ785: 49.06 | CK785: 3.01 | CL785: 4.02 | CM785: 4.72 | CN785: 254.45 | CO785: 72.33 | CP785: 68.98 | CQ785: 52.6 | CR785: 1.7 | CS785: 29.31 | CT785: 48.86 | CU785: 3.01 | CV785: 4.02 | CW785: 4.72 | CX785: 9 | CY785: 13 | CZ785: 27 | DA785: 12 | DB785: 5 | DC785: 267 | DD785: 1 | DE785: 255 | DF785: 9 | DG785: 258 | DH785: 3 | DI785: 269 | DJ785: 1 | DM785: 64.29 | DN785: 20 | DO785: 71.43 | DP785: 23 | DQ785: 71.43 | DR785: 23 | DS785: 78.57 | DT785: 10 | DW785: 77.78 | DX785: 10 | DY785: 77.78 | DZ785: 6 | EA785: 72.22 | EB785: 15 | EC785: 50 | ED785: 29 | EG785: 36 | EH785: 35 | EI785: 28 | EJ785: 5 | EK785: 33 | EL785: 34 | EM785: 29 | EN785: 12 | EQ785: 1.79 | ER785: 24 | ES785: 1.5 | ET785: 1 | EU785: 1.85 | EV785: 28 | EW785: 1.78 | EX785: 25 | FA785: 0 | FB785: 29 | FC785: 25 | FD785: 26 | FE785: 40 | FF785: 23 | FG785: 44.44 | FH785: 15 | FM785: 0 | FN785: 8 | FO785: 0 | FP785: 19 | FQ785: 33.33 | FR785: 14 | FU785: 1 | FV785: 26 | FW785: 2 | FX785: 30 | FY785: 0 | FZ785: 13 | GA785: 1 | GB785: 15 | GE785: 3 | GF785: 33 | GG785: -3 | GH785: 2 | GI785: 0 | GJ785: 19 | GK785: 4 | GL785: 28 | GO785: -3 | GP785: 1 | GQ785: -3 | GR785: 2 | GS785: 2 | GT785: 32 | GU785: -1 | GV785: 16 | GY785: 0 | GZ785: 1 | HA785: 0 | HB785: 4 | HC785: 0 | HD785: 3 | HE785: 0 | HF785: 4 | HI785: 3 | HJ785: 20 | HK785: 7 | HL785: 1 | HM785: 2 | HN785: 25 | HO785: 2 | HP785: 24 | HS785: 11 | HT785: 19 | HU785: 8 | HV785: 35 | HW785: 13 | HX785: 7 | HY785: 11 | HZ785: 13 | IC785: 4 | ID785: 3 | IE785: 3 | IF785: 8 | IG785: 2 | IH785: 15 | II785: 2 | IJ785: 24 | IM785: 0 | IN785: 7 | IO785: 0 | IP785: 5 | IQ785: 1 | IR785: 2 | IS785: 1 | IT785: 3
A786: =IF(J786="","",CONCATENATE(J786," ",I786)) | AK786: 27.5 | AL786: 1 | AM786: 0.36597222 | AN786: 10 | AO786: 0.43958333 | AP786: 10 | AQ786: 0.42986111 | AR786: 10 | AS786: 0.35 | AV786: 249.25 | AW786: 14 | AX786: 69.64 | AY786: 26 | AZ786: 58.33 | BA786: 31 | BB786: 28.25 | BC786: 3 | BD786: 1.62 | BE786: 2 | BF786: 40 | BG786: 24 | BH786: 0 | BI786: 26 | BJ786: 28 | BK786: 30 | BL786: 32 | BM786: 2 | BN786: 25 | BO786: 2 | BP786: 22 | BQ786: 2 | BR786: 20 | BS786: -1 | BT786: 27 | BU786: 0 | BV786: 16 | BW786: 38 | BX786: 14 | BY786: 1 | BZ786: 2 | CA786: 16 | CB786: 40 | CC786: 16 | CD786: 254.43 | CE786: 72.82 | CF786: 69.12 | CG786: 52.59 | CH786: 1.7 | CI786: 29.34 | CJ786: 49.06 | CK786: 3.01 | CL786: 4.02 | CM786: 4.72 | CN786: 254.45 | CO786: 72.33 | CP786: 68.98 | CQ786: 52.6 | CR786: 1.7 | CS786: 29.31 | CT786: 48.86 | CU786: 3.01 | CV786: 4.02 | CW786: 4.72 | CX786: 9 | CY786: 4 | CZ786: 34 | DA786: 1 | DB786: 8 | DC786: 254 | DD786: 8 | DE786: 247 | DF786: 16 | DG786: 247 | DH786: 13 | DI786: 249 | DJ786: 11 | DM786: 71.43 | DN786: 18 | DO786: 57.14 | DP786: 34 | DQ786: 78.57 | DR786: 16 | DS786: 71.43 | DT786: 16 | DW786: 55.56 | DX786: 30 | DY786: 55.56 | DZ786: 31 | EA786: 77.78 | EB786: 5 | EC786: 44.44 | ED786: 31 | EG786: 30 | EH786: 18 | EI786: 27 | EJ786: 3 | EK786: 29 | EL786: 12 | EM786: 27 | EN786: 2 | EQ786: 1.8 | ER786: 27 | ES786: 1.5 | ET786: 1 | EU786: 1.57 | EV786: 2 | EW786: 1.63 | EX786: 8 | FA786: 50 | FB786: 15 | FC786: 50 | FD786: 15 | FE786: 0 | FF786: 35 | FG786: 40 | FH786: 18 | FQ786: 0 | FR786: 16 | FU786: 3 | FV786: 34 | FW786: 0 | FX786: 9 | FY786: -2 | FZ786: 1 | GA786: 1 | GB786: 15 | GE786: -1 | GF786: 9 | GG786: -1 | GH786: 7 | GI786: 0 | GJ786: 19 | GK786: 4 | GL786: 28 | GO786: 1 | GP786: 32 | GQ786: 0 | GR786: 19 | GS786: 0 | GT786: 19 | GU786: -2 | GV786: 3 | GY786: 0 | GZ786: 1 | HA786: 0 | HB786: 4 | HC786: 0 | HD786: 3 | HE786: 0 | HF786: 4 | HI786: 2 | HJ786: 28 | HK786: 5 | HL786: 3 | HM786: 6 | HN786: 1 | HO786: 3 | HP786: 15 | HS786: 12 | HT786: 9 | HU786: 9 | HV786: 33 | HW786: 8 | HX786: 35 | HY786: 9 | HZ786: 26 | IC786: 3 | ID786: 10 | IE786: 4 | IF786: 3 | IG786: 4 | IH786: 4 | II786: 3 | IJ786: 15 | IM786: 1 | IN786: 2 | IO786: 0 | IP786: 5 | IQ786: 0 | IR786: 8 | IS786: 0 | IT786: 12
A787: =IF(J787="","",CONCATENATE(J787," ",I787)) | AK787: 29 | AL787: 10 | AM787: 0.41944444 | AN787: 1 | AO787: 0.41666667 | AP787: 10 | AQ787: 0.36875 | AR787: 10 | AS787: 0.38055556 | AV787: 241 | AW787: 20 | AX787: 75 | AY787: 19 | AZ787: 66.67 | BA787: 21 | BB787: 30.75 | BC787: 26 | BD787: 1.75 | BE787: 23 | BF787: 37.5 | BG787: 29 | BH787: 50 | BI787: 12 | BJ787: 26 | BK787: 23 | BL787: 24 | BM787: 26 | BN787: 29 | BO787: 6 | BP787: 33 | BQ787: -1 | BR787: 9 | BS787: 0 | BT787: 30 | BU787: 0 | BV787: 12 | BW787: 45 | BX787: 10 | BY787: 2 | BZ787: 4 | CA787: 16 | CB787: 40 | CC787: 16 | CD787: 254.43 | CE787: 72.82 | CF787: 69.12 | CG787: 52.59 | CH787: 1.7 | CI787: 29.34 | CJ787: 49.06 | CK787: 3.01 | CL787: 4.02 | CM787: 4.72 | CN787: 254.45 | CO787: 72.33 | CP787: 68.98 | CQ787: 52.6 | CR787: 1.7 | CS787: 29.31 | CT787: 48.86 | CU787: 3.01 | CV787: 4.02 | CW787: 4.72 | CX787: 9 | CY787: 23 | CZ787: 24 | DA787: 17 | DB787: 5 | DC787: 233 | DD787: 27 | DE787: 252 | DF787: 12 | DG787: 234 | DH787: 27 | DI787: 245 | DJ787: 17 | DM787: 64.29 | DN787: 20 | DO787: 71.43 | DP787: 23 | DQ787: 78.57 | DR787: 16 | DS787: 85.71 | DT787: 3 | DW787: 61.11 | DX787: 26 | DY787: 77.78 | DZ787: 6 | EA787: 55.56 | EB787: 30 | EC787: 72.22 | ED787: 6 | EG787: 26 | EH787: 1 | EI787: 33 | EJ787: 30 | EK787: 30 | EL787: 17 | EM787: 34 | EN787: 32 | EQ787: 1.45 | ER787: 1 | ES787: 1.79 | ET787: 19 | EU787: 1.8 | EV787: 26 | EW787: 1.92 | EX787: 33 | FA787: 57.14 | FB787: 13 | FC787: 0 | FD787: 32 | FE787: 50 | FF787: 15 | FG787: 20 | FH787: 28 | FO787: 66.67 | FP787: 13 | FQ787: 0 | FR787: 16 | FU787: 0 | FV787: 15 | FW787: 1 | FX787: 18 | FY787: 3 | FZ787: 33 | GA787: 2 | GB787: 27 | GE787: -1 | GF787: 9 | GG787: 0 | GH787: 17 | GI787: 0 | GJ787: 19 | GK787: 0 | GL787: 6 | GO787: -2 | GP787: 5 | GQ787: 1 | GR787: 30 | GS787: 0 | GT787: 19 | GU787: 1 | GV787: 32 | GY787: 0 | GZ787: 1 | HA787: 0 | HB787: 4 | HC787: 0 | HD787: 3 | HE787: 0 | HF787: 4 | HI787: 6 | HJ787: 4 | HK787: 3 | HL787: 15 | HM787: 2 | HN787: 25 | HO787: 1 | HP787: 28 | HS787: 9 | HT787: 30 | HU787: 11 | HV787: 24 | HW787: 12 | HX787: 16 | HY787: 13 | HZ787: 4 | IC787: 3 | ID787: 10 | IE787: 3 | IF787: 8 | IG787: 3 | IH787: 6 | II787: 1 | IJ787: 28 | IM787: 0 | IN787: 7 | IO787: 1 | IP787: 2 | IQ787: 1 | IR787: 2 | IS787: 0 | IT787: 12
A788: =IF(J788="","",CONCATENATE(J788," ",I788)) | AK788: 30.5 | AL788: 10 | AM788: 0.43472222 | AN788: 10 | AO788: 0.39375 | AP788: 10 | AQ788: 0.45277778 | AR788: 10 | AS788: 0.41875 | AV788: 230.75 | AW788: 32 | AX788: 78.57 | AY788: 13 | AZ788: 65.28 | BA788: 24 | BB788: 30.75 | BC788: 26 | BD788: 1.81 | BE788: 31 | BF788: 36 | BG788: 31 | BH788: 33.33 | BI788: 21 | BJ788: 31 | BK788: 20 | BL788: 31 | BM788: 31 | BN788: 33 | BO788: 3 | BP788: 26 | BQ788: 9 | BR788: 33 | BS788: -5 | BT788: 7 | BU788: 0 | BV788: 9 | BW788: 47 | BX788: 14 | BY788: 0 | BZ788: 6 | CA788: 16 | CB788: 40 | CC788: 16 | CD788: 254.43 | CE788: 72.82 | CF788: 69.12 | CG788: 52.59 | CH788: 1.7 | CI788: 29.34 | CJ788: 49.06 | CK788: 3.01 | CL788: 4.02 | CM788: 4.72 | CN788: 254.45 | CO788: 72.33 | CP788: 68.98 | CQ788: 52.6 | CR788: 1.7 | CS788: 29.31 | CT788: 48.86 | CU788: 3.01 | CV788: 4.02 | CW788: 4.72 | CX788: 9 | CY788: 33 | CZ788: 17 | DA788: 1 | DB788: 20 | DC788: 219 | DD788: 35 | DE788: 238 | DF788: 26 | DG788: 222 | DH788: 35 | DI788: 244 | DJ788: 18 | DM788: 50 | DN788: 31 | DO788: 100 | DP788: 1 | DQ788: 85.71 | DR788: 6 | DS788: 78.57 | DT788: 10 | DW788: 55.56 | DX788: 30 | DY788: 77.78 | DZ788: 6 | EA788: 61.11 | EB788: 26 | EC788: 66.67 | ED788: 13 | EG788: 28 | EH788: 8 | EI788: 34 | EJ788: 33 | EK788: 29 | EL788: 12 | EM788: 32 | EN788: 27 | EQ788: 1.8 | ER788: 27 | ES788: 2 | ET788: 35 | EU788: 1.64 | EV788: 7 | EW788: 1.75 | EX788: 21 | FA788: 50 | FB788: 15 | FC788: 50 | FD788: 15 | FE788: 28.57 | FF788: 31 | FG788: 16.67 | FH788: 31 | FM788: 0 | FN788: 8 | FO788: 33.33 | FP788: 18 | FQ788: 50 | FR788: 8 | FU788: 0 | FV788: 15 | FW788: 1 | FX788: 18 | FY788: 0 | FZ788: 13 | GA788: 2 | GB788: 27 | GE788: 4 | GF788: 35 | GG788: 1 | GH788: 26 | GI788: 2 | GJ788: 30 | GK788: 2 | GL788: 18 | GO788: -2 | GP788: 5 | GQ788: 0 | GR788: 19 | GS788: -1 | GT788: 9 | GU788: -2 | GV788: 3 | GY788: 0 | GZ788: 1 | HA788: 0 | HB788: 4 | HC788: 0 | HD788: 3 | HE788: 0 | HF788: 4 | HI788: 2 | HJ788: 28 | HK788: 0 | HL788: 34 | HM788: 4 | HN788: 7 | HO788: 3 | HP788: 15 | HS788: 12 | HT788: 9 | HU788: 16 | HV788: 1 | HW788: 9 | HX788: 34 | HY788: 10 | HZ788: 22 | IC788: 4 | ID788: 3 | IE788: 2 | IF788: 18 | IG788: 5 | IH788: 2 | II788: 3 | IJ788: 15 | IM788: 0 | IN788: 7 | IO788: 0 | IP788: 5 | IQ788: 0 | IR788: 8 | IS788: 0 | IT788: 12
A789: =IF(J789="","",CONCATENATE(J789," ",I789)) | AK789: 30.5 | AL789: 10 | AM789: 0.45763889 | AN789: 10 | AO789: 0.44722222 | AP789: 10 | AQ789: 0.46805556 | AR789: 10 | AS789: 0.41111111 | AV789: 255.25 | AW789: 5 | AX789: 66.07 | AY789: 28 | AZ789: 58.33 | BA789: 31 | BB789: 30 | BC789: 20 | BD789: 1.71 | BE789: 16 | BF789: 40 | BG789: 24 | BH789: 33.33 | BI789: 21 | BJ789: 16 | BK789: 31 | BL789: 27 | BM789: 18 | BN789: 27 | BO789: 1 | BP789: 14 | BQ789: 6 | BR789: 32 | BS789: 0 | BT789: 30 | BU789: 1 | BV789: 11 | BW789: 42 | BX789: 14 | BY789: 2 | BZ789: 3 | CA789: 16 | CB789: 40 | CC789: 16 | CD789: 254.43 | CE789: 72.82 | CF789: 69.12 | CG789: 52.59 | CH789: 1.7 | CI789: 29.34 | CJ789: 49.06 | CK789: 3.01 | CL789: 4.02 | CM789: 4.72 | CN789: 254.45 | CO789: 72.33 | CP789: 68.98 | CQ789: 52.6 | CR789: 1.7 | CS789: 29.31 | CT789: 48.86 | CU789: 3.01 | CV789: 4.02 | CW789: 4.72 | CX789: 1 | CY789: 27 | CZ789: 29 | DA789: 1 | DB789: 5 | DC789: 264 | DD789: 2 | DE789: 254 | DF789: 10 | DG789: 243 | DH789: 17 | DI789: 260 | DJ789: 4 | DM789: 57.14 | DN789: 28 | DO789: 64.29 | DP789: 27 | DQ789: 71.43 | DR789: 23 | DS789: 71.43 | DT789: 16 | DW789: 44.44 | DX789: 34 | DY789: 55.56 | DZ789: 31 | EA789: 77.78 | EB789: 5 | EC789: 55.56 | ED789: 25 | EG789: 29 | EH789: 15 | EI789: 31 | EJ789: 20 | EK789: 29 | EL789: 12 | EM789: 31 | EN789: 24 | EQ789: 1.63 | ER789: 11 | ES789: 1.9 | ET789: 30 | EU789: 1.71 | EV789: 13 | EW789: 1.6 | EX789: 4 | FA789: 40 | FB789: 21 | FC789: 50 | FD789: 15 | FE789: 50 | FF789: 15 | FG789: 25 | FH789: 26 | FK789: 50 | FL789: 7 | FM789: 0 | FN789: 8 | FU789: 0 | FV789: 15 | FW789: 1 | FX789: 18 | FY789: -1 | FZ789: 4 | GA789: 1 | GB789: 15 | GE789: 2 | GF789: 25 | GG789: 3 | GH789: 32 | GI789: -1 | GJ789: 10 | GK789: 2 | GL789: 18 | GO789: 3 | GP789: 34 | GQ789: -2 | GR789: 5 | GS789: 0 | GT789: 19 | GU789: -1 | GV789: 16 | GY789: 0 | GZ789: 1 | HA789: 1 | HB789: 1 | HC789: 0 | HD789: 3 | HE789: 0 | HF789: 4 | HI789: 3 | HJ789: 20 | HK789: 0 | HL789: 34 | HM789: 4 | HN789: 7 | HO789: 4 | HP789: 6 | HS789: 9 | HT789: 30 | HU789: 13 | HV789: 10 | HW789: 12 | HX789: 16 | HY789: 8 | HZ789: 34 | IC789: 4 | ID789: 3 | IE789: 4 | IF789: 3 | IG789: 2 | IH789: 15 | II789: 4 | IJ789: 6 | IM789: 2 | IN789: 1 | IO789: 0 | IP789: 5 | IQ789: 0 | IR789: 8 | IS789: 0 | IT789: 12
A790: =IF(J790="","",CONCATENATE(J790," ",I790)) | AK790: 32.5 | AL790: 10 | AM790: 0.39652778 | AN790: 10 | AO790: 0.35555556 | AP790: 10 | AQ790: 0.41458333 | AR790: 10 | AS790: 0.37291667 | AV790: 237.75 | AW790: 24 | AX790: 78.57 | AY790: 13 | AZ790: 70.83 | BA790: 15 | BB790: 31.75 | BC790: 34 | BD790: 1.8 | BE790: 30 | BF790: 28.57 | BG790: 34 | BH790: 75 | BI790: 6 | BJ790: 20 | BK790: 14 | BL790: 16 | BM790: 33 | BN790: 32 | BO790: 2 | BP790: 22 | BQ790: 3 | BR790: 24 | BS790: 3 | BT790: 34 | BU790: 0 | BV790: 10 | BW790: 47 | BX790: 8 | BY790: 3 | BZ790: 4 | CA790: 16 | CB790: 40 | CC790: 16 | CD790: 254.43 | CE790: 72.82 | CF790: 69.12 | CG790: 52.59 | CH790: 1.7 | CI790: 29.34 | CJ790: 49.06 | CK790: 3.01 | CL790: 4.02 | CM790: 4.72 | CN790: 254.45 | CO790: 72.33 | CP790: 68.98 | CQ790: 52.6 | CR790: 1.7 | CS790: 29.31 | CT790: 48.86 | CU790: 3.01 | CV790: 4.02 | CW790: 4.72 | CX790: 9 | CY790: 29 | CZ790: 17 | DA790: 23 | DB790: 2 | DC790: 234 | DD790: 26 | DE790: 248 | DF790: 15 | DG790: 229 | DH790: 32 | DI790: 240 | DJ790: 26 | DM790: 85.71 | DN790: 8 | DO790: 92.86 | DP790: 5 | DQ790: 71.43 | DR790: 23 | DS790: 64.29 | DT790: 27 | DW790: 66.67 | DX790: 21 | DY790: 77.78 | DZ790: 6 | EA790: 72.22 | EB790: 15 | EC790: 66.67 | ED790: 13 | EG790: 30 | EH790: 18 | EI790: 31 | EJ790: 20 | EK790: 31 | EL790: 23 | EM790: 35 | EN790: 34 | EQ790: 1.75 | ER790: 21 | ES790: 1.71 | ET790: 14 | EU790: 1.77 | EV790: 21 | EW790: 2 | EX790: 34 | FA790: 50 | FB790: 15 | FC790: 0 | FD790: 32 | FE790: 40 | FF790: 23 | FG790: 16.67 | FH790: 31 | FK790: 100 | FL790: 1 | FO790: 100 | FP790: 1 | FQ790: 50 | FR790: 8 | FU790: -1 | FV790: 5 | FW790: 1 | FX790: 18 | FY790: 1 | FZ790: 24 | GA790: 1 | GB790: 15 | GE790: 2 | GF790: 25 | GG790: -2 | GH790: 3 | GI790: -1 | GJ790: 10 | GK790: 4 | GL790: 28 | GO790: -1 | GP790: 15 | GQ790: 2 | GR790: 35 | GS790: 1 | GT790: 28 | GU790: 1 | GV790: 32 | GY790: 0 | GZ790: 1 | HA790: 0 | HB790: 4 | HC790: 0 | HD790: 3 | HE790: 0 | HF790: 4 | HI790: 3 | HJ790: 20 | HK790: 4 | HL790: 10 | HM790: 3 | HN790: 18 | HO790: 0 | HP790: 34 | HS790: 12 | HT790: 9 | HU790: 10 | HV790: 29 | HW790: 12 | HX790: 16 | HY790: 13 | HZ790: 4 | IC790: 3 | ID790: 10 | IE790: 3 | IF790: 8 | IG790: 2 | IH790: 15 | II790: 0 | IJ790: 34 | IM790: 0 | IN790: 7 | IO790: 1 | IP790: 2 | IQ790: 1 | IR790: 2 | IS790: 1 | IT790: 3
A791: =IF(J791="","",CONCATENATE(J791," ",I791)) | AK791: 32.5 | AL791: 10 | AM791: 0.35833333 | AN791: 10 | AO791: 0.37847222 | AP791: 10 | AQ791: 0.39166667 | AR791: 10 | AS791: 0.40347222 | AV791: 251.75 | AW791: 12 | AX791: 75 | AY791: 19 | AZ791: 55.56 | BA791: 34 | BB791: 29 | BC791: 9 | BD791: 1.65 | BE791: 3 | BF791: 40.63 | BG791: 23 | BH791: 42.86 | BI791: 19 | BJ791: 13 | BK791: 28 | BL791: 28 | BM791: 4 | BN791: 21 | BO791: 5 | BP791: 32 | BQ791: 1 | BR791: 15 | BS791: 2 | BT791: 33 | BU791: 0 | BV791: 14 | BW791: 39 | BX791: 14 | BY791: 3 | BZ791: 7 | CA791: 16 | CB791: 40 | CC791: 16 | CD791: 254.43 | CE791: 72.82 | CF791: 69.12 | CG791: 52.59 | CH791: 1.7 | CI791: 29.34 | CJ791: 49.06 | CK791: 3.01 | CL791: 4.02 | CM791: 4.72 | CN791: 254.45 | CO791: 72.33 | CP791: 68.98 | CQ791: 52.6 | CR791: 1.7 | CS791: 29.31 | CT791: 48.86 | CU791: 3.01 | CV791: 4.02 | CW791: 4.72 | CX791: 9 | CY791: 13 | CZ791: 33 | DA791: 1 | DB791: 2 | DC791: 252 | DD791: 12 | DE791: 253 | DF791: 11 | DG791: 249 | DH791: 9 | DI791: 253 | DJ791: 8 | DM791: 85.71 | DN791: 8 | DO791: 78.57 | DP791: 13 | DQ791: 64.29 | DR791: 30 | DS791: 71.43 | DT791: 16 | DW791: 55.56 | DX791: 30 | DY791: 72.22 | DZ791: 18 | EA791: 55.56 | EB791: 30 | EC791: 38.89 | ED791: 32 | EG791: 28 | EH791: 8 | EI791: 31 | EJ791: 20 | EK791: 30 | EL791: 17 | EM791: 27 | EN791: 2 | EQ791: 1.6 | ER791: 9 | ES791: 1.69 | ET791: 11 | EU791: 1.7 | EV791: 12 | EW791: 1.57 | EX791: 2 | FA791: 37.5 | FB791: 22 | FC791: 40 | FD791: 23 | FE791: 37.5 | FF791: 27 | FG791: 45.45 | FH791: 13 | FK791: 50 | FL791: 7 | FM791: 0 | FN791: 8 | FO791: 50 | FP791: 14 | FQ791: 50 | FR791: 8 | FU791: -1 | FV791: 5 | FW791: 2 | FX791: 30 | FY791: 3 | FZ791: 33 | GA791: 1 | GB791: 15 | GE791: -2 | GF791: 4 | GG791: -1 | GH791: 7 | GI791: -1 | GJ791: 10 | GK791: 5 | GL791: 34 | GO791: 4 | GP791: 35 | GQ791: -2 | GR791: 5 | GS791: 2 | GT791: 32 | GU791: -2 | GV791: 3 | GY791: 0 | GZ791: 1 | HA791: 0 | HB791: 4 | HC791: 0 | HD791: 3 | HE791: 0 | HF791: 4 | HI791: 4 | HJ791: 13 | HK791: 4 | HL791: 10 | HM791: 3 | HN791: 18 | HO791: 3 | HP791: 15 | HS791: 9 | HT791: 30 | HU791: 11 | HV791: 24 | HW791: 10 | HX791: 32 | HY791: 9 | HZ791: 26 | IC791: 5 | ID791: 1 | IE791: 3 | IF791: 8 | IG791: 3 | IH791: 6 | II791: 3 | IJ791: 15 | IM791: 0 | IN791: 7 | IO791: 0 | IP791: 5 | IQ791: 2 | IR791: 1 | IS791: 1 | IT791: 3
A792: =IF(J792="","",CONCATENATE(J792," ",I792)) | AK792: 34 | AL792: 1 | AM792: 0.44236111 | AN792: 1 | AO792: 0.43958333 | AP792: 10 | AQ792: 0.44513889 | AR792: 10 | AS792: 0.41875 | AV792: 232.75 | AW792: 29 | AX792: 64.29 | AY792: 29 | AZ792: 56.94 | BA792: 33 | BB792: 29.75 | BC792: 17 | BD792: 1.76 | BE792: 25 | BF792: 38.71 | BG792: 26 | BH792: 0 | BI792: 26 | BJ792: 34 | BK792: 33 | BL792: 34 | BM792: 21 | BN792: 34 | BO792: 4 | BP792: 29 | BQ792: 11 | BR792: 34 | BS792: 1 | BT792: 32 | BU792: 0 | BV792: 10 | BW792: 43 | BX792: 8 | BY792: 7 | BZ792: 7 | CA792: 16 | CB792: 40 | CC792: 16 | CD792: 254.43 | CE792: 72.82 | CF792: 69.12 | CG792: 52.59 | CH792: 1.7 | CI792: 29.34 | CJ792: 49.06 | CK792: 3.01 | CL792: 4.02 | CM792: 4.72 | CN792: 254.45 | CO792: 72.33 | CP792: 68.98 | CQ792: 52.6 | CR792: 1.7 | CS792: 29.31 | CT792: 48.86 | CU792: 3.01 | CV792: 4.02 | CW792: 4.72 | CX792: 9 | CY792: 29 | CZ792: 27 | DA792: 23 | DB792: 1 | DC792: 229 | DD792: 32 | DE792: 232 | DF792: 30 | DG792: 230 | DH792: 31 | DI792: 240 | DJ792: 26 | DM792: 64.29 | DN792: 20 | DO792: 64.29 | DP792: 27 | DQ792: 57.14 | DR792: 33 | DS792: 71.43 | DT792: 16 | DW792: 77.78 | DX792: 10 | DY792: 61.11 | DZ792: 28 | EA792: 61.11 | EB792: 26 | EC792: 27.78 | ED792: 34 | EG792: 28 | EH792: 8 | EI792: 32 | EJ792: 27 | EK792: 30 | EL792: 17 | EM792: 29 | EN792: 12 | EQ792: 1.57 | ER792: 4 | ES792: 1.91 | ET792: 32 | EU792: 1.82 | EV792: 27 | EW792: 1.8 | EX792: 26 | FA792: 50 | FB792: 15 | FC792: 28.57 | FD792: 25 | FE792: 42.86 | FF792: 22 | FG792: 38.46 | FH792: 20 | FM792: 0 | FN792: 8 | FO792: 0 | FP792: 19 | FQ792: 0 | FR792: 16 | FU792: -1 | FV792: 5 | FW792: 1 | FX792: 18 | FY792: -1 | FZ792: 4 | GA792: 5 | GB792: 34 | GE792: 0 | GF792: 16 | GG792: 5 | GH792: 35 | GI792: 3 | GJ792: 33 | GK792: 3 | GL792: 25 | GO792: -3 | GP792: 1 | GQ792: 1 | GR792: 30 | GS792: 1 | GT792: 28 | GU792: 2 | GV792: 34 | GY792: 0 | GZ792: 1 | HA792: 0 | HB792: 4 | HC792: 0 | HD792: 3 | HE792: 0 | HF792: 4 | HI792: 6 | HJ792: 4 | HK792: 1 | HL792: 30 | HM792: 2 | HN792: 25 | HO792: 1 | HP792: 28 | HS792: 10 | HT792: 27 | HU792: 12 | HV792: 16 | HW792: 12 | HX792: 16 | HY792: 9 | HZ792: 26 | IC792: 2 | ID792: 17 | IE792: 2 | IF792: 18 | IG792: 3 | IH792: 6 | II792: 1 | IJ792: 28 | IM792: 0 | IN792: 7 | IO792: 3 | IP792: 1 | IQ792: 1 | IR792: 2 | IS792: 3 | IT792: 1
A793: =IF(J793="","",CONCATENATE(J793," ",I793)) | AK793: 35 | AL793: 10 | AM793: 0.40416667 | AN793: 10 | AO793: 0.36319444 | AP793: 10 | AQ793: 0.4375 | AV793: 243 | AX793: 71.43 | AZ793: 72.22 | BB793: 33.33 | BD793: 1.85 | BF793: 26.67 | BH793: 75 | BJ793: w | BK793: w | BL793: w | BM793: w | BN793: w | BO793: 5 | BQ793: 2 | BS793: 1 | BU793: 0 | BV793: 6 | BW793: 35 | BX793: 12 | BY793: 1 | BZ793: 4 | CA793: 12 | CB793: 30 | CC793: 12 | CD793: 254.43 | CE793: 72.82 | CF793: 69.12 | CG793: 52.59 | CH793: 1.7 | CI793: 29.34 | CJ793: 49.06 | CK793: 3.01 | CL793: 4.02 | CM793: 4.72 | CN793: 254.45 | CO793: 72.33 | CP793: 68.98 | CQ793: 52.6 | CR793: 1.7 | CS793: 29.31 | CT793: 48.86 | CU793: 3.01 | CV793: 4.02 | CW793: 4.72 | DC793: 241 | DD793: 17 | DE793: 245 | DF793: 20 | DG793: 243 | DH793: 17 | DM793: 85.71 | DN793: 8 | DO793: 64.29 | DP793: 27 | DQ793: 64.29 | DR793: 30 | DW793: 83.33 | DX793: 6 | DY793: 77.78 | DZ793: 6 | EA793: 55.56 | EB793: 30 | EG793: 35 | EH793: 33 | EI793: 34 | EJ793: 33 | EK793: 31 | EL793: 23 | EQ793: 1.73 | ER793: 18 | ES793: 1.93 | ET793: 34 | EU793: 1.9 | EV793: 32 | FA793: 0 | FB793: 29 | FC793: 25 | FD793: 26 | FE793: 37.5 | FF793: 27 | FK793: 100 | FL793: 1 | FM793: 100 | FN793: 1 | FO793: 50 | FP793: 14 | FU793: 1 | FV793: 26 | FW793: 1 | FX793: 18 | FY793: 3 | FZ793: 33 | GE793: 2 | GF793: 25 | GG793: 0 | GH793: 17 | GI793: 0 | GJ793: 19 | GO793: -2 | GP793: 5 | GQ793: 1 | GR793: 30 | GS793: 2 | GT793: 32 | GY793: 0 | GZ793: 1 | HA793: 0 | HB793: 4 | HC793: 0 | HD793: 3 | HI793: 4 | HJ793: 13 | HK793: 1 | HL793: 30 | HM793: 1 | HN793: 31 | HS793: 9 | HT793: 30 | HU793: 14 | HV793: 4 | HW793: 12 | HX793: 16 | IC793: 5 | ID793: 1 | IE793: 3 | IF793: 8 | IG793: 4 | IH793: 4 | IM793: 0 | IN793: 7 | IO793: 0 | IP793: 5 | IQ793: 1 | IR793: 2
A794: =IF(J794="","",CONCATENATE(J794," ",I794))
A795: =IF(J795="","",CONCATENATE(J795," ",I795))
A796: =IF(J796="","",CONCATENATE(J796," ",I796))
A797: =IF(J797="","",CONCATENATE(J797," ",I797))
A798: =IF(J798="","",CONCATENATE(J798," ",I798))
A799: =IF(J799="","",CONCATENATE(J799," ",I799))
A800: =IF(J800="","",CONCATENATE(J800," ",I800))
A801: =IF(J801="","",CONCATENATE(J801," ",I801))
A802: =IF(J802="","",CONCATENATE(J802," ",I802))
A803: =IF(J803="","",CONCATENATE(J803," ",I803))
A804: =IF(J804="","",CONCATENATE(J804," ",I804))
A805: =IF(J805="","",CONCATENATE(J805," ",I805))
... A2001: =IF(J2001="","",CONCATENATE(J2001," ",I2001))

Sheet Record
A1: Win | D1: FRL | G1: Top3: Win | J1: Top3: FRL | N1: WIN | O1: Rank | P1: Player | Q1: P/L | R1: E/W Play | U1: FRL | V1: Rank | W1: Player | X1: P/L | Y1: E/W Play
A2: Stakes | B2: Profit | D2: Stakes | E2: Profit | G2: Stakes | H2: Profit | J2: Stakes | K2: Profit | O2: 1 | P2: =IFERROR(OFFSET(Picks!A$1,MATCH($O2,Picks!$F:$F,0)-1,0),"") -> Linn Grant | Q2: =IFERROR(OFFSET(Picks!I$1,MATCH($O2,Picks!$F:$F,0)-1,0),"") -> 4.5 | R2: =IFERROR(OFFSET(Picks!J$1,MATCH($O2,Picks!$F:$F,0)-1,0),"") -> Spreadex: 22/1, 4pl, 1/4 | V2: 1 | W2: =IFERROR(OFFSET(Picks!M$1,MATCH($O2,Picks!$R:$R,0)-1,0),"") -> Pajaree Anannarukarn | X2: =IFERROR(OFFSET(Picks!U$1,MATCH($O2,Picks!$R:$R,0)-1,0),"") -> 0.7 | Y2: =IFERROR(OFFSET(Picks!V$1,MATCH($O2,Picks!$R:$R,0)-1,0),"") -> Ladbrokes: 50/1, 5pl, 1/4
A3: {=IF(100*SUMPRODUCT((Win!F:F<>"") * IFERROR(--Win!E:E, 0))=0,"",100*SUMPRODUCT((Win!F:F<>"") * IFERROR(--Win!E:E, 0)))} -> 3.7 | B3: =IF(AND(A3="",SUM(Win!G:G)=0),"",SUM(Win!G:G)) -> -0.45 | D3: {=IF(100*SUMPRODUCT((FRL!F:F<>"") * IFERROR(--FRL!E:E, 0))=0,"",100*SUMPRODUCT((FRL!F:F<>"") * IFERROR(--FRL!E:E, 0)))} -> 0.5 | E3: =IF(AND(D3="",SUM(FRL!G:G)=0),"",SUM(FRL!G:G)) -> 0.175 | G3: =IF(T3Picks!B2="","",2*(3-COUNTBLANK(T3Picks!A2:A4))) -> 6 | H3: =IF(T3Picks!B2="","",SUM(T3Picks!G2:G4)) -> 0.5 | J3: =IF(T3Picks!B5="","",2*(3-COUNTBLANK(T3Picks!A5:A7))) -> 6 | K3: =IF(T3Picks!B5="","",SUM(T3Picks!G5:G7)) -> 2.1 | O3: 2 | P3: =IFERROR(OFFSET(Picks!A$1,MATCH($O3,Picks!$F:$F,0)-1,0),"") -> Allisen Corpuz | Q3: =IFERROR(OFFSET(Picks!I$1,MATCH($O3,Picks!$F:$F,0)-1,0),"") -> -2 | R3: =IFERROR(OFFSET(Picks!J$1,MATCH($O3,Picks!$F:$F,0)-1,0),"") -> Bet365: 45/1, 4pl, 1/4 | V3: 2 | W3: =IFERROR(OFFSET(Picks!M$1,MATCH($O3,Picks!$R:$R,0)-1,0),"") | X3: =IFERROR(OFFSET(Picks!U$1,MATCH($O3,Picks!$R:$R,0)-1,0),"") | Y3: =IFERROR(OFFSET(Picks!V$1,MATCH($O3,Picks!$R:$R,0)-1,0),"")
O4: 3 | P4: =IFERROR(OFFSET(Picks!A$1,MATCH($O4,Picks!$F:$F,0)-1,0),"") -> Pajaree Anannarukarn | Q4: =IFERROR(OFFSET(Picks!I$1,MATCH($O4,Picks!$F:$F,0)-1,0),"") -> -2 | R4: =IFERROR(OFFSET(Picks!J$1,MATCH($O4,Picks!$F:$F,0)-1,0),"") -> Ladbrokes: 90/1, 4pl, 1/4 | V4: 3 | W4: =IFERROR(OFFSET(Picks!M$1,MATCH($O4,Picks!$R:$R,0)-1,0),"") | X4: =IFERROR(OFFSET(Picks!U$1,MATCH($O4,Picks!$R:$R,0)-1,0),"") | Y4: =IFERROR(OFFSET(Picks!V$1,MATCH($O4,Picks!$R:$R,0)-1,0),"")
O5: 4 | P5: =IFERROR(OFFSET(Picks!A$1,MATCH($O5,Picks!$F:$F,0)-1,0),"") -> Lauren Coughlin | Q5: =IFERROR(OFFSET(Picks!I$1,MATCH($O5,Picks!$F:$F,0)-1,0),"") -> -2 | R5: =IFERROR(OFFSET(Picks!J$1,MATCH($O5,Picks!$F:$F,0)-1,0),"") -> Ladbrokes: 40/1, 4pl, 1/4 | V5: 4 | W5: =IFERROR(OFFSET(Picks!M$1,MATCH($O5,Picks!$R:$R,0)-1,0),"") | X5: =IFERROR(OFFSET(Picks!U$1,MATCH($O5,Picks!$R:$R,0)-1,0),"") | Y5: =IFERROR(OFFSET(Picks!V$1,MATCH($O5,Picks!$R:$R,0)-1,0),"")
O6: 5 | P6: =IFERROR(OFFSET(Picks!A$1,MATCH($O6,Picks!$F:$F,0)-1,0),"") -> Jasmine Suwannapura | Q6: =IFERROR(OFFSET(Picks!I$1,MATCH($O6,Picks!$F:$F,0)-1,0),"") -> -2 | R6: =IFERROR(OFFSET(Picks!J$1,MATCH($O6,Picks!$F:$F,0)-1,0),"") -> Spreadex: 175/1, 4pl, 1/4 | V6: 5 | W6: =IFERROR(OFFSET(Picks!M$1,MATCH($O6,Picks!$R:$R,0)-1,0),"") | X6: =IFERROR(OFFSET(Picks!U$1,MATCH($O6,Picks!$R:$R,0)-1,0),"") | Y6: =IFERROR(OFFSET(Picks!V$1,MATCH($O6,Picks!$R:$R,0)-1,0),"")
O7: 6 | P7: =IFERROR(OFFSET(Picks!A$1,MATCH($O7,Picks!$F:$F,0)-1,0),"") -> Linnea Strom | Q7: =IFERROR(OFFSET(Picks!I$1,MATCH($O7,Picks!$F:$F,0)-1,0),"") -> -2 | R7: =IFERROR(OFFSET(Picks!J$1,MATCH($O7,Picks!$F:$F,0)-1,0),"") -> Bet365: 350/1, 4pl, 1/4 | V7: 6 | W7: =IFERROR(OFFSET(Picks!M$1,MATCH($O7,Picks!$R:$R,0)-1,0),"") | X7: =IFERROR(OFFSET(Picks!U$1,MATCH($O7,Picks!$R:$R,0)-1,0),"") | Y7: =IFERROR(OFFSET(Picks!V$1,MATCH($O7,Picks!$R:$R,0)-1,0),"")
O8: 7 | P8: =IFERROR(OFFSET(Picks!A$1,MATCH($O8,Picks!$F:$F,0)-1,0),"") -> Celine Boutier | Q8: =IFERROR(OFFSET(Picks!I$1,MATCH($O8,Picks!$F:$F,0)-1,0),"") -> -2 | R8: =IFERROR(OFFSET(Picks!J$1,MATCH($O8,Picks!$F:$F,0)-1,0),"") -> Skybet: 14/1, 4pl, 1/4 | V8: 7 | W8: =IFERROR(OFFSET(Picks!M$1,MATCH($O8,Picks!$R:$R,0)-1,0),"") | X8: =IFERROR(OFFSET(Picks!U$1,MATCH($O8,Picks!$R:$R,0)-1,0),"") | Y8: =IFERROR(OFFSET(Picks!V$1,MATCH($O8,Picks!$R:$R,0)-1,0),"")
O9: 8 | P9: =IFERROR(OFFSET(Picks!A$1,MATCH($O9,Picks!$F:$F,0)-1,0),"") -> Hannah Green | Q9: =IFERROR(OFFSET(Picks!I$1,MATCH($O9,Picks!$F:$F,0)-1,0),"") -> -2 | R9: =IFERROR(OFFSET(Picks!J$1,MATCH($O9,Picks!$F:$F,0)-1,0),"") -> Bet365: 25/1, 4pl, 1/4 | V9: 8 | W9: =IFERROR(OFFSET(Picks!M$1,MATCH($O9,Picks!$R:$R,0)-1,0),"") | X9: =IFERROR(OFFSET(Picks!U$1,MATCH($O9,Picks!$R:$R,0)-1,0),"") | Y9: =IFERROR(OFFSET(Picks!V$1,MATCH($O9,Picks!$R:$R,0)-1,0),"")
O10: 9 | P10: =IFERROR(OFFSET(Picks!A$1,MATCH($O10,Picks!$F:$F,0)-1,0),"") -> Hyo Joo Kim | Q10: =IFERROR(OFFSET(Picks!I$1,MATCH($O10,Picks!$F:$F,0)-1,0),"") -> -2 | R10: =IFERROR(OFFSET(Picks!J$1,MATCH($O10,Picks!$F:$F,0)-1,0),"") -> Skybet: 40/1, 4pl, 1/4 | V10: 9 | W10: =IFERROR(OFFSET(Picks!M$1,MATCH($O10,Picks!$R:$R,0)-1,0),"") | X10: =IFERROR(OFFSET(Picks!U$1,MATCH($O10,Picks!$R:$R,0)-1,0),"") | Y10: =IFERROR(OFFSET(Picks!V$1,MATCH($O10,Picks!$R:$R,0)-1,0),"")
O11: 10 | P11: =IFERROR(OFFSET(Picks!A$1,MATCH($O11,Picks!$F:$F,0)-1,0),"") -> Amy Yang | Q11: =IFERROR(OFFSET(Picks!I$1,MATCH($O11,Picks!$F:$F,0)-1,0),"") -> -2 | R11: =IFERROR(OFFSET(Picks!J$1,MATCH($O11,Picks!$F:$F,0)-1,0),"") -> Spreadex: 50/1, 4pl, 1/4 | V11: 10 | W11: =IFERROR(OFFSET(Picks!M$1,MATCH($O11,Picks!$R:$R,0)-1,0),"") | X11: =IFERROR(OFFSET(Picks!U$1,MATCH($O11,Picks!$R:$R,0)-1,0),"") | Y11: =IFERROR(OFFSET(Picks!V$1,MATCH($O11,Picks!$R:$R,0)-1,0),"")
O12: 11 | P12: =IFERROR(OFFSET(Picks!A$1,MATCH($O12,Picks!$F:$F,0)-1,0),"") -> Chanettee Wannasaen | Q12: =IFERROR(OFFSET(Picks!I$1,MATCH($O12,Picks!$F:$F,0)-1,0),"") -> -2 | R12: =IFERROR(OFFSET(Picks!J$1,MATCH($O12,Picks!$F:$F,0)-1,0),"") -> Ladbrokes: 100/1, 4pl, 1/4 | V12: 11 | W12: =IFERROR(OFFSET(Picks!M$1,MATCH($O12,Picks!$R:$R,0)-1,0),"") | X12: =IFERROR(OFFSET(Picks!U$1,MATCH($O12,Picks!$R:$R,0)-1,0),"") | Y12: =IFERROR(OFFSET(Picks!V$1,MATCH($O12,Picks!$R:$R,0)-1,0),"")
O13: 12 | P13: =IFERROR(OFFSET(Picks!A$1,MATCH($O13,Picks!$F:$F,0)-1,0),"") -> Moriya Jutanugarn | Q13: =IFERROR(OFFSET(Picks!I$1,MATCH($O13,Picks!$F:$F,0)-1,0),"") -> -2 | R13: =IFERROR(OFFSET(Picks!J$1,MATCH($O13,Picks!$F:$F,0)-1,0),"") -> Skybet: 175/1, 4pl, 1/4 | V13: 12 | W13: =IFERROR(OFFSET(Picks!M$1,MATCH($O13,Picks!$R:$R,0)-1,0),"") | X13: =IFERROR(OFFSET(Picks!U$1,MATCH($O13,Picks!$R:$R,0)-1,0),"") | Y13: =IFERROR(OFFSET(Picks!V$1,MATCH($O13,Picks!$R:$R,0)-1,0),"")
A27: WIN | B27: 1 | C27: 2 | D27: 3 | E27: 4 | F27: 5 | G27: 6 | H27: 7 | I27: 8 | J27: 9 | K27: 10 | L27: 11 | M27: 12 | N27: FRL | O27: 1 | P27: 2 | Q27: 3 | R27: 4 | S27: 5 | T27: 6 | U27: 7 | V27: 8 | W27: 9 | X27: 10 | Y27: 11 | Z27: 12
B28: =Q2*3 -> 13.5 | C28: =SUM(Q2:Q3)*1.5 -> 3.75 | D28: =SUM(Q2:Q4) -> 0.5 | E28: =SUM(Q2:Q5)*3/4 -> -1.125 | F28: =SUM(Q2:Q6)*3/5 -> -2.1 | G28: =SUM(Q2:Q7)*3/6 -> -2.75 | H28: =SUM(Q2:Q8)*3/7 -> -3.2142857 | I28: =SUM(Q2:Q9)*3/8 -> -3.5625 | J28: =SUM(Q2:Q10)*3/9 -> -3.8333333 | K28: =SUM(Q2:Q11)*3/10 -> -4.05 | L28: =SUM(Q2:Q12)*3/11 -> -4.2272727 | M28: =SUM(Q2:Q13)*3/12 -> -4.375 | O28: =X2*3 -> 2.1 | P28: =SUM(X2:X3)*1.5 -> 1.05 | Q28: =SUM(X2:X4) -> 0.7 | R28: =SUM(X2:X5)*3/4 -> 0.525 | S28: =SUM(X2:X6)*3/5 -> 0.42 | T28: =SUM(X2:X7)*3/6 -> 0.35 | U28: =SUM(X2:X8)*3/7 -> 0.3 | V28: =SUM(X2:X9)*3/9 -> 0.23333333 | W28: =SUM(X2:X10)*3/9 -> 0.23333333 | X28: =SUM(X2:X11)*3/10 -> 0.21 | Y28: =SUM(X2:X12)*3/11 -> 0.19090909 | Z28: =SUM(X2:X13)*3/12 -> 0.175

Sheet Win
A1: Player | B1: Win % | C1: TT Odds | D1: Best Odds | E1: Kelly | F1: Result | G1: P/L | H1: E/W Play
A2: A Lim Kim | B2: 1.44% | C2: 69 | D2: 61 | F2: =IFERROR(IF(A2="","",OFFSET(Results!$AJ$1,MATCH(A2,Results!$A:$A,0)-1,0)),"") -> 1 | G2: =IF(OR(E2="",F2=""),"",IF(F2=1,(IF(COUNTIFS(F:F,"<="&F2)<=1,1,(1-COUNTIFS(F:F,"<"&F2))/COUNTIFS(F:F,F2)))*50*E2*(1+VALUE(MID(H2,FIND(": ",H2)+2,FIND("/",H2)-FIND(":",H2)-2))-1)+50*E2*(1+VALUE(MID(H2,FIND(": ",H2)+2,FIND("/",H2)-FIND(":",H2)-2))-1)/VALUE(RIGHT(H2,1)),IF(F2<=VALUE(MID(H2,FIND(", ",H2)+2,IF(MID(H2,FIND(", ",H2)+2,1)="1",2,1))),(IF(COUNTIFS(F:F,"<="&F2)<=VALUE(MID(H2,FIND(", ",H2)+2,IF(MID(H2,FIND(", ",H2)+2,1)="1",2,1))),1,(VALUE(MID(H2,FIND(", ",H2)+2,IF(MID(H2,FIND(", ",H2)+2,1)="1",2,1)))-COUNTIFS(F:F,"<"&F2))/COUNTIFS(F:F,F2)))*(50*E2*(1+VALUE(MID(H2,FIND(": ",H2)+2,FIND("/",H2)-FIND(":",H2)-2))-1)/VALUE(RIGHT(H2,1))+50*E2)-(100*E2),-E2*100)))
A3: Alexa Pano | B3: 0.59% | C3: 169 | D3: 101 | F3: =IFERROR(IF(A3="","",OFFSET(Results!$AJ$1,MATCH(A3,Results!$A:$A,0)-1,0)),"") -> 27 | G3: =IF(OR(E3="",F3=""),"",IF(F3=1,(IF(COUNTIFS(F:F,"<="&F3)<=1,1,(1-COUNTIFS(F:F,"<"&F3))/COUNTIFS(F:F,F3)))*50*E3*(1+VALUE(MID(H3,FIND(": ",H3)+2,FIND("/",H3)-FIND(":",H3)-2))-1)+50*E3*(1+VALUE(MID(H3,FIND(": ",H3)+2,FIND("/",H3)-FIND(":",H3)-2))-1)/VALUE(RIGHT(H3,1)),IF(F3<=VALUE(MID(H3,FIND(", ",H3)+2,IF(MID(H3,FIND(", ",H3)+2,1)="1",2,1))),(IF(COUNTIFS(F:F,"<="&F3)<=VALUE(MID(H3,FIND(", ",H3)+2,IF(MID(H3,FIND(", ",H3)+2,1)="1",2,1))),1,(VALUE(MID(H3,FIND(", ",H3)+2,IF(MID(H3,FIND(", ",H3)+2,1)="1",2,1)))-COUNTIFS(F:F,"<"&F3))/COUNTIFS(F:F,F3)))*(50*E3*(1+VALUE(MID(H3,FIND(": ",H3)+2,FIND("/",H3)-FIND(":",H3)-2))-1)/VALUE(RIGHT(H3,1))+50*E3)-(100*E3),-E3*100)))
A4: Allisen Corpuz | B4: 2.85% | C4: 35 | D4: 46 | E4: 0.70% | F4: =IFERROR(IF(A4="","",OFFSET(Results!$AJ$1,MATCH(A4,Results!$A:$A,0)-1,0)),"") -> 22 | G4: =IF(OR(E4="",F4=""),"",IF(F4=1,(IF(COUNTIFS(F:F,"<="&F4)<=1,1,(1-COUNTIFS(F:F,"<"&F4))/COUNTIFS(F:F,F4)))*50*E4*(1+VALUE(MID(H4,FIND(": ",H4)+2,FIND("/",H4)-FIND(":",H4)-2))-1)+50*E4*(1+VALUE(MID(H4,FIND(": ",H4)+2,FIND("/",H4)-FIND(":",H4)-2))-1)/VALUE(RIGHT(H4,1)),IF(F4<=VALUE(MID(H4,FIND(", ",H4)+2,IF(MID(H4,FIND(", ",H4)+2,1)="1",2,1))),(IF(COUNTIFS(F:F,"<="&F4)<=VALUE(MID(H4,FIND(", ",H4)+2,IF(MID(H4,FIND(", ",H4)+2,1)="1",2,1))),1,(VALUE(MID(H4,FIND(", ",H4)+2,IF(MID(H4,FIND(", ",H4)+2,1)="1",2,1)))-COUNTIFS(F:F,"<"&F4))/COUNTIFS(F:F,F4)))*(50*E4*(1+VALUE(MID(H4,FIND(": ",H4)+2,FIND("/",H4)-FIND(":",H4)-2))-1)/VALUE(RIGHT(H4,1))+50*E4)-(100*E4),-E4*100))) -> -0.7 | H4: Bet365: 45/1, 4pl, 1/4
A5: Amy Yang | B5: 2.10% | C5: 48 | D5: 51 | E5: 0.10% | F5: =IFERROR(IF(A5="","",OFFSET(Results!$AJ$1,MATCH(A5,Results!$A:$A,0)-1,0)),"") -> 22 | G5: =IF(OR(E5="",F5=""),"",IF(F5=1,(IF(COUNTIFS(F:F,"<="&F5)<=1,1,(1-COUNTIFS(F:F,"<"&F5))/COUNTIFS(F:F,F5)))*50*E5*(1+VALUE(MID(H5,FIND(": ",H5)+2,FIND("/",H5)-FIND(":",H5)-2))-1)+50*E5*(1+VALUE(MID(H5,FIND(": ",H5)+2,FIND("/",H5)-FIND(":",H5)-2))-1)/VALUE(RIGHT(H5,1)),IF(F5<=VALUE(MID(H5,FIND(", ",H5)+2,IF(MID(H5,FIND(", ",H5)+2,1)="1",2,1))),(IF(COUNTIFS(F:F,"<="&F5)<=VALUE(MID(H5,FIND(", ",H5)+2,IF(MID(H5,FIND(", ",H5)+2,1)="1",2,1))),1,(VALUE(MID(H5,FIND(", ",H5)+2,IF(MID(H5,FIND(", ",H5)+2,1)="1",2,1)))-COUNTIFS(F:F,"<"&F5))/COUNTIFS(F:F,F5)))*(50*E5*(1+VALUE(MID(H5,FIND(": ",H5)+2,FIND("/",H5)-FIND(":",H5)-2))-1)/VALUE(RIGHT(H5,1))+50*E5)-(100*E5),-E5*100))) -> -0.1 | H5: Spreadex: 50/1, 4pl, 1/4
A6: Angel Yin | B6: 3.20% | C6: 31 | D6: 31 | F6: =IFERROR(IF(A6="","",OFFSET(Results!$AJ$1,MATCH(A6,Results!$A:$A,0)-1,0)),"") -> 18 | G6: =IF(OR(E6="",F6=""),"",IF(F6=1,(IF(COUNTIFS(F:F,"<="&F6)<=1,1,(1-COUNTIFS(F:F,"<"&F6))/COUNTIFS(F:F,F6)))*50*E6*(1+VALUE(MID(H6,FIND(": ",H6)+2,FIND("/",H6)-FIND(":",H6)-2))-1)+50*E6*(1+VALUE(MID(H6,FIND(": ",H6)+2,FIND("/",H6)-FIND(":",H6)-2))-1)/VALUE(RIGHT(H6,1)),IF(F6<=VALUE(MID(H6,FIND(", ",H6)+2,IF(MID(H6,FIND(", ",H6)+2,1)="1",2,1))),(IF(COUNTIFS(F:F,"<="&F6)<=VALUE(MID(H6,FIND(", ",H6)+2,IF(MID(H6,FIND(", ",H6)+2,1)="1",2,1))),1,(VALUE(MID(H6,FIND(", ",H6)+2,IF(MID(H6,FIND(", ",H6)+2,1)="1",2,1)))-COUNTIFS(F:F,"<"&F6))/COUNTIFS(F:F,F6)))*(50*E6*(1+VALUE(MID(H6,FIND(": ",H6)+2,FIND("/",H6)-FIND(":",H6)-2))-1)/VALUE(RIGHT(H6,1))+50*E6)-(100*E6),-E6*100)))
A7: Ashleigh Buhai | B7: 1.31% | C7: 76 | D7: 51 | F7: =IFERROR(IF(A7="","",OFFSET(Results!$AJ$1,MATCH(A7,Results!$A:$A,0)-1,0)),"") -> 10 | G7: =IF(OR(E7="",F7=""),"",IF(F7=1,(IF(COUNTIFS(F:F,"<="&F7)<=1,1,(1-COUNTIFS(F:F,"<"&F7))/COUNTIFS(F:F,F7)))*50*E7*(1+VALUE(MID(H7,FIND(": ",H7)+2,FIND("/",H7)-FIND(":",H7)-2))-1)+50*E7*(1+VALUE(MID(H7,FIND(": ",H7)+2,FIND("/",H7)-FIND(":",H7)-2))-1)/VALUE(RIGHT(H7,1)),IF(F7<=VALUE(MID(H7,FIND(", ",H7)+2,IF(MID(H7,FIND(", ",H7)+2,1)="1",2,1))),(IF(COUNTIFS(F:F,"<="&F7)<=VALUE(MID(H7,FIND(", ",H7)+2,IF(MID(H7,FIND(", ",H7)+2,1)="1",2,1))),1,(VALUE(MID(H7,FIND(", ",H7)+2,IF(MID(H7,FIND(", ",H7)+2,1)="1",2,1)))-COUNTIFS(F:F,"<"&F7))/COUNTIFS(F:F,F7)))*(50*E7*(1+VALUE(MID(H7,FIND(": ",H7)+2,FIND("/",H7)-FIND(":",H7)-2))-1)/VALUE(RIGHT(H7,1))+50*E7)-(100*E7),-E7*100)))
A8: Ayaka Furue | B8: 5.54% | C8: 18 | D8: 15 | F8: =IFERROR(IF(A8="","",OFFSET(Results!$AJ$1,MATCH(A8,Results!$A:$A,0)-1,0)),"") -> 25 | G8: =IF(OR(E8="",F8=""),"",IF(F8=1,(IF(COUNTIFS(F:F,"<="&F8)<=1,1,(1-COUNTIFS(F:F,"<"&F8))/COUNTIFS(F:F,F8)))*50*E8*(1+VALUE(MID(H8,FIND(": ",H8)+2,FIND("/",H8)-FIND(":",H8)-2))-1)+50*E8*(1+VALUE(MID(H8,FIND(": ",H8)+2,FIND("/",H8)-FIND(":",H8)-2))-1)/VALUE(RIGHT(H8,1)),IF(F8<=VALUE(MID(H8,FIND(", ",H8)+2,IF(MID(H8,FIND(", ",H8)+2,1)="1",2,1))),(IF(COUNTIFS(F:F,"<="&F8)<=VALUE(MID(H8,FIND(", ",H8)+2,IF(MID(H8,FIND(", ",H8)+2,1)="1",2,1))),1,(VALUE(MID(H8,FIND(", ",H8)+2,IF(MID(H8,FIND(", ",H8)+2,1)="1",2,1)))-COUNTIFS(F:F,"<"&F8))/COUNTIFS(F:F,F8)))*(50*E8*(1+VALUE(MID(H8,FIND(": ",H8)+2,FIND("/",H8)-FIND(":",H8)-2))-1)/VALUE(RIGHT(H8,1))+50*E8)-(100*E8),-E8*100)))
A9: Bailey Tardy | B9: 0.52% | C9: 192 | D9: 151 | F9: =IFERROR(IF(A9="","",OFFSET(Results!$AJ$1,MATCH(A9,Results!$A:$A,0)-1,0)),"") -> 25 | G9: =IF(OR(E9="",F9=""),"",IF(F9=1,(IF(COUNTIFS(F:F,"<="&F9)<=1,1,(1-COUNTIFS(F:F,"<"&F9))/COUNTIFS(F:F,F9)))*50*E9*(1+VALUE(MID(H9,FIND(": ",H9)+2,FIND("/",H9)-FIND(":",H9)-2))-1)+50*E9*(1+VALUE(MID(H9,FIND(": ",H9)+2,FIND("/",H9)-FIND(":",H9)-2))-1)/VALUE(RIGHT(H9,1)),IF(F9<=VALUE(MID(H9,FIND(", ",H9)+2,IF(MID(H9,FIND(", ",H9)+2,1)="1",2,1))),(IF(COUNTIFS(F:F,"<="&F9)<=VALUE(MID(H9,FIND(", ",H9)+2,IF(MID(H9,FIND(", ",H9)+2,1)="1",2,1))),1,(VALUE(MID(H9,FIND(", ",H9)+2,IF(MID(H9,FIND(", ",H9)+2,1)="1",2,1)))-COUNTIFS(F:F,"<"&F9))/COUNTIFS(F:F,F9)))*(50*E9*(1+VALUE(MID(H9,FIND(": ",H9)+2,FIND("/",H9)-FIND(":",H9)-2))-1)/VALUE(RIGHT(H9,1))+50*E9)-(100*E9),-E9*100)))
A10: Brooke M. Henderson | B10: 4.64% | C10: 22 | D10: 19 | F10: =IFERROR(IF(A10="","",OFFSET(Results!$AJ$1,MATCH(A10,Results!$A:$A,0)-1,0)),"") -> 14 | G10: =IF(OR(E10="",F10=""),"",IF(F10=1,(IF(COUNTIFS(F:F,"<="&F10)<=1,1,(1-COUNTIFS(F:F,"<"&F10))/COUNTIFS(F:F,F10)))*50*E10*(1+VALUE(MID(H10,FIND(": ",H10)+2,FIND("/",H10)-FIND(":",H10)-2))-1)+50*E10*(1+VALUE(MID(H10,FIND(": ",H10)+2,FIND("/",H10)-FIND(":",H10)-2))-1)/VALUE(RIGHT(H10,1)),IF(F10<=VALUE(MID(H10,FIND(", ",H10)+2,IF(MID(H10,FIND(", ",H10)+2,1)="1",2,1))),(IF(COUNTIFS(F:F,"<="&F10)<=VALUE(MID(H10,FIND(", ",H10)+2,IF(MID(H10,FIND(", ",H10)+2,1)="1",2,1))),1,(VALUE(MID(H10,FIND(", ",H10)+2,IF(MID(H10,FIND(", ",H10)+2,1)="1",2,1)))-COUNTIFS(F:F,"<"&F10))/COUNTIFS(F:F,F10)))*(50*E10*(1+VALUE(MID(H10,FIND(": ",H10)+2,FIND("/",H10)-FIND(":",H10)-2))-1)/VALUE(RIGHT(H10,1))+50*E10)-(100*E10),-E10*100)))
A11: Celine Boutier | B11: 6.78% | C11: 15 | D11: 15 | E11: 0.10% | F11: =IFERROR(IF(A11="","",OFFSET(Results!$AJ$1,MATCH(A11,Results!$A:$A,0)-1,0)),"") -> 14 | G11: =IF(OR(E11="",F11=""),"",IF(F11=1,(IF(COUNTIFS(F:F,"<="&F11)<=1,1,(1-COUNTIFS(F:F,"<"&F11))/COUNTIFS(F:F,F11)))*50*E11*(1+VALUE(MID(H11,FIND(": ",H11)+2,FIND("/",H11)-FIND(":",H11)-2))-1)+50*E11*(1+VALUE(MID(H11,FIND(": ",H11)+2,FIND("/",H11)-FIND(":",H11)-2))-1)/VALUE(RIGHT(H11,1)),IF(F11<=VALUE(MID(H11,FIND(", ",H11)+2,IF(MID(H11,FIND(", ",H11)+2,1)="1",2,1))),(IF(COUNTIFS(F:F,"<="&F11)<=VALUE(MID(H11,FIND(", ",H11)+2,IF(MID(H11,FIND(", ",H11)+2,1)="1",2,1))),1,(VALUE(MID(H11,FIND(", ",H11)+2,IF(MID(H11,FIND(", ",H11)+2,1)="1",2,1)))-COUNTIFS(F:F,"<"&F11))/COUNTIFS(F:F,F11)))*(50*E11*(1+VALUE(MID(H11,FIND(": ",H11)+2,FIND("/",H11)-FIND(":",H11)-2))-1)/VALUE(RIGHT(H11,1))+50*E11)-(100*E11),-E11*100))) -> -0.1 | H11: Skybet: 14/1, 4pl, 1/4
A12: Chanettee Wannasaen | B12: 1.13% | C12: 88 | D12: 101 | E12: 0.10% | F12: =IFERROR(IF(A12="","",OFFSET(Results!$AJ$1,MATCH(A12,Results!$A:$A,0)-1,0)),"") -> 32 | G12: =IF(OR(E12="",F12=""),"",IF(F12=1,(IF(COUNTIFS(F:F,"<="&F12)<=1,1,(1-COUNTIFS(F:F,"<"&F12))/COUNTIFS(F:F,F12)))*50*E12*(1+VALUE(MID(H12,FIND(": ",H12)+2,FIND("/",H12)-FIND(":",H12)-2))-1)+50*E12*(1+VALUE(MID(H12,FIND(": ",H12)+2,FIND("/",H12)-FIND(":",H12)-2))-1)/VALUE(RIGHT(H12,1)),IF(F12<=VALUE(MID(H12,FIND(", ",H12)+2,IF(MID(H12,FIND(", ",H12)+2,1)="1",2,1))),(IF(COUNTIFS(F:F,"<="&F12)<=VALUE(MID(H12,FIND(", ",H12)+2,IF(MID(H12,FIND(", ",H12)+2,1)="1",2,1))),1,(VALUE(MID(H12,FIND(", ",H12)+2,IF(MID(H12,FIND(", ",H12)+2,1)="1",2,1)))-COUNTIFS(F:F,"<"&F12))/COUNTIFS(F:F,F12)))*(50*E12*(1+VALUE(MID(H12,FIND(": ",H12)+2,FIND("/",H12)-FIND(":",H12)-2))-1)/VALUE(RIGHT(H12,1))+50*E12)-(100*E12),-E12*100))) -> -0.1 | H12: Ladbrokes: 100/1, 4pl, 1/4
A13: Cheyenne Knight | B13: 0.71% | C13: 141 | D13: 101 | F13: =IFERROR(IF(A13="","",OFFSET(Results!$AJ$1,MATCH(A13,Results!$A:$A,0)-1,0)),"") -> 22 | G13: =IF(OR(E13="",F13=""),"",IF(F13=1,(IF(COUNTIFS(F:F,"<="&F13)<=1,1,(1-COUNTIFS(F:F,"<"&F13))/COUNTIFS(F:F,F13)))*50*E13*(1+VALUE(MID(H13,FIND(": ",H13)+2,FIND("/",H13)-FIND(":",H13)-2))-1)+50*E13*(1+VALUE(MID(H13,FIND(": ",H13)+2,FIND("/",H13)-FIND(":",H13)-2))-1)/VALUE(RIGHT(H13,1)),IF(F13<=VALUE(MID(H13,FIND(", ",H13)+2,IF(MID(H13,FIND(", ",H13)+2,1)="1",2,1))),(IF(COUNTIFS(F:F,"<="&F13)<=VALUE(MID(H13,FIND(", ",H13)+2,IF(MID(H13,FIND(", ",H13)+2,1)="1",2,1))),1,(VALUE(MID(H13,FIND(", ",H13)+2,IF(MID(H13,FIND(", ",H13)+2,1)="1",2,1)))-COUNTIFS(F:F,"<"&F13))/COUNTIFS(F:F,F13)))*(50*E13*(1+VALUE(MID(H13,FIND(": ",H13)+2,FIND("/",H13)-FIND(":",H13)-2))-1)/VALUE(RIGHT(H13,1))+50*E13)-(100*E13),-E13*100)))
A14: Elizabeth Szokol | B14: 0.36% | C14: 278 | D14: 401 | E14: 0.10% | F14: =IFERROR(IF(A14="","",OFFSET(Results!$AJ$1,MATCH(A14,Results!$A:$A,0)-1,0)),"") -> 14 | G14: =IF(OR(E14="",F14=""),"",IF(F14=1,(IF(COUNTIFS(F:F,"<="&F14)<=1,1,(1-COUNTIFS(F:F,"<"&F14))/COUNTIFS(F:F,F14)))*50*E14*(1+VALUE(MID(H14,FIND(": ",H14)+2,FIND("/",H14)-FIND(":",H14)-2))-1)+50*E14*(1+VALUE(MID(H14,FIND(": ",H14)+2,FIND("/",H14)-FIND(":",H14)-2))-1)/VALUE(RIGHT(H14,1)),IF(F14<=VALUE(MID(H14,FIND(", ",H14)+2,IF(MID(H14,FIND(", ",H14)+2,1)="1",2,1))),(IF(COUNTIFS(F:F,"<="&F14)<=VALUE(MID(H14,FIND(", ",H14)+2,IF(MID(H14,FIND(", ",H14)+2,1)="1",2,1))),1,(VALUE(MID(H14,FIND(", ",H14)+2,IF(MID(H14,FIND(", ",H14)+2,1)="1",2,1)))-COUNTIFS(F:F,"<"&F14))/COUNTIFS(F:F,F14)))*(50*E14*(1+VALUE(MID(H14,FIND(": ",H14)+2,FIND("/",H14)-FIND(":",H14)-2))-1)/VALUE(RIGHT(H14,1))+50*E14)-(100*E14),-E14*100))) -> -0.1 | H14: Spreadex: 400/1, 4pl, 1/4
A15: Haeran Ryu | B15: 6.91% | C15: 14 | D15: 12 | F15: =IFERROR(IF(A15="","",OFFSET(Results!$AJ$1,MATCH(A15,Results!$A:$A,0)-1,0)),"") -> 14 | G15: =IF(OR(E15="",F15=""),"",IF(F15=1,(IF(COUNTIFS(F:F,"<="&F15)<=1,1,(1-COUNTIFS(F:F,"<"&F15))/COUNTIFS(F:F,F15)))*50*E15*(1+VALUE(MID(H15,FIND(": ",H15)+2,FIND("/",H15)-FIND(":",H15)-2))-1)+50*E15*(1+VALUE(MID(H15,FIND(": ",H15)+2,FIND("/",H15)-FIND(":",H15)-2))-1)/VALUE(RIGHT(H15,1)),IF(F15<=VALUE(MID(H15,FIND(", ",H15)+2,IF(MID(H15,FIND(", ",H15)+2,1)="1",2,1))),(IF(COUNTIFS(F:F,"<="&F15)<=VALUE(MID(H15,FIND(", ",H15)+2,IF(MID(H15,FIND(", ",H15)+2,1)="1",2,1))),1,(VALUE(MID(H15,FIND(", ",H15)+2,IF(MID(H15,FIND(", ",H15)+2,1)="1",2,1)))-COUNTIFS(F:F,"<"&F15))/COUNTIFS(F:F,F15)))*(50*E15*(1+VALUE(MID(H15,FIND(": ",H15)+2,FIND("/",H15)-FIND(":",H15)-2))-1)/VALUE(RIGHT(H15,1))+50*E15)-(100*E15),-E15*100)))
A16: Hannah Green | B16: 3.97% | C16: 25 | D16: 26 | E16: 0.10% | F16: =IFERROR(IF(A16="","",OFFSET(Results!$AJ$1,MATCH(A16,Results!$A:$A,0)-1,0)),"") -> 20 | G16: =IF(OR(E16="",F16=""),"",IF(F16=1,(IF(COUNTIFS(F:F,"<="&F16)<=1,1,(1-COUNTIFS(F:F,"<"&F16))/COUNTIFS(F:F,F16)))*50*E16*(1+VALUE(MID(H16,FIND(": ",H16)+2,FIND("/",H16)-FIND(":",H16)-2))-1)+50*E16*(1+VALUE(MID(H16,FIND(": ",H16)+2,FIND("/",H16)-FIND(":",H16)-2))-1)/VALUE(RIGHT(H16,1)),IF(F16<=VALUE(MID(H16,FIND(", ",H16)+2,IF(MID(H16,FIND(", ",H16)+2,1)="1",2,1))),(IF(COUNTIFS(F:F,"<="&F16)<=VALUE(MID(H16,FIND(", ",H16)+2,IF(MID(H16,FIND(", ",H16)+2,1)="1",2,1))),1,(VALUE(MID(H16,FIND(", ",H16)+2,IF(MID(H16,FIND(", ",H16)+2,1)="1",2,1)))-COUNTIFS(F:F,"<"&F16))/COUNTIFS(F:F,F16)))*(50*E16*(1+VALUE(MID(H16,FIND(": ",H16)+2,FIND("/",H16)-FIND(":",H16)-2))-1)/VALUE(RIGHT(H16,1))+50*E16)-(100*E16),-E16*100))) -> -0.1 | H16: Bet365: 25/1, 4pl, 1/4
A17: Hyo Joo Kim | B17: 2.55% | C17: 39 | D17: 41 | E17: 0.10% | F17: =IFERROR(IF(A17="","",OFFSET(Results!$AJ$1,MATCH(A17,Results!$A:$A,0)-1,0)),"") -> 10 | G17: =IF(OR(E17="",F17=""),"",IF(F17=1,(IF(COUNTIFS(F:F,"<="&F17)<=1,1,(1-COUNTIFS(F:F,"<"&F17))/COUNTIFS(F:F,F17)))*50*E17*(1+VALUE(MID(H17,FIND(": ",H17)+2,FIND("/",H17)-FIND(":",H17)-2))-1)+50*E17*(1+VALUE(MID(H17,FIND(": ",H17)+2,FIND("/",H17)-FIND(":",H17)-2))-1)/VALUE(RIGHT(H17,1)),IF(F17<=VALUE(MID(H17,FIND(", ",H17)+2,IF(MID(H17,FIND(", ",H17)+2,1)="1",2,1))),(IF(COUNTIFS(F:F,"<="&F17)<=VALUE(MID(H17,FIND(", ",H17)+2,IF(MID(H17,FIND(", ",H17)+2,1)="1",2,1))),1,(VALUE(MID(H17,FIND(", ",H17)+2,IF(MID(H17,FIND(", ",H17)+2,1)="1",2,1)))-COUNTIFS(F:F,"<"&F17))/COUNTIFS(F:F,F17)))*(50*E17*(1+VALUE(MID(H17,FIND(": ",H17)+2,FIND("/",H17)-FIND(":",H17)-2))-1)/VALUE(RIGHT(H17,1))+50*E17)-(100*E17),-E17*100))) -> -0.1 | H17: Skybet: 40/1, 4pl, 1/4
A18: Jasmine Suwannapura | B18: 0.74% | C18: 135 | D18: 176 | E18: 0.20% | F18: =IFERROR(IF(A18="","",OFFSET(Results!$AJ$1,MATCH(A18,Results!$A:$A,0)-1,0)),"") -> 28 | G18: =IF(OR(E18="",F18=""),"",IF(F18=1,(IF(COUNTIFS(F:F,"<="&F18)<=1,1,(1-COUNTIFS(F:F,"<"&F18))/COUNTIFS(F:F,F18)))*50*E18*(1+VALUE(MID(H18,FIND(": ",H18)+2,FIND("/",H18)-FIND(":",H18)-2))-1)+50*E18*(1+VALUE(MID(H18,FIND(": ",H18)+2,FIND("/",H18)-FIND(":",H18)-2))-1)/VALUE(RIGHT(H18,1)),IF(F18<=VALUE(MID(H18,FIND(", ",H18)+2,IF(MID(H18,FIND(", ",H18)+2,1)="1",2,1))),(IF(COUNTIFS(F:F,"<="&F18)<=VALUE(MID(H18,FIND(", ",H18)+2,IF(MID(H18,FIND(", ",H18)+2,1)="1",2,1))),1,(VALUE(MID(H18,FIND(", ",H18)+2,IF(MID(H18,FIND(", ",H18)+2,1)="1",2,1)))-COUNTIFS(F:F,"<"&F18))/COUNTIFS(F:F,F18)))*(50*E18*(1+VALUE(MID(H18,FIND(": ",H18)+2,FIND("/",H18)-FIND(":",H18)-2))-1)/VALUE(RIGHT(H18,1))+50*E18)-(100*E18),-E18*100))) -> -0.2 | H18: Spreadex: 175/1, 4pl, 1/4
A19: Jin Young Ko | B19: 3.17% | C19: 32 | D19: 19 | F19: =IFERROR(IF(A19="","",OFFSET(Results!$AJ$1,MATCH(A19,Results!$A:$A,0)-1,0)),"") -> 4 | G19: =IF(OR(E19="",F19=""),"",IF(F19=1,(IF(COUNTIFS(F:F,"<="&F19)<=1,1,(1-COUNTIFS(F:F,"<"&F19))/COUNTIFS(F:F,F19)))*50*E19*(1+VALUE(MID(H19,FIND(": ",H19)+2,FIND("/",H19)-FIND(":",H19)-2))-1)+50*E19*(1+VALUE(MID(H19,FIND(": ",H19)+2,FIND("/",H19)-FIND(":",H19)-2))-1)/VALUE(RIGHT(H19,1)),IF(F19<=VALUE(MID(H19,FIND(", ",H19)+2,IF(MID(H19,FIND(", ",H19)+2,1)="1",2,1))),(IF(COUNTIFS(F:F,"<="&F19)<=VALUE(MID(H19,FIND(", ",H19)+2,IF(MID(H19,FIND(", ",H19)+2,1)="1",2,1))),1,(VALUE(MID(H19,FIND(", ",H19)+2,IF(MID(H19,FIND(", ",H19)+2,1)="1",2,1)))-COUNTIFS(F:F,"<"&F19))/COUNTIFS(F:F,F19)))*(50*E19*(1+VALUE(MID(H19,FIND(": ",H19)+2,FIND("/",H19)-FIND(":",H19)-2))-1)/VALUE(RIGHT(H19,1))+50*E19)-(100*E19),-E19*100)))
A20: Lauren Coughlin | B20: 2.59% | C20: 39 | D20: 41 | E20: 0.20% | F20: =IFERROR(IF(A20="","",OFFSET(Results!$AJ$1,MATCH(A20,Results!$A:$A,0)-1,0)),"") -> 7 | G20: =IF(OR(E20="",F20=""),"",IF(F20=1,(IF(COUNTIFS(F:F,"<="&F20)<=1,1,(1-COUNTIFS(F:F,"<"&F20))/COUNTIFS(F:F,F20)))*50*E20*(1+VALUE(MID(H20,FIND(": ",H20)+2,FIND("/",H20)-FIND(":",H20)-2))-1)+50*E20*(1+VALUE(MID(H20,FIND(": ",H20)+2,FIND("/",H20)-FIND(":",H20)-2))-1)/VALUE(RIGHT(H20,1)),IF(F20<=VALUE(MID(H20,FIND(", ",H20)+2,IF(MID(H20,FIND(", ",H20)+2,1)="1",2,1))),(IF(COUNTIFS(F:F,"<="&F20)<=VALUE(MID(H20,FIND(", ",H20)+2,IF(MID(H20,FIND(", ",H20)+2,1)="1",2,1))),1,(VALUE(MID(H20,FIND(", ",H20)+2,IF(MID(H20,FIND(", ",H20)+2,1)="1",2,1)))-COUNTIFS(F:F,"<"&F20))/COUNTIFS(F:F,F20)))*(50*E20*(1+VALUE(MID(H20,FIND(": ",H20)+2,FIND("/",H20)-FIND(":",H20)-2))-1)/VALUE(RIGHT(H20,1))+50*E20)-(100*E20),-E20*100))) -> -0.2 | H20: Ladbrokes: 40/1, 4pl, 1/4
A21: Leona Maguire | B21: 1.01% | C21: 99 | D21: 71 | F21: =IFERROR(IF(A21="","",OFFSET(Results!$AJ$1,MATCH(A21,Results!$A:$A,0)-1,0)),"") -> 9 | G21: =IF(OR(E21="",F21=""),"",IF(F21=1,(IF(COUNTIFS(F:F,"<="&F21)<=1,1,(1-COUNTIFS(F:F,"<"&F21))/COUNTIFS(F:F,F21)))*50*E21*(1+VALUE(MID(H21,FIND(": ",H21)+2,FIND("/",H21)-FIND(":",H21)-2))-1)+50*E21*(1+VALUE(MID(H21,FIND(": ",H21)+2,FIND("/",H21)-FIND(":",H21)-2))-1)/VALUE(RIGHT(H21,1)),IF(F21<=VALUE(MID(H21,FIND(", ",H21)+2,IF(MID(H21,FIND(", ",H21)+2,1)="1",2,1))),(IF(COUNTIFS(F:F,"<="&F21)<=VALUE(MID(H21,FIND(", ",H21)+2,IF(MID(H21,FIND(", ",H21)+2,1)="1",2,1))),1,(VALUE(MID(H21,FIND(", ",H21)+2,IF(MID(H21,FIND(", ",H21)+2,1)="1",2,1)))-COUNTIFS(F:F,"<"&F21))/COUNTIFS(F:F,F21)))*(50*E21*(1+VALUE(MID(H21,FIND(": ",H21)+2,FIND("/",H21)-FIND(":",H21)-2))-1)/VALUE(RIGHT(H21,1))+50*E21)-(100*E21),-E21*100)))
A22: Linn Grant | B22: 5.29% | C22: 19 | D22: 23 | E22: 1.00% | F22: =IFERROR(IF(A22="","",OFFSET(Results!$AJ$1,MATCH(A22,Results!$A:$A,0)-1,0)),"") -> 3 | G22: =IF(OR(E22="",F22=""),"",IF(F22=1,(IF(COUNTIFS(F:F,"<="&F22)<=1,1,(1-COUNTIFS(F:F,"<"&F22))/COUNTIFS(F:F,F22)))*50*E22*(1+VALUE(MID(H22,FIND(": ",H22)+2,FIND("/",H22)-FIND(":",H22)-2))-1)+50*E22*(1+VALUE(MID(H22,FIND(": ",H22)+2,FIND("/",H22)-FIND(":",H22)-2))-1)/VALUE(RIGHT(H22,1)),IF(F22<=VALUE(MID(H22,FIND(", ",H22)+2,IF(MID(H22,FIND(", ",H22)+2,1)="1",2,1))),(IF(COUNTIFS(F:F,"<="&F22)<=VALUE(MID(H22,FIND(", ",H22)+2,IF(MID(H22,FIND(", ",H22)+2,1)="1",2,1))),1,(VALUE(MID(H22,FIND(", ",H22)+2,IF(MID(H22,FIND(", ",H22)+2,1)="1",2,1)))-COUNTIFS(F:F,"<"&F22))/COUNTIFS(F:F,F22)))*(50*E22*(1+VALUE(MID(H22,FIND(": ",H22)+2,FIND("/",H22)-FIND(":",H22)-2))-1)/VALUE(RIGHT(H22,1))+50*E22)-(100*E22),-E22*100))) -> 2.25 | H22: Spreadex: 22/1, 4pl, 1/4
A23: Linnea Strom | B23: 0.52% | C23: 192 | D23: 351 | E23: 0.20% | F23: =IFERROR(IF(A23="","",OFFSET(Results!$AJ$1,MATCH(A23,Results!$A:$A,0)-1,0)),"") -> 29 | G23: =IF(OR(E23="",F23=""),"",IF(F23=1,(IF(COUNTIFS(F:F,"<="&F23)<=1,1,(1-COUNTIFS(F:F,"<"&F23))/COUNTIFS(F:F,F23)))*50*E23*(1+VALUE(MID(H23,FIND(": ",H23)+2,FIND("/",H23)-FIND(":",H23)-2))-1)+50*E23*(1+VALUE(MID(H23,FIND(": ",H23)+2,FIND("/",H23)-FIND(":",H23)-2))-1)/VALUE(RIGHT(H23,1)),IF(F23<=VALUE(MID(H23,FIND(", ",H23)+2,IF(MID(H23,FIND(", ",H23)+2,1)="1",2,1))),(IF(COUNTIFS(F:F,"<="&F23)<=VALUE(MID(H23,FIND(", ",H23)+2,IF(MID(H23,FIND(", ",H23)+2,1)="1",2,1))),1,(VALUE(MID(H23,FIND(", ",H23)+2,IF(MID(H23,FIND(", ",H23)+2,1)="1",2,1)))-COUNTIFS(F:F,"<"&F23))/COUNTIFS(F:F,F23)))*(50*E23*(1+VALUE(MID(H23,FIND(": ",H23)+2,FIND("/",H23)-FIND(":",H23)-2))-1)/VALUE(RIGHT(H23,1))+50*E23)-(100*E23),-E23*100))) -> -0.2 | H23: Bet365: 350/1, 4pl, 1/4
A24: Lydia Ko | B24: 9.64% | C24: 10 | D24: 8 | F24: =IFERROR(IF(A24="","",OFFSET(Results!$AJ$1,MATCH(A24,Results!$A:$A,0)-1,0)),"") -> 6 | G24: =IF(OR(E24="",F24=""),"",IF(F24=1,(IF(COUNTIFS(F:F,"<="&F24)<=1,1,(1-COUNTIFS(F:F,"<"&F24))/COUNTIFS(F:F,F24)))*50*E24*(1+VALUE(MID(H24,FIND(": ",H24)+2,FIND("/",H24)-FIND(":",H24)-2))-1)+50*E24*(1+VALUE(MID(H24,FIND(": ",H24)+2,FIND("/",H24)-FIND(":",H24)-2))-1)/VALUE(RIGHT(H24,1)),IF(F24<=VALUE(MID(H24,FIND(", ",H24)+2,IF(MID(H24,FIND(", ",H24)+2,1)="1",2,1))),(IF(COUNTIFS(F:F,"<="&F24)<=VALUE(MID(H24,FIND(", ",H24)+2,IF(MID(H24,FIND(", ",H24)+2,1)="1",2,1))),1,(VALUE(MID(H24,FIND(", ",H24)+2,IF(MID(H24,FIND(", ",H24)+2,1)="1",2,1)))-COUNTIFS(F:F,"<"&F24))/COUNTIFS(F:F,F24)))*(50*E24*(1+VALUE(MID(H24,FIND(": ",H24)+2,FIND("/",H24)-FIND(":",H24)-2))-1)/VALUE(RIGHT(H24,1))+50*E24)-(100*E24),-E24*100)))
A25: Megan Khang | B25: 2.85% | C25: 35 | D25: 34 | F25: =IFERROR(IF(A25="","",OFFSET(Results!$AJ$1,MATCH(A25,Results!$A:$A,0)-1,0)),"") -> 18 | G25: =IF(OR(E25="",F25=""),"",IF(F25=1,(IF(COUNTIFS(F:F,"<="&F25)<=1,1,(1-COUNTIFS(F:F,"<"&F25))/COUNTIFS(F:F,F25)))*50*E25*(1+VALUE(MID(H25,FIND(": ",H25)+2,FIND("/",H25)-FIND(":",H25)-2))-1)+50*E25*(1+VALUE(MID(H25,FIND(": ",H25)+2,FIND("/",H25)-FIND(":",H25)-2))-1)/VALUE(RIGHT(H25,1)),IF(F25<=VALUE(MID(H25,FIND(", ",H25)+2,IF(MID(H25,FIND(", ",H25)+2,1)="1",2,1))),(IF(COUNTIFS(F:F,"<="&F25)<=VALUE(MID(H25,FIND(", ",H25)+2,IF(MID(H25,FIND(", ",H25)+2,1)="1",2,1))),1,(VALUE(MID(H25,FIND(", ",H25)+2,IF(MID(H25,FIND(", ",H25)+2,1)="1",2,1)))-COUNTIFS(F:F,"<"&F25))/COUNTIFS(F:F,F25)))*(50*E25*(1+VALUE(MID(H25,FIND(": ",H25)+2,FIND("/",H25)-FIND(":",H25)-2))-1)/VALUE(RIGHT(H25,1))+50*E25)-(100*E25),-E25*100)))
A26: Minjee Lee | B26: 2.59% | C26: 39 | D26: 31 | F26: =IFERROR(IF(A26="","",OFFSET(Results!$AJ$1,MATCH(A26,Results!$A:$A,0)-1,0)),"") -> 4 | G26: =IF(OR(E26="",F26=""),"",IF(F26=1,(IF(COUNTIFS(F:F,"<="&F26)<=1,1,(1-COUNTIFS(F:F,"<"&F26))/COUNTIFS(F:F,F26)))*50*E26*(1+VALUE(MID(H26,FIND(": ",H26)+2,FIND("/",H26)-FIND(":",H26)-2))-1)+50*E26*(1+VALUE(MID(H26,FIND(": ",H26)+2,FIND("/",H26)-FIND(":",H26)-2))-1)/VALUE(RIGHT(H26,1)),IF(F26<=VALUE(MID(H26,FIND(", ",H26)+2,IF(MID(H26,FIND(", ",H26)+2,1)="1",2,1))),(IF(COUNTIFS(F:F,"<="&F26)<=VALUE(MID(H26,FIND(", ",H26)+2,IF(MID(H26,FIND(", ",H26)+2,1)="1",2,1))),1,(VALUE(MID(H26,FIND(", ",H26)+2,IF(MID(H26,FIND(", ",H26)+2,1)="1",2,1)))-COUNTIFS(F:F,"<"&F26))/COUNTIFS(F:F,F26)))*(50*E26*(1+VALUE(MID(H26,FIND(": ",H26)+2,FIND("/",H26)-FIND(":",H26)-2))-1)/VALUE(RIGHT(H26,1))+50*E26)-(100*E26),-E26*100)))
A27: Moriya Jutanugarn | B27: 0.66% | C27: 152 | D27: 176 | E27: 0.10% | F27: =IFERROR(IF(A27="","",OFFSET(Results!$AJ$1,MATCH(A27,Results!$A:$A,0)-1,0)),"") -> 30 | G27: =IF(OR(E27="",F27=""),"",IF(F27=1,(IF(COUNTIFS(F:F,"<="&F27)<=1,1,(1-COUNTIFS(F:F,"<"&F27))/COUNTIFS(F:F,F27)))*50*E27*(1+VALUE(MID(H27,FIND(": ",H27)+2,FIND("/",H27)-FIND(":",H27)-2))-1)+50*E27*(1+VALUE(MID(H27,FIND(": ",H27)+2,FIND("/",H27)-FIND(":",H27)-2))-1)/VALUE(RIGHT(H27,1)),IF(F27<=VALUE(MID(H27,FIND(", ",H27)+2,IF(MID(H27,FIND(", ",H27)+2,1)="1",2,1))),(IF(COUNTIFS(F:F,"<="&F27)<=VALUE(MID(H27,FIND(", ",H27)+2,IF(MID(H27,FIND(", ",H27)+2,1)="1",2,1))),1,(VALUE(MID(H27,FIND(", ",H27)+2,IF(MID(H27,FIND(", ",H27)+2,1)="1",2,1)))-COUNTIFS(F:F,"<"&F27))/COUNTIFS(F:F,F27)))*(50*E27*(1+VALUE(MID(H27,FIND(": ",H27)+2,FIND("/",H27)-FIND(":",H27)-2))-1)/VALUE(RIGHT(H27,1))+50*E27)-(100*E27),-E27*100))) -> -0.1 | H27: Skybet: 175/1, 4pl, 1/4
A28: Nelly Korda | B28: 14.58% | C28: 6.9 | D28: 5 | F28: =IFERROR(IF(A28="","",OFFSET(Results!$AJ$1,MATCH(A28,Results!$A:$A,0)-1,0)),"") -> 2 | G28: =IF(OR(E28="",F28=""),"",IF(F28=1,(IF(COUNTIFS(F:F,"<="&F28)<=1,1,(1-COUNTIFS(F:F,"<"&F28))/COUNTIFS(F:F,F28)))*50*E28*(1+VALUE(MID(H28,FIND(": ",H28)+2,FIND("/",H28)-FIND(":",H28)-2))-1)+50*E28*(1+VALUE(MID(H28,FIND(": ",H28)+2,FIND("/",H28)-FIND(":",H28)-2))-1)/VALUE(RIGHT(H28,1)),IF(F28<=VALUE(MID(H28,FIND(", ",H28)+2,IF(MID(H28,FIND(", ",H28)+2,1)="1",2,1))),(IF(COUNTIFS(F:F,"<="&F28)<=VALUE(MID(H28,FIND(", ",H28)+2,IF(MID(H28,FIND(", ",H28)+2,1)="1",2,1))),1,(VALUE(MID(H28,FIND(", ",H28)+2,IF(MID(H28,FIND(", ",H28)+2,1)="1",2,1)))-COUNTIFS(F:F,"<"&F28))/COUNTIFS(F:F,F28)))*(50*E28*(1+VALUE(MID(H28,FIND(": ",H28)+2,FIND("/",H28)-FIND(":",H28)-2))-1)/VALUE(RIGHT(H28,1))+50*E28)-(100*E28),-E28*100)))
A29: Pajaree Anannarukarn | B29: 1.78% | C29: 56 | D29: 91 | E29: 0.70% | F29: =IFERROR(IF(A29="","",OFFSET(Results!$AJ$1,MATCH(A29,Results!$A:$A,0)-1,0)),"") -> 10 | G29: =IF(OR(E29="",F29=""),"",IF(F29=1,(IF(COUNTIFS(F:F,"<="&F29)<=1,1,(1-COUNTIFS(F:F,"<"&F29))/COUNTIFS(F:F,F29)))*50*E29*(1+VALUE(MID(H29,FIND(": ",H29)+2,FIND("/",H29)-FIND(":",H29)-2))-1)+50*E29*(1+VALUE(MID(H29,FIND(": ",H29)+2,FIND("/",H29)-FIND(":",H29)-2))-1)/VALUE(RIGHT(H29,1)),IF(F29<=VALUE(MID(H29,FIND(", ",H29)+2,IF(MID(H29,FIND(", ",H29)+2,1)="1",2,1))),(IF(COUNTIFS(F:F,"<="&F29)<=VALUE(MID(H29,FIND(", ",H29)+2,IF(MID(H29,FIND(", ",H29)+2,1)="1",2,1))),1,(VALUE(MID(H29,FIND(", ",H29)+2,IF(MID(H29,FIND(", ",H29)+2,1)="1",2,1)))-COUNTIFS(F:F,"<"&F29))/COUNTIFS(F:F,F29)))*(50*E29*(1+VALUE(MID(H29,FIND(": ",H29)+2,FIND("/",H29)-FIND(":",H29)-2))-1)/VALUE(RIGHT(H29,1))+50*E29)-(100*E29),-E29*100))) -> -0.7 | H29: Ladbrokes: 90/1, 4pl, 1/4
A30: Patty Tavatanakit | B30: 1.25% | C30: 80 | D30: 81 | F30: =IFERROR(IF(A30="","",OFFSET(Results!$AJ$1,MATCH(A30,Results!$A:$A,0)-1,0)),"") -> 20 | G30: =IF(OR(E30="",F30=""),"",IF(F30=1,(IF(COUNTIFS(F:F,"<="&F30)<=1,1,(1-COUNTIFS(F:F,"<"&F30))/COUNTIFS(F:F,F30)))*50*E30*(1+VALUE(MID(H30,FIND(": ",H30)+2,FIND("/",H30)-FIND(":",H30)-2))-1)+50*E30*(1+VALUE(MID(H30,FIND(": ",H30)+2,FIND("/",H30)-FIND(":",H30)-2))-1)/VALUE(RIGHT(H30,1)),IF(F30<=VALUE(MID(H30,FIND(", ",H30)+2,IF(MID(H30,FIND(", ",H30)+2,1)="1",2,1))),(IF(COUNTIFS(F:F,"<="&F30)<=VALUE(MID(H30,FIND(", ",H30)+2,IF(MID(H30,FIND(", ",H30)+2,1)="1",2,1))),1,(VALUE(MID(H30,FIND(", ",H30)+2,IF(MID(H30,FIND(", ",H30)+2,1)="1",2,1)))-COUNTIFS(F:F,"<"&F30))/COUNTIFS(F:F,F30)))*(50*E30*(1+VALUE(MID(H30,FIND(": ",H30)+2,FIND("/",H30)-FIND(":",H30)-2))-1)/VALUE(RIGHT(H30,1))+50*E30)-(100*E30),-E30*100)))
A31: Rio Takeda | B31: 3.89% | C31: 26 | D31: 17 | F31: =IFERROR(IF(A31="","",OFFSET(Results!$AJ$1,MATCH(A31,Results!$A:$A,0)-1,0)),"") -> 8 | G31: =IF(OR(E31="",F31=""),"",IF(F31=1,(IF(COUNTIFS(F:F,"<="&F31)<=1,1,(1-COUNTIFS(F:F,"<"&F31))/COUNTIFS(F:F,F31)))*50*E31*(1+VALUE(MID(H31,FIND(": ",H31)+2,FIND("/",H31)-FIND(":",H31)-2))-1)+50*E31*(1+VALUE(MID(H31,FIND(": ",H31)+2,FIND("/",H31)-FIND(":",H31)-2))-1)/VALUE(RIGHT(H31,1)),IF(F31<=VALUE(MID(H31,FIND(", ",H31)+2,IF(MID(H31,FIND(", ",H31)+2,1)="1",2,1))),(IF(COUNTIFS(F:F,"<="&F31)<=VALUE(MID(H31,FIND(", ",H31)+2,IF(MID(H31,FIND(", ",H31)+2,1)="1",2,1))),1,(VALUE(MID(H31,FIND(", ",H31)+2,IF(MID(H31,FIND(", ",H31)+2,1)="1",2,1)))-COUNTIFS(F:F,"<"&F31))/COUNTIFS(F:F,F31)))*(50*E31*(1+VALUE(MID(H31,FIND(": ",H31)+2,FIND("/",H31)-FIND(":",H31)-2))-1)/VALUE(RIGHT(H31,1))+50*E31)-(100*E31),-E31*100)))
A32: Rose Zhang | B32: 3.42% | C32: 29 | D32: 23 | F32: =IFERROR(IF(A32="","",OFFSET(Results!$AJ$1,MATCH(A32,Results!$A:$A,0)-1,0)),"") -> 10 | G32: =IF(OR(E32="",F32=""),"",IF(F32=1,(IF(COUNTIFS(F:F,"<="&F32)<=1,1,(1-COUNTIFS(F:F,"<"&F32))/COUNTIFS(F:F,F32)))*50*E32*(1+VALUE(MID(H32,FIND(": ",H32)+2,FIND("/",H32)-FIND(":",H32)-2))-1)+50*E32*(1+VALUE(MID(H32,FIND(": ",H32)+2,FIND("/",H32)-FIND(":",H32)-2))-1)/VALUE(RIGHT(H32,1)),IF(F32<=VALUE(MID(H32,FIND(", ",H32)+2,IF(MID(H32,FIND(", ",H32)+2,1)="1",2,1))),(IF(COUNTIFS(F:F,"<="&F32)<=VALUE(MID(H32,FIND(", ",H32)+2,IF(MID(H32,FIND(", ",H32)+2,1)="1",2,1))),1,(VALUE(MID(H32,FIND(", ",H32)+2,IF(MID(H32,FIND(", ",H32)+2,1)="1",2,1)))-COUNTIFS(F:F,"<"&F32))/COUNTIFS(F:F,F32)))*(50*E32*(1+VALUE(MID(H32,FIND(": ",H32)+2,FIND("/",H32)-FIND(":",H32)-2))-1)/VALUE(RIGHT(H32,1))+50*E32)-(100*E32),-E32*100)))
A33: Yuka Saso | B33: 1.44% | C33: 69 | D33: 67 | F33: =IFERROR(IF(A33="","",OFFSET(Results!$AJ$1,MATCH(A33,Results!$A:$A,0)-1,0)),"") -> 30 | G33: =IF(OR(E33="",F33=""),"",IF(F33=1,(IF(COUNTIFS(F:F,"<="&F33)<=1,1,(1-COUNTIFS(F:F,"<"&F33))/COUNTIFS(F:F,F33)))*50*E33*(1+VALUE(MID(H33,FIND(": ",H33)+2,FIND("/",H33)-FIND(":",H33)-2))-1)+50*E33*(1+VALUE(MID(H33,FIND(": ",H33)+2,FIND("/",H33)-FIND(":",H33)-2))-1)/VALUE(RIGHT(H33,1)),IF(F33<=VALUE(MID(H33,FIND(", ",H33)+2,IF(MID(H33,FIND(", ",H33)+2,1)="1",2,1))),(IF(COUNTIFS(F:F,"<="&F33)<=VALUE(MID(H33,FIND(", ",H33)+2,IF(MID(H33,FIND(", ",H33)+2,1)="1",2,1))),1,(VALUE(MID(H33,FIND(", ",H33)+2,IF(MID(H33,FIND(", ",H33)+2,1)="1",2,1)))-COUNTIFS(F:F,"<"&F33))/COUNTIFS(F:F,F33)))*(50*E33*(1+VALUE(MID(H33,FIND(": ",H33)+2,FIND("/",H33)-FIND(":",H33)-2))-1)/VALUE(RIGHT(H33,1))+50*E33)-(100*E33),-E33*100)))
F34: =IFERROR(IF(A34="","",OFFSET(Results!$AJ$1,MATCH(A34,Results!$A:$A,0)-1,0)),"") | G34: =IF(OR(E34="",F34=""),"",IF(F34=1,(IF(COUNTIFS(F:F,"<="&F34)<=1,1,(1-COUNTIFS(F:F,"<"&F34))/COUNTIFS(F:F,F34)))*50*E34*(1+VALUE(MID(H34,FIND(": ",H34)+2,FIND("/",H34)-FIND(":",H34)-2))-1)+50*E34*(1+VALUE(MID(H34,FIND(": ",H34)+2,FIND("/",H34)-FIND(":",H34)-2))-1)/VALUE(RIGHT(H34,1)),IF(F34<=VALUE(MID(H34,FIND(", ",H34)+2,IF(MID(H34,FIND(", ",H34)+2,1)="1",2,1))),(IF(COUNTIFS(F:F,"<="&F34)<=VALUE(MID(H34,FIND(", ",H34)+2,IF(MID(H34,FIND(", ",H34)+2,1)="1",2,1))),1,(VALUE(MID(H34,FIND(", ",H34)+2,IF(MID(H34,FIND(", ",H34)+2,1)="1",2,1)))-COUNTIFS(F:F,"<"&F34))/COUNTIFS(F:F,F34)))*(50*E34*(1+VALUE(MID(H34,FIND(": ",H34)+2,FIND("/",H34)-FIND(":",H34)-2))-1)/VALUE(RIGHT(H34,1))+50*E34)-(100*E34),-E34*100)))
F35: =IFERROR(IF(A35="","",OFFSET(Results!$AJ$1,MATCH(A35,Results!$A:$A,0)-1,0)),"") | G35: =IF(OR(E35="",F35=""),"",IF(F35=1,(IF(COUNTIFS(F:F,"<="&F35)<=1,1,(1-COUNTIFS(F:F,"<"&F35))/COUNTIFS(F:F,F35)))*50*E35*(1+VALUE(MID(H35,FIND(": ",H35)+2,FIND("/",H35)-FIND(":",H35)-2))-1)+50*E35*(1+VALUE(MID(H35,FIND(": ",H35)+2,FIND("/",H35)-FIND(":",H35)-2))-1)/VALUE(RIGHT(H35,1)),IF(F35<=VALUE(MID(H35,FIND(", ",H35)+2,IF(MID(H35,FIND(", ",H35)+2,1)="1",2,1))),(IF(COUNTIFS(F:F,"<="&F35)<=VALUE(MID(H35,FIND(", ",H35)+2,IF(MID(H35,FIND(", ",H35)+2,1)="1",2,1))),1,(VALUE(MID(H35,FIND(", ",H35)+2,IF(MID(H35,FIND(", ",H35)+2,1)="1",2,1)))-COUNTIFS(F:F,"<"&F35))/COUNTIFS(F:F,F35)))*(50*E35*(1+VALUE(MID(H35,FIND(": ",H35)+2,FIND("/",H35)-FIND(":",H35)-2))-1)/VALUE(RIGHT(H35,1))+50*E35)-(100*E35),-E35*100)))
F36: =IFERROR(IF(A36="","",OFFSET(Results!$AJ$1,MATCH(A36,Results!$A:$A,0)-1,0)),"") | G36: =IF(OR(E36="",F36=""),"",IF(F36=1,(IF(COUNTIFS(F:F,"<="&F36)<=1,1,(1-COUNTIFS(F:F,"<"&F36))/COUNTIFS(F:F,F36)))*50*E36*(1+VALUE(MID(H36,FIND(": ",H36)+2,FIND("/",H36)-FIND(":",H36)-2))-1)+50*E36*(1+VALUE(MID(H36,FIND(": ",H36)+2,FIND("/",H36)-FIND(":",H36)-2))-1)/VALUE(RIGHT(H36,1)),IF(F36<=VALUE(MID(H36,FIND(", ",H36)+2,IF(MID(H36,FIND(", ",H36)+2,1)="1",2,1))),(IF(COUNTIFS(F:F,"<="&F36)<=VALUE(MID(H36,FIND(", ",H36)+2,IF(MID(H36,FIND(", ",H36)+2,1)="1",2,1))),1,(VALUE(MID(H36,FIND(", ",H36)+2,IF(MID(H36,FIND(", ",H36)+2,1)="1",2,1)))-COUNTIFS(F:F,"<"&F36))/COUNTIFS(F:F,F36)))*(50*E36*(1+VALUE(MID(H36,FIND(": ",H36)+2,FIND("/",H36)-FIND(":",H36)-2))-1)/VALUE(RIGHT(H36,1))+50*E36)-(100*E36),-E36*100)))
F37: =IFERROR(IF(A37="","",OFFSET(Results!$AJ$1,MATCH(A37,Results!$A:$A,0)-1,0)),"") | G37: =IF(OR(E37="",F37=""),"",IF(F37=1,(IF(COUNTIFS(F:F,"<="&F37)<=1,1,(1-COUNTIFS(F:F,"<"&F37))/COUNTIFS(F:F,F37)))*50*E37*(1+VALUE(MID(H37,FIND(": ",H37)+2,FIND("/",H37)-FIND(":",H37)-2))-1)+50*E37*(1+VALUE(MID(H37,FIND(": ",H37)+2,FIND("/",H37)-FIND(":",H37)-2))-1)/VALUE(RIGHT(H37,1)),IF(F37<=VALUE(MID(H37,FIND(", ",H37)+2,IF(MID(H37,FIND(", ",H37)+2,1)="1",2,1))),(IF(COUNTIFS(F:F,"<="&F37)<=VALUE(MID(H37,FIND(", ",H37)+2,IF(MID(H37,FIND(", ",H37)+2,1)="1",2,1))),1,(VALUE(MID(H37,FIND(", ",H37)+2,IF(MID(H37,FIND(", ",H37)+2,1)="1",2,1)))-COUNTIFS(F:F,"<"&F37))/COUNTIFS(F:F,F37)))*(50*E37*(1+VALUE(MID(H37,FIND(": ",H37)+2,FIND("/",H37)-FIND(":",H37)-2))-1)/VALUE(RIGHT(H37,1))+50*E37)-(100*E37),-E37*100)))
F38: =IFERROR(IF(A38="","",OFFSET(Results!$AJ$1,MATCH(A38,Results!$A:$A,0)-1,0)),"") | G38: =IF(OR(E38="",F38=""),"",IF(F38=1,(IF(COUNTIFS(F:F,"<="&F38)<=1,1,(1-COUNTIFS(F:F,"<"&F38))/COUNTIFS(F:F,F38)))*50*E38*(1+VALUE(MID(H38,FIND(": ",H38)+2,FIND("/",H38)-FIND(":",H38)-2))-1)+50*E38*(1+VALUE(MID(H38,FIND(": ",H38)+2,FIND("/",H38)-FIND(":",H38)-2))-1)/VALUE(RIGHT(H38,1)),IF(F38<=VALUE(MID(H38,FIND(", ",H38)+2,IF(MID(H38,FIND(", ",H38)+2,1)="1",2,1))),(IF(COUNTIFS(F:F,"<="&F38)<=VALUE(MID(H38,FIND(", ",H38)+2,IF(MID(H38,FIND(", ",H38)+2,1)="1",2,1))),1,(VALUE(MID(H38,FIND(", ",H38)+2,IF(MID(H38,FIND(", ",H38)+2,1)="1",2,1)))-COUNTIFS(F:F,"<"&F38))/COUNTIFS(F:F,F38)))*(50*E38*(1+VALUE(MID(H38,FIND(": ",H38)+2,FIND("/",H38)-FIND(":",H38)-2))-1)/VALUE(RIGHT(H38,1))+50*E38)-(100*E38),-E38*100)))
F39: =IFERROR(IF(A39="","",OFFSET(Results!$AJ$1,MATCH(A39,Results!$A:$A,0)-1,0)),"") | G39: =IF(OR(E39="",F39=""),"",IF(F39=1,(IF(COUNTIFS(F:F,"<="&F39)<=1,1,(1-COUNTIFS(F:F,"<"&F39))/COUNTIFS(F:F,F39)))*50*E39*(1+VALUE(MID(H39,FIND(": ",H39)+2,FIND("/",H39)-FIND(":",H39)-2))-1)+50*E39*(1+VALUE(MID(H39,FIND(": ",H39)+2,FIND("/",H39)-FIND(":",H39)-2))-1)/VALUE(RIGHT(H39,1)),IF(F39<=VALUE(MID(H39,FIND(", ",H39)+2,IF(MID(H39,FIND(", ",H39)+2,1)="1",2,1))),(IF(COUNTIFS(F:F,"<="&F39)<=VALUE(MID(H39,FIND(", ",H39)+2,IF(MID(H39,FIND(", ",H39)+2,1)="1",2,1))),1,(VALUE(MID(H39,FIND(", ",H39)+2,IF(MID(H39,FIND(", ",H39)+2,1)="1",2,1)))-COUNTIFS(F:F,"<"&F39))/COUNTIFS(F:F,F39)))*(50*E39*(1+VALUE(MID(H39,FIND(": ",H39)+2,FIND("/",H39)-FIND(":",H39)-2))-1)/VALUE(RIGHT(H39,1))+50*E39)-(100*E39),-E39*100)))
F40: =IFERROR(IF(A40="","",OFFSET(Results!$AJ$1,MATCH(A40,Results!$A:$A,0)-1,0)),"") | G40: =IF(OR(E40="",F40=""),"",IF(F40=1,(IF(COUNTIFS(F:F,"<="&F40)<=1,1,(1-COUNTIFS(F:F,"<"&F40))/COUNTIFS(F:F,F40)))*50*E40*(1+VALUE(MID(H40,FIND(": ",H40)+2,FIND("/",H40)-FIND(":",H40)-2))-1)+50*E40*(1+VALUE(MID(H40,FIND(": ",H40)+2,FIND("/",H40)-FIND(":",H40)-2))-1)/VALUE(RIGHT(H40,1)),IF(F40<=VALUE(MID(H40,FIND(", ",H40)+2,IF(MID(H40,FIND(", ",H40)+2,1)="1",2,1))),(IF(COUNTIFS(F:F,"<="&F40)<=VALUE(MID(H40,FIND(", ",H40)+2,IF(MID(H40,FIND(", ",H40)+2,1)="1",2,1))),1,(VALUE(MID(H40,FIND(", ",H40)+2,IF(MID(H40,FIND(", ",H40)+2,1)="1",2,1)))-COUNTIFS(F:F,"<"&F40))/COUNTIFS(F:F,F40)))*(50*E40*(1+VALUE(MID(H40,FIND(": ",H40)+2,FIND("/",H40)-FIND(":",H40)-2))-1)/VALUE(RIGHT(H40,1))+50*E40)-(100*E40),-E40*100)))
F41: =IFERROR(IF(A41="","",OFFSET(Results!$AJ$1,MATCH(A41,Results!$A:$A,0)-1,0)),"") | G41: =IF(OR(E41="",F41=""),"",IF(F41=1,(IF(COUNTIFS(F:F,"<="&F41)<=1,1,(1-COUNTIFS(F:F,"<"&F41))/COUNTIFS(F:F,F41)))*50*E41*(1+VALUE(MID(H41,FIND(": ",H41)+2,FIND("/",H41)-FIND(":",H41)-2))-1)+50*E41*(1+VALUE(MID(H41,FIND(": ",H41)+2,FIND("/",H41)-FIND(":",H41)-2))-1)/VALUE(RIGHT(H41,1)),IF(F41<=VALUE(MID(H41,FIND(", ",H41)+2,IF(MID(H41,FIND(", ",H41)+2,1)="1",2,1))),(IF(COUNTIFS(F:F,"<="&F41)<=VALUE(MID(H41,FIND(", ",H41)+2,IF(MID(H41,FIND(", ",H41)+2,1)="1",2,1))),1,(VALUE(MID(H41,FIND(", ",H41)+2,IF(MID(H41,FIND(", ",H41)+2,1)="1",2,1)))-COUNTIFS(F:F,"<"&F41))/COUNTIFS(F:F,F41)))*(50*E41*(1+VALUE(MID(H41,FIND(": ",H41)+2,FIND("/",H41)-FIND(":",H41)-2))-1)/VALUE(RIGHT(H41,1))+50*E41)-(100*E41),-E41*100)))
F42: =IFERROR(IF(A42="","",OFFSET(Results!$AJ$1,MATCH(A42,Results!$A:$A,0)-1,0)),"") | G42: =IF(OR(E42="",F42=""),"",IF(F42=1,(IF(COUNTIFS(F:F,"<="&F42)<=1,1,(1-COUNTIFS(F:F,"<"&F42))/COUNTIFS(F:F,F42)))*50*E42*(1+VALUE(MID(H42,FIND(": ",H42)+2,FIND("/",H42)-FIND(":",H42)-2))-1)+50*E42*(1+VALUE(MID(H42,FIND(": ",H42)+2,FIND("/",H42)-FIND(":",H42)-2))-1)/VALUE(RIGHT(H42,1)),IF(F42<=VALUE(MID(H42,FIND(", ",H42)+2,IF(MID(H42,FIND(", ",H42)+2,1)="1",2,1))),(IF(COUNTIFS(F:F,"<="&F42)<=VALUE(MID(H42,FIND(", ",H42)+2,IF(MID(H42,FIND(", ",H42)+2,1)="1",2,1))),1,(VALUE(MID(H42,FIND(", ",H42)+2,IF(MID(H42,FIND(", ",H42)+2,1)="1",2,1)))-COUNTIFS(F:F,"<"&F42))/COUNTIFS(F:F,F42)))*(50*E42*(1+VALUE(MID(H42,FIND(": ",H42)+2,FIND("/",H42)-FIND(":",H42)-2))-1)/VALUE(RIGHT(H42,1))+50*E42)-(100*E42),-E42*100)))
F43: =IFERROR(IF(A43="","",OFFSET(Results!$AJ$1,MATCH(A43,Results!$A:$A,0)-1,0)),"") | G43: =IF(OR(E43="",F43=""),"",IF(F43=1,(IF(COUNTIFS(F:F,"<="&F43)<=1,1,(1-COUNTIFS(F:F,"<"&F43))/COUNTIFS(F:F,F43)))*50*E43*(1+VALUE(MID(H43,FIND(": ",H43)+2,FIND("/",H43)-FIND(":",H43)-2))-1)+50*E43*(1+VALUE(MID(H43,FIND(": ",H43)+2,FIND("/",H43)-FIND(":",H43)-2))-1)/VALUE(RIGHT(H43,1)),IF(F43<=VALUE(MID(H43,FIND(", ",H43)+2,IF(MID(H43,FIND(", ",H43)+2,1)="1",2,1))),(IF(COUNTIFS(F:F,"<="&F43)<=VALUE(MID(H43,FIND(", ",H43)+2,IF(MID(H43,FIND(", ",H43)+2,1)="1",2,1))),1,(VALUE(MID(H43,FIND(", ",H43)+2,IF(MID(H43,FIND(", ",H43)+2,1)="1",2,1)))-COUNTIFS(F:F,"<"&F43))/COUNTIFS(F:F,F43)))*(50*E43*(1+VALUE(MID(H43,FIND(": ",H43)+2,FIND("/",H43)-FIND(":",H43)-2))-1)/VALUE(RIGHT(H43,1))+50*E43)-(100*E43),-E43*100)))
F44: =IFERROR(IF(A44="","",OFFSET(Results!$AJ$1,MATCH(A44,Results!$A:$A,0)-1,0)),"") | G44: =IF(OR(E44="",F44=""),"",IF(F44=1,(IF(COUNTIFS(F:F,"<="&F44)<=1,1,(1-COUNTIFS(F:F,"<"&F44))/COUNTIFS(F:F,F44)))*50*E44*(1+VALUE(MID(H44,FIND(": ",H44)+2,FIND("/",H44)-FIND(":",H44)-2))-1)+50*E44*(1+VALUE(MID(H44,FIND(": ",H44)+2,FIND("/",H44)-FIND(":",H44)-2))-1)/VALUE(RIGHT(H44,1)),IF(F44<=VALUE(MID(H44,FIND(", ",H44)+2,IF(MID(H44,FIND(", ",H44)+2,1)="1",2,1))),(IF(COUNTIFS(F:F,"<="&F44)<=VALUE(MID(H44,FIND(", ",H44)+2,IF(MID(H44,FIND(", ",H44)+2,1)="1",2,1))),1,(VALUE(MID(H44,FIND(", ",H44)+2,IF(MID(H44,FIND(", ",H44)+2,1)="1",2,1)))-COUNTIFS(F:F,"<"&F44))/COUNTIFS(F:F,F44)))*(50*E44*(1+VALUE(MID(H44,FIND(": ",H44)+2,FIND("/",H44)-FIND(":",H44)-2))-1)/VALUE(RIGHT(H44,1))+50*E44)-(100*E44),-E44*100)))
F45: =IFERROR(IF(A45="","",OFFSET(Results!$AJ$1,MATCH(A45,Results!$A:$A,0)-1,0)),"") | G45: =IF(OR(E45="",F45=""),"",IF(F45=1,(IF(COUNTIFS(F:F,"<="&F45)<=1,1,(1-COUNTIFS(F:F,"<"&F45))/COUNTIFS(F:F,F45)))*50*E45*(1+VALUE(MID(H45,FIND(": ",H45)+2,FIND("/",H45)-FIND(":",H45)-2))-1)+50*E45*(1+VALUE(MID(H45,FIND(": ",H45)+2,FIND("/",H45)-FIND(":",H45)-2))-1)/VALUE(RIGHT(H45,1)),IF(F45<=VALUE(MID(H45,FIND(", ",H45)+2,IF(MID(H45,FIND(", ",H45)+2,1)="1",2,1))),(IF(COUNTIFS(F:F,"<="&F45)<=VALUE(MID(H45,FIND(", ",H45)+2,IF(MID(H45,FIND(", ",H45)+2,1)="1",2,1))),1,(VALUE(MID(H45,FIND(", ",H45)+2,IF(MID(H45,FIND(", ",H45)+2,1)="1",2,1)))-COUNTIFS(F:F,"<"&F45))/COUNTIFS(F:F,F45)))*(50*E45*(1+VALUE(MID(H45,FIND(": ",H45)+2,FIND("/",H45)-FIND(":",H45)-2))-1)/VALUE(RIGHT(H45,1))+50*E45)-(100*E45),-E45*100)))
... F169: =IFERROR(IF(A169="","",OFFSET(Results!$AJ$1,MATCH(A169,Results!$A:$A,0)-1,0)),"") | G169: =IF(OR(E169="",F169=""),"",IF(F169=1,(IF(COUNTIFS(F:F,"<="&F169)<=1,1,(1-COUNTIFS(F:F,"<"&F169))/COUNTIFS(F:F,F169)))*50*E169*(1+VALUE(MID(H169,FIND(": ",H169)+2,FIND("/",H169)-FIND(":",H169)-2))-1)+50*E169*(1+VALUE(MID(H169,FIND(": ",H169)+2,FIND("/",H169)-FIND(":",H169)-2))-1)/VALUE(RIGHT(H169,1)),IF(F169<=VALUE(MID(H169,FIND(", ",H169)+2,IF(MID(H169,FIND(", ",H169)+2,1)="1",2,1))),(IF(COUNTIFS(F:F,"<="&F169)<=VALUE(MID(H169,FIND(", ",H169)+2,IF(MID(H169,FIND(", ",H169)+2,1)="1",2,1))),1,(VALUE(MID(H169,FIND(", ",H169)+2,IF(MID(H169,FIND(", ",H169)+2,1)="1",2,1)))-COUNTIFS(F:F,"<"&F169))/COUNTIFS(F:F,F169)))*(50*E169*(1+VALUE(MID(H169,FIND(": ",H169)+2,FIND("/",H169)-FIND(":",H169)-2))-1)/VALUE(RIGHT(H169,1))+50*E169)-(100*E169),-E169*100)))

Sheet Top3
A1: Player | B1: Win % | C1: TT Odds | D1: Best Odds | E1: Kelly | F1: Result | G1: P/L | H1: E/W Play
A2: A Lim Kim | B2: 5.31% | C2: 19
A3: Alexa Pano | B3: 2.43% | C3: 41
A4: Allisen Corpuz | B4: 9.27% | C4: 11
A5: Amy Yang | B5: 7.39% | C5: 14
A6: Angel Yin | B6: 10.21% | C6: 9.8
A7: Ashleigh Buhai | B7: 4.95% | C7: 20
A8: Ayaka Furue | B8: 15.83% | C8: 6.3
A9: Bailey Tardy | B9: 2.32% | C9: 43
A10: Brooke M. Henderson | B10: 13.66% | C10: 7.3
A11: Celine Boutier | B11: 18.39% | C11: 5.4
A12: Chanettee Wannasaen | B12: 4.62% | C12: 22
A13: Cheyenne Knight | B13: 2.89% | C13: 35
... A33: Yuka Saso | B33: 5.55% | C33: 18

Sheet Top5
A1: Player | B1: Win % | C1: TT Odds | D1: Best Odds | E1: Kelly | F1: Result | G1: P/L | H1: E/W Play
A2: A Lim Kim | B2: 10.10% | C2: 9.9
A3: Alexa Pano | B3: 5.07% | C3: 20
A4: Allisen Corpuz | B4: 16.01% | C4: 6.2
A5: Amy Yang | B5: 13.15% | C5: 7.6
A6: Angel Yin | B6: 17.65% | C6: 5.7
A7: Ashleigh Buhai | B7: 9.53% | C7: 10
A8: Ayaka Furue | B8: 25.39% | C8: 3.9
A9: Bailey Tardy | B9: 4.76% | C9: 21
A10: Brooke M. Henderson | B10: 22.28% | C10: 4.5
A11: Celine Boutier | B11: 29.07% | C11: 3.4
A12: Chanettee Wannasaen | B12: 8.62% | C12: 12
A13: Cheyenne Knight | B13: 5.84% | C13: 17
... A33: Yuka Saso | B33: 10.25% | C33: 9.8

Sheet Top10
A1: Player | B1: Win % | C1: TT Odds | D1: Best Odds | E1: Kelly | F1: Result | G1: P/L | H1: E/W Play
A2: A Lim Kim | B2: 23.70% | C2: 4.2
A3: Alexa Pano | B3: 14.07% | C3: 7.1
A4: Allisen Corpuz | B4: 33.23% | C4: 3
A5: Amy Yang | B5: 29.13% | C5: 3.4
A6: Angel Yin | B6: 35.77% | C6: 2.8
A7: Ashleigh Buhai | B7: 22.84% | C7: 4.4
A8: Ayaka Furue | B8: 46.19% | C8: 2.2
A9: Bailey Tardy | B9: 13.50% | C9: 7.4
A10: Brooke M. Henderson | B10: 42.62% | C10: 2.3
A11: Celine Boutier | B11: 50.24% | C11: 1.99
A12: Chanettee Wannasaen | B12: 21.74% | C12: 4.6
A13: Cheyenne Knight | B13: 15.90% | C13: 6.3
... A33: Yuka Saso | B33: 23.98% | C33: 4.2

Sheet Top20
A1: Player | B1: Win % | C1: TT Odds | D1: Best Odds | E1: Kelly | F1: Result | G1: P/L | H1: E/W Play
A2: A Lim Kim | B2: 56.49% | C2: 1.77
A3: Alexa Pano | B3: 42.15% | C3: 2.4
A4: Allisen Corpuz | B4: 67.01% | C4: 1.49
A5: Amy Yang | B5: 62.58% | C5: 1.6
A6: Angel Yin | B6: 69.28% | C6: 1.44
A7: Ashleigh Buhai | B7: 55.13% | C7: 1.81
A8: Ayaka Furue | B8: 77.67% | C8: 1.29
A9: Bailey Tardy | B9: 41.30% | C9: 2.4
A10: Brooke M. Henderson | B10: 74.81% | C10: 1.34
A11: Celine Boutier | B11: 80.66% | C11: 1.24
A12: Chanettee Wannasaen | B12: 53.50% | C12: 1.87
A13: Cheyenne Knight | B13: 45.30% | C13: 2.2
... A33: Yuka Saso | B33: 57.05% | C33: 1.75

Sheet Top30
A1: Player | B1: Win % | C1: TT Odds | D1: Best Odds | E1: Kelly | F1: Result | G1: P/L | H1: E/W Play
A2: A Lim Kim | B2: 92.83% | C2: 1.08
A3: Alexa Pano | B3: 87.19% | C3: 1.15
A4: Allisen Corpuz | B4: 95.77% | C4: 1.04
A5: Amy Yang | B5: 94.77% | C5: 1.06
A6: Angel Yin | B6: 96.18% | C6: 1.04
A7: Ashleigh Buhai | B7: 92.47% | C7: 1.08
A8: Ayaka Furue | B8: 97.90% | C8: 1.02
A9: Bailey Tardy | B9: 86.45% | C9: 1.16
A10: Brooke M. Henderson | B10: 97.35% | C10: 1.03
A11: Celine Boutier | B11: 98.19% | C11: 1.02
A12: Chanettee Wannasaen | B12: 91.90% | C12: 1.09
A13: Cheyenne Knight | B13: 88.57% | C13: 1.13
... A33: Yuka Saso | B33: 92.89% | C33: 1.08

Sheet Top40
A1: Player | B1: Win % | C1: TT Odds | D1: Best Odds | E1: Kelly | F1: Result | G1: P/L | H1: E/W Play
A2: A Lim Kim | B2: 100.00% | C2: 1
A3: Alexa Pano | B3: 100.00% | C3: 1
A4: Allisen Corpuz | B4: 100.00% | C4: 1
A5: Amy Yang | B5: 100.00% | C5: 1
A6: Angel Yin | B6: 100.00% | C6: 1
A7: Ashleigh Buhai | B7: 100.00% | C7: 1
A8: Ayaka Furue | B8: 100.00% | C8: 1
A9: Bailey Tardy | B9: 100.00% | C9: 1
A10: Brooke M. Henderson | B10: 100.00% | C10: 1
A11: Celine Boutier | B11: 100.00% | C11: 1
A12: Chanettee Wannasaen | B12: 100.00% | C12: 1
A13: Cheyenne Knight | B13: 100.00% | C13: 1
... A33: Yuka Saso | B33: 100.00% | C33: 1

Sheet MC
A1: Player | B1: Win % | C1: TT Odds | D1: Best Odds | E1: Kelly | F1: Result | G1: P/L | H1: E/W Play
A2: A Lim Kim | B2: 0.00% | C2: 10000
A3: Alexa Pano | B3: 0.00% | C3: 10000
A4: Allisen Corpuz | B4: 0.00% | C4: 10000
A5: Amy Yang | B5: 0.00% | C5: 10000
A6: Angel Yin | B6: 0.00% | C6: 10000
A7: Ashleigh Buhai | B7: 0.00% | C7: 10000
A8: Ayaka Furue | B8: 0.00% | C8: 10000
A9: Bailey Tardy | B9: 0.00% | C9: 10000
A10: Brooke M. Henderson | B10: 0.00% | C10: 10000
A11: Celine Boutier | B11: 0.00% | C11: 10000
A12: Chanettee Wannasaen | B12: 0.00% | C12: 10000
A13: Cheyenne Knight | B13: 0.00% | C13: 10000
... A33: Yuka Saso | B33: 0.00% | C33: 10000

Sheet FRL
A1: Player | B1: TT Win | C1: TT Odds | D1: Best Odds | E1: Kelly | F1: Result | G1: P/L | H1: E/W Play
A2: A Lim Kim | B2: 2.19% | C2: 46 | D2: 34 | F2: =IFERROR(IF(A2="","",OFFSET(Results!$Z$1,MATCH(A2,Results!$A:$A,0)-1,0)),"") -> 1 | G2: =IF(OR(E2="",F2=""),"",IF(F2=1,(IF(COUNTIFS(F:F,"<="&F2)<=1,1,(1-COUNTIFS(F:F,"<"&F2))/COUNTIFS(F:F,F2)))*50*E2*(1+VALUE(MID(H2,FIND(": ",H2)+2,FIND("/",H2)-FIND(":",H2)-2))-1)+50*E2*(1+VALUE(MID(H2,FIND(": ",H2)+2,FIND("/",H2)-FIND(":",H2)-2))-1)/VALUE(RIGHT(H2,1)),IF(F2<=VALUE(MID(H2,FIND(", ",H2)+2,1)),(IF(COUNTIFS(F:F,"<="&F2)<=VALUE(MID(H2,FIND(", ",H2)+2,1)),1,(VALUE(MID(H2,FIND(", ",H2)+2,1))-COUNTIFS(F:F,"<"&F2))/COUNTIFS(F:F,F2)))*(50*E2*(1+VALUE(MID(H2,FIND(": ",H2)+2,FIND("/",H2)-FIND(":",H2)-2))-1)/VALUE(RIGHT(H2,1))+50*E2)-(100*E2),-E2*100)))
A3: Alexa Pano | B3: 1.20% | C3: 83 | D3: 51 | F3: =IFERROR(IF(A3="","",OFFSET(Results!$Z$1,MATCH(A3,Results!$A:$A,0)-1,0)),"") -> 17 | G3: =IF(OR(E3="",F3=""),"",IF(F3=1,(IF(COUNTIFS(F:F,"<="&F3)<=1,1,(1-COUNTIFS(F:F,"<"&F3))/COUNTIFS(F:F,F3)))*50*E3*(1+VALUE(MID(H3,FIND(": ",H3)+2,FIND("/",H3)-FIND(":",H3)-2))-1)+50*E3*(1+VALUE(MID(H3,FIND(": ",H3)+2,FIND("/",H3)-FIND(":",H3)-2))-1)/VALUE(RIGHT(H3,1)),IF(F3<=VALUE(MID(H3,FIND(", ",H3)+2,1)),(IF(COUNTIFS(F:F,"<="&F3)<=VALUE(MID(H3,FIND(", ",H3)+2,1)),1,(VALUE(MID(H3,FIND(", ",H3)+2,1))-COUNTIFS(F:F,"<"&F3))/COUNTIFS(F:F,F3)))*(50*E3*(1+VALUE(MID(H3,FIND(": ",H3)+2,FIND("/",H3)-FIND(":",H3)-2))-1)/VALUE(RIGHT(H3,1))+50*E3)-(100*E3),-E3*100)))
A4: Allisen Corpuz | B4: 3.12% | C4: 32 | D4: 29 | F4: =IFERROR(IF(A4="","",OFFSET(Results!$Z$1,MATCH(A4,Results!$A:$A,0)-1,0)),"") -> 17 | G4: =IF(OR(E4="",F4=""),"",IF(F4=1,(IF(COUNTIFS(F:F,"<="&F4)<=1,1,(1-COUNTIFS(F:F,"<"&F4))/COUNTIFS(F:F,F4)))*50*E4*(1+VALUE(MID(H4,FIND(": ",H4)+2,FIND("/",H4)-FIND(":",H4)-2))-1)+50*E4*(1+VALUE(MID(H4,FIND(": ",H4)+2,FIND("/",H4)-FIND(":",H4)-2))-1)/VALUE(RIGHT(H4,1)),IF(F4<=VALUE(MID(H4,FIND(", ",H4)+2,1)),(IF(COUNTIFS(F:F,"<="&F4)<=VALUE(MID(H4,FIND(", ",H4)+2,1)),1,(VALUE(MID(H4,FIND(", ",H4)+2,1))-COUNTIFS(F:F,"<"&F4))/COUNTIFS(F:F,F4)))*(50*E4*(1+VALUE(MID(H4,FIND(": ",H4)+2,FIND("/",H4)-FIND(":",H4)-2))-1)/VALUE(RIGHT(H4,1))+50*E4)-(100*E4),-E4*100)))
A5: Amy Yang | B5: 2.67% | C5: 37 | D5: 31 | F5: =IFERROR(IF(A5="","",OFFSET(Results!$Z$1,MATCH(A5,Results!$A:$A,0)-1,0)),"") -> 17 | G5: =IF(OR(E5="",F5=""),"",IF(F5=1,(IF(COUNTIFS(F:F,"<="&F5)<=1,1,(1-COUNTIFS(F:F,"<"&F5))/COUNTIFS(F:F,F5)))*50*E5*(1+VALUE(MID(H5,FIND(": ",H5)+2,FIND("/",H5)-FIND(":",H5)-2))-1)+50*E5*(1+VALUE(MID(H5,FIND(": ",H5)+2,FIND("/",H5)-FIND(":",H5)-2))-1)/VALUE(RIGHT(H5,1)),IF(F5<=VALUE(MID(H5,FIND(", ",H5)+2,1)),(IF(COUNTIFS(F:F,"<="&F5)<=VALUE(MID(H5,FIND(", ",H5)+2,1)),1,(VALUE(MID(H5,FIND(", ",H5)+2,1))-COUNTIFS(F:F,"<"&F5))/COUNTIFS(F:F,F5)))*(50*E5*(1+VALUE(MID(H5,FIND(": ",H5)+2,FIND("/",H5)-FIND(":",H5)-2))-1)/VALUE(RIGHT(H5,1))+50*E5)-(100*E5),-E5*100)))
A6: Angel Yin | B6: 3.42% | C6: 29 | D6: 26 | F6: =IFERROR(IF(A6="","",OFFSET(Results!$Z$1,MATCH(A6,Results!$A:$A,0)-1,0)),"") -> 17 | G6: =IF(OR(E6="",F6=""),"",IF(F6=1,(IF(COUNTIFS(F:F,"<="&F6)<=1,1,(1-COUNTIFS(F:F,"<"&F6))/COUNTIFS(F:F,F6)))*50*E6*(1+VALUE(MID(H6,FIND(": ",H6)+2,FIND("/",H6)-FIND(":",H6)-2))-1)+50*E6*(1+VALUE(MID(H6,FIND(": ",H6)+2,FIND("/",H6)-FIND(":",H6)-2))-1)/VALUE(RIGHT(H6,1)),IF(F6<=VALUE(MID(H6,FIND(", ",H6)+2,1)),(IF(COUNTIFS(F:F,"<="&F6)<=VALUE(MID(H6,FIND(", ",H6)+2,1)),1,(VALUE(MID(H6,FIND(", ",H6)+2,1))-COUNTIFS(F:F,"<"&F6))/COUNTIFS(F:F,F6)))*(50*E6*(1+VALUE(MID(H6,FIND(": ",H6)+2,FIND("/",H6)-FIND(":",H6)-2))-1)/VALUE(RIGHT(H6,1))+50*E6)-(100*E6),-E6*100)))
A7: Ashleigh Buhai | B7: 2.01% | C7: 50 | D7: 34 | F7: =IFERROR(IF(A7="","",OFFSET(Results!$Z$1,MATCH(A7,Results!$A:$A,0)-1,0)),"") -> 17 | G7: =IF(OR(E7="",F7=""),"",IF(F7=1,(IF(COUNTIFS(F:F,"<="&F7)<=1,1,(1-COUNTIFS(F:F,"<"&F7))/COUNTIFS(F:F,F7)))*50*E7*(1+VALUE(MID(H7,FIND(": ",H7)+2,FIND("/",H7)-FIND(":",H7)-2))-1)+50*E7*(1+VALUE(MID(H7,FIND(": ",H7)+2,FIND("/",H7)-FIND(":",H7)-2))-1)/VALUE(RIGHT(H7,1)),IF(F7<=VALUE(MID(H7,FIND(", ",H7)+2,1)),(IF(COUNTIFS(F:F,"<="&F7)<=VALUE(MID(H7,FIND(", ",H7)+2,1)),1,(VALUE(MID(H7,FIND(", ",H7)+2,1))-COUNTIFS(F:F,"<"&F7))/COUNTIFS(F:F,F7)))*(50*E7*(1+VALUE(MID(H7,FIND(": ",H7)+2,FIND("/",H7)-FIND(":",H7)-2))-1)/VALUE(RIGHT(H7,1))+50*E7)-(100*E7),-E7*100)))
A8: Ayaka Furue | B8: 4.65% | C8: 22 | D8: 17 | F8: =IFERROR(IF(A8="","",OFFSET(Results!$Z$1,MATCH(A8,Results!$A:$A,0)-1,0)),"") -> 14 | G8: =IF(OR(E8="",F8=""),"",IF(F8=1,(IF(COUNTIFS(F:F,"<="&F8)<=1,1,(1-COUNTIFS(F:F,"<"&F8))/COUNTIFS(F:F,F8)))*50*E8*(1+VALUE(MID(H8,FIND(": ",H8)+2,FIND("/",H8)-FIND(":",H8)-2))-1)+50*E8*(1+VALUE(MID(H8,FIND(": ",H8)+2,FIND("/",H8)-FIND(":",H8)-2))-1)/VALUE(RIGHT(H8,1)),IF(F8<=VALUE(MID(H8,FIND(", ",H8)+2,1)),(IF(COUNTIFS(F:F,"<="&F8)<=VALUE(MID(H8,FIND(", ",H8)+2,1)),1,(VALUE(MID(H8,FIND(", ",H8)+2,1))-COUNTIFS(F:F,"<"&F8))/COUNTIFS(F:F,F8)))*(50*E8*(1+VALUE(MID(H8,FIND(": ",H8)+2,FIND("/",H8)-FIND(":",H8)-2))-1)/VALUE(RIGHT(H8,1))+50*E8)-(100*E8),-E8*100)))
A9: Bailey Tardy | B9: 1.21% | C9: 83 | D9: 56 | F9: =IFERROR(IF(A9="","",OFFSET(Results!$Z$1,MATCH(A9,Results!$A:$A,0)-1,0)),"") -> 17 | G9: =IF(OR(E9="",F9=""),"",IF(F9=1,(IF(COUNTIFS(F:F,"<="&F9)<=1,1,(1-COUNTIFS(F:F,"<"&F9))/COUNTIFS(F:F,F9)))*50*E9*(1+VALUE(MID(H9,FIND(": ",H9)+2,FIND("/",H9)-FIND(":",H9)-2))-1)+50*E9*(1+VALUE(MID(H9,FIND(": ",H9)+2,FIND("/",H9)-FIND(":",H9)-2))-1)/VALUE(RIGHT(H9,1)),IF(F9<=VALUE(MID(H9,FIND(", ",H9)+2,1)),(IF(COUNTIFS(F:F,"<="&F9)<=VALUE(MID(H9,FIND(", ",H9)+2,1)),1,(VALUE(MID(H9,FIND(", ",H9)+2,1))-COUNTIFS(F:F,"<"&F9))/COUNTIFS(F:F,F9)))*(50*E9*(1+VALUE(MID(H9,FIND(": ",H9)+2,FIND("/",H9)-FIND(":",H9)-2))-1)/VALUE(RIGHT(H9,1))+50*E9)-(100*E9),-E9*100)))
A10: Brooke M. Henderson | B10: 4.24% | C10: 24 | D10: 19 | F10: =IFERROR(IF(A10="","",OFFSET(Results!$Z$1,MATCH(A10,Results!$A:$A,0)-1,0)),"") -> 17 | G10: =IF(OR(E10="",F10=""),"",IF(F10=1,(IF(COUNTIFS(F:F,"<="&F10)<=1,1,(1-COUNTIFS(F:F,"<"&F10))/COUNTIFS(F:F,F10)))*50*E10*(1+VALUE(MID(H10,FIND(": ",H10)+2,FIND("/",H10)-FIND(":",H10)-2))-1)+50*E10*(1+VALUE(MID(H10,FIND(": ",H10)+2,FIND("/",H10)-FIND(":",H10)-2))-1)/VALUE(RIGHT(H10,1)),IF(F10<=VALUE(MID(H10,FIND(", ",H10)+2,1)),(IF(COUNTIFS(F:F,"<="&F10)<=VALUE(MID(H10,FIND(", ",H10)+2,1)),1,(VALUE(MID(H10,FIND(", ",H10)+2,1))-COUNTIFS(F:F,"<"&F10))/COUNTIFS(F:F,F10)))*(50*E10*(1+VALUE(MID(H10,FIND(": ",H10)+2,FIND("/",H10)-FIND(":",H10)-2))-1)/VALUE(RIGHT(H10,1))+50*E10)-(100*E10),-E10*100)))
A11: Celine Boutier | B11: 5.40% | C11: 19 | D11: 17 | F11: =IFERROR(IF(A11="","",OFFSET(Results!$Z$1,MATCH(A11,Results!$A:$A,0)-1,0)),"") -> 4 | G11: =IF(OR(E11="",F11=""),"",IF(F11=1,(IF(COUNTIFS(F:F,"<="&F11)<=1,1,(1-COUNTIFS(F:F,"<"&F11))/COUNTIFS(F:F,F11)))*50*E11*(1+VALUE(MID(H11,FIND(": ",H11)+2,FIND("/",H11)-FIND(":",H11)-2))-1)+50*E11*(1+VALUE(MID(H11,FIND(": ",H11)+2,FIND("/",H11)-FIND(":",H11)-2))-1)/VALUE(RIGHT(H11,1)),IF(F11<=VALUE(MID(H11,FIND(", ",H11)+2,1)),(IF(COUNTIFS(F:F,"<="&F11)<=VALUE(MID(H11,FIND(", ",H11)+2,1)),1,(VALUE(MID(H11,FIND(", ",H11)+2,1))-COUNTIFS(F:F,"<"&F11))/COUNTIFS(F:F,F11)))*(50*E11*(1+VALUE(MID(H11,FIND(": ",H11)+2,FIND("/",H11)-FIND(":",H11)-2))-1)/VALUE(RIGHT(H11,1))+50*E11)-(100*E11),-E11*100)))
A12: Chanettee Wannasaen | B12: 1.89% | C12: 53 | D12: 51 | F12: =IFERROR(IF(A12="","",OFFSET(Results!$Z$1,MATCH(A12,Results!$A:$A,0)-1,0)),"") -> 30 | G12: =IF(OR(E12="",F12=""),"",IF(F12=1,(IF(COUNTIFS(F:F,"<="&F12)<=1,1,(1-COUNTIFS(F:F,"<"&F12))/COUNTIFS(F:F,F12)))*50*E12*(1+VALUE(MID(H12,FIND(": ",H12)+2,FIND("/",H12)-FIND(":",H12)-2))-1)+50*E12*(1+VALUE(MID(H12,FIND(": ",H12)+2,FIND("/",H12)-FIND(":",H12)-2))-1)/VALUE(RIGHT(H12,1)),IF(F12<=VALUE(MID(H12,FIND(", ",H12)+2,1)),(IF(COUNTIFS(F:F,"<="&F12)<=VALUE(MID(H12,FIND(", ",H12)+2,1)),1,(VALUE(MID(H12,FIND(", ",H12)+2,1))-COUNTIFS(F:F,"<"&F12))/COUNTIFS(F:F,F12)))*(50*E12*(1+VALUE(MID(H12,FIND(": ",H12)+2,FIND("/",H12)-FIND(":",H12)-2))-1)/VALUE(RIGHT(H12,1))+50*E12)-(100*E12),-E12*100)))
A13: Cheyenne Knight | B13: 1.44% | C13: 69 | D13: 46 | F13: =IFERROR(IF(A13="","",OFFSET(Results!$Z$1,MATCH(A13,Results!$A:$A,0)-1,0)),"") -> 4 | G13: =IF(OR(E13="",F13=""),"",IF(F13=1,(IF(COUNTIFS(F:F,"<="&F13)<=1,1,(1-COUNTIFS(F:F,"<"&F13))/COUNTIFS(F:F,F13)))*50*E13*(1+VALUE(MID(H13,FIND(": ",H13)+2,FIND("/",H13)-FIND(":",H13)-2))-1)+50*E13*(1+VALUE(MID(H13,FIND(": ",H13)+2,FIND("/",H13)-FIND(":",H13)-2))-1)/VALUE(RIGHT(H13,1)),IF(F13<=VALUE(MID(H13,FIND(", ",H13)+2,1)),(IF(COUNTIFS(F:F,"<="&F13)<=VALUE(MID(H13,FIND(", ",H13)+2,1)),1,(VALUE(MID(H13,FIND(", ",H13)+2,1))-COUNTIFS(F:F,"<"&F13))/COUNTIFS(F:F,F13)))*(50*E13*(1+VALUE(MID(H13,FIND(": ",H13)+2,FIND("/",H13)-FIND(":",H13)-2))-1)/VALUE(RIGHT(H13,1))+50*E13)-(100*E13),-E13*100)))
... A28: Nelly Korda | B28: 8.70% | C28: 11 | D28: 9 | F28: =IFERROR(IF(A28="","",OFFSET(Results!$Z$1,MATCH(A28,Results!$A:$A,0)-1,0)),"") -> 14 | G28: =IF(OR(E28="",F28=""),"",IF(F28=1,(IF(COUNTIFS(F:F,"<="&F28)<=1,1,(1-COUNTIFS(F:F,"<"&F28))/COUNTIFS(F:F,F28)))*50*E28*(1+VALUE(MID(H28,FIND(": ",H28)+2,FIND("/",H28)-FIND(":",H28)-2))-1)+50*E28*(1+VALUE(MID(H28,FIND(": ",H28)+2,FIND("/",H28)-FIND(":",H28)-2))-1)/VALUE(RIGHT(H28,1)),IF(F28<=VALUE(MID(H28,FIND(", ",H28)+2,1)),(IF(COUNTIFS(F:F,"<="&F28)<=VALUE(MID(H28,FIND(", ",H28)+2,1)),1,(VALUE(MID(H28,FIND(", ",H28)+2,1))-COUNTIFS(F:F,"<"&F28))/COUNTIFS(F:F,F28)))*(50*E28*(1+VALUE(MID(H28,FIND(": ",H28)+2,FIND("/",H28)-FIND(":",H28)-2))-1)/VALUE(RIGHT(H28,1))+50*E28)-(100*E28),-E28*100)))
A29: Pajaree Anannarukarn | B29: 2.47% | C29: 40 | D29: 51 | E29: 0.50% | F29: =IFERROR(IF(A29="","",OFFSET(Results!$Z$1,MATCH(A29,Results!$A:$A,0)-1,0)),"") -> 4 | G29: =IF(OR(E29="",F29=""),"",IF(F29=1,(IF(COUNTIFS(F:F,"<="&F29)<=1,1,(1-COUNTIFS(F:F,"<"&F29))/COUNTIFS(F:F,F29)))*50*E29*(1+VALUE(MID(H29,FIND(": ",H29)+2,FIND("/",H29)-FIND(":",H29)-2))-1)+50*E29*(1+VALUE(MID(H29,FIND(": ",H29)+2,FIND("/",H29)-FIND(":",H29)-2))-1)/VALUE(RIGHT(H29,1)),IF(F29<=VALUE(MID(H29,FIND(", ",H29)+2,1)),(IF(COUNTIFS(F:F,"<="&F29)<=VALUE(MID(H29,FIND(", ",H29)+2,1)),1,(VALUE(MID(H29,FIND(", ",H29)+2,1))-COUNTIFS(F:F,"<"&F29))/COUNTIFS(F:F,F29)))*(50*E29*(1+VALUE(MID(H29,FIND(": ",H29)+2,FIND("/",H29)-FIND(":",H29)-2))-1)/VALUE(RIGHT(H29,1))+50*E29)-(100*E29),-E29*100))) -> 0.175 | H29: Ladbrokes: 50/1, 5pl, 1/4
A30: Patty Tavatanakit | B30: 2.02% | C30: 50 | D30: 36 | F30: =IFERROR(IF(A30="","",OFFSET(Results!$Z$1,MATCH(A30,Results!$A:$A,0)-1,0)),"") -> 2 | G30: =IF(OR(E30="",F30=""),"",IF(F30=1,(IF(COUNTIFS(F:F,"<="&F30)<=1,1,(1-COUNTIFS(F:F,"<"&F30))/COUNTIFS(F:F,F30)))*50*E30*(1+VALUE(MID(H30,FIND(": ",H30)+2,FIND("/",H30)-FIND(":",H30)-2))-1)+50*E30*(1+VALUE(MID(H30,FIND(": ",H30)+2,FIND("/",H30)-FIND(":",H30)-2))-1)/VALUE(RIGHT(H30,1)),IF(F30<=VALUE(MID(H30,FIND(", ",H30)+2,1)),(IF(COUNTIFS(F:F,"<="&F30)<=VALUE(MID(H30,FIND(", ",H30)+2,1)),1,(VALUE(MID(H30,FIND(", ",H30)+2,1))-COUNTIFS(F:F,"<"&F30))/COUNTIFS(F:F,F30)))*(50*E30*(1+VALUE(MID(H30,FIND(": ",H30)+2,FIND("/",H30)-FIND(":",H30)-2))-1)/VALUE(RIGHT(H30,1))+50*E30)-(100*E30),-E30*100)))
A31: Rio Takeda | B31: 3.72% | C31: 27 | D31: 19 | F31: =IFERROR(IF(A31="","",OFFSET(Results!$Z$1,MATCH(A31,Results!$A:$A,0)-1,0)),"") -> 4 | G31: =IF(OR(E31="",F31=""),"",IF(F31=1,(IF(COUNTIFS(F:F,"<="&F31)<=1,1,(1-COUNTIFS(F:F,"<"&F31))/COUNTIFS(F:F,F31)))*50*E31*(1+VALUE(MID(H31,FIND(": ",H31)+2,FIND("/",H31)-FIND(":",H31)-2))-1)+50*E31*(1+VALUE(MID(H31,FIND(": ",H31)+2,FIND("/",H31)-FIND(":",H31)-2))-1)/VALUE(RIGHT(H31,1)),IF(F31<=VALUE(MID(H31,FIND(", ",H31)+2,1)),(IF(COUNTIFS(F:F,"<="&F31)<=VALUE(MID(H31,FIND(", ",H31)+2,1)),1,(VALUE(MID(H31,FIND(", ",H31)+2,1))-COUNTIFS(F:F,"<"&F31))/COUNTIFS(F:F,F31)))*(50*E31*(1+VALUE(MID(H31,FIND(": ",H31)+2,FIND("/",H31)-FIND(":",H31)-2))-1)/VALUE(RIGHT(H31,1))+50*E31)-(100*E31),-E31*100)))
A32: Rose Zhang | B32: 3.65% | C32: 27 | D32: 21 | F32: =IFERROR(IF(A32="","",OFFSET(Results!$Z$1,MATCH(A32,Results!$A:$A,0)-1,0)),"") -> 4 | G32: =IF(OR(E32="",F32=""),"",IF(F32=1,(IF(COUNTIFS(F:F,"<="&F32)<=1,1,(1-COUNTIFS(F:F,"<"&F32))/COUNTIFS(F:F,F32)))*50*E32*(1+VALUE(MID(H32,FIND(": ",H32)+2,FIND("/",H32)-FIND(":",H32)-2))-1)+50*E32*(1+VALUE(MID(H32,FIND(": ",H32)+2,FIND("/",H32)-FIND(":",H32)-2))-1)/VALUE(RIGHT(H32,1)),IF(F32<=VALUE(MID(H32,FIND(", ",H32)+2,1)),(IF(COUNTIFS(F:F,"<="&F32)<=VALUE(MID(H32,FIND(", ",H32)+2,1)),1,(VALUE(MID(H32,FIND(", ",H32)+2,1))-COUNTIFS(F:F,"<"&F32))/COUNTIFS(F:F,F32)))*(50*E32*(1+VALUE(MID(H32,FIND(": ",H32)+2,FIND("/",H32)-FIND(":",H32)-2))-1)/VALUE(RIGHT(H32,1))+50*E32)-(100*E32),-E32*100)))
A33: Yuka Saso | B33: 2.23% | C33: 45 | D33: 36 | F33: =IFERROR(IF(A33="","",OFFSET(Results!$Z$1,MATCH(A33,Results!$A:$A,0)-1,0)),"") -> 4 | G33: =IF(OR(E33="",F33=""),"",IF(F33=1,(IF(COUNTIFS(F:F,"<="&F33)<=1,1,(1-COUNTIFS(F:F,"<"&F33))/COUNTIFS(F:F,F33)))*50*E33*(1+VALUE(MID(H33,FIND(": ",H33)+2,FIND("/",H33)-FIND(":",H33)-2))-1)+50*E33*(1+VALUE(MID(H33,FIND(": ",H33)+2,FIND("/",H33)-FIND(":",H33)-2))-1)/VALUE(RIGHT(H33,1)),IF(F33<=VALUE(MID(H33,FIND(", ",H33)+2,1)),(IF(COUNTIFS(F:F,"<="&F33)<=VALUE(MID(H33,FIND(", ",H33)+2,1)),1,(VALUE(MID(H33,FIND(", ",H33)+2,1))-COUNTIFS(F:F,"<"&F33))/COUNTIFS(F:F,F33)))*(50*E33*(1+VALUE(MID(H33,FIND(": ",H33)+2,FIND("/",H33)-FIND(":",H33)-2))-1)/VALUE(RIGHT(H33,1))+50*E33)-(100*E33),-E33*100)))
F34: =IFERROR(IF(A34="","",OFFSET(Results!$Z$1,MATCH(A34,Results!$A:$A,0)-1,0)),"") | G34: =IF(OR(E34="",F34=""),"",IF(F34=1,(IF(COUNTIFS(F:F,"<="&F34)<=1,1,(1-COUNTIFS(F:F,"<"&F34))/COUNTIFS(F:F,F34)))*50*E34*(1+VALUE(MID(H34,FIND(": ",H34)+2,FIND("/",H34)-FIND(":",H34)-2))-1)+50*E34*(1+VALUE(MID(H34,FIND(": ",H34)+2,FIND("/",H34)-FIND(":",H34)-2))-1)/VALUE(RIGHT(H34,1)),IF(F34<=VALUE(MID(H34,FIND(", ",H34)+2,1)),(IF(COUNTIFS(F:F,"<="&F34)<=VALUE(MID(H34,FIND(", ",H34)+2,1)),1,(VALUE(MID(H34,FIND(", ",H34)+2,1))-COUNTIFS(F:F,"<"&F34))/COUNTIFS(F:F,F34)))*(50*E34*(1+VALUE(MID(H34,FIND(": ",H34)+2,FIND("/",H34)-FIND(":",H34)-2))-1)/VALUE(RIGHT(H34,1))+50*E34)-(100*E34),-E34*100)))
F35: =IFERROR(IF(A35="","",OFFSET(Results!$Z$1,MATCH(A35,Results!$A:$A,0)-1,0)),"") | G35: =IF(OR(E35="",F35=""),"",IF(F35=1,(IF(COUNTIFS(F:F,"<="&F35)<=1,1,(1-COUNTIFS(F:F,"<"&F35))/COUNTIFS(F:F,F35)))*50*E35*(1+VALUE(MID(H35,FIND(": ",H35)+2,FIND("/",H35)-FIND(":",H35)-2))-1)+50*E35*(1+VALUE(MID(H35,FIND(": ",H35)+2,FIND("/",H35)-FIND(":",H35)-2))-1)/VALUE(RIGHT(H35,1)),IF(F35<=VALUE(MID(H35,FIND(", ",H35)+2,1)),(IF(COUNTIFS(F:F,"<="&F35)<=VALUE(MID(H35,FIND(", ",H35)+2,1)),1,(VALUE(MID(H35,FIND(", ",H35)+2,1))-COUNTIFS(F:F,"<"&F35))/COUNTIFS(F:F,F35)))*(50*E35*(1+VALUE(MID(H35,FIND(": ",H35)+2,FIND("/",H35)-FIND(":",H35)-2))-1)/VALUE(RIGHT(H35,1))+50*E35)-(100*E35),-E35*100)))
F36: =IFERROR(IF(A36="","",OFFSET(Results!$Z$1,MATCH(A36,Results!$A:$A,0)-1,0)),"") | G36: =IF(OR(E36="",F36=""),"",IF(F36=1,(IF(COUNTIFS(F:F,"<="&F36)<=1,1,(1-COUNTIFS(F:F,"<"&F36))/COUNTIFS(F:F,F36)))*50*E36*(1+VALUE(MID(H36,FIND(": ",H36)+2,FIND("/",H36)-FIND(":",H36)-2))-1)+50*E36*(1+VALUE(MID(H36,FIND(": ",H36)+2,FIND("/",H36)-FIND(":",H36)-2))-1)/VALUE(RIGHT(H36,1)),IF(F36<=VALUE(MID(H36,FIND(", ",H36)+2,1)),(IF(COUNTIFS(F:F,"<="&F36)<=VALUE(MID(H36,FIND(", ",H36)+2,1)),1,(VALUE(MID(H36,FIND(", ",H36)+2,1))-COUNTIFS(F:F,"<"&F36))/COUNTIFS(F:F,F36)))*(50*E36*(1+VALUE(MID(H36,FIND(": ",H36)+2,FIND("/",H36)-FIND(":",H36)-2))-1)/VALUE(RIGHT(H36,1))+50*E36)-(100*E36),-E36*100)))
F37: =IFERROR(IF(A37="","",OFFSET(Results!$Z$1,MATCH(A37,Results!$A:$A,0)-1,0)),"") | G37: =IF(OR(E37="",F37=""),"",IF(F37=1,(IF(COUNTIFS(F:F,"<="&F37)<=1,1,(1-COUNTIFS(F:F,"<"&F37))/COUNTIFS(F:F,F37)))*50*E37*(1+VALUE(MID(H37,FIND(": ",H37)+2,FIND("/",H37)-FIND(":",H37)-2))-1)+50*E37*(1+VALUE(MID(H37,FIND(": ",H37)+2,FIND("/",H37)-FIND(":",H37)-2))-1)/VALUE(RIGHT(H37,1)),IF(F37<=VALUE(MID(H37,FIND(", ",H37)+2,1)),(IF(COUNTIFS(F:F,"<="&F37)<=VALUE(MID(H37,FIND(", ",H37)+2,1)),1,(VALUE(MID(H37,FIND(", ",H37)+2,1))-COUNTIFS(F:F,"<"&F37))/COUNTIFS(F:F,F37)))*(50*E37*(1+VALUE(MID(H37,FIND(": ",H37)+2,FIND("/",H37)-FIND(":",H37)-2))-1)/VALUE(RIGHT(H37,1))+50*E37)-(100*E37),-E37*100)))
F38: =IFERROR(IF(A38="","",OFFSET(Results!$Z$1,MATCH(A38,Results!$A:$A,0)-1,0)),"") | G38: =IF(OR(E38="",F38=""),"",IF(F38=1,(IF(COUNTIFS(F:F,"<="&F38)<=1,1,(1-COUNTIFS(F:F,"<"&F38))/COUNTIFS(F:F,F38)))*50*E38*(1+VALUE(MID(H38,FIND(": ",H38)+2,FIND("/",H38)-FIND(":",H38)-2))-1)+50*E38*(1+VALUE(MID(H38,FIND(": ",H38)+2,FIND("/",H38)-FIND(":",H38)-2))-1)/VALUE(RIGHT(H38,1)),IF(F38<=VALUE(MID(H38,FIND(", ",H38)+2,1)),(IF(COUNTIFS(F:F,"<="&F38)<=VALUE(MID(H38,FIND(", ",H38)+2,1)),1,(VALUE(MID(H38,FIND(", ",H38)+2,1))-COUNTIFS(F:F,"<"&F38))/COUNTIFS(F:F,F38)))*(50*E38*(1+VALUE(MID(H38,FIND(": ",H38)+2,FIND("/",H38)-FIND(":",H38)-2))-1)/VALUE(RIGHT(H38,1))+50*E38)-(100*E38),-E38*100)))
F39: =IFERROR(IF(A39="","",OFFSET(Results!$Z$1,MATCH(A39,Results!$A:$A,0)-1,0)),"") | G39: =IF(OR(E39="",F39=""),"",IF(F39=1,(IF(COUNTIFS(F:F,"<="&F39)<=1,1,(1-COUNTIFS(F:F,"<"&F39))/COUNTIFS(F:F,F39)))*50*E39*(1+VALUE(MID(H39,FIND(": ",H39)+2,FIND("/",H39)-FIND(":",H39)-2))-1)+50*E39*(1+VALUE(MID(H39,FIND(": ",H39)+2,FIND("/",H39)-FIND(":",H39)-2))-1)/VALUE(RIGHT(H39,1)),IF(F39<=VALUE(MID(H39,FIND(", ",H39)+2,1)),(IF(COUNTIFS(F:F,"<="&F39)<=VALUE(MID(H39,FIND(", ",H39)+2,1)),1,(VALUE(MID(H39,FIND(", ",H39)+2,1))-COUNTIFS(F:F,"<"&F39))/COUNTIFS(F:F,F39)))*(50*E39*(1+VALUE(MID(H39,FIND(": ",H39)+2,FIND("/",H39)-FIND(":",H39)-2))-1)/VALUE(RIGHT(H39,1))+50*E39)-(100*E39),-E39*100)))
F40: =IFERROR(IF(A40="","",OFFSET(Results!$Z$1,MATCH(A40,Results!$A:$A,0)-1,0)),"") | G40: =IF(OR(E40="",F40=""),"",IF(F40=1,(IF(COUNTIFS(F:F,"<="&F40)<=1,1,(1-COUNTIFS(F:F,"<"&F40))/COUNTIFS(F:F,F40)))*50*E40*(1+VALUE(MID(H40,FIND(": ",H40)+2,FIND("/",H40)-FIND(":",H40)-2))-1)+50*E40*(1+VALUE(MID(H40,FIND(": ",H40)+2,FIND("/",H40)-FIND(":",H40)-2))-1)/VALUE(RIGHT(H40,1)),IF(F40<=VALUE(MID(H40,FIND(", ",H40)+2,1)),(IF(COUNTIFS(F:F,"<="&F40)<=VALUE(MID(H40,FIND(", ",H40)+2,1)),1,(VALUE(MID(H40,FIND(", ",H40)+2,1))-COUNTIFS(F:F,"<"&F40))/COUNTIFS(F:F,F40)))*(50*E40*(1+VALUE(MID(H40,FIND(": ",H40)+2,FIND("/",H40)-FIND(":",H40)-2))-1)/VALUE(RIGHT(H40,1))+50*E40)-(100*E40),-E40*100)))
F41: =IFERROR(IF(A41="","",OFFSET(Results!$Z$1,MATCH(A41,Results!$A:$A,0)-1,0)),"") | G41: =IF(OR(E41="",F41=""),"",IF(F41=1,(IF(COUNTIFS(F:F,"<="&F41)<=1,1,(1-COUNTIFS(F:F,"<"&F41))/COUNTIFS(F:F,F41)))*50*E41*(1+VALUE(MID(H41,FIND(": ",H41)+2,FIND("/",H41)-FIND(":",H41)-2))-1)+50*E41*(1+VALUE(MID(H41,FIND(": ",H41)+2,FIND("/",H41)-FIND(":",H41)-2))-1)/VALUE(RIGHT(H41,1)),IF(F41<=VALUE(MID(H41,FIND(", ",H41)+2,1)),(IF(COUNTIFS(F:F,"<="&F41)<=VALUE(MID(H41,FIND(", ",H41)+2,1)),1,(VALUE(MID(H41,FIND(", ",H41)+2,1))-COUNTIFS(F:F,"<"&F41))/COUNTIFS(F:F,F41)))*(50*E41*(1+VALUE(MID(H41,FIND(": ",H41)+2,FIND("/",H41)-FIND(":",H41)-2))-1)/VALUE(RIGHT(H41,1))+50*E41)-(100*E41),-E41*100)))
F42: =IFERROR(IF(A42="","",OFFSET(Results!$Z$1,MATCH(A42,Results!$A:$A,0)-1,0)),"") | G42: =IF(OR(E42="",F42=""),"",IF(F42=1,(IF(COUNTIFS(F:F,"<="&F42)<=1,1,(1-COUNTIFS(F:F,"<"&F42))/COUNTIFS(F:F,F42)))*50*E42*(1+VALUE(MID(H42,FIND(": ",H42)+2,FIND("/",H42)-FIND(":",H42)-2))-1)+50*E42*(1+VALUE(MID(H42,FIND(": ",H42)+2,FIND("/",H42)-FIND(":",H42)-2))-1)/VALUE(RIGHT(H42,1)),IF(F42<=VALUE(MID(H42,FIND(", ",H42)+2,1)),(IF(COUNTIFS(F:F,"<="&F42)<=VALUE(MID(H42,FIND(", ",H42)+2,1)),1,(VALUE(MID(H42,FIND(", ",H42)+2,1))-COUNTIFS(F:F,"<"&F42))/COUNTIFS(F:F,F42)))*(50*E42*(1+VALUE(MID(H42,FIND(": ",H42)+2,FIND("/",H42)-FIND(":",H42)-2))-1)/VALUE(RIGHT(H42,1))+50*E42)-(100*E42),-E42*100)))
F43: =IFERROR(IF(A43="","",OFFSET(Results!$Z$1,MATCH(A43,Results!$A:$A,0)-1,0)),"") | G43: =IF(OR(E43="",F43=""),"",IF(F43=1,(IF(COUNTIFS(F:F,"<="&F43)<=1,1,(1-COUNTIFS(F:F,"<"&F43))/COUNTIFS(F:F,F43)))*50*E43*(1+VALUE(MID(H43,FIND(": ",H43)+2,FIND("/",H43)-FIND(":",H43)-2))-1)+50*E43*(1+VALUE(MID(H43,FIND(": ",H43)+2,FIND("/",H43)-FIND(":",H43)-2))-1)/VALUE(RIGHT(H43,1)),IF(F43<=VALUE(MID(H43,FIND(", ",H43)+2,1)),(IF(COUNTIFS(F:F,"<="&F43)<=VALUE(MID(H43,FIND(", ",H43)+2,1)),1,(VALUE(MID(H43,FIND(", ",H43)+2,1))-COUNTIFS(F:F,"<"&F43))/COUNTIFS(F:F,F43)))*(50*E43*(1+VALUE(MID(H43,FIND(": ",H43)+2,FIND("/",H43)-FIND(":",H43)-2))-1)/VALUE(RIGHT(H43,1))+50*E43)-(100*E43),-E43*100)))
F44: =IFERROR(IF(A44="","",OFFSET(Results!$Z$1,MATCH(A44,Results!$A:$A,0)-1,0)),"") | G44: =IF(OR(E44="",F44=""),"",IF(F44=1,(IF(COUNTIFS(F:F,"<="&F44)<=1,1,(1-COUNTIFS(F:F,"<"&F44))/COUNTIFS(F:F,F44)))*50*E44*(1+VALUE(MID(H44,FIND(": ",H44)+2,FIND("/",H44)-FIND(":",H44)-2))-1)+50*E44*(1+VALUE(MID(H44,FIND(": ",H44)+2,FIND("/",H44)-FIND(":",H44)-2))-1)/VALUE(RIGHT(H44,1)),IF(F44<=VALUE(MID(H44,FIND(", ",H44)+2,1)),(IF(COUNTIFS(F:F,"<="&F44)<=VALUE(MID(H44,FIND(", ",H44)+2,1)),1,(VALUE(MID(H44,FIND(", ",H44)+2,1))-COUNTIFS(F:F,"<"&F44))/COUNTIFS(F:F,F44)))*(50*E44*(1+VALUE(MID(H44,FIND(": ",H44)+2,FIND("/",H44)-FIND(":",H44)-2))-1)/VALUE(RIGHT(H44,1))+50*E44)-(100*E44),-E44*100)))
F45: =IFERROR(IF(A45="","",OFFSET(Results!$Z$1,MATCH(A45,Results!$A:$A,0)-1,0)),"") | G45: =IF(OR(E45="",F45=""),"",IF(F45=1,(IF(COUNTIFS(F:F,"<="&F45)<=1,1,(1-COUNTIFS(F:F,"<"&F45))/COUNTIFS(F:F,F45)))*50*E45*(1+VALUE(MID(H45,FIND(": ",H45)+2,FIND("/",H45)-FIND(":",H45)-2))-1)+50*E45*(1+VALUE(MID(H45,FIND(": ",H45)+2,FIND("/",H45)-FIND(":",H45)-2))-1)/VALUE(RIGHT(H45,1)),IF(F45<=VALUE(MID(H45,FIND(", ",H45)+2,1)),(IF(COUNTIFS(F:F,"<="&F45)<=VALUE(MID(H45,FIND(", ",H45)+2,1)),1,(VALUE(MID(H45,FIND(", ",H45)+2,1))-COUNTIFS(F:F,"<"&F45))/COUNTIFS(F:F,F45)))*(50*E45*(1+VALUE(MID(H45,FIND(": ",H45)+2,FIND("/",H45)-FIND(":",H45)-2))-1)/VALUE(RIGHT(H45,1))+50*E45)-(100*E45),-E45*100)))
... F168: =IFERROR(IF(A168="","",OFFSET(Results!$Z$1,MATCH(A168,Results!$A:$A,0)-1,0)),"") | G168: =IF(OR(E168="",F168=""),"",IF(F168=1,(IF(COUNTIFS(F:F,"<="&F168)<=1,1,(1-COUNTIFS(F:F,"<"&F168))/COUNTIFS(F:F,F168)))*50*E168*(1+VALUE(MID(H168,FIND(": ",H168)+2,FIND("/",H168)-FIND(":",H168)-2))-1)+50*E168*(1+VALUE(MID(H168,FIND(": ",H168)+2,FIND("/",H168)-FIND(":",H168)-2))-1)/VALUE(RIGHT(H168,1)),IF(F168<=VALUE(MID(H168,FIND(", ",H168)+2,1)),(IF(COUNTIFS(F:F,"<="&F168)<=VALUE(MID(H168,FIND(", ",H168)+2,1)),1,(VALUE(MID(H168,FIND(", ",H168)+2,1))-COUNTIFS(F:F,"<"&F168))/COUNTIFS(F:F,F168)))*(50*E168*(1+VALUE(MID(H168,FIND(": ",H168)+2,FIND("/",H168)-FIND(":",H168)-2))-1)/VALUE(RIGHT(H168,1))+50*E168)-(100*E168),-E168*100)))
G169: =IF(OR(E169="",F169=""),"",IF(F169=1,(IF(COUNTIFS(F:F,"<="&F169)<=1,1,(1-COUNTIFS(F:F,"<"&F169))/COUNTIFS(F:F,F169)))*50*E169*(1+VALUE(MID(H169,FIND(": ",H169)+2,FIND("/",H169)-FIND(":",H169)-2))-1)+50*E169*(1+VALUE(MID(H169,FIND(": ",H169)+2,FIND("/",H169)-FIND(":",H169)-2))-1)/VALUE(RIGHT(H169,1)),IF(F169<=VALUE(MID(H169,FIND(", ",H169)+2,1)),(IF(COUNTIFS(F:F,"<="&F169)<=VALUE(MID(H169,FIND(", ",H169)+2,1)),1,(VALUE(MID(H169,FIND(", ",H169)+2,1))-COUNTIFS(F:F,"<"&F169))/COUNTIFS(F:F,F169)))*(50*E169*(1+VALUE(MID(H169,FIND(": ",H169)+2,FIND("/",H169)-FIND(":",H169)-2))-1)/VALUE(RIGHT(H169,1))+50*E169)-(100*E169),-E169*100)))

Sheet Picks
A1: Player | B1: TTWin | C1: TTOdds | D1: BestOdds | E1: Kelly | F1: Rank | G1: Result | H1: P/L | I1: Full P/L | J1: E/W Play | L1: FRL: | M1: Player | N1: TTWin | O1: TTOdds | P1: BestOdds | Q1: Kelly | R1: Rank | S1: Result | T1: P/L | U1: Full P/L | V1: E/W Play
A2: =IF(Win!A2="","",Win!A2) -> A Lim Kim | B2: =IF(Win!B2="","",VALUE(Win!B2)) -> 0.0144 | C2: =IF(Win!C2="","",Win!C2) -> 69 | D2: =IF(Win!D2="","",Win!D2) -> 61 | E2: =IF(D2="","",IF(ROUND((B2*(D2-1)-(1-B2))/(D2-1),3)<=0,"",ROUND((B2*(D2-1)-(1-B2))/(D2-1),3))) | F2: {=IF(E2="","",RANK(E2, $E$2:$E$241) + COUNTIFS($E$2:$E$241, E2, $D$2:$D$241, "<"&D2) + COUNTIFS($E$2:$E$241, E2, $D$2:$D$241, D2, $A$2:$A$241, "<"&A2))} | G2: =IF(Win!F2="","",Win!F2) -> 1 | H2: =IF(OR(F2="",G2="",F2>3),"",IF(G2=1,(IF(COUNTIFS(G:G,"<="&G2)<=1,1,(1-COUNTIFS(G:G,"<"&G2))/COUNTIFS(G:G,G2)))*(1+VALUE(MID(J2,FIND(": ",J2)+2,FIND("/",J2)-FIND(":",J2)-2))-1)+(1+VALUE(MID(J2,FIND(": ",J2)+2,FIND("/",J2)-FIND(":",J2)-2))-1)/VALUE(RIGHT(J2,1)),IF(G2<=VALUE(MID(J2,FIND(", ",J2)+2,IF(MID(J2,FIND(", ",J2)+2,1)="1",2,1))),(IF(COUNTIFS(G:G,"<="&G2)<=VALUE(MID(J2,FIND(", ",J2)+2,IF(MID(J2,FIND(", ",J2)+2,1)="1",2,1))),1,(VALUE(MID(J2,FIND(", ",J2)+2,IF(MID(J2,FIND(", ",J2)+2,1)="1",2,1)))-COUNTIFS(G:G,"<"&G2))/COUNTIFS(G:G,G2)))*(1*(1+VALUE(MID(J2,FIND(": ",J2)+2,FIND("/",J2)-FIND(":",J2)-2))-1)/VALUE(RIGHT(J2,1))+1)-2,-2))) | I2: =IF(OR(E2="",G2=""),"",IF(G2=1,(IF(COUNTIFS(G:G,"<="&G2)<=1,1,(1-COUNTIFS(G:G,"<"&G2))/COUNTIFS(G:G,G2)))*(1+VALUE(MID(J2,FIND(": ",J2)+2,FIND("/",J2)-FIND(":",J2)-2))-1)+(1+VALUE(MID(J2,FIND(": ",J2)+2,FIND("/",J2)-FIND(":",J2)-2))-1)/VALUE(RIGHT(J2,1)),IF(G2<=VALUE(MID(J2,FIND(", ",J2)+2,IF(MID(J2,FIND(", ",J2)+2,1)="1",2,1))),(IF(COUNTIFS(G:G,"<="&G2)<=VALUE(MID(J2,FIND(", ",J2)+2,IF(MID(J2,FIND(", ",J2)+2,1)="1",2,1))),1,(VALUE(MID(J2,FIND(", ",J2)+2,IF(MID(J2,FIND(", ",J2)+2,1)="1",2,1)))-COUNTIFS(G:G,"<"&G2))/COUNTIFS(G:G,G2)))*(1*(1+VALUE(MID(J2,FIND(": ",J2)+2,FIND("/",J2)-FIND(":",J2)-2))-1)/VALUE(RIGHT(J2,1))+1)-2,-2))) | J2: =IF(F2="","",Win!H2) | M2: =IF(FRL!A2="","",FRL!A2) -> A Lim Kim | N2: =IF(FRL!B2="","",FRL!B2) -> 2.19% | O2: =IF(FRL!C2="","",FRL!C2) -> 46 | P2: =IF(FRL!D2="","",FRL!D2) -> 34 | Q2: =IF(P2="","",IF(ROUND((N2*(P2-1)-(1-N2))/(P2-1),3)<=0,"",ROUND((N2*(P2-1)-(1-N2))/(P2-1),3))) | R2: {=IF(Q2="","",RANK(Q2, $Q$2:$Q$241) + COUNTIFS($Q$2:$Q$241, Q2, $P$2:$P$241, "<"&P2) + COUNTIFS($Q$2:$Q$241, Q2, $P$2:$P$241, P2, $M$2:$M$241, "<"&M2))} | S2: =IF(FRL!F2="","",FRL!F2) -> 1 | T2: =IF(OR(R2="",S2="",R2>3),"",IF(S2=1,(IF(COUNTIFS(S:S,"<="&S2)<=1,1,(1-COUNTIFS(S:S,"<"&S2))/COUNTIFS(S:S,S2)))*(1+VALUE(MID(V2,FIND(": ",V2)+2,FIND("/",V2)-FIND(":",V2)-2))-1)+(1+VALUE(MID(V2,FIND(": ",V2)+2,FIND("/",V2)-FIND(":",V2)-2))-1)/VALUE(RIGHT(V2,1)),IF(S2<=VALUE(MID(V2,FIND(", ",V2)+2,IF(MID(V2,FIND(", ",V2)+2,1)="1",2,1))),(IF(COUNTIFS(S:S,"<="&S2)<=VALUE(MID(V2,FIND(", ",V2)+2,IF(MID(V2,FIND(", ",V2)+2,1)="1",2,1))),1,(VALUE(MID(V2,FIND(", ",V2)+2,IF(MID(V2,FIND(", ",V2)+2,1)="1",2,1)))-COUNTIFS(S:S,"<"&S2))/COUNTIFS(S:S,S2)))*(1*(1+VALUE(MID(V2,FIND(": ",V2)+2,FIND("/",V2)-FIND(":",V2)-2))-1)/VALUE(RIGHT(V2,1))+1)-2,-2))) | U2: =IF(OR(Q2="",S2=""),"",IF(S2=1,(IF(COUNTIFS(S:S,"<="&S2)<=1,1,(1-COUNTIFS(S:S,"<"&S2))/COUNTIFS(S:S,S2)))*(1+VALUE(MID(V2,FIND(": ",V2)+2,FIND("/",V2)-FIND(":",V2)-2))-1)+(1+VALUE(MID(V2,FIND(": ",V2)+2,FIND("/",V2)-FIND(":",V2)-2))-1)/VALUE(RIGHT(V2,1)),IF(S2<=VALUE(MID(V2,FIND(", ",V2)+2,IF(MID(V2,FIND(", ",V2)+2,1)="1",2,1))),(IF(COUNTIFS(S:S,"<="&S2)<=VALUE(MID(V2,FIND(", ",V2)+2,IF(MID(V2,FIND(", ",V2)+2,1)="1",2,1))),1,(VALUE(MID(V2,FIND(", ",V2)+2,IF(MID(V2,FIND(", ",V2)+2,1)="1",2,1)))-COUNTIFS(S:S,"<"&S2))/COUNTIFS(S:S,S2)))*(1*(1+VALUE(MID(V2,FIND(": ",V2)+2,FIND("/",V2)-FIND(":",V2)-2))-1)/VALUE(RIGHT(V2,1))+1)-2,-2))) | V2: =IF(R2="","",FRL!H2)
A3: =IF(Win!A3="","",Win!A3) -> Alexa Pano | B3: =IF(Win!B3="","",VALUE(Win!B3)) -> 0.0059 | C3: =IF(Win!C3="","",Win!C3) -> 169 | D3: =IF(Win!D3="","",Win!D3) -> 101 | E3: =IF(D3="","",IF(ROUND((B3*(D3-1)-(1-B3))/(D3-1),3)<=0,"",ROUND((B3*(D3-1)-(1-B3))/(D3-1),3))) | F3: {=IF(E3="","",RANK(E3, $E$2:$E$241) + COUNTIFS($E$2:$E$241, E3, $D$2:$D$241, "<"&D3) + COUNTIFS($E$2:$E$241, E3, $D$2:$D$241, D3, $A$2:$A$241, "<"&A3))} | G3: =IF(Win!F3="","",Win!F3) -> 27 | H3: =IF(OR(F3="",G3="",F3>3),"",IF(G3=1,(IF(COUNTIFS(G:G,"<="&G3)<=1,1,(1-COUNTIFS(G:G,"<"&G3))/COUNTIFS(G:G,G3)))*(1+VALUE(MID(J3,FIND(": ",J3)+2,FIND("/",J3)-FIND(":",J3)-2))-1)+(1+VALUE(MID(J3,FIND(": ",J3)+2,FIND("/",J3)-FIND(":",J3)-2))-1)/VALUE(RIGHT(J3,1)),IF(G3<=VALUE(MID(J3,FIND(", ",J3)+2,IF(MID(J3,FIND(", ",J3)+2,1)="1",2,1))),(IF(COUNTIFS(G:G,"<="&G3)<=VALUE(MID(J3,FIND(", ",J3)+2,IF(MID(J3,FIND(", ",J3)+2,1)="1",2,1))),1,(VALUE(MID(J3,FIND(", ",J3)+2,IF(MID(J3,FIND(", ",J3)+2,1)="1",2,1)))-COUNTIFS(G:G,"<"&G3))/COUNTIFS(G:G,G3)))*(1*(1+VALUE(MID(J3,FIND(": ",J3)+2,FIND("/",J3)-FIND(":",J3)-2))-1)/VALUE(RIGHT(J3,1))+1)-2,-2))) | I3: =IF(OR(E3="",G3=""),"",IF(G3=1,(IF(COUNTIFS(G:G,"<="&G3)<=1,1,(1-COUNTIFS(G:G,"<"&G3))/COUNTIFS(G:G,G3)))*(1+VALUE(MID(J3,FIND(": ",J3)+2,FIND("/",J3)-FIND(":",J3)-2))-1)+(1+VALUE(MID(J3,FIND(": ",J3)+2,FIND("/",J3)-FIND(":",J3)-2))-1)/VALUE(RIGHT(J3,1)),IF(G3<=VALUE(MID(J3,FIND(", ",J3)+2,IF(MID(J3,FIND(", ",J3)+2,1)="1",2,1))),(IF(COUNTIFS(G:G,"<="&G3)<=VALUE(MID(J3,FIND(", ",J3)+2,IF(MID(J3,FIND(", ",J3)+2,1)="1",2,1))),1,(VALUE(MID(J3,FIND(", ",J3)+2,IF(MID(J3,FIND(", ",J3)+2,1)="1",2,1)))-COUNTIFS(G:G,"<"&G3))/COUNTIFS(G:G,G3)))*(1*(1+VALUE(MID(J3,FIND(": ",J3)+2,FIND("/",J3)-FIND(":",J3)-2))-1)/VALUE(RIGHT(J3,1))+1)-2,-2))) | J3: =IF(F3="","",Win!H3) | M3: =IF(FRL!A3="","",FRL!A3) -> Alexa Pano | N3: =IF(FRL!B3="","",FRL!B3) -> 1.20% | O3: =IF(FRL!C3="","",FRL!C3) -> 83 | P3: =IF(FRL!D3="","",FRL!D3) -> 51 | Q3: =IF(P3="","",IF(ROUND((N3*(P3-1)-(1-N3))/(P3-1),3)<=0,"",ROUND((N3*(P3-1)-(1-N3))/(P3-1),3))) | R3: {=IF(Q3="","",RANK(Q3, $Q$2:$Q$241) + COUNTIFS($Q$2:$Q$241, Q3, $P$2:$P$241, "<"&P3) + COUNTIFS($Q$2:$Q$241, Q3, $P$2:$P$241, P3, $M$2:$M$241, "<"&M3))} | S3: =IF(FRL!F3="","",FRL!F3) -> 17 | T3: =IF(OR(R3="",S3="",R3>3),"",IF(S3=1,(IF(COUNTIFS(S:S,"<="&S3)<=1,1,(1-COUNTIFS(S:S,"<"&S3))/COUNTIFS(S:S,S3)))*(1+VALUE(MID(V3,FIND(": ",V3)+2,FIND("/",V3)-FIND(":",V3)-2))-1)+(1+VALUE(MID(V3,FIND(": ",V3)+2,FIND("/",V3)-FIND(":",V3)-2))-1)/VALUE(RIGHT(V3,1)),IF(S3<=VALUE(MID(V3,FIND(", ",V3)+2,IF(MID(V3,FIND(", ",V3)+2,1)="1",2,1))),(IF(COUNTIFS(S:S,"<="&S3)<=VALUE(MID(V3,FIND(", ",V3)+2,IF(MID(V3,FIND(", ",V3)+2,1)="1",2,1))),1,(VALUE(MID(V3,FIND(", ",V3)+2,IF(MID(V3,FIND(", ",V3)+2,1)="1",2,1)))-COUNTIFS(S:S,"<"&S3))/COUNTIFS(S:S,S3)))*(1*(1+VALUE(MID(V3,FIND(": ",V3)+2,FIND("/",V3)-FIND(":",V3)-2))-1)/VALUE(RIGHT(V3,1))+1)-2,-2))) | U3: =IF(OR(Q3="",S3=""),"",IF(S3=1,(IF(COUNTIFS(S:S,"<="&S3)<=1,1,(1-COUNTIFS(S:S,"<"&S3))/COUNTIFS(S:S,S3)))*(1+VALUE(MID(V3,FIND(": ",V3)+2,FIND("/",V3)-FIND(":",V3)-2))-1)+(1+VALUE(MID(V3,FIND(": ",V3)+2,FIND("/",V3)-FIND(":",V3)-2))-1)/VALUE(RIGHT(V3,1)),IF(S3<=VALUE(MID(V3,FIND(", ",V3)+2,IF(MID(V3,FIND(", ",V3)+2,1)="1",2,1))),(IF(COUNTIFS(S:S,"<="&S3)<=VALUE(MID(V3,FIND(", ",V3)+2,IF(MID(V3,FIND(", ",V3)+2,1)="1",2,1))),1,(VALUE(MID(V3,FIND(", ",V3)+2,IF(MID(V3,FIND(", ",V3)+2,1)="1",2,1)))-COUNTIFS(S:S,"<"&S3))/COUNTIFS(S:S,S3)))*(1*(1+VALUE(MID(V3,FIND(": ",V3)+2,FIND("/",V3)-FIND(":",V3)-2))-1)/VALUE(RIGHT(V3,1))+1)-2,-2))) | V3: =IF(R3="","",FRL!H3)
A4: =IF(Win!A4="","",Win!A4) -> Allisen Corpuz | B4: =IF(Win!B4="","",VALUE(Win!B4)) -> 0.0285 | C4: =IF(Win!C4="","",Win!C4) -> 35 | D4: =IF(Win!D4="","",Win!D4) -> 46 | E4: =IF(D4="","",IF(ROUND((B4*(D4-1)-(1-B4))/(D4-1),3)<=0,"",ROUND((B4*(D4-1)-(1-B4))/(D4-1),3))) -> 0.007 | F4: {=IF(E4="","",RANK(E4, $E$2:$E$241) + COUNTIFS($E$2:$E$241, E4, $D$2:$D$241, "<"&D4) + COUNTIFS($E$2:$E$241, E4, $D$2:$D$241, D4, $A$2:$A$241, "<"&A4))} -> 2 | G4: =IF(Win!F4="","",Win!F4) -> 22 | H4: =IF(OR(F4="",G4="",F4>3),"",IF(G4=1,(IF(COUNTIFS(G:G,"<="&G4)<=1,1,(1-COUNTIFS(G:G,"<"&G4))/COUNTIFS(G:G,G4)))*(1+VALUE(MID(J4,FIND(": ",J4)+2,FIND("/",J4)-FIND(":",J4)-2))-1)+(1+VALUE(MID(J4,FIND(": ",J4)+2,FIND("/",J4)-FIND(":",J4)-2))-1)/VALUE(RIGHT(J4,1)),IF(G4<=VALUE(MID(J4,FIND(", ",J4)+2,IF(MID(J4,FIND(", ",J4)+2,1)="1",2,1))),(IF(COUNTIFS(G:G,"<="&G4)<=VALUE(MID(J4,FIND(", ",J4)+2,IF(MID(J4,FIND(", ",J4)+2,1)="1",2,1))),1,(VALUE(MID(J4,FIND(", ",J4)+2,IF(MID(J4,FIND(", ",J4)+2,1)="1",2,1)))-COUNTIFS(G:G,"<"&G4))/COUNTIFS(G:G,G4)))*(1*(1+VALUE(MID(J4,FIND(": ",J4)+2,FIND("/",J4)-FIND(":",J4)-2))-1)/VALUE(RIGHT(J4,1))+1)-2,-2))) -> -2 | I4: =IF(OR(E4="",G4=""),"",IF(G4=1,(IF(COUNTIFS(G:G,"<="&G4)<=1,1,(1-COUNTIFS(G:G,"<"&G4))/COUNTIFS(G:G,G4)))*(1+VALUE(MID(J4,FIND(": ",J4)+2,FIND("/",J4)-FIND(":",J4)-2))-1)+(1+VALUE(MID(J4,FIND(": ",J4)+2,FIND("/",J4)-FIND(":",J4)-2))-1)/VALUE(RIGHT(J4,1)),IF(G4<=VALUE(MID(J4,FIND(", ",J4)+2,IF(MID(J4,FIND(", ",J4)+2,1)="1",2,1))),(IF(COUNTIFS(G:G,"<="&G4)<=VALUE(MID(J4,FIND(", ",J4)+2,IF(MID(J4,FIND(", ",J4)+2,1)="1",2,1))),1,(VALUE(MID(J4,FIND(", ",J4)+2,IF(MID(J4,FIND(", ",J4)+2,1)="1",2,1)))-COUNTIFS(G:G,"<"&G4))/COUNTIFS(G:G,G4)))*(1*(1+VALUE(MID(J4,FIND(": ",J4)+2,FIND("/",J4)-FIND(":",J4)-2))-1)/VALUE(RIGHT(J4,1))+1)-2,-2))) -> -2 | J4: =IF(F4="","",Win!H4) -> Bet365: 45/1, 4pl, 1/4 | M4: =IF(FRL!A4="","",FRL!A4) -> Allisen Corpuz | N4: =IF(FRL!B4="","",FRL!B4) -> 3.12% | O4: =IF(FRL!C4="","",FRL!C4) -> 32 | P4: =IF(FRL!D4="","",FRL!D4) -> 29 | Q4: =IF(P4="","",IF(ROUND((N4*(P4-1)-(1-N4))/(P4-1),3)<=0,"",ROUND((N4*(P4-1)-(1-N4))/(P4-1),3))) | R4: {=IF(Q4="","",RANK(Q4, $Q$2:$Q$241) + COUNTIFS($Q$2:$Q$241, Q4, $P$2:$P$241, "<"&P4) + COUNTIFS($Q$2:$Q$241, Q4, $P$2:$P$241, P4, $M$2:$M$241, "<"&M4))} | S4: =IF(FRL!F4="","",FRL!F4) -> 17 | T4: =IF(OR(R4="",S4="",R4>3),"",IF(S4=1,(IF(COUNTIFS(S:S,"<="&S4)<=1,1,(1-COUNTIFS(S:S,"<"&S4))/COUNTIFS(S:S,S4)))*(1+VALUE(MID(V4,FIND(": ",V4)+2,FIND("/",V4)-FIND(":",V4)-2))-1)+(1+VALUE(MID(V4,FIND(": ",V4)+2,FIND("/",V4)-FIND(":",V4)-2))-1)/VALUE(RIGHT(V4,1)),IF(S4<=VALUE(MID(V4,FIND(", ",V4)+2,IF(MID(V4,FIND(", ",V4)+2,1)="1",2,1))),(IF(COUNTIFS(S:S,"<="&S4)<=VALUE(MID(V4,FIND(", ",V4)+2,IF(MID(V4,FIND(", ",V4)+2,1)="1",2,1))),1,(VALUE(MID(V4,FIND(", ",V4)+2,IF(MID(V4,FIND(", ",V4)+2,1)="1",2,1)))-COUNTIFS(S:S,"<"&S4))/COUNTIFS(S:S,S4)))*(1*(1+VALUE(MID(V4,FIND(": ",V4)+2,FIND("/",V4)-FIND(":",V4)-2))-1)/VALUE(RIGHT(V4,1))+1)-2,-2))) | U4: =IF(OR(Q4="",S4=""),"",IF(S4=1,(IF(COUNTIFS(S:S,"<="&S4)<=1,1,(1-COUNTIFS(S:S,"<"&S4))/COUNTIFS(S:S,S4)))*(1+VALUE(MID(V4,FIND(": ",V4)+2,FIND("/",V4)-FIND(":",V4)-2))-1)+(1+VALUE(MID(V4,FIND(": ",V4)+2,FIND("/",V4)-FIND(":",V4)-2))-1)/VALUE(RIGHT(V4,1)),IF(S4<=VALUE(MID(V4,FIND(", ",V4)+2,IF(MID(V4,FIND(", ",V4)+2,1)="1",2,1))),(IF(COUNTIFS(S:S,"<="&S4)<=VALUE(MID(V4,FIND(", ",V4)+2,IF(MID(V4,FIND(", ",V4)+2,1)="1",2,1))),1,(VALUE(MID(V4,FIND(", ",V4)+2,IF(MID(V4,FIND(", ",V4)+2,1)="1",2,1)))-COUNTIFS(S:S,"<"&S4))/COUNTIFS(S:S,S4)))*(1*(1+VALUE(MID(V4,FIND(": ",V4)+2,FIND("/",V4)-FIND(":",V4)-2))-1)/VALUE(RIGHT(V4,1))+1)-2,-2))) | V4: =IF(R4="","",FRL!H4)
A5: =IF(Win!A5="","",Win!A5) -> Amy Yang | B5: =IF(Win!B5="","",VALUE(Win!B5)) -> 0.021 | C5: =IF(Win!C5="","",Win!C5) -> 48 | D5: =IF(Win!D5="","",Win!D5) -> 51 | E5: =IF(D5="","",IF(ROUND((B5*(D5-1)-(1-B5))/(D5-1),3)<=0,"",ROUND((B5*(D5-1)-(1-B5))/(D5-1),3))) -> 0.001 | F5: {=IF(E5="","",RANK(E5, $E$2:$E$241) + COUNTIFS($E$2:$E$241, E5, $D$2:$D$241, "<"&D5) + COUNTIFS($E$2:$E$241, E5, $D$2:$D$241, D5, $A$2:$A$241, "<"&A5))} -> 10 | G5: =IF(Win!F5="","",Win!F5) -> 22 | H5: =IF(OR(F5="",G5="",F5>3),"",IF(G5=1,(IF(COUNTIFS(G:G,"<="&G5)<=1,1,(1-COUNTIFS(G:G,"<"&G5))/COUNTIFS(G:G,G5)))*(1+VALUE(MID(J5,FIND(": ",J5)+2,FIND("/",J5)-FIND(":",J5)-2))-1)+(1+VALUE(MID(J5,FIND(": ",J5)+2,FIND("/",J5)-FIND(":",J5)-2))-1)/VALUE(RIGHT(J5,1)),IF(G5<=VALUE(MID(J5,FIND(", ",J5)+2,IF(MID(J5,FIND(", ",J5)+2,1)="1",2,1))),(IF(COUNTIFS(G:G,"<="&G5)<=VALUE(MID(J5,FIND(", ",J5)+2,IF(MID(J5,FIND(", ",J5)+2,1)="1",2,1))),1,(VALUE(MID(J5,FIND(", ",J5)+2,IF(MID(J5,FIND(", ",J5)+2,1)="1",2,1)))-COUNTIFS(G:G,"<"&G5))/COUNTIFS(G:G,G5)))*(1*(1+VALUE(MID(J5,FIND(": ",J5)+2,FIND("/",J5)-FIND(":",J5)-2))-1)/VALUE(RIGHT(J5,1))+1)-2,-2))) | I5: =IF(OR(E5="",G5=""),"",IF(G5=1,(IF(COUNTIFS(G:G,"<="&G5)<=1,1,(1-COUNTIFS(G:G,"<"&G5))/COUNTIFS(G:G,G5)))*(1+VALUE(MID(J5,FIND(": ",J5)+2,FIND("/",J5)-FIND(":",J5)-2))-1)+(1+VALUE(MID(J5,FIND(": ",J5)+2,FIND("/",J5)-FIND(":",J5)-2))-1)/VALUE(RIGHT(J5,1)),IF(G5<=VALUE(MID(J5,FIND(", ",J5)+2,IF(MID(J5,FIND(", ",J5)+2,1)="1",2,1))),(IF(COUNTIFS(G:G,"<="&G5)<=VALUE(MID(J5,FIND(", ",J5)+2,IF(MID(J5,FIND(", ",J5)+2,1)="1",2,1))),1,(VALUE(MID(J5,FIND(", ",J5)+2,IF(MID(J5,FIND(", ",J5)+2,1)="1",2,1)))-COUNTIFS(G:G,"<"&G5))/COUNTIFS(G:G,G5)))*(1*(1+VALUE(MID(J5,FIND(": ",J5)+2,FIND("/",J5)-FIND(":",J5)-2))-1)/VALUE(RIGHT(J5,1))+1)-2,-2))) -> -2 | J5: =IF(F5="","",Win!H5) -> Spreadex: 50/1, 4pl, 1/4 | M5: =IF(FRL!A5="","",FRL!A5) -> Amy Yang | N5: =IF(FRL!B5="","",FRL!B5) -> 2.67% | O5: =IF(FRL!C5="","",FRL!C5) -> 37 | P5: =IF(FRL!D5="","",FRL!D5) -> 31 | Q5: =IF(P5="","",IF(ROUND((N5*(P5-1)-(1-N5))/(P5-1),3)<=0,"",ROUND((N5*(P5-1)-(1-N5))/(P5-1),3))) | R5: {=IF(Q5="","",RANK(Q5, $Q$2:$Q$241) + COUNTIFS($Q$2:$Q$241, Q5, $P$2:$P$241, "<"&P5) + COUNTIFS($Q$2:$Q$241, Q5, $P$2:$P$241, P5, $M$2:$M$241, "<"&M5))} | S5: =IF(FRL!F5="","",FRL!F5) -> 17 | T5: =IF(OR(R5="",S5="",R5>3),"",IF(S5=1,(IF(COUNTIFS(S:S,"<="&S5)<=1,1,(1-COUNTIFS(S:S,"<"&S5))/COUNTIFS(S:S,S5)))*(1+VALUE(MID(V5,FIND(": ",V5)+2,FIND("/",V5)-FIND(":",V5)-2))-1)+(1+VALUE(MID(V5,FIND(": ",V5)+2,FIND("/",V5)-FIND(":",V5)-2))-1)/VALUE(RIGHT(V5,1)),IF(S5<=VALUE(MID(V5,FIND(", ",V5)+2,IF(MID(V5,FIND(", ",V5)+2,1)="1",2,1))),(IF(COUNTIFS(S:S,"<="&S5)<=VALUE(MID(V5,FIND(", ",V5)+2,IF(MID(V5,FIND(", ",V5)+2,1)="1",2,1))),1,(VALUE(MID(V5,FIND(", ",V5)+2,IF(MID(V5,FIND(", ",V5)+2,1)="1",2,1)))-COUNTIFS(S:S,"<"&S5))/COUNTIFS(S:S,S5)))*(1*(1+VALUE(MID(V5,FIND(": ",V5)+2,FIND("/",V5)-FIND(":",V5)-2))-1)/VALUE(RIGHT(V5,1))+1)-2,-2))) | U5: =IF(OR(Q5="",S5=""),"",IF(S5=1,(IF(COUNTIFS(S:S,"<="&S5)<=1,1,(1-COUNTIFS(S:S,"<"&S5))/COUNTIFS(S:S,S5)))*(1+VALUE(MID(V5,FIND(": ",V5)+2,FIND("/",V5)-FIND(":",V5)-2))-1)+(1+VALUE(MID(V5,FIND(": ",V5)+2,FIND("/",V5)-FIND(":",V5)-2))-1)/VALUE(RIGHT(V5,1)),IF(S5<=VALUE(MID(V5,FIND(", ",V5)+2,IF(MID(V5,FIND(", ",V5)+2,1)="1",2,1))),(IF(COUNTIFS(S:S,"<="&S5)<=VALUE(MID(V5,FIND(", ",V5)+2,IF(MID(V5,FIND(", ",V5)+2,1)="1",2,1))),1,(VALUE(MID(V5,FIND(", ",V5)+2,IF(MID(V5,FIND(", ",V5)+2,1)="1",2,1)))-COUNTIFS(S:S,"<"&S5))/COUNTIFS(S:S,S5)))*(1*(1+VALUE(MID(V5,FIND(": ",V5)+2,FIND("/",V5)-FIND(":",V5)-2))-1)/VALUE(RIGHT(V5,1))+1)-2,-2))) | V5: =IF(R5="","",FRL!H5)
A6: =IF(Win!A6="","",Win!A6) -> Angel Yin | B6: =IF(Win!B6="","",VALUE(Win!B6)) -> 0.032 | C6: =IF(Win!C6="","",Win!C6) -> 31 | D6: =IF(Win!D6="","",Win!D6) -> 31 | E6: =IF(D6="","",IF(ROUND((B6*(D6-1)-(1-B6))/(D6-1),3)<=0,"",ROUND((B6*(D6-1)-(1-B6))/(D6-1),3))) | F6: {=IF(E6="","",RANK(E6, $E$2:$E$241) + COUNTIFS($E$2:$E$241, E6, $D$2:$D$241, "<"&D6) + COUNTIFS($E$2:$E$241, E6, $D$2:$D$241, D6, $A$2:$A$241, "<"&A6))} | G6: =IF(Win!F6="","",Win!F6) -> 18 | H6: =IF(OR(F6="",G6="",F6>3),"",IF(G6=1,(IF(COUNTIFS(G:G,"<="&G6)<=1,1,(1-COUNTIFS(G:G,"<"&G6))/COUNTIFS(G:G,G6)))*(1+VALUE(MID(J6,FIND(": ",J6)+2,FIND("/",J6)-FIND(":",J6)-2))-1)+(1+VALUE(MID(J6,FIND(": ",J6)+2,FIND("/",J6)-FIND(":",J6)-2))-1)/VALUE(RIGHT(J6,1)),IF(G6<=VALUE(MID(J6,FIND(", ",J6)+2,IF(MID(J6,FIND(", ",J6)+2,1)="1",2,1))),(IF(COUNTIFS(G:G,"<="&G6)<=VALUE(MID(J6,FIND(", ",J6)+2,IF(MID(J6,FIND(", ",J6)+2,1)="1",2,1))),1,(VALUE(MID(J6,FIND(", ",J6)+2,IF(MID(J6,FIND(", ",J6)+2,1)="1",2,1)))-COUNTIFS(G:G,"<"&G6))/COUNTIFS(G:G,G6)))*(1*(1+VALUE(MID(J6,FIND(": ",J6)+2,FIND("/",J6)-FIND(":",J6)-2))-1)/VALUE(RIGHT(J6,1))+1)-2,-2))) | I6: =IF(OR(E6="",G6=""),"",IF(G6=1,(IF(COUNTIFS(G:G,"<="&G6)<=1,1,(1-COUNTIFS(G:G,"<"&G6))/COUNTIFS(G:G,G6)))*(1+VALUE(MID(J6,FIND(": ",J6)+2,FIND("/",J6)-FIND(":",J6)-2))-1)+(1+VALUE(MID(J6,FIND(": ",J6)+2,FIND("/",J6)-FIND(":",J6)-2))-1)/VALUE(RIGHT(J6,1)),IF(G6<=VALUE(MID(J6,FIND(", ",J6)+2,IF(MID(J6,FIND(", ",J6)+2,1)="1",2,1))),(IF(COUNTIFS(G:G,"<="&G6)<=VALUE(MID(J6,FIND(", ",J6)+2,IF(MID(J6,FIND(", ",J6)+2,1)="1",2,1))),1,(VALUE(MID(J6,FIND(", ",J6)+2,IF(MID(J6,FIND(", ",J6)+2,1)="1",2,1)))-COUNTIFS(G:G,"<"&G6))/COUNTIFS(G:G,G6)))*(1*(1+VALUE(MID(J6,FIND(": ",J6)+2,FIND("/",J6)-FIND(":",J6)-2))-1)/VALUE(RIGHT(J6,1))+1)-2,-2))) | J6: =IF(F6="","",Win!H6) | M6: =IF(FRL!A6="","",FRL!A6) -> Angel Yin | N6: =IF(FRL!B6="","",FRL!B6) -> 3.42% | O6: =IF(FRL!C6="","",FRL!C6) -> 29 | P6: =IF(FRL!D6="","",FRL!D6) -> 26 | Q6: =IF(P6="","",IF(ROUND((N6*(P6-1)-(1-N6))/(P6-1),3)<=0,"",ROUND((N6*(P6-1)-(1-N6))/(P6-1),3))) | R6: {=IF(Q6="","",RANK(Q6, $Q$2:$Q$241) + COUNTIFS($Q$2:$Q$241, Q6, $P$2:$P$241, "<"&P6) + COUNTIFS($Q$2:$Q$241, Q6, $P$2:$P$241, P6, $M$2:$M$241, "<"&M6))} | S6: =IF(FRL!F6="","",FRL!F6) -> 17 | T6: =IF(OR(R6="",S6="",R6>3),"",IF(S6=1,(IF(COUNTIFS(S:S,"<="&S6)<=1,1,(1-COUNTIFS(S:S,"<"&S6))/COUNTIFS(S:S,S6)))*(1+VALUE(MID(V6,FIND(": ",V6)+2,FIND("/",V6)-FIND(":",V6)-2))-1)+(1+VALUE(MID(V6,FIND(": ",V6)+2,FIND("/",V6)-FIND(":",V6)-2))-1)/VALUE(RIGHT(V6,1)),IF(S6<=VALUE(MID(V6,FIND(", ",V6)+2,IF(MID(V6,FIND(", ",V6)+2,1)="1",2,1))),(IF(COUNTIFS(S:S,"<="&S6)<=VALUE(MID(V6,FIND(", ",V6)+2,IF(MID(V6,FIND(", ",V6)+2,1)="1",2,1))),1,(VALUE(MID(V6,FIND(", ",V6)+2,IF(MID(V6,FIND(", ",V6)+2,1)="1",2,1)))-COUNTIFS(S:S,"<"&S6))/COUNTIFS(S:S,S6)))*(1*(1+VALUE(MID(V6,FIND(": ",V6)+2,FIND("/",V6)-FIND(":",V6)-2))-1)/VALUE(RIGHT(V6,1))+1)-2,-2))) | U6: =IF(OR(Q6="",S6=""),"",IF(S6=1,(IF(COUNTIFS(S:S,"<="&S6)<=1,1,(1-COUNTIFS(S:S,"<"&S6))/COUNTIFS(S:S,S6)))*(1+VALUE(MID(V6,FIND(": ",V6)+2,FIND("/",V6)-FIND(":",V6)-2))-1)+(1+VALUE(MID(V6,FIND(": ",V6)+2,FIND("/",V6)-FIND(":",V6)-2))-1)/VALUE(RIGHT(V6,1)),IF(S6<=VALUE(MID(V6,FIND(", ",V6)+2,IF(MID(V6,FIND(", ",V6)+2,1)="1",2,1))),(IF(COUNTIFS(S:S,"<="&S6)<=VALUE(MID(V6,FIND(", ",V6)+2,IF(MID(V6,FIND(", ",V6)+2,1)="1",2,1))),1,(VALUE(MID(V6,FIND(", ",V6)+2,IF(MID(V6,FIND(", ",V6)+2,1)="1",2,1)))-COUNTIFS(S:S,"<"&S6))/COUNTIFS(S:S,S6)))*(1*(1+VALUE(MID(V6,FIND(": ",V6)+2,FIND("/",V6)-FIND(":",V6)-2))-1)/VALUE(RIGHT(V6,1))+1)-2,-2))) | V6: =IF(R6="","",FRL!H6)
A7: =IF(Win!A7="","",Win!A7) -> Ashleigh Buhai | B7: =IF(Win!B7="","",VALUE(Win!B7)) -> 0.0131 | C7: =IF(Win!C7="","",Win!C7) -> 76 | D7: =IF(Win!D7="","",Win!D7) -> 51 | E7: =IF(D7="","",IF(ROUND((B7*(D7-1)-(1-B7))/(D7-1),3)<=0,"",ROUND((B7*(D7-1)-(1-B7))/(D7-1),3))) | F7: {=IF(E7="","",RANK(E7, $E$2:$E$241) + COUNTIFS($E$2:$E$241, E7, $D$2:$D$241, "<"&D7) + COUNTIFS($E$2:$E$241, E7, $D$2:$D$241, D7, $A$2:$A$241, "<"&A7))} | G7: =IF(Win!F7="","",Win!F7) -> 10 | H7: =IF(OR(F7="",G7="",F7>3),"",IF(G7=1,(IF(COUNTIFS(G:G,"<="&G7)<=1,1,(1-COUNTIFS(G:G,"<"&G7))/COUNTIFS(G:G,G7)))*(1+VALUE(MID(J7,FIND(": ",J7)+2,FIND("/",J7)-FIND(":",J7)-2))-1)+(1+VALUE(MID(J7,FIND(": ",J7)+2,FIND("/",J7)-FIND(":",J7)-2))-1)/VALUE(RIGHT(J7,1)),IF(G7<=VALUE(MID(J7,FIND(", ",J7)+2,IF(MID(J7,FIND(", ",J7)+2,1)="1",2,1))),(IF(COUNTIFS(G:G,"<="&G7)<=VALUE(MID(J7,FIND(", ",J7)+2,IF(MID(J7,FIND(", ",J7)+2,1)="1",2,1))),1,(VALUE(MID(J7,FIND(", ",J7)+2,IF(MID(J7,FIND(", ",J7)+2,1)="1",2,1)))-COUNTIFS(G:G,"<"&G7))/COUNTIFS(G:G,G7)))*(1*(1+VALUE(MID(J7,FIND(": ",J7)+2,FIND("/",J7)-FIND(":",J7)-2))-1)/VALUE(RIGHT(J7,1))+1)-2,-2))) | I7: =IF(OR(E7="",G7=""),"",IF(G7=1,(IF(COUNTIFS(G:G,"<="&G7)<=1,1,(1-COUNTIFS(G:G,"<"&G7))/COUNTIFS(G:G,G7)))*(1+VALUE(MID(J7,FIND(": ",J7)+2,FIND("/",J7)-FIND(":",J7)-2))-1)+(1+VALUE(MID(J7,FIND(": ",J7)+2,FIND("/",J7)-FIND(":",J7)-2))-1)/VALUE(RIGHT(J7,1)),IF(G7<=VALUE(MID(J7,FIND(", ",J7)+2,IF(MID(J7,FIND(", ",J7)+2,1)="1",2,1))),(IF(COUNTIFS(G:G,"<="&G7)<=VALUE(MID(J7,FIND(", ",J7)+2,IF(MID(J7,FIND(", ",J7)+2,1)="1",2,1))),1,(VALUE(MID(J7,FIND(", ",J7)+2,IF(MID(J7,FIND(", ",J7)+2,1)="1",2,1)))-COUNTIFS(G:G,"<"&G7))/COUNTIFS(G:G,G7)))*(1*(1+VALUE(MID(J7,FIND(": ",J7)+2,FIND("/",J7)-FIND(":",J7)-2))-1)/VALUE(RIGHT(J7,1))+1)-2,-2))) | J7: =IF(F7="","",Win!H7) | M7: =IF(FRL!A7="","",FRL!A7) -> Ashleigh Buhai | N7: =IF(FRL!B7="","",FRL!B7) -> 2.01% | O7: =IF(FRL!C7="","",FRL!C7) -> 50 | P7: =IF(FRL!D7="","",FRL!D7) -> 34 | Q7: =IF(P7="","",IF(ROUND((N7*(P7-1)-(1-N7))/(P7-1),3)<=0,"",ROUND((N7*(P7-1)-(1-N7))/(P7-1),3))) | R7: {=IF(Q7="","",RANK(Q7, $Q$2:$Q$241) + COUNTIFS($Q$2:$Q$241, Q7, $P$2:$P$241, "<"&P7) + COUNTIFS($Q$2:$Q$241, Q7, $P$2:$P$241, P7, $M$2:$M$241, "<"&M7))} | S7: =IF(FRL!F7="","",FRL!F7) -> 17 | T7: =IF(OR(R7="",S7="",R7>3),"",IF(S7=1,(IF(COUNTIFS(S:S,"<="&S7)<=1,1,(1-COUNTIFS(S:S,"<"&S7))/COUNTIFS(S:S,S7)))*(1+VALUE(MID(V7,FIND(": ",V7)+2,FIND("/",V7)-FIND(":",V7)-2))-1)+(1+VALUE(MID(V7,FIND(": ",V7)+2,FIND("/",V7)-FIND(":",V7)-2))-1)/VALUE(RIGHT(V7,1)),IF(S7<=VALUE(MID(V7,FIND(", ",V7)+2,IF(MID(V7,FIND(", ",V7)+2,1)="1",2,1))),(IF(COUNTIFS(S:S,"<="&S7)<=VALUE(MID(V7,FIND(", ",V7)+2,IF(MID(V7,FIND(", ",V7)+2,1)="1",2,1))),1,(VALUE(MID(V7,FIND(", ",V7)+2,IF(MID(V7,FIND(", ",V7)+2,1)="1",2,1)))-COUNTIFS(S:S,"<"&S7))/COUNTIFS(S:S,S7)))*(1*(1+VALUE(MID(V7,FIND(": ",V7)+2,FIND("/",V7)-FIND(":",V7)-2))-1)/VALUE(RIGHT(V7,1))+1)-2,-2))) | U7: =IF(OR(Q7="",S7=""),"",IF(S7=1,(IF(COUNTIFS(S:S,"<="&S7)<=1,1,(1-COUNTIFS(S:S,"<"&S7))/COUNTIFS(S:S,S7)))*(1+VALUE(MID(V7,FIND(": ",V7)+2,FIND("/",V7)-FIND(":",V7)-2))-1)+(1+VALUE(MID(V7,FIND(": ",V7)+2,FIND("/",V7)-FIND(":",V7)-2))-1)/VALUE(RIGHT(V7,1)),IF(S7<=VALUE(MID(V7,FIND(", ",V7)+2,IF(MID(V7,FIND(", ",V7)+2,1)="1",2,1))),(IF(COUNTIFS(S:S,"<="&S7)<=VALUE(MID(V7,FIND(", ",V7)+2,IF(MID(V7,FIND(", ",V7)+2,1)="1",2,1))),1,(VALUE(MID(V7,FIND(", ",V7)+2,IF(MID(V7,FIND(", ",V7)+2,1)="1",2,1)))-COUNTIFS(S:S,"<"&S7))/COUNTIFS(S:S,S7)))*(1*(1+VALUE(MID(V7,FIND(": ",V7)+2,FIND("/",V7)-FIND(":",V7)-2))-1)/VALUE(RIGHT(V7,1))+1)-2,-2))) | V7: =IF(R7="","",FRL!H7)
A8: =IF(Win!A8="","",Win!A8) -> Ayaka Furue | B8: =IF(Win!B8="","",VALUE(Win!B8)) -> 0.0554 | C8: =IF(Win!C8="","",Win!C8) -> 18 | D8: =IF(Win!D8="","",Win!D8) -> 15 | E8: =IF(D8="","",IF(ROUND((B8*(D8-1)-(1-B8))/(D8-1),3)<=0,"",ROUND((B8*(D8-1)-(1-B8))/(D8-1),3))) | F8: {=IF(E8="","",RANK(E8, $E$2:$E$241) + COUNTIFS($E$2:$E$241, E8, $D$2:$D$241, "<"&D8) + COUNTIFS($E$2:$E$241, E8, $D$2:$D$241, D8, $A$2:$A$241, "<"&A8))} | G8: =IF(Win!F8="","",Win!F8) -> 25 | H8: =IF(OR(F8="",G8="",F8>3),"",IF(G8=1,(IF(COUNTIFS(G:G,"<="&G8)<=1,1,(1-COUNTIFS(G:G,"<"&G8))/COUNTIFS(G:G,G8)))*(1+VALUE(MID(J8,FIND(": ",J8)+2,FIND("/",J8)-FIND(":",J8)-2))-1)+(1+VALUE(MID(J8,FIND(": ",J8)+2,FIND("/",J8)-FIND(":",J8)-2))-1)/VALUE(RIGHT(J8,1)),IF(G8<=VALUE(MID(J8,FIND(", ",J8)+2,IF(MID(J8,FIND(", ",J8)+2,1)="1",2,1))),(IF(COUNTIFS(G:G,"<="&G8)<=VALUE(MID(J8,FIND(", ",J8)+2,IF(MID(J8,FIND(", ",J8)+2,1)="1",2,1))),1,(VALUE(MID(J8,FIND(", ",J8)+2,IF(MID(J8,FIND(", ",J8)+2,1)="1",2,1)))-COUNTIFS(G:G,"<"&G8))/COUNTIFS(G:G,G8)))*(1*(1+VALUE(MID(J8,FIND(": ",J8)+2,FIND("/",J8)-FIND(":",J8)-2))-1)/VALUE(RIGHT(J8,1))+1)-2,-2))) | I8: =IF(OR(E8="",G8=""),"",IF(G8=1,(IF(COUNTIFS(G:G,"<="&G8)<=1,1,(1-COUNTIFS(G:G,"<"&G8))/COUNTIFS(G:G,G8)))*(1+VALUE(MID(J8,FIND(": ",J8)+2,FIND("/",J8)-FIND(":",J8)-2))-1)+(1+VALUE(MID(J8,FIND(": ",J8)+2,FIND("/",J8)-FIND(":",J8)-2))-1)/VALUE(RIGHT(J8,1)),IF(G8<=VALUE(MID(J8,FIND(", ",J8)+2,IF(MID(J8,FIND(", ",J8)+2,1)="1",2,1))),(IF(COUNTIFS(G:G,"<="&G8)<=VALUE(MID(J8,FIND(", ",J8)+2,IF(MID(J8,FIND(", ",J8)+2,1)="1",2,1))),1,(VALUE(MID(J8,FIND(", ",J8)+2,IF(MID(J8,FIND(", ",J8)+2,1)="1",2,1)))-COUNTIFS(G:G,"<"&G8))/COUNTIFS(G:G,G8)))*(1*(1+VALUE(MID(J8,FIND(": ",J8)+2,FIND("/",J8)-FIND(":",J8)-2))-1)/VALUE(RIGHT(J8,1))+1)-2,-2))) | J8: =IF(F8="","",Win!H8) | M8: =IF(FRL!A8="","",FRL!A8) -> Ayaka Furue | N8: =IF(FRL!B8="","",FRL!B8) -> 4.65% | O8: =IF(FRL!C8="","",FRL!C8) -> 22 | P8: =IF(FRL!D8="","",FRL!D8) -> 17 | Q8: =IF(P8="","",IF(ROUND((N8*(P8-1)-(1-N8))/(P8-1),3)<=0,"",ROUND((N8*(P8-1)-(1-N8))/(P8-1),3))) | R8: {=IF(Q8="","",RANK(Q8, $Q$2:$Q$241) + COUNTIFS($Q$2:$Q$241, Q8, $P$2:$P$241, "<"&P8) + COUNTIFS($Q$2:$Q$241, Q8, $P$2:$P$241, P8, $M$2:$M$241, "<"&M8))} | S8: =IF(FRL!F8="","",FRL!F8) -> 14 | T8: =IF(OR(R8="",S8="",R8>3),"",IF(S8=1,(IF(COUNTIFS(S:S,"<="&S8)<=1,1,(1-COUNTIFS(S:S,"<"&S8))/COUNTIFS(S:S,S8)))*(1+VALUE(MID(V8,FIND(": ",V8)+2,FIND("/",V8)-FIND(":",V8)-2))-1)+(1+VALUE(MID(V8,FIND(": ",V8)+2,FIND("/",V8)-FIND(":",V8)-2))-1)/VALUE(RIGHT(V8,1)),IF(S8<=VALUE(MID(V8,FIND(", ",V8)+2,IF(MID(V8,FIND(", ",V8)+2,1)="1",2,1))),(IF(COUNTIFS(S:S,"<="&S8)<=VALUE(MID(V8,FIND(", ",V8)+2,IF(MID(V8,FIND(", ",V8)+2,1)="1",2,1))),1,(VALUE(MID(V8,FIND(", ",V8)+2,IF(MID(V8,FIND(", ",V8)+2,1)="1",2,1)))-COUNTIFS(S:S,"<"&S8))/COUNTIFS(S:S,S8)))*(1*(1+VALUE(MID(V8,FIND(": ",V8)+2,FIND("/",V8)-FIND(":",V8)-2))-1)/VALUE(RIGHT(V8,1))+1)-2,-2))) | U8: =IF(OR(Q8="",S8=""),"",IF(S8=1,(IF(COUNTIFS(S:S,"<="&S8)<=1,1,(1-COUNTIFS(S:S,"<"&S8))/COUNTIFS(S:S,S8)))*(1+VALUE(MID(V8,FIND(": ",V8)+2,FIND("/",V8)-FIND(":",V8)-2))-1)+(1+VALUE(MID(V8,FIND(": ",V8)+2,FIND("/",V8)-FIND(":",V8)-2))-1)/VALUE(RIGHT(V8,1)),IF(S8<=VALUE(MID(V8,FIND(", ",V8)+2,IF(MID(V8,FIND(", ",V8)+2,1)="1",2,1))),(IF(COUNTIFS(S:S,"<="&S8)<=VALUE(MID(V8,FIND(", ",V8)+2,IF(MID(V8,FIND(", ",V8)+2,1)="1",2,1))),1,(VALUE(MID(V8,FIND(", ",V8)+2,IF(MID(V8,FIND(", ",V8)+2,1)="1",2,1)))-COUNTIFS(S:S,"<"&S8))/COUNTIFS(S:S,S8)))*(1*(1+VALUE(MID(V8,FIND(": ",V8)+2,FIND("/",V8)-FIND(":",V8)-2))-1)/VALUE(RIGHT(V8,1))+1)-2,-2))) | V8: =IF(R8="","",FRL!H8)
A9: =IF(Win!A9="","",Win!A9) -> Bailey Tardy | B9: =IF(Win!B9="","",VALUE(Win!B9)) -> 0.0052 | C9: =IF(Win!C9="","",Win!C9) -> 192 | D9: =IF(Win!D9="","",Win!D9) -> 151 | E9: =IF(D9="","",IF(ROUND((B9*(D9-1)-(1-B9))/(D9-1),3)<=0,"",ROUND((B9*(D9-1)-(1-B9))/(D9-1),3))) | F9: {=IF(E9="","",RANK(E9, $E$2:$E$241) + COUNTIFS($E$2:$E$241, E9, $D$2:$D$241, "<"&D9) + COUNTIFS($E$2:$E$241, E9, $D$2:$D$241, D9, $A$2:$A$241, "<"&A9))} | G9: =IF(Win!F9="","",Win!F9) -> 25 | H9: =IF(OR(F9="",G9="",F9>3),"",IF(G9=1,(IF(COUNTIFS(G:G,"<="&G9)<=1,1,(1-COUNTIFS(G:G,"<"&G9))/COUNTIFS(G:G,G9)))*(1+VALUE(MID(J9,FIND(": ",J9)+2,FIND("/",J9)-FIND(":",J9)-2))-1)+(1+VALUE(MID(J9,FIND(": ",J9)+2,FIND("/",J9)-FIND(":",J9)-2))-1)/VALUE(RIGHT(J9,1)),IF(G9<=VALUE(MID(J9,FIND(", ",J9)+2,IF(MID(J9,FIND(", ",J9)+2,1)="1",2,1))),(IF(COUNTIFS(G:G,"<="&G9)<=VALUE(MID(J9,FIND(", ",J9)+2,IF(MID(J9,FIND(", ",J9)+2,1)="1",2,1))),1,(VALUE(MID(J9,FIND(", ",J9)+2,IF(MID(J9,FIND(", ",J9)+2,1)="1",2,1)))-COUNTIFS(G:G,"<"&G9))/COUNTIFS(G:G,G9)))*(1*(1+VALUE(MID(J9,FIND(": ",J9)+2,FIND("/",J9)-FIND(":",J9)-2))-1)/VALUE(RIGHT(J9,1))+1)-2,-2))) | I9: =IF(OR(E9="",G9=""),"",IF(G9=1,(IF(COUNTIFS(G:G,"<="&G9)<=1,1,(1-COUNTIFS(G:G,"<"&G9))/COUNTIFS(G:G,G9)))*(1+VALUE(MID(J9,FIND(": ",J9)+2,FIND("/",J9)-FIND(":",J9)-2))-1)+(1+VALUE(MID(J9,FIND(": ",J9)+2,FIND("/",J9)-FIND(":",J9)-2))-1)/VALUE(RIGHT(J9,1)),IF(G9<=VALUE(MID(J9,FIND(", ",J9)+2,IF(MID(J9,FIND(", ",J9)+2,1)="1",2,1))),(IF(COUNTIFS(G:G,"<="&G9)<=VALUE(MID(J9,FIND(", ",J9)+2,IF(MID(J9,FIND(", ",J9)+2,1)="1",2,1))),1,(VALUE(MID(J9,FIND(", ",J9)+2,IF(MID(J9,FIND(", ",J9)+2,1)="1",2,1)))-COUNTIFS(G:G,"<"&G9))/COUNTIFS(G:G,G9)))*(1*(1+VALUE(MID(J9,FIND(": ",J9)+2,FIND("/",J9)-FIND(":",J9)-2))-1)/VALUE(RIGHT(J9,1))+1)-2,-2))) | J9: =IF(F9="","",Win!H9) | M9: =IF(FRL!A9="","",FRL!A9) -> Bailey Tardy | N9: =IF(FRL!B9="","",FRL!B9) -> 1.21% | O9: =IF(FRL!C9="","",FRL!C9) -> 83 | P9: =IF(FRL!D9="","",FRL!D9) -> 56 | Q9: =IF(P9="","",IF(ROUND((N9*(P9-1)-(1-N9))/(P9-1),3)<=0,"",ROUND((N9*(P9-1)-(1-N9))/(P9-1),3))) | R9: {=IF(Q9="","",RANK(Q9, $Q$2:$Q$241) + COUNTIFS($Q$2:$Q$241, Q9, $P$2:$P$241, "<"&P9) + COUNTIFS($Q$2:$Q$241, Q9, $P$2:$P$241, P9, $M$2:$M$241, "<"&M9))} | S9: =IF(FRL!F9="","",FRL!F9) -> 17 | T9: =IF(OR(R9="",S9="",R9>3),"",IF(S9=1,(IF(COUNTIFS(S:S,"<="&S9)<=1,1,(1-COUNTIFS(S:S,"<"&S9))/COUNTIFS(S:S,S9)))*(1+VALUE(MID(V9,FIND(": ",V9)+2,FIND("/",V9)-FIND(":",V9)-2))-1)+(1+VALUE(MID(V9,FIND(": ",V9)+2,FIND("/",V9)-FIND(":",V9)-2))-1)/VALUE(RIGHT(V9,1)),IF(S9<=VALUE(MID(V9,FIND(", ",V9)+2,IF(MID(V9,FIND(", ",V9)+2,1)="1",2,1))),(IF(COUNTIFS(S:S,"<="&S9)<=VALUE(MID(V9,FIND(", ",V9)+2,IF(MID(V9,FIND(", ",V9)+2,1)="1",2,1))),1,(VALUE(MID(V9,FIND(", ",V9)+2,IF(MID(V9,FIND(", ",V9)+2,1)="1",2,1)))-COUNTIFS(S:S,"<"&S9))/COUNTIFS(S:S,S9)))*(1*(1+VALUE(MID(V9,FIND(": ",V9)+2,FIND("/",V9)-FIND(":",V9)-2))-1)/VALUE(RIGHT(V9,1))+1)-2,-2))) | U9: =IF(OR(Q9="",S9=""),"",IF(S9=1,(IF(COUNTIFS(S:S,"<="&S9)<=1,1,(1-COUNTIFS(S:S,"<"&S9))/COUNTIFS(S:S,S9)))*(1+VALUE(MID(V9,FIND(": ",V9)+2,FIND("/",V9)-FIND(":",V9)-2))-1)+(1+VALUE(MID(V9,FIND(": ",V9)+2,FIND("/",V9)-FIND(":",V9)-2))-1)/VALUE(RIGHT(V9,1)),IF(S9<=VALUE(MID(V9,FIND(", ",V9)+2,IF(MID(V9,FIND(", ",V9)+2,1)="1",2,1))),(IF(COUNTIFS(S:S,"<="&S9)<=VALUE(MID(V9,FIND(", ",V9)+2,IF(MID(V9,FIND(", ",V9)+2,1)="1",2,1))),1,(VALUE(MID(V9,FIND(", ",V9)+2,IF(MID(V9,FIND(", ",V9)+2,1)="1",2,1)))-COUNTIFS(S:S,"<"&S9))/COUNTIFS(S:S,S9)))*(1*(1+VALUE(MID(V9,FIND(": ",V9)+2,FIND("/",V9)-FIND(":",V9)-2))-1)/VALUE(RIGHT(V9,1))+1)-2,-2))) | V9: =IF(R9="","",FRL!H9)
A10: =IF(Win!A10="","",Win!A10) -> Brooke M. Henderson | B10: =IF(Win!B10="","",VALUE(Win!B10)) -> 0.0464 | C10: =IF(Win!C10="","",Win!C10) -> 22 | D10: =IF(Win!D10="","",Win!D10) -> 19 | E10: =IF(D10="","",IF(ROUND((B10*(D10-1)-(1-B10))/(D10-1),3)<=0,"",ROUND((B10*(D10-1)-(1-B10))/(D10-1),3))) | F10: {=IF(E10="","",RANK(E10, $E$2:$E$241) + COUNTIFS($E$2:$E$241, E10, $D$2:$D$241, "<"&D10) + COUNTIFS($E$2:$E$241, E10, $D$2:$D$241, D10, $A$2:$A$241, "<"&A10))} | G10: =IF(Win!F10="","",Win!F10) -> 14 | H10: =IF(OR(F10="",G10="",F10>3),"",IF(G10=1,(IF(COUNTIFS(G:G,"<="&G10)<=1,1,(1-COUNTIFS(G:G,"<"&G10))/COUNTIFS(G:G,G10)))*(1+VALUE(MID(J10,FIND(": ",J10)+2,FIND("/",J10)-FIND(":",J10)-2))-1)+(1+VALUE(MID(J10,FIND(": ",J10)+2,FIND("/",J10)-FIND(":",J10)-2))-1)/VALUE(RIGHT(J10,1)),IF(G10<=VALUE(MID(J10,FIND(", ",J10)+2,IF(MID(J10,FIND(", ",J10)+2,1)="1",2,1))),(IF(COUNTIFS(G:G,"<="&G10)<=VALUE(MID(J10,FIND(", ",J10)+2,IF(MID(J10,FIND(", ",J10)+2,1)="1",2,1))),1,(VALUE(MID(J10,FIND(", ",J10)+2,IF(MID(J10,FIND(", ",J10)+2,1)="1",2,1)))-COUNTIFS(G:G,"<"&G10))/COUNTIFS(G:G,G10)))*(1*(1+VALUE(MID(J10,FIND(": ",J10)+2,FIND("/",J10)-FIND(":",J10)-2))-1)/VALUE(RIGHT(J10,1))+1)-2,-2))) | I10: =IF(OR(E10="",G10=""),"",IF(G10=1,(IF(COUNTIFS(G:G,"<="&G10)<=1,1,(1-COUNTIFS(G:G,"<"&G10))/COUNTIFS(G:G,G10)))*(1+VALUE(MID(J10,FIND(": ",J10)+2,FIND("/",J10)-FIND(":",J10)-2))-1)+(1+VALUE(MID(J10,FIND(": ",J10)+2,FIND("/",J10)-FIND(":",J10)-2))-1)/VALUE(RIGHT(J10,1)),IF(G10<=VALUE(MID(J10,FIND(", ",J10)+2,IF(MID(J10,FIND(", ",J10)+2,1)="1",2,1))),(IF(COUNTIFS(G:G,"<="&G10)<=VALUE(MID(J10,FIND(", ",J10)+2,IF(MID(J10,FIND(", ",J10)+2,1)="1",2,1))),1,(VALUE(MID(J10,FIND(", ",J10)+2,IF(MID(J10,FIND(", ",J10)+2,1)="1",2,1)))-COUNTIFS(G:G,"<"&G10))/COUNTIFS(G:G,G10)))*(1*(1+VALUE(MID(J10,FIND(": ",J10)+2,FIND("/",J10)-FIND(":",J10)-2))-1)/VALUE(RIGHT(J10,1))+1)-2,-2))) | J10: =IF(F10="","",Win!H10) | M10: =IF(FRL!A10="","",FRL!A10) -> Brooke M. Henderson | N10: =IF(FRL!B10="","",FRL!B10) -> 4.24% | O10: =IF(FRL!C10="","",FRL!C10) -> 24 | P10: =IF(FRL!D10="","",FRL!D10) -> 19 | Q10: =IF(P10="","",IF(ROUND((N10*(P10-1)-(1-N10))/(P10-1),3)<=0,"",ROUND((N10*(P10-1)-(1-N10))/(P10-1),3))) | R10: {=IF(Q10="","",RANK(Q10, $Q$2:$Q$241) + COUNTIFS($Q$2:$Q$241, Q10, $P$2:$P$241, "<"&P10) + COUNTIFS($Q$2:$Q$241, Q10, $P$2:$P$241, P10, $M$2:$M$241, "<"&M10))} | S10: =IF(FRL!F10="","",FRL!F10) -> 17 | T10: =IF(OR(R10="",S10="",R10>3),"",IF(S10=1,(IF(COUNTIFS(S:S,"<="&S10)<=1,1,(1-COUNTIFS(S:S,"<"&S10))/COUNTIFS(S:S,S10)))*(1+VALUE(MID(V10,FIND(": ",V10)+2,FIND("/",V10)-FIND(":",V10)-2))-1)+(1+VALUE(MID(V10,FIND(": ",V10)+2,FIND("/",V10)-FIND(":",V10)-2))-1)/VALUE(RIGHT(V10,1)),IF(S10<=VALUE(MID(V10,FIND(", ",V10)+2,IF(MID(V10,FIND(", ",V10)+2,1)="1",2,1))),(IF(COUNTIFS(S:S,"<="&S10)<=VALUE(MID(V10,FIND(", ",V10)+2,IF(MID(V10,FIND(", ",V10)+2,1)="1",2,1))),1,(VALUE(MID(V10,FIND(", ",V10)+2,IF(MID(V10,FIND(", ",V10)+2,1)="1",2,1)))-COUNTIFS(S:S,"<"&S10))/COUNTIFS(S:S,S10)))*(1*(1+VALUE(MID(V10,FIND(": ",V10)+2,FIND("/",V10)-FIND(":",V10)-2))-1)/VALUE(RIGHT(V10,1))+1)-2,-2))) | U10: =IF(OR(Q10="",S10=""),"",IF(S10=1,(IF(COUNTIFS(S:S,"<="&S10)<=1,1,(1-COUNTIFS(S:S,"<"&S10))/COUNTIFS(S:S,S10)))*(1+VALUE(MID(V10,FIND(": ",V10)+2,FIND("/",V10)-FIND(":",V10)-2))-1)+(1+VALUE(MID(V10,FIND(": ",V10)+2,FIND("/",V10)-FIND(":",V10)-2))-1)/VALUE(RIGHT(V10,1)),IF(S10<=VALUE(MID(V10,FIND(", ",V10)+2,IF(MID(V10,FIND(", ",V10)+2,1)="1",2,1))),(IF(COUNTIFS(S:S,"<="&S10)<=VALUE(MID(V10,FIND(", ",V10)+2,IF(MID(V10,FIND(", ",V10)+2,1)="1",2,1))),1,(VALUE(MID(V10,FIND(", ",V10)+2,IF(MID(V10,FIND(", ",V10)+2,1)="1",2,1)))-COUNTIFS(S:S,"<"&S10))/COUNTIFS(S:S,S10)))*(1*(1+VALUE(MID(V10,FIND(": ",V10)+2,FIND("/",V10)-FIND(":",V10)-2))-1)/VALUE(RIGHT(V10,1))+1)-2,-2))) | V10: =IF(R10="","",FRL!H10)
