Workbook

Sheet Results
A1: PLAYER | B1: Results
A2: =IF(J2="","",CONCATENATE(J2," ",I2)) -> FirstName Surname | B2: Date | C2: Event | D2: Course | E2: Location | F2: Tour | G2: Tour2 | H2: Tour3 | I2: Surname | J2: FirstName | K2: Posn | L2: Rd1 | M2: Rd2 | N2: Rd3 | O2: Rd4 | P2: Rd5 | Q2: Total | R2: Field | S2: Field1 | T2: AdjRd1 | U2: AdjRd2 | V2: AdjRd3 | W2: AdjRd4 | X2: AdjRd5 | Y2: AdjAve | Z2: Rd1Pos | AA2: Rd2Pos | AB2: Rd3Pos | AC2: Rd4Pos | AD2: Rd5Pos | AE2: Rd1Lead | AF2: Rd2Lead | AG2: Rd3Lead | AH2: Rd4Lead | AI2: Rd5Lead | AJ2: Posn2
A3: =IF(J3="","",CONCATENATE(J3," ",I3)) -> Maxime Legros | B3: 46180 | C3: Open de la Mirabelle dOr | D3: La Grange aux Ormes | E3: France | F3: Alps | I3: Legros | J3: Maxime | K3: 1 | L3: 66 | M3: 65 | N3: 63 | Q3: 194 | R3: 77.03 | S3: 76.43 | T3: 71.66 | U3: 69.34 | V3: 69.64 | Y3: 70.21 | Z3: 8 | AA3: 2 | AB3: 1 | AE3: 3 | AF3: 1 | AG3: -6 | AJ3: 1
A4: =IF(J4="","",CONCATENATE(J4," ",I4)) -> Enrico Di Nitto | B4: 46180 | C4: Open de la Mirabelle dOr | D4: La Grange aux Ormes | E4: France | F4: Alps | I4: Di Nitto | J4: Enrico | K4: 2 | L4: 64 | M4: 66 | N4: 70 | Q4: 200 | R4: 77.03 | S4: 76.43 | T4: 69.66 | U4: 70.34 | V4: 76.64 | Y4: 72.21 | Z4: 2 | AA4: 1 | AB4: 2 | AE4: 1 | AF4: -1 | AG4: 6 | AJ4: 2
A5: =IF(J5="","",CONCATENATE(J5," ",I5)) -> Alessandro Nodari | B5: 46180 | C5: Open de la Mirabelle dOr | D5: La Grange aux Ormes | E5: France | F5: Alps | I5: Nodari | J5: Alessandro | K5: 2 | L5: 69 | M5: 66 | N5: 65 | Q5: 200 | R5: 77.03 | S5: 76.43 | T5: 74.66 | U5: 70.34 | V5: 71.64 | Y5: 72.21 | Z5: 33 | AA5: 8 | AB5: 2 | AE5: 6 | AF5: 5 | AG5: 6 | AJ5: 2
A6: =IF(J6="","",CONCATENATE(J6," ",I6)) -> Davide Buchi | B6: 46180 | C6: Open de la Mirabelle dOr | D6: La Grange aux Ormes | E6: France | F6: Alps | I6: Buchi | J6: Davide | K6: 4 | L6: 64 | M6: 69 | N6: 69 | Q6: 202 | R6: 77.03 | S6: 76.43 | T6: 69.66 | U6: 73.34 | V6: 75.64 | Y6: 72.88 | Z6: 2 | AA6: 3 | AB6: 4 | AE6: 1 | AF6: 3 | AG6: 8 | AJ6: 4
A7: =IF(J7="","",CONCATENATE(J7," ",I7)) -> Robert Moran | B7: 46180 | C7: Open de la Mirabelle dOr | D7: La Grange aux Ormes | E7: France | F7: Alps | I7: Moran | J7: Robert | K7: 4 | L7: 64 | M7: 70 | N7: 68 | Q7: 202 | R7: 77.03 | S7: 76.43 | T7: 69.66 | U7: 74.34 | V7: 74.64 | Y7: 72.88 | Z7: 2 | AA7: 4 | AB7: 4 | AE7: 1 | AF7: 4 | AG7: 8 | AJ7: 4
A8: =IF(J8="","",CONCATENATE(J8," ",I8)) -> Gonzalo Leal | B8: 46180 | C8: Open de la Mirabelle dOr | D8: La Grange aux Ormes | E8: France | F8: Alps | I8: Leal | J8: Gonzalo | K8: 6 | L8: 64 | M8: 71 | N8: 68 | Q8: 203 | R8: 77.03 | S8: 76.43 | T8: 69.66 | U8: 75.34 | V8: 74.64 | Y8: 73.21 | Z8: 2 | AA8: 8 | AB8: 6 | AE8: 1 | AF8: 5 | AG8: 9 | AJ8: 6
A9: =IF(J9="","",CONCATENATE(J9," ",I9)) -> Valentin Peugnet | B9: 46180 | C9: Open de la Mirabelle dOr | D9: La Grange aux Ormes | E9: France | F9: Alps | I9: Peugnet | J9: Valentin | K9: 6 | L9: 71 | M9: 67 | N9: 65 | Q9: 203 | R9: 77.03 | S9: 76.43 | T9: 76.66 | U9: 71.34 | V9: 71.64 | Y9: 73.21 | Z9: 57 | AA9: 19 | AB9: 6 | AE9: 8 | AF9: 8 | AG9: 9 | AJ9: 6
A10: =IF(J10="","",CONCATENATE(J10," ",I10)) -> Alexandre Vandermoten | B10: 46180 | C10: Open de la Mirabelle dOr | D10: La Grange aux Ormes | E10: France | F10: Alps | I10: Vandermoten | J10: Alexandre | K10: 6 | L10: 66 | M10: 68 | N10: 69 | Q10: 203 | R10: 77.03 | S10: 76.43 | T10: 71.66 | U10: 72.34 | V10: 75.64 | Y10: 73.21 | Z10: 8 | AA10: 4 | AB10: 6 | AE10: 3 | AF10: 4 | AG10: 9 | AJ10: 6
A11: =IF(J11="","",CONCATENATE(J11," ",I11)) -> Pablo Alperi Lopez | B11: 46180 | C11: Open de la Mirabelle dOr | D11: La Grange aux Ormes | E11: France | F11: Alps | I11: Alperi Lopez | J11: Pablo | K11: 9 | L11: 68 | M11: 70 | N11: 66 | Q11: 204 | R11: 77.03 | S11: 76.43 | T11: 73.66 | U11: 74.34 | V11: 72.64 | Y11: 73.55 | Z11: 19 | AA11: 19 | AB11: 9 | AE11: 5 | AF11: 8 | AG11: 10 | AJ11: 9
A12: =IF(J12="","",CONCATENATE(J12," ",I12)) -> Filippo Bergamaschi | B12: 46180 | C12: Open de la Mirabelle dOr | D12: La Grange aux Ormes | E12: France | F12: Alps | I12: Bergamaschi | J12: Filippo | K12: 9 | L12: 69 | M12: 65 | N12: 70 | Q12: 204 | R12: 77.03 | S12: 76.43 | T12: 74.66 | U12: 69.34 | V12: 76.64 | Y12: 73.55 | Z12: 33 | AA12: 4 | AB12: 9 | AE12: 6 | AF12: 4 | AG12: 10 | AJ12: 9
A13: =IF(J13="","",CONCATENATE(J13," ",I13)) -> Theo Boulet | B13: 46180 | C13: Open de la Mirabelle dOr | D13: La Grange aux Ormes | E13: France | F13: Alps | I13: Boulet | J13: Theo | K13: 9 | L13: 67 | M13: 71 | N13: 66 | Q13: 204 | R13: 77.03 | S13: 76.43 | T13: 72.66 | U13: 75.34 | V13: 72.64 | Y13: 73.55 | Z13: 13 | AA13: 19 | AB13: 9 | AE13: 4 | AF13: 8 | AG13: 10 | AJ13: 9
A14: =IF(J14="","",CONCATENATE(J14," ",I14)) -> Brandon Dietzel | B14: 46180 | C14: Open de la Mirabelle dOr | D14: La Grange aux Ormes | E14: France | F14: Alps | I14: Dietzel | J14: Brandon | K14: 12 | L14: 68 | M14: 71 | N14: 66 | Q14: 205 | R14: 77.03 | S14: 76.43 | T14: 73.66 | U14: 75.34 | V14: 72.64 | Y14: 73.88 | Z14: 19 | AA14: 31 | AB14: 12 | AE14: 5 | AF14: 9 | AG14: 11 | AJ14: 12
... A50: =IF(J50="","",CONCATENATE(J50," ",I50)) -> Matheo Guitton | B50: 46180 | C50: Open de la Mirabelle dOr | D50: La Grange aux Ormes | E50: France | F50: Alps | I50: Guitton | J50: Matheo | K50: 47 | L50: 68 | M50: 72 | N50: 74 | Q50: 214 | R50: 77.03 | S50: 76.43 | T50: 73.66 | U50: 76.34 | V50: 80.64 | Y50: 76.88 | Z50: 19 | AA50: 41 | AB50: 47 | AE50: 5 | AF50: 10 | AG50: 20 | AJ50: 47
A51: =IF(J51="","",CONCATENATE(J51," ",I51)) -> Josef Hacker | B51: 46180 | C51: Open de la Mirabelle dOr | D51: La Grange aux Ormes | E51: France | F51: Alps | I51: Hacker | J51: Josef | K51: mc | L51: 71 | M51: 70 | Q51: 141 | R51: 77.03 | S51: 76.43 | T51: 76.66 | U51: 74.34 | Y51: 75.5 | Z51: 57 | AA51: 49 | AE51: 8 | AF51: 11 | AJ51: 49
A52: =IF(J52="","",CONCATENATE(J52," ",I52)) -> Jorge Maicas | B52: 46180 | C52: Open de la Mirabelle dOr | D52: La Grange aux Ormes | E52: France | F52: Alps | I52: Maicas | J52: Jorge | K52: mc | L52: 69 | M52: 72 | Q52: 141 | R52: 77.03 | S52: 76.43 | T52: 74.66 | U52: 76.34 | Y52: 75.5 | Z52: 33 | AA52: 49 | AE52: 6 | AF52: 11 | AJ52: 49
A53: =IF(J53="","",CONCATENATE(J53," ",I53)) -> Luca Memeo | B53: 46180 | C53: Open de la Mirabelle dOr | D53: La Grange aux Ormes | E53: France | F53: Alps | I53: Memeo | J53: Luca | K53: mc | L53: 69 | M53: 72 | Q53: 141 | R53: 77.03 | S53: 76.43 | T53: 74.66 | U53: 76.34 | Y53: 75.5 | Z53: 33 | AA53: 49 | AE53: 6 | AF53: 11 | AJ53: 49
A54: =IF(J54="","",CONCATENATE(J54," ",I54)) -> Manuel Morugan | B54: 46180 | C54: Open de la Mirabelle dOr | D54: La Grange aux Ormes | E54: France | F54: Alps | I54: Morugan | J54: Manuel | K54: mc | L54: 74 | M54: 67 | Q54: 141 | R54: 77.03 | S54: 76.43 | T54: 79.66 | U54: 71.34 | Y54: 75.5 | Z54: 96 | AA54: 49 | AE54: 11 | AF54: 11 | AJ54: 49
A55: =IF(J55="","",CONCATENATE(J55," ",I55)) -> Leonardo Rigotti | B55: 46180 | C55: Open de la Mirabelle dOr | D55: La Grange aux Ormes | E55: France | F55: Alps | I55: Rigotti | J55: Leonardo | K55: mc | L55: 70 | M55: 71 | Q55: 141 | R55: 77.03 | S55: 76.43 | T55: 75.66 | U55: 75.34 | Y55: 75.5 | Z55: 49 | AA55: 49 | AE55: 7 | AF55: 11 | AJ55: 49
A56: =IF(J56="","",CONCATENATE(J56," ",I56)) -> Archie Smith | B56: 46180 | C56: Open de la Mirabelle dOr | D56: La Grange aux Ormes | E56: France | F56: Alps | I56: Smith | J56: Archie | K56: mc | L56: 70 | M56: 71 | Q56: 141 | R56: 77.03 | S56: 76.43 | T56: 75.66 | U56: 75.34 | Y56: 75.5 | Z56: 49 | AA56: 49 | AE56: 7 | AF56: 11 | AJ56: 49
A57: =IF(J57="","",CONCATENATE(J57," ",I57)) -> Antoine Auboin | B57: 46180 | C57: Open de la Mirabelle dOr | D57: La Grange aux Ormes | E57: France | F57: Alps | I57: Auboin | J57: Antoine | K57: mc | L57: 71 | M57: 71 | Q57: 142 | R57: 77.03 | S57: 76.43 | T57: 76.66 | U57: 75.34 | Y57: 76 | Z57: 57 | AA57: 55 | AE57: 8 | AF57: 12 | AJ57: 55
A58: =IF(J58="","",CONCATENATE(J58," ",I58)) -> Adrien Bonnet | B58: 46180 | C58: Open de la Mirabelle dOr | D58: La Grange aux Ormes | E58: France | F58: Alps | I58: Bonnet | J58: Adrien | K58: mc | L58: 71 | M58: 71 | Q58: 142 | R58: 77.03 | S58: 76.43 | T58: 76.66 | U58: 75.34 | Y58: 76 | Z58: 57 | AA58: 55 | AE58: 8 | AF58: 12 | AJ58: 55
A59: =IF(J59="","",CONCATENATE(J59," ",I59)) -> Riccardo Cavina | B59: 46180 | C59: Open de la Mirabelle dOr | D59: La Grange aux Ormes | E59: France | F59: Alps | I59: Cavina | J59: Riccardo | K59: mc | L59: 67 | M59: 75 | Q59: 142 | R59: 77.03 | S59: 76.43 | T59: 72.66 | U59: 79.34 | Y59: 76 | Z59: 13 | AA59: 55 | AE59: 4 | AF59: 12 | AJ59: 55
A60: =IF(J60="","",CONCATENATE(J60," ",I60)) -> Thomas Delmas | B60: 46180 | C60: Open de la Mirabelle dOr | D60: La Grange aux Ormes | E60: France | F60: Alps | I60: Delmas | J60: Thomas | K60: mc | L60: 68 | M60: 74 | Q60: 142 | R60: 77.03 | S60: 76.43 | T60: 73.66 | U60: 78.34 | Y60: 76 | Z60: 19 | AA60: 55 | AE60: 5 | AF60: 12 | AJ60: 55
A61: =IF(J61="","",CONCATENATE(J61," ",I61)) -> Martin Engel | B61: 46180 | C61: Open de la Mirabelle dOr | D61: La Grange aux Ormes | E61: France | F61: Alps | I61: Engel | J61: Martin | K61: mc | L61: 71 | M61: 71 | Q61: 142 | R61: 77.03 | S61: 76.43 | T61: 76.66 | U61: 75.34 | Y61: 76 | Z61: 57 | AA61: 55 | AE61: 8 | AF61: 12 | AJ61: 55
A62: =IF(J62="","",CONCATENATE(J62," ",I62)) -> Tom Gueant | B62: 46180 | C62: Open de la Mirabelle dOr | D62: La Grange aux Ormes | E62: France | F62: Alps | I62: Gueant | J62: Tom | K62: mc | L62: 72 | M62: 70 | Q62: 142 | R62: 77.03 | S62: 76.43 | T62: 77.66 | U62: 74.34 | Y62: 76 | Z62: 72 | AA62: 55 | AE62: 9 | AF62: 12 | AJ62: 55
... A129: =IF(J129="","",CONCATENATE(J129," ",I129)) -> Johan Jansenss | B129: 46180 | C129: Open de la Mirabelle dOr | D129: La Grange aux Ormes | E129: France | F129: Alps | I129: Jansenss | J129: Johan | K129: mc | L129: 86 | M129: 83 | Q129: 169 | R129: 77.03 | S129: 76.43 | T129: 91.66 | U129: 87.34 | Y129: 89.5 | Z129: 131 | AA129: 127 | AE129: 23 | AF129: 39 | AJ129: 127
A130: =IF(J130="","",CONCATENATE(J130," ",I130)) -> Nicolas Calvet | B130: 46180 | C130: Open de la Mirabelle dOr | D130: La Grange aux Ormes | E130: France | F130: Alps | I130: Calvet | J130: Nicolas | K130: w | L130: 75 | Q130: 75 | R130: 77.03 | S130: 76.43 | T130: 80.66 | Y130: 80.66 | Z130: 108 | AE130: 12 | AJ130: 128
A131: =IF(J131="","",CONCATENATE(J131," ",I131)) -> Elia Dallanegra | B131: 46180 | C131: Open de la Mirabelle dOr | D131: La Grange aux Ormes | E131: France | F131: Alps | I131: Dallanegra | J131: Elia | K131: w | L131: 73 | Q131: 73 | R131: 77.03 | S131: 76.43 | T131: 78.66 | Y131: 78.66 | Z131: 83 | AE131: 10 | AJ131: 128
A132: =IF(J132="","",CONCATENATE(J132," ",I132)) -> Hermes Ferchaud | B132: 46180 | C132: Open de la Mirabelle dOr | D132: La Grange aux Ormes | E132: France | F132: Alps | I132: Ferchaud | J132: Hermes | K132: w | L132: 72 | Q132: 72 | R132: 77.03 | S132: 76.43 | T132: 77.66 | Y132: 77.66 | Z132: 72 | AE132: 9 | AJ132: 128
A133: =IF(J133="","",CONCATENATE(J133," ",I133)) -> Niki Ferrari | B133: 46180 | C133: Open de la Mirabelle dOr | D133: La Grange aux Ormes | E133: France | F133: Alps | I133: Ferrari | J133: Niki | K133: d | L133: 76 | Q133: 76 | R133: 77.03 | S133: 76.43 | T133: 81.66 | Y133: 81.66 | Z133: 114 | AE133: 13 | AJ133: 128
A134: =IF(J134="","",CONCATENATE(J134," ",I134)) -> Corey Pereira | B134: 46180 | C134: Mexico Championship | D134: La Hacienda | E134: Mexico | F134: Americas | I134: Pereira | J134: Corey | K134: 1 | L134: 63 | M134: 68 | N134: 66 | O134: 65 | Q134: 262 | R134: 73.43 | S134: 73.13 | T134: 64.81 | U134: 70.25 | V134: 70.12 | W134: 68.3 | Y134: 68.37 | Z134: 1 | AA134: 1 | AB134: 1 | AC134: 1 | AE134: 0 | AF134: 0 | AG134: -2 | AH134: -4 | AJ134: 1
A135: =IF(J135="","",CONCATENATE(J135," ",I135)) -> Riley Lewis | B135: 46180 | C135: Mexico Championship | D135: La Hacienda | E135: Mexico | F135: Americas | I135: Lewis | J135: Riley | K135: 2 | L135: 64 | M135: 67 | N135: 68 | O135: 67 | Q135: 266 | R135: 73.43 | S135: 73.13 | T135: 65.81 | U135: 69.25 | V135: 72.12 | W135: 70.3 | Y135: 69.37 | Z135: 3 | AA135: 1 | AB135: 2 | AC135: 2 | AE135: 1 | AF135: 0 | AG135: 2 | AH135: 4 | AJ135: 2
A136: =IF(J136="","",CONCATENATE(J136," ",I136)) -> Mason Williams | B136: 46180 | C136: Mexico Championship | D136: La Hacienda | E136: Mexico | F136: Americas | I136: Williams | J136: Mason | K136: 3 | L136: 69 | M136: 64 | N136: 69 | O136: 67 | Q136: 269 | R136: 73.43 | S136: 73.13 | T136: 70.81 | U136: 66.25 | V136: 73.12 | W136: 70.3 | Y136: 70.12 | Z136: 22 | AA136: 3 | AB136: 4 | AC136: 3 | AE136: 6 | AF136: 2 | AG136: 5 | AH136: 7 | AJ136: 3
A137: =IF(J137="","",CONCATENATE(J137," ",I137)) -> Thomas Ponder | B137: 46180 | C137: Mexico Championship | D137: La Hacienda | E137: Mexico | F137: Americas | I137: Ponder | J137: Thomas | K137: 4 | L137: 68 | M137: 69 | N137: 67 | O137: 66 | Q137: 270 | R137: 73.43 | S137: 73.13 | T137: 69.81 | U137: 71.25 | V137: 71.12 | W137: 69.3 | Y137: 70.37 | Z137: 13 | AA137: 15 | AB137: 6 | AC137: 4 | AE137: 5 | AF137: 6 | AG137: 7 | AH137: 8 | AJ137: 4
A138: =IF(J138="","",CONCATENATE(J138," ",I138)) -> Omar Morales | B138: 46180 | C138: Mexico Championship | D138: La Hacienda | E138: Mexico | F138: Americas | I138: Morales | J138: Omar | K138: 5 | L138: 68 | M138: 66 | N138: 70 | O138: 67 | Q138: 271 | R138: 73.43 | S138: 73.13 | T138: 69.81 | U138: 68.25 | V138: 74.12 | W138: 70.3 | Y138: 70.62 | Z138: 13 | AA138: 5 | AB138: 6 | AC138: 5 | AE138: 5 | AF138: 3 | AG138: 7 | AH138: 9 | AJ138: 5
A139: =IF(J139="","",CONCATENATE(J139," ",I139)) -> Harry Lord | B139: 46180 | C139: Mexico Championship | D139: La Hacienda | E139: Mexico | F139: Americas | I139: Lord | J139: Harry | K139: 6 | L139: 66 | M139: 71 | N139: 68 | O139: 67 | Q139: 272 | R139: 73.43 | S139: 73.13 | T139: 67.81 | U139: 73.25 | V139: 72.12 | W139: 70.3 | Y139: 70.87 | Z139: 5 | AA139: 15 | AB139: 12 | AC139: 6 | AE139: 3 | AF139: 6 | AG139: 8 | AH139: 10 | AJ139: 6
A140: =IF(J140="","",CONCATENATE(J140," ",I140)) -> Brady McKinlay | B140: 46180 | C140: Mexico Championship | D140: La Hacienda | E140: Mexico | F140: Americas | I140: McKinlay | J140: Brady | K140: 6 | L140: 65 | M140: 71 | N140: 68 | O140: 68 | Q140: 272 | R140: 73.43 | S140: 73.13 | T140: 66.81 | U140: 73.25 | V140: 72.12 | W140: 71.3 | Y140: 70.87 | Z140: 4 | AA140: 8 | AB140: 6 | AC140: 6 | AE140: 2 | AF140: 5 | AG140: 7 | AH140: 10 | AJ140: 6
A141: =IF(J141="","",CONCATENATE(J141," ",I141)) -> Mats Ege | B141: 46180 | C141: Mexico Championship | D141: La Hacienda | E141: Mexico | F141: Americas | I141: Ege | J141: Mats | K141: 8 | L141: 69 | M141: 69 | N141: 68 | O141: 67 | Q141: 273 | R141: 73.43 | S141: 73.13 | T141: 70.81 | U141: 71.25 | V141: 72.12 | W141: 70.3 | Y141: 71.12 | Z141: 22 | AA141: 20 | AB141: 14 | AC141: 8 | AE141: 6 | AF141: 7 | AG141: 9 | AH141: 11 | AJ141: 8
...

Sheet Record
A1: Win | D1: FRL | G1: Top3: Win | J1: Top3: FRL | N1: WIN | O1: Rank | P1: Player | Q1: P/L | R1: E/W Play | U1: FRL | V1: Rank | W1: Player | X1: P/L | Y1: E/W Play
A2: Stakes | B2: Profit | D2: Stakes | E2: Profit | G2: Stakes | H2: Profit | J2: Stakes | K2: Profit | O2: 1 | P2: =IFERROR(OFFSET(Picks!A$1,MATCH($O2,Picks!$F:$F,0)-1,0),"") -> Suguru Shimoke | Q2: =IFERROR(OFFSET(Picks!I$1,MATCH($O2,Picks!$F:$F,0)-1,0),"") -> -2 | R2: =IFERROR(OFFSET(Picks!J$1,MATCH($O2,Picks!$F:$F,0)-1,0),"") -> Bet365: 200/1, 5pl, 1/4 | V2: 1 | W2: =IFERROR(OFFSET(Picks!M$1,MATCH($O2,Picks!$R:$R,0)-1,0),"") | X2: =IFERROR(OFFSET(Picks!U$1,MATCH($O2,Picks!$R:$R,0)-1,0),"") | Y2: =IFERROR(OFFSET(Picks!V$1,MATCH($O2,Picks!$R:$R,0)-1,0),"")
A3: {=IF(100*SUMPRODUCT((Win!F:F<>"") * IFERROR(--Win!E:E, 0))=0,"",100*SUMPRODUCT((Win!F:F<>"") * IFERROR(--Win!E:E, 0)))} -> 1.4 | B3: =IF(AND(A3="",SUM(Win!G:G)=0),"",SUM(Win!G:G)) -> -1.4 | D3: {=IF(100*SUMPRODUCT((FRL!F:F<>"") * IFERROR(--FRL!E:E, 0))=0,"",100*SUMPRODUCT((FRL!F:F<>"") * IFERROR(--FRL!E:E, 0)))} | E3: =IF(AND(D3="",SUM(FRL!G:G)=0),"",SUM(FRL!G:G)) | G3: =IF(T3Picks!B2="","",2*(3-COUNTBLANK(T3Picks!A2:A4))) -> 6 | H3: =IF(T3Picks!B2="","",SUM(T3Picks!G2:G4)) -> -6 | J3: =IF(T3Picks!B5="","",2*(3-COUNTBLANK(T3Picks!A5:A7))) | K3: =IF(T3Picks!B5="","",SUM(T3Picks!G5:G7)) | O3: 2 | P3: =IFERROR(OFFSET(Picks!A$1,MATCH($O3,Picks!$F:$F,0)-1,0),"") -> Sejung Hiramoto | Q3: =IFERROR(OFFSET(Picks!I$1,MATCH($O3,Picks!$F:$F,0)-1,0),"") -> -2 | R3: =IFERROR(OFFSET(Picks!J$1,MATCH($O3,Picks!$F:$F,0)-1,0),"") -> Bet365: 100/1, 5pl, 1/4 | V3: 2 | W3: =IFERROR(OFFSET(Picks!M$1,MATCH($O3,Picks!$R:$R,0)-1,0),"") | X3: =IFERROR(OFFSET(Picks!U$1,MATCH($O3,Picks!$R:$R,0)-1,0),"") | Y3: =IFERROR(OFFSET(Picks!V$1,MATCH($O3,Picks!$R:$R,0)-1,0),"")
O4: 3 | P4: =IFERROR(OFFSET(Picks!A$1,MATCH($O4,Picks!$F:$F,0)-1,0),"") -> Taiki Yoshida | Q4: =IFERROR(OFFSET(Picks!I$1,MATCH($O4,Picks!$F:$F,0)-1,0),"") -> -2 | R4: =IFERROR(OFFSET(Picks!J$1,MATCH($O4,Picks!$F:$F,0)-1,0),"") -> BetVictor: 50/1, 5pl, 1/4 | V4: 3 | W4: =IFERROR(OFFSET(Picks!M$1,MATCH($O4,Picks!$R:$R,0)-1,0),"") | X4: =IFERROR(OFFSET(Picks!U$1,MATCH($O4,Picks!$R:$R,0)-1,0),"") | Y4: =IFERROR(OFFSET(Picks!V$1,MATCH($O4,Picks!$R:$R,0)-1,0),"")
O5: 4 | P5: =IFERROR(OFFSET(Picks!A$1,MATCH($O5,Picks!$F:$F,0)-1,0),"") -> Yusaku Miyazato | Q5: =IFERROR(OFFSET(Picks!I$1,MATCH($O5,Picks!$F:$F,0)-1,0),"") -> -2 | R5: =IFERROR(OFFSET(Picks!J$1,MATCH($O5,Picks!$F:$F,0)-1,0),"") -> Bet365: 90/1, 5pl, 1/4 | V5: 4 | W5: =IFERROR(OFFSET(Picks!M$1,MATCH($O5,Picks!$R:$R,0)-1,0),"") | X5: =IFERROR(OFFSET(Picks!U$1,MATCH($O5,Picks!$R:$R,0)-1,0),"") | Y5: =IFERROR(OFFSET(Picks!V$1,MATCH($O5,Picks!$R:$R,0)-1,0),"")
O6: 5 | P6: =IFERROR(OFFSET(Picks!A$1,MATCH($O6,Picks!$F:$F,0)-1,0),"") -> Taiga Kobayashi | Q6: =IFERROR(OFFSET(Picks!I$1,MATCH($O6,Picks!$F:$F,0)-1,0),"") -> -2 | R6: =IFERROR(OFFSET(Picks!J$1,MATCH($O6,Picks!$F:$F,0)-1,0),"") -> Bet365: 300/1, 5pl, 1/4 | V6: 5 | W6: =IFERROR(OFFSET(Picks!M$1,MATCH($O6,Picks!$R:$R,0)-1,0),"") | X6: =IFERROR(OFFSET(Picks!U$1,MATCH($O6,Picks!$R:$R,0)-1,0),"") | Y6: =IFERROR(OFFSET(Picks!V$1,MATCH($O6,Picks!$R:$R,0)-1,0),"")
O7: 6 | P7: =IFERROR(OFFSET(Picks!A$1,MATCH($O7,Picks!$F:$F,0)-1,0),"") -> Satoshi Hara | Q7: =IFERROR(OFFSET(Picks!I$1,MATCH($O7,Picks!$F:$F,0)-1,0),"") -> -2 | R7: =IFERROR(OFFSET(Picks!J$1,MATCH($O7,Picks!$F:$F,0)-1,0),"") -> Bet365: 350/1, 5pl, 1/4 | V7: 6 | W7: =IFERROR(OFFSET(Picks!M$1,MATCH($O7,Picks!$R:$R,0)-1,0),"") | X7: =IFERROR(OFFSET(Picks!U$1,MATCH($O7,Picks!$R:$R,0)-1,0),"") | Y7: =IFERROR(OFFSET(Picks!V$1,MATCH($O7,Picks!$R:$R,0)-1,0),"")
O8: 7 | P8: =IFERROR(OFFSET(Picks!A$1,MATCH($O8,Picks!$F:$F,0)-1,0),"") -> Taisei Yamada | Q8: =IFERROR(OFFSET(Picks!I$1,MATCH($O8,Picks!$F:$F,0)-1,0),"") -> -2 | R8: =IFERROR(OFFSET(Picks!J$1,MATCH($O8,Picks!$F:$F,0)-1,0),"") -> Bet365: 400/1, 5pl, 1/4 | V8: 7 | W8: =IFERROR(OFFSET(Picks!M$1,MATCH($O8,Picks!$R:$R,0)-1,0),"") | X8: =IFERROR(OFFSET(Picks!U$1,MATCH($O8,Picks!$R:$R,0)-1,0),"") | Y8: =IFERROR(OFFSET(Picks!V$1,MATCH($O8,Picks!$R:$R,0)-1,0),"")
O9: 8 | P9: =IFERROR(OFFSET(Picks!A$1,MATCH($O9,Picks!$F:$F,0)-1,0),"") -> Todd Baek | Q9: =IFERROR(OFFSET(Picks!I$1,MATCH($O9,Picks!$F:$F,0)-1,0),"") -> -2 | R9: =IFERROR(OFFSET(Picks!J$1,MATCH($O9,Picks!$F:$F,0)-1,0),"") -> Bet365: 500/1, 5pl, 1/4 | V9: 8 | W9: =IFERROR(OFFSET(Picks!M$1,MATCH($O9,Picks!$R:$R,0)-1,0),"") | X9: =IFERROR(OFFSET(Picks!U$1,MATCH($O9,Picks!$R:$R,0)-1,0),"") | Y9: =IFERROR(OFFSET(Picks!V$1,MATCH($O9,Picks!$R:$R,0)-1,0),"")
O10: 9 | P10: =IFERROR(OFFSET(Picks!A$1,MATCH($O10,Picks!$F:$F,0)-1,0),"") -> Shintaro Ban | Q10: =IFERROR(OFFSET(Picks!I$1,MATCH($O10,Picks!$F:$F,0)-1,0),"") -> -2 | R10: =IFERROR(OFFSET(Picks!J$1,MATCH($O10,Picks!$F:$F,0)-1,0),"") -> Bet365: 600/1, 5pl, 1/4 | V10: 9 | W10: =IFERROR(OFFSET(Picks!M$1,MATCH($O10,Picks!$R:$R,0)-1,0),"") | X10: =IFERROR(OFFSET(Picks!U$1,MATCH($O10,Picks!$R:$R,0)-1,0),"") | Y10: =IFERROR(OFFSET(Picks!V$1,MATCH($O10,Picks!$R:$R,0)-1,0),"")
O11: 10 | P11: =IFERROR(OFFSET(Picks!A$1,MATCH($O11,Picks!$F:$F,0)-1,0),"") -> Yuki Moriyama | Q11: =IFERROR(OFFSET(Picks!I$1,MATCH($O11,Picks!$F:$F,0)-1,0),"") -> -2 | R11: =IFERROR(OFFSET(Picks!J$1,MATCH($O11,Picks!$F:$F,0)-1,0),"") -> Bet365: 1000/1, 5pl, 1/4 | V11: 10 | W11: =IFERROR(OFFSET(Picks!M$1,MATCH($O11,Picks!$R:$R,0)-1,0),"") | X11: =IFERROR(OFFSET(Picks!U$1,MATCH($O11,Picks!$R:$R,0)-1,0),"") | Y11: =IFERROR(OFFSET(Picks!V$1,MATCH($O11,Picks!$R:$R,0)-1,0),"")
O12: 11 | P12: =IFERROR(OFFSET(Picks!A$1,MATCH($O12,Picks!$F:$F,0)-1,0),"") -> Yuta Kawakami | Q12: =IFERROR(OFFSET(Picks!I$1,MATCH($O12,Picks!$F:$F,0)-1,0),"") -> -2 | R12: =IFERROR(OFFSET(Picks!J$1,MATCH($O12,Picks!$F:$F,0)-1,0),"") -> Bet365: 1500/1, 5pl, 1/4 | V12: 11 | W12: =IFERROR(OFFSET(Picks!M$1,MATCH($O12,Picks!$R:$R,0)-1,0),"") | X12: =IFERROR(OFFSET(Picks!U$1,MATCH($O12,Picks!$R:$R,0)-1,0),"") | Y12: =IFERROR(OFFSET(Picks!V$1,MATCH($O12,Picks!$R:$R,0)-1,0),"")
O13: 12 | P13: =IFERROR(OFFSET(Picks!A$1,MATCH($O13,Picks!$F:$F,0)-1,0),"") | Q13: =IFERROR(OFFSET(Picks!I$1,MATCH($O13,Picks!$F:$F,0)-1,0),"") | R13: =IFERROR(OFFSET(Picks!J$1,MATCH($O13,Picks!$F:$F,0)-1,0),"") | V13: 12 | W13: =IFERROR(OFFSET(Picks!M$1,MATCH($O13,Picks!$R:$R,0)-1,0),"") | X13: =IFERROR(OFFSET(Picks!U$1,MATCH($O13,Picks!$R:$R,0)-1,0),"") | Y13: =IFERROR(OFFSET(Picks!V$1,MATCH($O13,Picks!$R:$R,0)-1,0),"")
A27: WIN | B27: 1 | C27: 2 | D27: 3 | E27: 4 | F27: 5 | G27: 6 | H27: 7 | I27: 8 | J27: 9 | K27: 10 | L27: 11 | M27: 12 | N27: FRL | O27: 1 | P27: 2 | Q27: 3 | R27: 4 | S27: 5 | T27: 6 | U27: 7 | V27: 8 | W27: 9 | X27: 10 | Y27: 11 | Z27: 12
B28: =Q2*3 -> -6 | C28: =SUM(Q2:Q3)*1.5 -> -6 | D28: =SUM(Q2:Q4) -> -6 | E28: =SUM(Q2:Q5)*3/4 -> -6 | F28: =SUM(Q2:Q6)*3/5 -> -6 | G28: =SUM(Q2:Q7)*3/6 -> -6 | H28: =SUM(Q2:Q8)*3/7 -> -6 | I28: =SUM(Q2:Q9)*3/8 -> -6 | J28: =SUM(Q2:Q10)*3/9 -> -6 | K28: =SUM(Q2:Q11)*3/10 -> -6 | L28: =SUM(Q2:Q12)*3/11 -> -6 | M28: =SUM(Q2:Q13)*3/12 -> -5.5 | O28: =X2*3 -> #VALUE! | P28: =SUM(X2:X3)*1.5 -> 0 | Q28: =SUM(X2:X4) -> 0 | R28: =SUM(X2:X5)*3/4 -> 0 | S28: =SUM(X2:X6)*3/5 -> 0 | T28: =SUM(X2:X7)*3/6 -> 0 | U28: =SUM(X2:X8)*3/7 -> 0 | V28: =SUM(X2:X9)*3/9 -> 0 | W28: =SUM(X2:X10)*3/9 -> 0 | X28: =SUM(X2:X11)*3/10 -> 0 | Y28: =SUM(X2:X12)*3/11 -> 0 | Z28: =SUM(X2:X13)*3/12 -> 0

Sheet Win
A1: Player | B1: Win % | C1: TT Odds | D1: Best Odds | E1: Kelly | F1: Result | G1: P/L | H1: E/W Play
A2: Aguri Iwasaki | B2: 1.38% | C2: 72 | D2: 34 | F2: =IFERROR(IF(A2="","",OFFSET(Results!$AJ$1,MATCH(A2,Results!$A:$A,0)-1,0)),"") -> 16 | G2: =IF(OR(E2="",F2=""),"",IF(F2=1,(IF(COUNTIFS(F:F,"<="&F2)<=1,1,(1-COUNTIFS(F:F,"<"&F2))/COUNTIFS(F:F,F2)))*50*E2*(1+VALUE(MID(H2,FIND(": ",H2)+2,FIND("/",H2)-FIND(":",H2)-2))-1)+50*E2*(1+VALUE(MID(H2,FIND(": ",H2)+2,FIND("/",H2)-FIND(":",H2)-2))-1)/VALUE(RIGHT(H2,1)),IF(F2<=VALUE(MID(H2,FIND(", ",H2)+2,IF(MID(H2,FIND(", ",H2)+2,1)="1",2,1))),(IF(COUNTIFS(F:F,"<="&F2)<=VALUE(MID(H2,FIND(", ",H2)+2,IF(MID(H2,FIND(", ",H2)+2,1)="1",2,1))),1,(VALUE(MID(H2,FIND(", ",H2)+2,IF(MID(H2,FIND(", ",H2)+2,1)="1",2,1)))-COUNTIFS(F:F,"<"&F2))/COUNTIFS(F:F,F2)))*(50*E2*(1+VALUE(MID(H2,FIND(": ",H2)+2,FIND("/",H2)-FIND(":",H2)-2))-1)/VALUE(RIGHT(H2,1))+50*E2)-(100*E2),-E2*100))) | H2: =IF(E2="","",OFFSET([1]Japan!$AL$1,MATCH(A2,[1]Japan!$E$1:$E$500,0)-1,0))
A3: Akira Endo | B3: 0.01% | C3: 10000 | D3: 2001 | F3: =IFERROR(IF(A3="","",OFFSET(Results!$AJ$1,MATCH(A3,Results!$A:$A,0)-1,0)),"") -> 111 | G3: =IF(OR(E3="",F3=""),"",IF(F3=1,(IF(COUNTIFS(F:F,"<="&F3)<=1,1,(1-COUNTIFS(F:F,"<"&F3))/COUNTIFS(F:F,F3)))*50*E3*(1+VALUE(MID(H3,FIND(": ",H3)+2,FIND("/",H3)-FIND(":",H3)-2))-1)+50*E3*(1+VALUE(MID(H3,FIND(": ",H3)+2,FIND("/",H3)-FIND(":",H3)-2))-1)/VALUE(RIGHT(H3,1)),IF(F3<=VALUE(MID(H3,FIND(", ",H3)+2,IF(MID(H3,FIND(", ",H3)+2,1)="1",2,1))),(IF(COUNTIFS(F:F,"<="&F3)<=VALUE(MID(H3,FIND(", ",H3)+2,IF(MID(H3,FIND(", ",H3)+2,1)="1",2,1))),1,(VALUE(MID(H3,FIND(", ",H3)+2,IF(MID(H3,FIND(", ",H3)+2,1)="1",2,1)))-COUNTIFS(F:F,"<"&F3))/COUNTIFS(F:F,F3)))*(50*E3*(1+VALUE(MID(H3,FIND(": ",H3)+2,FIND("/",H3)-FIND(":",H3)-2))-1)/VALUE(RIGHT(H3,1))+50*E3)-(100*E3),-E3*100))) | H3: =IF(E3="","",OFFSET([1]Japan!$AL$1,MATCH(A3,[1]Japan!$E$1:$E$500,0)-1,0))
A4: Aoki Takano | B4: 0.05% | C4: 2000 | D4: 501 | F4: =IFERROR(IF(A4="","",OFFSET(Results!$AJ$1,MATCH(A4,Results!$A:$A,0)-1,0)),"") -> 68 | G4: =IF(OR(E4="",F4=""),"",IF(F4=1,(IF(COUNTIFS(F:F,"<="&F4)<=1,1,(1-COUNTIFS(F:F,"<"&F4))/COUNTIFS(F:F,F4)))*50*E4*(1+VALUE(MID(H4,FIND(": ",H4)+2,FIND("/",H4)-FIND(":",H4)-2))-1)+50*E4*(1+VALUE(MID(H4,FIND(": ",H4)+2,FIND("/",H4)-FIND(":",H4)-2))-1)/VALUE(RIGHT(H4,1)),IF(F4<=VALUE(MID(H4,FIND(", ",H4)+2,IF(MID(H4,FIND(", ",H4)+2,1)="1",2,1))),(IF(COUNTIFS(F:F,"<="&F4)<=VALUE(MID(H4,FIND(", ",H4)+2,IF(MID(H4,FIND(", ",H4)+2,1)="1",2,1))),1,(VALUE(MID(H4,FIND(", ",H4)+2,IF(MID(H4,FIND(", ",H4)+2,1)="1",2,1)))-COUNTIFS(F:F,"<"&F4))/COUNTIFS(F:F,F4)))*(50*E4*(1+VALUE(MID(H4,FIND(": ",H4)+2,FIND("/",H4)-FIND(":",H4)-2))-1)/VALUE(RIGHT(H4,1))+50*E4)-(100*E4),-E4*100))) | H4: =IF(E4="","",OFFSET([1]Japan!$AL$1,MATCH(A4,[1]Japan!$E$1:$E$500,0)-1,0))
A5: Dai Takeuchi | B5: 0.02% | C5: 5000 | D5: 1001 | F5: =IFERROR(IF(A5="","",OFFSET(Results!$AJ$1,MATCH(A5,Results!$A:$A,0)-1,0)),"") -> 105 | G5: =IF(OR(E5="",F5=""),"",IF(F5=1,(IF(COUNTIFS(F:F,"<="&F5)<=1,1,(1-COUNTIFS(F:F,"<"&F5))/COUNTIFS(F:F,F5)))*50*E5*(1+VALUE(MID(H5,FIND(": ",H5)+2,FIND("/",H5)-FIND(":",H5)-2))-1)+50*E5*(1+VALUE(MID(H5,FIND(": ",H5)+2,FIND("/",H5)-FIND(":",H5)-2))-1)/VALUE(RIGHT(H5,1)),IF(F5<=VALUE(MID(H5,FIND(", ",H5)+2,IF(MID(H5,FIND(", ",H5)+2,1)="1",2,1))),(IF(COUNTIFS(F:F,"<="&F5)<=VALUE(MID(H5,FIND(", ",H5)+2,IF(MID(H5,FIND(", ",H5)+2,1)="1",2,1))),1,(VALUE(MID(H5,FIND(", ",H5)+2,IF(MID(H5,FIND(", ",H5)+2,1)="1",2,1)))-COUNTIFS(F:F,"<"&F5))/COUNTIFS(F:F,F5)))*(50*E5*(1+VALUE(MID(H5,FIND(": ",H5)+2,FIND("/",H5)-FIND(":",H5)-2))-1)/VALUE(RIGHT(H5,1))+50*E5)-(100*E5),-E5*100))) | H5: =IF(E5="","",OFFSET([1]Japan!$AL$1,MATCH(A5,[1]Japan!$E$1:$E$500,0)-1,0))
A6: Daijiro Izumida | B6: 0.56% | C6: 179 | D6: 176 | F6: =IFERROR(IF(A6="","",OFFSET(Results!$AJ$1,MATCH(A6,Results!$A:$A,0)-1,0)),"") -> 53 | G6: =IF(OR(E6="",F6=""),"",IF(F6=1,(IF(COUNTIFS(F:F,"<="&F6)<=1,1,(1-COUNTIFS(F:F,"<"&F6))/COUNTIFS(F:F,F6)))*50*E6*(1+VALUE(MID(H6,FIND(": ",H6)+2,FIND("/",H6)-FIND(":",H6)-2))-1)+50*E6*(1+VALUE(MID(H6,FIND(": ",H6)+2,FIND("/",H6)-FIND(":",H6)-2))-1)/VALUE(RIGHT(H6,1)),IF(F6<=VALUE(MID(H6,FIND(", ",H6)+2,IF(MID(H6,FIND(", ",H6)+2,1)="1",2,1))),(IF(COUNTIFS(F:F,"<="&F6)<=VALUE(MID(H6,FIND(", ",H6)+2,IF(MID(H6,FIND(", ",H6)+2,1)="1",2,1))),1,(VALUE(MID(H6,FIND(", ",H6)+2,IF(MID(H6,FIND(", ",H6)+2,1)="1",2,1)))-COUNTIFS(F:F,"<"&F6))/COUNTIFS(F:F,F6)))*(50*E6*(1+VALUE(MID(H6,FIND(": ",H6)+2,FIND("/",H6)-FIND(":",H6)-2))-1)/VALUE(RIGHT(H6,1))+50*E6)-(100*E6),-E6*100))) | H6: =IF(E6="","",OFFSET([1]Japan!$AL$1,MATCH(A6,[1]Japan!$E$1:$E$500,0)-1,0))
A7: Daiki Imano | B7: 0.38% | C7: 263 | D7: 151 | F7: =IFERROR(IF(A7="","",OFFSET(Results!$AJ$1,MATCH(A7,Results!$A:$A,0)-1,0)),"") -> 34 | G7: =IF(OR(E7="",F7=""),"",IF(F7=1,(IF(COUNTIFS(F:F,"<="&F7)<=1,1,(1-COUNTIFS(F:F,"<"&F7))/COUNTIFS(F:F,F7)))*50*E7*(1+VALUE(MID(H7,FIND(": ",H7)+2,FIND("/",H7)-FIND(":",H7)-2))-1)+50*E7*(1+VALUE(MID(H7,FIND(": ",H7)+2,FIND("/",H7)-FIND(":",H7)-2))-1)/VALUE(RIGHT(H7,1)),IF(F7<=VALUE(MID(H7,FIND(", ",H7)+2,IF(MID(H7,FIND(", ",H7)+2,1)="1",2,1))),(IF(COUNTIFS(F:F,"<="&F7)<=VALUE(MID(H7,FIND(", ",H7)+2,IF(MID(H7,FIND(", ",H7)+2,1)="1",2,1))),1,(VALUE(MID(H7,FIND(", ",H7)+2,IF(MID(H7,FIND(", ",H7)+2,1)="1",2,1)))-COUNTIFS(F:F,"<"&F7))/COUNTIFS(F:F,F7)))*(50*E7*(1+VALUE(MID(H7,FIND(": ",H7)+2,FIND("/",H7)-FIND(":",H7)-2))-1)/VALUE(RIGHT(H7,1))+50*E7)-(100*E7),-E7*100))) | H7: =IF(E7="","",OFFSET([1]Japan!$AL$1,MATCH(A7,[1]Japan!$E$1:$E$500,0)-1,0))
A8: Daisuke Kataoka | B8: 0.34% | C8: 294 | D8: 161 | F8: =IFERROR(IF(A8="","",OFFSET(Results!$AJ$1,MATCH(A8,Results!$A:$A,0)-1,0)),"") -> 115 | G8: =IF(OR(E8="",F8=""),"",IF(F8=1,(IF(COUNTIFS(F:F,"<="&F8)<=1,1,(1-COUNTIFS(F:F,"<"&F8))/COUNTIFS(F:F,F8)))*50*E8*(1+VALUE(MID(H8,FIND(": ",H8)+2,FIND("/",H8)-FIND(":",H8)-2))-1)+50*E8*(1+VALUE(MID(H8,FIND(": ",H8)+2,FIND("/",H8)-FIND(":",H8)-2))-1)/VALUE(RIGHT(H8,1)),IF(F8<=VALUE(MID(H8,FIND(", ",H8)+2,IF(MID(H8,FIND(", ",H8)+2,1)="1",2,1))),(IF(COUNTIFS(F:F,"<="&F8)<=VALUE(MID(H8,FIND(", ",H8)+2,IF(MID(H8,FIND(", ",H8)+2,1)="1",2,1))),1,(VALUE(MID(H8,FIND(", ",H8)+2,IF(MID(H8,FIND(", ",H8)+2,1)="1",2,1)))-COUNTIFS(F:F,"<"&F8))/COUNTIFS(F:F,F8)))*(50*E8*(1+VALUE(MID(H8,FIND(": ",H8)+2,FIND("/",H8)-FIND(":",H8)-2))-1)/VALUE(RIGHT(H8,1))+50*E8)-(100*E8),-E8*100))) | H8: =IF(E8="","",OFFSET([1]Japan!$AL$1,MATCH(A8,[1]Japan!$E$1:$E$500,0)-1,0))
A9: Eric Sugimoto | B9: 0.07% | C9: 1429 | D9: 501 | F9: =IFERROR(IF(A9="","",OFFSET(Results!$AJ$1,MATCH(A9,Results!$A:$A,0)-1,0)),"") -> 115 | G9: =IF(OR(E9="",F9=""),"",IF(F9=1,(IF(COUNTIFS(F:F,"<="&F9)<=1,1,(1-COUNTIFS(F:F,"<"&F9))/COUNTIFS(F:F,F9)))*50*E9*(1+VALUE(MID(H9,FIND(": ",H9)+2,FIND("/",H9)-FIND(":",H9)-2))-1)+50*E9*(1+VALUE(MID(H9,FIND(": ",H9)+2,FIND("/",H9)-FIND(":",H9)-2))-1)/VALUE(RIGHT(H9,1)),IF(F9<=VALUE(MID(H9,FIND(", ",H9)+2,IF(MID(H9,FIND(", ",H9)+2,1)="1",2,1))),(IF(COUNTIFS(F:F,"<="&F9)<=VALUE(MID(H9,FIND(", ",H9)+2,IF(MID(H9,FIND(", ",H9)+2,1)="1",2,1))),1,(VALUE(MID(H9,FIND(", ",H9)+2,IF(MID(H9,FIND(", ",H9)+2,1)="1",2,1)))-COUNTIFS(F:F,"<"&F9))/COUNTIFS(F:F,F9)))*(50*E9*(1+VALUE(MID(H9,FIND(": ",H9)+2,FIND("/",H9)-FIND(":",H9)-2))-1)/VALUE(RIGHT(H9,1))+50*E9)-(100*E9),-E9*100))) | H9: =IF(E9="","",OFFSET([1]Japan!$AL$1,MATCH(A9,[1]Japan!$E$1:$E$500,0)-1,0))
A10: Genki Okada | B10: 0.20% | C10: 500 | D10: 401 | F10: =IFERROR(IF(A10="","",OFFSET(Results!$AJ$1,MATCH(A10,Results!$A:$A,0)-1,0)),"") -> 12 | G10: =IF(OR(E10="",F10=""),"",IF(F10=1,(IF(COUNTIFS(F:F,"<="&F10)<=1,1,(1-COUNTIFS(F:F,"<"&F10))/COUNTIFS(F:F,F10)))*50*E10*(1+VALUE(MID(H10,FIND(": ",H10)+2,FIND("/",H10)-FIND(":",H10)-2))-1)+50*E10*(1+VALUE(MID(H10,FIND(": ",H10)+2,FIND("/",H10)-FIND(":",H10)-2))-1)/VALUE(RIGHT(H10,1)),IF(F10<=VALUE(MID(H10,FIND(", ",H10)+2,IF(MID(H10,FIND(", ",H10)+2,1)="1",2,1))),(IF(COUNTIFS(F:F,"<="&F10)<=VALUE(MID(H10,FIND(", ",H10)+2,IF(MID(H10,FIND(", ",H10)+2,1)="1",2,1))),1,(VALUE(MID(H10,FIND(", ",H10)+2,IF(MID(H10,FIND(", ",H10)+2,1)="1",2,1)))-COUNTIFS(F:F,"<"&F10))/COUNTIFS(F:F,F10)))*(50*E10*(1+VALUE(MID(H10,FIND(": ",H10)+2,FIND("/",H10)-FIND(":",H10)-2))-1)/VALUE(RIGHT(H10,1))+50*E10)-(100*E10),-E10*100))) | H10: =IF(E10="","",OFFSET([1]Japan!$AL$1,MATCH(A10,[1]Japan!$E$1:$E$500,0)-1,0))
A11: Genzo Tokimatsu | B11: 0.08% | C11: 1250 | D11: 1001 | F11: =IFERROR(IF(A11="","",OFFSET(Results!$AJ$1,MATCH(A11,Results!$A:$A,0)-1,0)),"") -> 31 | G11: =IF(OR(E11="",F11=""),"",IF(F11=1,(IF(COUNTIFS(F:F,"<="&F11)<=1,1,(1-COUNTIFS(F:F,"<"&F11))/COUNTIFS(F:F,F11)))*50*E11*(1+VALUE(MID(H11,FIND(": ",H11)+2,FIND("/",H11)-FIND(":",H11)-2))-1)+50*E11*(1+VALUE(MID(H11,FIND(": ",H11)+2,FIND("/",H11)-FIND(":",H11)-2))-1)/VALUE(RIGHT(H11,1)),IF(F11<=VALUE(MID(H11,FIND(", ",H11)+2,IF(MID(H11,FIND(", ",H11)+2,1)="1",2,1))),(IF(COUNTIFS(F:F,"<="&F11)<=VALUE(MID(H11,FIND(", ",H11)+2,IF(MID(H11,FIND(", ",H11)+2,1)="1",2,1))),1,(VALUE(MID(H11,FIND(", ",H11)+2,IF(MID(H11,FIND(", ",H11)+2,1)="1",2,1)))-COUNTIFS(F:F,"<"&F11))/COUNTIFS(F:F,F11)))*(50*E11*(1+VALUE(MID(H11,FIND(": ",H11)+2,FIND("/",H11)-FIND(":",H11)-2))-1)/VALUE(RIGHT(H11,1))+50*E11)-(100*E11),-E11*100))) | H11: =IF(E11="","",OFFSET([1]Japan!$AL$1,MATCH(A11,[1]Japan!$E$1:$E$500,0)-1,0))
A12: Hideto Kobukuro | B12: 0.06% | C12: 1667 | D12: 1001 | F12: =IFERROR(IF(A12="","",OFFSET(Results!$AJ$1,MATCH(A12,Results!$A:$A,0)-1,0)),"") -> 118 | G12: =IF(OR(E12="",F12=""),"",IF(F12=1,(IF(COUNTIFS(F:F,"<="&F12)<=1,1,(1-COUNTIFS(F:F,"<"&F12))/COUNTIFS(F:F,F12)))*50*E12*(1+VALUE(MID(H12,FIND(": ",H12)+2,FIND("/",H12)-FIND(":",H12)-2))-1)+50*E12*(1+VALUE(MID(H12,FIND(": ",H12)+2,FIND("/",H12)-FIND(":",H12)-2))-1)/VALUE(RIGHT(H12,1)),IF(F12<=VALUE(MID(H12,FIND(", ",H12)+2,IF(MID(H12,FIND(", ",H12)+2,1)="1",2,1))),(IF(COUNTIFS(F:F,"<="&F12)<=VALUE(MID(H12,FIND(", ",H12)+2,IF(MID(H12,FIND(", ",H12)+2,1)="1",2,1))),1,(VALUE(MID(H12,FIND(", ",H12)+2,IF(MID(H12,FIND(", ",H12)+2,1)="1",2,1)))-COUNTIFS(F:F,"<"&F12))/COUNTIFS(F:F,F12)))*(50*E12*(1+VALUE(MID(H12,FIND(": ",H12)+2,FIND("/",H12)-FIND(":",H12)-2))-1)/VALUE(RIGHT(H12,1))+50*E12)-(100*E12),-E12*100))) | H12: =IF(E12="","",OFFSET([1]Japan!$AL$1,MATCH(A12,[1]Japan!$E$1:$E$500,0)-1,0))
A13: Hikaru Yuhara | B13: 0.05% | C13: 2000 | D13: 1001 | F13: =IFERROR(IF(A13="","",OFFSET(Results!$AJ$1,MATCH(A13,Results!$A:$A,0)-1,0)),"") -> 97 | G13: =IF(OR(E13="",F13=""),"",IF(F13=1,(IF(COUNTIFS(F:F,"<="&F13)<=1,1,(1-COUNTIFS(F:F,"<"&F13))/COUNTIFS(F:F,F13)))*50*E13*(1+VALUE(MID(H13,FIND(": ",H13)+2,FIND("/",H13)-FIND(":",H13)-2))-1)+50*E13*(1+VALUE(MID(H13,FIND(": ",H13)+2,FIND("/",H13)-FIND(":",H13)-2))-1)/VALUE(RIGHT(H13,1)),IF(F13<=VALUE(MID(H13,FIND(", ",H13)+2,IF(MID(H13,FIND(", ",H13)+2,1)="1",2,1))),(IF(COUNTIFS(F:F,"<="&F13)<=VALUE(MID(H13,FIND(", ",H13)+2,IF(MID(H13,FIND(", ",H13)+2,1)="1",2,1))),1,(VALUE(MID(H13,FIND(", ",H13)+2,IF(MID(H13,FIND(", ",H13)+2,1)="1",2,1)))-COUNTIFS(F:F,"<"&F13))/COUNTIFS(F:F,F13)))*(50*E13*(1+VALUE(MID(H13,FIND(": ",H13)+2,FIND("/",H13)-FIND(":",H13)-2))-1)/VALUE(RIGHT(H13,1))+50*E13)-(100*E13),-E13*100))) | H13: =IF(E13="","",OFFSET([1]Japan!$AL$1,MATCH(A13,[1]Japan!$E$1:$E$500,0)-1,0))
... A28: Katsuhiro Kushiyama | B28: 0.07% | C28: 1429 | D28: 1001 | F28: =IFERROR(IF(A28="","",OFFSET(Results!$AJ$1,MATCH(A28,Results!$A:$A,0)-1,0)),"") -> 118 | G28: =IF(OR(E28="",F28=""),"",IF(F28=1,(IF(COUNTIFS(F:F,"<="&F28)<=1,1,(1-COUNTIFS(F:F,"<"&F28))/COUNTIFS(F:F,F28)))*50*E28*(1+VALUE(MID(H28,FIND(": ",H28)+2,FIND("/",H28)-FIND(":",H28)-2))-1)+50*E28*(1+VALUE(MID(H28,FIND(": ",H28)+2,FIND("/",H28)-FIND(":",H28)-2))-1)/VALUE(RIGHT(H28,1)),IF(F28<=VALUE(MID(H28,FIND(", ",H28)+2,IF(MID(H28,FIND(", ",H28)+2,1)="1",2,1))),(IF(COUNTIFS(F:F,"<="&F28)<=VALUE(MID(H28,FIND(", ",H28)+2,IF(MID(H28,FIND(", ",H28)+2,1)="1",2,1))),1,(VALUE(MID(H28,FIND(", ",H28)+2,IF(MID(H28,FIND(", ",H28)+2,1)="1",2,1)))-COUNTIFS(F:F,"<"&F28))/COUNTIFS(F:F,F28)))*(50*E28*(1+VALUE(MID(H28,FIND(": ",H28)+2,FIND("/",H28)-FIND(":",H28)-2))-1)/VALUE(RIGHT(H28,1))+50*E28)-(100*E28),-E28*100))) | H28: =IF(E28="","",OFFSET([1]Japan!$AL$1,MATCH(A28,[1]Japan!$E$1:$E$500,0)-1,0))
A29: Kazuhiro Hosokawa | B29: 0.00% | C29: 10000 | F29: =IFERROR(IF(A29="","",OFFSET(Results!$AJ$1,MATCH(A29,Results!$A:$A,0)-1,0)),"") -> 67 | G29: =IF(OR(E29="",F29=""),"",IF(F29=1,(IF(COUNTIFS(F:F,"<="&F29)<=1,1,(1-COUNTIFS(F:F,"<"&F29))/COUNTIFS(F:F,F29)))*50*E29*(1+VALUE(MID(H29,FIND(": ",H29)+2,FIND("/",H29)-FIND(":",H29)-2))-1)+50*E29*(1+VALUE(MID(H29,FIND(": ",H29)+2,FIND("/",H29)-FIND(":",H29)-2))-1)/VALUE(RIGHT(H29,1)),IF(F29<=VALUE(MID(H29,FIND(", ",H29)+2,IF(MID(H29,FIND(", ",H29)+2,1)="1",2,1))),(IF(COUNTIFS(F:F,"<="&F29)<=VALUE(MID(H29,FIND(", ",H29)+2,IF(MID(H29,FIND(", ",H29)+2,1)="1",2,1))),1,(VALUE(MID(H29,FIND(", ",H29)+2,IF(MID(H29,FIND(", ",H29)+2,1)="1",2,1)))-COUNTIFS(F:F,"<"&F29))/COUNTIFS(F:F,F29)))*(50*E29*(1+VALUE(MID(H29,FIND(": ",H29)+2,FIND("/",H29)-FIND(":",H29)-2))-1)/VALUE(RIGHT(H29,1))+50*E29)-(100*E29),-E29*100))) | H29: =IF(E29="","",OFFSET([1]Japan!$AL$1,MATCH(A29,[1]Japan!$E$1:$E$500,0)-1,0))
A30: Kazuki Higa | B30: 3.34% | C30: 30 | D30: 15 | F30: =IFERROR(IF(A30="","",OFFSET(Results!$AJ$1,MATCH(A30,Results!$A:$A,0)-1,0)),"") -> 68 | G30: =IF(OR(E30="",F30=""),"",IF(F30=1,(IF(COUNTIFS(F:F,"<="&F30)<=1,1,(1-COUNTIFS(F:F,"<"&F30))/COUNTIFS(F:F,F30)))*50*E30*(1+VALUE(MID(H30,FIND(": ",H30)+2,FIND("/",H30)-FIND(":",H30)-2))-1)+50*E30*(1+VALUE(MID(H30,FIND(": ",H30)+2,FIND("/",H30)-FIND(":",H30)-2))-1)/VALUE(RIGHT(H30,1)),IF(F30<=VALUE(MID(H30,FIND(", ",H30)+2,IF(MID(H30,FIND(", ",H30)+2,1)="1",2,1))),(IF(COUNTIFS(F:F,"<="&F30)<=VALUE(MID(H30,FIND(", ",H30)+2,IF(MID(H30,FIND(", ",H30)+2,1)="1",2,1))),1,(VALUE(MID(H30,FIND(", ",H30)+2,IF(MID(H30,FIND(", ",H30)+2,1)="1",2,1)))-COUNTIFS(F:F,"<"&F30))/COUNTIFS(F:F,F30)))*(50*E30*(1+VALUE(MID(H30,FIND(": ",H30)+2,FIND("/",H30)-FIND(":",H30)-2))-1)/VALUE(RIGHT(H30,1))+50*E30)-(100*E30),-E30*100))) | H30: =IF(E30="","",OFFSET([1]Japan!$AL$1,MATCH(A30,[1]Japan!$E$1:$E$500,0)-1,0))
A31: Kazuki Yasumori | B31: 0.55% | C31: 182 | D31: 141 | F31: =IFERROR(IF(A31="","",OFFSET(Results!$AJ$1,MATCH(A31,Results!$A:$A,0)-1,0)),"") -> 111 | G31: =IF(OR(E31="",F31=""),"",IF(F31=1,(IF(COUNTIFS(F:F,"<="&F31)<=1,1,(1-COUNTIFS(F:F,"<"&F31))/COUNTIFS(F:F,F31)))*50*E31*(1+VALUE(MID(H31,FIND(": ",H31)+2,FIND("/",H31)-FIND(":",H31)-2))-1)+50*E31*(1+VALUE(MID(H31,FIND(": ",H31)+2,FIND("/",H31)-FIND(":",H31)-2))-1)/VALUE(RIGHT(H31,1)),IF(F31<=VALUE(MID(H31,FIND(", ",H31)+2,IF(MID(H31,FIND(", ",H31)+2,1)="1",2,1))),(IF(COUNTIFS(F:F,"<="&F31)<=VALUE(MID(H31,FIND(", ",H31)+2,IF(MID(H31,FIND(", ",H31)+2,1)="1",2,1))),1,(VALUE(MID(H31,FIND(", ",H31)+2,IF(MID(H31,FIND(", ",H31)+2,1)="1",2,1)))-COUNTIFS(F:F,"<"&F31))/COUNTIFS(F:F,F31)))*(50*E31*(1+VALUE(MID(H31,FIND(": ",H31)+2,FIND("/",H31)-FIND(":",H31)-2))-1)/VALUE(RIGHT(H31,1))+50*E31)-(100*E31),-E31*100))) | H31: =IF(E31="","",OFFSET([1]Japan!$AL$1,MATCH(A31,[1]Japan!$E$1:$E$500,0)-1,0))
A32: Keigo Takehara | B32: 0.05% | C32: 2000 | D32: 751 | F32: =IFERROR(IF(A32="","",OFFSET(Results!$AJ$1,MATCH(A32,Results!$A:$A,0)-1,0)),"") -> 68 | G32: =IF(OR(E32="",F32=""),"",IF(F32=1,(IF(COUNTIFS(F:F,"<="&F32)<=1,1,(1-COUNTIFS(F:F,"<"&F32))/COUNTIFS(F:F,F32)))*50*E32*(1+VALUE(MID(H32,FIND(": ",H32)+2,FIND("/",H32)-FIND(":",H32)-2))-1)+50*E32*(1+VALUE(MID(H32,FIND(": ",H32)+2,FIND("/",H32)-FIND(":",H32)-2))-1)/VALUE(RIGHT(H32,1)),IF(F32<=VALUE(MID(H32,FIND(", ",H32)+2,IF(MID(H32,FIND(", ",H32)+2,1)="1",2,1))),(IF(COUNTIFS(F:F,"<="&F32)<=VALUE(MID(H32,FIND(", ",H32)+2,IF(MID(H32,FIND(", ",H32)+2,1)="1",2,1))),1,(VALUE(MID(H32,FIND(", ",H32)+2,IF(MID(H32,FIND(", ",H32)+2,1)="1",2,1)))-COUNTIFS(F:F,"<"&F32))/COUNTIFS(F:F,F32)))*(50*E32*(1+VALUE(MID(H32,FIND(": ",H32)+2,FIND("/",H32)-FIND(":",H32)-2))-1)/VALUE(RIGHT(H32,1))+50*E32)-(100*E32),-E32*100))) | H32: =IF(E32="","",OFFSET([1]Japan!$AL$1,MATCH(A32,[1]Japan!$E$1:$E$500,0)-1,0))
A33: Kenya Nakayama | B33: 0.06% | C33: 1667 | D33: 1001 | F33: =IFERROR(IF(A33="","",OFFSET(Results!$AJ$1,MATCH(A33,Results!$A:$A,0)-1,0)),"") -> 68 | G33: =IF(OR(E33="",F33=""),"",IF(F33=1,(IF(COUNTIFS(F:F,"<="&F33)<=1,1,(1-COUNTIFS(F:F,"<"&F33))/COUNTIFS(F:F,F33)))*50*E33*(1+VALUE(MID(H33,FIND(": ",H33)+2,FIND("/",H33)-FIND(":",H33)-2))-1)+50*E33*(1+VALUE(MID(H33,FIND(": ",H33)+2,FIND("/",H33)-FIND(":",H33)-2))-1)/VALUE(RIGHT(H33,1)),IF(F33<=VALUE(MID(H33,FIND(", ",H33)+2,IF(MID(H33,FIND(", ",H33)+2,1)="1",2,1))),(IF(COUNTIFS(F:F,"<="&F33)<=VALUE(MID(H33,FIND(", ",H33)+2,IF(MID(H33,FIND(", ",H33)+2,1)="1",2,1))),1,(VALUE(MID(H33,FIND(", ",H33)+2,IF(MID(H33,FIND(", ",H33)+2,1)="1",2,1)))-COUNTIFS(F:F,"<"&F33))/COUNTIFS(F:F,F33)))*(50*E33*(1+VALUE(MID(H33,FIND(": ",H33)+2,FIND("/",H33)-FIND(":",H33)-2))-1)/VALUE(RIGHT(H33,1))+50*E33)-(100*E33),-E33*100))) | H33: =IF(E33="","",OFFSET([1]Japan!$AL$1,MATCH(A33,[1]Japan!$E$1:$E$500,0)-1,0))
A34: Kodai Aoyama | B34: 0.08% | C34: 1250 | D34: 501 | F34: =IFERROR(IF(A34="","",OFFSET(Results!$AJ$1,MATCH(A34,Results!$A:$A,0)-1,0)),"") -> 123 | G34: =IF(OR(E34="",F34=""),"",IF(F34=1,(IF(COUNTIFS(F:F,"<="&F34)<=1,1,(1-COUNTIFS(F:F,"<"&F34))/COUNTIFS(F:F,F34)))*50*E34*(1+VALUE(MID(H34,FIND(": ",H34)+2,FIND("/",H34)-FIND(":",H34)-2))-1)+50*E34*(1+VALUE(MID(H34,FIND(": ",H34)+2,FIND("/",H34)-FIND(":",H34)-2))-1)/VALUE(RIGHT(H34,1)),IF(F34<=VALUE(MID(H34,FIND(", ",H34)+2,IF(MID(H34,FIND(", ",H34)+2,1)="1",2,1))),(IF(COUNTIFS(F:F,"<="&F34)<=VALUE(MID(H34,FIND(", ",H34)+2,IF(MID(H34,FIND(", ",H34)+2,1)="1",2,1))),1,(VALUE(MID(H34,FIND(", ",H34)+2,IF(MID(H34,FIND(", ",H34)+2,1)="1",2,1)))-COUNTIFS(F:F,"<"&F34))/COUNTIFS(F:F,F34)))*(50*E34*(1+VALUE(MID(H34,FIND(": ",H34)+2,FIND("/",H34)-FIND(":",H34)-2))-1)/VALUE(RIGHT(H34,1))+50*E34)-(100*E34),-E34*100))) | H34: =IF(E34="","",OFFSET([1]Japan!$AL$1,MATCH(A34,[1]Japan!$E$1:$E$500,0)-1,0))
A35: Kodai Ichihara | B35: 0.29% | C35: 345 | D35: 301 | F35: =IFERROR(IF(A35="","",OFFSET(Results!$AJ$1,MATCH(A35,Results!$A:$A,0)-1,0)),"") -> 88 | G35: =IF(OR(E35="",F35=""),"",IF(F35=1,(IF(COUNTIFS(F:F,"<="&F35)<=1,1,(1-COUNTIFS(F:F,"<"&F35))/COUNTIFS(F:F,F35)))*50*E35*(1+VALUE(MID(H35,FIND(": ",H35)+2,FIND("/",H35)-FIND(":",H35)-2))-1)+50*E35*(1+VALUE(MID(H35,FIND(": ",H35)+2,FIND("/",H35)-FIND(":",H35)-2))-1)/VALUE(RIGHT(H35,1)),IF(F35<=VALUE(MID(H35,FIND(", ",H35)+2,IF(MID(H35,FIND(", ",H35)+2,1)="1",2,1))),(IF(COUNTIFS(F:F,"<="&F35)<=VALUE(MID(H35,FIND(", ",H35)+2,IF(MID(H35,FIND(", ",H35)+2,1)="1",2,1))),1,(VALUE(MID(H35,FIND(", ",H35)+2,IF(MID(H35,FIND(", ",H35)+2,1)="1",2,1)))-COUNTIFS(F:F,"<"&F35))/COUNTIFS(F:F,F35)))*(50*E35*(1+VALUE(MID(H35,FIND(": ",H35)+2,FIND("/",H35)-FIND(":",H35)-2))-1)/VALUE(RIGHT(H35,1))+50*E35)-(100*E35),-E35*100))) | H35: =IF(E35="","",OFFSET([1]Japan!$AL$1,MATCH(A35,[1]Japan!$E$1:$E$500,0)-1,0))
A36: Kohei Okada | B36: 1.41% | C36: 71 | D36: 34 | F36: =IFERROR(IF(A36="","",OFFSET(Results!$AJ$1,MATCH(A36,Results!$A:$A,0)-1,0)),"") -> 97 | G36: =IF(OR(E36="",F36=""),"",IF(F36=1,(IF(COUNTIFS(F:F,"<="&F36)<=1,1,(1-COUNTIFS(F:F,"<"&F36))/COUNTIFS(F:F,F36)))*50*E36*(1+VALUE(MID(H36,FIND(": ",H36)+2,FIND("/",H36)-FIND(":",H36)-2))-1)+50*E36*(1+VALUE(MID(H36,FIND(": ",H36)+2,FIND("/",H36)-FIND(":",H36)-2))-1)/VALUE(RIGHT(H36,1)),IF(F36<=VALUE(MID(H36,FIND(", ",H36)+2,IF(MID(H36,FIND(", ",H36)+2,1)="1",2,1))),(IF(COUNTIFS(F:F,"<="&F36)<=VALUE(MID(H36,FIND(", ",H36)+2,IF(MID(H36,FIND(", ",H36)+2,1)="1",2,1))),1,(VALUE(MID(H36,FIND(", ",H36)+2,IF(MID(H36,FIND(", ",H36)+2,1)="1",2,1)))-COUNTIFS(F:F,"<"&F36))/COUNTIFS(F:F,F36)))*(50*E36*(1+VALUE(MID(H36,FIND(": ",H36)+2,FIND("/",H36)-FIND(":",H36)-2))-1)/VALUE(RIGHT(H36,1))+50*E36)-(100*E36),-E36*100))) | H36: =IF(E36="","",OFFSET([1]Japan!$AL$1,MATCH(A36,[1]Japan!$E$1:$E$500,0)-1,0))
A37: Koichiro Furuse | B37: 0.24% | C37: 417 | D37: 201 | F37: =IFERROR(IF(A37="","",OFFSET(Results!$AJ$1,MATCH(A37,Results!$A:$A,0)-1,0)),"") -> 115 | G37: =IF(OR(E37="",F37=""),"",IF(F37=1,(IF(COUNTIFS(F:F,"<="&F37)<=1,1,(1-COUNTIFS(F:F,"<"&F37))/COUNTIFS(F:F,F37)))*50*E37*(1+VALUE(MID(H37,FIND(": ",H37)+2,FIND("/",H37)-FIND(":",H37)-2))-1)+50*E37*(1+VALUE(MID(H37,FIND(": ",H37)+2,FIND("/",H37)-FIND(":",H37)-2))-1)/VALUE(RIGHT(H37,1)),IF(F37<=VALUE(MID(H37,FIND(", ",H37)+2,IF(MID(H37,FIND(", ",H37)+2,1)="1",2,1))),(IF(COUNTIFS(F:F,"<="&F37)<=VALUE(MID(H37,FIND(", ",H37)+2,IF(MID(H37,FIND(", ",H37)+2,1)="1",2,1))),1,(VALUE(MID(H37,FIND(", ",H37)+2,IF(MID(H37,FIND(", ",H37)+2,1)="1",2,1)))-COUNTIFS(F:F,"<"&F37))/COUNTIFS(F:F,F37)))*(50*E37*(1+VALUE(MID(H37,FIND(": ",H37)+2,FIND("/",H37)-FIND(":",H37)-2))-1)/VALUE(RIGHT(H37,1))+50*E37)-(100*E37),-E37*100))) | H37: =IF(E37="","",OFFSET([1]Japan!$AL$1,MATCH(A37,[1]Japan!$E$1:$E$500,0)-1,0))
A38: Kosei Takeyama | B38: 0.20% | C38: 500 | D38: 301 | F38: =IFERROR(IF(A38="","",OFFSET(Results!$AJ$1,MATCH(A38,Results!$A:$A,0)-1,0)),"") -> 81 | G38: =IF(OR(E38="",F38=""),"",IF(F38=1,(IF(COUNTIFS(F:F,"<="&F38)<=1,1,(1-COUNTIFS(F:F,"<"&F38))/COUNTIFS(F:F,F38)))*50*E38*(1+VALUE(MID(H38,FIND(": ",H38)+2,FIND("/",H38)-FIND(":",H38)-2))-1)+50*E38*(1+VALUE(MID(H38,FIND(": ",H38)+2,FIND("/",H38)-FIND(":",H38)-2))-1)/VALUE(RIGHT(H38,1)),IF(F38<=VALUE(MID(H38,FIND(", ",H38)+2,IF(MID(H38,FIND(", ",H38)+2,1)="1",2,1))),(IF(COUNTIFS(F:F,"<="&F38)<=VALUE(MID(H38,FIND(", ",H38)+2,IF(MID(H38,FIND(", ",H38)+2,1)="1",2,1))),1,(VALUE(MID(H38,FIND(", ",H38)+2,IF(MID(H38,FIND(", ",H38)+2,1)="1",2,1)))-COUNTIFS(F:F,"<"&F38))/COUNTIFS(F:F,F38)))*(50*E38*(1+VALUE(MID(H38,FIND(": ",H38)+2,FIND("/",H38)-FIND(":",H38)-2))-1)/VALUE(RIGHT(H38,1))+50*E38)-(100*E38),-E38*100))) | H38: =IF(E38="","",OFFSET([1]Japan!$AL$1,MATCH(A38,[1]Japan!$E$1:$E$500,0)-1,0))
A39: Koshiro Maeda | B39: 1.25% | C39: 80 | D39: 67 | F39: =IFERROR(IF(A39="","",OFFSET(Results!$AJ$1,MATCH(A39,Results!$A:$A,0)-1,0)),"") -> 68 | G39: =IF(OR(E39="",F39=""),"",IF(F39=1,(IF(COUNTIFS(F:F,"<="&F39)<=1,1,(1-COUNTIFS(F:F,"<"&F39))/COUNTIFS(F:F,F39)))*50*E39*(1+VALUE(MID(H39,FIND(": ",H39)+2,FIND("/",H39)-FIND(":",H39)-2))-1)+50*E39*(1+VALUE(MID(H39,FIND(": ",H39)+2,FIND("/",H39)-FIND(":",H39)-2))-1)/VALUE(RIGHT(H39,1)),IF(F39<=VALUE(MID(H39,FIND(", ",H39)+2,IF(MID(H39,FIND(", ",H39)+2,1)="1",2,1))),(IF(COUNTIFS(F:F,"<="&F39)<=VALUE(MID(H39,FIND(", ",H39)+2,IF(MID(H39,FIND(", ",H39)+2,1)="1",2,1))),1,(VALUE(MID(H39,FIND(", ",H39)+2,IF(MID(H39,FIND(", ",H39)+2,1)="1",2,1)))-COUNTIFS(F:F,"<"&F39))/COUNTIFS(F:F,F39)))*(50*E39*(1+VALUE(MID(H39,FIND(": ",H39)+2,FIND("/",H39)-FIND(":",H39)-2))-1)/VALUE(RIGHT(H39,1))+50*E39)-(100*E39),-E39*100))) | H39: =IF(E39="","",OFFSET([1]Japan!$AL$1,MATCH(A39,[1]Japan!$E$1:$E$500,0)-1,0))
A40: Kosuke Sunagawa | B40: 0.84% | C40: 119 | D40: 81 | F40: =IFERROR(IF(A40="","",OFFSET(Results!$AJ$1,MATCH(A40,Results!$A:$A,0)-1,0)),"") -> 88 | G40: =IF(OR(E40="",F40=""),"",IF(F40=1,(IF(COUNTIFS(F:F,"<="&F40)<=1,1,(1-COUNTIFS(F:F,"<"&F40))/COUNTIFS(F:F,F40)))*50*E40*(1+VALUE(MID(H40,FIND(": ",H40)+2,FIND("/",H40)-FIND(":",H40)-2))-1)+50*E40*(1+VALUE(MID(H40,FIND(": ",H40)+2,FIND("/",H40)-FIND(":",H40)-2))-1)/VALUE(RIGHT(H40,1)),IF(F40<=VALUE(MID(H40,FIND(", ",H40)+2,IF(MID(H40,FIND(", ",H40)+2,1)="1",2,1))),(IF(COUNTIFS(F:F,"<="&F40)<=VALUE(MID(H40,FIND(", ",H40)+2,IF(MID(H40,FIND(", ",H40)+2,1)="1",2,1))),1,(VALUE(MID(H40,FIND(", ",H40)+2,IF(MID(H40,FIND(", ",H40)+2,1)="1",2,1)))-COUNTIFS(F:F,"<"&F40))/COUNTIFS(F:F,F40)))*(50*E40*(1+VALUE(MID(H40,FIND(": ",H40)+2,FIND("/",H40)-FIND(":",H40)-2))-1)/VALUE(RIGHT(H40,1))+50*E40)-(100*E40),-E40*100))) | H40: =IF(E40="","",OFFSET([1]Japan!$AL$1,MATCH(A40,[1]Japan!$E$1:$E$500,0)-1,0))
A41: Kosuke Suzuki | B41: 0.39% | C41: 256 | D41: 151 | F41: =IFERROR(IF(A41="","",OFFSET(Results!$AJ$1,MATCH(A41,Results!$A:$A,0)-1,0)),"") -> 42 | G41: =IF(OR(E41="",F41=""),"",IF(F41=1,(IF(COUNTIFS(F:F,"<="&F41)<=1,1,(1-COUNTIFS(F:F,"<"&F41))/COUNTIFS(F:F,F41)))*50*E41*(1+VALUE(MID(H41,FIND(": ",H41)+2,FIND("/",H41)-FIND(":",H41)-2))-1)+50*E41*(1+VALUE(MID(H41,FIND(": ",H41)+2,FIND("/",H41)-FIND(":",H41)-2))-1)/VALUE(RIGHT(H41,1)),IF(F41<=VALUE(MID(H41,FIND(", ",H41)+2,IF(MID(H41,FIND(", ",H41)+2,1)="1",2,1))),(IF(COUNTIFS(F:F,"<="&F41)<=VALUE(MID(H41,FIND(", ",H41)+2,IF(MID(H41,FIND(", ",H41)+2,1)="1",2,1))),1,(VALUE(MID(H41,FIND(", ",H41)+2,IF(MID(H41,FIND(", ",H41)+2,1)="1",2,1)))-COUNTIFS(F:F,"<"&F41))/COUNTIFS(F:F,F41)))*(50*E41*(1+VALUE(MID(H41,FIND(": ",H41)+2,FIND("/",H41)-FIND(":",H41)-2))-1)/VALUE(RIGHT(H41,1))+50*E41)-(100*E41),-E41*100))) | H41: =IF(E41="","",OFFSET([1]Japan!$AL$1,MATCH(A41,[1]Japan!$E$1:$E$500,0)-1,0))
... A64: Ryutaro Nagano | B64: 3.43% | C64: 29 | D64: 23 | F64: =IFERROR(IF(A64="","",OFFSET(Results!$AJ$1,MATCH(A64,Results!$A:$A,0)-1,0)),"") -> 42 | G64: =IF(OR(E64="",F64=""),"",IF(F64=1,(IF(COUNTIFS(F:F,"<="&F64)<=1,1,(1-COUNTIFS(F:F,"<"&F64))/COUNTIFS(F:F,F64)))*50*E64*(1+VALUE(MID(H64,FIND(": ",H64)+2,FIND("/",H64)-FIND(":",H64)-2))-1)+50*E64*(1+VALUE(MID(H64,FIND(": ",H64)+2,FIND("/",H64)-FIND(":",H64)-2))-1)/VALUE(RIGHT(H64,1)),IF(F64<=VALUE(MID(H64,FIND(", ",H64)+2,IF(MID(H64,FIND(", ",H64)+2,1)="1",2,1))),(IF(COUNTIFS(F:F,"<="&F64)<=VALUE(MID(H64,FIND(", ",H64)+2,IF(MID(H64,FIND(", ",H64)+2,1)="1",2,1))),1,(VALUE(MID(H64,FIND(", ",H64)+2,IF(MID(H64,FIND(", ",H64)+2,1)="1",2,1)))-COUNTIFS(F:F,"<"&F64))/COUNTIFS(F:F,F64)))*(50*E64*(1+VALUE(MID(H64,FIND(": ",H64)+2,FIND("/",H64)-FIND(":",H64)-2))-1)/VALUE(RIGHT(H64,1))+50*E64)-(100*E64),-E64*100))) | H64: =IF(E64="","",OFFSET([1]Japan!$AL$1,MATCH(A64,[1]Japan!$E$1:$E$500,0)-1,0))
A65: Satoshi Hara | B65: 0.35% | C65: 286 | D65: 351 | E65: 0.10% | F65: =IFERROR(IF(A65="","",OFFSET(Results!$AJ$1,MATCH(A65,Results!$A:$A,0)-1,0)),"") -> 105 | G65: =IF(OR(E65="",F65=""),"",IF(F65=1,(IF(COUNTIFS(F:F,"<="&F65)<=1,1,(1-COUNTIFS(F:F,"<"&F65))/COUNTIFS(F:F,F65)))*50*E65*(1+VALUE(MID(H65,FIND(": ",H65)+2,FIND("/",H65)-FIND(":",H65)-2))-1)+50*E65*(1+VALUE(MID(H65,FIND(": ",H65)+2,FIND("/",H65)-FIND(":",H65)-2))-1)/VALUE(RIGHT(H65,1)),IF(F65<=VALUE(MID(H65,FIND(", ",H65)+2,IF(MID(H65,FIND(", ",H65)+2,1)="1",2,1))),(IF(COUNTIFS(F:F,"<="&F65)<=VALUE(MID(H65,FIND(", ",H65)+2,IF(MID(H65,FIND(", ",H65)+2,1)="1",2,1))),1,(VALUE(MID(H65,FIND(", ",H65)+2,IF(MID(H65,FIND(", ",H65)+2,1)="1",2,1)))-COUNTIFS(F:F,"<"&F65))/COUNTIFS(F:F,F65)))*(50*E65*(1+VALUE(MID(H65,FIND(": ",H65)+2,FIND("/",H65)-FIND(":",H65)-2))-1)/VALUE(RIGHT(H65,1))+50*E65)-(100*E65),-E65*100))) -> -0.1 | H65: =IF(E65="","",OFFSET([1]Japan!$AL$1,MATCH(A65,[1]Japan!$E$1:$E$500,0)-1,0)) -> Bet365: 350/1, 5pl, 1/4
A66: Satoshi Kodaira | B66: 1.47% | C66: 68 | D66: 34 | F66: =IFERROR(IF(A66="","",OFFSET(Results!$AJ$1,MATCH(A66,Results!$A:$A,0)-1,0)),"") | G66: =IF(OR(E66="",F66=""),"",IF(F66=1,(IF(COUNTIFS(F:F,"<="&F66)<=1,1,(1-COUNTIFS(F:F,"<"&F66))/COUNTIFS(F:F,F66)))*50*E66*(1+VALUE(MID(H66,FIND(": ",H66)+2,FIND("/",H66)-FIND(":",H66)-2))-1)+50*E66*(1+VALUE(MID(H66,FIND(": ",H66)+2,FIND("/",H66)-FIND(":",H66)-2))-1)/VALUE(RIGHT(H66,1)),IF(F66<=VALUE(MID(H66,FIND(", ",H66)+2,IF(MID(H66,FIND(", ",H66)+2,1)="1",2,1))),(IF(COUNTIFS(F:F,"<="&F66)<=VALUE(MID(H66,FIND(", ",H66)+2,IF(MID(H66,FIND(", ",H66)+2,1)="1",2,1))),1,(VALUE(MID(H66,FIND(", ",H66)+2,IF(MID(H66,FIND(", ",H66)+2,1)="1",2,1)))-COUNTIFS(F:F,"<"&F66))/COUNTIFS(F:F,F66)))*(50*E66*(1+VALUE(MID(H66,FIND(": ",H66)+2,FIND("/",H66)-FIND(":",H66)-2))-1)/VALUE(RIGHT(H66,1))+50*E66)-(100*E66),-E66*100))) | H66: =IF(E66="","",OFFSET([1]Japan!$AL$1,MATCH(A66,[1]Japan!$E$1:$E$500,0)-1,0))
A67: Seiji Hokaiwado | B67: 0.00% | C67: 10000 | D67: 1251 | F67: =IFERROR(IF(A67="","",OFFSET(Results!$AJ$1,MATCH(A67,Results!$A:$A,0)-1,0)),"") -> 123 | G67: =IF(OR(E67="",F67=""),"",IF(F67=1,(IF(COUNTIFS(F:F,"<="&F67)<=1,1,(1-COUNTIFS(F:F,"<"&F67))/COUNTIFS(F:F,F67)))*50*E67*(1+VALUE(MID(H67,FIND(": ",H67)+2,FIND("/",H67)-FIND(":",H67)-2))-1)+50*E67*(1+VALUE(MID(H67,FIND(": ",H67)+2,FIND("/",H67)-FIND(":",H67)-2))-1)/VALUE(RIGHT(H67,1)),IF(F67<=VALUE(MID(H67,FIND(", ",H67)+2,IF(MID(H67,FIND(", ",H67)+2,1)="1",2,1))),(IF(COUNTIFS(F:F,"<="&F67)<=VALUE(MID(H67,FIND(", ",H67)+2,IF(MID(H67,FIND(", ",H67)+2,1)="1",2,1))),1,(VALUE(MID(H67,FIND(", ",H67)+2,IF(MID(H67,FIND(", ",H67)+2,1)="1",2,1)))-COUNTIFS(F:F,"<"&F67))/COUNTIFS(F:F,F67)))*(50*E67*(1+VALUE(MID(H67,FIND(": ",H67)+2,FIND("/",H67)-FIND(":",H67)-2))-1)/VALUE(RIGHT(H67,1))+50*E67)-(100*E67),-E67*100))) | H67: =IF(E67="","",OFFSET([1]Japan!$AL$1,MATCH(A67,[1]Japan!$E$1:$E$500,0)-1,0))
A68: Sejung Hiramoto | B68: 1.16% | C68: 86 | D68: 101 | E68: 0.20% | F68: =IFERROR(IF(A68="","",OFFSET(Results!$AJ$1,MATCH(A68,Results!$A:$A,0)-1,0)),"") -> 12 | G68: =IF(OR(E68="",F68=""),"",IF(F68=1,(IF(COUNTIFS(F:F,"<="&F68)<=1,1,(1-COUNTIFS(F:F,"<"&F68))/COUNTIFS(F:F,F68)))*50*E68*(1+VALUE(MID(H68,FIND(": ",H68)+2,FIND("/",H68)-FIND(":",H68)-2))-1)+50*E68*(1+VALUE(MID(H68,FIND(": ",H68)+2,FIND("/",H68)-FIND(":",H68)-2))-1)/VALUE(RIGHT(H68,1)),IF(F68<=VALUE(MID(H68,FIND(", ",H68)+2,IF(MID(H68,FIND(", ",H68)+2,1)="1",2,1))),(IF(COUNTIFS(F:F,"<="&F68)<=VALUE(MID(H68,FIND(", ",H68)+2,IF(MID(H68,FIND(", ",H68)+2,1)="1",2,1))),1,(VALUE(MID(H68,FIND(", ",H68)+2,IF(MID(H68,FIND(", ",H68)+2,1)="1",2,1)))-COUNTIFS(F:F,"<"&F68))/COUNTIFS(F:F,F68)))*(50*E68*(1+VALUE(MID(H68,FIND(": ",H68)+2,FIND("/",H68)-FIND(":",H68)-2))-1)/VALUE(RIGHT(H68,1))+50*E68)-(100*E68),-E68*100))) -> -0.2 | H68: =IF(E68="","",OFFSET([1]Japan!$AL$1,MATCH(A68,[1]Japan!$E$1:$E$500,0)-1,0)) -> Bet365: 100/1, 5pl, 1/4
A69: Shaun Norris | B69: 4.17% | C69: 24 | D69: 12 | F69: =IFERROR(IF(A69="","",OFFSET(Results!$AJ$1,MATCH(A69,Results!$A:$A,0)-1,0)),"") -> 81 | G69: =IF(OR(E69="",F69=""),"",IF(F69=1,(IF(COUNTIFS(F:F,"<="&F69)<=1,1,(1-COUNTIFS(F:F,"<"&F69))/COUNTIFS(F:F,F69)))*50*E69*(1+VALUE(MID(H69,FIND(": ",H69)+2,FIND("/",H69)-FIND(":",H69)-2))-1)+50*E69*(1+VALUE(MID(H69,FIND(": ",H69)+2,FIND("/",H69)-FIND(":",H69)-2))-1)/VALUE(RIGHT(H69,1)),IF(F69<=VALUE(MID(H69,FIND(", ",H69)+2,IF(MID(H69,FIND(", ",H69)+2,1)="1",2,1))),(IF(COUNTIFS(F:F,"<="&F69)<=VALUE(MID(H69,FIND(", ",H69)+2,IF(MID(H69,FIND(", ",H69)+2,1)="1",2,1))),1,(VALUE(MID(H69,FIND(", ",H69)+2,IF(MID(H69,FIND(", ",H69)+2,1)="1",2,1)))-COUNTIFS(F:F,"<"&F69))/COUNTIFS(F:F,F69)))*(50*E69*(1+VALUE(MID(H69,FIND(": ",H69)+2,FIND("/",H69)-FIND(":",H69)-2))-1)/VALUE(RIGHT(H69,1))+50*E69)-(100*E69),-E69*100))) | H69: =IF(E69="","",OFFSET([1]Japan!$AL$1,MATCH(A69,[1]Japan!$E$1:$E$500,0)-1,0))
A70: Shintaro Ban | B70: 0.23% | C70: 435 | D70: 601 | E70: 0.10% | F70: =IFERROR(IF(A70="","",OFFSET(Results!$AJ$1,MATCH(A70,Results!$A:$A,0)-1,0)),"") -> 105 | G70: =IF(OR(E70="",F70=""),"",IF(F70=1,(IF(COUNTIFS(F:F,"<="&F70)<=1,1,(1-COUNTIFS(F:F,"<"&F70))/COUNTIFS(F:F,F70)))*50*E70*(1+VALUE(MID(H70,FIND(": ",H70)+2,FIND("/",H70)-FIND(":",H70)-2))-1)+50*E70*(1+VALUE(MID(H70,FIND(": ",H70)+2,FIND("/",H70)-FIND(":",H70)-2))-1)/VALUE(RIGHT(H70,1)),IF(F70<=VALUE(MID(H70,FIND(", ",H70)+2,IF(MID(H70,FIND(", ",H70)+2,1)="1",2,1))),(IF(COUNTIFS(F:F,"<="&F70)<=VALUE(MID(H70,FIND(", ",H70)+2,IF(MID(H70,FIND(", ",H70)+2,1)="1",2,1))),1,(VALUE(MID(H70,FIND(", ",H70)+2,IF(MID(H70,FIND(", ",H70)+2,1)="1",2,1)))-COUNTIFS(F:F,"<"&F70))/COUNTIFS(F:F,F70)))*(50*E70*(1+VALUE(MID(H70,FIND(": ",H70)+2,FIND("/",H70)-FIND(":",H70)-2))-1)/VALUE(RIGHT(H70,1))+50*E70)-(100*E70),-E70*100))) -> -0.1 | H70: =IF(E70="","",OFFSET([1]Japan!$AL$1,MATCH(A70,[1]Japan!$E$1:$E$500,0)-1,0)) -> Bet365: 600/1, 5pl, 1/4
A71: Shohei Oda | B71: 0.39% | C71: 256 | D71: 161 | F71: =IFERROR(IF(A71="","",OFFSET(Results!$AJ$1,MATCH(A71,Results!$A:$A,0)-1,0)),"") -> 53 | G71: =IF(OR(E71="",F71=""),"",IF(F71=1,(IF(COUNTIFS(F:F,"<="&F71)<=1,1,(1-COUNTIFS(F:F,"<"&F71))/COUNTIFS(F:F,F71)))*50*E71*(1+VALUE(MID(H71,FIND(": ",H71)+2,FIND("/",H71)-FIND(":",H71)-2))-1)+50*E71*(1+VALUE(MID(H71,FIND(": ",H71)+2,FIND("/",H71)-FIND(":",H71)-2))-1)/VALUE(RIGHT(H71,1)),IF(F71<=VALUE(MID(H71,FIND(", ",H71)+2,IF(MID(H71,FIND(", ",H71)+2,1)="1",2,1))),(IF(COUNTIFS(F:F,"<="&F71)<=VALUE(MID(H71,FIND(", ",H71)+2,IF(MID(H71,FIND(", ",H71)+2,1)="1",2,1))),1,(VALUE(MID(H71,FIND(", ",H71)+2,IF(MID(H71,FIND(", ",H71)+2,1)="1",2,1)))-COUNTIFS(F:F,"<"&F71))/COUNTIFS(F:F,F71)))*(50*E71*(1+VALUE(MID(H71,FIND(": ",H71)+2,FIND("/",H71)-FIND(":",H71)-2))-1)/VALUE(RIGHT(H71,1))+50*E71)-(100*E71),-E71*100))) | H71: =IF(E71="","",OFFSET([1]Japan!$AL$1,MATCH(A71,[1]Japan!$E$1:$E$500,0)-1,0))
A72: Shotaro Ban | B72: 0.25% | C72: 400 | D72: 151 | F72: =IFERROR(IF(A72="","",OFFSET(Results!$AJ$1,MATCH(A72,Results!$A:$A,0)-1,0)),"") -> 49 | G72: =IF(OR(E72="",F72=""),"",IF(F72=1,(IF(COUNTIFS(F:F,"<="&F72)<=1,1,(1-COUNTIFS(F:F,"<"&F72))/COUNTIFS(F:F,F72)))*50*E72*(1+VALUE(MID(H72,FIND(": ",H72)+2,FIND("/",H72)-FIND(":",H72)-2))-1)+50*E72*(1+VALUE(MID(H72,FIND(": ",H72)+2,FIND("/",H72)-FIND(":",H72)-2))-1)/VALUE(RIGHT(H72,1)),IF(F72<=VALUE(MID(H72,FIND(", ",H72)+2,IF(MID(H72,FIND(", ",H72)+2,1)="1",2,1))),(IF(COUNTIFS(F:F,"<="&F72)<=VALUE(MID(H72,FIND(", ",H72)+2,IF(MID(H72,FIND(", ",H72)+2,1)="1",2,1))),1,(VALUE(MID(H72,FIND(", ",H72)+2,IF(MID(H72,FIND(", ",H72)+2,1)="1",2,1)))-COUNTIFS(F:F,"<"&F72))/COUNTIFS(F:F,F72)))*(50*E72*(1+VALUE(MID(H72,FIND(": ",H72)+2,FIND("/",H72)-FIND(":",H72)-2))-1)/VALUE(RIGHT(H72,1))+50*E72)-(100*E72),-E72*100))) | H72: =IF(E72="","",OFFSET([1]Japan!$AL$1,MATCH(A72,[1]Japan!$E$1:$E$500,0)-1,0))
A73: Shotaro Tanaka | B73: 0.10% | C73: 1000 | D73: 601 | F73: =IFERROR(IF(A73="","",OFFSET(Results!$AJ$1,MATCH(A73,Results!$A:$A,0)-1,0)),"") -> 105 | G73: =IF(OR(E73="",F73=""),"",IF(F73=1,(IF(COUNTIFS(F:F,"<="&F73)<=1,1,(1-COUNTIFS(F:F,"<"&F73))/COUNTIFS(F:F,F73)))*50*E73*(1+VALUE(MID(H73,FIND(": ",H73)+2,FIND("/",H73)-FIND(":",H73)-2))-1)+50*E73*(1+VALUE(MID(H73,FIND(": ",H73)+2,FIND("/",H73)-FIND(":",H73)-2))-1)/VALUE(RIGHT(H73,1)),IF(F73<=VALUE(MID(H73,FIND(", ",H73)+2,IF(MID(H73,FIND(", ",H73)+2,1)="1",2,1))),(IF(COUNTIFS(F:F,"<="&F73)<=VALUE(MID(H73,FIND(", ",H73)+2,IF(MID(H73,FIND(", ",H73)+2,1)="1",2,1))),1,(VALUE(MID(H73,FIND(", ",H73)+2,IF(MID(H73,FIND(", ",H73)+2,1)="1",2,1)))-COUNTIFS(F:F,"<"&F73))/COUNTIFS(F:F,F73)))*(50*E73*(1+VALUE(MID(H73,FIND(": ",H73)+2,FIND("/",H73)-FIND(":",H73)-2))-1)/VALUE(RIGHT(H73,1))+50*E73)-(100*E73),-E73*100))) | H73: =IF(E73="","",OFFSET([1]Japan!$AL$1,MATCH(A73,[1]Japan!$E$1:$E$500,0)-1,0))
A74: Shu Fukuzumi | B74: 0.53% | C74: 189 | D74: 141 | F74: =IFERROR(IF(A74="","",OFFSET(Results!$AJ$1,MATCH(A74,Results!$A:$A,0)-1,0)),"") -> 34 | G74: =IF(OR(E74="",F74=""),"",IF(F74=1,(IF(COUNTIFS(F:F,"<="&F74)<=1,1,(1-COUNTIFS(F:F,"<"&F74))/COUNTIFS(F:F,F74)))*50*E74*(1+VALUE(MID(H74,FIND(": ",H74)+2,FIND("/",H74)-FIND(":",H74)-2))-1)+50*E74*(1+VALUE(MID(H74,FIND(": ",H74)+2,FIND("/",H74)-FIND(":",H74)-2))-1)/VALUE(RIGHT(H74,1)),IF(F74<=VALUE(MID(H74,FIND(", ",H74)+2,IF(MID(H74,FIND(", ",H74)+2,1)="1",2,1))),(IF(COUNTIFS(F:F,"<="&F74)<=VALUE(MID(H74,FIND(", ",H74)+2,IF(MID(H74,FIND(", ",H74)+2,1)="1",2,1))),1,(VALUE(MID(H74,FIND(", ",H74)+2,IF(MID(H74,FIND(", ",H74)+2,1)="1",2,1)))-COUNTIFS(F:F,"<"&F74))/COUNTIFS(F:F,F74)))*(50*E74*(1+VALUE(MID(H74,FIND(": ",H74)+2,FIND("/",H74)-FIND(":",H74)-2))-1)/VALUE(RIGHT(H74,1))+50*E74)-(100*E74),-E74*100))) | H74: =IF(E74="","",OFFSET([1]Japan!$AL$1,MATCH(A74,[1]Japan!$E$1:$E$500,0)-1,0))
A75: Shugo Imahira | B75: 3.79% | C75: 26 | D75: 17 | F75: =IFERROR(IF(A75="","",OFFSET(Results!$AJ$1,MATCH(A75,Results!$A:$A,0)-1,0)),"") -> 126 | G75: =IF(OR(E75="",F75=""),"",IF(F75=1,(IF(COUNTIFS(F:F,"<="&F75)<=1,1,(1-COUNTIFS(F:F,"<"&F75))/COUNTIFS(F:F,F75)))*50*E75*(1+VALUE(MID(H75,FIND(": ",H75)+2,FIND("/",H75)-FIND(":",H75)-2))-1)+50*E75*(1+VALUE(MID(H75,FIND(": ",H75)+2,FIND("/",H75)-FIND(":",H75)-2))-1)/VALUE(RIGHT(H75,1)),IF(F75<=VALUE(MID(H75,FIND(", ",H75)+2,IF(MID(H75,FIND(", ",H75)+2,1)="1",2,1))),(IF(COUNTIFS(F:F,"<="&F75)<=VALUE(MID(H75,FIND(", ",H75)+2,IF(MID(H75,FIND(", ",H75)+2,1)="1",2,1))),1,(VALUE(MID(H75,FIND(", ",H75)+2,IF(MID(H75,FIND(", ",H75)+2,1)="1",2,1)))-COUNTIFS(F:F,"<"&F75))/COUNTIFS(F:F,F75)))*(50*E75*(1+VALUE(MID(H75,FIND(": ",H75)+2,FIND("/",H75)-FIND(":",H75)-2))-1)/VALUE(RIGHT(H75,1))+50*E75)-(100*E75),-E75*100))) | H75: =IF(E75="","",OFFSET([1]Japan!$AL$1,MATCH(A75,[1]Japan!$E$1:$E$500,0)-1,0))
A76: Shunya Takeyasu | B76: 0.27% | C76: 370 | D76: 251 | F76: =IFERROR(IF(A76="","",OFFSET(Results!$AJ$1,MATCH(A76,Results!$A:$A,0)-1,0)),"") -> 126 | G76: =IF(OR(E76="",F76=""),"",IF(F76=1,(IF(COUNTIFS(F:F,"<="&F76)<=1,1,(1-COUNTIFS(F:F,"<"&F76))/COUNTIFS(F:F,F76)))*50*E76*(1+VALUE(MID(H76,FIND(": ",H76)+2,FIND("/",H76)-FIND(":",H76)-2))-1)+50*E76*(1+VALUE(MID(H76,FIND(": ",H76)+2,FIND("/",H76)-FIND(":",H76)-2))-1)/VALUE(RIGHT(H76,1)),IF(F76<=VALUE(MID(H76,FIND(", ",H76)+2,IF(MID(H76,FIND(", ",H76)+2,1)="1",2,1))),(IF(COUNTIFS(F:F,"<="&F76)<=VALUE(MID(H76,FIND(", ",H76)+2,IF(MID(H76,FIND(", ",H76)+2,1)="1",2,1))),1,(VALUE(MID(H76,FIND(", ",H76)+2,IF(MID(H76,FIND(", ",H76)+2,1)="1",2,1)))-COUNTIFS(F:F,"<"&F76))/COUNTIFS(F:F,F76)))*(50*E76*(1+VALUE(MID(H76,FIND(": ",H76)+2,FIND("/",H76)-FIND(":",H76)-2))-1)/VALUE(RIGHT(H76,1))+50*E76)-(100*E76),-E76*100))) | H76: =IF(E76="","",OFFSET([1]Japan!$AL$1,MATCH(A76,[1]Japan!$E$1:$E$500,0)-1,0))
...

Sheet Picks
A1: Player | B1: TTWin | C1: TTOdds | D1: BestOdds | E1: Kelly | F1: Rank | G1: Result | H1: P/L | I1: Full P/L | J1: E/W Play | L1: FRL: | M1: Player | N1: TTWin | O1: TTOdds | P1: BestOdds | Q1: Kelly | R1: Rank | S1: Result | T1: P/L | U1: Full P/L | V1: E/W Play
