Workbook

Sheet Results
A1: PLAYER | B1: Results
A2: =IF(J2="","",CONCATENATE(J2," ",I2)) -> FirstName Surname | B2: Date | C2: Event | D2: Course | E2: Location | F2: Tour | G2: Tour2 | H2: Tour3 | I2: Surname | J2: FirstName | K2: Posn | L2: Rd1 | M2: Rd2 | N2: Rd3 | O2: Rd4 | P2: Rd5 | Q2: Total | R2: Field | S2: Field1 | T2: AdjRd1 | U2: AdjRd2 | V2: AdjRd3 | W2: AdjRd4 | X2: AdjRd5 | Y2: AdjAve | Z2: Rd1Pos | AA2: Rd2Pos | AB2: Rd3Pos | AC2: Rd4Pos | AD2: Rd5Pos | AE2: Rd1Lead | AF2: Rd2Lead | AG2: Rd3Lead | AH2: Rd4Lead | AI2: Rd5Lead | AJ2: Posn2
A3: =IF(J3="","",CONCATENATE(J3," ",I3)) -> Maxime Legros | B3: 46180 | C3: Open de la Mirabelle dOr | D3: La Grange aux Ormes | E3: France | F3: Alps | I3: Legros | J3: Maxime | K3: 1 | L3: 66 | M3: 65 | N3: 63 | Q3: 194 | R3: 77.03 | S3: 76.43 | T3: 71.66 | U3: 69.34 | V3: 69.64 | Y3: 70.21 | Z3: 8 | AA3: 2 | AB3: 1 | AE3: 3 | AF3: 1 | AG3: -6 | AJ3: 1
A4: =IF(J4="","",CONCATENATE(J4," ",I4)) -> Enrico Di Nitto | B4: 46180 | C4: Open de la Mirabelle dOr | D4: La Grange aux Ormes | E4: France | F4: Alps | I4: Di Nitto | J4: Enrico | K4: 2 | L4: 64 | M4: 66 | N4: 70 | Q4: 200 | R4: 77.03 | S4: 76.43 | T4: 69.66 | U4: 70.34 | V4: 76.64 | Y4: 72.21 | Z4: 2 | AA4: 1 | AB4: 2 | AE4: 1 | AF4: -1 | AG4: 6 | AJ4: 2
A5: =IF(J5="","",CONCATENATE(J5," ",I5)) -> Alessandro Nodari | B5: 46180 | C5: Open de la Mirabelle dOr | D5: La Grange aux Ormes | E5: France | F5: Alps | I5: Nodari | J5: Alessandro | K5: 2 | L5: 69 | M5: 66 | N5: 65 | Q5: 200 | R5: 77.03 | S5: 76.43 | T5: 74.66 | U5: 70.34 | V5: 71.64 | Y5: 72.21 | Z5: 33 | AA5: 8 | AB5: 2 | AE5: 6 | AF5: 5 | AG5: 6 | AJ5: 2
A6: =IF(J6="","",CONCATENATE(J6," ",I6)) -> Davide Buchi | B6: 46180 | C6: Open de la Mirabelle dOr | D6: La Grange aux Ormes | E6: France | F6: Alps | I6: Buchi | J6: Davide | K6: 4 | L6: 64 | M6: 69 | N6: 69 | Q6: 202 | R6: 77.03 | S6: 76.43 | T6: 69.66 | U6: 73.34 | V6: 75.64 | Y6: 72.88 | Z6: 2 | AA6: 3 | AB6: 4 | AE6: 1 | AF6: 3 | AG6: 8 | AJ6: 4
A7: =IF(J7="","",CONCATENATE(J7," ",I7)) -> Robert Moran | B7: 46180 | C7: Open de la Mirabelle dOr | D7: La Grange aux Ormes | E7: France | F7: Alps | I7: Moran | J7: Robert | K7: 4 | L7: 64 | M7: 70 | N7: 68 | Q7: 202 | R7: 77.03 | S7: 76.43 | T7: 69.66 | U7: 74.34 | V7: 74.64 | Y7: 72.88 | Z7: 2 | AA7: 4 | AB7: 4 | AE7: 1 | AF7: 4 | AG7: 8 | AJ7: 4
A8: =IF(J8="","",CONCATENATE(J8," ",I8)) -> Gonzalo Leal | B8: 46180 | C8: Open de la Mirabelle dOr | D8: La Grange aux Ormes | E8: France | F8: Alps | I8: Leal | J8: Gonzalo | K8: 6 | L8: 64 | M8: 71 | N8: 68 | Q8: 203 | R8: 77.03 | S8: 76.43 | T8: 69.66 | U8: 75.34 | V8: 74.64 | Y8: 73.21 | Z8: 2 | AA8: 8 | AB8: 6 | AE8: 1 | AF8: 5 | AG8: 9 | AJ8: 6
A9: =IF(J9="","",CONCATENATE(J9," ",I9)) -> Valentin Peugnet | B9: 46180 | C9: Open de la Mirabelle dOr | D9: La Grange aux Ormes | E9: France | F9: Alps | I9: Peugnet | J9: Valentin | K9: 6 | L9: 71 | M9: 67 | N9: 65 | Q9: 203 | R9: 77.03 | S9: 76.43 | T9: 76.66 | U9: 71.34 | V9: 71.64 | Y9: 73.21 | Z9: 57 | AA9: 19 | AB9: 6 | AE9: 8 | AF9: 8 | AG9: 9 | AJ9: 6
A10: =IF(J10="","",CONCATENATE(J10," ",I10)) -> Alexandre Vandermoten | B10: 46180 | C10: Open de la Mirabelle dOr | D10: La Grange aux Ormes | E10: France | F10: Alps | I10: Vandermoten | J10: Alexandre | K10: 6 | L10: 66 | M10: 68 | N10: 69 | Q10: 203 | R10: 77.03 | S10: 76.43 | T10: 71.66 | U10: 72.34 | V10: 75.64 | Y10: 73.21 | Z10: 8 | AA10: 4 | AB10: 6 | AE10: 3 | AF10: 4 | AG10: 9 | AJ10: 6
A11: =IF(J11="","",CONCATENATE(J11," ",I11)) -> Pablo Alperi Lopez | B11: 46180 | C11: Open de la Mirabelle dOr | D11: La Grange aux Ormes | E11: France | F11: Alps | I11: Alperi Lopez | J11: Pablo | K11: 9 | L11: 68 | M11: 70 | N11: 66 | Q11: 204 | R11: 77.03 | S11: 76.43 | T11: 73.66 | U11: 74.34 | V11: 72.64 | Y11: 73.55 | Z11: 19 | AA11: 19 | AB11: 9 | AE11: 5 | AF11: 8 | AG11: 10 | AJ11: 9
A12: =IF(J12="","",CONCATENATE(J12," ",I12)) -> Filippo Bergamaschi | B12: 46180 | C12: Open de la Mirabelle dOr | D12: La Grange aux Ormes | E12: France | F12: Alps | I12: Bergamaschi | J12: Filippo | K12: 9 | L12: 69 | M12: 65 | N12: 70 | Q12: 204 | R12: 77.03 | S12: 76.43 | T12: 74.66 | U12: 69.34 | V12: 76.64 | Y12: 73.55 | Z12: 33 | AA12: 4 | AB12: 9 | AE12: 6 | AF12: 4 | AG12: 10 | AJ12: 9
A13: =IF(J13="","",CONCATENATE(J13," ",I13)) -> Theo Boulet | B13: 46180 | C13: Open de la Mirabelle dOr | D13: La Grange aux Ormes | E13: France | F13: Alps | I13: Boulet | J13: Theo | K13: 9 | L13: 67 | M13: 71 | N13: 66 | Q13: 204 | R13: 77.03 | S13: 76.43 | T13: 72.66 | U13: 75.34 | V13: 72.64 | Y13: 73.55 | Z13: 13 | AA13: 19 | AB13: 9 | AE13: 4 | AF13: 8 | AG13: 10 | AJ13: 9
A14: =IF(J14="","",CONCATENATE(J14," ",I14)) -> Brandon Dietzel | B14: 46180 | C14: Open de la Mirabelle dOr | D14: La Grange aux Ormes | E14: France | F14: Alps | I14: Dietzel | J14: Brandon | K14: 12 | L14: 68 | M14: 71 | N14: 66 | Q14: 205 | R14: 77.03 | S14: 76.43 | T14: 73.66 | U14: 75.34 | V14: 72.64 | Y14: 73.88 | Z14: 19 | AA14: 31 | AB14: 12 | AE14: 5 | AF14: 9 | AG14: 11 | AJ14: 12
... A50: =IF(J50="","",CONCATENATE(J50," ",I50)) -> Matheo Guitton | B50: 46180 | C50: Open de la Mirabelle dOr | D50: La Grange aux Ormes | E50: France | F50: Alps | I50: Guitton | J50: Matheo | K50: 47 | L50: 68 | M50: 72 | N50: 74 | Q50: 214 | R50: 77.03 | S50: 76.43 | T50: 73.66 | U50: 76.34 | V50: 80.64 | Y50: 76.88 | Z50: 19 | AA50: 41 | AB50: 47 | AE50: 5 | AF50: 10 | AG50: 20 | AJ50: 47
A51: =IF(J51="","",CONCATENATE(J51," ",I51)) -> Josef Hacker | B51: 46180 | C51: Open de la Mirabelle dOr | D51: La Grange aux Ormes | E51: France | F51: Alps | I51: Hacker | J51: Josef | K51: mc | L51: 71 | M51: 70 | Q51: 141 | R51: 77.03 | S51: 76.43 | T51: 76.66 | U51: 74.34 | Y51: 75.5 | Z51: 57 | AA51: 49 | AE51: 8 | AF51: 11 | AJ51: 49
A52: =IF(J52="","",CONCATENATE(J52," ",I52)) -> Jorge Maicas | B52: 46180 | C52: Open de la Mirabelle dOr | D52: La Grange aux Ormes | E52: France | F52: Alps | I52: Maicas | J52: Jorge | K52: mc | L52: 69 | M52: 72 | Q52: 141 | R52: 77.03 | S52: 76.43 | T52: 74.66 | U52: 76.34 | Y52: 75.5 | Z52: 33 | AA52: 49 | AE52: 6 | AF52: 11 | AJ52: 49
A53: =IF(J53="","",CONCATENATE(J53," ",I53)) -> Luca Memeo | B53: 46180 | C53: Open de la Mirabelle dOr | D53: La Grange aux Ormes | E53: France | F53: Alps | I53: Memeo | J53: Luca | K53: mc | L53: 69 | M53: 72 | Q53: 141 | R53: 77.03 | S53: 76.43 | T53: 74.66 | U53: 76.34 | Y53: 75.5 | Z53: 33 | AA53: 49 | AE53: 6 | AF53: 11 | AJ53: 49
A54: =IF(J54="","",CONCATENATE(J54," ",I54)) -> Manuel Morugan | B54: 46180 | C54: Open de la Mirabelle dOr | D54: La Grange aux Ormes | E54: France | F54: Alps | I54: Morugan | J54: Manuel | K54: mc | L54: 74 | M54: 67 | Q54: 141 | R54: 77.03 | S54: 76.43 | T54: 79.66 | U54: 71.34 | Y54: 75.5 | Z54: 96 | AA54: 49 | AE54: 11 | AF54: 11 | AJ54: 49
A55: =IF(J55="","",CONCATENATE(J55," ",I55)) -> Leonardo Rigotti | B55: 46180 | C55: Open de la Mirabelle dOr | D55: La Grange aux Ormes | E55: France | F55: Alps | I55: Rigotti | J55: Leonardo | K55: mc | L55: 70 | M55: 71 | Q55: 141 | R55: 77.03 | S55: 76.43 | T55: 75.66 | U55: 75.34 | Y55: 75.5 | Z55: 49 | AA55: 49 | AE55: 7 | AF55: 11 | AJ55: 49
A56: =IF(J56="","",CONCATENATE(J56," ",I56)) -> Archie Smith | B56: 46180 | C56: Open de la Mirabelle dOr | D56: La Grange aux Ormes | E56: France | F56: Alps | I56: Smith | J56: Archie | K56: mc | L56: 70 | M56: 71 | Q56: 141 | R56: 77.03 | S56: 76.43 | T56: 75.66 | U56: 75.34 | Y56: 75.5 | Z56: 49 | AA56: 49 | AE56: 7 | AF56: 11 | AJ56: 49
A57: =IF(J57="","",CONCATENATE(J57," ",I57)) -> Antoine Auboin | B57: 46180 | C57: Open de la Mirabelle dOr | D57: La Grange aux Ormes | E57: France | F57: Alps | I57: Auboin | J57: Antoine | K57: mc | L57: 71 | M57: 71 | Q57: 142 | R57: 77.03 | S57: 76.43 | T57: 76.66 | U57: 75.34 | Y57: 76 | Z57: 57 | AA57: 55 | AE57: 8 | AF57: 12 | AJ57: 55
A58: =IF(J58="","",CONCATENATE(J58," ",I58)) -> Adrien Bonnet | B58: 46180 | C58: Open de la Mirabelle dOr | D58: La Grange aux Ormes | E58: France | F58: Alps | I58: Bonnet | J58: Adrien | K58: mc | L58: 71 | M58: 71 | Q58: 142 | R58: 77.03 | S58: 76.43 | T58: 76.66 | U58: 75.34 | Y58: 76 | Z58: 57 | AA58: 55 | AE58: 8 | AF58: 12 | AJ58: 55
A59: =IF(J59="","",CONCATENATE(J59," ",I59)) -> Riccardo Cavina | B59: 46180 | C59: Open de la Mirabelle dOr | D59: La Grange aux Ormes | E59: France | F59: Alps | I59: Cavina | J59: Riccardo | K59: mc | L59: 67 | M59: 75 | Q59: 142 | R59: 77.03 | S59: 76.43 | T59: 72.66 | U59: 79.34 | Y59: 76 | Z59: 13 | AA59: 55 | AE59: 4 | AF59: 12 | AJ59: 55
A60: =IF(J60="","",CONCATENATE(J60," ",I60)) -> Thomas Delmas | B60: 46180 | C60: Open de la Mirabelle dOr | D60: La Grange aux Ormes | E60: France | F60: Alps | I60: Delmas | J60: Thomas | K60: mc | L60: 68 | M60: 74 | Q60: 142 | R60: 77.03 | S60: 76.43 | T60: 73.66 | U60: 78.34 | Y60: 76 | Z60: 19 | AA60: 55 | AE60: 5 | AF60: 12 | AJ60: 55
A61: =IF(J61="","",CONCATENATE(J61," ",I61)) -> Martin Engel | B61: 46180 | C61: Open de la Mirabelle dOr | D61: La Grange aux Ormes | E61: France | F61: Alps | I61: Engel | J61: Martin | K61: mc | L61: 71 | M61: 71 | Q61: 142 | R61: 77.03 | S61: 76.43 | T61: 76.66 | U61: 75.34 | Y61: 76 | Z61: 57 | AA61: 55 | AE61: 8 | AF61: 12 | AJ61: 55
A62: =IF(J62="","",CONCATENATE(J62," ",I62)) -> Tom Gueant | B62: 46180 | C62: Open de la Mirabelle dOr | D62: La Grange aux Ormes | E62: France | F62: Alps | I62: Gueant | J62: Tom | K62: mc | L62: 72 | M62: 70 | Q62: 142 | R62: 77.03 | S62: 76.43 | T62: 77.66 | U62: 74.34 | Y62: 76 | Z62: 72 | AA62: 55 | AE62: 9 | AF62: 12 | AJ62: 55
... A129: =IF(J129="","",CONCATENATE(J129," ",I129)) -> Johan Jansenss | B129: 46180 | C129: Open de la Mirabelle dOr | D129: La Grange aux Ormes | E129: France | F129: Alps | I129: Jansenss | J129: Johan | K129: mc | L129: 86 | M129: 83 | Q129: 169 | R129: 77.03 | S129: 76.43 | T129: 91.66 | U129: 87.34 | Y129: 89.5 | Z129: 131 | AA129: 127 | AE129: 23 | AF129: 39 | AJ129: 127
A130: =IF(J130="","",CONCATENATE(J130," ",I130)) -> Nicolas Calvet | B130: 46180 | C130: Open de la Mirabelle dOr | D130: La Grange aux Ormes | E130: France | F130: Alps | I130: Calvet | J130: Nicolas | K130: w | L130: 75 | Q130: 75 | R130: 77.03 | S130: 76.43 | T130: 80.66 | Y130: 80.66 | Z130: 108 | AE130: 12 | AJ130: 128
A131: =IF(J131="","",CONCATENATE(J131," ",I131)) -> Elia Dallanegra | B131: 46180 | C131: Open de la Mirabelle dOr | D131: La Grange aux Ormes | E131: France | F131: Alps | I131: Dallanegra | J131: Elia | K131: w | L131: 73 | Q131: 73 | R131: 77.03 | S131: 76.43 | T131: 78.66 | Y131: 78.66 | Z131: 83 | AE131: 10 | AJ131: 128
A132: =IF(J132="","",CONCATENATE(J132," ",I132)) -> Hermes Ferchaud | B132: 46180 | C132: Open de la Mirabelle dOr | D132: La Grange aux Ormes | E132: France | F132: Alps | I132: Ferchaud | J132: Hermes | K132: w | L132: 72 | Q132: 72 | R132: 77.03 | S132: 76.43 | T132: 77.66 | Y132: 77.66 | Z132: 72 | AE132: 9 | AJ132: 128
A133: =IF(J133="","",CONCATENATE(J133," ",I133)) -> Niki Ferrari | B133: 46180 | C133: Open de la Mirabelle dOr | D133: La Grange aux Ormes | E133: France | F133: Alps | I133: Ferrari | J133: Niki | K133: d | L133: 76 | Q133: 76 | R133: 77.03 | S133: 76.43 | T133: 81.66 | Y133: 81.66 | Z133: 114 | AE133: 13 | AJ133: 128
A134: =IF(J134="","",CONCATENATE(J134," ",I134)) -> Corey Pereira | B134: 46180 | C134: Mexico Championship | D134: La Hacienda | E134: Mexico | F134: Americas | I134: Pereira | J134: Corey | K134: 1 | L134: 63 | M134: 68 | N134: 66 | O134: 65 | Q134: 262 | R134: 73.43 | S134: 73.13 | T134: 64.81 | U134: 70.25 | V134: 70.12 | W134: 68.3 | Y134: 68.37 | Z134: 1 | AA134: 1 | AB134: 1 | AC134: 1 | AE134: 0 | AF134: 0 | AG134: -2 | AH134: -4 | AJ134: 1
A135: =IF(J135="","",CONCATENATE(J135," ",I135)) -> Riley Lewis | B135: 46180 | C135: Mexico Championship | D135: La Hacienda | E135: Mexico | F135: Americas | I135: Lewis | J135: Riley | K135: 2 | L135: 64 | M135: 67 | N135: 68 | O135: 67 | Q135: 266 | R135: 73.43 | S135: 73.13 | T135: 65.81 | U135: 69.25 | V135: 72.12 | W135: 70.3 | Y135: 69.37 | Z135: 3 | AA135: 1 | AB135: 2 | AC135: 2 | AE135: 1 | AF135: 0 | AG135: 2 | AH135: 4 | AJ135: 2
A136: =IF(J136="","",CONCATENATE(J136," ",I136)) -> Mason Williams | B136: 46180 | C136: Mexico Championship | D136: La Hacienda | E136: Mexico | F136: Americas | I136: Williams | J136: Mason | K136: 3 | L136: 69 | M136: 64 | N136: 69 | O136: 67 | Q136: 269 | R136: 73.43 | S136: 73.13 | T136: 70.81 | U136: 66.25 | V136: 73.12 | W136: 70.3 | Y136: 70.12 | Z136: 22 | AA136: 3 | AB136: 4 | AC136: 3 | AE136: 6 | AF136: 2 | AG136: 5 | AH136: 7 | AJ136: 3
A137: =IF(J137="","",CONCATENATE(J137," ",I137)) -> Thomas Ponder | B137: 46180 | C137: Mexico Championship | D137: La Hacienda | E137: Mexico | F137: Americas | I137: Ponder | J137: Thomas | K137: 4 | L137: 68 | M137: 69 | N137: 67 | O137: 66 | Q137: 270 | R137: 73.43 | S137: 73.13 | T137: 69.81 | U137: 71.25 | V137: 71.12 | W137: 69.3 | Y137: 70.37 | Z137: 13 | AA137: 15 | AB137: 6 | AC137: 4 | AE137: 5 | AF137: 6 | AG137: 7 | AH137: 8 | AJ137: 4
A138: =IF(J138="","",CONCATENATE(J138," ",I138)) -> Omar Morales | B138: 46180 | C138: Mexico Championship | D138: La Hacienda | E138: Mexico | F138: Americas | I138: Morales | J138: Omar | K138: 5 | L138: 68 | M138: 66 | N138: 70 | O138: 67 | Q138: 271 | R138: 73.43 | S138: 73.13 | T138: 69.81 | U138: 68.25 | V138: 74.12 | W138: 70.3 | Y138: 70.62 | Z138: 13 | AA138: 5 | AB138: 6 | AC138: 5 | AE138: 5 | AF138: 3 | AG138: 7 | AH138: 9 | AJ138: 5
A139: =IF(J139="","",CONCATENATE(J139," ",I139)) -> Harry Lord | B139: 46180 | C139: Mexico Championship | D139: La Hacienda | E139: Mexico | F139: Americas | I139: Lord | J139: Harry | K139: 6 | L139: 66 | M139: 71 | N139: 68 | O139: 67 | Q139: 272 | R139: 73.43 | S139: 73.13 | T139: 67.81 | U139: 73.25 | V139: 72.12 | W139: 70.3 | Y139: 70.87 | Z139: 5 | AA139: 15 | AB139: 12 | AC139: 6 | AE139: 3 | AF139: 6 | AG139: 8 | AH139: 10 | AJ139: 6
A140: =IF(J140="","",CONCATENATE(J140," ",I140)) -> Brady McKinlay | B140: 46180 | C140: Mexico Championship | D140: La Hacienda | E140: Mexico | F140: Americas | I140: McKinlay | J140: Brady | K140: 6 | L140: 65 | M140: 71 | N140: 68 | O140: 68 | Q140: 272 | R140: 73.43 | S140: 73.13 | T140: 66.81 | U140: 73.25 | V140: 72.12 | W140: 71.3 | Y140: 70.87 | Z140: 4 | AA140: 8 | AB140: 6 | AC140: 6 | AE140: 2 | AF140: 5 | AG140: 7 | AH140: 10 | AJ140: 6
A141: =IF(J141="","",CONCATENATE(J141," ",I141)) -> Mats Ege | B141: 46180 | C141: Mexico Championship | D141: La Hacienda | E141: Mexico | F141: Americas | I141: Ege | J141: Mats | K141: 8 | L141: 69 | M141: 69 | N141: 68 | O141: 67 | Q141: 273 | R141: 73.43 | S141: 73.13 | T141: 70.81 | U141: 71.25 | V141: 72.12 | W141: 70.3 | Y141: 71.12 | Z141: 22 | AA141: 20 | AB141: 14 | AC141: 8 | AE141: 6 | AF141: 7 | AG141: 9 | AH141: 11 | AJ141: 8
A142: =IF(J142="","",CONCATENATE(J142," ",I142)) -> Danny Fisher | B142: 46180 | C142: Mexico Championship | D142: La Hacienda | E142: Mexico | F142: Americas | I142: Fisher | J142: Danny | K142: 8 | L142: 70 | M142: 68 | N142: 71 | O142: 64 | Q142: 273 | R142: 73.43 | S142: 73.13 | T142: 71.81 | U142: 70.25 | V142: 75.12 | W142: 67.3 | Y142: 71.12 | Z142: 37 | AA142: 20 | AB142: 37 | AC142: 8 | AE142: 7 | AF142: 7 | AG142: 12 | AH142: 11 | AJ142: 8
A143: =IF(J143="","",CONCATENATE(J143," ",I143)) -> Patrick Flavin | B143: 46180 | C143: Mexico Championship | D143: La Hacienda | E143: Mexico | F143: Americas | I143: Flavin | J143: Patrick | K143: 8 | L143: 70 | M143: 63 | N143: 67 | O143: 73 | Q143: 273 | R143: 73.43 | S143: 73.13 | T143: 71.81 | U143: 65.25 | V143: 71.12 | W143: 76.3 | Y143: 71.12 | Z143: 37 | AA143: 3 | AB143: 3 | AC143: 8 | AE143: 7 | AF143: 2 | AG143: 3 | AH143: 11 | AJ143: 8
A144: =IF(J144="","",CONCATENATE(J144," ",I144)) -> Joshua Lee | B144: 46180 | C144: Mexico Championship | D144: La Hacienda | E144: Mexico | F144: Americas | I144: Lee | J144: Joshua | K144: 8 | L144: 66 | M144: 72 | N144: 66 | O144: 69 | Q144: 273 | R144: 73.43 | S144: 73.13 | T144: 67.81 | U144: 74.25 | V144: 70.12 | W144: 72.3 | Y144: 71.12 | Z144: 5 | AA144: 20 | AB144: 6 | AC144: 8 | AE144: 3 | AF144: 7 | AG144: 7 | AH144: 11 | AJ144: 8
A145: =IF(J145="","",CONCATENATE(J145," ",I145)) -> Gunnar Broin | B145: 46180 | C145: Mexico Championship | D145: La Hacienda | E145: Mexico | F145: Americas | I145: Broin | J145: Gunnar | K145: 12 | L145: 68 | M145: 73 | N145: 65 | O145: 68 | Q145: 274 | R145: 73.43 | S145: 73.13 | T145: 69.81 | U145: 75.25 | V145: 69.12 | W145: 71.3 | Y145: 71.37 | Z145: 13 | AA145: 42 | AB145: 14 | AC145: 12 | AE145: 5 | AF145: 10 | AG145: 9 | AH145: 12 | AJ145: 12
... A205: =IF(J205="","",CONCATENATE(J205," ",I205)) -> Andrew Morris | B205: 46180 | C205: Mexico Championship | D205: La Hacienda | E205: Mexico | F205: Americas | I205: Morris | J205: Andrew | K205: 72 | L205: 71 | M205: 71 | N205: 74 | O205: 75 | Q205: 291 | R205: 73.43 | S205: 73.13 | T205: 72.81 | U205: 73.25 | V205: 78.12 | W205: 78.3 | Y205: 75.62 | Z205: 58 | AA205: 58 | AB205: 72 | AC205: 72 | AE205: 8 | AF205: 11 | AG205: 19 | AH205: 29 | AJ205: 72
A206: =IF(J206="","",CONCATENATE(J206," ",I206)) -> Felipe Alvarez | B206: 46180 | C206: Mexico Championship | D206: La Hacienda | E206: Mexico | F206: Americas | I206: Alvarez | J206: Felipe | K206: w | L206: 69 | M206: 72 | Q206: 141 | R206: 73.43 | S206: 73.13 | T206: 70.81 | U206: 74.25 | Y206: 72.53 | Z206: 22 | AA206: 42 | AE206: 6 | AF206: 10 | AJ206: 73
A207: =IF(J207="","",CONCATENATE(J207," ",I207)) -> Tegan Andrews | B207: 46180 | C207: Mexico Championship | D207: La Hacienda | E207: Mexico | F207: Americas | I207: Andrews | J207: Tegan | K207: mc | L207: 70 | M207: 73 | Q207: 143 | R207: 73.43 | S207: 73.13 | T207: 71.81 | U207: 75.25 | Y207: 73.53 | Z207: 37 | AA207: 74 | AE207: 7 | AF207: 12 | AJ207: 74
A208: =IF(J208="","",CONCATENATE(J208," ",I208)) -> Peyton Callens | B208: 46180 | C208: Mexico Championship | D208: La Hacienda | E208: Mexico | F208: Americas | I208: Callens | J208: Peyton | K208: mc | L208: 73 | M208: 70 | Q208: 143 | R208: 73.43 | S208: 73.13 | T208: 74.81 | U208: 72.25 | Y208: 73.53 | Z208: 95 | AA208: 74 | AE208: 10 | AF208: 12 | AJ208: 74
A209: =IF(J209="","",CONCATENATE(J209," ",I209)) -> Steven Dilisio | B209: 46180 | C209: Mexico Championship | D209: La Hacienda | E209: Mexico | F209: Americas | I209: Dilisio | J209: Steven | K209: mc | L209: 73 | M209: 70 | Q209: 143 | R209: 73.43 | S209: 73.13 | T209: 74.81 | U209: 72.25 | Y209: 73.53 | Z209: 95 | AA209: 74 | AE209: 10 | AF209: 12 | AJ209: 74
A210: =IF(J210="","",CONCATENATE(J210," ",I210)) -> Nathan Franks | B210: 46180 | C210: Mexico Championship | D210: La Hacienda | E210: Mexico | F210: Americas | I210: Franks | J210: Nathan | K210: mc | L210: 70 | M210: 73 | Q210: 143 | R210: 73.43 | S210: 73.13 | T210: 71.81 | U210: 75.25 | Y210: 73.53 | Z210: 37 | AA210: 74 | AE210: 7 | AF210: 12 | AJ210: 74
A211: =IF(J211="","",CONCATENATE(J211," ",I211)) -> Taylor Funk | B211: 46180 | C211: Mexico Championship | D211: La Hacienda | E211: Mexico | F211: Americas | I211: Funk | J211: Taylor | K211: mc | L211: 72 | M211: 71 | Q211: 143 | R211: 73.43 | S211: 73.13 | T211: 73.81 | U211: 73.25 | Y211: 73.53 | Z211: 75 | AA211: 74 | AE211: 9 | AF211: 12 | AJ211: 74
A212: =IF(J212="","",CONCATENATE(J212," ",I212)) -> Abel Gallegos | B212: 46180 | C212: Mexico Championship | D212: La Hacienda | E212: Mexico | F212: Americas | I212: Gallegos | J212: Abel | K212: mc | L212: 70 | M212: 73 | Q212: 143 | R212: 73.43 | S212: 73.13 | T212: 71.81 | U212: 75.25 | Y212: 73.53 | Z212: 37 | AA212: 74 | AE212: 7 | AF212: 12 | AJ212: 74
A213: =IF(J213="","",CONCATENATE(J213," ",I213)) -> Wil Gibson | B213: 46180 | C213: Mexico Championship | D213: La Hacienda | E213: Mexico | F213: Americas | I213: Gibson | J213: Wil | K213: mc | L213: 72 | M213: 71 | Q213: 143 | R213: 73.43 | S213: 73.13 | T213: 73.81 | U213: 73.25 | Y213: 73.53 | Z213: 75 | AA213: 74 | AE213: 9 | AF213: 12 | AJ213: 74
A214: =IF(J214="","",CONCATENATE(J214," ",I214)) -> Mark Goetz | B214: 46180 | C214: Mexico Championship | D214: La Hacienda | E214: Mexico | F214: Americas | I214: Goetz | J214: Mark | K214: mc | L214: 70 | M214: 73 | Q214: 143 | R214: 73.43 | S214: 73.13 | T214: 71.81 | U214: 75.25 | Y214: 73.53 | Z214: 37 | AA214: 74 | AE214: 7 | AF214: 12 | AJ214: 74
A215: =IF(J215="","",CONCATENATE(J215," ",I215)) -> Ford Goldasich | B215: 46180 | C215: Mexico Championship | D215: La Hacienda | E215: Mexico | F215: Americas | I215: Goldasich | J215: Ford | K215: mc | L215: 72 | M215: 71 | Q215: 143 | R215: 73.43 | S215: 73.13 | T215: 73.81 | U215: 73.25 | Y215: 73.53 | Z215: 75 | AA215: 74 | AE215: 9 | AF215: 12 | AJ215: 74
A216: =IF(J216="","",CONCATENATE(J216," ",I216)) -> Thomas Longbella | B216: 46180 | C216: Mexico Championship | D216: La Hacienda | E216: Mexico | F216: Americas | I216: Longbella | J216: Thomas | K216: mc | L216: 70 | M216: 73 | Q216: 143 | R216: 73.43 | S216: 73.13 | T216: 71.81 | U216: 75.25 | Y216: 73.53 | Z216: 37 | AA216: 74 | AE216: 7 | AF216: 12 | AJ216: 74
A217: =IF(J217="","",CONCATENATE(J217," ",I217)) -> Eli Ortego | B217: 46180 | C217: Mexico Championship | D217: La Hacienda | E217: Mexico | F217: Americas | I217: Ortego | J217: Eli | K217: mc | L217: 71 | M217: 72 | Q217: 143 | R217: 73.43 | S217: 73.13 | T217: 72.81 | U217: 74.25 | Y217: 73.53 | Z217: 58 | AA217: 74 | AE217: 8 | AF217: 12 | AJ217: 74
... A270: =IF(J270="","",CONCATENATE(J270," ",I270)) -> Eugenio Martinez | B270: 46180 | C270: Mexico Championship | D270: La Hacienda | E270: Mexico | F270: Americas | I270: Martinez | J270: Eugenio | K270: mc | L270: 82 | M270: 75 | Q270: 157 | R270: 73.43 | S270: 73.13 | T270: 83.81 | U270: 77.25 | Y270: 80.53 | Z270: 142 | AA270: 136 | AE270: 19 | AF270: 26 | AJ270: 136
A271: =IF(J271="","",CONCATENATE(J271," ",I271)) -> Nic Cassidy | B271: 46180 | C271: Mexico Championship | D271: La Hacienda | E271: Mexico | F271: Americas | I271: Cassidy | J271: Nic | K271: w | L271: 74 | Q271: 74 | R271: 73.43 | S271: 73.13 | T271: 75.81 | Y271: 75.81 | Z271: 107 | AE271: 11 | AJ271: 138
A272: =IF(J272="","",CONCATENATE(J272," ",I272)) -> Evan Knight | B272: 46180 | C272: Mexico Championship | D272: La Hacienda | E272: Mexico | F272: Americas | I272: Knight | J272: Evan | K272: d | L272: 75 | Q272: 75 | R272: 73.43 | S272: 73.13 | T272: 76.81 | Y272: 76.81 | Z272: 119 | AE272: 12 | AJ272: 138
A273: =IF(J273="","",CONCATENATE(J273," ",I273)) -> Joseph Lloyd | B273: 46180 | C273: Mexico Championship | D273: La Hacienda | E273: Mexico | F273: Americas | I273: Lloyd | J273: Joseph | K273: w | L273: 74 | Q273: 74 | R273: 73.43 | S273: 73.13 | T273: 75.81 | Y273: 75.81 | Z273: 107 | AE273: 11 | AJ273: 138
A274: =IF(J274="","",CONCATENATE(J274," ",I274)) -> Max Schliesing | B274: 46180 | C274: Mexico Championship | D274: La Hacienda | E274: Mexico | F274: Americas | I274: Schliesing | J274: Max | K274: w | L274: 79 | Q274: 79 | R274: 73.43 | S274: 73.13 | T274: 80.81 | Y274: 80.81 | Z274: 138 | AE274: 16 | AJ274: 138
A275: =IF(J275="","",CONCATENATE(J275," ",I275)) -> Bennett Swavely | B275: 46180 | C275: Mexico Championship | D275: La Hacienda | E275: Mexico | F275: Americas | I275: Swavely | J275: Bennett | K275: w | L275: 80 | Q275: 80 | R275: 73.43 | S275: 73.13 | T275: 81.81 | Y275: 81.81 | Z275: 141 | AE275: 17 | AJ275: 138
A276: =IF(J276="","",CONCATENATE(J276," ",I276)) -> Finigan Tilly | B276: 46180 | C276: Mexico Championship | D276: La Hacienda | E276: Mexico | F276: Americas | I276: Tilly | J276: Finigan | K276: w | L276: 74 | Q276: 74 | R276: 73.43 | S276: 73.13 | T276: 75.81 | Y276: 75.81 | Z276: 107 | AE276: 11 | AJ276: 138
A277: =IF(J277="","",CONCATENATE(J277," ",I277)) -> Charlie Lindh | B277: 46180 | C277: Bharath Classic | D277: Mazagan | E277: Morocco | F277: Asian PGA | I277: Lindh | J277: Charlie | K277: 1 | L277: 69 | M277: 70 | N277: 67 | O277: 64 | Q277: 270 | R277: 73.63 | S277: 72.86 | T277: 70.01 | U277: 69.12 | V277: 69.45 | W277: 66.9 | Y277: 68.87 | Z277: 14 | AA277: 5 | AB277: 2 | AC277: 1 | AE277: 4 | AF277: 4 | AG277: 3 | AH277: -4 | AJ277: 1
A278: =IF(J278="","",CONCATENATE(J278," ",I278)) -> Charles Porter | B278: 46180 | C278: Bharath Classic | D278: Mazagan | E278: Morocco | F278: Asian PGA | I278: Porter | J278: Charles | K278: 2 | L278: 73 | M278: 70 | N278: 65 | O278: 66 | Q278: 274 | R278: 73.63 | S278: 72.86 | T278: 74.01 | U278: 69.12 | V278: 67.45 | W278: 68.9 | Y278: 69.87 | Z278: 78 | AA278: 32 | AB278: 6 | AC278: 2 | AE278: 8 | AF278: 8 | AG278: 5 | AH278: 4 | AJ278: 2
A279: =IF(J279="","",CONCATENATE(J279," ",I279)) -> Settee Prakongvech | B279: 46180 | C279: Bharath Classic | D279: Mazagan | E279: Morocco | F279: Asian PGA | I279: Prakongvech | J279: Settee | K279: 2 | L279: 70 | M279: 65 | N279: 68 | O279: 71 | Q279: 274 | R279: 73.63 | S279: 72.86 | T279: 71.01 | U279: 64.12 | V279: 70.45 | W279: 73.9 | Y279: 69.87 | Z279: 24 | AA279: 1 | AB279: 1 | AC279: 2 | AE279: 5 | AF279: 0 | AG279: -3 | AH279: 4 | AJ279: 2
A280: =IF(J280="","",CONCATENATE(J280," ",I280)) -> Sam Broadhurst | B280: 46180 | C280: Bharath Classic | D280: Mazagan | E280: Morocco | F280: Asian PGA | I280: Broadhurst | J280: Sam | K280: 4 | L280: 69 | M280: 73 | N280: 65 | O280: 68 | Q280: 275 | R280: 73.63 | S280: 72.86 | T280: 70.01 | U280: 72.12 | V280: 67.45 | W280: 70.9 | Y280: 70.12 | Z280: 14 | AA280: 25 | AB280: 4 | AC280: 4 | AE280: 4 | AF280: 7 | AG280: 4 | AH280: 5 | AJ280: 4
A281: =IF(J281="","",CONCATENATE(J281," ",I281)) -> Sarit Suwannarut | B281: 46180 | C281: Bharath Classic | D281: Mazagan | E281: Morocco | F281: Asian PGA | I281: Suwannarut | J281: Sarit | K281: 4 | L281: 71 | M281: 71 | N281: 67 | O281: 66 | Q281: 275 | R281: 73.63 | S281: 72.86 | T281: 72.01 | U281: 70.12 | V281: 69.45 | W281: 68.9 | Y281: 70.12 | Z281: 40 | AA281: 25 | AB281: 10 | AC281: 4 | AE281: 6 | AF281: 7 | AG281: 6 | AH281: 5 | AJ281: 4
A282: =IF(J282="","",CONCATENATE(J282," ",I282)) -> Marcus Plunkett | B282: 46180 | C282: Bharath Classic | D282: Mazagan | E282: Morocco | F282: Asian PGA | I282: Plunkett | J282: Marcus | K282: 6 | L282: 68 | M282: 73 | N282: 69 | O282: 66 | Q282: 276 | R282: 73.63 | S282: 72.86 | T282: 69.01 | U282: 72.12 | V282: 71.45 | W282: 68.9 | Y282: 70.37 | Z282: 8 | AA282: 20 | AB282: 16 | AC282: 6 | AE282: 3 | AF282: 6 | AG282: 7 | AH282: 6 | AJ282: 6
A283: =IF(J283="","",CONCATENATE(J283," ",I283)) -> Poom Saksansin | B283: 46180 | C283: Bharath Classic | D283: Mazagan | E283: Morocco | F283: Asian PGA | I283: Saksansin | J283: Poom | K283: 6 | L283: 70 | M283: 70 | N283: 67 | O283: 69 | Q283: 276 | R283: 73.63 | S283: 72.86 | T283: 71.01 | U283: 69.12 | V283: 69.45 | W283: 71.9 | Y283: 70.37 | Z283: 24 | AA283: 12 | AB283: 4 | AC283: 6 | AE283: 5 | AF283: 5 | AG283: 4 | AH283: 6 | AJ283: 6
A284: =IF(J284="","",CONCATENATE(J284," ",I284)) -> Runchanapong Youprayong | B284: 46180 | C284: Bharath Classic | D284: Mazagan | E284: Morocco | F284: Asian PGA | I284: Youprayong | J284: Runchanapong | K284: 6 | L284: 65 | M284: 70 | N284: 71 | O284: 70 | Q284: 276 | R284: 73.63 | S284: 72.86 | T284: 66.01 | U284: 69.12 | V284: 73.45 | W284: 72.9 | Y284: 70.37 | Z284: 1 | AA284: 1 | AB284: 2 | AC284: 6 | AE284: -1 | AF284: 0 | AG284: 3 | AH284: 6 | AJ284: 6
A285: =IF(J285="","",CONCATENATE(J285," ",I285)) -> Henry Chung | B285: 46180 | C285: Bharath Classic | D285: Mazagan | E285: Morocco | F285: Asian PGA | I285: Chung | J285: Henry | K285: 9 | L285: 69 | M285: 73 | N285: 68 | O285: 67 | Q285: 277 | R285: 73.63 | S285: 72.86 | T285: 70.01 | U285: 72.12 | V285: 70.45 | W285: 69.9 | Y285: 70.62 | Z285: 14 | AA285: 25 | AB285: 16 | AC285: 9 | AE285: 4 | AF285: 7 | AG285: 7 | AH285: 7 | AJ285: 9
A286: =IF(J286="","",CONCATENATE(J286," ",I286)) -> Karandeep Kochhar | B286: 46180 | C286: Bharath Classic | D286: Mazagan | E286: Morocco | F286: Asian PGA | I286: Kochhar | J286: Karandeep | K286: 9 | L286: 66 | M286: 73 | N286: 70 | O286: 68 | Q286: 277 | R286: 73.63 | S286: 72.86 | T286: 67.01 | U286: 72.12 | V286: 72.45 | W286: 70.9 | Y286: 70.62 | Z286: 2 | AA286: 5 | AB286: 10 | AC286: 9 | AE286: 1 | AF286: 4 | AG286: 6 | AH286: 7 | AJ286: 9
A287: =IF(J287="","",CONCATENATE(J287," ",I287)) -> Steve Lewton | B287: 46180 | C287: Bharath Classic | D287: Mazagan | E287: Morocco | F287: Asian PGA | I287: Lewton | J287: Steve | K287: 11 | L287: 69 | M287: 71 | N287: 68 | O287: 70 | Q287: 278 | R287: 73.63 | S287: 72.86 | T287: 70.01 | U287: 70.12 | V287: 70.45 | W287: 72.9 | Y287: 70.87 | Z287: 14 | AA287: 12 | AB287: 6 | AC287: 11 | AE287: 4 | AF287: 5 | AG287: 5 | AH287: 8 | AJ287: 11
A288: =IF(J288="","",CONCATENATE(J288," ",I288)) -> Ekpharit Wu | B288: 46180 | C288: Bharath Classic | D288: Mazagan | E288: Morocco | F288: Asian PGA | I288: Wu | J288: Ekpharit | K288: 11 | L288: 71 | M288: 67 | N288: 72 | O288: 68 | Q288: 278 | R288: 73.63 | S288: 72.86 | T288: 72.01 | U288: 66.12 | V288: 74.45 | W288: 70.9 | Y288: 70.87 | Z288: 40 | AA288: 3 | AB288: 16 | AC288: 11 | AE288: 6 | AF288: 3 | AG288: 7 | AH288: 8 | AJ288: 11
... A344: =IF(J344="","",CONCATENATE(J344," ",I344)) -> Dominic Foos | B344: 46180 | C344: Bharath Classic | D344: Mazagan | E344: Morocco | F344: Asian PGA | I344: Foos | J344: Dominic | K344: 67 | L344: 68 | M344: 75 | N344: 76 | O344: 73 | Q344: 292 | R344: 73.63 | S344: 72.86 | T344: 69.01 | U344: 74.12 | V344: 78.45 | W344: 75.9 | Y344: 74.37 | Z344: 8 | AA344: 32 | AB344: 64 | AC344: 67 | AE344: 3 | AF344: 8 | AG344: 16 | AH344: 22 | AJ344: 67
A345: =IF(J345="","",CONCATENATE(J345," ",I345)) -> Chapchai Nirat | B345: 46180 | C345: Bharath Classic | D345: Mazagan | E345: Morocco | F345: Asian PGA | I345: Nirat | J345: Chapchai | K345: w | L345: 72 | M345: 72 | Q345: 144 | R345: 73.63 | S345: 72.86 | T345: 73.01 | U345: 71.12 | Y345: 72.07 | Z345: 56 | AA345: 40 | AE345: 7 | AF345: 9 | AJ345: 69
A346: =IF(J346="","",CONCATENATE(J346," ",I346)) -> Micah Shin | B346: 46180 | C346: Bharath Classic | D346: Mazagan | E346: Morocco | F346: Asian PGA | I346: Shin | J346: Micah | K346: w | L346: 69 | M346: 72 | Q346: 141 | R346: 73.63 | S346: 72.86 | T346: 70.01 | U346: 71.12 | Y346: 70.57 | Z346: 14 | AA346: 20 | AE346: 4 | AF346: 6 | AJ346: 69
A347: =IF(J347="","",CONCATENATE(J347," ",I347)) -> Mohamed Nizar Bourehim | B347: 46180 | C347: Bharath Classic | D347: Mazagan | E347: Morocco | F347: Asian PGA | I347: Bourehim | J347: Mohamed Nizar | K347: mc | L347: 74 | M347: 73 | Q347: 147 | R347: 73.63 | S347: 72.86 | T347: 75.01 | U347: 72.12 | Y347: 73.57 | Z347: 95 | AA347: 71 | AE347: 9 | AF347: 12 | AJ347: 71
A348: =IF(J348="","",CONCATENATE(J348," ",I348)) -> S.S.P. Chawrasia | B348: 46180 | C348: Bharath Classic | D348: Mazagan | E348: Morocco | F348: Asian PGA | I348: Chawrasia | J348: S.S.P. | K348: mc | L348: 75 | M348: 72 | Q348: 147 | R348: 73.63 | S348: 72.86 | T348: 76.01 | U348: 71.12 | Y348: 73.57 | Z348: 107 | AA348: 71 | AE348: 10 | AF348: 12 | AJ348: 71
A349: =IF(J349="","",CONCATENATE(J349," ",I349)) -> Carl Jano Corpus | B349: 46180 | C349: Bharath Classic | D349: Mazagan | E349: Morocco | F349: Asian PGA | I349: Corpus | J349: Carl Jano | K349: mc | L349: 69 | M349: 78 | Q349: 147 | R349: 73.63 | S349: 72.86 | T349: 70.01 | U349: 77.12 | Y349: 73.57 | Z349: 14 | AA349: 71 | AE349: 4 | AF349: 12 | AJ349: 71
A350: =IF(J350="","",CONCATENATE(J350," ",I350)) -> M. Dharma | B350: 46180 | C350: Bharath Classic | D350: Mazagan | E350: Morocco | F350: Asian PGA | I350: Dharma | J350: M. | K350: mc | L350: 75 | M350: 72 | Q350: 147 | R350: 73.63 | S350: 72.86 | T350: 76.01 | U350: 71.12 | Y350: 73.57 | Z350: 107 | AA350: 71 | AE350: 10 | AF350: 12 | AJ350: 71
A351: =IF(J351="","",CONCATENATE(J351," ",I351)) -> Marc Sabria Esteruelas | B351: 46180 | C351: Bharath Classic | D351: Mazagan | E351: Morocco | F351: Asian PGA | I351: Sabria Esteruelas | J351: Marc | K351: mc | L351: 71 | M351: 76 | Q351: 147 | R351: 73.63 | S351: 72.86 | T351: 72.01 | U351: 75.12 | Y351: 73.57 | Z351: 40 | AA351: 71 | AE351: 6 | AF351: 12 | AJ351: 71
A352: =IF(J352="","",CONCATENATE(J352," ",I352)) -> Mohammad Skaik | B352: 46180 | C352: Bharath Classic | D352: Mazagan | E352: Morocco | F352: Asian PGA | I352: Skaik | J352: Mohammad | K352: mc | L352: 71 | M352: 76 | Q352: 147 | R352: 73.63 | S352: 72.86 | T352: 72.01 | U352: 75.12 | Y352: 73.57 | Z352: 40 | AA352: 71 | AE352: 6 | AF352: 12 | AJ352: 71
A353: =IF(J353="","",CONCATENATE(J353," ",I353)) -> Milind Soni | B353: 46180 | C353: Bharath Classic | D353: Mazagan | E353: Morocco | F353: Asian PGA | I353: Soni | J353: Milind | K353: mc | L353: 75 | M353: 72 | Q353: 147 | R353: 73.63 | S353: 72.86 | T353: 76.01 | U353: 71.12 | Y353: 73.57 | Z353: 107 | AA353: 71 | AE353: 10 | AF353: 12 | AJ353: 71
A354: =IF(J354="","",CONCATENATE(J354," ",I354)) -> Charles Wang | B354: 46180 | C354: Bharath Classic | D354: Mazagan | E354: Morocco | F354: Asian PGA | I354: Wang | J354: Charles | K354: mc | L354: 71 | M354: 76 | Q354: 147 | R354: 73.63 | S354: 72.86 | T354: 72.01 | U354: 75.12 | Y354: 73.57 | Z354: 40 | AA354: 71 | AE354: 6 | AF354: 12 | AJ354: 71
A355: =IF(J355="","",CONCATENATE(J355," ",I355)) -> Youssef El Hali | B355: 46180 | C355: Bharath Classic | D355: Mazagan | E355: Morocco | F355: Asian PGA | I355: El Hali | J355: Youssef | K355: mc | L355: 74 | M355: 74 | Q355: 148 | R355: 73.63 | S355: 72.86 | T355: 75.01 | U355: 73.12 | Y355: 74.07 | Z355: 95 | AA355: 79 | AE355: 9 | AF355: 13 | AJ355: 79
A356: =IF(J356="","",CONCATENATE(J356," ",I356)) -> Abderrahmane Fakori | B356: 46180 | C356: Bharath Classic | D356: Mazagan | E356: Morocco | F356: Asian PGA | I356: Fakori | J356: Abderrahmane | K356: mc | L356: 75 | M356: 73 | Q356: 148 | R356: 73.63 | S356: 72.86 | T356: 76.01 | U356: 72.12 | Y356: 74.07 | Z356: 107 | AA356: 79 | AE356: 10 | AF356: 13 | AJ356: 79
... A414: =IF(J414="","",CONCATENATE(J414," ",I414)) -> Amine El Omari | B414: 46180 | C414: Bharath Classic | D414: Mazagan | E414: Morocco | F414: Asian PGA | I414: El Omari | J414: Amine | K414: mc | L414: 81 | M414: 81 | Q414: 162 | R414: 73.63 | S414: 72.86 | T414: 82.01 | U414: 80.12 | Y414: 81.07 | Z414: 139 | AA414: 138 | AE414: 16 | AF414: 27 | AJ414: 138
A415: =IF(J415="","",CONCATENATE(J415," ",I415)) -> Rohit Baisoya | B415: 46180 | C415: Bharath Classic | D415: Mazagan | E415: Morocco | F415: Asian PGA | I415: Baisoya | J415: Rohit | K415: w | L415: 81 | Q415: 81 | R415: 73.63 | S415: 72.86 | T415: 82.01 | Y415: 82.01 | Z415: 139 | AE415: 16 | AJ415: 139
A416: =IF(J416="","",CONCATENATE(J416," ",I416)) -> Denzel Ieremia | B416: 46180 | C416: Bharath Classic | D416: Mazagan | E416: Morocco | F416: Asian PGA | I416: Ieremia | J416: Denzel | K416: w | L416: 77 | Q416: 77 | R416: 73.63 | S416: 72.86 | T416: 78.01 | Y416: 78.01 | Z416: 125 | AE416: 12 | AJ416: 139
A417: =IF(J417="","",CONCATENATE(J417," ",I417)) -> Kapil Kumar | B417: 46180 | C417: Bharath Classic | D417: Mazagan | E417: Morocco | F417: Asian PGA | I417: Kumar | J417: Kapil | K417: w | L417: 77 | Q417: 77 | R417: 73.63 | S417: 72.86 | T417: 78.01 | Y417: 78.01 | Z417: 125 | AE417: 12 | AJ417: 139
A418: =IF(J418="","",CONCATENATE(J418," ",I418)) -> Vihaan Reddy | B418: 46180 | C418: Bharath Classic | D418: Mazagan | E418: Morocco | F418: Asian PGA | I418: Reddy | J418: Vihaan | K418: w | L418: 74 | Q418: 74 | R418: 73.63 | S418: 72.86 | T418: 75.01 | Y418: 75.01 | Z418: 95 | AE418: 9 | AJ418: 139
A419: =IF(J419="","",CONCATENATE(J419," ",I419)) -> Harshjeet Singh Sethie | B419: 46180 | C419: Bharath Classic | D419: Mazagan | E419: Morocco | F419: Asian PGA | I419: Sethie | J419: Harshjeet Singh | K419: w | L419: 77 | Q419: 77 | R419: 73.63 | S419: 72.86 | T419: 78.01 | Y419: 78.01 | Z419: 125 | AE419: 12 | AJ419: 139
A420: =IF(J420="","",CONCATENATE(J420," ",I420)) -> Ranjit Singh | B420: 46180 | C420: Bharath Classic | D420: Mazagan | E420: Morocco | F420: Asian PGA | I420: Singh | J420: Ranjit | K420: w | L420: 82 | Q420: 82 | R420: 73.63 | S420: 72.86 | T420: 83.01 | Y420: 83.01 | Z420: 144 | AE420: 17 | AJ420: 139
A421: =IF(J421="","",CONCATENATE(J421," ",I421)) -> Liam Grehan | B421: 46180 | C421: Big Easy Tour - Wanderers | D421: Wanderers | E421: South Africa | F421: Big Easy | I421: Grehan | J421: Liam | K421: 1 | L421: 67 | M421: 70 | N421: 66 | Q421: 203 | R421: 76.3 | S421: 75.13 | T421: 70.9 | U421: 73.76 | V421: 69.99 | Y421: 71.55 | Z421: 4 | AA421: 6 | AB421: 1 | AE421: 2 | AF421: 5 | AG421: 0 | AJ421: 1
A422: =IF(J422="","",CONCATENATE(J422," ",I422)) -> Matt Millar | B422: 46180 | C422: Big Easy Tour - Wanderers | D422: Wanderers | E422: South Africa | F422: Big Easy | I422: Millar | J422: Matt | K422: 2 | L422: 66 | M422: 66 | N422: 71 | Q422: 203 | R422: 76.3 | S422: 75.13 | T422: 69.9 | U422: 69.76 | V422: 74.99 | Y422: 71.55 | Z422: 2 | AA422: 1 | AB422: 1 | AE422: 1 | AF422: -2 | AG422: 0 | AJ422: 2
A423: =IF(J423="","",CONCATENATE(J423," ",I423)) -> Sean Cronje | B423: 46180 | C423: Big Easy Tour - Wanderers | D423: Wanderers | E423: South Africa | F423: Big Easy | I423: Cronje | J423: Sean | K423: 3 | L423: 69 | M423: 68 | N423: 67 | Q423: 204 | R423: 76.3 | S423: 75.13 | T423: 72.9 | U423: 71.76 | V423: 70.99 | Y423: 71.88 | Z423: 17 | AA423: 6 | AB423: 3 | AE423: 4 | AF423: 5 | AG423: 1 | AJ423: 3
A424: =IF(J424="","",CONCATENATE(J424," ",I424)) -> Brandon Pieters | B424: 46180 | C424: Big Easy Tour - Wanderers | D424: Wanderers | E424: South Africa | F424: Big Easy | I424: Pieters | J424: Brandon | K424: 3 | L424: 70 | M424: 67 | N424: 67 | Q424: 204 | R424: 76.3 | S424: 75.13 | T424: 73.9 | U424: 70.76 | V424: 70.99 | Y424: 71.88 | Z424: 24 | AA424: 6 | AB424: 3 | AE424: 5 | AF424: 5 | AG424: 1 | AJ424: 3
...

Sheet Record
A1: Win | D1: FRL | G1: Top3: Win | J1: Top3: FRL | N1: WIN | O1: Rank | P1: Player | Q1: P/L | R1: E/W Play | U1: FRL | V1: Rank | W1: Player | X1: P/L | Y1: E/W Play
A2: Stakes | B2: Profit | D2: Stakes | E2: Profit | G2: Stakes | H2: Profit | J2: Stakes | K2: Profit | O2: 1 | P2: =IFERROR(OFFSET(Picks!A$1,MATCH($O2,Picks!$F:$F,0)-1,0),"") -> Suguru Shimoke | Q2: =IFERROR(OFFSET(Picks!I$1,MATCH($O2,Picks!$F:$F,0)-1,0),"") -> -2 | R2: =IFERROR(OFFSET(Picks!J$1,MATCH($O2,Picks!$F:$F,0)-1,0),"") -> Bet365: 200/1, 5pl, 1/4 | V2: 1 | W2: =IFERROR(OFFSET(Picks!M$1,MATCH($O2,Picks!$R:$R,0)-1,0),"") | X2: =IFERROR(OFFSET(Picks!U$1,MATCH($O2,Picks!$R:$R,0)-1,0),"") | Y2: =IFERROR(OFFSET(Picks!V$1,MATCH($O2,Picks!$R:$R,0)-1,0),"")
A3: {=IF(100*SUMPRODUCT((Win!F:F<>"") * IFERROR(--Win!E:E, 0))=0,"",100*SUMPRODUCT((Win!F:F<>"") * IFERROR(--Win!E:E, 0)))} -> 1.4 | B3: =IF(AND(A3="",SUM(Win!G:G)=0),"",SUM(Win!G:G)) -> -1.4 | D3: {=IF(100*SUMPRODUCT((FRL!F:F<>"") * IFERROR(--FRL!E:E, 0))=0,"",100*SUMPRODUCT((FRL!F:F<>"") * IFERROR(--FRL!E:E, 0)))} | E3: =IF(AND(D3="",SUM(FRL!G:G)=0),"",SUM(FRL!G:G)) | G3: =IF(T3Picks!B2="","",2*(3-COUNTBLANK(T3Picks!A2:A4))) -> 6 | H3: =IF(T3Picks!B2="","",SUM(T3Picks!G2:G4)) -> -6 | J3: =IF(T3Picks!B5="","",2*(3-COUNTBLANK(T3Picks!A5:A7))) | K3: =IF(T3Picks!B5="","",SUM(T3Picks!G5:G7)) | O3: 2 | P3: =IFERROR(OFFSET(Picks!A$1,MATCH($O3,Picks!$F:$F,0)-1,0),"") -> Sejung Hiramoto | Q3: =IFERROR(OFFSET(Picks!I$1,MATCH($O3,Picks!$F:$F,0)-1,0),"") -> -2 | R3: =IFERROR(OFFSET(Picks!J$1,MATCH($O3,Picks!$F:$F,0)-1,0),"") -> Bet365: 100/1, 5pl, 1/4 | V3: 2 | W3: =IFERROR(OFFSET(Picks!M$1,MATCH($O3,Picks!$R:$R,0)-1,0),"") | X3: =IFERROR(OFFSET(Picks!U$1,MATCH($O3,Picks!$R:$R,0)-1,0),"") | Y3: =IFERROR(OFFSET(Picks!V$1,MATCH($O3,Picks!$R:$R,0)-1,0),"")
O4: 3 | P4: =IFERROR(OFFSET(Picks!A$1,MATCH($O4,Picks!$F:$F,0)-1,0),"") -> Taiki Yoshida | Q4: =IFERROR(OFFSET(Picks!I$1,MATCH($O4,Picks!$F:$F,0)-1,0),"") -> -2 | R4: =IFERROR(OFFSET(Picks!J$1,MATCH($O4,Picks!$F:$F,0)-1,0),"") -> BetVictor: 50/1, 5pl, 1/4 | V4: 3 | W4: =IFERROR(OFFSET(Picks!M$1,MATCH($O4,Picks!$R:$R,0)-1,0),"") | X4: =IFERROR(OFFSET(Picks!U$1,MATCH($O4,Picks!$R:$R,0)-1,0),"") | Y4: =IFERROR(OFFSET(Picks!V$1,MATCH($O4,Picks!$R:$R,0)-1,0),"")
O5: 4 | P5: =IFERROR(OFFSET(Picks!A$1,MATCH($O5,Picks!$F:$F,0)-1,0),"") -> Yusaku Miyazato | Q5: =IFERROR(OFFSET(Picks!I$1,MATCH($O5,Picks!$F:$F,0)-1,0),"") -> -2 | R5: =IFERROR(OFFSET(Picks!J$1,MATCH($O5,Picks!$F:$F,0)-1,0),"") -> Bet365: 90/1, 5pl, 1/4 | V5: 4 | W5: =IFERROR(OFFSET(Picks!M$1,MATCH($O5,Picks!$R:$R,0)-1,0),"") | X5: =IFERROR(OFFSET(Picks!U$1,MATCH($O5,Picks!$R:$R,0)-1,0),"") | Y5: =IFERROR(OFFSET(Picks!V$1,MATCH($O5,Picks!$R:$R,0)-1,0),"")
O6: 5 | P6: =IFERROR(OFFSET(Picks!A$1,MATCH($O6,Picks!$F:$F,0)-1,0),"") -> Taiga Kobayashi | Q6: =IFERROR(OFFSET(Picks!I$1,MATCH($O6,Picks!$F:$F,0)-1,0),"") -> -2 | R6: =IFERROR(OFFSET(Picks!J$1,MATCH($O6,Picks!$F:$F,0)-1,0),"") -> Bet365: 300/1, 5pl, 1/4 | V6: 5 | W6: =IFERROR(OFFSET(Picks!M$1,MATCH($O6,Picks!$R:$R,0)-1,0),"") | X6: =IFERROR(OFFSET(Picks!U$1,MATCH($O6,Picks!$R:$R,0)-1,0),"") | Y6: =IFERROR(OFFSET(Picks!V$1,MATCH($O6,Picks!$R:$R,0)-1,0),"")
O7: 6 | P7: =IFERROR(OFFSET(Picks!A$1,MATCH($O7,Picks!$F:$F,0)-1,0),"") -> Satoshi Hara | Q7: =IFERROR(OFFSET(Picks!I$1,MATCH($O7,Picks!$F:$F,0)-1,0),"") -> -2 | R7: =IFERROR(OFFSET(Picks!J$1,MATCH($O7,Picks!$F:$F,0)-1,0),"") -> Bet365: 350/1, 5pl, 1/4 | V7: 6 | W7: =IFERROR(OFFSET(Picks!M$1,MATCH($O7,Picks!$R:$R,0)-1,0),"") | X7: =IFERROR(OFFSET(Picks!U$1,MATCH($O7,Picks!$R:$R,0)-1,0),"") | Y7: =IFERROR(OFFSET(Picks!V$1,MATCH($O7,Picks!$R:$R,0)-1,0),"")
O8: 7 | P8: =IFERROR(OFFSET(Picks!A$1,MATCH($O8,Picks!$F:$F,0)-1,0),"") -> Taisei Yamada | Q8: =IFERROR(OFFSET(Picks!I$1,MATCH($O8,Picks!$F:$F,0)-1,0),"") -> -2 | R8: =IFERROR(OFFSET(Picks!J$1,MATCH($O8,Picks!$F:$F,0)-1,0),"") -> Bet365: 400/1, 5pl, 1/4 | V8: 7 | W8: =IFERROR(OFFSET(Picks!M$1,MATCH($O8,Picks!$R:$R,0)-1,0),"") | X8: =IFERROR(OFFSET(Picks!U$1,MATCH($O8,Picks!$R:$R,0)-1,0),"") | Y8: =IFERROR(OFFSET(Picks!V$1,MATCH($O8,Picks!$R:$R,0)-1,0),"")
O9: 8 | P9: =IFERROR(OFFSET(Picks!A$1,MATCH($O9,Picks!$F:$F,0)-1,0),"") -> Todd Baek | Q9: =IFERROR(OFFSET(Picks!I$1,MATCH($O9,Picks!$F:$F,0)-1,0),"") -> -2 | R9: =IFERROR(OFFSET(Picks!J$1,MATCH($O9,Picks!$F:$F,0)-1,0),"") -> Bet365: 500/1, 5pl, 1/4 | V9: 8 | W9: =IFERROR(OFFSET(Picks!M$1,MATCH($O9,Picks!$R:$R,0)-1,0),"") | X9: =IFERROR(OFFSET(Picks!U$1,MATCH($O9,Picks!$R:$R,0)-1,0),"") | Y9: =IFERROR(OFFSET(Picks!V$1,MATCH($O9,Picks!$R:$R,0)-1,0),"")
O10: 9 | P10: =IFERROR(OFFSET(Picks!A$1,MATCH($O10,Picks!$F:$F,0)-1,0),"") -> Shintaro Ban | Q10: =IFERROR(OFFSET(Picks!I$1,MATCH($O10,Picks!$F:$F,0)-1,0),"") -> -2 | R10: =IFERROR(OFFSET(Picks!J$1,MATCH($O10,Picks!$F:$F,0)-1,0),"") -> Bet365: 600/1, 5pl, 1/4 | V10: 9 | W10: =IFERROR(OFFSET(Picks!M$1,MATCH($O10,Picks!$R:$R,0)-1,0),"") | X10: =IFERROR(OFFSET(Picks!U$1,MATCH($O10,Picks!$R:$R,0)-1,0),"") | Y10: =IFERROR(OFFSET(Picks!V$1,MATCH($O10,Picks!$R:$R,0)-1,0),"")
O11: 10 | P11: =IFERROR(OFFSET(Picks!A$1,MATCH($O11,Picks!$F:$F,0)-1,0),"") -> Yuki Moriyama | Q11: =IFERROR(OFFSET(Picks!I$1,MATCH($O11,Picks!$F:$F,0)-1,0),"") -> -2 | R11: =IFERROR(OFFSET(Picks!J$1,MATCH($O11,Picks!$F:$F,0)-1,0),"") -> Bet365: 1000/1, 5pl, 1/4 | V11: 10 | W11: =IFERROR(OFFSET(Picks!M$1,MATCH($O11,Picks!$R:$R,0)-1,0),"") | X11: =IFERROR(OFFSET(Picks!U$1,MATCH($O11,Picks!$R:$R,0)-1,0),"") | Y11: =IFERROR(OFFSET(Picks!V$1,MATCH($O11,Picks!$R:$R,0)-1,0),"")
O12: 11 | P12: =IFERROR(OFFSET(Picks!A$1,MATCH($O12,Picks!$F:$F,0)-1,0),"") -> Yuta Kawakami | Q12: =IFERROR(OFFSET(Picks!I$1,MATCH($O12,Picks!$F:$F,0)-1,0),"") -> -2 | R12: =IFERROR(OFFSET(Picks!J$1,MATCH($O12,Picks!$F:$F,0)-1,0),"") -> Bet365: 1500/1, 5pl, 1/4 | V12: 11 | W12: =IFERROR(OFFSET(Picks!M$1,MATCH($O12,Picks!$R:$R,0)-1,0),"") | X12: =IFERROR(OFFSET(Picks!U$1,MATCH($O12,Picks!$R:$R,0)-1,0),"") | Y12: =IFERROR(OFFSET(Picks!V$1,MATCH($O12,Picks!$R:$R,0)-1,0),"")
O13: 12 | P13: =IFERROR(OFFSET(Picks!A$1,MATCH($O13,Picks!$F:$F,0)-1,0),"") | Q13: =IFERROR(OFFSET(Picks!I$1,MATCH($O13,Picks!$F:$F,0)-1,0),"") | R13: =IFERROR(OFFSET(Picks!J$1,MATCH($O13,Picks!$F:$F,0)-1,0),"") | V13: 12 | W13: =IFERROR(OFFSET(Picks!M$1,MATCH($O13,Picks!$R:$R,0)-1,0),"") | X13: =IFERROR(OFFSET(Picks!U$1,MATCH($O13,Picks!$R:$R,0)-1,0),"") | Y13: =IFERROR(OFFSET(Picks!V$1,MATCH($O13,Picks!$R:$R,0)-1,0),"")
A27: WIN | B27: 1 | C27: 2 | D27: 3 | E27: 4 | F27: 5 | G27: 6 | H27: 7 | I27: 8 | J27: 9 | K27: 10 | L27: 11 | M27: 12 | N27: FRL | O27: 1 | P27: 2 | Q27: 3 | R27: 4 | S27: 5 | T27: 6 | U27: 7 | V27: 8 | W27: 9 | X27: 10 | Y27: 11 | Z27: 12
B28: =Q2*3 -> -6 | C28: =SUM(Q2:Q3)*1.5 -> -6 | D28: =SUM(Q2:Q4) -> -6 | E28: =SUM(Q2:Q5)*3/4 -> -6 | F28: =SUM(Q2:Q6)*3/5 -> -6 | G28: =SUM(Q2:Q7)*3/6 -> -6 | H28: =SUM(Q2:Q8)*3/7 -> -6 | I28: =SUM(Q2:Q9)*3/8 -> -6 | J28: =SUM(Q2:Q10)*3/9 -> -6 | K28: =SUM(Q2:Q11)*3/10 -> -6 | L28: =SUM(Q2:Q12)*3/11 -> -6 | M28: =SUM(Q2:Q13)*3/12 -> -5.5 | O28: =X2*3 -> #VALUE! | P28: =SUM(X2:X3)*1.5 -> 0 | Q28: =SUM(X2:X4) -> 0 | R28: =SUM(X2:X5)*3/4 -> 0 | S28: =SUM(X2:X6)*3/5 -> 0 | T28: =SUM(X2:X7)*3/6 -> 0 | U28: =SUM(X2:X8)*3/7 -> 0 | V28: =SUM(X2:X9)*3/9 -> 0 | W28: =SUM(X2:X10)*3/9 -> 0 | X28: =SUM(X2:X11)*3/10 -> 0 | Y28: =SUM(X2:X12)*3/11 -> 0 | Z28: =SUM(X2:X13)*3/12 -> 0

Sheet Win
A1: Player | B1: Win % | C1: TT Odds | D1: Best Odds | E1: Kelly | F1: Result | G1: P/L | H1: E/W Play
A2: Aguri Iwasaki | B2: 1.38% | C2: 72 | D2: 34 | F2: =IFERROR(IF(A2="","",OFFSET(Results!$AJ$1,MATCH(A2,Results!$A:$A,0)-1,0)),"") -> 16 | G2: =IF(OR(E2="",F2=""),"",IF(F2=1,(IF(COUNTIFS(F:F,"<="&F2)<=1,1,(1-COUNTIFS(F:F,"<"&F2))/COUNTIFS(F:F,F2)))*50*E2*(1+VALUE(MID(H2,FIND(": ",H2)+2,FIND("/",H2)-FIND(":",H2)-2))-1)+50*E2*(1+VALUE(MID(H2,FIND(": ",H2)+2,FIND("/",H2)-FIND(":",H2)-2))-1)/VALUE(RIGHT(H2,1)),IF(F2<=VALUE(MID(H2,FIND(", ",H2)+2,IF(MID(H2,FIND(", ",H2)+2,1)="1",2,1))),(IF(COUNTIFS(F:F,"<="&F2)<=VALUE(MID(H2,FIND(", ",H2)+2,IF(MID(H2,FIND(", ",H2)+2,1)="1",2,1))),1,(VALUE(MID(H2,FIND(", ",H2)+2,IF(MID(H2,FIND(", ",H2)+2,1)="1",2,1)))-COUNTIFS(F:F,"<"&F2))/COUNTIFS(F:F,F2)))*(50*E2*(1+VALUE(MID(H2,FIND(": ",H2)+2,FIND("/",H2)-FIND(":",H2)-2))-1)/VALUE(RIGHT(H2,1))+50*E2)-(100*E2),-E2*100))) | H2: =IF(E2="","",OFFSET([1]Japan!$AL$1,MATCH(A2,[1]Japan!$E$1:$E$500,0)-1,0))
A3: Akira Endo | B3: 0.01% | C3: 10000 | D3: 2001 | F3: =IFERROR(IF(A3="","",OFFSET(Results!$AJ$1,MATCH(A3,Results!$A:$A,0)-1,0)),"") -> 111 | G3: =IF(OR(E3="",F3=""),"",IF(F3=1,(IF(COUNTIFS(F:F,"<="&F3)<=1,1,(1-COUNTIFS(F:F,"<"&F3))/COUNTIFS(F:F,F3)))*50*E3*(1+VALUE(MID(H3,FIND(": ",H3)+2,FIND("/",H3)-FIND(":",H3)-2))-1)+50*E3*(1+VALUE(MID(H3,FIND(": ",H3)+2,FIND("/",H3)-FIND(":",H3)-2))-1)/VALUE(RIGHT(H3,1)),IF(F3<=VALUE(MID(H3,FIND(", ",H3)+2,IF(MID(H3,FIND(", ",H3)+2,1)="1",2,1))),(IF(COUNTIFS(F:F,"<="&F3)<=VALUE(MID(H3,FIND(", ",H3)+2,IF(MID(H3,FIND(", ",H3)+2,1)="1",2,1))),1,(VALUE(MID(H3,FIND(", ",H3)+2,IF(MID(H3,FIND(", ",H3)+2,1)="1",2,1)))-COUNTIFS(F:F,"<"&F3))/COUNTIFS(F:F,F3)))*(50*E3*(1+VALUE(MID(H3,FIND(": ",H3)+2,FIND("/",H3)-FIND(":",H3)-2))-1)/VALUE(RIGHT(H3,1))+50*E3)-(100*E3),-E3*100))) | H3: =IF(E3="","",OFFSET([1]Japan!$AL$1,MATCH(A3,[1]Japan!$E$1:$E$500,0)-1,0))
A4: Aoki Takano | B4: 0.05% | C4: 2000 | D4: 501 | F4: =IFERROR(IF(A4="","",OFFSET(Results!$AJ$1,MATCH(A4,Results!$A:$A,0)-1,0)),"") -> 68 | G4: =IF(OR(E4="",F4=""),"",IF(F4=1,(IF(COUNTIFS(F:F,"<="&F4)<=1,1,(1-COUNTIFS(F:F,"<"&F4))/COUNTIFS(F:F,F4)))*50*E4*(1+VALUE(MID(H4,FIND(": ",H4)+2,FIND("/",H4)-FIND(":",H4)-2))-1)+50*E4*(1+VALUE(MID(H4,FIND(": ",H4)+2,FIND("/",H4)-FIND(":",H4)-2))-1)/VALUE(RIGHT(H4,1)),IF(F4<=VALUE(MID(H4,FIND(", ",H4)+2,IF(MID(H4,FIND(", ",H4)+2,1)="1",2,1))),(IF(COUNTIFS(F:F,"<="&F4)<=VALUE(MID(H4,FIND(", ",H4)+2,IF(MID(H4,FIND(", ",H4)+2,1)="1",2,1))),1,(VALUE(MID(H4,FIND(", ",H4)+2,IF(MID(H4,FIND(", ",H4)+2,1)="1",2,1)))-COUNTIFS(F:F,"<"&F4))/COUNTIFS(F:F,F4)))*(50*E4*(1+VALUE(MID(H4,FIND(": ",H4)+2,FIND("/",H4)-FIND(":",H4)-2))-1)/VALUE(RIGHT(H4,1))+50*E4)-(100*E4),-E4*100))) | H4: =IF(E4="","",OFFSET([1]Japan!$AL$1,MATCH(A4,[1]Japan!$E$1:$E$500,0)-1,0))
A5: Dai Takeuchi | B5: 0.02% | C5: 5000 | D5: 1001 | F5: =IFERROR(IF(A5="","",OFFSET(Results!$AJ$1,MATCH(A5,Results!$A:$A,0)-1,0)),"") -> 105 | G5: =IF(OR(E5="",F5=""),"",IF(F5=1,(IF(COUNTIFS(F:F,"<="&F5)<=1,1,(1-COUNTIFS(F:F,"<"&F5))/COUNTIFS(F:F,F5)))*50*E5*(1+VALUE(MID(H5,FIND(": ",H5)+2,FIND("/",H5)-FIND(":",H5)-2))-1)+50*E5*(1+VALUE(MID(H5,FIND(": ",H5)+2,FIND("/",H5)-FIND(":",H5)-2))-1)/VALUE(RIGHT(H5,1)),IF(F5<=VALUE(MID(H5,FIND(", ",H5)+2,IF(MID(H5,FIND(", ",H5)+2,1)="1",2,1))),(IF(COUNTIFS(F:F,"<="&F5)<=VALUE(MID(H5,FIND(", ",H5)+2,IF(MID(H5,FIND(", ",H5)+2,1)="1",2,1))),1,(VALUE(MID(H5,FIND(", ",H5)+2,IF(MID(H5,FIND(", ",H5)+2,1)="1",2,1)))-COUNTIFS(F:F,"<"&F5))/COUNTIFS(F:F,F5)))*(50*E5*(1+VALUE(MID(H5,FIND(": ",H5)+2,FIND("/",H5)-FIND(":",H5)-2))-1)/VALUE(RIGHT(H5,1))+50*E5)-(100*E5),-E5*100))) | H5: =IF(E5="","",OFFSET([1]Japan!$AL$1,MATCH(A5,[1]Japan!$E$1:$E$500,0)-1,0))
A6: Daijiro Izumida | B6: 0.56% | C6: 179 | D6: 176 | F6: =IFERROR(IF(A6="","",OFFSET(Results!$AJ$1,MATCH(A6,Results!$A:$A,0)-1,0)),"") -> 53 | G6: =IF(OR(E6="",F6=""),"",IF(F6=1,(IF(COUNTIFS(F:F,"<="&F6)<=1,1,(1-COUNTIFS(F:F,"<"&F6))/COUNTIFS(F:F,F6)))*50*E6*(1+VALUE(MID(H6,FIND(": ",H6)+2,FIND("/",H6)-FIND(":",H6)-2))-1)+50*E6*(1+VALUE(MID(H6,FIND(": ",H6)+2,FIND("/",H6)-FIND(":",H6)-2))-1)/VALUE(RIGHT(H6,1)),IF(F6<=VALUE(MID(H6,FIND(", ",H6)+2,IF(MID(H6,FIND(", ",H6)+2,1)="1",2,1))),(IF(COUNTIFS(F:F,"<="&F6)<=VALUE(MID(H6,FIND(", ",H6)+2,IF(MID(H6,FIND(", ",H6)+2,1)="1",2,1))),1,(VALUE(MID(H6,FIND(", ",H6)+2,IF(MID(H6,FIND(", ",H6)+2,1)="1",2,1)))-COUNTIFS(F:F,"<"&F6))/COUNTIFS(F:F,F6)))*(50*E6*(1+VALUE(MID(H6,FIND(": ",H6)+2,FIND("/",H6)-FIND(":",H6)-2))-1)/VALUE(RIGHT(H6,1))+50*E6)-(100*E6),-E6*100))) | H6: =IF(E6="","",OFFSET([1]Japan!$AL$1,MATCH(A6,[1]Japan!$E$1:$E$500,0)-1,0))
A7: Daiki Imano | B7: 0.38% | C7: 263 | D7: 151 | F7: =IFERROR(IF(A7="","",OFFSET(Results!$AJ$1,MATCH(A7,Results!$A:$A,0)-1,0)),"") -> 34 | G7: =IF(OR(E7="",F7=""),"",IF(F7=1,(IF(COUNTIFS(F:F,"<="&F7)<=1,1,(1-COUNTIFS(F:F,"<"&F7))/COUNTIFS(F:F,F7)))*50*E7*(1+VALUE(MID(H7,FIND(": ",H7)+2,FIND("/",H7)-FIND(":",H7)-2))-1)+50*E7*(1+VALUE(MID(H7,FIND(": ",H7)+2,FIND("/",H7)-FIND(":",H7)-2))-1)/VALUE(RIGHT(H7,1)),IF(F7<=VALUE(MID(H7,FIND(", ",H7)+2,IF(MID(H7,FIND(", ",H7)+2,1)="1",2,1))),(IF(COUNTIFS(F:F,"<="&F7)<=VALUE(MID(H7,FIND(", ",H7)+2,IF(MID(H7,FIND(", ",H7)+2,1)="1",2,1))),1,(VALUE(MID(H7,FIND(", ",H7)+2,IF(MID(H7,FIND(", ",H7)+2,1)="1",2,1)))-COUNTIFS(F:F,"<"&F7))/COUNTIFS(F:F,F7)))*(50*E7*(1+VALUE(MID(H7,FIND(": ",H7)+2,FIND("/",H7)-FIND(":",H7)-2))-1)/VALUE(RIGHT(H7,1))+50*E7)-(100*E7),-E7*100))) | H7: =IF(E7="","",OFFSET([1]Japan!$AL$1,MATCH(A7,[1]Japan!$E$1:$E$500,0)-1,0))
A8: Daisuke Kataoka | B8: 0.34% | C8: 294 | D8: 161 | F8: =IFERROR(IF(A8="","",OFFSET(Results!$AJ$1,MATCH(A8,Results!$A:$A,0)-1,0)),"") -> 115 | G8: =IF(OR(E8="",F8=""),"",IF(F8=1,(IF(COUNTIFS(F:F,"<="&F8)<=1,1,(1-COUNTIFS(F:F,"<"&F8))/COUNTIFS(F:F,F8)))*50*E8*(1+VALUE(MID(H8,FIND(": ",H8)+2,FIND("/",H8)-FIND(":",H8)-2))-1)+50*E8*(1+VALUE(MID(H8,FIND(": ",H8)+2,FIND("/",H8)-FIND(":",H8)-2))-1)/VALUE(RIGHT(H8,1)),IF(F8<=VALUE(MID(H8,FIND(", ",H8)+2,IF(MID(H8,FIND(", ",H8)+2,1)="1",2,1))),(IF(COUNTIFS(F:F,"<="&F8)<=VALUE(MID(H8,FIND(", ",H8)+2,IF(MID(H8,FIND(", ",H8)+2,1)="1",2,1))),1,(VALUE(MID(H8,FIND(", ",H8)+2,IF(MID(H8,FIND(", ",H8)+2,1)="1",2,1)))-COUNTIFS(F:F,"<"&F8))/COUNTIFS(F:F,F8)))*(50*E8*(1+VALUE(MID(H8,FIND(": ",H8)+2,FIND("/",H8)-FIND(":",H8)-2))-1)/VALUE(RIGHT(H8,1))+50*E8)-(100*E8),-E8*100))) | H8: =IF(E8="","",OFFSET([1]Japan!$AL$1,MATCH(A8,[1]Japan!$E$1:$E$500,0)-1,0))
A9: Eric Sugimoto | B9: 0.07% | C9: 1429 | D9: 501 | F9: =IFERROR(IF(A9="","",OFFSET(Results!$AJ$1,MATCH(A9,Results!$A:$A,0)-1,0)),"") -> 115 | G9: =IF(OR(E9="",F9=""),"",IF(F9=1,(IF(COUNTIFS(F:F,"<="&F9)<=1,1,(1-COUNTIFS(F:F,"<"&F9))/COUNTIFS(F:F,F9)))*50*E9*(1+VALUE(MID(H9,FIND(": ",H9)+2,FIND("/",H9)-FIND(":",H9)-2))-1)+50*E9*(1+VALUE(MID(H9,FIND(": ",H9)+2,FIND("/",H9)-FIND(":",H9)-2))-1)/VALUE(RIGHT(H9,1)),IF(F9<=VALUE(MID(H9,FIND(", ",H9)+2,IF(MID(H9,FIND(", ",H9)+2,1)="1",2,1))),(IF(COUNTIFS(F:F,"<="&F9)<=VALUE(MID(H9,FIND(", ",H9)+2,IF(MID(H9,FIND(", ",H9)+2,1)="1",2,1))),1,(VALUE(MID(H9,FIND(", ",H9)+2,IF(MID(H9,FIND(", ",H9)+2,1)="1",2,1)))-COUNTIFS(F:F,"<"&F9))/COUNTIFS(F:F,F9)))*(50*E9*(1+VALUE(MID(H9,FIND(": ",H9)+2,FIND("/",H9)-FIND(":",H9)-2))-1)/VALUE(RIGHT(H9,1))+50*E9)-(100*E9),-E9*100))) | H9: =IF(E9="","",OFFSET([1]Japan!$AL$1,MATCH(A9,[1]Japan!$E$1:$E$500,0)-1,0))
A10: Genki Okada | B10: 0.20% | C10: 500 | D10: 401 | F10: =IFERROR(IF(A10="","",OFFSET(Results!$AJ$1,MATCH(A10,Results!$A:$A,0)-1,0)),"") -> 12 | G10: =IF(OR(E10="",F10=""),"",IF(F10=1,(IF(COUNTIFS(F:F,"<="&F10)<=1,1,(1-COUNTIFS(F:F,"<"&F10))/COUNTIFS(F:F,F10)))*50*E10*(1+VALUE(MID(H10,FIND(": ",H10)+2,FIND("/",H10)-FIND(":",H10)-2))-1)+50*E10*(1+VALUE(MID(H10,FIND(": ",H10)+2,FIND("/",H10)-FIND(":",H10)-2))-1)/VALUE(RIGHT(H10,1)),IF(F10<=VALUE(MID(H10,FIND(", ",H10)+2,IF(MID(H10,FIND(", ",H10)+2,1)="1",2,1))),(IF(COUNTIFS(F:F,"<="&F10)<=VALUE(MID(H10,FIND(", ",H10)+2,IF(MID(H10,FIND(", ",H10)+2,1)="1",2,1))),1,(VALUE(MID(H10,FIND(", ",H10)+2,IF(MID(H10,FIND(", ",H10)+2,1)="1",2,1)))-COUNTIFS(F:F,"<"&F10))/COUNTIFS(F:F,F10)))*(50*E10*(1+VALUE(MID(H10,FIND(": ",H10)+2,FIND("/",H10)-FIND(":",H10)-2))-1)/VALUE(RIGHT(H10,1))+50*E10)-(100*E10),-E10*100))) | H10: =IF(E10="","",OFFSET([1]Japan!$AL$1,MATCH(A10,[1]Japan!$E$1:$E$500,0)-1,0))
A11: Genzo Tokimatsu | B11: 0.08% | C11: 1250 | D11: 1001 | F11: =IFERROR(IF(A11="","",OFFSET(Results!$AJ$1,MATCH(A11,Results!$A:$A,0)-1,0)),"") -> 31 | G11: =IF(OR(E11="",F11=""),"",IF(F11=1,(IF(COUNTIFS(F:F,"<="&F11)<=1,1,(1-COUNTIFS(F:F,"<"&F11))/COUNTIFS(F:F,F11)))*50*E11*(1+VALUE(MID(H11,FIND(": ",H11)+2,FIND("/",H11)-FIND(":",H11)-2))-1)+50*E11*(1+VALUE(MID(H11,FIND(": ",H11)+2,FIND("/",H11)-FIND(":",H11)-2))-1)/VALUE(RIGHT(H11,1)),IF(F11<=VALUE(MID(H11,FIND(", ",H11)+2,IF(MID(H11,FIND(", ",H11)+2,1)="1",2,1))),(IF(COUNTIFS(F:F,"<="&F11)<=VALUE(MID(H11,FIND(", ",H11)+2,IF(MID(H11,FIND(", ",H11)+2,1)="1",2,1))),1,(VALUE(MID(H11,FIND(", ",H11)+2,IF(MID(H11,FIND(", ",H11)+2,1)="1",2,1)))-COUNTIFS(F:F,"<"&F11))/COUNTIFS(F:F,F11)))*(50*E11*(1+VALUE(MID(H11,FIND(": ",H11)+2,FIND("/",H11)-FIND(":",H11)-2))-1)/VALUE(RIGHT(H11,1))+50*E11)-(100*E11),-E11*100))) | H11: =IF(E11="","",OFFSET([1]Japan!$AL$1,MATCH(A11,[1]Japan!$E$1:$E$500,0)-1,0))
A12: Hideto Kobukuro | B12: 0.06% | C12: 1667 | D12: 1001 | F12: =IFERROR(IF(A12="","",OFFSET(Results!$AJ$1,MATCH(A12,Results!$A:$A,0)-1,0)),"") -> 118 | G12: =IF(OR(E12="",F12=""),"",IF(F12=1,(IF(COUNTIFS(F:F,"<="&F12)<=1,1,(1-COUNTIFS(F:F,"<"&F12))/COUNTIFS(F:F,F12)))*50*E12*(1+VALUE(MID(H12,FIND(": ",H12)+2,FIND("/",H12)-FIND(":",H12)-2))-1)+50*E12*(1+VALUE(MID(H12,FIND(": ",H12)+2,FIND("/",H12)-FIND(":",H12)-2))-1)/VALUE(RIGHT(H12,1)),IF(F12<=VALUE(MID(H12,FIND(", ",H12)+2,IF(MID(H12,FIND(", ",H12)+2,1)="1",2,1))),(IF(COUNTIFS(F:F,"<="&F12)<=VALUE(MID(H12,FIND(", ",H12)+2,IF(MID(H12,FIND(", ",H12)+2,1)="1",2,1))),1,(VALUE(MID(H12,FIND(", ",H12)+2,IF(MID(H12,FIND(", ",H12)+2,1)="1",2,1)))-COUNTIFS(F:F,"<"&F12))/COUNTIFS(F:F,F12)))*(50*E12*(1+VALUE(MID(H12,FIND(": ",H12)+2,FIND("/",H12)-FIND(":",H12)-2))-1)/VALUE(RIGHT(H12,1))+50*E12)-(100*E12),-E12*100))) | H12: =IF(E12="","",OFFSET([1]Japan!$AL$1,MATCH(A12,[1]Japan!$E$1:$E$500,0)-1,0))
A13: Hikaru Yuhara | B13: 0.05% | C13: 2000 | D13: 1001 | F13: =IFERROR(IF(A13="","",OFFSET(Results!$AJ$1,MATCH(A13,Results!$A:$A,0)-1,0)),"") -> 97 | G13: =IF(OR(E13="",F13=""),"",IF(F13=1,(IF(COUNTIFS(F:F,"<="&F13)<=1,1,(1-COUNTIFS(F:F,"<"&F13))/COUNTIFS(F:F,F13)))*50*E13*(1+VALUE(MID(H13,FIND(": ",H13)+2,FIND("/",H13)-FIND(":",H13)-2))-1)+50*E13*(1+VALUE(MID(H13,FIND(": ",H13)+2,FIND("/",H13)-FIND(":",H13)-2))-1)/VALUE(RIGHT(H13,1)),IF(F13<=VALUE(MID(H13,FIND(", ",H13)+2,IF(MID(H13,FIND(", ",H13)+2,1)="1",2,1))),(IF(COUNTIFS(F:F,"<="&F13)<=VALUE(MID(H13,FIND(", ",H13)+2,IF(MID(H13,FIND(", ",H13)+2,1)="1",2,1))),1,(VALUE(MID(H13,FIND(", ",H13)+2,IF(MID(H13,FIND(", ",H13)+2,1)="1",2,1)))-COUNTIFS(F:F,"<"&F13))/COUNTIFS(F:F,F13)))*(50*E13*(1+VALUE(MID(H13,FIND(": ",H13)+2,FIND("/",H13)-FIND(":",H13)-2))-1)/VALUE(RIGHT(H13,1))+50*E13)-(100*E13),-E13*100))) | H13: =IF(E13="","",OFFSET([1]Japan!$AL$1,MATCH(A13,[1]Japan!$E$1:$E$500,0)-1,0))
... A28: Katsuhiro Kushiyama | B28: 0.07% | C28: 1429 | D28: 1001 | F28: =IFERROR(IF(A28="","",OFFSET(Results!$AJ$1,MATCH(A28,Results!$A:$A,0)-1,0)),"") -> 118 | G28: =IF(OR(E28="",F28=""),"",IF(F28=1,(IF(COUNTIFS(F:F,"<="&F28)<=1,1,(1-COUNTIFS(F:F,"<"&F28))/COUNTIFS(F:F,F28)))*50*E28*(1+VALUE(MID(H28,FIND(": ",H28)+2,FIND("/",H28)-FIND(":",H28)-2))-1)+50*E28*(1+VALUE(MID(H28,FIND(": ",H28)+2,FIND("/",H28)-FIND(":",H28)-2))-1)/VALUE(RIGHT(H28,1)),IF(F28<=VALUE(MID(H28,FIND(", ",H28)+2,IF(MID(H28,FIND(", ",H28)+2,1)="1",2,1))),(IF(COUNTIFS(F:F,"<="&F28)<=VALUE(MID(H28,FIND(", ",H28)+2,IF(MID(H28,FIND(", ",H28)+2,1)="1",2,1))),1,(VALUE(MID(H28,FIND(", ",H28)+2,IF(MID(H28,FIND(", ",H28)+2,1)="1",2,1)))-COUNTIFS(F:F,"<"&F28))/COUNTIFS(F:F,F28)))*(50*E28*(1+VALUE(MID(H28,FIND(": ",H28)+2,FIND("/",H28)-FIND(":",H28)-2))-1)/VALUE(RIGHT(H28,1))+50*E28)-(100*E28),-E28*100))) | H28: =IF(E28="","",OFFSET([1]Japan!$AL$1,MATCH(A28,[1]Japan!$E$1:$E$500,0)-1,0))
A29: Kazuhiro Hosokawa | B29: 0.00% | C29: 10000 | F29: =IFERROR(IF(A29="","",OFFSET(Results!$AJ$1,MATCH(A29,Results!$A:$A,0)-1,0)),"") -> 67 | G29: =IF(OR(E29="",F29=""),"",IF(F29=1,(IF(COUNTIFS(F:F,"<="&F29)<=1,1,(1-COUNTIFS(F:F,"<"&F29))/COUNTIFS(F:F,F29)))*50*E29*(1+VALUE(MID(H29,FIND(": ",H29)+2,FIND("/",H29)-FIND(":",H29)-2))-1)+50*E29*(1+VALUE(MID(H29,FIND(": ",H29)+2,FIND("/",H29)-FIND(":",H29)-2))-1)/VALUE(RIGHT(H29,1)),IF(F29<=VALUE(MID(H29,FIND(", ",H29)+2,IF(MID(H29,FIND(", ",H29)+2,1)="1",2,1))),(IF(COUNTIFS(F:F,"<="&F29)<=VALUE(MID(H29,FIND(", ",H29)+2,IF(MID(H29,FIND(", ",H29)+2,1)="1",2,1))),1,(VALUE(MID(H29,FIND(", ",H29)+2,IF(MID(H29,FIND(", ",H29)+2,1)="1",2,1)))-COUNTIFS(F:F,"<"&F29))/COUNTIFS(F:F,F29)))*(50*E29*(1+VALUE(MID(H29,FIND(": ",H29)+2,FIND("/",H29)-FIND(":",H29)-2))-1)/VALUE(RIGHT(H29,1))+50*E29)-(100*E29),-E29*100))) | H29: =IF(E29="","",OFFSET([1]Japan!$AL$1,MATCH(A29,[1]Japan!$E$1:$E$500,0)-1,0))
A30: Kazuki Higa | B30: 3.34% | C30: 30 | D30: 15 | F30: =IFERROR(IF(A30="","",OFFSET(Results!$AJ$1,MATCH(A30,Results!$A:$A,0)-1,0)),"") -> 68 | G30: =IF(OR(E30="",F30=""),"",IF(F30=1,(IF(COUNTIFS(F:F,"<="&F30)<=1,1,(1-COUNTIFS(F:F,"<"&F30))/COUNTIFS(F:F,F30)))*50*E30*(1+VALUE(MID(H30,FIND(": ",H30)+2,FIND("/",H30)-FIND(":",H30)-2))-1)+50*E30*(1+VALUE(MID(H30,FIND(": ",H30)+2,FIND("/",H30)-FIND(":",H30)-2))-1)/VALUE(RIGHT(H30,1)),IF(F30<=VALUE(MID(H30,FIND(", ",H30)+2,IF(MID(H30,FIND(", ",H30)+2,1)="1",2,1))),(IF(COUNTIFS(F:F,"<="&F30)<=VALUE(MID(H30,FIND(", ",H30)+2,IF(MID(H30,FIND(", ",H30)+2,1)="1",2,1))),1,(VALUE(MID(H30,FIND(", ",H30)+2,IF(MID(H30,FIND(", ",H30)+2,1)="1",2,1)))-COUNTIFS(F:F,"<"&F30))/COUNTIFS(F:F,F30)))*(50*E30*(1+VALUE(MID(H30,FIND(": ",H30)+2,FIND("/",H30)-FIND(":",H30)-2))-1)/VALUE(RIGHT(H30,1))+50*E30)-(100*E30),-E30*100))) | H30: =IF(E30="","",OFFSET([1]Japan!$AL$1,MATCH(A30,[1]Japan!$E$1:$E$500,0)-1,0))
A31: Kazuki Yasumori | B31: 0.55% | C31: 182 | D31: 141 | F31: =IFERROR(IF(A31="","",OFFSET(Results!$AJ$1,MATCH(A31,Results!$A:$A,0)-1,0)),"") -> 111 | G31: =IF(OR(E31="",F31=""),"",IF(F31=1,(IF(COUNTIFS(F:F,"<="&F31)<=1,1,(1-COUNTIFS(F:F,"<"&F31))/COUNTIFS(F:F,F31)))*50*E31*(1+VALUE(MID(H31,FIND(": ",H31)+2,FIND("/",H31)-FIND(":",H31)-2))-1)+50*E31*(1+VALUE(MID(H31,FIND(": ",H31)+2,FIND("/",H31)-FIND(":",H31)-2))-1)/VALUE(RIGHT(H31,1)),IF(F31<=VALUE(MID(H31,FIND(", ",H31)+2,IF(MID(H31,FIND(", ",H31)+2,1)="1",2,1))),(IF(COUNTIFS(F:F,"<="&F31)<=VALUE(MID(H31,FIND(", ",H31)+2,IF(MID(H31,FIND(", ",H31)+2,1)="1",2,1))),1,(VALUE(MID(H31,FIND(", ",H31)+2,IF(MID(H31,FIND(", ",H31)+2,1)="1",2,1)))-COUNTIFS(F:F,"<"&F31))/COUNTIFS(F:F,F31)))*(50*E31*(1+VALUE(MID(H31,FIND(": ",H31)+2,FIND("/",H31)-FIND(":",H31)-2))-1)/VALUE(RIGHT(H31,1))+50*E31)-(100*E31),-E31*100))) | H31: =IF(E31="","",OFFSET([1]Japan!$AL$1,MATCH(A31,[1]Japan!$E$1:$E$500,0)-1,0))
A32: Keigo Takehara | B32: 0.05% | C32: 2000 | D32: 751 | F32: =IFERROR(IF(A32="","",OFFSET(Results!$AJ$1,MATCH(A32,Results!$A:$A,0)-1,0)),"") -> 68 | G32: =IF(OR(E32="",F32=""),"",IF(F32=1,(IF(COUNTIFS(F:F,"<="&F32)<=1,1,(1-COUNTIFS(F:F,"<"&F32))/COUNTIFS(F:F,F32)))*50*E32*(1+VALUE(MID(H32,FIND(": ",H32)+2,FIND("/",H32)-FIND(":",H32)-2))-1)+50*E32*(1+VALUE(MID(H32,FIND(": ",H32)+2,FIND("/",H32)-FIND(":",H32)-2))-1)/VALUE(RIGHT(H32,1)),IF(F32<=VALUE(MID(H32,FIND(", ",H32)+2,IF(MID(H32,FIND(", ",H32)+2,1)="1",2,1))),(IF(COUNTIFS(F:F,"<="&F32)<=VALUE(MID(H32,FIND(", ",H32)+2,IF(MID(H32,FIND(", ",H32)+2,1)="1",2,1))),1,(VALUE(MID(H32,FIND(", ",H32)+2,IF(MID(H32,FIND(", ",H32)+2,1)="1",2,1)))-COUNTIFS(F:F,"<"&F32))/COUNTIFS(F:F,F32)))*(50*E32*(1+VALUE(MID(H32,FIND(": ",H32)+2,FIND("/",H32)-FIND(":",H32)-2))-1)/VALUE(RIGHT(H32,1))+50*E32)-(100*E32),-E32*100))) | H32: =IF(E32="","",OFFSET([1]Japan!$AL$1,MATCH(A32,[1]Japan!$E$1:$E$500,0)-1,0))
A33: Kenya Nakayama | B33: 0.06% | C33: 1667 | D33: 1001 | F33: =IFERROR(IF(A33="","",OFFSET(Results!$AJ$1,MATCH(A33,Results!$A:$A,0)-1,0)),"") -> 68 | G33: =IF(OR(E33="",F33=""),"",IF(F33=1,(IF(COUNTIFS(F:F,"<="&F33)<=1,1,(1-COUNTIFS(F:F,"<"&F33))/COUNTIFS(F:F,F33)))*50*E33*(1+VALUE(MID(H33,FIND(": ",H33)+2,FIND("/",H33)-FIND(":",H33)-2))-1)+50*E33*(1+VALUE(MID(H33,FIND(": ",H33)+2,FIND("/",H33)-FIND(":",H33)-2))-1)/VALUE(RIGHT(H33,1)),IF(F33<=VALUE(MID(H33,FIND(", ",H33)+2,IF(MID(H33,FIND(", ",H33)+2,1)="1",2,1))),(IF(COUNTIFS(F:F,"<="&F33)<=VALUE(MID(H33,FIND(", ",H33)+2,IF(MID(H33,FIND(", ",H33)+2,1)="1",2,1))),1,(VALUE(MID(H33,FIND(", ",H33)+2,IF(MID(H33,FIND(", ",H33)+2,1)="1",2,1)))-COUNTIFS(F:F,"<"&F33))/COUNTIFS(F:F,F33)))*(50*E33*(1+VALUE(MID(H33,FIND(": ",H33)+2,FIND("/",H33)-FIND(":",H33)-2))-1)/VALUE(RIGHT(H33,1))+50*E33)-(100*E33),-E33*100))) | H33: =IF(E33="","",OFFSET([1]Japan!$AL$1,MATCH(A33,[1]Japan!$E$1:$E$500,0)-1,0))
A34: Kodai Aoyama | B34: 0.08% | C34: 1250 | D34: 501 | F34: =IFERROR(IF(A34="","",OFFSET(Results!$AJ$1,MATCH(A34,Results!$A:$A,0)-1,0)),"") -> 123 | G34: =IF(OR(E34="",F34=""),"",IF(F34=1,(IF(COUNTIFS(F:F,"<="&F34)<=1,1,(1-COUNTIFS(F:F,"<"&F34))/COUNTIFS(F:F,F34)))*50*E34*(1+VALUE(MID(H34,FIND(": ",H34)+2,FIND("/",H34)-FIND(":",H34)-2))-1)+50*E34*(1+VALUE(MID(H34,FIND(": ",H34)+2,FIND("/",H34)-FIND(":",H34)-2))-1)/VALUE(RIGHT(H34,1)),IF(F34<=VALUE(MID(H34,FIND(", ",H34)+2,IF(MID(H34,FIND(", ",H34)+2,1)="1",2,1))),(IF(COUNTIFS(F:F,"<="&F34)<=VALUE(MID(H34,FIND(", ",H34)+2,IF(MID(H34,FIND(", ",H34)+2,1)="1",2,1))),1,(VALUE(MID(H34,FIND(", ",H34)+2,IF(MID(H34,FIND(", ",H34)+2,1)="1",2,1)))-COUNTIFS(F:F,"<"&F34))/COUNTIFS(F:F,F34)))*(50*E34*(1+VALUE(MID(H34,FIND(": ",H34)+2,FIND("/",H34)-FIND(":",H34)-2))-1)/VALUE(RIGHT(H34,1))+50*E34)-(100*E34),-E34*100))) | H34: =IF(E34="","",OFFSET([1]Japan!$AL$1,MATCH(A34,[1]Japan!$E$1:$E$500,0)-1,0))
A35: Kodai Ichihara | B35: 0.29% | C35: 345 | D35: 301 | F35: =IFERROR(IF(A35="","",OFFSET(Results!$AJ$1,MATCH(A35,Results!$A:$A,0)-1,0)),"") -> 88 | G35: =IF(OR(E35="",F35=""),"",IF(F35=1,(IF(COUNTIFS(F:F,"<="&F35)<=1,1,(1-COUNTIFS(F:F,"<"&F35))/COUNTIFS(F:F,F35)))*50*E35*(1+VALUE(MID(H35,FIND(": ",H35)+2,FIND("/",H35)-FIND(":",H35)-2))-1)+50*E35*(1+VALUE(MID(H35,FIND(": ",H35)+2,FIND("/",H35)-FIND(":",H35)-2))-1)/VALUE(RIGHT(H35,1)),IF(F35<=VALUE(MID(H35,FIND(", ",H35)+2,IF(MID(H35,FIND(", ",H35)+2,1)="1",2,1))),(IF(COUNTIFS(F:F,"<="&F35)<=VALUE(MID(H35,FIND(", ",H35)+2,IF(MID(H35,FIND(", ",H35)+2,1)="1",2,1))),1,(VALUE(MID(H35,FIND(", ",H35)+2,IF(MID(H35,FIND(", ",H35)+2,1)="1",2,1)))-COUNTIFS(F:F,"<"&F35))/COUNTIFS(F:F,F35)))*(50*E35*(1+VALUE(MID(H35,FIND(": ",H35)+2,FIND("/",H35)-FIND(":",H35)-2))-1)/VALUE(RIGHT(H35,1))+50*E35)-(100*E35),-E35*100))) | H35: =IF(E35="","",OFFSET([1]Japan!$AL$1,MATCH(A35,[1]Japan!$E$1:$E$500,0)-1,0))
A36: Kohei Okada | B36: 1.41% | C36: 71 | D36: 34 | F36: =IFERROR(IF(A36="","",OFFSET(Results!$AJ$1,MATCH(A36,Results!$A:$A,0)-1,0)),"") -> 97 | G36: =IF(OR(E36="",F36=""),"",IF(F36=1,(IF(COUNTIFS(F:F,"<="&F36)<=1,1,(1-COUNTIFS(F:F,"<"&F36))/COUNTIFS(F:F,F36)))*50*E36*(1+VALUE(MID(H36,FIND(": ",H36)+2,FIND("/",H36)-FIND(":",H36)-2))-1)+50*E36*(1+VALUE(MID(H36,FIND(": ",H36)+2,FIND("/",H36)-FIND(":",H36)-2))-1)/VALUE(RIGHT(H36,1)),IF(F36<=VALUE(MID(H36,FIND(", ",H36)+2,IF(MID(H36,FIND(", ",H36)+2,1)="1",2,1))),(IF(COUNTIFS(F:F,"<="&F36)<=VALUE(MID(H36,FIND(", ",H36)+2,IF(MID(H36,FIND(", ",H36)+2,1)="1",2,1))),1,(VALUE(MID(H36,FIND(", ",H36)+2,IF(MID(H36,FIND(", ",H36)+2,1)="1",2,1)))-COUNTIFS(F:F,"<"&F36))/COUNTIFS(F:F,F36)))*(50*E36*(1+VALUE(MID(H36,FIND(": ",H36)+2,FIND("/",H36)-FIND(":",H36)-2))-1)/VALUE(RIGHT(H36,1))+50*E36)-(100*E36),-E36*100))) | H36: =IF(E36="","",OFFSET([1]Japan!$AL$1,MATCH(A36,[1]Japan!$E$1:$E$500,0)-1,0))
A37: Koichiro Furuse | B37: 0.24% | C37: 417 | D37: 201 | F37: =IFERROR(IF(A37="","",OFFSET(Results!$AJ$1,MATCH(A37,Results!$A:$A,0)-1,0)),"") -> 115 | G37: =IF(OR(E37="",F37=""),"",IF(F37=1,(IF(COUNTIFS(F:F,"<="&F37)<=1,1,(1-COUNTIFS(F:F,"<"&F37))/COUNTIFS(F:F,F37)))*50*E37*(1+VALUE(MID(H37,FIND(": ",H37)+2,FIND("/",H37)-FIND(":",H37)-2))-1)+50*E37*(1+VALUE(MID(H37,FIND(": ",H37)+2,FIND("/",H37)-FIND(":",H37)-2))-1)/VALUE(RIGHT(H37,1)),IF(F37<=VALUE(MID(H37,FIND(", ",H37)+2,IF(MID(H37,FIND(", ",H37)+2,1)="1",2,1))),(IF(COUNTIFS(F:F,"<="&F37)<=VALUE(MID(H37,FIND(", ",H37)+2,IF(MID(H37,FIND(", ",H37)+2,1)="1",2,1))),1,(VALUE(MID(H37,FIND(", ",H37)+2,IF(MID(H37,FIND(", ",H37)+2,1)="1",2,1)))-COUNTIFS(F:F,"<"&F37))/COUNTIFS(F:F,F37)))*(50*E37*(1+VALUE(MID(H37,FIND(": ",H37)+2,FIND("/",H37)-FIND(":",H37)-2))-1)/VALUE(RIGHT(H37,1))+50*E37)-(100*E37),-E37*100))) | H37: =IF(E37="","",OFFSET([1]Japan!$AL$1,MATCH(A37,[1]Japan!$E$1:$E$500,0)-1,0))
A38: Kosei Takeyama | B38: 0.20% | C38: 500 | D38: 301 | F38: =IFERROR(IF(A38="","",OFFSET(Results!$AJ$1,MATCH(A38,Results!$A:$A,0)-1,0)),"") -> 81 | G38: =IF(OR(E38="",F38=""),"",IF(F38=1,(IF(COUNTIFS(F:F,"<="&F38)<=1,1,(1-COUNTIFS(F:F,"<"&F38))/COUNTIFS(F:F,F38)))*50*E38*(1+VALUE(MID(H38,FIND(": ",H38)+2,FIND("/",H38)-FIND(":",H38)-2))-1)+50*E38*(1+VALUE(MID(H38,FIND(": ",H38)+2,FIND("/",H38)-FIND(":",H38)-2))-1)/VALUE(RIGHT(H38,1)),IF(F38<=VALUE(MID(H38,FIND(", ",H38)+2,IF(MID(H38,FIND(", ",H38)+2,1)="1",2,1))),(IF(COUNTIFS(F:F,"<="&F38)<=VALUE(MID(H38,FIND(", ",H38)+2,IF(MID(H38,FIND(", ",H38)+2,1)="1",2,1))),1,(VALUE(MID(H38,FIND(", ",H38)+2,IF(MID(H38,FIND(", ",H38)+2,1)="1",2,1)))-COUNTIFS(F:F,"<"&F38))/COUNTIFS(F:F,F38)))*(50*E38*(1+VALUE(MID(H38,FIND(": ",H38)+2,FIND("/",H38)-FIND(":",H38)-2))-1)/VALUE(RIGHT(H38,1))+50*E38)-(100*E38),-E38*100))) | H38: =IF(E38="","",OFFSET([1]Japan!$AL$1,MATCH(A38,[1]Japan!$E$1:$E$500,0)-1,0))
A39: Koshiro Maeda | B39: 1.25% | C39: 80 | D39: 67 | F39: =IFERROR(IF(A39="","",OFFSET(Results!$AJ$1,MATCH(A39,Results!$A:$A,0)-1,0)),"") -> 68 | G39: =IF(OR(E39="",F39=""),"",IF(F39=1,(IF(COUNTIFS(F:F,"<="&F39)<=1,1,(1-COUNTIFS(F:F,"<"&F39))/COUNTIFS(F:F,F39)))*50*E39*(1+VALUE(MID(H39,FIND(": ",H39)+2,FIND("/",H39)-FIND(":",H39)-2))-1)+50*E39*(1+VALUE(MID(H39,FIND(": ",H39)+2,FIND("/",H39)-FIND(":",H39)-2))-1)/VALUE(RIGHT(H39,1)),IF(F39<=VALUE(MID(H39,FIND(", ",H39)+2,IF(MID(H39,FIND(", ",H39)+2,1)="1",2,1))),(IF(COUNTIFS(F:F,"<="&F39)<=VALUE(MID(H39,FIND(", ",H39)+2,IF(MID(H39,FIND(", ",H39)+2,1)="1",2,1))),1,(VALUE(MID(H39,FIND(", ",H39)+2,IF(MID(H39,FIND(", ",H39)+2,1)="1",2,1)))-COUNTIFS(F:F,"<"&F39))/COUNTIFS(F:F,F39)))*(50*E39*(1+VALUE(MID(H39,FIND(": ",H39)+2,FIND("/",H39)-FIND(":",H39)-2))-1)/VALUE(RIGHT(H39,1))+50*E39)-(100*E39),-E39*100))) | H39: =IF(E39="","",OFFSET([1]Japan!$AL$1,MATCH(A39,[1]Japan!$E$1:$E$500,0)-1,0))
A40: Kosuke Sunagawa | B40: 0.84% | C40: 119 | D40: 81 | F40: =IFERROR(IF(A40="","",OFFSET(Results!$AJ$1,MATCH(A40,Results!$A:$A,0)-1,0)),"") -> 88 | G40: =IF(OR(E40="",F40=""),"",IF(F40=1,(IF(COUNTIFS(F:F,"<="&F40)<=1,1,(1-COUNTIFS(F:F,"<"&F40))/COUNTIFS(F:F,F40)))*50*E40*(1+VALUE(MID(H40,FIND(": ",H40)+2,FIND("/",H40)-FIND(":",H40)-2))-1)+50*E40*(1+VALUE(MID(H40,FIND(": ",H40)+2,FIND("/",H40)-FIND(":",H40)-2))-1)/VALUE(RIGHT(H40,1)),IF(F40<=VALUE(MID(H40,FIND(", ",H40)+2,IF(MID(H40,FIND(", ",H40)+2,1)="1",2,1))),(IF(COUNTIFS(F:F,"<="&F40)<=VALUE(MID(H40,FIND(", ",H40)+2,IF(MID(H40,FIND(", ",H40)+2,1)="1",2,1))),1,(VALUE(MID(H40,FIND(", ",H40)+2,IF(MID(H40,FIND(", ",H40)+2,1)="1",2,1)))-COUNTIFS(F:F,"<"&F40))/COUNTIFS(F:F,F40)))*(50*E40*(1+VALUE(MID(H40,FIND(": ",H40)+2,FIND("/",H40)-FIND(":",H40)-2))-1)/VALUE(RIGHT(H40,1))+50*E40)-(100*E40),-E40*100))) | H40: =IF(E40="","",OFFSET([1]Japan!$AL$1,MATCH(A40,[1]Japan!$E$1:$E$500,0)-1,0))
A41: Kosuke Suzuki | B41: 0.39% | C41: 256 | D41: 151 | F41: =IFERROR(IF(A41="","",OFFSET(Results!$AJ$1,MATCH(A41,Results!$A:$A,0)-1,0)),"") -> 42 | G41: =IF(OR(E41="",F41=""),"",IF(F41=1,(IF(COUNTIFS(F:F,"<="&F41)<=1,1,(1-COUNTIFS(F:F,"<"&F41))/COUNTIFS(F:F,F41)))*50*E41*(1+VALUE(MID(H41,FIND(": ",H41)+2,FIND("/",H41)-FIND(":",H41)-2))-1)+50*E41*(1+VALUE(MID(H41,FIND(": ",H41)+2,FIND("/",H41)-FIND(":",H41)-2))-1)/VALUE(RIGHT(H41,1)),IF(F41<=VALUE(MID(H41,FIND(", ",H41)+2,IF(MID(H41,FIND(", ",H41)+2,1)="1",2,1))),(IF(COUNTIFS(F:F,"<="&F41)<=VALUE(MID(H41,FIND(", ",H41)+2,IF(MID(H41,FIND(", ",H41)+2,1)="1",2,1))),1,(VALUE(MID(H41,FIND(", ",H41)+2,IF(MID(H41,FIND(", ",H41)+2,1)="1",2,1)))-COUNTIFS(F:F,"<"&F41))/COUNTIFS(F:F,F41)))*(50*E41*(1+VALUE(MID(H41,FIND(": ",H41)+2,FIND("/",H41)-FIND(":",H41)-2))-1)/VALUE(RIGHT(H41,1))+50*E41)-(100*E41),-E41*100))) | H41: =IF(E41="","",OFFSET([1]Japan!$AL$1,MATCH(A41,[1]Japan!$E$1:$E$500,0)-1,0))
... A64: Ryutaro Nagano | B64: 3.43% | C64: 29 | D64: 23 | F64: =IFERROR(IF(A64="","",OFFSET(Results!$AJ$1,MATCH(A64,Results!$A:$A,0)-1,0)),"") -> 42 | G64: =IF(OR(E64="",F64=""),"",IF(F64=1,(IF(COUNTIFS(F:F,"<="&F64)<=1,1,(1-COUNTIFS(F:F,"<"&F64))/COUNTIFS(F:F,F64)))*50*E64*(1+VALUE(MID(H64,FIND(": ",H64)+2,FIND("/",H64)-FIND(":",H64)-2))-1)+50*E64*(1+VALUE(MID(H64,FIND(": ",H64)+2,FIND("/",H64)-FIND(":",H64)-2))-1)/VALUE(RIGHT(H64,1)),IF(F64<=VALUE(MID(H64,FIND(", ",H64)+2,IF(MID(H64,FIND(", ",H64)+2,1)="1",2,1))),(IF(COUNTIFS(F:F,"<="&F64)<=VALUE(MID(H64,FIND(", ",H64)+2,IF(MID(H64,FIND(", ",H64)+2,1)="1",2,1))),1,(VALUE(MID(H64,FIND(", ",H64)+2,IF(MID(H64,FIND(", ",H64)+2,1)="1",2,1)))-COUNTIFS(F:F,"<"&F64))/COUNTIFS(F:F,F64)))*(50*E64*(1+VALUE(MID(H64,FIND(": ",H64)+2,FIND("/",H64)-FIND(":",H64)-2))-1)/VALUE(RIGHT(H64,1))+50*E64)-(100*E64),-E64*100))) | H64: =IF(E64="","",OFFSET([1]Japan!$AL$1,MATCH(A64,[1]Japan!$E$1:$E$500,0)-1,0))
A65: Satoshi Hara | B65: 0.35% | C65: 286 | D65: 351 | E65: 0.10% | F65: =IFERROR(IF(A65="","",OFFSET(Results!$AJ$1,MATCH(A65,Results!$A:$A,0)-1,0)),"") -> 105 | G65: =IF(OR(E65="",F65=""),"",IF(F65=1,(IF(COUNTIFS(F:F,"<="&F65)<=1,1,(1-COUNTIFS(F:F,"<"&F65))/COUNTIFS(F:F,F65)))*50*E65*(1+VALUE(MID(H65,FIND(": ",H65)+2,FIND("/",H65)-FIND(":",H65)-2))-1)+50*E65*(1+VALUE(MID(H65,FIND(": ",H65)+2,FIND("/",H65)-FIND(":",H65)-2))-1)/VALUE(RIGHT(H65,1)),IF(F65<=VALUE(MID(H65,FIND(", ",H65)+2,IF(MID(H65,FIND(", ",H65)+2,1)="1",2,1))),(IF(COUNTIFS(F:F,"<="&F65)<=VALUE(MID(H65,FIND(", ",H65)+2,IF(MID(H65,FIND(", ",H65)+2,1)="1",2,1))),1,(VALUE(MID(H65,FIND(", ",H65)+2,IF(MID(H65,FIND(", ",H65)+2,1)="1",2,1)))-COUNTIFS(F:F,"<"&F65))/COUNTIFS(F:F,F65)))*(50*E65*(1+VALUE(MID(H65,FIND(": ",H65)+2,FIND("/",H65)-FIND(":",H65)-2))-1)/VALUE(RIGHT(H65,1))+50*E65)-(100*E65),-E65*100))) -> -0.1 | H65: =IF(E65="","",OFFSET([1]Japan!$AL$1,MATCH(A65,[1]Japan!$E$1:$E$500,0)-1,0)) -> Bet365: 350/1, 5pl, 1/4
A66: Satoshi Kodaira | B66: 1.47% | C66: 68 | D66: 34 | F66: =IFERROR(IF(A66="","",OFFSET(Results!$AJ$1,MATCH(A66,Results!$A:$A,0)-1,0)),"") | G66: =IF(OR(E66="",F66=""),"",IF(F66=1,(IF(COUNTIFS(F:F,"<="&F66)<=1,1,(1-COUNTIFS(F:F,"<"&F66))/COUNTIFS(F:F,F66)))*50*E66*(1+VALUE(MID(H66,FIND(": ",H66)+2,FIND("/",H66)-FIND(":",H66)-2))-1)+50*E66*(1+VALUE(MID(H66,FIND(": ",H66)+2,FIND("/",H66)-FIND(":",H66)-2))-1)/VALUE(RIGHT(H66,1)),IF(F66<=VALUE(MID(H66,FIND(", ",H66)+2,IF(MID(H66,FIND(", ",H66)+2,1)="1",2,1))),(IF(COUNTIFS(F:F,"<="&F66)<=VALUE(MID(H66,FIND(", ",H66)+2,IF(MID(H66,FIND(", ",H66)+2,1)="1",2,1))),1,(VALUE(MID(H66,FIND(", ",H66)+2,IF(MID(H66,FIND(", ",H66)+2,1)="1",2,1)))-COUNTIFS(F:F,"<"&F66))/COUNTIFS(F:F,F66)))*(50*E66*(1+VALUE(MID(H66,FIND(": ",H66)+2,FIND("/",H66)-FIND(":",H66)-2))-1)/VALUE(RIGHT(H66,1))+50*E66)-(100*E66),-E66*100))) | H66: =IF(E66="","",OFFSET([1]Japan!$AL$1,MATCH(A66,[1]Japan!$E$1:$E$500,0)-1,0))
A67: Seiji Hokaiwado | B67: 0.00% | C67: 10000 | D67: 1251 | F67: =IFERROR(IF(A67="","",OFFSET(Results!$AJ$1,MATCH(A67,Results!$A:$A,0)-1,0)),"") -> 123 | G67: =IF(OR(E67="",F67=""),"",IF(F67=1,(IF(COUNTIFS(F:F,"<="&F67)<=1,1,(1-COUNTIFS(F:F,"<"&F67))/COUNTIFS(F:F,F67)))*50*E67*(1+VALUE(MID(H67,FIND(": ",H67)+2,FIND("/",H67)-FIND(":",H67)-2))-1)+50*E67*(1+VALUE(MID(H67,FIND(": ",H67)+2,FIND("/",H67)-FIND(":",H67)-2))-1)/VALUE(RIGHT(H67,1)),IF(F67<=VALUE(MID(H67,FIND(", ",H67)+2,IF(MID(H67,FIND(", ",H67)+2,1)="1",2,1))),(IF(COUNTIFS(F:F,"<="&F67)<=VALUE(MID(H67,FIND(", ",H67)+2,IF(MID(H67,FIND(", ",H67)+2,1)="1",2,1))),1,(VALUE(MID(H67,FIND(", ",H67)+2,IF(MID(H67,FIND(", ",H67)+2,1)="1",2,1)))-COUNTIFS(F:F,"<"&F67))/COUNTIFS(F:F,F67)))*(50*E67*(1+VALUE(MID(H67,FIND(": ",H67)+2,FIND("/",H67)-FIND(":",H67)-2))-1)/VALUE(RIGHT(H67,1))+50*E67)-(100*E67),-E67*100))) | H67: =IF(E67="","",OFFSET([1]Japan!$AL$1,MATCH(A67,[1]Japan!$E$1:$E$500,0)-1,0))
A68: Sejung Hiramoto | B68: 1.16% | C68: 86 | D68: 101 | E68: 0.20% | F68: =IFERROR(IF(A68="","",OFFSET(Results!$AJ$1,MATCH(A68,Results!$A:$A,0)-1,0)),"") -> 12 | G68: =IF(OR(E68="",F68=""),"",IF(F68=1,(IF(COUNTIFS(F:F,"<="&F68)<=1,1,(1-COUNTIFS(F:F,"<"&F68))/COUNTIFS(F:F,F68)))*50*E68*(1+VALUE(MID(H68,FIND(": ",H68)+2,FIND("/",H68)-FIND(":",H68)-2))-1)+50*E68*(1+VALUE(MID(H68,FIND(": ",H68)+2,FIND("/",H68)-FIND(":",H68)-2))-1)/VALUE(RIGHT(H68,1)),IF(F68<=VALUE(MID(H68,FIND(", ",H68)+2,IF(MID(H68,FIND(", ",H68)+2,1)="1",2,1))),(IF(COUNTIFS(F:F,"<="&F68)<=VALUE(MID(H68,FIND(", ",H68)+2,IF(MID(H68,FIND(", ",H68)+2,1)="1",2,1))),1,(VALUE(MID(H68,FIND(", ",H68)+2,IF(MID(H68,FIND(", ",H68)+2,1)="1",2,1)))-COUNTIFS(F:F,"<"&F68))/COUNTIFS(F:F,F68)))*(50*E68*(1+VALUE(MID(H68,FIND(": ",H68)+2,FIND("/",H68)-FIND(":",H68)-2))-1)/VALUE(RIGHT(H68,1))+50*E68)-(100*E68),-E68*100))) -> -0.2 | H68: =IF(E68="","",OFFSET([1]Japan!$AL$1,MATCH(A68,[1]Japan!$E$1:$E$500,0)-1,0)) -> Bet365: 100/1, 5pl, 1/4
A69: Shaun Norris | B69: 4.17% | C69: 24 | D69: 12 | F69: =IFERROR(IF(A69="","",OFFSET(Results!$AJ$1,MATCH(A69,Results!$A:$A,0)-1,0)),"") -> 81 | G69: =IF(OR(E69="",F69=""),"",IF(F69=1,(IF(COUNTIFS(F:F,"<="&F69)<=1,1,(1-COUNTIFS(F:F,"<"&F69))/COUNTIFS(F:F,F69)))*50*E69*(1+VALUE(MID(H69,FIND(": ",H69)+2,FIND("/",H69)-FIND(":",H69)-2))-1)+50*E69*(1+VALUE(MID(H69,FIND(": ",H69)+2,FIND("/",H69)-FIND(":",H69)-2))-1)/VALUE(RIGHT(H69,1)),IF(F69<=VALUE(MID(H69,FIND(", ",H69)+2,IF(MID(H69,FIND(", ",H69)+2,1)="1",2,1))),(IF(COUNTIFS(F:F,"<="&F69)<=VALUE(MID(H69,FIND(", ",H69)+2,IF(MID(H69,FIND(", ",H69)+2,1)="1",2,1))),1,(VALUE(MID(H69,FIND(", ",H69)+2,IF(MID(H69,FIND(", ",H69)+2,1)="1",2,1)))-COUNTIFS(F:F,"<"&F69))/COUNTIFS(F:F,F69)))*(50*E69*(1+VALUE(MID(H69,FIND(": ",H69)+2,FIND("/",H69)-FIND(":",H69)-2))-1)/VALUE(RIGHT(H69,1))+50*E69)-(100*E69),-E69*100))) | H69: =IF(E69="","",OFFSET([1]Japan!$AL$1,MATCH(A69,[1]Japan!$E$1:$E$500,0)-1,0))
A70: Shintaro Ban | B70: 0.23% | C70: 435 | D70: 601 | E70: 0.10% | F70: =IFERROR(IF(A70="","",OFFSET(Results!$AJ$1,MATCH(A70,Results!$A:$A,0)-1,0)),"") -> 105 | G70: =IF(OR(E70="",F70=""),"",IF(F70=1,(IF(COUNTIFS(F:F,"<="&F70)<=1,1,(1-COUNTIFS(F:F,"<"&F70))/COUNTIFS(F:F,F70)))*50*E70*(1+VALUE(MID(H70,FIND(": ",H70)+2,FIND("/",H70)-FIND(":",H70)-2))-1)+50*E70*(1+VALUE(MID(H70,FIND(": ",H70)+2,FIND("/",H70)-FIND(":",H70)-2))-1)/VALUE(RIGHT(H70,1)),IF(F70<=VALUE(MID(H70,FIND(", ",H70)+2,IF(MID(H70,FIND(", ",H70)+2,1)="1",2,1))),(IF(COUNTIFS(F:F,"<="&F70)<=VALUE(MID(H70,FIND(", ",H70)+2,IF(MID(H70,FIND(", ",H70)+2,1)="1",2,1))),1,(VALUE(MID(H70,FIND(", ",H70)+2,IF(MID(H70,FIND(", ",H70)+2,1)="1",2,1)))-COUNTIFS(F:F,"<"&F70))/COUNTIFS(F:F,F70)))*(50*E70*(1+VALUE(MID(H70,FIND(": ",H70)+2,FIND("/",H70)-FIND(":",H70)-2))-1)/VALUE(RIGHT(H70,1))+50*E70)-(100*E70),-E70*100))) -> -0.1 | H70: =IF(E70="","",OFFSET([1]Japan!$AL$1,MATCH(A70,[1]Japan!$E$1:$E$500,0)-1,0)) -> Bet365: 600/1, 5pl, 1/4
A71: Shohei Oda | B71: 0.39% | C71: 256 | D71: 161 | F71: =IFERROR(IF(A71="","",OFFSET(Results!$AJ$1,MATCH(A71,Results!$A:$A,0)-1,0)),"") -> 53 | G71: =IF(OR(E71="",F71=""),"",IF(F71=1,(IF(COUNTIFS(F:F,"<="&F71)<=1,1,(1-COUNTIFS(F:F,"<"&F71))/COUNTIFS(F:F,F71)))*50*E71*(1+VALUE(MID(H71,FIND(": ",H71)+2,FIND("/",H71)-FIND(":",H71)-2))-1)+50*E71*(1+VALUE(MID(H71,FIND(": ",H71)+2,FIND("/",H71)-FIND(":",H71)-2))-1)/VALUE(RIGHT(H71,1)),IF(F71<=VALUE(MID(H71,FIND(", ",H71)+2,IF(MID(H71,FIND(", ",H71)+2,1)="1",2,1))),(IF(COUNTIFS(F:F,"<="&F71)<=VALUE(MID(H71,FIND(", ",H71)+2,IF(MID(H71,FIND(", ",H71)+2,1)="1",2,1))),1,(VALUE(MID(H71,FIND(", ",H71)+2,IF(MID(H71,FIND(", ",H71)+2,1)="1",2,1)))-COUNTIFS(F:F,"<"&F71))/COUNTIFS(F:F,F71)))*(50*E71*(1+VALUE(MID(H71,FIND(": ",H71)+2,FIND("/",H71)-FIND(":",H71)-2))-1)/VALUE(RIGHT(H71,1))+50*E71)-(100*E71),-E71*100))) | H71: =IF(E71="","",OFFSET([1]Japan!$AL$1,MATCH(A71,[1]Japan!$E$1:$E$500,0)-1,0))
A72: Shotaro Ban | B72: 0.25% | C72: 400 | D72: 151 | F72: =IFERROR(IF(A72="","",OFFSET(Results!$AJ$1,MATCH(A72,Results!$A:$A,0)-1,0)),"") -> 49 | G72: =IF(OR(E72="",F72=""),"",IF(F72=1,(IF(COUNTIFS(F:F,"<="&F72)<=1,1,(1-COUNTIFS(F:F,"<"&F72))/COUNTIFS(F:F,F72)))*50*E72*(1+VALUE(MID(H72,FIND(": ",H72)+2,FIND("/",H72)-FIND(":",H72)-2))-1)+50*E72*(1+VALUE(MID(H72,FIND(": ",H72)+2,FIND("/",H72)-FIND(":",H72)-2))-1)/VALUE(RIGHT(H72,1)),IF(F72<=VALUE(MID(H72,FIND(", ",H72)+2,IF(MID(H72,FIND(", ",H72)+2,1)="1",2,1))),(IF(COUNTIFS(F:F,"<="&F72)<=VALUE(MID(H72,FIND(", ",H72)+2,IF(MID(H72,FIND(", ",H72)+2,1)="1",2,1))),1,(VALUE(MID(H72,FIND(", ",H72)+2,IF(MID(H72,FIND(", ",H72)+2,1)="1",2,1)))-COUNTIFS(F:F,"<"&F72))/COUNTIFS(F:F,F72)))*(50*E72*(1+VALUE(MID(H72,FIND(": ",H72)+2,FIND("/",H72)-FIND(":",H72)-2))-1)/VALUE(RIGHT(H72,1))+50*E72)-(100*E72),-E72*100))) | H72: =IF(E72="","",OFFSET([1]Japan!$AL$1,MATCH(A72,[1]Japan!$E$1:$E$500,0)-1,0))
A73: Shotaro Tanaka | B73: 0.10% | C73: 1000 | D73: 601 | F73: =IFERROR(IF(A73="","",OFFSET(Results!$AJ$1,MATCH(A73,Results!$A:$A,0)-1,0)),"") -> 105 | G73: =IF(OR(E73="",F73=""),"",IF(F73=1,(IF(COUNTIFS(F:F,"<="&F73)<=1,1,(1-COUNTIFS(F:F,"<"&F73))/COUNTIFS(F:F,F73)))*50*E73*(1+VALUE(MID(H73,FIND(": ",H73)+2,FIND("/",H73)-FIND(":",H73)-2))-1)+50*E73*(1+VALUE(MID(H73,FIND(": ",H73)+2,FIND("/",H73)-FIND(":",H73)-2))-1)/VALUE(RIGHT(H73,1)),IF(F73<=VALUE(MID(H73,FIND(", ",H73)+2,IF(MID(H73,FIND(", ",H73)+2,1)="1",2,1))),(IF(COUNTIFS(F:F,"<="&F73)<=VALUE(MID(H73,FIND(", ",H73)+2,IF(MID(H73,FIND(", ",H73)+2,1)="1",2,1))),1,(VALUE(MID(H73,FIND(", ",H73)+2,IF(MID(H73,FIND(", ",H73)+2,1)="1",2,1)))-COUNTIFS(F:F,"<"&F73))/COUNTIFS(F:F,F73)))*(50*E73*(1+VALUE(MID(H73,FIND(": ",H73)+2,FIND("/",H73)-FIND(":",H73)-2))-1)/VALUE(RIGHT(H73,1))+50*E73)-(100*E73),-E73*100))) | H73: =IF(E73="","",OFFSET([1]Japan!$AL$1,MATCH(A73,[1]Japan!$E$1:$E$500,0)-1,0))
A74: Shu Fukuzumi | B74: 0.53% | C74: 189 | D74: 141 | F74: =IFERROR(IF(A74="","",OFFSET(Results!$AJ$1,MATCH(A74,Results!$A:$A,0)-1,0)),"") -> 34 | G74: =IF(OR(E74="",F74=""),"",IF(F74=1,(IF(COUNTIFS(F:F,"<="&F74)<=1,1,(1-COUNTIFS(F:F,"<"&F74))/COUNTIFS(F:F,F74)))*50*E74*(1+VALUE(MID(H74,FIND(": ",H74)+2,FIND("/",H74)-FIND(":",H74)-2))-1)+50*E74*(1+VALUE(MID(H74,FIND(": ",H74)+2,FIND("/",H74)-FIND(":",H74)-2))-1)/VALUE(RIGHT(H74,1)),IF(F74<=VALUE(MID(H74,FIND(", ",H74)+2,IF(MID(H74,FIND(", ",H74)+2,1)="1",2,1))),(IF(COUNTIFS(F:F,"<="&F74)<=VALUE(MID(H74,FIND(", ",H74)+2,IF(MID(H74,FIND(", ",H74)+2,1)="1",2,1))),1,(VALUE(MID(H74,FIND(", ",H74)+2,IF(MID(H74,FIND(", ",H74)+2,1)="1",2,1)))-COUNTIFS(F:F,"<"&F74))/COUNTIFS(F:F,F74)))*(50*E74*(1+VALUE(MID(H74,FIND(": ",H74)+2,FIND("/",H74)-FIND(":",H74)-2))-1)/VALUE(RIGHT(H74,1))+50*E74)-(100*E74),-E74*100))) | H74: =IF(E74="","",OFFSET([1]Japan!$AL$1,MATCH(A74,[1]Japan!$E$1:$E$500,0)-1,0))
A75: Shugo Imahira | B75: 3.79% | C75: 26 | D75: 17 | F75: =IFERROR(IF(A75="","",OFFSET(Results!$AJ$1,MATCH(A75,Results!$A:$A,0)-1,0)),"") -> 126 | G75: =IF(OR(E75="",F75=""),"",IF(F75=1,(IF(COUNTIFS(F:F,"<="&F75)<=1,1,(1-COUNTIFS(F:F,"<"&F75))/COUNTIFS(F:F,F75)))*50*E75*(1+VALUE(MID(H75,FIND(": ",H75)+2,FIND("/",H75)-FIND(":",H75)-2))-1)+50*E75*(1+VALUE(MID(H75,FIND(": ",H75)+2,FIND("/",H75)-FIND(":",H75)-2))-1)/VALUE(RIGHT(H75,1)),IF(F75<=VALUE(MID(H75,FIND(", ",H75)+2,IF(MID(H75,FIND(", ",H75)+2,1)="1",2,1))),(IF(COUNTIFS(F:F,"<="&F75)<=VALUE(MID(H75,FIND(", ",H75)+2,IF(MID(H75,FIND(", ",H75)+2,1)="1",2,1))),1,(VALUE(MID(H75,FIND(", ",H75)+2,IF(MID(H75,FIND(", ",H75)+2,1)="1",2,1)))-COUNTIFS(F:F,"<"&F75))/COUNTIFS(F:F,F75)))*(50*E75*(1+VALUE(MID(H75,FIND(": ",H75)+2,FIND("/",H75)-FIND(":",H75)-2))-1)/VALUE(RIGHT(H75,1))+50*E75)-(100*E75),-E75*100))) | H75: =IF(E75="","",OFFSET([1]Japan!$AL$1,MATCH(A75,[1]Japan!$E$1:$E$500,0)-1,0))
A76: Shunya Takeyasu | B76: 0.27% | C76: 370 | D76: 251 | F76: =IFERROR(IF(A76="","",OFFSET(Results!$AJ$1,MATCH(A76,Results!$A:$A,0)-1,0)),"") -> 126 | G76: =IF(OR(E76="",F76=""),"",IF(F76=1,(IF(COUNTIFS(F:F,"<="&F76)<=1,1,(1-COUNTIFS(F:F,"<"&F76))/COUNTIFS(F:F,F76)))*50*E76*(1+VALUE(MID(H76,FIND(": ",H76)+2,FIND("/",H76)-FIND(":",H76)-2))-1)+50*E76*(1+VALUE(MID(H76,FIND(": ",H76)+2,FIND("/",H76)-FIND(":",H76)-2))-1)/VALUE(RIGHT(H76,1)),IF(F76<=VALUE(MID(H76,FIND(", ",H76)+2,IF(MID(H76,FIND(", ",H76)+2,1)="1",2,1))),(IF(COUNTIFS(F:F,"<="&F76)<=VALUE(MID(H76,FIND(", ",H76)+2,IF(MID(H76,FIND(", ",H76)+2,1)="1",2,1))),1,(VALUE(MID(H76,FIND(", ",H76)+2,IF(MID(H76,FIND(", ",H76)+2,1)="1",2,1)))-COUNTIFS(F:F,"<"&F76))/COUNTIFS(F:F,F76)))*(50*E76*(1+VALUE(MID(H76,FIND(": ",H76)+2,FIND("/",H76)-FIND(":",H76)-2))-1)/VALUE(RIGHT(H76,1))+50*E76)-(100*E76),-E76*100))) | H76: =IF(E76="","",OFFSET([1]Japan!$AL$1,MATCH(A76,[1]Japan!$E$1:$E$500,0)-1,0))
A77: Steve Sugimoto | B77: 0.21% | C77: 476 | D77: 251 | F77: =IFERROR(IF(A77="","",OFFSET(Results!$AJ$1,MATCH(A77,Results!$A:$A,0)-1,0)),"") -> 60 | G77: =IF(OR(E77="",F77=""),"",IF(F77=1,(IF(COUNTIFS(F:F,"<="&F77)<=1,1,(1-COUNTIFS(F:F,"<"&F77))/COUNTIFS(F:F,F77)))*50*E77*(1+VALUE(MID(H77,FIND(": ",H77)+2,FIND("/",H77)-FIND(":",H77)-2))-1)+50*E77*(1+VALUE(MID(H77,FIND(": ",H77)+2,FIND("/",H77)-FIND(":",H77)-2))-1)/VALUE(RIGHT(H77,1)),IF(F77<=VALUE(MID(H77,FIND(", ",H77)+2,IF(MID(H77,FIND(", ",H77)+2,1)="1",2,1))),(IF(COUNTIFS(F:F,"<="&F77)<=VALUE(MID(H77,FIND(", ",H77)+2,IF(MID(H77,FIND(", ",H77)+2,1)="1",2,1))),1,(VALUE(MID(H77,FIND(", ",H77)+2,IF(MID(H77,FIND(", ",H77)+2,1)="1",2,1)))-COUNTIFS(F:F,"<"&F77))/COUNTIFS(F:F,F77)))*(50*E77*(1+VALUE(MID(H77,FIND(": ",H77)+2,FIND("/",H77)-FIND(":",H77)-2))-1)/VALUE(RIGHT(H77,1))+50*E77)-(100*E77),-E77*100))) | H77: =IF(E77="","",OFFSET([1]Japan!$AL$1,MATCH(A77,[1]Japan!$E$1:$E$500,0)-1,0))
A78: Suguru Shimoke | B78: 0.82% | C78: 122 | D78: 201 | E78: 0.30% | F78: =IFERROR(IF(A78="","",OFFSET(Results!$AJ$1,MATCH(A78,Results!$A:$A,0)-1,0)),"") -> 26 | G78: =IF(OR(E78="",F78=""),"",IF(F78=1,(IF(COUNTIFS(F:F,"<="&F78)<=1,1,(1-COUNTIFS(F:F,"<"&F78))/COUNTIFS(F:F,F78)))*50*E78*(1+VALUE(MID(H78,FIND(": ",H78)+2,FIND("/",H78)-FIND(":",H78)-2))-1)+50*E78*(1+VALUE(MID(H78,FIND(": ",H78)+2,FIND("/",H78)-FIND(":",H78)-2))-1)/VALUE(RIGHT(H78,1)),IF(F78<=VALUE(MID(H78,FIND(", ",H78)+2,IF(MID(H78,FIND(", ",H78)+2,1)="1",2,1))),(IF(COUNTIFS(F:F,"<="&F78)<=VALUE(MID(H78,FIND(", ",H78)+2,IF(MID(H78,FIND(", ",H78)+2,1)="1",2,1))),1,(VALUE(MID(H78,FIND(", ",H78)+2,IF(MID(H78,FIND(", ",H78)+2,1)="1",2,1)))-COUNTIFS(F:F,"<"&F78))/COUNTIFS(F:F,F78)))*(50*E78*(1+VALUE(MID(H78,FIND(": ",H78)+2,FIND("/",H78)-FIND(":",H78)-2))-1)/VALUE(RIGHT(H78,1))+50*E78)-(100*E78),-E78*100))) -> -0.3 | H78: =IF(E78="","",OFFSET([1]Japan!$AL$1,MATCH(A78,[1]Japan!$E$1:$E$500,0)-1,0)) -> Bet365: 200/1, 5pl, 1/4
A79: Taichi Kho | B79: 1.21% | C79: 83 | D79: 81 | F79: =IFERROR(IF(A79="","",OFFSET(Results!$AJ$1,MATCH(A79,Results!$A:$A,0)-1,0)),"") -> 2 | G79: =IF(OR(E79="",F79=""),"",IF(F79=1,(IF(COUNTIFS(F:F,"<="&F79)<=1,1,(1-COUNTIFS(F:F,"<"&F79))/COUNTIFS(F:F,F79)))*50*E79*(1+VALUE(MID(H79,FIND(": ",H79)+2,FIND("/",H79)-FIND(":",H79)-2))-1)+50*E79*(1+VALUE(MID(H79,FIND(": ",H79)+2,FIND("/",H79)-FIND(":",H79)-2))-1)/VALUE(RIGHT(H79,1)),IF(F79<=VALUE(MID(H79,FIND(", ",H79)+2,IF(MID(H79,FIND(", ",H79)+2,1)="1",2,1))),(IF(COUNTIFS(F:F,"<="&F79)<=VALUE(MID(H79,FIND(", ",H79)+2,IF(MID(H79,FIND(", ",H79)+2,1)="1",2,1))),1,(VALUE(MID(H79,FIND(", ",H79)+2,IF(MID(H79,FIND(", ",H79)+2,1)="1",2,1)))-COUNTIFS(F:F,"<"&F79))/COUNTIFS(F:F,F79)))*(50*E79*(1+VALUE(MID(H79,FIND(": ",H79)+2,FIND("/",H79)-FIND(":",H79)-2))-1)/VALUE(RIGHT(H79,1))+50*E79)-(100*E79),-E79*100))) | H79: =IF(E79="","",OFFSET([1]Japan!$AL$1,MATCH(A79,[1]Japan!$E$1:$E$500,0)-1,0))
A80: Taichi Kimura | B80: 0.42% | C80: 238 | D80: 131 | F80: =IFERROR(IF(A80="","",OFFSET(Results!$AJ$1,MATCH(A80,Results!$A:$A,0)-1,0)),"") -> 110 | G80: =IF(OR(E80="",F80=""),"",IF(F80=1,(IF(COUNTIFS(F:F,"<="&F80)<=1,1,(1-COUNTIFS(F:F,"<"&F80))/COUNTIFS(F:F,F80)))*50*E80*(1+VALUE(MID(H80,FIND(": ",H80)+2,FIND("/",H80)-FIND(":",H80)-2))-1)+50*E80*(1+VALUE(MID(H80,FIND(": ",H80)+2,FIND("/",H80)-FIND(":",H80)-2))-1)/VALUE(RIGHT(H80,1)),IF(F80<=VALUE(MID(H80,FIND(", ",H80)+2,IF(MID(H80,FIND(", ",H80)+2,1)="1",2,1))),(IF(COUNTIFS(F:F,"<="&F80)<=VALUE(MID(H80,FIND(", ",H80)+2,IF(MID(H80,FIND(", ",H80)+2,1)="1",2,1))),1,(VALUE(MID(H80,FIND(", ",H80)+2,IF(MID(H80,FIND(", ",H80)+2,1)="1",2,1)))-COUNTIFS(F:F,"<"&F80))/COUNTIFS(F:F,F80)))*(50*E80*(1+VALUE(MID(H80,FIND(": ",H80)+2,FIND("/",H80)-FIND(":",H80)-2))-1)/VALUE(RIGHT(H80,1))+50*E80)-(100*E80),-E80*100))) | H80: =IF(E80="","",OFFSET([1]Japan!$AL$1,MATCH(A80,[1]Japan!$E$1:$E$500,0)-1,0))
A81: Taichi Nabetani | B81: 1.18% | C81: 85 | D81: 67 | F81: =IFERROR(IF(A81="","",OFFSET(Results!$AJ$1,MATCH(A81,Results!$A:$A,0)-1,0)),"") -> 16 | G81: =IF(OR(E81="",F81=""),"",IF(F81=1,(IF(COUNTIFS(F:F,"<="&F81)<=1,1,(1-COUNTIFS(F:F,"<"&F81))/COUNTIFS(F:F,F81)))*50*E81*(1+VALUE(MID(H81,FIND(": ",H81)+2,FIND("/",H81)-FIND(":",H81)-2))-1)+50*E81*(1+VALUE(MID(H81,FIND(": ",H81)+2,FIND("/",H81)-FIND(":",H81)-2))-1)/VALUE(RIGHT(H81,1)),IF(F81<=VALUE(MID(H81,FIND(", ",H81)+2,IF(MID(H81,FIND(", ",H81)+2,1)="1",2,1))),(IF(COUNTIFS(F:F,"<="&F81)<=VALUE(MID(H81,FIND(", ",H81)+2,IF(MID(H81,FIND(", ",H81)+2,1)="1",2,1))),1,(VALUE(MID(H81,FIND(", ",H81)+2,IF(MID(H81,FIND(", ",H81)+2,1)="1",2,1)))-COUNTIFS(F:F,"<"&F81))/COUNTIFS(F:F,F81)))*(50*E81*(1+VALUE(MID(H81,FIND(": ",H81)+2,FIND("/",H81)-FIND(":",H81)-2))-1)/VALUE(RIGHT(H81,1))+50*E81)-(100*E81),-E81*100))) | H81: =IF(E81="","",OFFSET([1]Japan!$AL$1,MATCH(A81,[1]Japan!$E$1:$E$500,0)-1,0))
A82: Taichiro Ideriha | B82: 0.89% | C82: 112 | D82: 67 | F82: =IFERROR(IF(A82="","",OFFSET(Results!$AJ$1,MATCH(A82,Results!$A:$A,0)-1,0)),"") -> 6 | G82: =IF(OR(E82="",F82=""),"",IF(F82=1,(IF(COUNTIFS(F:F,"<="&F82)<=1,1,(1-COUNTIFS(F:F,"<"&F82))/COUNTIFS(F:F,F82)))*50*E82*(1+VALUE(MID(H82,FIND(": ",H82)+2,FIND("/",H82)-FIND(":",H82)-2))-1)+50*E82*(1+VALUE(MID(H82,FIND(": ",H82)+2,FIND("/",H82)-FIND(":",H82)-2))-1)/VALUE(RIGHT(H82,1)),IF(F82<=VALUE(MID(H82,FIND(", ",H82)+2,IF(MID(H82,FIND(", ",H82)+2,1)="1",2,1))),(IF(COUNTIFS(F:F,"<="&F82)<=VALUE(MID(H82,FIND(", ",H82)+2,IF(MID(H82,FIND(", ",H82)+2,1)="1",2,1))),1,(VALUE(MID(H82,FIND(", ",H82)+2,IF(MID(H82,FIND(", ",H82)+2,1)="1",2,1)))-COUNTIFS(F:F,"<"&F82))/COUNTIFS(F:F,F82)))*(50*E82*(1+VALUE(MID(H82,FIND(": ",H82)+2,FIND("/",H82)-FIND(":",H82)-2))-1)/VALUE(RIGHT(H82,1))+50*E82)-(100*E82),-E82*100))) | H82: =IF(E82="","",OFFSET([1]Japan!$AL$1,MATCH(A82,[1]Japan!$E$1:$E$500,0)-1,0))
A83: Taiga Harada | B83: 0.04% | C83: 2500 | D83: 1001 | F83: =IFERROR(IF(A83="","",OFFSET(Results!$AJ$1,MATCH(A83,Results!$A:$A,0)-1,0)),"") -> 97 | G83: =IF(OR(E83="",F83=""),"",IF(F83=1,(IF(COUNTIFS(F:F,"<="&F83)<=1,1,(1-COUNTIFS(F:F,"<"&F83))/COUNTIFS(F:F,F83)))*50*E83*(1+VALUE(MID(H83,FIND(": ",H83)+2,FIND("/",H83)-FIND(":",H83)-2))-1)+50*E83*(1+VALUE(MID(H83,FIND(": ",H83)+2,FIND("/",H83)-FIND(":",H83)-2))-1)/VALUE(RIGHT(H83,1)),IF(F83<=VALUE(MID(H83,FIND(", ",H83)+2,IF(MID(H83,FIND(", ",H83)+2,1)="1",2,1))),(IF(COUNTIFS(F:F,"<="&F83)<=VALUE(MID(H83,FIND(", ",H83)+2,IF(MID(H83,FIND(", ",H83)+2,1)="1",2,1))),1,(VALUE(MID(H83,FIND(", ",H83)+2,IF(MID(H83,FIND(", ",H83)+2,1)="1",2,1)))-COUNTIFS(F:F,"<"&F83))/COUNTIFS(F:F,F83)))*(50*E83*(1+VALUE(MID(H83,FIND(": ",H83)+2,FIND("/",H83)-FIND(":",H83)-2))-1)/VALUE(RIGHT(H83,1))+50*E83)-(100*E83),-E83*100))) | H83: =IF(E83="","",OFFSET([1]Japan!$AL$1,MATCH(A83,[1]Japan!$E$1:$E$500,0)-1,0))
A84: Taiga Kobayashi | B84: 0.47% | C84: 213 | D84: 301 | E84: 0.10% | F84: =IFERROR(IF(A84="","",OFFSET(Results!$AJ$1,MATCH(A84,Results!$A:$A,0)-1,0)),"") -> 61 | G84: =IF(OR(E84="",F84=""),"",IF(F84=1,(IF(COUNTIFS(F:F,"<="&F84)<=1,1,(1-COUNTIFS(F:F,"<"&F84))/COUNTIFS(F:F,F84)))*50*E84*(1+VALUE(MID(H84,FIND(": ",H84)+2,FIND("/",H84)-FIND(":",H84)-2))-1)+50*E84*(1+VALUE(MID(H84,FIND(": ",H84)+2,FIND("/",H84)-FIND(":",H84)-2))-1)/VALUE(RIGHT(H84,1)),IF(F84<=VALUE(MID(H84,FIND(", ",H84)+2,IF(MID(H84,FIND(", ",H84)+2,1)="1",2,1))),(IF(COUNTIFS(F:F,"<="&F84)<=VALUE(MID(H84,FIND(", ",H84)+2,IF(MID(H84,FIND(", ",H84)+2,1)="1",2,1))),1,(VALUE(MID(H84,FIND(", ",H84)+2,IF(MID(H84,FIND(", ",H84)+2,1)="1",2,1)))-COUNTIFS(F:F,"<"&F84))/COUNTIFS(F:F,F84)))*(50*E84*(1+VALUE(MID(H84,FIND(": ",H84)+2,FIND("/",H84)-FIND(":",H84)-2))-1)/VALUE(RIGHT(H84,1))+50*E84)-(100*E84),-E84*100))) -> -0.1 | H84: =IF(E84="","",OFFSET([1]Japan!$AL$1,MATCH(A84,[1]Japan!$E$1:$E$500,0)-1,0)) -> Bet365: 300/1, 5pl, 1/4
A85: Taiga Mishima | B85: 0.03% | C85: 3333 | D85: 1001 | F85: =IFERROR(IF(A85="","",OFFSET(Results!$AJ$1,MATCH(A85,Results!$A:$A,0)-1,0)),"") -> 59 | G85: =IF(OR(E85="",F85=""),"",IF(F85=1,(IF(COUNTIFS(F:F,"<="&F85)<=1,1,(1-COUNTIFS(F:F,"<"&F85))/COUNTIFS(F:F,F85)))*50*E85*(1+VALUE(MID(H85,FIND(": ",H85)+2,FIND("/",H85)-FIND(":",H85)-2))-1)+50*E85*(1+VALUE(MID(H85,FIND(": ",H85)+2,FIND("/",H85)-FIND(":",H85)-2))-1)/VALUE(RIGHT(H85,1)),IF(F85<=VALUE(MID(H85,FIND(", ",H85)+2,IF(MID(H85,FIND(", ",H85)+2,1)="1",2,1))),(IF(COUNTIFS(F:F,"<="&F85)<=VALUE(MID(H85,FIND(", ",H85)+2,IF(MID(H85,FIND(", ",H85)+2,1)="1",2,1))),1,(VALUE(MID(H85,FIND(", ",H85)+2,IF(MID(H85,FIND(", ",H85)+2,1)="1",2,1)))-COUNTIFS(F:F,"<"&F85))/COUNTIFS(F:F,F85)))*(50*E85*(1+VALUE(MID(H85,FIND(": ",H85)+2,FIND("/",H85)-FIND(":",H85)-2))-1)/VALUE(RIGHT(H85,1))+50*E85)-(100*E85),-E85*100))) | H85: =IF(E85="","",OFFSET([1]Japan!$AL$1,MATCH(A85,[1]Japan!$E$1:$E$500,0)-1,0))
A86: Taiga Nagano | B86: 0.63% | C86: 159 | D86: 126 | F86: =IFERROR(IF(A86="","",OFFSET(Results!$AJ$1,MATCH(A86,Results!$A:$A,0)-1,0)),"") -> 34 | G86: =IF(OR(E86="",F86=""),"",IF(F86=1,(IF(COUNTIFS(F:F,"<="&F86)<=1,1,(1-COUNTIFS(F:F,"<"&F86))/COUNTIFS(F:F,F86)))*50*E86*(1+VALUE(MID(H86,FIND(": ",H86)+2,FIND("/",H86)-FIND(":",H86)-2))-1)+50*E86*(1+VALUE(MID(H86,FIND(": ",H86)+2,FIND("/",H86)-FIND(":",H86)-2))-1)/VALUE(RIGHT(H86,1)),IF(F86<=VALUE(MID(H86,FIND(", ",H86)+2,IF(MID(H86,FIND(", ",H86)+2,1)="1",2,1))),(IF(COUNTIFS(F:F,"<="&F86)<=VALUE(MID(H86,FIND(", ",H86)+2,IF(MID(H86,FIND(", ",H86)+2,1)="1",2,1))),1,(VALUE(MID(H86,FIND(", ",H86)+2,IF(MID(H86,FIND(", ",H86)+2,1)="1",2,1)))-COUNTIFS(F:F,"<"&F86))/COUNTIFS(F:F,F86)))*(50*E86*(1+VALUE(MID(H86,FIND(": ",H86)+2,FIND("/",H86)-FIND(":",H86)-2))-1)/VALUE(RIGHT(H86,1))+50*E86)-(100*E86),-E86*100))) | H86: =IF(E86="","",OFFSET([1]Japan!$AL$1,MATCH(A86,[1]Japan!$E$1:$E$500,0)-1,0))
A87: Taiga Semikawa | B87: 3.57% | C87: 28 | D87: 21 | F87: =IFERROR(IF(A87="","",OFFSET(Results!$AJ$1,MATCH(A87,Results!$A:$A,0)-1,0)),"") -> 16 | G87: =IF(OR(E87="",F87=""),"",IF(F87=1,(IF(COUNTIFS(F:F,"<="&F87)<=1,1,(1-COUNTIFS(F:F,"<"&F87))/COUNTIFS(F:F,F87)))*50*E87*(1+VALUE(MID(H87,FIND(": ",H87)+2,FIND("/",H87)-FIND(":",H87)-2))-1)+50*E87*(1+VALUE(MID(H87,FIND(": ",H87)+2,FIND("/",H87)-FIND(":",H87)-2))-1)/VALUE(RIGHT(H87,1)),IF(F87<=VALUE(MID(H87,FIND(", ",H87)+2,IF(MID(H87,FIND(", ",H87)+2,1)="1",2,1))),(IF(COUNTIFS(F:F,"<="&F87)<=VALUE(MID(H87,FIND(", ",H87)+2,IF(MID(H87,FIND(", ",H87)+2,1)="1",2,1))),1,(VALUE(MID(H87,FIND(", ",H87)+2,IF(MID(H87,FIND(", ",H87)+2,1)="1",2,1)))-COUNTIFS(F:F,"<"&F87))/COUNTIFS(F:F,F87)))*(50*E87*(1+VALUE(MID(H87,FIND(": ",H87)+2,FIND("/",H87)-FIND(":",H87)-2))-1)/VALUE(RIGHT(H87,1))+50*E87)-(100*E87),-E87*100))) | H87: =IF(E87="","",OFFSET([1]Japan!$AL$1,MATCH(A87,[1]Japan!$E$1:$E$500,0)-1,0))
A88: Taiga Sugihara | B88: 0.28% | C88: 357 | D88: 301 | F88: =IFERROR(IF(A88="","",OFFSET(Results!$AJ$1,MATCH(A88,Results!$A:$A,0)-1,0)),"") -> 24 | G88: =IF(OR(E88="",F88=""),"",IF(F88=1,(IF(COUNTIFS(F:F,"<="&F88)<=1,1,(1-COUNTIFS(F:F,"<"&F88))/COUNTIFS(F:F,F88)))*50*E88*(1+VALUE(MID(H88,FIND(": ",H88)+2,FIND("/",H88)-FIND(":",H88)-2))-1)+50*E88*(1+VALUE(MID(H88,FIND(": ",H88)+2,FIND("/",H88)-FIND(":",H88)-2))-1)/VALUE(RIGHT(H88,1)),IF(F88<=VALUE(MID(H88,FIND(", ",H88)+2,IF(MID(H88,FIND(", ",H88)+2,1)="1",2,1))),(IF(COUNTIFS(F:F,"<="&F88)<=VALUE(MID(H88,FIND(", ",H88)+2,IF(MID(H88,FIND(", ",H88)+2,1)="1",2,1))),1,(VALUE(MID(H88,FIND(", ",H88)+2,IF(MID(H88,FIND(", ",H88)+2,1)="1",2,1)))-COUNTIFS(F:F,"<"&F88))/COUNTIFS(F:F,F88)))*(50*E88*(1+VALUE(MID(H88,FIND(": ",H88)+2,FIND("/",H88)-FIND(":",H88)-2))-1)/VALUE(RIGHT(H88,1))+50*E88)-(100*E88),-E88*100))) | H88: =IF(E88="","",OFFSET([1]Japan!$AL$1,MATCH(A88,[1]Japan!$E$1:$E$500,0)-1,0))
A89: Taiga Yamamoto | B89: 0.25% | C89: 400 | D89: 251 | F89: =IFERROR(IF(A89="","",OFFSET(Results!$AJ$1,MATCH(A89,Results!$A:$A,0)-1,0)),"") -> 42 | G89: =IF(OR(E89="",F89=""),"",IF(F89=1,(IF(COUNTIFS(F:F,"<="&F89)<=1,1,(1-COUNTIFS(F:F,"<"&F89))/COUNTIFS(F:F,F89)))*50*E89*(1+VALUE(MID(H89,FIND(": ",H89)+2,FIND("/",H89)-FIND(":",H89)-2))-1)+50*E89*(1+VALUE(MID(H89,FIND(": ",H89)+2,FIND("/",H89)-FIND(":",H89)-2))-1)/VALUE(RIGHT(H89,1)),IF(F89<=VALUE(MID(H89,FIND(", ",H89)+2,IF(MID(H89,FIND(", ",H89)+2,1)="1",2,1))),(IF(COUNTIFS(F:F,"<="&F89)<=VALUE(MID(H89,FIND(", ",H89)+2,IF(MID(H89,FIND(", ",H89)+2,1)="1",2,1))),1,(VALUE(MID(H89,FIND(", ",H89)+2,IF(MID(H89,FIND(", ",H89)+2,1)="1",2,1)))-COUNTIFS(F:F,"<"&F89))/COUNTIFS(F:F,F89)))*(50*E89*(1+VALUE(MID(H89,FIND(": ",H89)+2,FIND("/",H89)-FIND(":",H89)-2))-1)/VALUE(RIGHT(H89,1))+50*E89)-(100*E89),-E89*100))) | H89: =IF(E89="","",OFFSET([1]Japan!$AL$1,MATCH(A89,[1]Japan!$E$1:$E$500,0)-1,0))
A90: Taihei Sato | B90: 2.87% | C90: 35 | D90: 23 | F90: =IFERROR(IF(A90="","",OFFSET(Results!$AJ$1,MATCH(A90,Results!$A:$A,0)-1,0)),"") -> 5 | G90: =IF(OR(E90="",F90=""),"",IF(F90=1,(IF(COUNTIFS(F:F,"<="&F90)<=1,1,(1-COUNTIFS(F:F,"<"&F90))/COUNTIFS(F:F,F90)))*50*E90*(1+VALUE(MID(H90,FIND(": ",H90)+2,FIND("/",H90)-FIND(":",H90)-2))-1)+50*E90*(1+VALUE(MID(H90,FIND(": ",H90)+2,FIND("/",H90)-FIND(":",H90)-2))-1)/VALUE(RIGHT(H90,1)),IF(F90<=VALUE(MID(H90,FIND(", ",H90)+2,IF(MID(H90,FIND(", ",H90)+2,1)="1",2,1))),(IF(COUNTIFS(F:F,"<="&F90)<=VALUE(MID(H90,FIND(", ",H90)+2,IF(MID(H90,FIND(", ",H90)+2,1)="1",2,1))),1,(VALUE(MID(H90,FIND(", ",H90)+2,IF(MID(H90,FIND(", ",H90)+2,1)="1",2,1)))-COUNTIFS(F:F,"<"&F90))/COUNTIFS(F:F,F90)))*(50*E90*(1+VALUE(MID(H90,FIND(": ",H90)+2,FIND("/",H90)-FIND(":",H90)-2))-1)/VALUE(RIGHT(H90,1))+50*E90)-(100*E90),-E90*100))) | H90: =IF(E90="","",OFFSET([1]Japan!$AL$1,MATCH(A90,[1]Japan!$E$1:$E$500,0)-1,0))
A91: Taiki Otsuka | B91: 0.03% | C91: 3333 | D91: 751 | F91: =IFERROR(IF(A91="","",OFFSET(Results!$AJ$1,MATCH(A91,Results!$A:$A,0)-1,0)),"") -> 31 | G91: =IF(OR(E91="",F91=""),"",IF(F91=1,(IF(COUNTIFS(F:F,"<="&F91)<=1,1,(1-COUNTIFS(F:F,"<"&F91))/COUNTIFS(F:F,F91)))*50*E91*(1+VALUE(MID(H91,FIND(": ",H91)+2,FIND("/",H91)-FIND(":",H91)-2))-1)+50*E91*(1+VALUE(MID(H91,FIND(": ",H91)+2,FIND("/",H91)-FIND(":",H91)-2))-1)/VALUE(RIGHT(H91,1)),IF(F91<=VALUE(MID(H91,FIND(", ",H91)+2,IF(MID(H91,FIND(", ",H91)+2,1)="1",2,1))),(IF(COUNTIFS(F:F,"<="&F91)<=VALUE(MID(H91,FIND(", ",H91)+2,IF(MID(H91,FIND(", ",H91)+2,1)="1",2,1))),1,(VALUE(MID(H91,FIND(", ",H91)+2,IF(MID(H91,FIND(", ",H91)+2,1)="1",2,1)))-COUNTIFS(F:F,"<"&F91))/COUNTIFS(F:F,F91)))*(50*E91*(1+VALUE(MID(H91,FIND(": ",H91)+2,FIND("/",H91)-FIND(":",H91)-2))-1)/VALUE(RIGHT(H91,1))+50*E91)-(100*E91),-E91*100))) | H91: =IF(E91="","",OFFSET([1]Japan!$AL$1,MATCH(A91,[1]Japan!$E$1:$E$500,0)-1,0))
A92: Taiki Yoshida | B92: 2.05% | C92: 49 | D92: 51 | E92: 0.10% | F92: =IFERROR(IF(A92="","",OFFSET(Results!$AJ$1,MATCH(A92,Results!$A:$A,0)-1,0)),"") -> 49 | G92: =IF(OR(E92="",F92=""),"",IF(F92=1,(IF(COUNTIFS(F:F,"<="&F92)<=1,1,(1-COUNTIFS(F:F,"<"&F92))/COUNTIFS(F:F,F92)))*50*E92*(1+VALUE(MID(H92,FIND(": ",H92)+2,FIND("/",H92)-FIND(":",H92)-2))-1)+50*E92*(1+VALUE(MID(H92,FIND(": ",H92)+2,FIND("/",H92)-FIND(":",H92)-2))-1)/VALUE(RIGHT(H92,1)),IF(F92<=VALUE(MID(H92,FIND(", ",H92)+2,IF(MID(H92,FIND(", ",H92)+2,1)="1",2,1))),(IF(COUNTIFS(F:F,"<="&F92)<=VALUE(MID(H92,FIND(", ",H92)+2,IF(MID(H92,FIND(", ",H92)+2,1)="1",2,1))),1,(VALUE(MID(H92,FIND(", ",H92)+2,IF(MID(H92,FIND(", ",H92)+2,1)="1",2,1)))-COUNTIFS(F:F,"<"&F92))/COUNTIFS(F:F,F92)))*(50*E92*(1+VALUE(MID(H92,FIND(": ",H92)+2,FIND("/",H92)-FIND(":",H92)-2))-1)/VALUE(RIGHT(H92,1))+50*E92)-(100*E92),-E92*100))) -> -0.1 | H92: =IF(E92="","",OFFSET([1]Japan!$AL$1,MATCH(A92,[1]Japan!$E$1:$E$500,0)-1,0)) -> BetVictor: 50/1, 5pl, 1/4
A93: Taiko Nishiyama | B93: 0.62% | C93: 161 | D93: 101 | F93: =IFERROR(IF(A93="","",OFFSET(Results!$AJ$1,MATCH(A93,Results!$A:$A,0)-1,0)),"") -> 68 | G93: =IF(OR(E93="",F93=""),"",IF(F93=1,(IF(COUNTIFS(F:F,"<="&F93)<=1,1,(1-COUNTIFS(F:F,"<"&F93))/COUNTIFS(F:F,F93)))*50*E93*(1+VALUE(MID(H93,FIND(": ",H93)+2,FIND("/",H93)-FIND(":",H93)-2))-1)+50*E93*(1+VALUE(MID(H93,FIND(": ",H93)+2,FIND("/",H93)-FIND(":",H93)-2))-1)/VALUE(RIGHT(H93,1)),IF(F93<=VALUE(MID(H93,FIND(", ",H93)+2,IF(MID(H93,FIND(", ",H93)+2,1)="1",2,1))),(IF(COUNTIFS(F:F,"<="&F93)<=VALUE(MID(H93,FIND(", ",H93)+2,IF(MID(H93,FIND(", ",H93)+2,1)="1",2,1))),1,(VALUE(MID(H93,FIND(", ",H93)+2,IF(MID(H93,FIND(", ",H93)+2,1)="1",2,1)))-COUNTIFS(F:F,"<"&F93))/COUNTIFS(F:F,F93)))*(50*E93*(1+VALUE(MID(H93,FIND(": ",H93)+2,FIND("/",H93)-FIND(":",H93)-2))-1)/VALUE(RIGHT(H93,1))+50*E93)-(100*E93),-E93*100))) | H93: =IF(E93="","",OFFSET([1]Japan!$AL$1,MATCH(A93,[1]Japan!$E$1:$E$500,0)-1,0))
A94: Taisei Shimizu | B94: 0.77% | C94: 130 | D94: 126 | F94: =IFERROR(IF(A94="","",OFFSET(Results!$AJ$1,MATCH(A94,Results!$A:$A,0)-1,0)),"") -> 68 | G94: =IF(OR(E94="",F94=""),"",IF(F94=1,(IF(COUNTIFS(F:F,"<="&F94)<=1,1,(1-COUNTIFS(F:F,"<"&F94))/COUNTIFS(F:F,F94)))*50*E94*(1+VALUE(MID(H94,FIND(": ",H94)+2,FIND("/",H94)-FIND(":",H94)-2))-1)+50*E94*(1+VALUE(MID(H94,FIND(": ",H94)+2,FIND("/",H94)-FIND(":",H94)-2))-1)/VALUE(RIGHT(H94,1)),IF(F94<=VALUE(MID(H94,FIND(", ",H94)+2,IF(MID(H94,FIND(", ",H94)+2,1)="1",2,1))),(IF(COUNTIFS(F:F,"<="&F94)<=VALUE(MID(H94,FIND(", ",H94)+2,IF(MID(H94,FIND(", ",H94)+2,1)="1",2,1))),1,(VALUE(MID(H94,FIND(", ",H94)+2,IF(MID(H94,FIND(", ",H94)+2,1)="1",2,1)))-COUNTIFS(F:F,"<"&F94))/COUNTIFS(F:F,F94)))*(50*E94*(1+VALUE(MID(H94,FIND(": ",H94)+2,FIND("/",H94)-FIND(":",H94)-2))-1)/VALUE(RIGHT(H94,1))+50*E94)-(100*E94),-E94*100))) | H94: =IF(E94="","",OFFSET([1]Japan!$AL$1,MATCH(A94,[1]Japan!$E$1:$E$500,0)-1,0))
A95: Taisei Yamada | B95: 0.35% | C95: 286 | D95: 401 | E95: 0.10% | F95: =IFERROR(IF(A95="","",OFFSET(Results!$AJ$1,MATCH(A95,Results!$A:$A,0)-1,0)),"") -> 88 | G95: =IF(OR(E95="",F95=""),"",IF(F95=1,(IF(COUNTIFS(F:F,"<="&F95)<=1,1,(1-COUNTIFS(F:F,"<"&F95))/COUNTIFS(F:F,F95)))*50*E95*(1+VALUE(MID(H95,FIND(": ",H95)+2,FIND("/",H95)-FIND(":",H95)-2))-1)+50*E95*(1+VALUE(MID(H95,FIND(": ",H95)+2,FIND("/",H95)-FIND(":",H95)-2))-1)/VALUE(RIGHT(H95,1)),IF(F95<=VALUE(MID(H95,FIND(", ",H95)+2,IF(MID(H95,FIND(", ",H95)+2,1)="1",2,1))),(IF(COUNTIFS(F:F,"<="&F95)<=VALUE(MID(H95,FIND(", ",H95)+2,IF(MID(H95,FIND(", ",H95)+2,1)="1",2,1))),1,(VALUE(MID(H95,FIND(", ",H95)+2,IF(MID(H95,FIND(", ",H95)+2,1)="1",2,1)))-COUNTIFS(F:F,"<"&F95))/COUNTIFS(F:F,F95)))*(50*E95*(1+VALUE(MID(H95,FIND(": ",H95)+2,FIND("/",H95)-FIND(":",H95)-2))-1)/VALUE(RIGHT(H95,1))+50*E95)-(100*E95),-E95*100))) -> -0.1 | H95: =IF(E95="","",OFFSET([1]Japan!$AL$1,MATCH(A95,[1]Japan!$E$1:$E$500,0)-1,0)) -> Bet365: 400/1, 5pl, 1/4
A96: Takahiro Hataji | B96: 0.61% | C96: 164 | D96: 161 | F96: =IFERROR(IF(A96="","",OFFSET(Results!$AJ$1,MATCH(A96,Results!$A:$A,0)-1,0)),"") -> 21 | G96: =IF(OR(E96="",F96=""),"",IF(F96=1,(IF(COUNTIFS(F:F,"<="&F96)<=1,1,(1-COUNTIFS(F:F,"<"&F96))/COUNTIFS(F:F,F96)))*50*E96*(1+VALUE(MID(H96,FIND(": ",H96)+2,FIND("/",H96)-FIND(":",H96)-2))-1)+50*E96*(1+VALUE(MID(H96,FIND(": ",H96)+2,FIND("/",H96)-FIND(":",H96)-2))-1)/VALUE(RIGHT(H96,1)),IF(F96<=VALUE(MID(H96,FIND(", ",H96)+2,IF(MID(H96,FIND(", ",H96)+2,1)="1",2,1))),(IF(COUNTIFS(F:F,"<="&F96)<=VALUE(MID(H96,FIND(", ",H96)+2,IF(MID(H96,FIND(", ",H96)+2,1)="1",2,1))),1,(VALUE(MID(H96,FIND(", ",H96)+2,IF(MID(H96,FIND(", ",H96)+2,1)="1",2,1)))-COUNTIFS(F:F,"<"&F96))/COUNTIFS(F:F,F96)))*(50*E96*(1+VALUE(MID(H96,FIND(": ",H96)+2,FIND("/",H96)-FIND(":",H96)-2))-1)/VALUE(RIGHT(H96,1))+50*E96)-(100*E96),-E96*100))) | H96: =IF(E96="","",OFFSET([1]Japan!$AL$1,MATCH(A96,[1]Japan!$E$1:$E$500,0)-1,0))
A97: Takanori Konishi | B97: 0.60% | C97: 167 | D97: 81 | F97: =IFERROR(IF(A97="","",OFFSET(Results!$AJ$1,MATCH(A97,Results!$A:$A,0)-1,0)),"") -> 65 | G97: =IF(OR(E97="",F97=""),"",IF(F97=1,(IF(COUNTIFS(F:F,"<="&F97)<=1,1,(1-COUNTIFS(F:F,"<"&F97))/COUNTIFS(F:F,F97)))*50*E97*(1+VALUE(MID(H97,FIND(": ",H97)+2,FIND("/",H97)-FIND(":",H97)-2))-1)+50*E97*(1+VALUE(MID(H97,FIND(": ",H97)+2,FIND("/",H97)-FIND(":",H97)-2))-1)/VALUE(RIGHT(H97,1)),IF(F97<=VALUE(MID(H97,FIND(", ",H97)+2,IF(MID(H97,FIND(", ",H97)+2,1)="1",2,1))),(IF(COUNTIFS(F:F,"<="&F97)<=VALUE(MID(H97,FIND(", ",H97)+2,IF(MID(H97,FIND(", ",H97)+2,1)="1",2,1))),1,(VALUE(MID(H97,FIND(", ",H97)+2,IF(MID(H97,FIND(", ",H97)+2,1)="1",2,1)))-COUNTIFS(F:F,"<"&F97))/COUNTIFS(F:F,F97)))*(50*E97*(1+VALUE(MID(H97,FIND(": ",H97)+2,FIND("/",H97)-FIND(":",H97)-2))-1)/VALUE(RIGHT(H97,1))+50*E97)-(100*E97),-E97*100))) | H97: =IF(E97="","",OFFSET([1]Japan!$AL$1,MATCH(A97,[1]Japan!$E$1:$E$500,0)-1,0))
A98: Takara Oshima | B98: 0.22% | C98: 455 | D98: 401 | F98: =IFERROR(IF(A98="","",OFFSET(Results!$AJ$1,MATCH(A98,Results!$A:$A,0)-1,0)),"") -> 34 | G98: =IF(OR(E98="",F98=""),"",IF(F98=1,(IF(COUNTIFS(F:F,"<="&F98)<=1,1,(1-COUNTIFS(F:F,"<"&F98))/COUNTIFS(F:F,F98)))*50*E98*(1+VALUE(MID(H98,FIND(": ",H98)+2,FIND("/",H98)-FIND(":",H98)-2))-1)+50*E98*(1+VALUE(MID(H98,FIND(": ",H98)+2,FIND("/",H98)-FIND(":",H98)-2))-1)/VALUE(RIGHT(H98,1)),IF(F98<=VALUE(MID(H98,FIND(", ",H98)+2,IF(MID(H98,FIND(", ",H98)+2,1)="1",2,1))),(IF(COUNTIFS(F:F,"<="&F98)<=VALUE(MID(H98,FIND(", ",H98)+2,IF(MID(H98,FIND(", ",H98)+2,1)="1",2,1))),1,(VALUE(MID(H98,FIND(", ",H98)+2,IF(MID(H98,FIND(", ",H98)+2,1)="1",2,1)))-COUNTIFS(F:F,"<"&F98))/COUNTIFS(F:F,F98)))*(50*E98*(1+VALUE(MID(H98,FIND(": ",H98)+2,FIND("/",H98)-FIND(":",H98)-2))-1)/VALUE(RIGHT(H98,1))+50*E98)-(100*E98),-E98*100))) | H98: =IF(E98="","",OFFSET([1]Japan!$AL$1,MATCH(A98,[1]Japan!$E$1:$E$500,0)-1,0))
A99: Takashi Ogiso | B99: 1.80% | C99: 56 | D99: 56 | F99: =IFERROR(IF(A99="","",OFFSET(Results!$AJ$1,MATCH(A99,Results!$A:$A,0)-1,0)),"") -> 88 | G99: =IF(OR(E99="",F99=""),"",IF(F99=1,(IF(COUNTIFS(F:F,"<="&F99)<=1,1,(1-COUNTIFS(F:F,"<"&F99))/COUNTIFS(F:F,F99)))*50*E99*(1+VALUE(MID(H99,FIND(": ",H99)+2,FIND("/",H99)-FIND(":",H99)-2))-1)+50*E99*(1+VALUE(MID(H99,FIND(": ",H99)+2,FIND("/",H99)-FIND(":",H99)-2))-1)/VALUE(RIGHT(H99,1)),IF(F99<=VALUE(MID(H99,FIND(", ",H99)+2,IF(MID(H99,FIND(", ",H99)+2,1)="1",2,1))),(IF(COUNTIFS(F:F,"<="&F99)<=VALUE(MID(H99,FIND(", ",H99)+2,IF(MID(H99,FIND(", ",H99)+2,1)="1",2,1))),1,(VALUE(MID(H99,FIND(", ",H99)+2,IF(MID(H99,FIND(", ",H99)+2,1)="1",2,1)))-COUNTIFS(F:F,"<"&F99))/COUNTIFS(F:F,F99)))*(50*E99*(1+VALUE(MID(H99,FIND(": ",H99)+2,FIND("/",H99)-FIND(":",H99)-2))-1)/VALUE(RIGHT(H99,1))+50*E99)-(100*E99),-E99*100))) | H99: =IF(E99="","",OFFSET([1]Japan!$AL$1,MATCH(A99,[1]Japan!$E$1:$E$500,0)-1,0))
A100: Tatsunori Shogenji | B100: 1.82% | C100: 55 | D100: 41 | F100: =IFERROR(IF(A100="","",OFFSET(Results!$AJ$1,MATCH(A100,Results!$A:$A,0)-1,0)),"") -> 34 | G100: =IF(OR(E100="",F100=""),"",IF(F100=1,(IF(COUNTIFS(F:F,"<="&F100)<=1,1,(1-COUNTIFS(F:F,"<"&F100))/COUNTIFS(F:F,F100)))*50*E100*(1+VALUE(MID(H100,FIND(": ",H100)+2,FIND("/",H100)-FIND(":",H100)-2))-1)+50*E100*(1+VALUE(MID(H100,FIND(": ",H100)+2,FIND("/",H100)-FIND(":",H100)-2))-1)/VALUE(RIGHT(H100,1)),IF(F100<=VALUE(MID(H100,FIND(", ",H100)+2,IF(MID(H100,FIND(", ",H100)+2,1)="1",2,1))),(IF(COUNTIFS(F:F,"<="&F100)<=VALUE(MID(H100,FIND(", ",H100)+2,IF(MID(H100,FIND(", ",H100)+2,1)="1",2,1))),1,(VALUE(MID(H100,FIND(", ",H100)+2,IF(MID(H100,FIND(", ",H100)+2,1)="1",2,1)))-COUNTIFS(F:F,"<"&F100))/COUNTIFS(F:F,F100)))*(50*E100*(1+VALUE(MID(H100,FIND(": ",H100)+2,FIND("/",H100)-FIND(":",H100)-2))-1)/VALUE(RIGHT(H100,1))+50*E100)-(100*E100),-E100*100))) | H100: =IF(E100="","",OFFSET([1]Japan!$AL$1,MATCH(A100,[1]Japan!$E$1:$E$500,0)-1,0))
A101: Tatsuya Kodai | B101: 0.19% | C101: 526 | D101: 501 | F101: =IFERROR(IF(A101="","",OFFSET(Results!$AJ$1,MATCH(A101,Results!$A:$A,0)-1,0)),"") -> 97 | G101: =IF(OR(E101="",F101=""),"",IF(F101=1,(IF(COUNTIFS(F:F,"<="&F101)<=1,1,(1-COUNTIFS(F:F,"<"&F101))/COUNTIFS(F:F,F101)))*50*E101*(1+VALUE(MID(H101,FIND(": ",H101)+2,FIND("/",H101)-FIND(":",H101)-2))-1)+50*E101*(1+VALUE(MID(H101,FIND(": ",H101)+2,FIND("/",H101)-FIND(":",H101)-2))-1)/VALUE(RIGHT(H101,1)),IF(F101<=VALUE(MID(H101,FIND(", ",H101)+2,IF(MID(H101,FIND(", ",H101)+2,1)="1",2,1))),(IF(COUNTIFS(F:F,"<="&F101)<=VALUE(MID(H101,FIND(", ",H101)+2,IF(MID(H101,FIND(", ",H101)+2,1)="1",2,1))),1,(VALUE(MID(H101,FIND(", ",H101)+2,IF(MID(H101,FIND(", ",H101)+2,1)="1",2,1)))-COUNTIFS(F:F,"<"&F101))/COUNTIFS(F:F,F101)))*(50*E101*(1+VALUE(MID(H101,FIND(": ",H101)+2,FIND("/",H101)-FIND(":",H101)-2))-1)/VALUE(RIGHT(H101,1))+50*E101)-(100*E101),-E101*100))) | H101: =IF(E101="","",OFFSET([1]Japan!$AL$1,MATCH(A101,[1]Japan!$E$1:$E$500,0)-1,0))
A102: Terumichi Kakazu | B102: 0.28% | C102: 357 | D102: 351 | F102: =IFERROR(IF(A102="","",OFFSET(Results!$AJ$1,MATCH(A102,Results!$A:$A,0)-1,0)),"") -> 81 | G102: =IF(OR(E102="",F102=""),"",IF(F102=1,(IF(COUNTIFS(F:F,"<="&F102)<=1,1,(1-COUNTIFS(F:F,"<"&F102))/COUNTIFS(F:F,F102)))*50*E102*(1+VALUE(MID(H102,FIND(": ",H102)+2,FIND("/",H102)-FIND(":",H102)-2))-1)+50*E102*(1+VALUE(MID(H102,FIND(": ",H102)+2,FIND("/",H102)-FIND(":",H102)-2))-1)/VALUE(RIGHT(H102,1)),IF(F102<=VALUE(MID(H102,FIND(", ",H102)+2,IF(MID(H102,FIND(", ",H102)+2,1)="1",2,1))),(IF(COUNTIFS(F:F,"<="&F102)<=VALUE(MID(H102,FIND(", ",H102)+2,IF(MID(H102,FIND(", ",H102)+2,1)="1",2,1))),1,(VALUE(MID(H102,FIND(", ",H102)+2,IF(MID(H102,FIND(", ",H102)+2,1)="1",2,1)))-COUNTIFS(F:F,"<"&F102))/COUNTIFS(F:F,F102)))*(50*E102*(1+VALUE(MID(H102,FIND(": ",H102)+2,FIND("/",H102)-FIND(":",H102)-2))-1)/VALUE(RIGHT(H102,1))+50*E102)-(100*E102),-E102*100))) | H102: =IF(E102="","",OFFSET([1]Japan!$AL$1,MATCH(A102,[1]Japan!$E$1:$E$500,0)-1,0))
A103: Todd Baek | B103: 0.29% | C103: 345 | D103: 501 | E103: 0.10% | F103: =IFERROR(IF(A103="","",OFFSET(Results!$AJ$1,MATCH(A103,Results!$A:$A,0)-1,0)),"") -> 53 | G103: =IF(OR(E103="",F103=""),"",IF(F103=1,(IF(COUNTIFS(F:F,"<="&F103)<=1,1,(1-COUNTIFS(F:F,"<"&F103))/COUNTIFS(F:F,F103)))*50*E103*(1+VALUE(MID(H103,FIND(": ",H103)+2,FIND("/",H103)-FIND(":",H103)-2))-1)+50*E103*(1+VALUE(MID(H103,FIND(": ",H103)+2,FIND("/",H103)-FIND(":",H103)-2))-1)/VALUE(RIGHT(H103,1)),IF(F103<=VALUE(MID(H103,FIND(", ",H103)+2,IF(MID(H103,FIND(", ",H103)+2,1)="1",2,1))),(IF(COUNTIFS(F:F,"<="&F103)<=VALUE(MID(H103,FIND(", ",H103)+2,IF(MID(H103,FIND(", ",H103)+2,1)="1",2,1))),1,(VALUE(MID(H103,FIND(", ",H103)+2,IF(MID(H103,FIND(", ",H103)+2,1)="1",2,1)))-COUNTIFS(F:F,"<"&F103))/COUNTIFS(F:F,F103)))*(50*E103*(1+VALUE(MID(H103,FIND(": ",H103)+2,FIND("/",H103)-FIND(":",H103)-2))-1)/VALUE(RIGHT(H103,1))+50*E103)-(100*E103),-E103*100))) -> -0.1 | H103: =IF(E103="","",OFFSET([1]Japan!$AL$1,MATCH(A103,[1]Japan!$E$1:$E$500,0)-1,0)) -> Bet365: 500/1, 5pl, 1/4
A104: Tomoharu Otsuki | B104: 1.23% | C104: 81 | D104: 61 | F104: =IFERROR(IF(A104="","",OFFSET(Results!$AJ$1,MATCH(A104,Results!$A:$A,0)-1,0)),"") -> 126 | G104: =IF(OR(E104="",F104=""),"",IF(F104=1,(IF(COUNTIFS(F:F,"<="&F104)<=1,1,(1-COUNTIFS(F:F,"<"&F104))/COUNTIFS(F:F,F104)))*50*E104*(1+VALUE(MID(H104,FIND(": ",H104)+2,FIND("/",H104)-FIND(":",H104)-2))-1)+50*E104*(1+VALUE(MID(H104,FIND(": ",H104)+2,FIND("/",H104)-FIND(":",H104)-2))-1)/VALUE(RIGHT(H104,1)),IF(F104<=VALUE(MID(H104,FIND(", ",H104)+2,IF(MID(H104,FIND(", ",H104)+2,1)="1",2,1))),(IF(COUNTIFS(F:F,"<="&F104)<=VALUE(MID(H104,FIND(", ",H104)+2,IF(MID(H104,FIND(", ",H104)+2,1)="1",2,1))),1,(VALUE(MID(H104,FIND(", ",H104)+2,IF(MID(H104,FIND(", ",H104)+2,1)="1",2,1)))-COUNTIFS(F:F,"<"&F104))/COUNTIFS(F:F,F104)))*(50*E104*(1+VALUE(MID(H104,FIND(": ",H104)+2,FIND("/",H104)-FIND(":",H104)-2))-1)/VALUE(RIGHT(H104,1))+50*E104)-(100*E104),-E104*100))) | H104: =IF(E104="","",OFFSET([1]Japan!$AL$1,MATCH(A104,[1]Japan!$E$1:$E$500,0)-1,0))
A105: Tomohiro Ishizaka | B105: 2.15% | C105: 47 | D105: 26 | F105: =IFERROR(IF(A105="","",OFFSET(Results!$AJ$1,MATCH(A105,Results!$A:$A,0)-1,0)),"") -> 21 | G105: =IF(OR(E105="",F105=""),"",IF(F105=1,(IF(COUNTIFS(F:F,"<="&F105)<=1,1,(1-COUNTIFS(F:F,"<"&F105))/COUNTIFS(F:F,F105)))*50*E105*(1+VALUE(MID(H105,FIND(": ",H105)+2,FIND("/",H105)-FIND(":",H105)-2))-1)+50*E105*(1+VALUE(MID(H105,FIND(": ",H105)+2,FIND("/",H105)-FIND(":",H105)-2))-1)/VALUE(RIGHT(H105,1)),IF(F105<=VALUE(MID(H105,FIND(", ",H105)+2,IF(MID(H105,FIND(", ",H105)+2,1)="1",2,1))),(IF(COUNTIFS(F:F,"<="&F105)<=VALUE(MID(H105,FIND(", ",H105)+2,IF(MID(H105,FIND(", ",H105)+2,1)="1",2,1))),1,(VALUE(MID(H105,FIND(", ",H105)+2,IF(MID(H105,FIND(", ",H105)+2,1)="1",2,1)))-COUNTIFS(F:F,"<"&F105))/COUNTIFS(F:F,F105)))*(50*E105*(1+VALUE(MID(H105,FIND(": ",H105)+2,FIND("/",H105)-FIND(":",H105)-2))-1)/VALUE(RIGHT(H105,1))+50*E105)-(100*E105),-E105*100))) | H105: =IF(E105="","",OFFSET([1]Japan!$AL$1,MATCH(A105,[1]Japan!$E$1:$E$500,0)-1,0))
A106: Tomohiro Kondo | B106: 0.09% | C106: 1111 | D106: 751 | F106: =IFERROR(IF(A106="","",OFFSET(Results!$AJ$1,MATCH(A106,Results!$A:$A,0)-1,0)),"") -> 8 | G106: =IF(OR(E106="",F106=""),"",IF(F106=1,(IF(COUNTIFS(F:F,"<="&F106)<=1,1,(1-COUNTIFS(F:F,"<"&F106))/COUNTIFS(F:F,F106)))*50*E106*(1+VALUE(MID(H106,FIND(": ",H106)+2,FIND("/",H106)-FIND(":",H106)-2))-1)+50*E106*(1+VALUE(MID(H106,FIND(": ",H106)+2,FIND("/",H106)-FIND(":",H106)-2))-1)/VALUE(RIGHT(H106,1)),IF(F106<=VALUE(MID(H106,FIND(", ",H106)+2,IF(MID(H106,FIND(", ",H106)+2,1)="1",2,1))),(IF(COUNTIFS(F:F,"<="&F106)<=VALUE(MID(H106,FIND(", ",H106)+2,IF(MID(H106,FIND(", ",H106)+2,1)="1",2,1))),1,(VALUE(MID(H106,FIND(", ",H106)+2,IF(MID(H106,FIND(", ",H106)+2,1)="1",2,1)))-COUNTIFS(F:F,"<"&F106))/COUNTIFS(F:F,F106)))*(50*E106*(1+VALUE(MID(H106,FIND(": ",H106)+2,FIND("/",H106)-FIND(":",H106)-2))-1)/VALUE(RIGHT(H106,1))+50*E106)-(100*E106),-E106*100))) | H106: =IF(E106="","",OFFSET([1]Japan!$AL$1,MATCH(A106,[1]Japan!$E$1:$E$500,0)-1,0))
A107: Tomoyasu Sugiyama | B107: 0.63% | C107: 159 | D107: 161 | F107: =IFERROR(IF(A107="","",OFFSET(Results!$AJ$1,MATCH(A107,Results!$A:$A,0)-1,0)),"") -> 34 | G107: =IF(OR(E107="",F107=""),"",IF(F107=1,(IF(COUNTIFS(F:F,"<="&F107)<=1,1,(1-COUNTIFS(F:F,"<"&F107))/COUNTIFS(F:F,F107)))*50*E107*(1+VALUE(MID(H107,FIND(": ",H107)+2,FIND("/",H107)-FIND(":",H107)-2))-1)+50*E107*(1+VALUE(MID(H107,FIND(": ",H107)+2,FIND("/",H107)-FIND(":",H107)-2))-1)/VALUE(RIGHT(H107,1)),IF(F107<=VALUE(MID(H107,FIND(", ",H107)+2,IF(MID(H107,FIND(", ",H107)+2,1)="1",2,1))),(IF(COUNTIFS(F:F,"<="&F107)<=VALUE(MID(H107,FIND(", ",H107)+2,IF(MID(H107,FIND(", ",H107)+2,1)="1",2,1))),1,(VALUE(MID(H107,FIND(", ",H107)+2,IF(MID(H107,FIND(", ",H107)+2,1)="1",2,1)))-COUNTIFS(F:F,"<"&F107))/COUNTIFS(F:F,F107)))*(50*E107*(1+VALUE(MID(H107,FIND(": ",H107)+2,FIND("/",H107)-FIND(":",H107)-2))-1)/VALUE(RIGHT(H107,1))+50*E107)-(100*E107),-E107*100))) | H107: =IF(E107="","",OFFSET([1]Japan!$AL$1,MATCH(A107,[1]Japan!$E$1:$E$500,0)-1,0))
A108: Tomoyo Ikemura | B108: 2.24% | C108: 45 | D108: 26 | F108: =IFERROR(IF(A108="","",OFFSET(Results!$AJ$1,MATCH(A108,Results!$A:$A,0)-1,0)),"") -> 24 | G108: =IF(OR(E108="",F108=""),"",IF(F108=1,(IF(COUNTIFS(F:F,"<="&F108)<=1,1,(1-COUNTIFS(F:F,"<"&F108))/COUNTIFS(F:F,F108)))*50*E108*(1+VALUE(MID(H108,FIND(": ",H108)+2,FIND("/",H108)-FIND(":",H108)-2))-1)+50*E108*(1+VALUE(MID(H108,FIND(": ",H108)+2,FIND("/",H108)-FIND(":",H108)-2))-1)/VALUE(RIGHT(H108,1)),IF(F108<=VALUE(MID(H108,FIND(", ",H108)+2,IF(MID(H108,FIND(", ",H108)+2,1)="1",2,1))),(IF(COUNTIFS(F:F,"<="&F108)<=VALUE(MID(H108,FIND(", ",H108)+2,IF(MID(H108,FIND(", ",H108)+2,1)="1",2,1))),1,(VALUE(MID(H108,FIND(", ",H108)+2,IF(MID(H108,FIND(", ",H108)+2,1)="1",2,1)))-COUNTIFS(F:F,"<"&F108))/COUNTIFS(F:F,F108)))*(50*E108*(1+VALUE(MID(H108,FIND(": ",H108)+2,FIND("/",H108)-FIND(":",H108)-2))-1)/VALUE(RIGHT(H108,1))+50*E108)-(100*E108),-E108*100))) | H108: =IF(E108="","",OFFSET([1]Japan!$AL$1,MATCH(A108,[1]Japan!$E$1:$E$500,0)-1,0))
A109: Toshihide Kato | B109: 0.03% | C109: 3333 | D109: 1251 | F109: =IFERROR(IF(A109="","",OFFSET(Results!$AJ$1,MATCH(A109,Results!$A:$A,0)-1,0)),"") -> 97 | G109: =IF(OR(E109="",F109=""),"",IF(F109=1,(IF(COUNTIFS(F:F,"<="&F109)<=1,1,(1-COUNTIFS(F:F,"<"&F109))/COUNTIFS(F:F,F109)))*50*E109*(1+VALUE(MID(H109,FIND(": ",H109)+2,FIND("/",H109)-FIND(":",H109)-2))-1)+50*E109*(1+VALUE(MID(H109,FIND(": ",H109)+2,FIND("/",H109)-FIND(":",H109)-2))-1)/VALUE(RIGHT(H109,1)),IF(F109<=VALUE(MID(H109,FIND(", ",H109)+2,IF(MID(H109,FIND(", ",H109)+2,1)="1",2,1))),(IF(COUNTIFS(F:F,"<="&F109)<=VALUE(MID(H109,FIND(", ",H109)+2,IF(MID(H109,FIND(", ",H109)+2,1)="1",2,1))),1,(VALUE(MID(H109,FIND(", ",H109)+2,IF(MID(H109,FIND(", ",H109)+2,1)="1",2,1)))-COUNTIFS(F:F,"<"&F109))/COUNTIFS(F:F,F109)))*(50*E109*(1+VALUE(MID(H109,FIND(": ",H109)+2,FIND("/",H109)-FIND(":",H109)-2))-1)/VALUE(RIGHT(H109,1))+50*E109)-(100*E109),-E109*100))) | H109: =IF(E109="","",OFFSET([1]Japan!$AL$1,MATCH(A109,[1]Japan!$E$1:$E$500,0)-1,0))
A110: Tristan Rohrbaugh | B110: 0.04% | C110: 2500 | D110: 751 | F110: =IFERROR(IF(A110="","",OFFSET(Results!$AJ$1,MATCH(A110,Results!$A:$A,0)-1,0)),"") -> 118 | G110: =IF(OR(E110="",F110=""),"",IF(F110=1,(IF(COUNTIFS(F:F,"<="&F110)<=1,1,(1-COUNTIFS(F:F,"<"&F110))/COUNTIFS(F:F,F110)))*50*E110*(1+VALUE(MID(H110,FIND(": ",H110)+2,FIND("/",H110)-FIND(":",H110)-2))-1)+50*E110*(1+VALUE(MID(H110,FIND(": ",H110)+2,FIND("/",H110)-FIND(":",H110)-2))-1)/VALUE(RIGHT(H110,1)),IF(F110<=VALUE(MID(H110,FIND(", ",H110)+2,IF(MID(H110,FIND(", ",H110)+2,1)="1",2,1))),(IF(COUNTIFS(F:F,"<="&F110)<=VALUE(MID(H110,FIND(", ",H110)+2,IF(MID(H110,FIND(", ",H110)+2,1)="1",2,1))),1,(VALUE(MID(H110,FIND(", ",H110)+2,IF(MID(H110,FIND(", ",H110)+2,1)="1",2,1)))-COUNTIFS(F:F,"<"&F110))/COUNTIFS(F:F,F110)))*(50*E110*(1+VALUE(MID(H110,FIND(": ",H110)+2,FIND("/",H110)-FIND(":",H110)-2))-1)/VALUE(RIGHT(H110,1))+50*E110)-(100*E110),-E110*100))) | H110: =IF(E110="","",OFFSET([1]Japan!$AL$1,MATCH(A110,[1]Japan!$E$1:$E$500,0)-1,0))
A111: Tsubasa Ukita | B111: 0.33% | C111: 303 | D111: 201 | F111: =IFERROR(IF(A111="","",OFFSET(Results!$AJ$1,MATCH(A111,Results!$A:$A,0)-1,0)),"") -> 126 | G111: =IF(OR(E111="",F111=""),"",IF(F111=1,(IF(COUNTIFS(F:F,"<="&F111)<=1,1,(1-COUNTIFS(F:F,"<"&F111))/COUNTIFS(F:F,F111)))*50*E111*(1+VALUE(MID(H111,FIND(": ",H111)+2,FIND("/",H111)-FIND(":",H111)-2))-1)+50*E111*(1+VALUE(MID(H111,FIND(": ",H111)+2,FIND("/",H111)-FIND(":",H111)-2))-1)/VALUE(RIGHT(H111,1)),IF(F111<=VALUE(MID(H111,FIND(", ",H111)+2,IF(MID(H111,FIND(", ",H111)+2,1)="1",2,1))),(IF(COUNTIFS(F:F,"<="&F111)<=VALUE(MID(H111,FIND(", ",H111)+2,IF(MID(H111,FIND(", ",H111)+2,1)="1",2,1))),1,(VALUE(MID(H111,FIND(", ",H111)+2,IF(MID(H111,FIND(", ",H111)+2,1)="1",2,1)))-COUNTIFS(F:F,"<"&F111))/COUNTIFS(F:F,F111)))*(50*E111*(1+VALUE(MID(H111,FIND(": ",H111)+2,FIND("/",H111)-FIND(":",H111)-2))-1)/VALUE(RIGHT(H111,1))+50*E111)-(100*E111),-E111*100))) | H111: =IF(E111="","",OFFSET([1]Japan!$AL$1,MATCH(A111,[1]Japan!$E$1:$E$500,0)-1,0))
A112: Xuewen Luo | B112: 0.07% | C112: 1429 | F112: =IFERROR(IF(A112="","",OFFSET(Results!$AJ$1,MATCH(A112,Results!$A:$A,0)-1,0)),"") -> 88 | G112: =IF(OR(E112="",F112=""),"",IF(F112=1,(IF(COUNTIFS(F:F,"<="&F112)<=1,1,(1-COUNTIFS(F:F,"<"&F112))/COUNTIFS(F:F,F112)))*50*E112*(1+VALUE(MID(H112,FIND(": ",H112)+2,FIND("/",H112)-FIND(":",H112)-2))-1)+50*E112*(1+VALUE(MID(H112,FIND(": ",H112)+2,FIND("/",H112)-FIND(":",H112)-2))-1)/VALUE(RIGHT(H112,1)),IF(F112<=VALUE(MID(H112,FIND(", ",H112)+2,IF(MID(H112,FIND(", ",H112)+2,1)="1",2,1))),(IF(COUNTIFS(F:F,"<="&F112)<=VALUE(MID(H112,FIND(", ",H112)+2,IF(MID(H112,FIND(", ",H112)+2,1)="1",2,1))),1,(VALUE(MID(H112,FIND(", ",H112)+2,IF(MID(H112,FIND(", ",H112)+2,1)="1",2,1)))-COUNTIFS(F:F,"<"&F112))/COUNTIFS(F:F,F112)))*(50*E112*(1+VALUE(MID(H112,FIND(": ",H112)+2,FIND("/",H112)-FIND(":",H112)-2))-1)/VALUE(RIGHT(H112,1))+50*E112)-(100*E112),-E112*100))) | H112: =IF(E112="","",OFFSET([1]Japan!$AL$1,MATCH(A112,[1]Japan!$E$1:$E$500,0)-1,0))
A113: Yoshikazu Haku | B113: 0.08% | C113: 1250 | D113: 1001 | F113: =IFERROR(IF(A113="","",OFFSET(Results!$AJ$1,MATCH(A113,Results!$A:$A,0)-1,0)),"") -> 68 | G113: =IF(OR(E113="",F113=""),"",IF(F113=1,(IF(COUNTIFS(F:F,"<="&F113)<=1,1,(1-COUNTIFS(F:F,"<"&F113))/COUNTIFS(F:F,F113)))*50*E113*(1+VALUE(MID(H113,FIND(": ",H113)+2,FIND("/",H113)-FIND(":",H113)-2))-1)+50*E113*(1+VALUE(MID(H113,FIND(": ",H113)+2,FIND("/",H113)-FIND(":",H113)-2))-1)/VALUE(RIGHT(H113,1)),IF(F113<=VALUE(MID(H113,FIND(", ",H113)+2,IF(MID(H113,FIND(", ",H113)+2,1)="1",2,1))),(IF(COUNTIFS(F:F,"<="&F113)<=VALUE(MID(H113,FIND(", ",H113)+2,IF(MID(H113,FIND(", ",H113)+2,1)="1",2,1))),1,(VALUE(MID(H113,FIND(", ",H113)+2,IF(MID(H113,FIND(", ",H113)+2,1)="1",2,1)))-COUNTIFS(F:F,"<"&F113))/COUNTIFS(F:F,F113)))*(50*E113*(1+VALUE(MID(H113,FIND(": ",H113)+2,FIND("/",H113)-FIND(":",H113)-2))-1)/VALUE(RIGHT(H113,1))+50*E113)-(100*E113),-E113*100))) | H113: =IF(E113="","",OFFSET([1]Japan!$AL$1,MATCH(A113,[1]Japan!$E$1:$E$500,0)-1,0))
A114: Yoshinori Fujimoto | B114: 1.96% | C114: 51 | D114: 31 | F114: =IFERROR(IF(A114="","",OFFSET(Results!$AJ$1,MATCH(A114,Results!$A:$A,0)-1,0)),"") -> 42 | G114: =IF(OR(E114="",F114=""),"",IF(F114=1,(IF(COUNTIFS(F:F,"<="&F114)<=1,1,(1-COUNTIFS(F:F,"<"&F114))/COUNTIFS(F:F,F114)))*50*E114*(1+VALUE(MID(H114,FIND(": ",H114)+2,FIND("/",H114)-FIND(":",H114)-2))-1)+50*E114*(1+VALUE(MID(H114,FIND(": ",H114)+2,FIND("/",H114)-FIND(":",H114)-2))-1)/VALUE(RIGHT(H114,1)),IF(F114<=VALUE(MID(H114,FIND(", ",H114)+2,IF(MID(H114,FIND(", ",H114)+2,1)="1",2,1))),(IF(COUNTIFS(F:F,"<="&F114)<=VALUE(MID(H114,FIND(", ",H114)+2,IF(MID(H114,FIND(", ",H114)+2,1)="1",2,1))),1,(VALUE(MID(H114,FIND(", ",H114)+2,IF(MID(H114,FIND(", ",H114)+2,1)="1",2,1)))-COUNTIFS(F:F,"<"&F114))/COUNTIFS(F:F,F114)))*(50*E114*(1+VALUE(MID(H114,FIND(": ",H114)+2,FIND("/",H114)-FIND(":",H114)-2))-1)/VALUE(RIGHT(H114,1))+50*E114)-(100*E114),-E114*100))) | H114: =IF(E114="","",OFFSET([1]Japan!$AL$1,MATCH(A114,[1]Japan!$E$1:$E$500,0)-1,0))
A115: Yosuke Tsukada | B115: 0.67% | C115: 149 | D115: 131 | F115: =IFERROR(IF(A115="","",OFFSET(Results!$AJ$1,MATCH(A115,Results!$A:$A,0)-1,0)),"") -> 61 | G115: =IF(OR(E115="",F115=""),"",IF(F115=1,(IF(COUNTIFS(F:F,"<="&F115)<=1,1,(1-COUNTIFS(F:F,"<"&F115))/COUNTIFS(F:F,F115)))*50*E115*(1+VALUE(MID(H115,FIND(": ",H115)+2,FIND("/",H115)-FIND(":",H115)-2))-1)+50*E115*(1+VALUE(MID(H115,FIND(": ",H115)+2,FIND("/",H115)-FIND(":",H115)-2))-1)/VALUE(RIGHT(H115,1)),IF(F115<=VALUE(MID(H115,FIND(", ",H115)+2,IF(MID(H115,FIND(", ",H115)+2,1)="1",2,1))),(IF(COUNTIFS(F:F,"<="&F115)<=VALUE(MID(H115,FIND(", ",H115)+2,IF(MID(H115,FIND(", ",H115)+2,1)="1",2,1))),1,(VALUE(MID(H115,FIND(", ",H115)+2,IF(MID(H115,FIND(", ",H115)+2,1)="1",2,1)))-COUNTIFS(F:F,"<"&F115))/COUNTIFS(F:F,F115)))*(50*E115*(1+VALUE(MID(H115,FIND(": ",H115)+2,FIND("/",H115)-FIND(":",H115)-2))-1)/VALUE(RIGHT(H115,1))+50*E115)-(100*E115),-E115*100))) | H115: =IF(E115="","",OFFSET([1]Japan!$AL$1,MATCH(A115,[1]Japan!$E$1:$E$500,0)-1,0))
A116: Yuichi Teruya | B116: 0.27% | C116: 370 | D116: 201 | F116: =IFERROR(IF(A116="","",OFFSET(Results!$AJ$1,MATCH(A116,Results!$A:$A,0)-1,0)),"") -> 49 | G116: =IF(OR(E116="",F116=""),"",IF(F116=1,(IF(COUNTIFS(F:F,"<="&F116)<=1,1,(1-COUNTIFS(F:F,"<"&F116))/COUNTIFS(F:F,F116)))*50*E116*(1+VALUE(MID(H116,FIND(": ",H116)+2,FIND("/",H116)-FIND(":",H116)-2))-1)+50*E116*(1+VALUE(MID(H116,FIND(": ",H116)+2,FIND("/",H116)-FIND(":",H116)-2))-1)/VALUE(RIGHT(H116,1)),IF(F116<=VALUE(MID(H116,FIND(", ",H116)+2,IF(MID(H116,FIND(", ",H116)+2,1)="1",2,1))),(IF(COUNTIFS(F:F,"<="&F116)<=VALUE(MID(H116,FIND(", ",H116)+2,IF(MID(H116,FIND(", ",H116)+2,1)="1",2,1))),1,(VALUE(MID(H116,FIND(", ",H116)+2,IF(MID(H116,FIND(", ",H116)+2,1)="1",2,1)))-COUNTIFS(F:F,"<"&F116))/COUNTIFS(F:F,F116)))*(50*E116*(1+VALUE(MID(H116,FIND(": ",H116)+2,FIND("/",H116)-FIND(":",H116)-2))-1)/VALUE(RIGHT(H116,1))+50*E116)-(100*E116),-E116*100))) | H116: =IF(E116="","",OFFSET([1]Japan!$AL$1,MATCH(A116,[1]Japan!$E$1:$E$500,0)-1,0))
A117: Yujiro Ohori | B117: 1.16% | C117: 86 | D117: 61 | F117: =IFERROR(IF(A117="","",OFFSET(Results!$AJ$1,MATCH(A117,Results!$A:$A,0)-1,0)),"") -> 12 | G117: =IF(OR(E117="",F117=""),"",IF(F117=1,(IF(COUNTIFS(F:F,"<="&F117)<=1,1,(1-COUNTIFS(F:F,"<"&F117))/COUNTIFS(F:F,F117)))*50*E117*(1+VALUE(MID(H117,FIND(": ",H117)+2,FIND("/",H117)-FIND(":",H117)-2))-1)+50*E117*(1+VALUE(MID(H117,FIND(": ",H117)+2,FIND("/",H117)-FIND(":",H117)-2))-1)/VALUE(RIGHT(H117,1)),IF(F117<=VALUE(MID(H117,FIND(", ",H117)+2,IF(MID(H117,FIND(", ",H117)+2,1)="1",2,1))),(IF(COUNTIFS(F:F,"<="&F117)<=VALUE(MID(H117,FIND(", ",H117)+2,IF(MID(H117,FIND(", ",H117)+2,1)="1",2,1))),1,(VALUE(MID(H117,FIND(", ",H117)+2,IF(MID(H117,FIND(", ",H117)+2,1)="1",2,1)))-COUNTIFS(F:F,"<"&F117))/COUNTIFS(F:F,F117)))*(50*E117*(1+VALUE(MID(H117,FIND(": ",H117)+2,FIND("/",H117)-FIND(":",H117)-2))-1)/VALUE(RIGHT(H117,1))+50*E117)-(100*E117),-E117*100))) | H117: =IF(E117="","",OFFSET([1]Japan!$AL$1,MATCH(A117,[1]Japan!$E$1:$E$500,0)-1,0))
A118: Yuki Inamori | B118: 2.20% | C118: 45 | D118: 41 | F118: =IFERROR(IF(A118="","",OFFSET(Results!$AJ$1,MATCH(A118,Results!$A:$A,0)-1,0)),"") -> 34 | G118: =IF(OR(E118="",F118=""),"",IF(F118=1,(IF(COUNTIFS(F:F,"<="&F118)<=1,1,(1-COUNTIFS(F:F,"<"&F118))/COUNTIFS(F:F,F118)))*50*E118*(1+VALUE(MID(H118,FIND(": ",H118)+2,FIND("/",H118)-FIND(":",H118)-2))-1)+50*E118*(1+VALUE(MID(H118,FIND(": ",H118)+2,FIND("/",H118)-FIND(":",H118)-2))-1)/VALUE(RIGHT(H118,1)),IF(F118<=VALUE(MID(H118,FIND(", ",H118)+2,IF(MID(H118,FIND(", ",H118)+2,1)="1",2,1))),(IF(COUNTIFS(F:F,"<="&F118)<=VALUE(MID(H118,FIND(", ",H118)+2,IF(MID(H118,FIND(", ",H118)+2,1)="1",2,1))),1,(VALUE(MID(H118,FIND(", ",H118)+2,IF(MID(H118,FIND(", ",H118)+2,1)="1",2,1)))-COUNTIFS(F:F,"<"&F118))/COUNTIFS(F:F,F118)))*(50*E118*(1+VALUE(MID(H118,FIND(": ",H118)+2,FIND("/",H118)-FIND(":",H118)-2))-1)/VALUE(RIGHT(H118,1))+50*E118)-(100*E118),-E118*100))) | H118: =IF(E118="","",OFFSET([1]Japan!$AL$1,MATCH(A118,[1]Japan!$E$1:$E$500,0)-1,0))
A119: Yuki Kajimura | B119: 0.17% | C119: 588 | D119: 501 | F119: =IFERROR(IF(A119="","",OFFSET(Results!$AJ$1,MATCH(A119,Results!$A:$A,0)-1,0)),"") -> 81 | G119: =IF(OR(E119="",F119=""),"",IF(F119=1,(IF(COUNTIFS(F:F,"<="&F119)<=1,1,(1-COUNTIFS(F:F,"<"&F119))/COUNTIFS(F:F,F119)))*50*E119*(1+VALUE(MID(H119,FIND(": ",H119)+2,FIND("/",H119)-FIND(":",H119)-2))-1)+50*E119*(1+VALUE(MID(H119,FIND(": ",H119)+2,FIND("/",H119)-FIND(":",H119)-2))-1)/VALUE(RIGHT(H119,1)),IF(F119<=VALUE(MID(H119,FIND(", ",H119)+2,IF(MID(H119,FIND(", ",H119)+2,1)="1",2,1))),(IF(COUNTIFS(F:F,"<="&F119)<=VALUE(MID(H119,FIND(", ",H119)+2,IF(MID(H119,FIND(", ",H119)+2,1)="1",2,1))),1,(VALUE(MID(H119,FIND(", ",H119)+2,IF(MID(H119,FIND(", ",H119)+2,1)="1",2,1)))-COUNTIFS(F:F,"<"&F119))/COUNTIFS(F:F,F119)))*(50*E119*(1+VALUE(MID(H119,FIND(": ",H119)+2,FIND("/",H119)-FIND(":",H119)-2))-1)/VALUE(RIGHT(H119,1))+50*E119)-(100*E119),-E119*100))) | H119: =IF(E119="","",OFFSET([1]Japan!$AL$1,MATCH(A119,[1]Japan!$E$1:$E$500,0)-1,0))
A120: Yuki Moriyama | B120: 0.15% | C120: 667 | D120: 1001 | E120: 0.10% | F120: =IFERROR(IF(A120="","",OFFSET(Results!$AJ$1,MATCH(A120,Results!$A:$A,0)-1,0)),"") -> 122 | G120: =IF(OR(E120="",F120=""),"",IF(F120=1,(IF(COUNTIFS(F:F,"<="&F120)<=1,1,(1-COUNTIFS(F:F,"<"&F120))/COUNTIFS(F:F,F120)))*50*E120*(1+VALUE(MID(H120,FIND(": ",H120)+2,FIND("/",H120)-FIND(":",H120)-2))-1)+50*E120*(1+VALUE(MID(H120,FIND(": ",H120)+2,FIND("/",H120)-FIND(":",H120)-2))-1)/VALUE(RIGHT(H120,1)),IF(F120<=VALUE(MID(H120,FIND(", ",H120)+2,IF(MID(H120,FIND(", ",H120)+2,1)="1",2,1))),(IF(COUNTIFS(F:F,"<="&F120)<=VALUE(MID(H120,FIND(", ",H120)+2,IF(MID(H120,FIND(", ",H120)+2,1)="1",2,1))),1,(VALUE(MID(H120,FIND(", ",H120)+2,IF(MID(H120,FIND(", ",H120)+2,1)="1",2,1)))-COUNTIFS(F:F,"<"&F120))/COUNTIFS(F:F,F120)))*(50*E120*(1+VALUE(MID(H120,FIND(": ",H120)+2,FIND("/",H120)-FIND(":",H120)-2))-1)/VALUE(RIGHT(H120,1))+50*E120)-(100*E120),-E120*100))) -> -0.1 | H120: =IF(E120="","",OFFSET([1]Japan!$AL$1,MATCH(A120,[1]Japan!$E$1:$E$500,0)-1,0)) -> Bet365: 1000/1, 5pl, 1/4
A121: Yuki Shino | B121: 0.15% | C121: 667 | D121: 601 | F121: =IFERROR(IF(A121="","",OFFSET(Results!$AJ$1,MATCH(A121,Results!$A:$A,0)-1,0)),"") -> 68 | G121: =IF(OR(E121="",F121=""),"",IF(F121=1,(IF(COUNTIFS(F:F,"<="&F121)<=1,1,(1-COUNTIFS(F:F,"<"&F121))/COUNTIFS(F:F,F121)))*50*E121*(1+VALUE(MID(H121,FIND(": ",H121)+2,FIND("/",H121)-FIND(":",H121)-2))-1)+50*E121*(1+VALUE(MID(H121,FIND(": ",H121)+2,FIND("/",H121)-FIND(":",H121)-2))-1)/VALUE(RIGHT(H121,1)),IF(F121<=VALUE(MID(H121,FIND(", ",H121)+2,IF(MID(H121,FIND(", ",H121)+2,1)="1",2,1))),(IF(COUNTIFS(F:F,"<="&F121)<=VALUE(MID(H121,FIND(", ",H121)+2,IF(MID(H121,FIND(", ",H121)+2,1)="1",2,1))),1,(VALUE(MID(H121,FIND(", ",H121)+2,IF(MID(H121,FIND(", ",H121)+2,1)="1",2,1)))-COUNTIFS(F:F,"<"&F121))/COUNTIFS(F:F,F121)))*(50*E121*(1+VALUE(MID(H121,FIND(": ",H121)+2,FIND("/",H121)-FIND(":",H121)-2))-1)/VALUE(RIGHT(H121,1))+50*E121)-(100*E121),-E121*100))) | H121: =IF(E121="","",OFFSET([1]Japan!$AL$1,MATCH(A121,[1]Japan!$E$1:$E$500,0)-1,0))
A122: Yuma Tanaka | B122: 0.01% | C122: 10000 | D122: 1001 | F122: =IFERROR(IF(A122="","",OFFSET(Results!$AJ$1,MATCH(A122,Results!$A:$A,0)-1,0)),"") -> 97 | G122: =IF(OR(E122="",F122=""),"",IF(F122=1,(IF(COUNTIFS(F:F,"<="&F122)<=1,1,(1-COUNTIFS(F:F,"<"&F122))/COUNTIFS(F:F,F122)))*50*E122*(1+VALUE(MID(H122,FIND(": ",H122)+2,FIND("/",H122)-FIND(":",H122)-2))-1)+50*E122*(1+VALUE(MID(H122,FIND(": ",H122)+2,FIND("/",H122)-FIND(":",H122)-2))-1)/VALUE(RIGHT(H122,1)),IF(F122<=VALUE(MID(H122,FIND(", ",H122)+2,IF(MID(H122,FIND(", ",H122)+2,1)="1",2,1))),(IF(COUNTIFS(F:F,"<="&F122)<=VALUE(MID(H122,FIND(", ",H122)+2,IF(MID(H122,FIND(", ",H122)+2,1)="1",2,1))),1,(VALUE(MID(H122,FIND(", ",H122)+2,IF(MID(H122,FIND(", ",H122)+2,1)="1",2,1)))-COUNTIFS(F:F,"<"&F122))/COUNTIFS(F:F,F122)))*(50*E122*(1+VALUE(MID(H122,FIND(": ",H122)+2,FIND("/",H122)-FIND(":",H122)-2))-1)/VALUE(RIGHT(H122,1))+50*E122)-(100*E122),-E122*100))) | H122: =IF(E122="","",OFFSET([1]Japan!$AL$1,MATCH(A122,[1]Japan!$E$1:$E$500,0)-1,0))
A123: Yusaku Hosono | B123: 3.20% | C123: 31 | D123: 19 | F123: =IFERROR(IF(A123="","",OFFSET(Results!$AJ$1,MATCH(A123,Results!$A:$A,0)-1,0)),"") -> 26 | G123: =IF(OR(E123="",F123=""),"",IF(F123=1,(IF(COUNTIFS(F:F,"<="&F123)<=1,1,(1-COUNTIFS(F:F,"<"&F123))/COUNTIFS(F:F,F123)))*50*E123*(1+VALUE(MID(H123,FIND(": ",H123)+2,FIND("/",H123)-FIND(":",H123)-2))-1)+50*E123*(1+VALUE(MID(H123,FIND(": ",H123)+2,FIND("/",H123)-FIND(":",H123)-2))-1)/VALUE(RIGHT(H123,1)),IF(F123<=VALUE(MID(H123,FIND(", ",H123)+2,IF(MID(H123,FIND(", ",H123)+2,1)="1",2,1))),(IF(COUNTIFS(F:F,"<="&F123)<=VALUE(MID(H123,FIND(", ",H123)+2,IF(MID(H123,FIND(", ",H123)+2,1)="1",2,1))),1,(VALUE(MID(H123,FIND(", ",H123)+2,IF(MID(H123,FIND(", ",H123)+2,1)="1",2,1)))-COUNTIFS(F:F,"<"&F123))/COUNTIFS(F:F,F123)))*(50*E123*(1+VALUE(MID(H123,FIND(": ",H123)+2,FIND("/",H123)-FIND(":",H123)-2))-1)/VALUE(RIGHT(H123,1))+50*E123)-(100*E123),-E123*100))) | H123: =IF(E123="","",OFFSET([1]Japan!$AL$1,MATCH(A123,[1]Japan!$E$1:$E$500,0)-1,0))
A124: Yusaku Miyazato | B124: 1.17% | C124: 85 | D124: 91 | E124: 0.10% | F124: =IFERROR(IF(A124="","",OFFSET(Results!$AJ$1,MATCH(A124,Results!$A:$A,0)-1,0)),"") -> 26 | G124: =IF(OR(E124="",F124=""),"",IF(F124=1,(IF(COUNTIFS(F:F,"<="&F124)<=1,1,(1-COUNTIFS(F:F,"<"&F124))/COUNTIFS(F:F,F124)))*50*E124*(1+VALUE(MID(H124,FIND(": ",H124)+2,FIND("/",H124)-FIND(":",H124)-2))-1)+50*E124*(1+VALUE(MID(H124,FIND(": ",H124)+2,FIND("/",H124)-FIND(":",H124)-2))-1)/VALUE(RIGHT(H124,1)),IF(F124<=VALUE(MID(H124,FIND(", ",H124)+2,IF(MID(H124,FIND(", ",H124)+2,1)="1",2,1))),(IF(COUNTIFS(F:F,"<="&F124)<=VALUE(MID(H124,FIND(", ",H124)+2,IF(MID(H124,FIND(", ",H124)+2,1)="1",2,1))),1,(VALUE(MID(H124,FIND(", ",H124)+2,IF(MID(H124,FIND(", ",H124)+2,1)="1",2,1)))-COUNTIFS(F:F,"<"&F124))/COUNTIFS(F:F,F124)))*(50*E124*(1+VALUE(MID(H124,FIND(": ",H124)+2,FIND("/",H124)-FIND(":",H124)-2))-1)/VALUE(RIGHT(H124,1))+50*E124)-(100*E124),-E124*100))) -> -0.1 | H124: =IF(E124="","",OFFSET([1]Japan!$AL$1,MATCH(A124,[1]Japan!$E$1:$E$500,0)-1,0)) -> Bet365: 90/1, 5pl, 1/4
A125: Yushi Ito | B125: 0.36% | C125: 278 | D125: 201 | F125: =IFERROR(IF(A125="","",OFFSET(Results!$AJ$1,MATCH(A125,Results!$A:$A,0)-1,0)),"") -> 42 | G125: =IF(OR(E125="",F125=""),"",IF(F125=1,(IF(COUNTIFS(F:F,"<="&F125)<=1,1,(1-COUNTIFS(F:F,"<"&F125))/COUNTIFS(F:F,F125)))*50*E125*(1+VALUE(MID(H125,FIND(": ",H125)+2,FIND("/",H125)-FIND(":",H125)-2))-1)+50*E125*(1+VALUE(MID(H125,FIND(": ",H125)+2,FIND("/",H125)-FIND(":",H125)-2))-1)/VALUE(RIGHT(H125,1)),IF(F125<=VALUE(MID(H125,FIND(", ",H125)+2,IF(MID(H125,FIND(", ",H125)+2,1)="1",2,1))),(IF(COUNTIFS(F:F,"<="&F125)<=VALUE(MID(H125,FIND(", ",H125)+2,IF(MID(H125,FIND(", ",H125)+2,1)="1",2,1))),1,(VALUE(MID(H125,FIND(", ",H125)+2,IF(MID(H125,FIND(", ",H125)+2,1)="1",2,1)))-COUNTIFS(F:F,"<"&F125))/COUNTIFS(F:F,F125)))*(50*E125*(1+VALUE(MID(H125,FIND(": ",H125)+2,FIND("/",H125)-FIND(":",H125)-2))-1)/VALUE(RIGHT(H125,1))+50*E125)-(100*E125),-E125*100))) | H125: =IF(E125="","",OFFSET([1]Japan!$AL$1,MATCH(A125,[1]Japan!$E$1:$E$500,0)-1,0))
A126: Yusuke Minamoto | B126: 0.02% | C126: 5000 | D126: 1001 | F126: =IFERROR(IF(A126="","",OFFSET(Results!$AJ$1,MATCH(A126,Results!$A:$A,0)-1,0)),"") -> 42 | G126: =IF(OR(E126="",F126=""),"",IF(F126=1,(IF(COUNTIFS(F:F,"<="&F126)<=1,1,(1-COUNTIFS(F:F,"<"&F126))/COUNTIFS(F:F,F126)))*50*E126*(1+VALUE(MID(H126,FIND(": ",H126)+2,FIND("/",H126)-FIND(":",H126)-2))-1)+50*E126*(1+VALUE(MID(H126,FIND(": ",H126)+2,FIND("/",H126)-FIND(":",H126)-2))-1)/VALUE(RIGHT(H126,1)),IF(F126<=VALUE(MID(H126,FIND(", ",H126)+2,IF(MID(H126,FIND(", ",H126)+2,1)="1",2,1))),(IF(COUNTIFS(F:F,"<="&F126)<=VALUE(MID(H126,FIND(", ",H126)+2,IF(MID(H126,FIND(", ",H126)+2,1)="1",2,1))),1,(VALUE(MID(H126,FIND(", ",H126)+2,IF(MID(H126,FIND(", ",H126)+2,1)="1",2,1)))-COUNTIFS(F:F,"<"&F126))/COUNTIFS(F:F,F126)))*(50*E126*(1+VALUE(MID(H126,FIND(": ",H126)+2,FIND("/",H126)-FIND(":",H126)-2))-1)/VALUE(RIGHT(H126,1))+50*E126)-(100*E126),-E126*100))) | H126: =IF(E126="","",OFFSET([1]Japan!$AL$1,MATCH(A126,[1]Japan!$E$1:$E$500,0)-1,0))
A127: Yusuke Sakamoto | B127: 0.73% | C127: 137 | D127: 131 | F127: =IFERROR(IF(A127="","",OFFSET(Results!$AJ$1,MATCH(A127,Results!$A:$A,0)-1,0)),"") -> 4 | G127: =IF(OR(E127="",F127=""),"",IF(F127=1,(IF(COUNTIFS(F:F,"<="&F127)<=1,1,(1-COUNTIFS(F:F,"<"&F127))/COUNTIFS(F:F,F127)))*50*E127*(1+VALUE(MID(H127,FIND(": ",H127)+2,FIND("/",H127)-FIND(":",H127)-2))-1)+50*E127*(1+VALUE(MID(H127,FIND(": ",H127)+2,FIND("/",H127)-FIND(":",H127)-2))-1)/VALUE(RIGHT(H127,1)),IF(F127<=VALUE(MID(H127,FIND(", ",H127)+2,IF(MID(H127,FIND(", ",H127)+2,1)="1",2,1))),(IF(COUNTIFS(F:F,"<="&F127)<=VALUE(MID(H127,FIND(", ",H127)+2,IF(MID(H127,FIND(", ",H127)+2,1)="1",2,1))),1,(VALUE(MID(H127,FIND(", ",H127)+2,IF(MID(H127,FIND(", ",H127)+2,1)="1",2,1)))-COUNTIFS(F:F,"<"&F127))/COUNTIFS(F:F,F127)))*(50*E127*(1+VALUE(MID(H127,FIND(": ",H127)+2,FIND("/",H127)-FIND(":",H127)-2))-1)/VALUE(RIGHT(H127,1))+50*E127)-(100*E127),-E127*100))) | H127: =IF(E127="","",OFFSET([1]Japan!$AL$1,MATCH(A127,[1]Japan!$E$1:$E$500,0)-1,0))
A128: Yuta Ikeda | B128: 0.81% | C128: 123 | D128: 81 | F128: =IFERROR(IF(A128="","",OFFSET(Results!$AJ$1,MATCH(A128,Results!$A:$A,0)-1,0)),"") -> 42 | G128: =IF(OR(E128="",F128=""),"",IF(F128=1,(IF(COUNTIFS(F:F,"<="&F128)<=1,1,(1-COUNTIFS(F:F,"<"&F128))/COUNTIFS(F:F,F128)))*50*E128*(1+VALUE(MID(H128,FIND(": ",H128)+2,FIND("/",H128)-FIND(":",H128)-2))-1)+50*E128*(1+VALUE(MID(H128,FIND(": ",H128)+2,FIND("/",H128)-FIND(":",H128)-2))-1)/VALUE(RIGHT(H128,1)),IF(F128<=VALUE(MID(H128,FIND(", ",H128)+2,IF(MID(H128,FIND(", ",H128)+2,1)="1",2,1))),(IF(COUNTIFS(F:F,"<="&F128)<=VALUE(MID(H128,FIND(", ",H128)+2,IF(MID(H128,FIND(", ",H128)+2,1)="1",2,1))),1,(VALUE(MID(H128,FIND(", ",H128)+2,IF(MID(H128,FIND(", ",H128)+2,1)="1",2,1)))-COUNTIFS(F:F,"<"&F128))/COUNTIFS(F:F,F128)))*(50*E128*(1+VALUE(MID(H128,FIND(": ",H128)+2,FIND("/",H128)-FIND(":",H128)-2))-1)/VALUE(RIGHT(H128,1))+50*E128)-(100*E128),-E128*100))) | H128: =IF(E128="","",OFFSET([1]Japan!$AL$1,MATCH(A128,[1]Japan!$E$1:$E$500,0)-1,0))
A129: Yuta Kawakami | B129: 0.13% | C129: 769 | D129: 1501 | E129: 0.10% | F129: =IFERROR(IF(A129="","",OFFSET(Results!$AJ$1,MATCH(A129,Results!$A:$A,0)-1,0)),"") -> 53 | G129: =IF(OR(E129="",F129=""),"",IF(F129=1,(IF(COUNTIFS(F:F,"<="&F129)<=1,1,(1-COUNTIFS(F:F,"<"&F129))/COUNTIFS(F:F,F129)))*50*E129*(1+VALUE(MID(H129,FIND(": ",H129)+2,FIND("/",H129)-FIND(":",H129)-2))-1)+50*E129*(1+VALUE(MID(H129,FIND(": ",H129)+2,FIND("/",H129)-FIND(":",H129)-2))-1)/VALUE(RIGHT(H129,1)),IF(F129<=VALUE(MID(H129,FIND(", ",H129)+2,IF(MID(H129,FIND(", ",H129)+2,1)="1",2,1))),(IF(COUNTIFS(F:F,"<="&F129)<=VALUE(MID(H129,FIND(", ",H129)+2,IF(MID(H129,FIND(", ",H129)+2,1)="1",2,1))),1,(VALUE(MID(H129,FIND(", ",H129)+2,IF(MID(H129,FIND(", ",H129)+2,1)="1",2,1)))-COUNTIFS(F:F,"<"&F129))/COUNTIFS(F:F,F129)))*(50*E129*(1+VALUE(MID(H129,FIND(": ",H129)+2,FIND("/",H129)-FIND(":",H129)-2))-1)/VALUE(RIGHT(H129,1))+50*E129)-(100*E129),-E129*100))) -> -0.1 | H129: =IF(E129="","",OFFSET([1]Japan!$AL$1,MATCH(A129,[1]Japan!$E$1:$E$500,0)-1,0)) -> Bet365: 1500/1, 5pl, 1/4
A130: Yuta Kinoshita | B130: 0.05% | C130: 2000 | D130: 1251 | F130: =IFERROR(IF(A130="","",OFFSET(Results!$AJ$1,MATCH(A130,Results!$A:$A,0)-1,0)),"") -> 88 | G130: =IF(OR(E130="",F130=""),"",IF(F130=1,(IF(COUNTIFS(F:F,"<="&F130)<=1,1,(1-COUNTIFS(F:F,"<"&F130))/COUNTIFS(F:F,F130)))*50*E130*(1+VALUE(MID(H130,FIND(": ",H130)+2,FIND("/",H130)-FIND(":",H130)-2))-1)+50*E130*(1+VALUE(MID(H130,FIND(": ",H130)+2,FIND("/",H130)-FIND(":",H130)-2))-1)/VALUE(RIGHT(H130,1)),IF(F130<=VALUE(MID(H130,FIND(", ",H130)+2,IF(MID(H130,FIND(", ",H130)+2,1)="1",2,1))),(IF(COUNTIFS(F:F,"<="&F130)<=VALUE(MID(H130,FIND(", ",H130)+2,IF(MID(H130,FIND(", ",H130)+2,1)="1",2,1))),1,(VALUE(MID(H130,FIND(", ",H130)+2,IF(MID(H130,FIND(", ",H130)+2,1)="1",2,1)))-COUNTIFS(F:F,"<"&F130))/COUNTIFS(F:F,F130)))*(50*E130*(1+VALUE(MID(H130,FIND(": ",H130)+2,FIND("/",H130)-FIND(":",H130)-2))-1)/VALUE(RIGHT(H130,1))+50*E130)-(100*E130),-E130*100))) | H130: =IF(E130="","",OFFSET([1]Japan!$AL$1,MATCH(A130,[1]Japan!$E$1:$E$500,0)-1,0))
A131: Yuta Uetake | B131: 0.13% | C131: 769 | D131: 501 | F131: =IFERROR(IF(A131="","",OFFSET(Results!$AJ$1,MATCH(A131,Results!$A:$A,0)-1,0)),"") -> 105 | G131: =IF(OR(E131="",F131=""),"",IF(F131=1,(IF(COUNTIFS(F:F,"<="&F131)<=1,1,(1-COUNTIFS(F:F,"<"&F131))/COUNTIFS(F:F,F131)))*50*E131*(1+VALUE(MID(H131,FIND(": ",H131)+2,FIND("/",H131)-FIND(":",H131)-2))-1)+50*E131*(1+VALUE(MID(H131,FIND(": ",H131)+2,FIND("/",H131)-FIND(":",H131)-2))-1)/VALUE(RIGHT(H131,1)),IF(F131<=VALUE(MID(H131,FIND(", ",H131)+2,IF(MID(H131,FIND(", ",H131)+2,1)="1",2,1))),(IF(COUNTIFS(F:F,"<="&F131)<=VALUE(MID(H131,FIND(", ",H131)+2,IF(MID(H131,FIND(", ",H131)+2,1)="1",2,1))),1,(VALUE(MID(H131,FIND(", ",H131)+2,IF(MID(H131,FIND(", ",H131)+2,1)="1",2,1)))-COUNTIFS(F:F,"<"&F131))/COUNTIFS(F:F,F131)))*(50*E131*(1+VALUE(MID(H131,FIND(": ",H131)+2,FIND("/",H131)-FIND(":",H131)-2))-1)/VALUE(RIGHT(H131,1))+50*E131)-(100*E131),-E131*100))) | H131: =IF(E131="","",OFFSET([1]Japan!$AL$1,MATCH(A131,[1]Japan!$E$1:$E$500,0)-1,0))
A132: Yuto Katsumata | B132: 0.18% | C132: 556 | D132: 151 | F132: =IFERROR(IF(A132="","",OFFSET(Results!$AJ$1,MATCH(A132,Results!$A:$A,0)-1,0)),"") -> 26 | G132: =IF(OR(E132="",F132=""),"",IF(F132=1,(IF(COUNTIFS(F:F,"<="&F132)<=1,1,(1-COUNTIFS(F:F,"<"&F132))/COUNTIFS(F:F,F132)))*50*E132*(1+VALUE(MID(H132,FIND(": ",H132)+2,FIND("/",H132)-FIND(":",H132)-2))-1)+50*E132*(1+VALUE(MID(H132,FIND(": ",H132)+2,FIND("/",H132)-FIND(":",H132)-2))-1)/VALUE(RIGHT(H132,1)),IF(F132<=VALUE(MID(H132,FIND(", ",H132)+2,IF(MID(H132,FIND(", ",H132)+2,1)="1",2,1))),(IF(COUNTIFS(F:F,"<="&F132)<=VALUE(MID(H132,FIND(", ",H132)+2,IF(MID(H132,FIND(", ",H132)+2,1)="1",2,1))),1,(VALUE(MID(H132,FIND(", ",H132)+2,IF(MID(H132,FIND(", ",H132)+2,1)="1",2,1)))-COUNTIFS(F:F,"<"&F132))/COUNTIFS(F:F,F132)))*(50*E132*(1+VALUE(MID(H132,FIND(": ",H132)+2,FIND("/",H132)-FIND(":",H132)-2))-1)/VALUE(RIGHT(H132,1))+50*E132)-(100*E132),-E132*100))) | H132: =IF(E132="","",OFFSET([1]Japan!$AL$1,MATCH(A132,[1]Japan!$E$1:$E$500,0)-1,0))
A133: Yuwa Kosaihira | B133: 0.67% | C133: 149 | D133: 101 | F133: =IFERROR(IF(A133="","",OFFSET(Results!$AJ$1,MATCH(A133,Results!$A:$A,0)-1,0)),"") -> 21 | G133: =IF(OR(E133="",F133=""),"",IF(F133=1,(IF(COUNTIFS(F:F,"<="&F133)<=1,1,(1-COUNTIFS(F:F,"<"&F133))/COUNTIFS(F:F,F133)))*50*E133*(1+VALUE(MID(H133,FIND(": ",H133)+2,FIND("/",H133)-FIND(":",H133)-2))-1)+50*E133*(1+VALUE(MID(H133,FIND(": ",H133)+2,FIND("/",H133)-FIND(":",H133)-2))-1)/VALUE(RIGHT(H133,1)),IF(F133<=VALUE(MID(H133,FIND(", ",H133)+2,IF(MID(H133,FIND(", ",H133)+2,1)="1",2,1))),(IF(COUNTIFS(F:F,"<="&F133)<=VALUE(MID(H133,FIND(", ",H133)+2,IF(MID(H133,FIND(", ",H133)+2,1)="1",2,1))),1,(VALUE(MID(H133,FIND(", ",H133)+2,IF(MID(H133,FIND(", ",H133)+2,1)="1",2,1)))-COUNTIFS(F:F,"<"&F133))/COUNTIFS(F:F,F133)))*(50*E133*(1+VALUE(MID(H133,FIND(": ",H133)+2,FIND("/",H133)-FIND(":",H133)-2))-1)/VALUE(RIGHT(H133,1))+50*E133)-(100*E133),-E133*100))) | H133: =IF(E133="","",OFFSET([1]Japan!$AL$1,MATCH(A133,[1]Japan!$E$1:$E$500,0)-1,0))
F134: =IFERROR(IF(A134="","",OFFSET(Results!$AJ$1,MATCH(A134,Results!$A:$A,0)-1,0)),"") | G134: =IF(OR(E134="",F134=""),"",IF(F134=1,(IF(COUNTIFS(F:F,"<="&F134)<=1,1,(1-COUNTIFS(F:F,"<"&F134))/COUNTIFS(F:F,F134)))*50*E134*(1+VALUE(MID(H134,FIND(": ",H134)+2,FIND("/",H134)-FIND(":",H134)-2))-1)+50*E134*(1+VALUE(MID(H134,FIND(": ",H134)+2,FIND("/",H134)-FIND(":",H134)-2))-1)/VALUE(RIGHT(H134,1)),IF(F134<=VALUE(MID(H134,FIND(", ",H134)+2,IF(MID(H134,FIND(", ",H134)+2,1)="1",2,1))),(IF(COUNTIFS(F:F,"<="&F134)<=VALUE(MID(H134,FIND(", ",H134)+2,IF(MID(H134,FIND(", ",H134)+2,1)="1",2,1))),1,(VALUE(MID(H134,FIND(", ",H134)+2,IF(MID(H134,FIND(", ",H134)+2,1)="1",2,1)))-COUNTIFS(F:F,"<"&F134))/COUNTIFS(F:F,F134)))*(50*E134*(1+VALUE(MID(H134,FIND(": ",H134)+2,FIND("/",H134)-FIND(":",H134)-2))-1)/VALUE(RIGHT(H134,1))+50*E134)-(100*E134),-E134*100))) | H134: =IF(E134="","",OFFSET([1]Japan!$AL$1,MATCH(A134,[1]Japan!$E$1:$E$500,0)-1,0))
F135: =IFERROR(IF(A135="","",OFFSET(Results!$AJ$1,MATCH(A135,Results!$A:$A,0)-1,0)),"") | G135: =IF(OR(E135="",F135=""),"",IF(F135=1,(IF(COUNTIFS(F:F,"<="&F135)<=1,1,(1-COUNTIFS(F:F,"<"&F135))/COUNTIFS(F:F,F135)))*50*E135*(1+VALUE(MID(H135,FIND(": ",H135)+2,FIND("/",H135)-FIND(":",H135)-2))-1)+50*E135*(1+VALUE(MID(H135,FIND(": ",H135)+2,FIND("/",H135)-FIND(":",H135)-2))-1)/VALUE(RIGHT(H135,1)),IF(F135<=VALUE(MID(H135,FIND(", ",H135)+2,IF(MID(H135,FIND(", ",H135)+2,1)="1",2,1))),(IF(COUNTIFS(F:F,"<="&F135)<=VALUE(MID(H135,FIND(", ",H135)+2,IF(MID(H135,FIND(", ",H135)+2,1)="1",2,1))),1,(VALUE(MID(H135,FIND(", ",H135)+2,IF(MID(H135,FIND(", ",H135)+2,1)="1",2,1)))-COUNTIFS(F:F,"<"&F135))/COUNTIFS(F:F,F135)))*(50*E135*(1+VALUE(MID(H135,FIND(": ",H135)+2,FIND("/",H135)-FIND(":",H135)-2))-1)/VALUE(RIGHT(H135,1))+50*E135)-(100*E135),-E135*100))) | H135: =IF(E135="","",OFFSET([1]Japan!$AL$1,MATCH(A135,[1]Japan!$E$1:$E$500,0)-1,0))
F136: =IFERROR(IF(A136="","",OFFSET(Results!$AJ$1,MATCH(A136,Results!$A:$A,0)-1,0)),"") | G136: =IF(OR(E136="",F136=""),"",IF(F136=1,(IF(COUNTIFS(F:F,"<="&F136)<=1,1,(1-COUNTIFS(F:F,"<"&F136))/COUNTIFS(F:F,F136)))*50*E136*(1+VALUE(MID(H136,FIND(": ",H136)+2,FIND("/",H136)-FIND(":",H136)-2))-1)+50*E136*(1+VALUE(MID(H136,FIND(": ",H136)+2,FIND("/",H136)-FIND(":",H136)-2))-1)/VALUE(RIGHT(H136,1)),IF(F136<=VALUE(MID(H136,FIND(", ",H136)+2,IF(MID(H136,FIND(", ",H136)+2,1)="1",2,1))),(IF(COUNTIFS(F:F,"<="&F136)<=VALUE(MID(H136,FIND(", ",H136)+2,IF(MID(H136,FIND(", ",H136)+2,1)="1",2,1))),1,(VALUE(MID(H136,FIND(", ",H136)+2,IF(MID(H136,FIND(", ",H136)+2,1)="1",2,1)))-COUNTIFS(F:F,"<"&F136))/COUNTIFS(F:F,F136)))*(50*E136*(1+VALUE(MID(H136,FIND(": ",H136)+2,FIND("/",H136)-FIND(":",H136)-2))-1)/VALUE(RIGHT(H136,1))+50*E136)-(100*E136),-E136*100))) | H136: =IF(E136="","",OFFSET([1]Japan!$AL$1,MATCH(A136,[1]Japan!$E$1:$E$500,0)-1,0))
...

Sheet Picks
A1: Player | B1: TTWin | C1: TTOdds | D1: BestOdds | E1: Kelly | F1: Rank | G1: Result | H1: P/L | I1: Full P/L | J1: E/W Play | L1: FRL: | M1: Player | N1: TTWin | O1: TTOdds | P1: BestOdds | Q1: Kelly | R1: Rank | S1: Result | T1: P/L | U1: Full P/L | V1: E/W Play
A2: =IF(Win!A2="","",Win!A2) -> Aguri Iwasaki | B2: =IF(Win!B2="","",VALUE(Win!B2)) -> 0.0138 | C2: =IF(Win!C2="","",Win!C2) -> 72 | D2: =IF(Win!D2="","",Win!D2) -> 34 | E2: =IF(D2="","",IF(ROUND((B2*(D2-1)-(1-B2))/(D2-1),3)<=0,"",ROUND((B2*(D2-1)-(1-B2))/(D2-1),3))) | F2: {=IF(E2="","",RANK(E2, $E$2:$E$241) + COUNTIFS($E$2:$E$241, E2, $D$2:$D$241, "<"&D2) + COUNTIFS($E$2:$E$241, E2, $D$2:$D$241, D2, $A$2:$A$241, "<"&A2))} | G2: =IF(Win!F2="","",Win!F2) -> 16 | H2: =IF(OR(F2="",G2="",F2>3),"",IF(G2=1,(IF(COUNTIFS(G:G,"<="&G2)<=1,1,(1-COUNTIFS(G:G,"<"&G2))/COUNTIFS(G:G,G2)))*(1+VALUE(MID(J2,FIND(": ",J2)+2,FIND("/",J2)-FIND(":",J2)-2))-1)+(1+VALUE(MID(J2,FIND(": ",J2)+2,FIND("/",J2)-FIND(":",J2)-2))-1)/VALUE(RIGHT(J2,1)),IF(G2<=VALUE(MID(J2,FIND(", ",J2)+2,IF(MID(J2,FIND(", ",J2)+2,1)="1",2,1))),(IF(COUNTIFS(G:G,"<="&G2)<=VALUE(MID(J2,FIND(", ",J2)+2,IF(MID(J2,FIND(", ",J2)+2,1)="1",2,1))),1,(VALUE(MID(J2,FIND(", ",J2)+2,IF(MID(J2,FIND(", ",J2)+2,1)="1",2,1)))-COUNTIFS(G:G,"<"&G2))/COUNTIFS(G:G,G2)))*(1*(1+VALUE(MID(J2,FIND(": ",J2)+2,FIND("/",J2)-FIND(":",J2)-2))-1)/VALUE(RIGHT(J2,1))+1)-2,-2))) | I2: =IF(OR(E2="",G2=""),"",IF(G2=1,(IF(COUNTIFS(G:G,"<="&G2)<=1,1,(1-COUNTIFS(G:G,"<"&G2))/COUNTIFS(G:G,G2)))*(1+VALUE(MID(J2,FIND(": ",J2)+2,FIND("/",J2)-FIND(":",J2)-2))-1)+(1+VALUE(MID(J2,FIND(": ",J2)+2,FIND("/",J2)-FIND(":",J2)-2))-1)/VALUE(RIGHT(J2,1)),IF(G2<=VALUE(MID(J2,FIND(", ",J2)+2,IF(MID(J2,FIND(", ",J2)+2,1)="1",2,1))),(IF(COUNTIFS(G:G,"<="&G2)<=VALUE(MID(J2,FIND(", ",J2)+2,IF(MID(J2,FIND(", ",J2)+2,1)="1",2,1))),1,(VALUE(MID(J2,FIND(", ",J2)+2,IF(MID(J2,FIND(", ",J2)+2,1)="1",2,1)))-COUNTIFS(G:G,"<"&G2))/COUNTIFS(G:G,G2)))*(1*(1+VALUE(MID(J2,FIND(": ",J2)+2,FIND("/",J2)-FIND(":",J2)-2))-1)/VALUE(RIGHT(J2,1))+1)-2,-2))) | J2: =IF(F2="","",Win!H2) | M2: =IF(FRL!A2="","",FRL!A2) | N2: =IF(FRL!B2="","",FRL!B2) | O2: =IF(FRL!C2="","",FRL!C2) | P2: =IF(FRL!D2="","",FRL!D2) | Q2: =IF(P2="","",IF(ROUND((N2*(P2-1)-(1-N2))/(P2-1),3)<=0,"",ROUND((N2*(P2-1)-(1-N2))/(P2-1),3))) | R2: {=IF(Q2="","",RANK(Q2, $Q$2:$Q$241) + COUNTIFS($Q$2:$Q$241, Q2, $P$2:$P$241, "<"&P2) + COUNTIFS($Q$2:$Q$241, Q2, $P$2:$P$241, P2, $M$2:$M$241, "<"&M2))} | S2: =IF(FRL!F2="","",FRL!F2) | T2: =IF(OR(R2="",S2="",R2>6),"",0.5*IF(S2=1,(IF(COUNTIFS(S:S,"<="&S2)<=1,1,(1-COUNTIFS(S:S,"<"&S2))/COUNTIFS(S:S,S2)))*(1+VALUE(MID(V2,FIND(": ",V2)+2,FIND("/",V2)-FIND(":",V2)-2))-1)+(1+VALUE(MID(V2,FIND(": ",V2)+2,FIND("/",V2)-FIND(":",V2)-2))-1)/VALUE(RIGHT(V2,1)),IF(S2<=VALUE(MID(V2,FIND(", ",V2)+2,IF(MID(V2,FIND(", ",V2)+2,1)="1",2,1))),(IF(COUNTIFS(S:S,"<="&S2)<=VALUE(MID(V2,FIND(", ",V2)+2,IF(MID(V2,FIND(", ",V2)+2,1)="1",2,1))),1,(VALUE(MID(V2,FIND(", ",V2)+2,IF(MID(V2,FIND(", ",V2)+2,1)="1",2,1)))-COUNTIFS(S:S,"<"&S2))/COUNTIFS(S:S,S2)))*(1*(1+VALUE(MID(V2,FIND(": ",V2)+2,FIND("/",V2)-FIND(":",V2)-2))-1)/VALUE(RIGHT(V2,1))+1)-2,-2))) | U2: =IF(OR(Q2="",S2=""),"",0.5*IF(S2=1,(IF(COUNTIFS(S:S,"<="&S2)<=1,1,(1-COUNTIFS(S:S,"<"&S2))/COUNTIFS(S:S,S2)))*(1+VALUE(MID(V2,FIND(": ",V2)+2,FIND("/",V2)-FIND(":",V2)-2))-1)+(1+VALUE(MID(V2,FIND(": ",V2)+2,FIND("/",V2)-FIND(":",V2)-2))-1)/VALUE(RIGHT(V2,1)),IF(S2<=VALUE(MID(V2,FIND(", ",V2)+2,IF(MID(V2,FIND(", ",V2)+2,1)="1",2,1))),(IF(COUNTIFS(S:S,"<="&S2)<=VALUE(MID(V2,FIND(", ",V2)+2,IF(MID(V2,FIND(", ",V2)+2,1)="1",2,1))),1,(VALUE(MID(V2,FIND(", ",V2)+2,IF(MID(V2,FIND(", ",V2)+2,1)="1",2,1)))-COUNTIFS(S:S,"<"&S2))/COUNTIFS(S:S,S2)))*(1*(1+VALUE(MID(V2,FIND(": ",V2)+2,FIND("/",V2)-FIND(":",V2)-2))-1)/VALUE(RIGHT(V2,1))+1)-2,-2))) | V2: =IF(R2="","",FRL!H2)
A3: =IF(Win!A3="","",Win!A3) -> Akira Endo | B3: =IF(Win!B3="","",VALUE(Win!B3)) -> 0.0001 | C3: =IF(Win!C3="","",Win!C3) -> 10000 | D3: =IF(Win!D3="","",Win!D3) -> 2001 | E3: =IF(D3="","",IF(ROUND((B3*(D3-1)-(1-B3))/(D3-1),3)<=0,"",ROUND((B3*(D3-1)-(1-B3))/(D3-1),3))) | F3: {=IF(E3="","",RANK(E3, $E$2:$E$241) + COUNTIFS($E$2:$E$241, E3, $D$2:$D$241, "<"&D3) + COUNTIFS($E$2:$E$241, E3, $D$2:$D$241, D3, $A$2:$A$241, "<"&A3))} | G3: =IF(Win!F3="","",Win!F3) -> 111 | H3: =IF(OR(F3="",G3="",F3>3),"",IF(G3=1,(IF(COUNTIFS(G:G,"<="&G3)<=1,1,(1-COUNTIFS(G:G,"<"&G3))/COUNTIFS(G:G,G3)))*(1+VALUE(MID(J3,FIND(": ",J3)+2,FIND("/",J3)-FIND(":",J3)-2))-1)+(1+VALUE(MID(J3,FIND(": ",J3)+2,FIND("/",J3)-FIND(":",J3)-2))-1)/VALUE(RIGHT(J3,1)),IF(G3<=VALUE(MID(J3,FIND(", ",J3)+2,IF(MID(J3,FIND(", ",J3)+2,1)="1",2,1))),(IF(COUNTIFS(G:G,"<="&G3)<=VALUE(MID(J3,FIND(", ",J3)+2,IF(MID(J3,FIND(", ",J3)+2,1)="1",2,1))),1,(VALUE(MID(J3,FIND(", ",J3)+2,IF(MID(J3,FIND(", ",J3)+2,1)="1",2,1)))-COUNTIFS(G:G,"<"&G3))/COUNTIFS(G:G,G3)))*(1*(1+VALUE(MID(J3,FIND(": ",J3)+2,FIND("/",J3)-FIND(":",J3)-2))-1)/VALUE(RIGHT(J3,1))+1)-2,-2))) | I3: =IF(OR(E3="",G3=""),"",IF(G3=1,(IF(COUNTIFS(G:G,"<="&G3)<=1,1,(1-COUNTIFS(G:G,"<"&G3))/COUNTIFS(G:G,G3)))*(1+VALUE(MID(J3,FIND(": ",J3)+2,FIND("/",J3)-FIND(":",J3)-2))-1)+(1+VALUE(MID(J3,FIND(": ",J3)+2,FIND("/",J3)-FIND(":",J3)-2))-1)/VALUE(RIGHT(J3,1)),IF(G3<=VALUE(MID(J3,FIND(", ",J3)+2,IF(MID(J3,FIND(", ",J3)+2,1)="1",2,1))),(IF(COUNTIFS(G:G,"<="&G3)<=VALUE(MID(J3,FIND(", ",J3)+2,IF(MID(J3,FIND(", ",J3)+2,1)="1",2,1))),1,(VALUE(MID(J3,FIND(", ",J3)+2,IF(MID(J3,FIND(", ",J3)+2,1)="1",2,1)))-COUNTIFS(G:G,"<"&G3))/COUNTIFS(G:G,G3)))*(1*(1+VALUE(MID(J3,FIND(": ",J3)+2,FIND("/",J3)-FIND(":",J3)-2))-1)/VALUE(RIGHT(J3,1))+1)-2,-2))) | J3: =IF(F3="","",Win!H3) | M3: =IF(FRL!A3="","",FRL!A3) | N3: =IF(FRL!B3="","",FRL!B3) | O3: =IF(FRL!C3="","",FRL!C3) | P3: =IF(FRL!D3="","",FRL!D3) | Q3: =IF(P3="","",IF(ROUND((N3*(P3-1)-(1-N3))/(P3-1),3)<=0,"",ROUND((N3*(P3-1)-(1-N3))/(P3-1),3))) | R3: {=IF(Q3="","",RANK(Q3, $Q$2:$Q$241) + COUNTIFS($Q$2:$Q$241, Q3, $P$2:$P$241, "<"&P3) + COUNTIFS($Q$2:$Q$241, Q3, $P$2:$P$241, P3, $M$2:$M$241, "<"&M3))} | S3: =IF(FRL!F3="","",FRL!F3) | T3: =IF(OR(R3="",S3="",R3>6),"",0.5*IF(S3=1,(IF(COUNTIFS(S:S,"<="&S3)<=1,1,(1-COUNTIFS(S:S,"<"&S3))/COUNTIFS(S:S,S3)))*(1+VALUE(MID(V3,FIND(": ",V3)+2,FIND("/",V3)-FIND(":",V3)-2))-1)+(1+VALUE(MID(V3,FIND(": ",V3)+2,FIND("/",V3)-FIND(":",V3)-2))-1)/VALUE(RIGHT(V3,1)),IF(S3<=VALUE(MID(V3,FIND(", ",V3)+2,IF(MID(V3,FIND(", ",V3)+2,1)="1",2,1))),(IF(COUNTIFS(S:S,"<="&S3)<=VALUE(MID(V3,FIND(", ",V3)+2,IF(MID(V3,FIND(", ",V3)+2,1)="1",2,1))),1,(VALUE(MID(V3,FIND(", ",V3)+2,IF(MID(V3,FIND(", ",V3)+2,1)="1",2,1)))-COUNTIFS(S:S,"<"&S3))/COUNTIFS(S:S,S3)))*(1*(1+VALUE(MID(V3,FIND(": ",V3)+2,FIND("/",V3)-FIND(":",V3)-2))-1)/VALUE(RIGHT(V3,1))+1)-2,-2))) | U3: =IF(OR(Q3="",S3=""),"",0.5*IF(S3=1,(IF(COUNTIFS(S:S,"<="&S3)<=1,1,(1-COUNTIFS(S:S,"<"&S3))/COUNTIFS(S:S,S3)))*(1+VALUE(MID(V3,FIND(": ",V3)+2,FIND("/",V3)-FIND(":",V3)-2))-1)+(1+VALUE(MID(V3,FIND(": ",V3)+2,FIND("/",V3)-FIND(":",V3)-2))-1)/VALUE(RIGHT(V3,1)),IF(S3<=VALUE(MID(V3,FIND(", ",V3)+2,IF(MID(V3,FIND(", ",V3)+2,1)="1",2,1))),(IF(COUNTIFS(S:S,"<="&S3)<=VALUE(MID(V3,FIND(", ",V3)+2,IF(MID(V3,FIND(", ",V3)+2,1)="1",2,1))),1,(VALUE(MID(V3,FIND(", ",V3)+2,IF(MID(V3,FIND(", ",V3)+2,1)="1",2,1)))-COUNTIFS(S:S,"<"&S3))/COUNTIFS(S:S,S3)))*(1*(1+VALUE(MID(V3,FIND(": ",V3)+2,FIND("/",V3)-FIND(":",V3)-2))-1)/VALUE(RIGHT(V3,1))+1)-2,-2))) | V3: =IF(R3="","",FRL!H3)
A4: =IF(Win!A4="","",Win!A4) -> Aoki Takano | B4: =IF(Win!B4="","",VALUE(Win!B4)) -> 0.0005 | C4: =IF(Win!C4="","",Win!C4) -> 2000 | D4: =IF(Win!D4="","",Win!D4) -> 501 | E4: =IF(D4="","",IF(ROUND((B4*(D4-1)-(1-B4))/(D4-1),3)<=0,"",ROUND((B4*(D4-1)-(1-B4))/(D4-1),3))) | F4: {=IF(E4="","",RANK(E4, $E$2:$E$241) + COUNTIFS($E$2:$E$241, E4, $D$2:$D$241, "<"&D4) + COUNTIFS($E$2:$E$241, E4, $D$2:$D$241, D4, $A$2:$A$241, "<"&A4))} | G4: =IF(Win!F4="","",Win!F4) -> 68 | H4: =IF(OR(F4="",G4="",F4>3),"",IF(G4=1,(IF(COUNTIFS(G:G,"<="&G4)<=1,1,(1-COUNTIFS(G:G,"<"&G4))/COUNTIFS(G:G,G4)))*(1+VALUE(MID(J4,FIND(": ",J4)+2,FIND("/",J4)-FIND(":",J4)-2))-1)+(1+VALUE(MID(J4,FIND(": ",J4)+2,FIND("/",J4)-FIND(":",J4)-2))-1)/VALUE(RIGHT(J4,1)),IF(G4<=VALUE(MID(J4,FIND(", ",J4)+2,IF(MID(J4,FIND(", ",J4)+2,1)="1",2,1))),(IF(COUNTIFS(G:G,"<="&G4)<=VALUE(MID(J4,FIND(", ",J4)+2,IF(MID(J4,FIND(", ",J4)+2,1)="1",2,1))),1,(VALUE(MID(J4,FIND(", ",J4)+2,IF(MID(J4,FIND(", ",J4)+2,1)="1",2,1)))-COUNTIFS(G:G,"<"&G4))/COUNTIFS(G:G,G4)))*(1*(1+VALUE(MID(J4,FIND(": ",J4)+2,FIND("/",J4)-FIND(":",J4)-2))-1)/VALUE(RIGHT(J4,1))+1)-2,-2))) | I4: =IF(OR(E4="",G4=""),"",IF(G4=1,(IF(COUNTIFS(G:G,"<="&G4)<=1,1,(1-COUNTIFS(G:G,"<"&G4))/COUNTIFS(G:G,G4)))*(1+VALUE(MID(J4,FIND(": ",J4)+2,FIND("/",J4)-FIND(":",J4)-2))-1)+(1+VALUE(MID(J4,FIND(": ",J4)+2,FIND("/",J4)-FIND(":",J4)-2))-1)/VALUE(RIGHT(J4,1)),IF(G4<=VALUE(MID(J4,FIND(", ",J4)+2,IF(MID(J4,FIND(", ",J4)+2,1)="1",2,1))),(IF(COUNTIFS(G:G,"<="&G4)<=VALUE(MID(J4,FIND(", ",J4)+2,IF(MID(J4,FIND(", ",J4)+2,1)="1",2,1))),1,(VALUE(MID(J4,FIND(", ",J4)+2,IF(MID(J4,FIND(", ",J4)+2,1)="1",2,1)))-COUNTIFS(G:G,"<"&G4))/COUNTIFS(G:G,G4)))*(1*(1+VALUE(MID(J4,FIND(": ",J4)+2,FIND("/",J4)-FIND(":",J4)-2))-1)/VALUE(RIGHT(J4,1))+1)-2,-2))) | J4: =IF(F4="","",Win!H4) | M4: =IF(FRL!A4="","",FRL!A4) | N4: =IF(FRL!B4="","",FRL!B4) | O4: =IF(FRL!C4="","",FRL!C4) | P4: =IF(FRL!D4="","",FRL!D4) | Q4: =IF(P4="","",IF(ROUND((N4*(P4-1)-(1-N4))/(P4-1),3)<=0,"",ROUND((N4*(P4-1)-(1-N4))/(P4-1),3))) | R4: {=IF(Q4="","",RANK(Q4, $Q$2:$Q$241) + COUNTIFS($Q$2:$Q$241, Q4, $P$2:$P$241, "<"&P4) + COUNTIFS($Q$2:$Q$241, Q4, $P$2:$P$241, P4, $M$2:$M$241, "<"&M4))} | S4: =IF(FRL!F4="","",FRL!F4) | T4: =IF(OR(R4="",S4="",R4>6),"",0.5*IF(S4=1,(IF(COUNTIFS(S:S,"<="&S4)<=1,1,(1-COUNTIFS(S:S,"<"&S4))/COUNTIFS(S:S,S4)))*(1+VALUE(MID(V4,FIND(": ",V4)+2,FIND("/",V4)-FIND(":",V4)-2))-1)+(1+VALUE(MID(V4,FIND(": ",V4)+2,FIND("/",V4)-FIND(":",V4)-2))-1)/VALUE(RIGHT(V4,1)),IF(S4<=VALUE(MID(V4,FIND(", ",V4)+2,IF(MID(V4,FIND(", ",V4)+2,1)="1",2,1))),(IF(COUNTIFS(S:S,"<="&S4)<=VALUE(MID(V4,FIND(", ",V4)+2,IF(MID(V4,FIND(", ",V4)+2,1)="1",2,1))),1,(VALUE(MID(V4,FIND(", ",V4)+2,IF(MID(V4,FIND(", ",V4)+2,1)="1",2,1)))-COUNTIFS(S:S,"<"&S4))/COUNTIFS(S:S,S4)))*(1*(1+VALUE(MID(V4,FIND(": ",V4)+2,FIND("/",V4)-FIND(":",V4)-2))-1)/VALUE(RIGHT(V4,1))+1)-2,-2))) | U4: =IF(OR(Q4="",S4=""),"",0.5*IF(S4=1,(IF(COUNTIFS(S:S,"<="&S4)<=1,1,(1-COUNTIFS(S:S,"<"&S4))/COUNTIFS(S:S,S4)))*(1+VALUE(MID(V4,FIND(": ",V4)+2,FIND("/",V4)-FIND(":",V4)-2))-1)+(1+VALUE(MID(V4,FIND(": ",V4)+2,FIND("/",V4)-FIND(":",V4)-2))-1)/VALUE(RIGHT(V4,1)),IF(S4<=VALUE(MID(V4,FIND(", ",V4)+2,IF(MID(V4,FIND(", ",V4)+2,1)="1",2,1))),(IF(COUNTIFS(S:S,"<="&S4)<=VALUE(MID(V4,FIND(", ",V4)+2,IF(MID(V4,FIND(", ",V4)+2,1)="1",2,1))),1,(VALUE(MID(V4,FIND(", ",V4)+2,IF(MID(V4,FIND(", ",V4)+2,1)="1",2,1)))-COUNTIFS(S:S,"<"&S4))/COUNTIFS(S:S,S4)))*(1*(1+VALUE(MID(V4,FIND(": ",V4)+2,FIND("/",V4)-FIND(":",V4)-2))-1)/VALUE(RIGHT(V4,1))+1)-2,-2))) | V4: =IF(R4="","",FRL!H4)
A5: =IF(Win!A5="","",Win!A5) -> Dai Takeuchi | B5: =IF(Win!B5="","",VALUE(Win!B5)) -> 0.0002 | C5: =IF(Win!C5="","",Win!C5) -> 5000 | D5: =IF(Win!D5="","",Win!D5) -> 1001 | E5: =IF(D5="","",IF(ROUND((B5*(D5-1)-(1-B5))/(D5-1),3)<=0,"",ROUND((B5*(D5-1)-(1-B5))/(D5-1),3))) | F5: {=IF(E5="","",RANK(E5, $E$2:$E$241) + COUNTIFS($E$2:$E$241, E5, $D$2:$D$241, "<"&D5) + COUNTIFS($E$2:$E$241, E5, $D$2:$D$241, D5, $A$2:$A$241, "<"&A5))} | G5: =IF(Win!F5="","",Win!F5) -> 105 | H5: =IF(OR(F5="",G5="",F5>3),"",IF(G5=1,(IF(COUNTIFS(G:G,"<="&G5)<=1,1,(1-COUNTIFS(G:G,"<"&G5))/COUNTIFS(G:G,G5)))*(1+VALUE(MID(J5,FIND(": ",J5)+2,FIND("/",J5)-FIND(":",J5)-2))-1)+(1+VALUE(MID(J5,FIND(": ",J5)+2,FIND("/",J5)-FIND(":",J5)-2))-1)/VALUE(RIGHT(J5,1)),IF(G5<=VALUE(MID(J5,FIND(", ",J5)+2,IF(MID(J5,FIND(", ",J5)+2,1)="1",2,1))),(IF(COUNTIFS(G:G,"<="&G5)<=VALUE(MID(J5,FIND(", ",J5)+2,IF(MID(J5,FIND(", ",J5)+2,1)="1",2,1))),1,(VALUE(MID(J5,FIND(", ",J5)+2,IF(MID(J5,FIND(", ",J5)+2,1)="1",2,1)))-COUNTIFS(G:G,"<"&G5))/COUNTIFS(G:G,G5)))*(1*(1+VALUE(MID(J5,FIND(": ",J5)+2,FIND("/",J5)-FIND(":",J5)-2))-1)/VALUE(RIGHT(J5,1))+1)-2,-2))) | I5: =IF(OR(E5="",G5=""),"",IF(G5=1,(IF(COUNTIFS(G:G,"<="&G5)<=1,1,(1-COUNTIFS(G:G,"<"&G5))/COUNTIFS(G:G,G5)))*(1+VALUE(MID(J5,FIND(": ",J5)+2,FIND("/",J5)-FIND(":",J5)-2))-1)+(1+VALUE(MID(J5,FIND(": ",J5)+2,FIND("/",J5)-FIND(":",J5)-2))-1)/VALUE(RIGHT(J5,1)),IF(G5<=VALUE(MID(J5,FIND(", ",J5)+2,IF(MID(J5,FIND(", ",J5)+2,1)="1",2,1))),(IF(COUNTIFS(G:G,"<="&G5)<=VALUE(MID(J5,FIND(", ",J5)+2,IF(MID(J5,FIND(", ",J5)+2,1)="1",2,1))),1,(VALUE(MID(J5,FIND(", ",J5)+2,IF(MID(J5,FIND(", ",J5)+2,1)="1",2,1)))-COUNTIFS(G:G,"<"&G5))/COUNTIFS(G:G,G5)))*(1*(1+VALUE(MID(J5,FIND(": ",J5)+2,FIND("/",J5)-FIND(":",J5)-2))-1)/VALUE(RIGHT(J5,1))+1)-2,-2))) | J5: =IF(F5="","",Win!H5) | M5: =IF(FRL!A5="","",FRL!A5) | N5: =IF(FRL!B5="","",FRL!B5) | O5: =IF(FRL!C5="","",FRL!C5) | P5: =IF(FRL!D5="","",FRL!D5) | Q5: =IF(P5="","",IF(ROUND((N5*(P5-1)-(1-N5))/(P5-1),3)<=0,"",ROUND((N5*(P5-1)-(1-N5))/(P5-1),3))) | R5: {=IF(Q5="","",RANK(Q5, $Q$2:$Q$241) + COUNTIFS($Q$2:$Q$241, Q5, $P$2:$P$241, "<"&P5) + COUNTIFS($Q$2:$Q$241, Q5, $P$2:$P$241, P5, $M$2:$M$241, "<"&M5))} | S5: =IF(FRL!F5="","",FRL!F5) | T5: =IF(OR(R5="",S5="",R5>6),"",0.5*IF(S5=1,(IF(COUNTIFS(S:S,"<="&S5)<=1,1,(1-COUNTIFS(S:S,"<"&S5))/COUNTIFS(S:S,S5)))*(1+VALUE(MID(V5,FIND(": ",V5)+2,FIND("/",V5)-FIND(":",V5)-2))-1)+(1+VALUE(MID(V5,FIND(": ",V5)+2,FIND("/",V5)-FIND(":",V5)-2))-1)/VALUE(RIGHT(V5,1)),IF(S5<=VALUE(MID(V5,FIND(", ",V5)+2,IF(MID(V5,FIND(", ",V5)+2,1)="1",2,1))),(IF(COUNTIFS(S:S,"<="&S5)<=VALUE(MID(V5,FIND(", ",V5)+2,IF(MID(V5,FIND(", ",V5)+2,1)="1",2,1))),1,(VALUE(MID(V5,FIND(", ",V5)+2,IF(MID(V5,FIND(", ",V5)+2,1)="1",2,1)))-COUNTIFS(S:S,"<"&S5))/COUNTIFS(S:S,S5)))*(1*(1+VALUE(MID(V5,FIND(": ",V5)+2,FIND("/",V5)-FIND(":",V5)-2))-1)/VALUE(RIGHT(V5,1))+1)-2,-2))) | U5: =IF(OR(Q5="",S5=""),"",0.5*IF(S5=1,(IF(COUNTIFS(S:S,"<="&S5)<=1,1,(1-COUNTIFS(S:S,"<"&S5))/COUNTIFS(S:S,S5)))*(1+VALUE(MID(V5,FIND(": ",V5)+2,FIND("/",V5)-FIND(":",V5)-2))-1)+(1+VALUE(MID(V5,FIND(": ",V5)+2,FIND("/",V5)-FIND(":",V5)-2))-1)/VALUE(RIGHT(V5,1)),IF(S5<=VALUE(MID(V5,FIND(", ",V5)+2,IF(MID(V5,FIND(", ",V5)+2,1)="1",2,1))),(IF(COUNTIFS(S:S,"<="&S5)<=VALUE(MID(V5,FIND(", ",V5)+2,IF(MID(V5,FIND(", ",V5)+2,1)="1",2,1))),1,(VALUE(MID(V5,FIND(", ",V5)+2,IF(MID(V5,FIND(", ",V5)+2,1)="1",2,1)))-COUNTIFS(S:S,"<"&S5))/COUNTIFS(S:S,S5)))*(1*(1+VALUE(MID(V5,FIND(": ",V5)+2,FIND("/",V5)-FIND(":",V5)-2))-1)/VALUE(RIGHT(V5,1))+1)-2,-2))) | V5: =IF(R5="","",FRL!H5)
A6: =IF(Win!A6="","",Win!A6) -> Daijiro Izumida | B6: =IF(Win!B6="","",VALUE(Win!B6)) -> 0.0056 | C6: =IF(Win!C6="","",Win!C6) -> 179 | D6: =IF(Win!D6="","",Win!D6) -> 176 | E6: =IF(D6="","",IF(ROUND((B6*(D6-1)-(1-B6))/(D6-1),3)<=0,"",ROUND((B6*(D6-1)-(1-B6))/(D6-1),3))) | F6: {=IF(E6="","",RANK(E6, $E$2:$E$241) + COUNTIFS($E$2:$E$241, E6, $D$2:$D$241, "<"&D6) + COUNTIFS($E$2:$E$241, E6, $D$2:$D$241, D6, $A$2:$A$241, "<"&A6))} | G6: =IF(Win!F6="","",Win!F6) -> 53 | H6: =IF(OR(F6="",G6="",F6>3),"",IF(G6=1,(IF(COUNTIFS(G:G,"<="&G6)<=1,1,(1-COUNTIFS(G:G,"<"&G6))/COUNTIFS(G:G,G6)))*(1+VALUE(MID(J6,FIND(": ",J6)+2,FIND("/",J6)-FIND(":",J6)-2))-1)+(1+VALUE(MID(J6,FIND(": ",J6)+2,FIND("/",J6)-FIND(":",J6)-2))-1)/VALUE(RIGHT(J6,1)),IF(G6<=VALUE(MID(J6,FIND(", ",J6)+2,IF(MID(J6,FIND(", ",J6)+2,1)="1",2,1))),(IF(COUNTIFS(G:G,"<="&G6)<=VALUE(MID(J6,FIND(", ",J6)+2,IF(MID(J6,FIND(", ",J6)+2,1)="1",2,1))),1,(VALUE(MID(J6,FIND(", ",J6)+2,IF(MID(J6,FIND(", ",J6)+2,1)="1",2,1)))-COUNTIFS(G:G,"<"&G6))/COUNTIFS(G:G,G6)))*(1*(1+VALUE(MID(J6,FIND(": ",J6)+2,FIND("/",J6)-FIND(":",J6)-2))-1)/VALUE(RIGHT(J6,1))+1)-2,-2))) | I6: =IF(OR(E6="",G6=""),"",IF(G6=1,(IF(COUNTIFS(G:G,"<="&G6)<=1,1,(1-COUNTIFS(G:G,"<"&G6))/COUNTIFS(G:G,G6)))*(1+VALUE(MID(J6,FIND(": ",J6)+2,FIND("/",J6)-FIND(":",J6)-2))-1)+(1+VALUE(MID(J6,FIND(": ",J6)+2,FIND("/",J6)-FIND(":",J6)-2))-1)/VALUE(RIGHT(J6,1)),IF(G6<=VALUE(MID(J6,FIND(", ",J6)+2,IF(MID(J6,FIND(", ",J6)+2,1)="1",2,1))),(IF(COUNTIFS(G:G,"<="&G6)<=VALUE(MID(J6,FIND(", ",J6)+2,IF(MID(J6,FIND(", ",J6)+2,1)="1",2,1))),1,(VALUE(MID(J6,FIND(", ",J6)+2,IF(MID(J6,FIND(", ",J6)+2,1)="1",2,1)))-COUNTIFS(G:G,"<"&G6))/COUNTIFS(G:G,G6)))*(1*(1+VALUE(MID(J6,FIND(": ",J6)+2,FIND("/",J6)-FIND(":",J6)-2))-1)/VALUE(RIGHT(J6,1))+1)-2,-2))) | J6: =IF(F6="","",Win!H6) | M6: =IF(FRL!A6="","",FRL!A6) | N6: =IF(FRL!B6="","",FRL!B6) | O6: =IF(FRL!C6="","",FRL!C6) | P6: =IF(FRL!D6="","",FRL!D6) | Q6: =IF(P6="","",IF(ROUND((N6*(P6-1)-(1-N6))/(P6-1),3)<=0,"",ROUND((N6*(P6-1)-(1-N6))/(P6-1),3))) | R6: {=IF(Q6="","",RANK(Q6, $Q$2:$Q$241) + COUNTIFS($Q$2:$Q$241, Q6, $P$2:$P$241, "<"&P6) + COUNTIFS($Q$2:$Q$241, Q6, $P$2:$P$241, P6, $M$2:$M$241, "<"&M6))} | S6: =IF(FRL!F6="","",FRL!F6) | T6: =IF(OR(R6="",S6="",R6>6),"",0.5*IF(S6=1,(IF(COUNTIFS(S:S,"<="&S6)<=1,1,(1-COUNTIFS(S:S,"<"&S6))/COUNTIFS(S:S,S6)))*(1+VALUE(MID(V6,FIND(": ",V6)+2,FIND("/",V6)-FIND(":",V6)-2))-1)+(1+VALUE(MID(V6,FIND(": ",V6)+2,FIND("/",V6)-FIND(":",V6)-2))-1)/VALUE(RIGHT(V6,1)),IF(S6<=VALUE(MID(V6,FIND(", ",V6)+2,IF(MID(V6,FIND(", ",V6)+2,1)="1",2,1))),(IF(COUNTIFS(S:S,"<="&S6)<=VALUE(MID(V6,FIND(", ",V6)+2,IF(MID(V6,FIND(", ",V6)+2,1)="1",2,1))),1,(VALUE(MID(V6,FIND(", ",V6)+2,IF(MID(V6,FIND(", ",V6)+2,1)="1",2,1)))-COUNTIFS(S:S,"<"&S6))/COUNTIFS(S:S,S6)))*(1*(1+VALUE(MID(V6,FIND(": ",V6)+2,FIND("/",V6)-FIND(":",V6)-2))-1)/VALUE(RIGHT(V6,1))+1)-2,-2))) | U6: =IF(OR(Q6="",S6=""),"",0.5*IF(S6=1,(IF(COUNTIFS(S:S,"<="&S6)<=1,1,(1-COUNTIFS(S:S,"<"&S6))/COUNTIFS(S:S,S6)))*(1+VALUE(MID(V6,FIND(": ",V6)+2,FIND("/",V6)-FIND(":",V6)-2))-1)+(1+VALUE(MID(V6,FIND(": ",V6)+2,FIND("/",V6)-FIND(":",V6)-2))-1)/VALUE(RIGHT(V6,1)),IF(S6<=VALUE(MID(V6,FIND(", ",V6)+2,IF(MID(V6,FIND(", ",V6)+2,1)="1",2,1))),(IF(COUNTIFS(S:S,"<="&S6)<=VALUE(MID(V6,FIND(", ",V6)+2,IF(MID(V6,FIND(", ",V6)+2,1)="1",2,1))),1,(VALUE(MID(V6,FIND(", ",V6)+2,IF(MID(V6,FIND(", ",V6)+2,1)="1",2,1)))-COUNTIFS(S:S,"<"&S6))/COUNTIFS(S:S,S6)))*(1*(1+VALUE(MID(V6,FIND(": ",V6)+2,FIND("/",V6)-FIND(":",V6)-2))-1)/VALUE(RIGHT(V6,1))+1)-2,-2))) | V6: =IF(R6="","",FRL!H6)
A7: =IF(Win!A7="","",Win!A7) -> Daiki Imano | B7: =IF(Win!B7="","",VALUE(Win!B7)) -> 0.0038 | C7: =IF(Win!C7="","",Win!C7) -> 263 | D7: =IF(Win!D7="","",Win!D7) -> 151 | E7: =IF(D7="","",IF(ROUND((B7*(D7-1)-(1-B7))/(D7-1),3)<=0,"",ROUND((B7*(D7-1)-(1-B7))/(D7-1),3))) | F7: {=IF(E7="","",RANK(E7, $E$2:$E$241) + COUNTIFS($E$2:$E$241, E7, $D$2:$D$241, "<"&D7) + COUNTIFS($E$2:$E$241, E7, $D$2:$D$241, D7, $A$2:$A$241, "<"&A7))} | G7: =IF(Win!F7="","",Win!F7) -> 34 | H7: =IF(OR(F7="",G7="",F7>3),"",IF(G7=1,(IF(COUNTIFS(G:G,"<="&G7)<=1,1,(1-COUNTIFS(G:G,"<"&G7))/COUNTIFS(G:G,G7)))*(1+VALUE(MID(J7,FIND(": ",J7)+2,FIND("/",J7)-FIND(":",J7)-2))-1)+(1+VALUE(MID(J7,FIND(": ",J7)+2,FIND("/",J7)-FIND(":",J7)-2))-1)/VALUE(RIGHT(J7,1)),IF(G7<=VALUE(MID(J7,FIND(", ",J7)+2,IF(MID(J7,FIND(", ",J7)+2,1)="1",2,1))),(IF(COUNTIFS(G:G,"<="&G7)<=VALUE(MID(J7,FIND(", ",J7)+2,IF(MID(J7,FIND(", ",J7)+2,1)="1",2,1))),1,(VALUE(MID(J7,FIND(", ",J7)+2,IF(MID(J7,FIND(", ",J7)+2,1)="1",2,1)))-COUNTIFS(G:G,"<"&G7))/COUNTIFS(G:G,G7)))*(1*(1+VALUE(MID(J7,FIND(": ",J7)+2,FIND("/",J7)-FIND(":",J7)-2))-1)/VALUE(RIGHT(J7,1))+1)-2,-2))) | I7: =IF(OR(E7="",G7=""),"",IF(G7=1,(IF(COUNTIFS(G:G,"<="&G7)<=1,1,(1-COUNTIFS(G:G,"<"&G7))/COUNTIFS(G:G,G7)))*(1+VALUE(MID(J7,FIND(": ",J7)+2,FIND("/",J7)-FIND(":",J7)-2))-1)+(1+VALUE(MID(J7,FIND(": ",J7)+2,FIND("/",J7)-FIND(":",J7)-2))-1)/VALUE(RIGHT(J7,1)),IF(G7<=VALUE(MID(J7,FIND(", ",J7)+2,IF(MID(J7,FIND(", ",J7)+2,1)="1",2,1))),(IF(COUNTIFS(G:G,"<="&G7)<=VALUE(MID(J7,FIND(", ",J7)+2,IF(MID(J7,FIND(", ",J7)+2,1)="1",2,1))),1,(VALUE(MID(J7,FIND(", ",J7)+2,IF(MID(J7,FIND(", ",J7)+2,1)="1",2,1)))-COUNTIFS(G:G,"<"&G7))/COUNTIFS(G:G,G7)))*(1*(1+VALUE(MID(J7,FIND(": ",J7)+2,FIND("/",J7)-FIND(":",J7)-2))-1)/VALUE(RIGHT(J7,1))+1)-2,-2))) | J7: =IF(F7="","",Win!H7) | M7: =IF(FRL!A7="","",FRL!A7) | N7: =IF(FRL!B7="","",FRL!B7) | O7: =IF(FRL!C7="","",FRL!C7) | P7: =IF(FRL!D7="","",FRL!D7) | Q7: =IF(P7="","",IF(ROUND((N7*(P7-1)-(1-N7))/(P7-1),3)<=0,"",ROUND((N7*(P7-1)-(1-N7))/(P7-1),3))) | R7: {=IF(Q7="","",RANK(Q7, $Q$2:$Q$241) + COUNTIFS($Q$2:$Q$241, Q7, $P$2:$P$241, "<"&P7) + COUNTIFS($Q$2:$Q$241, Q7, $P$2:$P$241, P7, $M$2:$M$241, "<"&M7))} | S7: =IF(FRL!F7="","",FRL!F7) | T7: =IF(OR(R7="",S7="",R7>6),"",0.5*IF(S7=1,(IF(COUNTIFS(S:S,"<="&S7)<=1,1,(1-COUNTIFS(S:S,"<"&S7))/COUNTIFS(S:S,S7)))*(1+VALUE(MID(V7,FIND(": ",V7)+2,FIND("/",V7)-FIND(":",V7)-2))-1)+(1+VALUE(MID(V7,FIND(": ",V7)+2,FIND("/",V7)-FIND(":",V7)-2))-1)/VALUE(RIGHT(V7,1)),IF(S7<=VALUE(MID(V7,FIND(", ",V7)+2,IF(MID(V7,FIND(", ",V7)+2,1)="1",2,1))),(IF(COUNTIFS(S:S,"<="&S7)<=VALUE(MID(V7,FIND(", ",V7)+2,IF(MID(V7,FIND(", ",V7)+2,1)="1",2,1))),1,(VALUE(MID(V7,FIND(", ",V7)+2,IF(MID(V7,FIND(", ",V7)+2,1)="1",2,1)))-COUNTIFS(S:S,"<"&S7))/COUNTIFS(S:S,S7)))*(1*(1+VALUE(MID(V7,FIND(": ",V7)+2,FIND("/",V7)-FIND(":",V7)-2))-1)/VALUE(RIGHT(V7,1))+1)-2,-2))) | U7: =IF(OR(Q7="",S7=""),"",0.5*IF(S7=1,(IF(COUNTIFS(S:S,"<="&S7)<=1,1,(1-COUNTIFS(S:S,"<"&S7))/COUNTIFS(S:S,S7)))*(1+VALUE(MID(V7,FIND(": ",V7)+2,FIND("/",V7)-FIND(":",V7)-2))-1)+(1+VALUE(MID(V7,FIND(": ",V7)+2,FIND("/",V7)-FIND(":",V7)-2))-1)/VALUE(RIGHT(V7,1)),IF(S7<=VALUE(MID(V7,FIND(", ",V7)+2,IF(MID(V7,FIND(", ",V7)+2,1)="1",2,1))),(IF(COUNTIFS(S:S,"<="&S7)<=VALUE(MID(V7,FIND(", ",V7)+2,IF(MID(V7,FIND(", ",V7)+2,1)="1",2,1))),1,(VALUE(MID(V7,FIND(", ",V7)+2,IF(MID(V7,FIND(", ",V7)+2,1)="1",2,1)))-COUNTIFS(S:S,"<"&S7))/COUNTIFS(S:S,S7)))*(1*(1+VALUE(MID(V7,FIND(": ",V7)+2,FIND("/",V7)-FIND(":",V7)-2))-1)/VALUE(RIGHT(V7,1))+1)-2,-2))) | V7: =IF(R7="","",FRL!H7)
A8: =IF(Win!A8="","",Win!A8) -> Daisuke Kataoka | B8: =IF(Win!B8="","",VALUE(Win!B8)) -> 0.0034 | C8: =IF(Win!C8="","",Win!C8) -> 294 | D8: =IF(Win!D8="","",Win!D8) -> 161 | E8: =IF(D8="","",IF(ROUND((B8*(D8-1)-(1-B8))/(D8-1),3)<=0,"",ROUND((B8*(D8-1)-(1-B8))/(D8-1),3))) | F8: {=IF(E8="","",RANK(E8, $E$2:$E$241) + COUNTIFS($E$2:$E$241, E8, $D$2:$D$241, "<"&D8) + COUNTIFS($E$2:$E$241, E8, $D$2:$D$241, D8, $A$2:$A$241, "<"&A8))} | G8: =IF(Win!F8="","",Win!F8) -> 115 | H8: =IF(OR(F8="",G8="",F8>3),"",IF(G8=1,(IF(COUNTIFS(G:G,"<="&G8)<=1,1,(1-COUNTIFS(G:G,"<"&G8))/COUNTIFS(G:G,G8)))*(1+VALUE(MID(J8,FIND(": ",J8)+2,FIND("/",J8)-FIND(":",J8)-2))-1)+(1+VALUE(MID(J8,FIND(": ",J8)+2,FIND("/",J8)-FIND(":",J8)-2))-1)/VALUE(RIGHT(J8,1)),IF(G8<=VALUE(MID(J8,FIND(", ",J8)+2,IF(MID(J8,FIND(", ",J8)+2,1)="1",2,1))),(IF(COUNTIFS(G:G,"<="&G8)<=VALUE(MID(J8,FIND(", ",J8)+2,IF(MID(J8,FIND(", ",J8)+2,1)="1",2,1))),1,(VALUE(MID(J8,FIND(", ",J8)+2,IF(MID(J8,FIND(", ",J8)+2,1)="1",2,1)))-COUNTIFS(G:G,"<"&G8))/COUNTIFS(G:G,G8)))*(1*(1+VALUE(MID(J8,FIND(": ",J8)+2,FIND("/",J8)-FIND(":",J8)-2))-1)/VALUE(RIGHT(J8,1))+1)-2,-2))) | I8: =IF(OR(E8="",G8=""),"",IF(G8=1,(IF(COUNTIFS(G:G,"<="&G8)<=1,1,(1-COUNTIFS(G:G,"<"&G8))/COUNTIFS(G:G,G8)))*(1+VALUE(MID(J8,FIND(": ",J8)+2,FIND("/",J8)-FIND(":",J8)-2))-1)+(1+VALUE(MID(J8,FIND(": ",J8)+2,FIND("/",J8)-FIND(":",J8)-2))-1)/VALUE(RIGHT(J8,1)),IF(G8<=VALUE(MID(J8,FIND(", ",J8)+2,IF(MID(J8,FIND(", ",J8)+2,1)="1",2,1))),(IF(COUNTIFS(G:G,"<="&G8)<=VALUE(MID(J8,FIND(", ",J8)+2,IF(MID(J8,FIND(", ",J8)+2,1)="1",2,1))),1,(VALUE(MID(J8,FIND(", ",J8)+2,IF(MID(J8,FIND(", ",J8)+2,1)="1",2,1)))-COUNTIFS(G:G,"<"&G8))/COUNTIFS(G:G,G8)))*(1*(1+VALUE(MID(J8,FIND(": ",J8)+2,FIND("/",J8)-FIND(":",J8)-2))-1)/VALUE(RIGHT(J8,1))+1)-2,-2))) | J8: =IF(F8="","",Win!H8) | M8: =IF(FRL!A8="","",FRL!A8) | N8: =IF(FRL!B8="","",FRL!B8) | O8: =IF(FRL!C8="","",FRL!C8) | P8: =IF(FRL!D8="","",FRL!D8) | Q8: =IF(P8="","",IF(ROUND((N8*(P8-1)-(1-N8))/(P8-1),3)<=0,"",ROUND((N8*(P8-1)-(1-N8))/(P8-1),3))) | R8: {=IF(Q8="","",RANK(Q8, $Q$2:$Q$241) + COUNTIFS($Q$2:$Q$241, Q8, $P$2:$P$241, "<"&P8) + COUNTIFS($Q$2:$Q$241, Q8, $P$2:$P$241, P8, $M$2:$M$241, "<"&M8))} | S8: =IF(FRL!F8="","",FRL!F8) | T8: =IF(OR(R8="",S8="",R8>6),"",0.5*IF(S8=1,(IF(COUNTIFS(S:S,"<="&S8)<=1,1,(1-COUNTIFS(S:S,"<"&S8))/COUNTIFS(S:S,S8)))*(1+VALUE(MID(V8,FIND(": ",V8)+2,FIND("/",V8)-FIND(":",V8)-2))-1)+(1+VALUE(MID(V8,FIND(": ",V8)+2,FIND("/",V8)-FIND(":",V8)-2))-1)/VALUE(RIGHT(V8,1)),IF(S8<=VALUE(MID(V8,FIND(", ",V8)+2,IF(MID(V8,FIND(", ",V8)+2,1)="1",2,1))),(IF(COUNTIFS(S:S,"<="&S8)<=VALUE(MID(V8,FIND(", ",V8)+2,IF(MID(V8,FIND(", ",V8)+2,1)="1",2,1))),1,(VALUE(MID(V8,FIND(", ",V8)+2,IF(MID(V8,FIND(", ",V8)+2,1)="1",2,1)))-COUNTIFS(S:S,"<"&S8))/COUNTIFS(S:S,S8)))*(1*(1+VALUE(MID(V8,FIND(": ",V8)+2,FIND("/",V8)-FIND(":",V8)-2))-1)/VALUE(RIGHT(V8,1))+1)-2,-2))) | U8: =IF(OR(Q8="",S8=""),"",0.5*IF(S8=1,(IF(COUNTIFS(S:S,"<="&S8)<=1,1,(1-COUNTIFS(S:S,"<"&S8))/COUNTIFS(S:S,S8)))*(1+VALUE(MID(V8,FIND(": ",V8)+2,FIND("/",V8)-FIND(":",V8)-2))-1)+(1+VALUE(MID(V8,FIND(": ",V8)+2,FIND("/",V8)-FIND(":",V8)-2))-1)/VALUE(RIGHT(V8,1)),IF(S8<=VALUE(MID(V8,FIND(", ",V8)+2,IF(MID(V8,FIND(", ",V8)+2,1)="1",2,1))),(IF(COUNTIFS(S:S,"<="&S8)<=VALUE(MID(V8,FIND(", ",V8)+2,IF(MID(V8,FIND(", ",V8)+2,1)="1",2,1))),1,(VALUE(MID(V8,FIND(", ",V8)+2,IF(MID(V8,FIND(", ",V8)+2,1)="1",2,1)))-COUNTIFS(S:S,"<"&S8))/COUNTIFS(S:S,S8)))*(1*(1+VALUE(MID(V8,FIND(": ",V8)+2,FIND("/",V8)-FIND(":",V8)-2))-1)/VALUE(RIGHT(V8,1))+1)-2,-2))) | V8: =IF(R8="","",FRL!H8)
A9: =IF(Win!A9="","",Win!A9) -> Eric Sugimoto | B9: =IF(Win!B9="","",VALUE(Win!B9)) -> 0.0007 | C9: =IF(Win!C9="","",Win!C9) -> 1429 | D9: =IF(Win!D9="","",Win!D9) -> 501 | E9: =IF(D9="","",IF(ROUND((B9*(D9-1)-(1-B9))/(D9-1),3)<=0,"",ROUND((B9*(D9-1)-(1-B9))/(D9-1),3))) | F9: {=IF(E9="","",RANK(E9, $E$2:$E$241) + COUNTIFS($E$2:$E$241, E9, $D$2:$D$241, "<"&D9) + COUNTIFS($E$2:$E$241, E9, $D$2:$D$241, D9, $A$2:$A$241, "<"&A9))} | G9: =IF(Win!F9="","",Win!F9) -> 115 | H9: =IF(OR(F9="",G9="",F9>3),"",IF(G9=1,(IF(COUNTIFS(G:G,"<="&G9)<=1,1,(1-COUNTIFS(G:G,"<"&G9))/COUNTIFS(G:G,G9)))*(1+VALUE(MID(J9,FIND(": ",J9)+2,FIND("/",J9)-FIND(":",J9)-2))-1)+(1+VALUE(MID(J9,FIND(": ",J9)+2,FIND("/",J9)-FIND(":",J9)-2))-1)/VALUE(RIGHT(J9,1)),IF(G9<=VALUE(MID(J9,FIND(", ",J9)+2,IF(MID(J9,FIND(", ",J9)+2,1)="1",2,1))),(IF(COUNTIFS(G:G,"<="&G9)<=VALUE(MID(J9,FIND(", ",J9)+2,IF(MID(J9,FIND(", ",J9)+2,1)="1",2,1))),1,(VALUE(MID(J9,FIND(", ",J9)+2,IF(MID(J9,FIND(", ",J9)+2,1)="1",2,1)))-COUNTIFS(G:G,"<"&G9))/COUNTIFS(G:G,G9)))*(1*(1+VALUE(MID(J9,FIND(": ",J9)+2,FIND("/",J9)-FIND(":",J9)-2))-1)/VALUE(RIGHT(J9,1))+1)-2,-2))) | I9: =IF(OR(E9="",G9=""),"",IF(G9=1,(IF(COUNTIFS(G:G,"<="&G9)<=1,1,(1-COUNTIFS(G:G,"<"&G9))/COUNTIFS(G:G,G9)))*(1+VALUE(MID(J9,FIND(": ",J9)+2,FIND("/",J9)-FIND(":",J9)-2))-1)+(1+VALUE(MID(J9,FIND(": ",J9)+2,FIND("/",J9)-FIND(":",J9)-2))-1)/VALUE(RIGHT(J9,1)),IF(G9<=VALUE(MID(J9,FIND(", ",J9)+2,IF(MID(J9,FIND(", ",J9)+2,1)="1",2,1))),(IF(COUNTIFS(G:G,"<="&G9)<=VALUE(MID(J9,FIND(", ",J9)+2,IF(MID(J9,FIND(", ",J9)+2,1)="1",2,1))),1,(VALUE(MID(J9,FIND(", ",J9)+2,IF(MID(J9,FIND(", ",J9)+2,1)="1",2,1)))-COUNTIFS(G:G,"<"&G9))/COUNTIFS(G:G,G9)))*(1*(1+VALUE(MID(J9,FIND(": ",J9)+2,FIND("/",J9)-FIND(":",J9)-2))-1)/VALUE(RIGHT(J9,1))+1)-2,-2))) | J9: =IF(F9="","",Win!H9) | M9: =IF(FRL!A9="","",FRL!A9) | N9: =IF(FRL!B9="","",FRL!B9) | O9: =IF(FRL!C9="","",FRL!C9) | P9: =IF(FRL!D9="","",FRL!D9) | Q9: =IF(P9="","",IF(ROUND((N9*(P9-1)-(1-N9))/(P9-1),3)<=0,"",ROUND((N9*(P9-1)-(1-N9))/(P9-1),3))) | R9: {=IF(Q9="","",RANK(Q9, $Q$2:$Q$241) + COUNTIFS($Q$2:$Q$241, Q9, $P$2:$P$241, "<"&P9) + COUNTIFS($Q$2:$Q$241, Q9, $P$2:$P$241, P9, $M$2:$M$241, "<"&M9))} | S9: =IF(FRL!F9="","",FRL!F9) | T9: =IF(OR(R9="",S9="",R9>6),"",0.5*IF(S9=1,(IF(COUNTIFS(S:S,"<="&S9)<=1,1,(1-COUNTIFS(S:S,"<"&S9))/COUNTIFS(S:S,S9)))*(1+VALUE(MID(V9,FIND(": ",V9)+2,FIND("/",V9)-FIND(":",V9)-2))-1)+(1+VALUE(MID(V9,FIND(": ",V9)+2,FIND("/",V9)-FIND(":",V9)-2))-1)/VALUE(RIGHT(V9,1)),IF(S9<=VALUE(MID(V9,FIND(", ",V9)+2,IF(MID(V9,FIND(", ",V9)+2,1)="1",2,1))),(IF(COUNTIFS(S:S,"<="&S9)<=VALUE(MID(V9,FIND(", ",V9)+2,IF(MID(V9,FIND(", ",V9)+2,1)="1",2,1))),1,(VALUE(MID(V9,FIND(", ",V9)+2,IF(MID(V9,FIND(", ",V9)+2,1)="1",2,1)))-COUNTIFS(S:S,"<"&S9))/COUNTIFS(S:S,S9)))*(1*(1+VALUE(MID(V9,FIND(": ",V9)+2,FIND("/",V9)-FIND(":",V9)-2))-1)/VALUE(RIGHT(V9,1))+1)-2,-2))) | U9: =IF(OR(Q9="",S9=""),"",0.5*IF(S9=1,(IF(COUNTIFS(S:S,"<="&S9)<=1,1,(1-COUNTIFS(S:S,"<"&S9))/COUNTIFS(S:S,S9)))*(1+VALUE(MID(V9,FIND(": ",V9)+2,FIND("/",V9)-FIND(":",V9)-2))-1)+(1+VALUE(MID(V9,FIND(": ",V9)+2,FIND("/",V9)-FIND(":",V9)-2))-1)/VALUE(RIGHT(V9,1)),IF(S9<=VALUE(MID(V9,FIND(", ",V9)+2,IF(MID(V9,FIND(", ",V9)+2,1)="1",2,1))),(IF(COUNTIFS(S:S,"<="&S9)<=VALUE(MID(V9,FIND(", ",V9)+2,IF(MID(V9,FIND(", ",V9)+2,1)="1",2,1))),1,(VALUE(MID(V9,FIND(", ",V9)+2,IF(MID(V9,FIND(", ",V9)+2,1)="1",2,1)))-COUNTIFS(S:S,"<"&S9))/COUNTIFS(S:S,S9)))*(1*(1+VALUE(MID(V9,FIND(": ",V9)+2,FIND("/",V9)-FIND(":",V9)-2))-1)/VALUE(RIGHT(V9,1))+1)-2,-2))) | V9: =IF(R9="","",FRL!H9)
A10: =IF(Win!A10="","",Win!A10) -> Genki Okada | B10: =IF(Win!B10="","",VALUE(Win!B10)) -> 0.002 | C10: =IF(Win!C10="","",Win!C10) -> 500 | D10: =IF(Win!D10="","",Win!D10) -> 401 | E10: =IF(D10="","",IF(ROUND((B10*(D10-1)-(1-B10))/(D10-1),3)<=0,"",ROUND((B10*(D10-1)-(1-B10))/(D10-1),3))) | F10: {=IF(E10="","",RANK(E10, $E$2:$E$241) + COUNTIFS($E$2:$E$241, E10, $D$2:$D$241, "<"&D10) + COUNTIFS($E$2:$E$241, E10, $D$2:$D$241, D10, $A$2:$A$241, "<"&A10))} | G10: =IF(Win!F10="","",Win!F10) -> 12 | H10: =IF(OR(F10="",G10="",F10>3),"",IF(G10=1,(IF(COUNTIFS(G:G,"<="&G10)<=1,1,(1-COUNTIFS(G:G,"<"&G10))/COUNTIFS(G:G,G10)))*(1+VALUE(MID(J10,FIND(": ",J10)+2,FIND("/",J10)-FIND(":",J10)-2))-1)+(1+VALUE(MID(J10,FIND(": ",J10)+2,FIND("/",J10)-FIND(":",J10)-2))-1)/VALUE(RIGHT(J10,1)),IF(G10<=VALUE(MID(J10,FIND(", ",J10)+2,IF(MID(J10,FIND(", ",J10)+2,1)="1",2,1))),(IF(COUNTIFS(G:G,"<="&G10)<=VALUE(MID(J10,FIND(", ",J10)+2,IF(MID(J10,FIND(", ",J10)+2,1)="1",2,1))),1,(VALUE(MID(J10,FIND(", ",J10)+2,IF(MID(J10,FIND(", ",J10)+2,1)="1",2,1)))-COUNTIFS(G:G,"<"&G10))/COUNTIFS(G:G,G10)))*(1*(1+VALUE(MID(J10,FIND(": ",J10)+2,FIND("/",J10)-FIND(":",J10)-2))-1)/VALUE(RIGHT(J10,1))+1)-2,-2))) | I10: =IF(OR(E10="",G10=""),"",IF(G10=1,(IF(COUNTIFS(G:G,"<="&G10)<=1,1,(1-COUNTIFS(G:G,"<"&G10))/COUNTIFS(G:G,G10)))*(1+VALUE(MID(J10,FIND(": ",J10)+2,FIND("/",J10)-FIND(":",J10)-2))-1)+(1+VALUE(MID(J10,FIND(": ",J10)+2,FIND("/",J10)-FIND(":",J10)-2))-1)/VALUE(RIGHT(J10,1)),IF(G10<=VALUE(MID(J10,FIND(", ",J10)+2,IF(MID(J10,FIND(", ",J10)+2,1)="1",2,1))),(IF(COUNTIFS(G:G,"<="&G10)<=VALUE(MID(J10,FIND(", ",J10)+2,IF(MID(J10,FIND(", ",J10)+2,1)="1",2,1))),1,(VALUE(MID(J10,FIND(", ",J10)+2,IF(MID(J10,FIND(", ",J10)+2,1)="1",2,1)))-COUNTIFS(G:G,"<"&G10))/COUNTIFS(G:G,G10)))*(1*(1+VALUE(MID(J10,FIND(": ",J10)+2,FIND("/",J10)-FIND(":",J10)-2))-1)/VALUE(RIGHT(J10,1))+1)-2,-2))) | J10: =IF(F10="","",Win!H10) | M10: =IF(FRL!A10="","",FRL!A10) | N10: =IF(FRL!B10="","",FRL!B10) | O10: =IF(FRL!C10="","",FRL!C10) | P10: =IF(FRL!D10="","",FRL!D10) | Q10: =IF(P10="","",IF(ROUND((N10*(P10-1)-(1-N10))/(P10-1),3)<=0,"",ROUND((N10*(P10-1)-(1-N10))/(P10-1),3))) | R10: {=IF(Q10="","",RANK(Q10, $Q$2:$Q$241) + COUNTIFS($Q$2:$Q$241, Q10, $P$2:$P$241, "<"&P10) + COUNTIFS($Q$2:$Q$241, Q10, $P$2:$P$241, P10, $M$2:$M$241, "<"&M10))} | S10: =IF(FRL!F10="","",FRL!F10) | T10: =IF(OR(R10="",S10="",R10>6),"",0.5*IF(S10=1,(IF(COUNTIFS(S:S,"<="&S10)<=1,1,(1-COUNTIFS(S:S,"<"&S10))/COUNTIFS(S:S,S10)))*(1+VALUE(MID(V10,FIND(": ",V10)+2,FIND("/",V10)-FIND(":",V10)-2))-1)+(1+VALUE(MID(V10,FIND(": ",V10)+2,FIND("/",V10)-FIND(":",V10)-2))-1)/VALUE(RIGHT(V10,1)),IF(S10<=VALUE(MID(V10,FIND(", ",V10)+2,IF(MID(V10,FIND(", ",V10)+2,1)="1",2,1))),(IF(COUNTIFS(S:S,"<="&S10)<=VALUE(MID(V10,FIND(", ",V10)+2,IF(MID(V10,FIND(", ",V10)+2,1)="1",2,1))),1,(VALUE(MID(V10,FIND(", ",V10)+2,IF(MID(V10,FIND(", ",V10)+2,1)="1",2,1)))-COUNTIFS(S:S,"<"&S10))/COUNTIFS(S:S,S10)))*(1*(1+VALUE(MID(V10,FIND(": ",V10)+2,FIND("/",V10)-FIND(":",V10)-2))-1)/VALUE(RIGHT(V10,1))+1)-2,-2))) | U10: =IF(OR(Q10="",S10=""),"",0.5*IF(S10=1,(IF(COUNTIFS(S:S,"<="&S10)<=1,1,(1-COUNTIFS(S:S,"<"&S10))/COUNTIFS(S:S,S10)))*(1+VALUE(MID(V10,FIND(": ",V10)+2,FIND("/",V10)-FIND(":",V10)-2))-1)+(1+VALUE(MID(V10,FIND(": ",V10)+2,FIND("/",V10)-FIND(":",V10)-2))-1)/VALUE(RIGHT(V10,1)),IF(S10<=VALUE(MID(V10,FIND(", ",V10)+2,IF(MID(V10,FIND(", ",V10)+2,1)="1",2,1))),(IF(COUNTIFS(S:S,"<="&S10)<=VALUE(MID(V10,FIND(", ",V10)+2,IF(MID(V10,FIND(", ",V10)+2,1)="1",2,1))),1,(VALUE(MID(V10,FIND(", ",V10)+2,IF(MID(V10,FIND(", ",V10)+2,1)="1",2,1)))-COUNTIFS(S:S,"<"&S10))/COUNTIFS(S:S,S10)))*(1*(1+VALUE(MID(V10,FIND(": ",V10)+2,FIND("/",V10)-FIND(":",V10)-2))-1)/VALUE(RIGHT(V10,1))+1)-2,-2))) | V10: =IF(R10="","",FRL!H10)
A11: =IF(Win!A11="","",Win!A11) -> Genzo Tokimatsu | B11: =IF(Win!B11="","",VALUE(Win!B11)) -> 0.0008 | C11: =IF(Win!C11="","",Win!C11) -> 1250 | D11: =IF(Win!D11="","",Win!D11) -> 1001 | E11: =IF(D11="","",IF(ROUND((B11*(D11-1)-(1-B11))/(D11-1),3)<=0,"",ROUND((B11*(D11-1)-(1-B11))/(D11-1),3))) | F11: {=IF(E11="","",RANK(E11, $E$2:$E$241) + COUNTIFS($E$2:$E$241, E11, $D$2:$D$241, "<"&D11) + COUNTIFS($E$2:$E$241, E11, $D$2:$D$241, D11, $A$2:$A$241, "<"&A11))} | G11: =IF(Win!F11="","",Win!F11) -> 31 | H11: =IF(OR(F11="",G11="",F11>3),"",IF(G11=1,(IF(COUNTIFS(G:G,"<="&G11)<=1,1,(1-COUNTIFS(G:G,"<"&G11))/COUNTIFS(G:G,G11)))*(1+VALUE(MID(J11,FIND(": ",J11)+2,FIND("/",J11)-FIND(":",J11)-2))-1)+(1+VALUE(MID(J11,FIND(": ",J11)+2,FIND("/",J11)-FIND(":",J11)-2))-1)/VALUE(RIGHT(J11,1)),IF(G11<=VALUE(MID(J11,FIND(", ",J11)+2,IF(MID(J11,FIND(", ",J11)+2,1)="1",2,1))),(IF(COUNTIFS(G:G,"<="&G11)<=VALUE(MID(J11,FIND(", ",J11)+2,IF(MID(J11,FIND(", ",J11)+2,1)="1",2,1))),1,(VALUE(MID(J11,FIND(", ",J11)+2,IF(MID(J11,FIND(", ",J11)+2,1)="1",2,1)))-COUNTIFS(G:G,"<"&G11))/COUNTIFS(G:G,G11)))*(1*(1+VALUE(MID(J11,FIND(": ",J11)+2,FIND("/",J11)-FIND(":",J11)-2))-1)/VALUE(RIGHT(J11,1))+1)-2,-2))) | I11: =IF(OR(E11="",G11=""),"",IF(G11=1,(IF(COUNTIFS(G:G,"<="&G11)<=1,1,(1-COUNTIFS(G:G,"<"&G11))/COUNTIFS(G:G,G11)))*(1+VALUE(MID(J11,FIND(": ",J11)+2,FIND("/",J11)-FIND(":",J11)-2))-1)+(1+VALUE(MID(J11,FIND(": ",J11)+2,FIND("/",J11)-FIND(":",J11)-2))-1)/VALUE(RIGHT(J11,1)),IF(G11<=VALUE(MID(J11,FIND(", ",J11)+2,IF(MID(J11,FIND(", ",J11)+2,1)="1",2,1))),(IF(COUNTIFS(G:G,"<="&G11)<=VALUE(MID(J11,FIND(", ",J11)+2,IF(MID(J11,FIND(", ",J11)+2,1)="1",2,1))),1,(VALUE(MID(J11,FIND(", ",J11)+2,IF(MID(J11,FIND(", ",J11)+2,1)="1",2,1)))-COUNTIFS(G:G,"<"&G11))/COUNTIFS(G:G,G11)))*(1*(1+VALUE(MID(J11,FIND(": ",J11)+2,FIND("/",J11)-FIND(":",J11)-2))-1)/VALUE(RIGHT(J11,1))+1)-2,-2))) | J11: =IF(F11="","",Win!H11) | M11: =IF(FRL!A11="","",FRL!A11) | N11: =IF(FRL!B11="","",FRL!B11) | O11: =IF(FRL!C11="","",FRL!C11) | P11: =IF(FRL!D11="","",FRL!D11) | Q11: =IF(P11="","",IF(ROUND((N11*(P11-1)-(1-N11))/(P11-1),3)<=0,"",ROUND((N11*(P11-1)-(1-N11))/(P11-1),3))) | R11: {=IF(Q11="","",RANK(Q11, $Q$2:$Q$241) + COUNTIFS($Q$2:$Q$241, Q11, $P$2:$P$241, "<"&P11) + COUNTIFS($Q$2:$Q$241, Q11, $P$2:$P$241, P11, $M$2:$M$241, "<"&M11))} | S11: =IF(FRL!F11="","",FRL!F11) | T11: =IF(OR(R11="",S11="",R11>6),"",0.5*IF(S11=1,(IF(COUNTIFS(S:S,"<="&S11)<=1,1,(1-COUNTIFS(S:S,"<"&S11))/COUNTIFS(S:S,S11)))*(1+VALUE(MID(V11,FIND(": ",V11)+2,FIND("/",V11)-FIND(":",V11)-2))-1)+(1+VALUE(MID(V11,FIND(": ",V11)+2,FIND("/",V11)-FIND(":",V11)-2))-1)/VALUE(RIGHT(V11,1)),IF(S11<=VALUE(MID(V11,FIND(", ",V11)+2,IF(MID(V11,FIND(", ",V11)+2,1)="1",2,1))),(IF(COUNTIFS(S:S,"<="&S11)<=VALUE(MID(V11,FIND(", ",V11)+2,IF(MID(V11,FIND(", ",V11)+2,1)="1",2,1))),1,(VALUE(MID(V11,FIND(", ",V11)+2,IF(MID(V11,FIND(", ",V11)+2,1)="1",2,1)))-COUNTIFS(S:S,"<"&S11))/COUNTIFS(S:S,S11)))*(1*(1+VALUE(MID(V11,FIND(": ",V11)+2,FIND("/",V11)-FIND(":",V11)-2))-1)/VALUE(RIGHT(V11,1))+1)-2,-2))) | U11: =IF(OR(Q11="",S11=""),"",0.5*IF(S11=1,(IF(COUNTIFS(S:S,"<="&S11)<=1,1,(1-COUNTIFS(S:S,"<"&S11))/COUNTIFS(S:S,S11)))*(1+VALUE(MID(V11,FIND(": ",V11)+2,FIND("/",V11)-FIND(":",V11)-2))-1)+(1+VALUE(MID(V11,FIND(": ",V11)+2,FIND("/",V11)-FIND(":",V11)-2))-1)/VALUE(RIGHT(V11,1)),IF(S11<=VALUE(MID(V11,FIND(", ",V11)+2,IF(MID(V11,FIND(", ",V11)+2,1)="1",2,1))),(IF(COUNTIFS(S:S,"<="&S11)<=VALUE(MID(V11,FIND(", ",V11)+2,IF(MID(V11,FIND(", ",V11)+2,1)="1",2,1))),1,(VALUE(MID(V11,FIND(", ",V11)+2,IF(MID(V11,FIND(", ",V11)+2,1)="1",2,1)))-COUNTIFS(S:S,"<"&S11))/COUNTIFS(S:S,S11)))*(1*(1+VALUE(MID(V11,FIND(": ",V11)+2,FIND("/",V11)-FIND(":",V11)-2))-1)/VALUE(RIGHT(V11,1))+1)-2,-2))) | V11: =IF(R11="","",FRL!H11)
A12: =IF(Win!A12="","",Win!A12) -> Hideto Kobukuro | B12: =IF(Win!B12="","",VALUE(Win!B12)) -> 0.0006 | C12: =IF(Win!C12="","",Win!C12) -> 1667 | D12: =IF(Win!D12="","",Win!D12) -> 1001 | E12: =IF(D12="","",IF(ROUND((B12*(D12-1)-(1-B12))/(D12-1),3)<=0,"",ROUND((B12*(D12-1)-(1-B12))/(D12-1),3))) | F12: {=IF(E12="","",RANK(E12, $E$2:$E$241) + COUNTIFS($E$2:$E$241, E12, $D$2:$D$241, "<"&D12) + COUNTIFS($E$2:$E$241, E12, $D$2:$D$241, D12, $A$2:$A$241, "<"&A12))} | G12: =IF(Win!F12="","",Win!F12) -> 118 | H12: =IF(OR(F12="",G12="",F12>3),"",IF(G12=1,(IF(COUNTIFS(G:G,"<="&G12)<=1,1,(1-COUNTIFS(G:G,"<"&G12))/COUNTIFS(G:G,G12)))*(1+VALUE(MID(J12,FIND(": ",J12)+2,FIND("/",J12)-FIND(":",J12)-2))-1)+(1+VALUE(MID(J12,FIND(": ",J12)+2,FIND("/",J12)-FIND(":",J12)-2))-1)/VALUE(RIGHT(J12,1)),IF(G12<=VALUE(MID(J12,FIND(", ",J12)+2,IF(MID(J12,FIND(", ",J12)+2,1)="1",2,1))),(IF(COUNTIFS(G:G,"<="&G12)<=VALUE(MID(J12,FIND(", ",J12)+2,IF(MID(J12,FIND(", ",J12)+2,1)="1",2,1))),1,(VALUE(MID(J12,FIND(", ",J12)+2,IF(MID(J12,FIND(", ",J12)+2,1)="1",2,1)))-COUNTIFS(G:G,"<"&G12))/COUNTIFS(G:G,G12)))*(1*(1+VALUE(MID(J12,FIND(": ",J12)+2,FIND("/",J12)-FIND(":",J12)-2))-1)/VALUE(RIGHT(J12,1))+1)-2,-2))) | I12: =IF(OR(E12="",G12=""),"",IF(G12=1,(IF(COUNTIFS(G:G,"<="&G12)<=1,1,(1-COUNTIFS(G:G,"<"&G12))/COUNTIFS(G:G,G12)))*(1+VALUE(MID(J12,FIND(": ",J12)+2,FIND("/",J12)-FIND(":",J12)-2))-1)+(1+VALUE(MID(J12,FIND(": ",J12)+2,FIND("/",J12)-FIND(":",J12)-2))-1)/VALUE(RIGHT(J12,1)),IF(G12<=VALUE(MID(J12,FIND(", ",J12)+2,IF(MID(J12,FIND(", ",J12)+2,1)="1",2,1))),(IF(COUNTIFS(G:G,"<="&G12)<=VALUE(MID(J12,FIND(", ",J12)+2,IF(MID(J12,FIND(", ",J12)+2,1)="1",2,1))),1,(VALUE(MID(J12,FIND(", ",J12)+2,IF(MID(J12,FIND(", ",J12)+2,1)="1",2,1)))-COUNTIFS(G:G,"<"&G12))/COUNTIFS(G:G,G12)))*(1*(1+VALUE(MID(J12,FIND(": ",J12)+2,FIND("/",J12)-FIND(":",J12)-2))-1)/VALUE(RIGHT(J12,1))+1)-2,-2))) | J12: =IF(F12="","",Win!H12) | M12: =IF(FRL!A12="","",FRL!A12) | N12: =IF(FRL!B12="","",FRL!B12) | O12: =IF(FRL!C12="","",FRL!C12) | P12: =IF(FRL!D12="","",FRL!D12) | Q12: =IF(P12="","",IF(ROUND((N12*(P12-1)-(1-N12))/(P12-1),3)<=0,"",ROUND((N12*(P12-1)-(1-N12))/(P12-1),3))) | R12: {=IF(Q12="","",RANK(Q12, $Q$2:$Q$241) + COUNTIFS($Q$2:$Q$241, Q12, $P$2:$P$241, "<"&P12) + COUNTIFS($Q$2:$Q$241, Q12, $P$2:$P$241, P12, $M$2:$M$241, "<"&M12))} | S12: =IF(FRL!F12="","",FRL!F12) | T12: =IF(OR(R12="",S12="",R12>6),"",0.5*IF(S12=1,(IF(COUNTIFS(S:S,"<="&S12)<=1,1,(1-COUNTIFS(S:S,"<"&S12))/COUNTIFS(S:S,S12)))*(1+VALUE(MID(V12,FIND(": ",V12)+2,FIND("/",V12)-FIND(":",V12)-2))-1)+(1+VALUE(MID(V12,FIND(": ",V12)+2,FIND("/",V12)-FIND(":",V12)-2))-1)/VALUE(RIGHT(V12,1)),IF(S12<=VALUE(MID(V12,FIND(", ",V12)+2,IF(MID(V12,FIND(", ",V12)+2,1)="1",2,1))),(IF(COUNTIFS(S:S,"<="&S12)<=VALUE(MID(V12,FIND(", ",V12)+2,IF(MID(V12,FIND(", ",V12)+2,1)="1",2,1))),1,(VALUE(MID(V12,FIND(", ",V12)+2,IF(MID(V12,FIND(", ",V12)+2,1)="1",2,1)))-COUNTIFS(S:S,"<"&S12))/COUNTIFS(S:S,S12)))*(1*(1+VALUE(MID(V12,FIND(": ",V12)+2,FIND("/",V12)-FIND(":",V12)-2))-1)/VALUE(RIGHT(V12,1))+1)-2,-2))) | U12: =IF(OR(Q12="",S12=""),"",0.5*IF(S12=1,(IF(COUNTIFS(S:S,"<="&S12)<=1,1,(1-COUNTIFS(S:S,"<"&S12))/COUNTIFS(S:S,S12)))*(1+VALUE(MID(V12,FIND(": ",V12)+2,FIND("/",V12)-FIND(":",V12)-2))-1)+(1+VALUE(MID(V12,FIND(": ",V12)+2,FIND("/",V12)-FIND(":",V12)-2))-1)/VALUE(RIGHT(V12,1)),IF(S12<=VALUE(MID(V12,FIND(", ",V12)+2,IF(MID(V12,FIND(", ",V12)+2,1)="1",2,1))),(IF(COUNTIFS(S:S,"<="&S12)<=VALUE(MID(V12,FIND(", ",V12)+2,IF(MID(V12,FIND(", ",V12)+2,1)="1",2,1))),1,(VALUE(MID(V12,FIND(", ",V12)+2,IF(MID(V12,FIND(", ",V12)+2,1)="1",2,1)))-COUNTIFS(S:S,"<"&S12))/COUNTIFS(S:S,S12)))*(1*(1+VALUE(MID(V12,FIND(": ",V12)+2,FIND("/",V12)-FIND(":",V12)-2))-1)/VALUE(RIGHT(V12,1))+1)-2,-2))) | V12: =IF(R12="","",FRL!H12)
A13: =IF(Win!A13="","",Win!A13) -> Hikaru Yuhara | B13: =IF(Win!B13="","",VALUE(Win!B13)) -> 0.0005 | C13: =IF(Win!C13="","",Win!C13) -> 2000 | D13: =IF(Win!D13="","",Win!D13) -> 1001 | E13: =IF(D13="","",IF(ROUND((B13*(D13-1)-(1-B13))/(D13-1),3)<=0,"",ROUND((B13*(D13-1)-(1-B13))/(D13-1),3))) | F13: {=IF(E13="","",RANK(E13, $E$2:$E$241) + COUNTIFS($E$2:$E$241, E13, $D$2:$D$241, "<"&D13) + COUNTIFS($E$2:$E$241, E13, $D$2:$D$241, D13, $A$2:$A$241, "<"&A13))} | G13: =IF(Win!F13="","",Win!F13) -> 97 | H13: =IF(OR(F13="",G13="",F13>3),"",IF(G13=1,(IF(COUNTIFS(G:G,"<="&G13)<=1,1,(1-COUNTIFS(G:G,"<"&G13))/COUNTIFS(G:G,G13)))*(1+VALUE(MID(J13,FIND(": ",J13)+2,FIND("/",J13)-FIND(":",J13)-2))-1)+(1+VALUE(MID(J13,FIND(": ",J13)+2,FIND("/",J13)-FIND(":",J13)-2))-1)/VALUE(RIGHT(J13,1)),IF(G13<=VALUE(MID(J13,FIND(", ",J13)+2,IF(MID(J13,FIND(", ",J13)+2,1)="1",2,1))),(IF(COUNTIFS(G:G,"<="&G13)<=VALUE(MID(J13,FIND(", ",J13)+2,IF(MID(J13,FIND(", ",J13)+2,1)="1",2,1))),1,(VALUE(MID(J13,FIND(", ",J13)+2,IF(MID(J13,FIND(", ",J13)+2,1)="1",2,1)))-COUNTIFS(G:G,"<"&G13))/COUNTIFS(G:G,G13)))*(1*(1+VALUE(MID(J13,FIND(": ",J13)+2,FIND("/",J13)-FIND(":",J13)-2))-1)/VALUE(RIGHT(J13,1))+1)-2,-2))) | I13: =IF(OR(E13="",G13=""),"",IF(G13=1,(IF(COUNTIFS(G:G,"<="&G13)<=1,1,(1-COUNTIFS(G:G,"<"&G13))/COUNTIFS(G:G,G13)))*(1+VALUE(MID(J13,FIND(": ",J13)+2,FIND("/",J13)-FIND(":",J13)-2))-1)+(1+VALUE(MID(J13,FIND(": ",J13)+2,FIND("/",J13)-FIND(":",J13)-2))-1)/VALUE(RIGHT(J13,1)),IF(G13<=VALUE(MID(J13,FIND(", ",J13)+2,IF(MID(J13,FIND(", ",J13)+2,1)="1",2,1))),(IF(COUNTIFS(G:G,"<="&G13)<=VALUE(MID(J13,FIND(", ",J13)+2,IF(MID(J13,FIND(", ",J13)+2,1)="1",2,1))),1,(VALUE(MID(J13,FIND(", ",J13)+2,IF(MID(J13,FIND(", ",J13)+2,1)="1",2,1)))-COUNTIFS(G:G,"<"&G13))/COUNTIFS(G:G,G13)))*(1*(1+VALUE(MID(J13,FIND(": ",J13)+2,FIND("/",J13)-FIND(":",J13)-2))-1)/VALUE(RIGHT(J13,1))+1)-2,-2))) | J13: =IF(F13="","",Win!H13) | M13: =IF(FRL!A13="","",FRL!A13) | N13: =IF(FRL!B13="","",FRL!B13) | O13: =IF(FRL!C13="","",FRL!C13) | P13: =IF(FRL!D13="","",FRL!D13) | Q13: =IF(P13="","",IF(ROUND((N13*(P13-1)-(1-N13))/(P13-1),3)<=0,"",ROUND((N13*(P13-1)-(1-N13))/(P13-1),3))) | R13: {=IF(Q13="","",RANK(Q13, $Q$2:$Q$241) + COUNTIFS($Q$2:$Q$241, Q13, $P$2:$P$241, "<"&P13) + COUNTIFS($Q$2:$Q$241, Q13, $P$2:$P$241, P13, $M$2:$M$241, "<"&M13))} | S13: =IF(FRL!F13="","",FRL!F13) | T13: =IF(OR(R13="",S13="",R13>6),"",0.5*IF(S13=1,(IF(COUNTIFS(S:S,"<="&S13)<=1,1,(1-COUNTIFS(S:S,"<"&S13))/COUNTIFS(S:S,S13)))*(1+VALUE(MID(V13,FIND(": ",V13)+2,FIND("/",V13)-FIND(":",V13)-2))-1)+(1+VALUE(MID(V13,FIND(": ",V13)+2,FIND("/",V13)-FIND(":",V13)-2))-1)/VALUE(RIGHT(V13,1)),IF(S13<=VALUE(MID(V13,FIND(", ",V13)+2,IF(MID(V13,FIND(", ",V13)+2,1)="1",2,1))),(IF(COUNTIFS(S:S,"<="&S13)<=VALUE(MID(V13,FIND(", ",V13)+2,IF(MID(V13,FIND(", ",V13)+2,1)="1",2,1))),1,(VALUE(MID(V13,FIND(", ",V13)+2,IF(MID(V13,FIND(", ",V13)+2,1)="1",2,1)))-COUNTIFS(S:S,"<"&S13))/COUNTIFS(S:S,S13)))*(1*(1+VALUE(MID(V13,FIND(": ",V13)+2,FIND("/",V13)-FIND(":",V13)-2))-1)/VALUE(RIGHT(V13,1))+1)-2,-2))) | U13: =IF(OR(Q13="",S13=""),"",0.5*IF(S13=1,(IF(COUNTIFS(S:S,"<="&S13)<=1,1,(1-COUNTIFS(S:S,"<"&S13))/COUNTIFS(S:S,S13)))*(1+VALUE(MID(V13,FIND(": ",V13)+2,FIND("/",V13)-FIND(":",V13)-2))-1)+(1+VALUE(MID(V13,FIND(": ",V13)+2,FIND("/",V13)-FIND(":",V13)-2))-1)/VALUE(RIGHT(V13,1)),IF(S13<=VALUE(MID(V13,FIND(", ",V13)+2,IF(MID(V13,FIND(", ",V13)+2,1)="1",2,1))),(IF(COUNTIFS(S:S,"<="&S13)<=VALUE(MID(V13,FIND(", ",V13)+2,IF(MID(V13,FIND(", ",V13)+2,1)="1",2,1))),1,(VALUE(MID(V13,FIND(", ",V13)+2,IF(MID(V13,FIND(", ",V13)+2,1)="1",2,1)))-COUNTIFS(S:S,"<"&S13))/COUNTIFS(S:S,S13)))*(1*(1+VALUE(MID(V13,FIND(": ",V13)+2,FIND("/",V13)-FIND(":",V13)-2))-1)/VALUE(RIGHT(V13,1))+1)-2,-2))) | V13: =IF(R13="","",FRL!H13)
... A241: =IF(Win!A241="","",Win!A241) | B241: =IF(Win!B241="","",VALUE(Win!B241)) | C241: =IF(Win!C241="","",Win!C241) | D241: =IF(Win!D241="","",Win!D241) | E241: =IF(D241="","",IF(ROUND((B241*(D241-1)-(1-B241))/(D241-1),3)<=0,"",ROUND((B241*(D241-1)-(1-B241))/(D241-1),3))) | F241: {=IF(E241="","",RANK(E241, $E$2:$E$241) + COUNTIFS($E$2:$E$241, E241, $D$2:$D$241, "<"&D241) + COUNTIFS($E$2:$E$241, E241, $D$2:$D$241, D241, $A$2:$A$241, "<"&A241))} | G241: =IF(Win!F241="","",Win!F241) | H241: =IF(OR(F241="",G241="",F241>3),"",IF(G241=1,(IF(COUNTIFS(G:G,"<="&G241)<=1,1,(1-COUNTIFS(G:G,"<"&G241))/COUNTIFS(G:G,G241)))*(1+VALUE(MID(J241,FIND(": ",J241)+2,FIND("/",J241)-FIND(":",J241)-2))-1)+(1+VALUE(MID(J241,FIND(": ",J241)+2,FIND("/",J241)-FIND(":",J241)-2))-1)/VALUE(RIGHT(J241,1)),IF(G241<=VALUE(MID(J241,FIND(", ",J241)+2,IF(MID(J241,FIND(", ",J241)+2,1)="1",2,1))),(IF(COUNTIFS(G:G,"<="&G241)<=VALUE(MID(J241,FIND(", ",J241)+2,IF(MID(J241,FIND(", ",J241)+2,1)="1",2,1))),1,(VALUE(MID(J241,FIND(", ",J241)+2,IF(MID(J241,FIND(", ",J241)+2,1)="1",2,1)))-COUNTIFS(G:G,"<"&G241))/COUNTIFS(G:G,G241)))*(1*(1+VALUE(MID(J241,FIND(": ",J241)+2,FIND("/",J241)-FIND(":",J241)-2))-1)/VALUE(RIGHT(J241,1))+1)-2,-2))) | I241: =IF(OR(E241="",G241=""),"",IF(G241=1,(IF(COUNTIFS(G:G,"<="&G241)<=1,1,(1-COUNTIFS(G:G,"<"&G241))/COUNTIFS(G:G,G241)))*(1+VALUE(MID(J241,FIND(": ",J241)+2,FIND("/",J241)-FIND(":",J241)-2))-1)+(1+VALUE(MID(J241,FIND(": ",J241)+2,FIND("/",J241)-FIND(":",J241)-2))-1)/VALUE(RIGHT(J241,1)),IF(G241<=VALUE(MID(J241,FIND(", ",J241)+2,IF(MID(J241,FIND(", ",J241)+2,1)="1",2,1))),(IF(COUNTIFS(G:G,"<="&G241)<=VALUE(MID(J241,FIND(", ",J241)+2,IF(MID(J241,FIND(", ",J241)+2,1)="1",2,1))),1,(VALUE(MID(J241,FIND(", ",J241)+2,IF(MID(J241,FIND(", ",J241)+2,1)="1",2,1)))-COUNTIFS(G:G,"<"&G241))/COUNTIFS(G:G,G241)))*(1*(1+VALUE(MID(J241,FIND(": ",J241)+2,FIND("/",J241)-FIND(":",J241)-2))-1)/VALUE(RIGHT(J241,1))+1)-2,-2))) | J241: =IF(F241="","",Win!H241) | M241: =IF(FRL!A241="","",FRL!A241) | N241: =IF(FRL!B241="","",FRL!B241) | O241: =IF(FRL!C241="","",FRL!C241) | P241: =IF(FRL!D241="","",FRL!D241) | Q241: =IF(P241="","",IF(ROUND((N241*(P241-1)-(1-N241))/(P241-1),3)<=0,"",ROUND((N241*(P241-1)-(1-N241))/(P241-1),3))) | R241: {=IF(Q241="","",RANK(Q241, $Q$2:$Q$241) + COUNTIFS($Q$2:$Q$241, Q241, $P$2:$P$241, "<"&P241) + COUNTIFS($Q$2:$Q$241, Q241, $P$2:$P$241, P241, $M$2:$M$241, "<"&M241))} | S241: =IF(FRL!F241="","",FRL!F241) | T241: =IF(OR(R241="",S241="",R241>6),"",0.5*IF(S241=1,(IF(COUNTIFS(S:S,"<="&S241)<=1,1,(1-COUNTIFS(S:S,"<"&S241))/COUNTIFS(S:S,S241)))*(1+VALUE(MID(V241,FIND(": ",V241)+2,FIND("/",V241)-FIND(":",V241)-2))-1)+(1+VALUE(MID(V241,FIND(": ",V241)+2,FIND("/",V241)-FIND(":",V241)-2))-1)/VALUE(RIGHT(V241,1)),IF(S241<=VALUE(MID(V241,FIND(", ",V241)+2,IF(MID(V241,FIND(", ",V241)+2,1)="1",2,1))),(IF(COUNTIFS(S:S,"<="&S241)<=VALUE(MID(V241,FIND(", ",V241)+2,IF(MID(V241,FIND(", ",V241)+2,1)="1",2,1))),1,(VALUE(MID(V241,FIND(", ",V241)+2,IF(MID(V241,FIND(", ",V241)+2,1)="1",2,1)))-COUNTIFS(S:S,"<"&S241))/COUNTIFS(S:S,S241)))*(1*(1+VALUE(MID(V241,FIND(": ",V241)+2,FIND("/",V241)-FIND(":",V241)-2))-1)/VALUE(RIGHT(V241,1))+1)-2,-2))) | U241: =IF(OR(Q241="",S241=""),"",0.5*IF(S241=1,(IF(COUNTIFS(S:S,"<="&S241)<=1,1,(1-COUNTIFS(S:S,"<"&S241))/COUNTIFS(S:S,S241)))*(1+VALUE(MID(V241,FIND(": ",V241)+2,FIND("/",V241)-FIND(":",V241)-2))-1)+(1+VALUE(MID(V241,FIND(": ",V241)+2,FIND("/",V241)-FIND(":",V241)-2))-1)/VALUE(RIGHT(V241,1)),IF(S241<=VALUE(MID(V241,FIND(", ",V241)+2,IF(MID(V241,FIND(", ",V241)+2,1)="1",2,1))),(IF(COUNTIFS(S:S,"<="&S241)<=VALUE(MID(V241,FIND(", ",V241)+2,IF(MID(V241,FIND(", ",V241)+2,1)="1",2,1))),1,(VALUE(MID(V241,FIND(", ",V241)+2,IF(MID(V241,FIND(", ",V241)+2,1)="1",2,1)))-COUNTIFS(S:S,"<"&S241))/COUNTIFS(S:S,S241)))*(1*(1+VALUE(MID(V241,FIND(": ",V241)+2,FIND("/",V241)-FIND(":",V241)-2))-1)/VALUE(RIGHT(V241,1))+1)-2,-2))) | V241: =IF(R241="","",FRL!H241)

Sheet FRL
F1: Result | G1: P/L | H1: E/W Play
F2: =IFERROR(IF(A2="","",OFFSET(Results!$Z$1,MATCH(A2,Results!$A:$A,0)-1,0)),"") | G2: =IF(OR(E2="",F2=""),"",IF(F2=1,(IF(COUNTIFS(F:F,"<="&F2)<=1,1,(1-COUNTIFS(F:F,"<"&F2))/COUNTIFS(F:F,F2)))*50*E2*(1+VALUE(MID(H2,FIND(": ",H2)+2,FIND("/",H2)-FIND(":",H2)-2))-1)+50*E2*(1+VALUE(MID(H2,FIND(": ",H2)+2,FIND("/",H2)-FIND(":",H2)-2))-1)/VALUE(RIGHT(H2,1)),IF(F2<=VALUE(MID(H2,FIND(", ",H2)+2,1)),(IF(COUNTIFS(F:F,"<="&F2)<=VALUE(MID(H2,FIND(", ",H2)+2,1)),1,(VALUE(MID(H2,FIND(", ",H2)+2,1))-COUNTIFS(F:F,"<"&F2))/COUNTIFS(F:F,F2)))*(50*E2*(1+VALUE(MID(H2,FIND(": ",H2)+2,FIND("/",H2)-FIND(":",H2)-2))-1)/VALUE(RIGHT(H2,1))+50*E2)-(100*E2),-E2*100))) | H2: =IF(E2="","",OFFSET([2]Japan!$AL$1,MATCH(A2,[2]Japan!$E$1:$E$500,0)-1,0))
F3: =IFERROR(IF(A3="","",OFFSET(Results!$Z$1,MATCH(A3,Results!$A:$A,0)-1,0)),"") | G3: =IF(OR(E3="",F3=""),"",IF(F3=1,(IF(COUNTIFS(F:F,"<="&F3)<=1,1,(1-COUNTIFS(F:F,"<"&F3))/COUNTIFS(F:F,F3)))*50*E3*(1+VALUE(MID(H3,FIND(": ",H3)+2,FIND("/",H3)-FIND(":",H3)-2))-1)+50*E3*(1+VALUE(MID(H3,FIND(": ",H3)+2,FIND("/",H3)-FIND(":",H3)-2))-1)/VALUE(RIGHT(H3,1)),IF(F3<=VALUE(MID(H3,FIND(", ",H3)+2,1)),(IF(COUNTIFS(F:F,"<="&F3)<=VALUE(MID(H3,FIND(", ",H3)+2,1)),1,(VALUE(MID(H3,FIND(", ",H3)+2,1))-COUNTIFS(F:F,"<"&F3))/COUNTIFS(F:F,F3)))*(50*E3*(1+VALUE(MID(H3,FIND(": ",H3)+2,FIND("/",H3)-FIND(":",H3)-2))-1)/VALUE(RIGHT(H3,1))+50*E3)-(100*E3),-E3*100))) | H3: =IF(E3="","",OFFSET([2]Japan!$AL$1,MATCH(A3,[2]Japan!$E$1:$E$500,0)-1,0))
F4: =IFERROR(IF(A4="","",OFFSET(Results!$Z$1,MATCH(A4,Results!$A:$A,0)-1,0)),"") | G4: =IF(OR(E4="",F4=""),"",IF(F4=1,(IF(COUNTIFS(F:F,"<="&F4)<=1,1,(1-COUNTIFS(F:F,"<"&F4))/COUNTIFS(F:F,F4)))*50*E4*(1+VALUE(MID(H4,FIND(": ",H4)+2,FIND("/",H4)-FIND(":",H4)-2))-1)+50*E4*(1+VALUE(MID(H4,FIND(": ",H4)+2,FIND("/",H4)-FIND(":",H4)-2))-1)/VALUE(RIGHT(H4,1)),IF(F4<=VALUE(MID(H4,FIND(", ",H4)+2,1)),(IF(COUNTIFS(F:F,"<="&F4)<=VALUE(MID(H4,FIND(", ",H4)+2,1)),1,(VALUE(MID(H4,FIND(", ",H4)+2,1))-COUNTIFS(F:F,"<"&F4))/COUNTIFS(F:F,F4)))*(50*E4*(1+VALUE(MID(H4,FIND(": ",H4)+2,FIND("/",H4)-FIND(":",H4)-2))-1)/VALUE(RIGHT(H4,1))+50*E4)-(100*E4),-E4*100))) | H4: =IF(E4="","",OFFSET([2]Japan!$AL$1,MATCH(A4,[2]Japan!$E$1:$E$500,0)-1,0))
F5: =IFERROR(IF(A5="","",OFFSET(Results!$Z$1,MATCH(A5,Results!$A:$A,0)-1,0)),"") | G5: =IF(OR(E5="",F5=""),"",IF(F5=1,(IF(COUNTIFS(F:F,"<="&F5)<=1,1,(1-COUNTIFS(F:F,"<"&F5))/COUNTIFS(F:F,F5)))*50*E5*(1+VALUE(MID(H5,FIND(": ",H5)+2,FIND("/",H5)-FIND(":",H5)-2))-1)+50*E5*(1+VALUE(MID(H5,FIND(": ",H5)+2,FIND("/",H5)-FIND(":",H5)-2))-1)/VALUE(RIGHT(H5,1)),IF(F5<=VALUE(MID(H5,FIND(", ",H5)+2,1)),(IF(COUNTIFS(F:F,"<="&F5)<=VALUE(MID(H5,FIND(", ",H5)+2,1)),1,(VALUE(MID(H5,FIND(", ",H5)+2,1))-COUNTIFS(F:F,"<"&F5))/COUNTIFS(F:F,F5)))*(50*E5*(1+VALUE(MID(H5,FIND(": ",H5)+2,FIND("/",H5)-FIND(":",H5)-2))-1)/VALUE(RIGHT(H5,1))+50*E5)-(100*E5),-E5*100))) | H5: =IF(E5="","",OFFSET([2]Japan!$AL$1,MATCH(A5,[2]Japan!$E$1:$E$500,0)-1,0))
F6: =IFERROR(IF(A6="","",OFFSET(Results!$Z$1,MATCH(A6,Results!$A:$A,0)-1,0)),"") | G6: =IF(OR(E6="",F6=""),"",IF(F6=1,(IF(COUNTIFS(F:F,"<="&F6)<=1,1,(1-COUNTIFS(F:F,"<"&F6))/COUNTIFS(F:F,F6)))*50*E6*(1+VALUE(MID(H6,FIND(": ",H6)+2,FIND("/",H6)-FIND(":",H6)-2))-1)+50*E6*(1+VALUE(MID(H6,FIND(": ",H6)+2,FIND("/",H6)-FIND(":",H6)-2))-1)/VALUE(RIGHT(H6,1)),IF(F6<=VALUE(MID(H6,FIND(", ",H6)+2,1)),(IF(COUNTIFS(F:F,"<="&F6)<=VALUE(MID(H6,FIND(", ",H6)+2,1)),1,(VALUE(MID(H6,FIND(", ",H6)+2,1))-COUNTIFS(F:F,"<"&F6))/COUNTIFS(F:F,F6)))*(50*E6*(1+VALUE(MID(H6,FIND(": ",H6)+2,FIND("/",H6)-FIND(":",H6)-2))-1)/VALUE(RIGHT(H6,1))+50*E6)-(100*E6),-E6*100))) | H6: =IF(E6="","",OFFSET([2]Japan!$AL$1,MATCH(A6,[2]Japan!$E$1:$E$500,0)-1,0))
F7: =IFERROR(IF(A7="","",OFFSET(Results!$Z$1,MATCH(A7,Results!$A:$A,0)-1,0)),"") | G7: =IF(OR(E7="",F7=""),"",IF(F7=1,(IF(COUNTIFS(F:F,"<="&F7)<=1,1,(1-COUNTIFS(F:F,"<"&F7))/COUNTIFS(F:F,F7)))*50*E7*(1+VALUE(MID(H7,FIND(": ",H7)+2,FIND("/",H7)-FIND(":",H7)-2))-1)+50*E7*(1+VALUE(MID(H7,FIND(": ",H7)+2,FIND("/",H7)-FIND(":",H7)-2))-1)/VALUE(RIGHT(H7,1)),IF(F7<=VALUE(MID(H7,FIND(", ",H7)+2,1)),(IF(COUNTIFS(F:F,"<="&F7)<=VALUE(MID(H7,FIND(", ",H7)+2,1)),1,(VALUE(MID(H7,FIND(", ",H7)+2,1))-COUNTIFS(F:F,"<"&F7))/COUNTIFS(F:F,F7)))*(50*E7*(1+VALUE(MID(H7,FIND(": ",H7)+2,FIND("/",H7)-FIND(":",H7)-2))-1)/VALUE(RIGHT(H7,1))+50*E7)-(100*E7),-E7*100))) | H7: =IF(E7="","",OFFSET([2]Japan!$AL$1,MATCH(A7,[2]Japan!$E$1:$E$500,0)-1,0))
F8: =IFERROR(IF(A8="","",OFFSET(Results!$Z$1,MATCH(A8,Results!$A:$A,0)-1,0)),"") | G8: =IF(OR(E8="",F8=""),"",IF(F8=1,(IF(COUNTIFS(F:F,"<="&F8)<=1,1,(1-COUNTIFS(F:F,"<"&F8))/COUNTIFS(F:F,F8)))*50*E8*(1+VALUE(MID(H8,FIND(": ",H8)+2,FIND("/",H8)-FIND(":",H8)-2))-1)+50*E8*(1+VALUE(MID(H8,FIND(": ",H8)+2,FIND("/",H8)-FIND(":",H8)-2))-1)/VALUE(RIGHT(H8,1)),IF(F8<=VALUE(MID(H8,FIND(", ",H8)+2,1)),(IF(COUNTIFS(F:F,"<="&F8)<=VALUE(MID(H8,FIND(", ",H8)+2,1)),1,(VALUE(MID(H8,FIND(", ",H8)+2,1))-COUNTIFS(F:F,"<"&F8))/COUNTIFS(F:F,F8)))*(50*E8*(1+VALUE(MID(H8,FIND(": ",H8)+2,FIND("/",H8)-FIND(":",H8)-2))-1)/VALUE(RIGHT(H8,1))+50*E8)-(100*E8),-E8*100))) | H8: =IF(E8="","",OFFSET([2]Japan!$AL$1,MATCH(A8,[2]Japan!$E$1:$E$500,0)-1,0))
F9: =IFERROR(IF(A9="","",OFFSET(Results!$Z$1,MATCH(A9,Results!$A:$A,0)-1,0)),"") | G9: =IF(OR(E9="",F9=""),"",IF(F9=1,(IF(COUNTIFS(F:F,"<="&F9)<=1,1,(1-COUNTIFS(F:F,"<"&F9))/COUNTIFS(F:F,F9)))*50*E9*(1+VALUE(MID(H9,FIND(": ",H9)+2,FIND("/",H9)-FIND(":",H9)-2))-1)+50*E9*(1+VALUE(MID(H9,FIND(": ",H9)+2,FIND("/",H9)-FIND(":",H9)-2))-1)/VALUE(RIGHT(H9,1)),IF(F9<=VALUE(MID(H9,FIND(", ",H9)+2,1)),(IF(COUNTIFS(F:F,"<="&F9)<=VALUE(MID(H9,FIND(", ",H9)+2,1)),1,(VALUE(MID(H9,FIND(", ",H9)+2,1))-COUNTIFS(F:F,"<"&F9))/COUNTIFS(F:F,F9)))*(50*E9*(1+VALUE(MID(H9,FIND(": ",H9)+2,FIND("/",H9)-FIND(":",H9)-2))-1)/VALUE(RIGHT(H9,1))+50*E9)-(100*E9),-E9*100))) | H9: =IF(E9="","",OFFSET([2]Japan!$AL$1,MATCH(A9,[2]Japan!$E$1:$E$500,0)-1,0))
F10: =IFERROR(IF(A10="","",OFFSET(Results!$Z$1,MATCH(A10,Results!$A:$A,0)-1,0)),"") | G10: =IF(OR(E10="",F10=""),"",IF(F10=1,(IF(COUNTIFS(F:F,"<="&F10)<=1,1,(1-COUNTIFS(F:F,"<"&F10))/COUNTIFS(F:F,F10)))*50*E10*(1+VALUE(MID(H10,FIND(": ",H10)+2,FIND("/",H10)-FIND(":",H10)-2))-1)+50*E10*(1+VALUE(MID(H10,FIND(": ",H10)+2,FIND("/",H10)-FIND(":",H10)-2))-1)/VALUE(RIGHT(H10,1)),IF(F10<=VALUE(MID(H10,FIND(", ",H10)+2,1)),(IF(COUNTIFS(F:F,"<="&F10)<=VALUE(MID(H10,FIND(", ",H10)+2,1)),1,(VALUE(MID(H10,FIND(", ",H10)+2,1))-COUNTIFS(F:F,"<"&F10))/COUNTIFS(F:F,F10)))*(50*E10*(1+VALUE(MID(H10,FIND(": ",H10)+2,FIND("/",H10)-FIND(":",H10)-2))-1)/VALUE(RIGHT(H10,1))+50*E10)-(100*E10),-E10*100))) | H10: =IF(E10="","",OFFSET([2]Japan!$AL$1,MATCH(A10,[2]Japan!$E$1:$E$500,0)-1,0))
F11: =IFERROR(IF(A11="","",OFFSET(Results!$Z$1,MATCH(A11,Results!$A:$A,0)-1,0)),"") | G11: =IF(OR(E11="",F11=""),"",IF(F11=1,(IF(COUNTIFS(F:F,"<="&F11)<=1,1,(1-COUNTIFS(F:F,"<"&F11))/COUNTIFS(F:F,F11)))*50*E11*(1+VALUE(MID(H11,FIND(": ",H11)+2,FIND("/",H11)-FIND(":",H11)-2))-1)+50*E11*(1+VALUE(MID(H11,FIND(": ",H11)+2,FIND("/",H11)-FIND(":",H11)-2))-1)/VALUE(RIGHT(H11,1)),IF(F11<=VALUE(MID(H11,FIND(", ",H11)+2,1)),(IF(COUNTIFS(F:F,"<="&F11)<=VALUE(MID(H11,FIND(", ",H11)+2,1)),1,(VALUE(MID(H11,FIND(", ",H11)+2,1))-COUNTIFS(F:F,"<"&F11))/COUNTIFS(F:F,F11)))*(50*E11*(1+VALUE(MID(H11,FIND(": ",H11)+2,FIND("/",H11)-FIND(":",H11)-2))-1)/VALUE(RIGHT(H11,1))+50*E11)-(100*E11),-E11*100))) | H11: =IF(E11="","",OFFSET([2]Japan!$AL$1,MATCH(A11,[2]Japan!$E$1:$E$500,0)-1,0))
F12: =IFERROR(IF(A12="","",OFFSET(Results!$Z$1,MATCH(A12,Results!$A:$A,0)-1,0)),"") | G12: =IF(OR(E12="",F12=""),"",IF(F12=1,(IF(COUNTIFS(F:F,"<="&F12)<=1,1,(1-COUNTIFS(F:F,"<"&F12))/COUNTIFS(F:F,F12)))*50*E12*(1+VALUE(MID(H12,FIND(": ",H12)+2,FIND("/",H12)-FIND(":",H12)-2))-1)+50*E12*(1+VALUE(MID(H12,FIND(": ",H12)+2,FIND("/",H12)-FIND(":",H12)-2))-1)/VALUE(RIGHT(H12,1)),IF(F12<=VALUE(MID(H12,FIND(", ",H12)+2,1)),(IF(COUNTIFS(F:F,"<="&F12)<=VALUE(MID(H12,FIND(", ",H12)+2,1)),1,(VALUE(MID(H12,FIND(", ",H12)+2,1))-COUNTIFS(F:F,"<"&F12))/COUNTIFS(F:F,F12)))*(50*E12*(1+VALUE(MID(H12,FIND(": ",H12)+2,FIND("/",H12)-FIND(":",H12)-2))-1)/VALUE(RIGHT(H12,1))+50*E12)-(100*E12),-E12*100))) | H12: =IF(E12="","",OFFSET([2]Japan!$AL$1,MATCH(A12,[2]Japan!$E$1:$E$500,0)-1,0))
F13: =IFERROR(IF(A13="","",OFFSET(Results!$Z$1,MATCH(A13,Results!$A:$A,0)-1,0)),"") | G13: =IF(OR(E13="",F13=""),"",IF(F13=1,(IF(COUNTIFS(F:F,"<="&F13)<=1,1,(1-COUNTIFS(F:F,"<"&F13))/COUNTIFS(F:F,F13)))*50*E13*(1+VALUE(MID(H13,FIND(": ",H13)+2,FIND("/",H13)-FIND(":",H13)-2))-1)+50*E13*(1+VALUE(MID(H13,FIND(": ",H13)+2,FIND("/",H13)-FIND(":",H13)-2))-1)/VALUE(RIGHT(H13,1)),IF(F13<=VALUE(MID(H13,FIND(", ",H13)+2,1)),(IF(COUNTIFS(F:F,"<="&F13)<=VALUE(MID(H13,FIND(", ",H13)+2,1)),1,(VALUE(MID(H13,FIND(", ",H13)+2,1))-COUNTIFS(F:F,"<"&F13))/COUNTIFS(F:F,F13)))*(50*E13*(1+VALUE(MID(H13,FIND(": ",H13)+2,FIND("/",H13)-FIND(":",H13)-2))-1)/VALUE(RIGHT(H13,1))+50*E13)-(100*E13),-E13*100))) | H13: =IF(E13="","",OFFSET([2]Japan!$AL$1,MATCH(A13,[2]Japan!$E$1:$E$500,0)-1,0))
... F168: =IFERROR(IF(A168="","",OFFSET(Results!$Z$1,MATCH(A168,Results!$A:$A,0)-1,0)),"") | G168: =IF(OR(E168="",F168=""),"",IF(F168=1,(IF(COUNTIFS(F:F,"<="&F168)<=1,1,(1-COUNTIFS(F:F,"<"&F168))/COUNTIFS(F:F,F168)))*50*E168*(1+VALUE(MID(H168,FIND(": ",H168)+2,FIND("/",H168)-FIND(":",H168)-2))-1)+50*E168*(1+VALUE(MID(H168,FIND(": ",H168)+2,FIND("/",H168)-FIND(":",H168)-2))-1)/VALUE(RIGHT(H168,1)),IF(F168<=VALUE(MID(H168,FIND(", ",H168)+2,1)),(IF(COUNTIFS(F:F,"<="&F168)<=VALUE(MID(H168,FIND(", ",H168)+2,1)),1,(VALUE(MID(H168,FIND(", ",H168)+2,1))-COUNTIFS(F:F,"<"&F168))/COUNTIFS(F:F,F168)))*(50*E168*(1+VALUE(MID(H168,FIND(": ",H168)+2,FIND("/",H168)-FIND(":",H168)-2))-1)/VALUE(RIGHT(H168,1))+50*E168)-(100*E168),-E168*100))) | H168: =IF(E168="","",OFFSET([2]Japan!$AL$1,MATCH(A168,[2]Japan!$E$1:$E$500,0)-1,0))
G169: =IF(OR(E169="",F169=""),"",IF(F169=1,(IF(COUNTIFS(F:F,"<="&F169)<=1,1,(1-COUNTIFS(F:F,"<"&F169))/COUNTIFS(F:F,F169)))*50*E169*(1+VALUE(MID(H169,FIND(": ",H169)+2,FIND("/",H169)-FIND(":",H169)-2))-1)+50*E169*(1+VALUE(MID(H169,FIND(": ",H169)+2,FIND("/",H169)-FIND(":",H169)-2))-1)/VALUE(RIGHT(H169,1)),IF(F169<=VALUE(MID(H169,FIND(", ",H169)+2,1)),(IF(COUNTIFS(F:F,"<="&F169)<=VALUE(MID(H169,FIND(", ",H169)+2,1)),1,(VALUE(MID(H169,FIND(", ",H169)+2,1))-COUNTIFS(F:F,"<"&F169))/COUNTIFS(F:F,F169)))*(50*E169*(1+VALUE(MID(H169,FIND(": ",H169)+2,FIND("/",H169)-FIND(":",H169)-2))-1)/VALUE(RIGHT(H169,1))+50*E169)-(100*E169),-E169*100))) | H169: =IF(E169="","",OFFSET([2]Japan!$AL$1,MATCH(A169,[2]Japan!$E$1:$E$500,0)-1,0))

Sheet T3Picks
A1: Player | B1: Win % | C1: TT Odds | D1: Best Odds | E1: Kelly | F1: Result | G1: P/L | H1: E/W Play
A2: =CONCATENATE("WIN: ",IFERROR(OFFSET(Picks!A$1,MATCH(1,Picks!F:F,0)-1,0),"")) -> WIN: Suguru Shimoke | B2: =IFERROR(OFFSET(Win!B$1,MATCH(1,Picks!F:F,0)-1,0),"") -> 0.82% | C2: =IFERROR(OFFSET(Win!C$1,MATCH(1,Picks!F:F,0)-1,0),"") -> 122 | D2: =IFERROR(OFFSET(Win!D$1,MATCH(1,Picks!F:F,0)-1,0),"") -> 201 | E2: =IFERROR(OFFSET(Win!E$1,MATCH(1,Picks!F:F,0)-1,0),"") -> 0.30% | F2: =IFERROR(OFFSET(Picks!G$1,MATCH(1,Picks!F:F,0)-1,0),"") -> 26 | G2: =IFERROR(IF(AND(B3="",B4=""),3*IFERROR(OFFSET(Picks!H$1,MATCH(1,Picks!F:F,0)-1,0),""),IF(B4="",1.5*IFERROR(OFFSET(Picks!H$1,MATCH(1,Picks!F:F,0)-1,0),""),IFERROR(OFFSET(Picks!H$1,MATCH(1,Picks!F:F,0)-1,0),""))),"") -> -2 | H2: =IFERROR(OFFSET(Win!H$1,MATCH(1,Picks!F:F,0)-1,0),"") -> Bet365: 200/1, 5pl, 1/4
